Workbook

Sheet Feuil1
A1: {=IFERROR(INDEX('Planning 2018'!A$1:A$30,SMALL(IF('Planning 2018'!$A$2:$A$30>0,ROW('Planning 2018'!$A$2:$A$30)),ROWS($1:1))),"")} -> 43167 | B1: {=IFERROR(INDEX('Planning 2018'!D$1:D$30,SMALL(IF('Planning 2018'!$A$2:$A$30>0,ROW('Planning 2018'!$A$2:$A$30)),ROWS($1:1))),"")} -> 518655 | C1: {=IFERROR(INDEX('Planning 2018'!E$1:E$30,SMALL(IF('Planning 2018'!$A$2:$A$30>0,ROW('Planning 2018'!$A$2:$A$30)),ROWS($1:1))),"")} -> Fraise
A2: {=IFERROR(INDEX('Planning 2018'!A$1:A$30,SMALL(IF('Planning 2018'!$A$2:$A$30>0,ROW('Planning 2018'!$A$2:$A$30)),ROWS($1:2))),"")} -> 43167 | B2: {=IFERROR(INDEX('Planning 2018'!D$1:D$30,SMALL(IF('Planning 2018'!$A$2:$A$30>0,ROW('Planning 2018'!$A$2:$A$30)),ROWS($1:2))),"")} -> 518659 | C2: {=IFERROR(INDEX('Planning 2018'!E$1:E$30,SMALL(IF('Planning 2018'!$A$2:$A$30>0,ROW('Planning 2018'!$A$2:$A$30)),ROWS($1:2))),"")} -> Citron
A3: {=IFERROR(INDEX('Planning 2018'!A$1:A$30,SMALL(IF('Planning 2018'!$A$2:$A$30>0,ROW('Planning 2018'!$A$2:$A$30)),ROWS($1:3))),"")} -> 43167 | B3: {=IFERROR(INDEX('Planning 2018'!D$1:D$30,SMALL(IF('Planning 2018'!$A$2:$A$30>0,ROW('Planning 2018'!$A$2:$A$30)),ROWS($1:3))),"")} -> 518661 | C3: {=IFERROR(INDEX('Planning 2018'!E$1:E$30,SMALL(IF('Planning 2018'!$A$2:$A$30>0,ROW('Planning 2018'!$A$2:$A$30)),ROWS($1:3))),"")} -> Framboise
A4: {=IFERROR(INDEX('Planning 2018'!A$1:A$30,SMALL(IF('Planning 2018'!$A$2:$A$30>0,ROW('Planning 2018'!$A$2:$A$30)),ROWS($1:4))),"")} -> 43167 | B4: {=IFERROR(INDEX('Planning 2018'!D$1:D$30,SMALL(IF('Planning 2018'!$A$2:$A$30>0,ROW('Planning 2018'!$A$2:$A$30)),ROWS($1:4))),"")} -> 518662 | C4: {=IFERROR(INDEX('Planning 2018'!E$1:E$30,SMALL(IF('Planning 2018'!$A$2:$A$30>0,ROW('Planning 2018'!$A$2:$A$30)),ROWS($1:4))),"")} -> Fraise
A5: {=IFERROR(INDEX('Planning 2018'!A$1:A$30,SMALL(IF('Planning 2018'!$A$2:$A$30>0,ROW('Planning 2018'!$A$2:$A$30)),ROWS($1:5))),"")} -> 43167 | B5: {=IFERROR(INDEX('Planning 2018'!D$1:D$30,SMALL(IF('Planning 2018'!$A$2:$A$30>0,ROW('Planning 2018'!$A$2:$A$30)),ROWS($1:5))),"")} -> 518650 | C5: {=IFERROR(INDEX('Planning 2018'!E$1:E$30,SMALL(IF('Planning 2018'!$A$2:$A$30>0,ROW('Planning 2018'!$A$2:$A$30)),ROWS($1:5))),"")} -> Pêche
A6: {=IFERROR(INDEX('Planning 2018'!A$1:A$30,SMALL(IF('Planning 2018'!$A$2:$A$30>0,ROW('Planning 2018'!$A$2:$A$30)),ROWS($1:6))),"")} -> 43167 | B6: {=IFERROR(INDEX('Planning 2018'!D$1:D$30,SMALL(IF('Planning 2018'!$A$2:$A$30>0,ROW('Planning 2018'!$A$2:$A$30)),ROWS($1:6))),"")} -> 518663 | C6: {=IFERROR(INDEX('Planning 2018'!E$1:E$30,SMALL(IF('Planning 2018'!$A$2:$A$30>0,ROW('Planning 2018'!$A$2:$A$30)),ROWS($1:6))),"")} -> Framboise
A7: {=IFERROR(INDEX('Planning 2018'!A$1:A$30,SMALL(IF('Planning 2018'!$A$2:$A$30>0,ROW('Planning 2018'!$A$2:$A$30)),ROWS($1:7))),"")} | B7: {=IFERROR(INDEX('Planning 2018'!D$1:D$30,SMALL(IF('Planning 2018'!$A$2:$A$30>0,ROW('Planning 2018'!$A$2:$A$30)),ROWS($1:7))),"")} | C7: {=IFERROR(INDEX('Planning 2018'!E$1:E$30,SMALL(IF('Planning 2018'!$A$2:$A$30>0,ROW('Planning 2018'!$A$2:$A$30)),ROWS($1:7))),"")} | F7: {=IFERROR(INDEX('Planning 2018'!A$1:A$30,SMALL(IF('Planning 2018'!$A$2:$A$30>0,ROW('Planning 2018'!$A$2:$A$30)),ROWS($1:7))),"")} | G7: {=IFERROR(INDEX('Planning 2018'!D$1:D$30,SMALL(IF('Planning 2018'!$A$2:$A$30>0,ROW('Planning 2018'!$A$2:$A$30)),ROWS($1:7))),"")} | H7: {=IFERROR(INDEX('Planning 2018'!E$1:E$30,SMALL(IF('Planning 2018'!$A$2:$A$30>0,ROW('Planning 2018'!$A$2:$A$30)),ROWS($1:7))),"")}
A8: {=IFERROR(INDEX('Planning 2018'!A$1:A$30,SMALL(IF('Planning 2018'!$A$2:$A$30>0,ROW('Planning 2018'!$A$2:$A$30)),ROWS($1:8))),"")} | B8: {=IFERROR(INDEX('Planning 2018'!D$1:D$30,SMALL(IF('Planning 2018'!$A$2:$A$30>0,ROW('Planning 2018'!$A$2:$A$30)),ROWS($1:8))),"")} | C8: {=IFERROR(INDEX('Planning 2018'!E$1:E$30,SMALL(IF('Planning 2018'!$A$2:$A$30>0,ROW('Planning 2018'!$A$2:$A$30)),ROWS($1:8))),"")} | F8: {=IFERROR(INDEX('Planning 2018'!A$1:A$30,SMALL(IF('Planning 2018'!$A$2:$A$30>0,ROW('Planning 2018'!$A$2:$A$30)),ROWS($1:8))),"")} | G8: {=IFERROR(INDEX('Planning 2018'!D$1:D$30,SMALL(IF('Planning 2018'!$A$2:$A$30>0,ROW('Planning 2018'!$A$2:$A$30)),ROWS($1:8))),"")} | H8: {=IFERROR(INDEX('Planning 2018'!E$1:E$30,SMALL(IF('Planning 2018'!$A$2:$A$30>0,ROW('Planning 2018'!$A$2:$A$30)),ROWS($1:8))),"")}
A9: {=IFERROR(INDEX('Planning 2018'!A$1:A$30,SMALL(IF('Planning 2018'!$A$2:$A$30>0,ROW('Planning 2018'!$A$2:$A$30)),ROWS($1:9))),"")} | B9: {=IFERROR(INDEX('Planning 2018'!D$1:D$30,SMALL(IF('Planning 2018'!$A$2:$A$30>0,ROW('Planning 2018'!$A$2:$A$30)),ROWS($1:9))),"")} | C9: {=IFERROR(INDEX('Planning 2018'!E$1:E$30,SMALL(IF('Planning 2018'!$A$2:$A$30>0,ROW('Planning 2018'!$A$2:$A$30)),ROWS($1:9))),"")}
A10: {=IFERROR(INDEX('Planning 2018'!A$1:A$30,SMALL(IF('Planning 2018'!$A$2:$A$30>0,ROW('Planning 2018'!$A$2:$A$30)),ROWS($1:10))),"")} | B10: {=IFERROR(INDEX('Planning 2018'!D$1:D$30,SMALL(IF('Planning 2018'!$A$2:$A$30>0,ROW('Planning 2018'!$A$2:$A$30)),ROWS($1:10))),"")} | C10: {=IFERROR(INDEX('Planning 2018'!E$1:E$30,SMALL(IF('Planning 2018'!$A$2:$A$30>0,ROW('Planning 2018'!$A$2:$A$30)),ROWS($1:10))),"")}
A11: {=IFERROR(INDEX('Planning 2018'!A$1:A$30,SMALL(IF('Planning 2018'!$A$2:$A$30>0,ROW('Planning 2018'!$A$2:$A$30)),ROWS($1:11))),"")} | B11: {=IFERROR(INDEX('Planning 2018'!D$1:D$30,SMALL(IF('Planning 2018'!$A$2:$A$30>0,ROW('Planning 2018'!$A$2:$A$30)),ROWS($1:11))),"")} | C11: {=IFERROR(INDEX('Planning 2018'!E$1:E$30,SMALL(IF('Planning 2018'!$A$2:$A$30>0,ROW('Planning 2018'!$A$2:$A$30)),ROWS($1:11))),"")}
A12: {=IFERROR(INDEX('Planning 2018'!A$1:A$30,SMALL(IF('Planning 2018'!$A$2:$A$30>0,ROW('Planning 2018'!$A$2:$A$30)),ROWS($1:12))),"")} | B12: {=IFERROR(INDEX('Planning 2018'!D$1:D$30,SMALL(IF('Planning 2018'!$A$2:$A$30>0,ROW('Planning 2018'!$A$2:$A$30)),ROWS($1:12))),"")} | C12: {=IFERROR(INDEX('Planning 2018'!E$1:E$30,SMALL(IF('Planning 2018'!$A$2:$A$30>0,ROW('Planning 2018'!$A$2:$A$30)),ROWS($1:12))),"")}
A13: {=IFERROR(INDEX('Planning 2018'!A$1:A$30,SMALL(IF('Planning 2018'!$A$2:$A$30>0,ROW('Planning 2018'!$A$2:$A$30)),ROWS($1:13))),"")} | B13: {=IFERROR(INDEX('Planning 2018'!D$1:D$30,SMALL(IF('Planning 2018'!$A$2:$A$30>0,ROW('Planning 2018'!$A$2:$A$30)),ROWS($1:13))),"")} | C13: {=IFERROR(INDEX('Planning 2018'!E$1:E$30,SMALL(IF('Planning 2018'!$A$2:$A$30>0,ROW('Planning 2018'!$A$2:$A$30)),ROWS($1:13))),"")}
A14: {=IFERROR(INDEX('Planning 2018'!A$1:A$30,SMALL(IF('Planning 2018'!$A$2:$A$30>0,ROW('Planning 2018'!$A$2:$A$30)),ROWS($1:14))),"")} | B14: {=IFERROR(INDEX('Planning 2018'!D$1:D$30,SMALL(IF('Planning 2018'!$A$2:$A$30>0,ROW('Planning 2018'!$A$2:$A$30)),ROWS($1:14))),"")} | C14: {=IFERROR(INDEX('Planning 2018'!E$1:E$30,SMALL(IF('Planning 2018'!$A$2:$A$30>0,ROW('Planning 2018'!$A$2:$A$30)),ROWS($1:14))),"")}
A15: {=IFERROR(INDEX('Planning 2018'!A$1:A$30,SMALL(IF('Planning 2018'!$A$2:$A$30>0,ROW('Planning 2018'!$A$2:$A$30)),ROWS($1:15))),"")} | B15: {=IFERROR(INDEX('Planning 2018'!D$1:D$30,SMALL(IF('Planning 2018'!$A$2:$A$30>0,ROW('Planning 2018'!$A$2:$A$30)),ROWS($1:15))),"")} | C15: {=IFERROR(INDEX('Planning 2018'!E$1:E$30,SMALL(IF('Planning 2018'!$A$2:$A$30>0,ROW('Planning 2018'!$A$2:$A$30)),ROWS($1:15))),"")}

Sheet Planning 2018
A1: Date | B1: Val1 | C1: Val2 | D1: N° à rechercher | E1: Val 3
A2: 43167 | B2: a | C2: n | D2: 518655 | E2: Fraise
B3: b | C3: o | D3: 518656 | E3: Fraise
B4: c | C4: p | D4: 518657 | E4: Fraise
B5: d | C5: q | D5: 518658 | E5: Fraise
B6: e | C6: r
A7: 43167 | B7: f | C7: s | D7: 518659 | E7: Citron
B8: g | C8: t | D8: 518660 | E8: Citron
B9: h | C9: u
A10: 43167 | B10: i | C10: v | D10: 518661 | E10: Framboise
A11: 43167 | B11: j | C11: w | D11: 518662 | E11: Fraise
A12: 43167 | B12: k | C12: x | D12: 518650 | E12: Pêche
B13: l | C13: y
A14: 43167 | B14: m | C14: z | D14: 518663 | E14: Framboise
