Workbook
Name Liste_ac: [1]BDD_zone!$A$11:$A$124

Sheet recherche_multiple
A19: Resultat | D19: =Publipostage!W1 -> 4
A20: a | B20: Nom | C20: Prénom | D20: Bureau - Service | E20: Date de naissance | F20: Date réelle d'entrée | G20: c | H20: d | I20: e | J20: f | K20: g | L20: h | M20: i | N20: j
B21: 1 | C21: C21 | D21: D21 | O21: =C21&" "&B21&CHAR(13)&D21 -> C21 1_x000D_D21
B22: 2 | C22: C22 | D22: D22 | O22: =C22&" "&B22&CHAR(13)&D22 -> C22 2_x000D_D22
B23: 3 | C23: C23 | D23: D23 | O23: =C23&" "&B23&CHAR(13)&D23 -> C23 3_x000D_D23
B24: 4 | C24: C24 | D24: D24 | O24: =C24&" "&B24&CHAR(13)&D24 -> C24 4_x000D_D24
B25: 5 | C25: C25 | D25: D25 | O25: =C25&" "&B25&CHAR(13)&D25 -> C25 5_x000D_D25
B26: 6 | C26: C26 | D26: D26 | O26: =C26&" "&B26&CHAR(13)&D26 -> C26 6_x000D_D26
B27: 7 | C27: C27 | D27: D27 | O27: =C27&" "&B27&CHAR(13)&D27 -> C27 7_x000D_D27
B28: 8 | C28: C28 | D28: D28 | O28: =C28&" "&B28&CHAR(13)&D28 -> C28 8_x000D_D28
B29: 9 | C29: C29 | D29: D29 | O29: =C29&" "&B29&CHAR(13)&D29 -> C29 9_x000D_D29
B30: 10 | C30: C30 | D30: D30 | O30: =C30&" "&B30&CHAR(13)&D30 -> C30 10_x000D_D30
B31: 11 | C31: C31 | D31: D31 | O31: =C31&" "&B31&CHAR(13)&D31 -> C31 11_x000D_D31
B32: 12 | C32: C32 | D32: D32 | O32: =C32&" "&B32&CHAR(13)&D32 -> C32 12_x000D_D32
... B3020: 3000 | C3020: C3020 | D3020: D3020 | O3020: =C3020&" "&B3020&CHAR(13)&D3020 -> C3020 3000_x000D_D3020

Sheet Publipostage
A1: =IF(((COLUMNS($A:A))/2)>$W$1,"",OFFSET(recherche_multiple!$O$21,((ROWS($1:1)-1)/2)*$W$1,)) -> C21 1_x000D_D21 | C1: =IF(((COLUMNS($A:C))/2)>$W$1,"",OFFSET(recherche_multiple!$O$22,((ROWS($1:1)-1)/2)*$W$1,)) -> C22 2_x000D_D22 | E1: =IF(((COLUMNS($A:E))/2)>$W$1,"",OFFSET(recherche_multiple!$O$23,((ROWS($1:1)-1)/2)*$W$1,)) -> C23 3_x000D_D23 | G1: =IF(((COLUMNS($A:G))/2)>$W$1,"",OFFSET(recherche_multiple!$O$24,((ROWS($1:1)-1)/2)*$W$1,)) -> C24 4_x000D_D24 | I1: =IF(((COLUMNS($A:I))/2)>$W$1,"",OFFSET(recherche_multiple!$O$25,((ROWS($1:1)-1)/2)*$W$1,)) | K1: =IF(((COLUMNS($A:K))/2)>$W$1,"",OFFSET(recherche_multiple!$O$26,((ROWS($1:1)-1)/2)*$W$1,)) | M1: =IF(((COLUMNS($A:M))/2)>$W$1,"",OFFSET(recherche_multiple!$O$27,((ROWS($1:1)-1)/2)*$W$1,)) | O1: =IF(((COLUMNS($A:O))/2)>$W$1,"",OFFSET(recherche_multiple!$O$28,((ROWS($1:1)-1)/2)*$W$1,)) | Q1: =IF(((COLUMNS($A:Q))/2)>$W$1,"",OFFSET(recherche_multiple!$O$29,((ROWS($1:1)-1)/2)*$W$1,)) | W1: 4
A3: =IF(((COLUMNS($A:A))/2)>$W$1,"",OFFSET(recherche_multiple!$O$21,((ROWS($1:3)-1)/2)*$W$1,)) -> C25 5_x000D_D25 | C3: =IF(((COLUMNS($A:C))/2)>$W$1,"",OFFSET(recherche_multiple!$O$22,((ROWS($1:3)-1)/2)*$W$1,)) -> C26 6_x000D_D26 | E3: =IF(((COLUMNS($A:E))/2)>$W$1,"",OFFSET(recherche_multiple!$O$23,((ROWS($1:3)-1)/2)*$W$1,)) -> C27 7_x000D_D27 | G3: =IF(((COLUMNS($A:G))/2)>$W$1,"",OFFSET(recherche_multiple!$O$24,((ROWS($1:3)-1)/2)*$W$1,)) -> C28 8_x000D_D28 | I3: =IF(((COLUMNS($A:I))/2)>$W$1,"",OFFSET(recherche_multiple!$O$25,((ROWS($1:3)-1)/2)*$W$1,)) | K3: =IF(((COLUMNS($A:K))/2)>$W$1,"",OFFSET(recherche_multiple!$O$26,((ROWS($1:3)-1)/2)*$W$1,)) | M3: =IF(((COLUMNS($A:M))/2)>$W$1,"",OFFSET(recherche_multiple!$O$27,((ROWS($1:3)-1)/2)*$W$1,)) | O3: =IF(((COLUMNS($A:O))/2)>$W$1,"",OFFSET(recherche_multiple!$O$28,((ROWS($1:3)-1)/2)*$W$1,)) | Q3: =IF(((COLUMNS($A:Q))/2)>$W$1,"",OFFSET(recherche_multiple!$O$29,((ROWS($1:3)-1)/2)*$W$1,))
A5: =IF(((COLUMNS($A:A))/2)>$W$1,"",OFFSET(recherche_multiple!$O$21,((ROWS($1:5)-1)/2)*$W$1,)) -> C29 9_x000D_D29 | C5: =IF(((COLUMNS($A:C))/2)>$W$1,"",OFFSET(recherche_multiple!$O$22,((ROWS($1:5)-1)/2)*$W$1,)) -> C30 10_x000D_D30 | E5: =IF(((COLUMNS($A:E))/2)>$W$1,"",OFFSET(recherche_multiple!$O$23,((ROWS($1:5)-1)/2)*$W$1,)) -> C31 11_x000D_D31 | G5: =IF(((COLUMNS($A:G))/2)>$W$1,"",OFFSET(recherche_multiple!$O$24,((ROWS($1:5)-1)/2)*$W$1,)) -> C32 12_x000D_D32 | I5: =IF(((COLUMNS($A:I))/2)>$W$1,"",OFFSET(recherche_multiple!$O$25,((ROWS($1:5)-1)/2)*$W$1,)) | K5: =IF(((COLUMNS($A:K))/2)>$W$1,"",OFFSET(recherche_multiple!$O$26,((ROWS($1:5)-1)/2)*$W$1,)) | M5: =IF(((COLUMNS($A:M))/2)>$W$1,"",OFFSET(recherche_multiple!$O$27,((ROWS($1:5)-1)/2)*$W$1,)) | O5: =IF(((COLUMNS($A:O))/2)>$W$1,"",OFFSET(recherche_multiple!$O$28,((ROWS($1:5)-1)/2)*$W$1,)) | Q5: =IF(((COLUMNS($A:Q))/2)>$W$1,"",OFFSET(recherche_multiple!$O$29,((ROWS($1:5)-1)/2)*$W$1,))
A7: =IF(((COLUMNS($A:A))/2)>$W$1,"",OFFSET(recherche_multiple!$O$21,((ROWS($1:7)-1)/2)*$W$1,)) -> C33 13_x000D_D33 | C7: =IF(((COLUMNS($A:C))/2)>$W$1,"",OFFSET(recherche_multiple!$O$22,((ROWS($1:7)-1)/2)*$W$1,)) -> C34 14_x000D_D34 | E7: =IF(((COLUMNS($A:E))/2)>$W$1,"",OFFSET(recherche_multiple!$O$23,((ROWS($1:7)-1)/2)*$W$1,)) -> C35 15_x000D_D35 | G7: =IF(((COLUMNS($A:G))/2)>$W$1,"",OFFSET(recherche_multiple!$O$24,((ROWS($1:7)-1)/2)*$W$1,)) -> C36 16_x000D_D36 | I7: =IF(((COLUMNS($A:I))/2)>$W$1,"",OFFSET(recherche_multiple!$O$25,((ROWS($1:7)-1)/2)*$W$1,)) | K7: =IF(((COLUMNS($A:K))/2)>$W$1,"",OFFSET(recherche_multiple!$O$26,((ROWS($1:7)-1)/2)*$W$1,)) | M7: =IF(((COLUMNS($A:M))/2)>$W$1,"",OFFSET(recherche_multiple!$O$27,((ROWS($1:7)-1)/2)*$W$1,)) | O7: =IF(((COLUMNS($A:O))/2)>$W$1,"",OFFSET(recherche_multiple!$O$28,((ROWS($1:7)-1)/2)*$W$1,)) | Q7: =IF(((COLUMNS($A:Q))/2)>$W$1,"",OFFSET(recherche_multiple!$O$29,((ROWS($1:7)-1)/2)*$W$1,))
A9: =IF(((COLUMNS($A:A))/2)>$W$1,"",OFFSET(recherche_multiple!$O$21,((ROWS($1:9)-1)/2)*$W$1,)) -> C37 17_x000D_D37 | C9: =IF(((COLUMNS($A:C))/2)>$W$1,"",OFFSET(recherche_multiple!$O$22,((ROWS($1:9)-1)/2)*$W$1,)) -> C38 18_x000D_D38 | E9: =IF(((COLUMNS($A:E))/2)>$W$1,"",OFFSET(recherche_multiple!$O$23,((ROWS($1:9)-1)/2)*$W$1,)) -> C39 19_x000D_D39 | G9: =IF(((COLUMNS($A:G))/2)>$W$1,"",OFFSET(recherche_multiple!$O$24,((ROWS($1:9)-1)/2)*$W$1,)) -> C40 20_x000D_D40 | I9: =IF(((COLUMNS($A:I))/2)>$W$1,"",OFFSET(recherche_multiple!$O$25,((ROWS($1:9)-1)/2)*$W$1,)) | K9: =IF(((COLUMNS($A:K))/2)>$W$1,"",OFFSET(recherche_multiple!$O$26,((ROWS($1:9)-1)/2)*$W$1,)) | M9: =IF(((COLUMNS($A:M))/2)>$W$1,"",OFFSET(recherche_multiple!$O$27,((ROWS($1:9)-1)/2)*$W$1,)) | O9: =IF(((COLUMNS($A:O))/2)>$W$1,"",OFFSET(recherche_multiple!$O$28,((ROWS($1:9)-1)/2)*$W$1,)) | Q9: =IF(((COLUMNS($A:Q))/2)>$W$1,"",OFFSET(recherche_multiple!$O$29,((ROWS($1:9)-1)/2)*$W$1,))
A11: =IF(((COLUMNS($A:A))/2)>$W$1,"",OFFSET(recherche_multiple!$O$21,((ROWS($1:11)-1)/2)*$W$1,)) -> C41 21_x000D_D41 | C11: =IF(((COLUMNS($A:C))/2)>$W$1,"",OFFSET(recherche_multiple!$O$22,((ROWS($1:11)-1)/2)*$W$1,)) -> C42 22_x000D_D42 | E11: =IF(((COLUMNS($A:E))/2)>$W$1,"",OFFSET(recherche_multiple!$O$23,((ROWS($1:11)-1)/2)*$W$1,)) -> C43 23_x000D_D43 | G11: =IF(((COLUMNS($A:G))/2)>$W$1,"",OFFSET(recherche_multiple!$O$24,((ROWS($1:11)-1)/2)*$W$1,)) -> C44 24_x000D_D44 | I11: =IF(((COLUMNS($A:I))/2)>$W$1,"",OFFSET(recherche_multiple!$O$25,((ROWS($1:11)-1)/2)*$W$1,)) | K11: =IF(((COLUMNS($A:K))/2)>$W$1,"",OFFSET(recherche_multiple!$O$26,((ROWS($1:11)-1)/2)*$W$1,)) | M11: =IF(((COLUMNS($A:M))/2)>$W$1,"",OFFSET(recherche_multiple!$O$27,((ROWS($1:11)-1)/2)*$W$1,)) | O11: =IF(((COLUMNS($A:O))/2)>$W$1,"",OFFSET(recherche_multiple!$O$28,((ROWS($1:11)-1)/2)*$W$1,)) | Q11: =IF(((COLUMNS($A:Q))/2)>$W$1,"",OFFSET(recherche_multiple!$O$29,((ROWS($1:11)-1)/2)*$W$1,))
A13: =IF(((COLUMNS($A:A))/2)>$W$1,"",OFFSET(recherche_multiple!$O$21,((ROWS($1:13)-1)/2)*$W$1,)) -> C45 25_x000D_D45 | C13: =IF(((COLUMNS($A:C))/2)>$W$1,"",OFFSET(recherche_multiple!$O$22,((ROWS($1:13)-1)/2)*$W$1,)) -> C46 26_x000D_D46 | E13: =IF(((COLUMNS($A:E))/2)>$W$1,"",OFFSET(recherche_multiple!$O$23,((ROWS($1:13)-1)/2)*$W$1,)) -> C47 27_x000D_D47 | G13: =IF(((COLUMNS($A:G))/2)>$W$1,"",OFFSET(recherche_multiple!$O$24,((ROWS($1:13)-1)/2)*$W$1,)) -> C48 28_x000D_D48 | I13: =IF(((COLUMNS($A:I))/2)>$W$1,"",OFFSET(recherche_multiple!$O$25,((ROWS($1:13)-1)/2)*$W$1,)) | K13: =IF(((COLUMNS($A:K))/2)>$W$1,"",OFFSET(recherche_multiple!$O$26,((ROWS($1:13)-1)/2)*$W$1,)) | M13: =IF(((COLUMNS($A:M))/2)>$W$1,"",OFFSET(recherche_multiple!$O$27,((ROWS($1:13)-1)/2)*$W$1,)) | O13: =IF(((COLUMNS($A:O))/2)>$W$1,"",OFFSET(recherche_multiple!$O$28,((ROWS($1:13)-1)/2)*$W$1,)) | Q13: =IF(((COLUMNS($A:Q))/2)>$W$1,"",OFFSET(recherche_multiple!$O$29,((ROWS($1:13)-1)/2)*$W$1,))
A15: =IF(((COLUMNS($A:A))/2)>$W$1,"",OFFSET(recherche_multiple!$O$21,((ROWS($1:15)-1)/2)*$W$1,)) -> C49 29_x000D_D49 | C15: =IF(((COLUMNS($A:C))/2)>$W$1,"",OFFSET(recherche_multiple!$O$22,((ROWS($1:15)-1)/2)*$W$1,)) -> C50 30_x000D_D50 | E15: =IF(((COLUMNS($A:E))/2)>$W$1,"",OFFSET(recherche_multiple!$O$23,((ROWS($1:15)-1)/2)*$W$1,)) -> C51 31_x000D_D51 | G15: =IF(((COLUMNS($A:G))/2)>$W$1,"",OFFSET(recherche_multiple!$O$24,((ROWS($1:15)-1)/2)*$W$1,)) -> C52 32_x000D_D52 | I15: =IF(((COLUMNS($A:I))/2)>$W$1,"",OFFSET(recherche_multiple!$O$25,((ROWS($1:15)-1)/2)*$W$1,)) | K15: =IF(((COLUMNS($A:K))/2)>$W$1,"",OFFSET(recherche_multiple!$O$26,((ROWS($1:15)-1)/2)*$W$1,)) | M15: =IF(((COLUMNS($A:M))/2)>$W$1,"",OFFSET(recherche_multiple!$O$27,((ROWS($1:15)-1)/2)*$W$1,)) | O15: =IF(((COLUMNS($A:O))/2)>$W$1,"",OFFSET(recherche_multiple!$O$28,((ROWS($1:15)-1)/2)*$W$1,)) | Q15: =IF(((COLUMNS($A:Q))/2)>$W$1,"",OFFSET(recherche_multiple!$O$29,((ROWS($1:15)-1)/2)*$W$1,))
A17: =IF(((COLUMNS($A:A))/2)>$W$1,"",OFFSET(recherche_multiple!$O$21,((ROWS($1:17)-1)/2)*$W$1,)) -> C53 33_x000D_D53 | C17: =IF(((COLUMNS($A:C))/2)>$W$1,"",OFFSET(recherche_multiple!$O$22,((ROWS($1:17)-1)/2)*$W$1,)) -> C54 34_x000D_D54 | E17: =IF(((COLUMNS($A:E))/2)>$W$1,"",OFFSET(recherche_multiple!$O$23,((ROWS($1:17)-1)/2)*$W$1,)) -> C55 35_x000D_D55 | G17: =IF(((COLUMNS($A:G))/2)>$W$1,"",OFFSET(recherche_multiple!$O$24,((ROWS($1:17)-1)/2)*$W$1,)) -> C56 36_x000D_D56 | I17: =IF(((COLUMNS($A:I))/2)>$W$1,"",OFFSET(recherche_multiple!$O$25,((ROWS($1:17)-1)/2)*$W$1,)) | K17: =IF(((COLUMNS($A:K))/2)>$W$1,"",OFFSET(recherche_multiple!$O$26,((ROWS($1:17)-1)/2)*$W$1,)) | M17: =IF(((COLUMNS($A:M))/2)>$W$1,"",OFFSET(recherche_multiple!$O$27,((ROWS($1:17)-1)/2)*$W$1,)) | O17: =IF(((COLUMNS($A:O))/2)>$W$1,"",OFFSET(recherche_multiple!$O$28,((ROWS($1:17)-1)/2)*$W$1,)) | Q17: =IF(((COLUMNS($A:Q))/2)>$W$1,"",OFFSET(recherche_multiple!$O$29,((ROWS($1:17)-1)/2)*$W$1,))
A19: =IF(((COLUMNS($A:A))/2)>$W$1,"",OFFSET(recherche_multiple!$O$21,((ROWS($1:19)-1)/2)*$W$1,)) -> C57 37_x000D_D57 | C19: =IF(((COLUMNS($A:C))/2)>$W$1,"",OFFSET(recherche_multiple!$O$22,((ROWS($1:19)-1)/2)*$W$1,)) -> C58 38_x000D_D58 | E19: =IF(((COLUMNS($A:E))/2)>$W$1,"",OFFSET(recherche_multiple!$O$23,((ROWS($1:19)-1)/2)*$W$1,)) -> C59 39_x000D_D59 | G19: =IF(((COLUMNS($A:G))/2)>$W$1,"",OFFSET(recherche_multiple!$O$24,((ROWS($1:19)-1)/2)*$W$1,)) -> C60 40_x000D_D60 | I19: =IF(((COLUMNS($A:I))/2)>$W$1,"",OFFSET(recherche_multiple!$O$25,((ROWS($1:19)-1)/2)*$W$1,)) | K19: =IF(((COLUMNS($A:K))/2)>$W$1,"",OFFSET(recherche_multiple!$O$26,((ROWS($1:19)-1)/2)*$W$1,)) | M19: =IF(((COLUMNS($A:M))/2)>$W$1,"",OFFSET(recherche_multiple!$O$27,((ROWS($1:19)-1)/2)*$W$1,)) | O19: =IF(((COLUMNS($A:O))/2)>$W$1,"",OFFSET(recherche_multiple!$O$28,((ROWS($1:19)-1)/2)*$W$1,)) | Q19: =IF(((COLUMNS($A:Q))/2)>$W$1,"",OFFSET(recherche_multiple!$O$29,((ROWS($1:19)-1)/2)*$W$1,))
A21: =IF(((COLUMNS($A:A))/2)>$W$1,"",OFFSET(recherche_multiple!$O$21,((ROWS($1:21)-1)/2)*$W$1,)) -> C61 41_x000D_D61 | C21: =IF(((COLUMNS($A:C))/2)>$W$1,"",OFFSET(recherche_multiple!$O$22,((ROWS($1:21)-1)/2)*$W$1,)) -> C62 42_x000D_D62 | E21: =IF(((COLUMNS($A:E))/2)>$W$1,"",OFFSET(recherche_multiple!$O$23,((ROWS($1:21)-1)/2)*$W$1,)) -> C63 43_x000D_D63 | G21: =IF(((COLUMNS($A:G))/2)>$W$1,"",OFFSET(recherche_multiple!$O$24,((ROWS($1:21)-1)/2)*$W$1,)) -> C64 44_x000D_D64 | I21: =IF(((COLUMNS($A:I))/2)>$W$1,"",OFFSET(recherche_multiple!$O$25,((ROWS($1:21)-1)/2)*$W$1,)) | K21: =IF(((COLUMNS($A:K))/2)>$W$1,"",OFFSET(recherche_multiple!$O$26,((ROWS($1:21)-1)/2)*$W$1,)) | M21: =IF(((COLUMNS($A:M))/2)>$W$1,"",OFFSET(recherche_multiple!$O$27,((ROWS($1:21)-1)/2)*$W$1,)) | O21: =IF(((COLUMNS($A:O))/2)>$W$1,"",OFFSET(recherche_multiple!$O$28,((ROWS($1:21)-1)/2)*$W$1,)) | Q21: =IF(((COLUMNS($A:Q))/2)>$W$1,"",OFFSET(recherche_multiple!$O$29,((ROWS($1:21)-1)/2)*$W$1,))
A23: =IF(((COLUMNS($A:A))/2)>$W$1,"",OFFSET(recherche_multiple!$O$21,((ROWS($1:23)-1)/2)*$W$1,)) -> C65 45_x000D_D65 | C23: =IF(((COLUMNS($A:C))/2)>$W$1,"",OFFSET(recherche_multiple!$O$22,((ROWS($1:23)-1)/2)*$W$1,)) -> C66 46_x000D_D66 | E23: =IF(((COLUMNS($A:E))/2)>$W$1,"",OFFSET(recherche_multiple!$O$23,((ROWS($1:23)-1)/2)*$W$1,)) -> C67 47_x000D_D67 | G23: =IF(((COLUMNS($A:G))/2)>$W$1,"",OFFSET(recherche_multiple!$O$24,((ROWS($1:23)-1)/2)*$W$1,)) -> C68 48_x000D_D68 | I23: =IF(((COLUMNS($A:I))/2)>$W$1,"",OFFSET(recherche_multiple!$O$25,((ROWS($1:23)-1)/2)*$W$1,)) | K23: =IF(((COLUMNS($A:K))/2)>$W$1,"",OFFSET(recherche_multiple!$O$26,((ROWS($1:23)-1)/2)*$W$1,)) | M23: =IF(((COLUMNS($A:M))/2)>$W$1,"",OFFSET(recherche_multiple!$O$27,((ROWS($1:23)-1)/2)*$W$1,)) | O23: =IF(((COLUMNS($A:O))/2)>$W$1,"",OFFSET(recherche_multiple!$O$28,((ROWS($1:23)-1)/2)*$W$1,)) | Q23: =IF(((COLUMNS($A:Q))/2)>$W$1,"",OFFSET(recherche_multiple!$O$29,((ROWS($1:23)-1)/2)*$W$1,))
A25: =IF(((COLUMNS($A:A))/2)>$W$1,"",OFFSET(recherche_multiple!$O$21,((ROWS($1:25)-1)/2)*$W$1,)) -> C69 49_x000D_D69 | C25: =IF(((COLUMNS($A:C))/2)>$W$1,"",OFFSET(recherche_multiple!$O$22,((ROWS($1:25)-1)/2)*$W$1,)) -> C70 50_x000D_D70 | E25: =IF(((COLUMNS($A:E))/2)>$W$1,"",OFFSET(recherche_multiple!$O$23,((ROWS($1:25)-1)/2)*$W$1,)) -> C71 51_x000D_D71 | G25: =IF(((COLUMNS($A:G))/2)>$W$1,"",OFFSET(recherche_multiple!$O$24,((ROWS($1:25)-1)/2)*$W$1,)) -> C72 52_x000D_D72 | I25: =IF(((COLUMNS($A:I))/2)>$W$1,"",OFFSET(recherche_multiple!$O$25,((ROWS($1:25)-1)/2)*$W$1,)) | K25: =IF(((COLUMNS($A:K))/2)>$W$1,"",OFFSET(recherche_multiple!$O$26,((ROWS($1:25)-1)/2)*$W$1,)) | M25: =IF(((COLUMNS($A:M))/2)>$W$1,"",OFFSET(recherche_multiple!$O$27,((ROWS($1:25)-1)/2)*$W$1,)) | O25: =IF(((COLUMNS($A:O))/2)>$W$1,"",OFFSET(recherche_multiple!$O$28,((ROWS($1:25)-1)/2)*$W$1,)) | Q25: =IF(((COLUMNS($A:Q))/2)>$W$1,"",OFFSET(recherche_multiple!$O$29,((ROWS($1:25)-1)/2)*$W$1,))
A27: =IF(((COLUMNS($A:A))/2)>$W$1,"",OFFSET(recherche_multiple!$O$21,((ROWS($1:27)-1)/2)*$W$1,)) -> C73 53_x000D_D73 | C27: =IF(((COLUMNS($A:C))/2)>$W$1,"",OFFSET(recherche_multiple!$O$22,((ROWS($1:27)-1)/2)*$W$1,)) -> C74 54_x000D_D74 | E27: =IF(((COLUMNS($A:E))/2)>$W$1,"",OFFSET(recherche_multiple!$O$23,((ROWS($1:27)-1)/2)*$W$1,)) -> C75 55_x000D_D75 | G27: =IF(((COLUMNS($A:G))/2)>$W$1,"",OFFSET(recherche_multiple!$O$24,((ROWS($1:27)-1)/2)*$W$1,)) -> C76 56_x000D_D76 | I27: =IF(((COLUMNS($A:I))/2)>$W$1,"",OFFSET(recherche_multiple!$O$25,((ROWS($1:27)-1)/2)*$W$1,)) | K27: =IF(((COLUMNS($A:K))/2)>$W$1,"",OFFSET(recherche_multiple!$O$26,((ROWS($1:27)-1)/2)*$W$1,)) | M27: =IF(((COLUMNS($A:M))/2)>$W$1,"",OFFSET(recherche_multiple!$O$27,((ROWS($1:27)-1)/2)*$W$1,)) | O27: =IF(((COLUMNS($A:O))/2)>$W$1,"",OFFSET(recherche_multiple!$O$28,((ROWS($1:27)-1)/2)*$W$1,)) | Q27: =IF(((COLUMNS($A:Q))/2)>$W$1,"",OFFSET(recherche_multiple!$O$29,((ROWS($1:27)-1)/2)*$W$1,))
A29: =IF(((COLUMNS($A:A))/2)>$W$1,"",OFFSET(recherche_multiple!$O$21,((ROWS($1:29)-1)/2)*$W$1,)) -> C77 57_x000D_D77 | C29: =IF(((COLUMNS($A:C))/2)>$W$1,"",OFFSET(recherche_multiple!$O$22,((ROWS($1:29)-1)/2)*$W$1,)) -> C78 58_x000D_D78 | E29: =IF(((COLUMNS($A:E))/2)>$W$1,"",OFFSET(recherche_multiple!$O$23,((ROWS($1:29)-1)/2)*$W$1,)) -> C79 59_x000D_D79 | G29: =IF(((COLUMNS($A:G))/2)>$W$1,"",OFFSET(recherche_multiple!$O$24,((ROWS($1:29)-1)/2)*$W$1,)) -> C80 60_x000D_D80 | I29: =IF(((COLUMNS($A:I))/2)>$W$1,"",OFFSET(recherche_multiple!$O$25,((ROWS($1:29)-1)/2)*$W$1,)) | K29: =IF(((COLUMNS($A:K))/2)>$W$1,"",OFFSET(recherche_multiple!$O$26,((ROWS($1:29)-1)/2)*$W$1,)) | M29: =IF(((COLUMNS($A:M))/2)>$W$1,"",OFFSET(recherche_multiple!$O$27,((ROWS($1:29)-1)/2)*$W$1,)) | O29: =IF(((COLUMNS($A:O))/2)>$W$1,"",OFFSET(recherche_multiple!$O$28,((ROWS($1:29)-1)/2)*$W$1,)) | Q29: =IF(((COLUMNS($A:Q))/2)>$W$1,"",OFFSET(recherche_multiple!$O$29,((ROWS($1:29)-1)/2)*$W$1,))
A31: =IF(((COLUMNS($A:A))/2)>$W$1,"",OFFSET(recherche_multiple!$O$21,((ROWS($1:31)-1)/2)*$W$1,)) -> C81 61_x000D_D81 | C31: =IF(((COLUMNS($A:C))/2)>$W$1,"",OFFSET(recherche_multiple!$O$22,((ROWS($1:31)-1)/2)*$W$1,)) -> C82 62_x000D_D82 | E31: =IF(((COLUMNS($A:E))/2)>$W$1,"",OFFSET(recherche_multiple!$O$23,((ROWS($1:31)-1)/2)*$W$1,)) -> C83 63_x000D_D83 | G31: =IF(((COLUMNS($A:G))/2)>$W$1,"",OFFSET(recherche_multiple!$O$24,((ROWS($1:31)-1)/2)*$W$1,)) -> C84 64_x000D_D84 | I31: =IF(((COLUMNS($A:I))/2)>$W$1,"",OFFSET(recherche_multiple!$O$25,((ROWS($1:31)-1)/2)*$W$1,)) | K31: =IF(((COLUMNS($A:K))/2)>$W$1,"",OFFSET(recherche_multiple!$O$26,((ROWS($1:31)-1)/2)*$W$1,)) | M31: =IF(((COLUMNS($A:M))/2)>$W$1,"",OFFSET(recherche_multiple!$O$27,((ROWS($1:31)-1)/2)*$W$1,)) | O31: =IF(((COLUMNS($A:O))/2)>$W$1,"",OFFSET(recherche_multiple!$O$28,((ROWS($1:31)-1)/2)*$W$1,)) | Q31: =IF(((COLUMNS($A:Q))/2)>$W$1,"",OFFSET(recherche_multiple!$O$29,((ROWS($1:31)-1)/2)*$W$1,))
A33: =IF(((COLUMNS($A:A))/2)>$W$1,"",OFFSET(recherche_multiple!$O$21,((ROWS($1:33)-1)/2)*$W$1,)) -> C85 65_x000D_D85 | C33: =IF(((COLUMNS($A:C))/2)>$W$1,"",OFFSET(recherche_multiple!$O$22,((ROWS($1:33)-1)/2)*$W$1,)) -> C86 66_x000D_D86 | E33: =IF(((COLUMNS($A:E))/2)>$W$1,"",OFFSET(recherche_multiple!$O$23,((ROWS($1:33)-1)/2)*$W$1,)) -> C87 67_x000D_D87 | G33: =IF(((COLUMNS($A:G))/2)>$W$1,"",OFFSET(recherche_multiple!$O$24,((ROWS($1:33)-1)/2)*$W$1,)) -> C88 68_x000D_D88 | I33: =IF(((COLUMNS($A:I))/2)>$W$1,"",OFFSET(recherche_multiple!$O$25,((ROWS($1:33)-1)/2)*$W$1,)) | K33: =IF(((COLUMNS($A:K))/2)>$W$1,"",OFFSET(recherche_multiple!$O$26,((ROWS($1:33)-1)/2)*$W$1,)) | M33: =IF(((COLUMNS($A:M))/2)>$W$1,"",OFFSET(recherche_multiple!$O$27,((ROWS($1:33)-1)/2)*$W$1,)) | O33: =IF(((COLUMNS($A:O))/2)>$W$1,"",OFFSET(recherche_multiple!$O$28,((ROWS($1:33)-1)/2)*$W$1,)) | Q33: =IF(((COLUMNS($A:Q))/2)>$W$1,"",OFFSET(recherche_multiple!$O$29,((ROWS($1:33)-1)/2)*$W$1,))
A35: =IF(((COLUMNS($A:A))/2)>$W$1,"",OFFSET(recherche_multiple!$O$21,((ROWS($1:35)-1)/2)*$W$1,)) -> C89 69_x000D_D89 | C35: =IF(((COLUMNS($A:C))/2)>$W$1,"",OFFSET(recherche_multiple!$O$22,((ROWS($1:35)-1)/2)*$W$1,)) -> C90 70_x000D_D90 | E35: =IF(((COLUMNS($A:E))/2)>$W$1,"",OFFSET(recherche_multiple!$O$23,((ROWS($1:35)-1)/2)*$W$1,)) -> C91 71_x000D_D91 | G35: =IF(((COLUMNS($A:G))/2)>$W$1,"",OFFSET(recherche_multiple!$O$24,((ROWS($1:35)-1)/2)*$W$1,)) -> C92 72_x000D_D92 | I35: =IF(((COLUMNS($A:I))/2)>$W$1,"",OFFSET(recherche_multiple!$O$25,((ROWS($1:35)-1)/2)*$W$1,)) | K35: =IF(((COLUMNS($A:K))/2)>$W$1,"",OFFSET(recherche_multiple!$O$26,((ROWS($1:35)-1)/2)*$W$1,)) | M35: =IF(((COLUMNS($A:M))/2)>$W$1,"",OFFSET(recherche_multiple!$O$27,((ROWS($1:35)-1)/2)*$W$1,)) | O35: =IF(((COLUMNS($A:O))/2)>$W$1,"",OFFSET(recherche_multiple!$O$28,((ROWS($1:35)-1)/2)*$W$1,)) | Q35: =IF(((COLUMNS($A:Q))/2)>$W$1,"",OFFSET(recherche_multiple!$O$29,((ROWS($1:35)-1)/2)*$W$1,))
A37: =IF(((COLUMNS($A:A))/2)>$W$1,"",OFFSET(recherche_multiple!$O$21,((ROWS($1:37)-1)/2)*$W$1,)) -> C93 73_x000D_D93 | C37: =IF(((COLUMNS($A:C))/2)>$W$1,"",OFFSET(recherche_multiple!$O$22,((ROWS($1:37)-1)/2)*$W$1,)) -> C94 74_x000D_D94 | E37: =IF(((COLUMNS($A:E))/2)>$W$1,"",OFFSET(recherche_multiple!$O$23,((ROWS($1:37)-1)/2)*$W$1,)) -> C95 75_x000D_D95 | G37: =IF(((COLUMNS($A:G))/2)>$W$1,"",OFFSET(recherche_multiple!$O$24,((ROWS($1:37)-1)/2)*$W$1,)) -> C96 76_x000D_D96 | I37: =IF(((COLUMNS($A:I))/2)>$W$1,"",OFFSET(recherche_multiple!$O$25,((ROWS($1:37)-1)/2)*$W$1,)) | K37: =IF(((COLUMNS($A:K))/2)>$W$1,"",OFFSET(recherche_multiple!$O$26,((ROWS($1:37)-1)/2)*$W$1,)) | M37: =IF(((COLUMNS($A:M))/2)>$W$1,"",OFFSET(recherche_multiple!$O$27,((ROWS($1:37)-1)/2)*$W$1,)) | O37: =IF(((COLUMNS($A:O))/2)>$W$1,"",OFFSET(recherche_multiple!$O$28,((ROWS($1:37)-1)/2)*$W$1,)) | Q37: =IF(((COLUMNS($A:Q))/2)>$W$1,"",OFFSET(recherche_multiple!$O$29,((ROWS($1:37)-1)/2)*$W$1,))
A39: =IF(((COLUMNS($A:A))/2)>$W$1,"",OFFSET(recherche_multiple!$O$21,((ROWS($1:39)-1)/2)*$W$1,)) -> C97 77_x000D_D97 | C39: =IF(((COLUMNS($A:C))/2)>$W$1,"",OFFSET(recherche_multiple!$O$22,((ROWS($1:39)-1)/2)*$W$1,)) -> C98 78_x000D_D98 | E39: =IF(((COLUMNS($A:E))/2)>$W$1,"",OFFSET(recherche_multiple!$O$23,((ROWS($1:39)-1)/2)*$W$1,)) -> C99 79_x000D_D99 | G39: =IF(((COLUMNS($A:G))/2)>$W$1,"",OFFSET(recherche_multiple!$O$24,((ROWS($1:39)-1)/2)*$W$1,)) -> C100 80_x000D_D100 | I39: =IF(((COLUMNS($A:I))/2)>$W$1,"",OFFSET(recherche_multiple!$O$25,((ROWS($1:39)-1)/2)*$W$1,)) | K39: =IF(((COLUMNS($A:K))/2)>$W$1,"",OFFSET(recherche_multiple!$O$26,((ROWS($1:39)-1)/2)*$W$1,)) | M39: =IF(((COLUMNS($A:M))/2)>$W$1,"",OFFSET(recherche_multiple!$O$27,((ROWS($1:39)-1)/2)*$W$1,)) | O39: =IF(((COLUMNS($A:O))/2)>$W$1,"",OFFSET(recherche_multiple!$O$28,((ROWS($1:39)-1)/2)*$W$1,)) | Q39: =IF(((COLUMNS($A:Q))/2)>$W$1,"",OFFSET(recherche_multiple!$O$29,((ROWS($1:39)-1)/2)*$W$1,))
A41: =IF(((COLUMNS($A:A))/2)>$W$1,"",OFFSET(recherche_multiple!$O$21,((ROWS($1:41)-1)/2)*$W$1,)) -> C101 81_x000D_D101 | C41: =IF(((COLUMNS($A:C))/2)>$W$1,"",OFFSET(recherche_multiple!$O$22,((ROWS($1:41)-1)/2)*$W$1,)) -> C102 82_x000D_D102 | E41: =IF(((COLUMNS($A:E))/2)>$W$1,"",OFFSET(recherche_multiple!$O$23,((ROWS($1:41)-1)/2)*$W$1,)) -> C103 83_x000D_D103 | G41: =IF(((COLUMNS($A:G))/2)>$W$1,"",OFFSET(recherche_multiple!$O$24,((ROWS($1:41)-1)/2)*$W$1,)) -> C104 84_x000D_D104 | I41: =IF(((COLUMNS($A:I))/2)>$W$1,"",OFFSET(recherche_multiple!$O$25,((ROWS($1:41)-1)/2)*$W$1,)) | K41: =IF(((COLUMNS($A:K))/2)>$W$1,"",OFFSET(recherche_multiple!$O$26,((ROWS($1:41)-1)/2)*$W$1,)) | M41: =IF(((COLUMNS($A:M))/2)>$W$1,"",OFFSET(recherche_multiple!$O$27,((ROWS($1:41)-1)/2)*$W$1,)) | O41: =IF(((COLUMNS($A:O))/2)>$W$1,"",OFFSET(recherche_multiple!$O$28,((ROWS($1:41)-1)/2)*$W$1,)) | Q41: =IF(((COLUMNS($A:Q))/2)>$W$1,"",OFFSET(recherche_multiple!$O$29,((ROWS($1:41)-1)/2)*$W$1,))
A43: =IF(((COLUMNS($A:A))/2)>$W$1,"",OFFSET(recherche_multiple!$O$21,((ROWS($1:43)-1)/2)*$W$1,)) -> C105 85_x000D_D105 | C43: =IF(((COLUMNS($A:C))/2)>$W$1,"",OFFSET(recherche_multiple!$O$22,((ROWS($1:43)-1)/2)*$W$1,)) -> C106 86_x000D_D106 | E43: =IF(((COLUMNS($A:E))/2)>$W$1,"",OFFSET(recherche_multiple!$O$23,((ROWS($1:43)-1)/2)*$W$1,)) -> C107 87_x000D_D107 | G43: =IF(((COLUMNS($A:G))/2)>$W$1,"",OFFSET(recherche_multiple!$O$24,((ROWS($1:43)-1)/2)*$W$1,)) -> C108 88_x000D_D108 | I43: =IF(((COLUMNS($A:I))/2)>$W$1,"",OFFSET(recherche_multiple!$O$25,((ROWS($1:43)-1)/2)*$W$1,)) | K43: =IF(((COLUMNS($A:K))/2)>$W$1,"",OFFSET(recherche_multiple!$O$26,((ROWS($1:43)-1)/2)*$W$1,)) | M43: =IF(((COLUMNS($A:M))/2)>$W$1,"",OFFSET(recherche_multiple!$O$27,((ROWS($1:43)-1)/2)*$W$1,)) | O43: =IF(((COLUMNS($A:O))/2)>$W$1,"",OFFSET(recherche_multiple!$O$28,((ROWS($1:43)-1)/2)*$W$1,)) | Q43: =IF(((COLUMNS($A:Q))/2)>$W$1,"",OFFSET(recherche_multiple!$O$29,((ROWS($1:43)-1)/2)*$W$1,))
A45: =IF(((COLUMNS($A:A))/2)>$W$1,"",OFFSET(recherche_multiple!$O$21,((ROWS($1:45)-1)/2)*$W$1,)) -> C109 89_x000D_D109 | C45: =IF(((COLUMNS($A:C))/2)>$W$1,"",OFFSET(recherche_multiple!$O$22,((ROWS($1:45)-1)/2)*$W$1,)) -> C110 90_x000D_D110 | E45: =IF(((COLUMNS($A:E))/2)>$W$1,"",OFFSET(recherche_multiple!$O$23,((ROWS($1:45)-1)/2)*$W$1,)) -> C111 91_x000D_D111 | G45: =IF(((COLUMNS($A:G))/2)>$W$1,"",OFFSET(recherche_multiple!$O$24,((ROWS($1:45)-1)/2)*$W$1,)) -> C112 92_x000D_D112 | I45: =IF(((COLUMNS($A:I))/2)>$W$1,"",OFFSET(recherche_multiple!$O$25,((ROWS($1:45)-1)/2)*$W$1,)) | K45: =IF(((COLUMNS($A:K))/2)>$W$1,"",OFFSET(recherche_multiple!$O$26,((ROWS($1:45)-1)/2)*$W$1,)) | M45: =IF(((COLUMNS($A:M))/2)>$W$1,"",OFFSET(recherche_multiple!$O$27,((ROWS($1:45)-1)/2)*$W$1,)) | O45: =IF(((COLUMNS($A:O))/2)>$W$1,"",OFFSET(recherche_multiple!$O$28,((ROWS($1:45)-1)/2)*$W$1,)) | Q45: =IF(((COLUMNS($A:Q))/2)>$W$1,"",OFFSET(recherche_multiple!$O$29,((ROWS($1:45)-1)/2)*$W$1,))
A47: =IF(((COLUMNS($A:A))/2)>$W$1,"",OFFSET(recherche_multiple!$O$21,((ROWS($1:47)-1)/2)*$W$1,)) -> C113 93_x000D_D113 | C47: =IF(((COLUMNS($A:C))/2)>$W$1,"",OFFSET(recherche_multiple!$O$22,((ROWS($1:47)-1)/2)*$W$1,)) -> C114 94_x000D_D114 | E47: =IF(((COLUMNS($A:E))/2)>$W$1,"",OFFSET(recherche_multiple!$O$23,((ROWS($1:47)-1)/2)*$W$1,)) -> C115 95_x000D_D115 | G47: =IF(((COLUMNS($A:G))/2)>$W$1,"",OFFSET(recherche_multiple!$O$24,((ROWS($1:47)-1)/2)*$W$1,)) -> C116 96_x000D_D116 | I47: =IF(((COLUMNS($A:I))/2)>$W$1,"",OFFSET(recherche_multiple!$O$25,((ROWS($1:47)-1)/2)*$W$1,)) | K47: =IF(((COLUMNS($A:K))/2)>$W$1,"",OFFSET(recherche_multiple!$O$26,((ROWS($1:47)-1)/2)*$W$1,)) | M47: =IF(((COLUMNS($A:M))/2)>$W$1,"",OFFSET(recherche_multiple!$O$27,((ROWS($1:47)-1)/2)*$W$1,)) | O47: =IF(((COLUMNS($A:O))/2)>$W$1,"",OFFSET(recherche_multiple!$O$28,((ROWS($1:47)-1)/2)*$W$1,)) | Q47: =IF(((COLUMNS($A:Q))/2)>$W$1,"",OFFSET(recherche_multiple!$O$29,((ROWS($1:47)-1)/2)*$W$1,))
A49: =IF(((COLUMNS($A:A))/2)>$W$1,"",OFFSET(recherche_multiple!$O$21,((ROWS($1:49)-1)/2)*$W$1,)) -> C117 97_x000D_D117 | C49: =IF(((COLUMNS($A:C))/2)>$W$1,"",OFFSET(recherche_multiple!$O$22,((ROWS($1:49)-1)/2)*$W$1,)) -> C118 98_x000D_D118 | E49: =IF(((COLUMNS($A:E))/2)>$W$1,"",OFFSET(recherche_multiple!$O$23,((ROWS($1:49)-1)/2)*$W$1,)) -> C119 99_x000D_D119 | G49: =IF(((COLUMNS($A:G))/2)>$W$1,"",OFFSET(recherche_multiple!$O$24,((ROWS($1:49)-1)/2)*$W$1,)) -> C120 100_x000D_D120 | I49: =IF(((COLUMNS($A:I))/2)>$W$1,"",OFFSET(recherche_multiple!$O$25,((ROWS($1:49)-1)/2)*$W$1,)) | K49: =IF(((COLUMNS($A:K))/2)>$W$1,"",OFFSET(recherche_multiple!$O$26,((ROWS($1:49)-1)/2)*$W$1,)) | M49: =IF(((COLUMNS($A:M))/2)>$W$1,"",OFFSET(recherche_multiple!$O$27,((ROWS($1:49)-1)/2)*$W$1,)) | O49: =IF(((COLUMNS($A:O))/2)>$W$1,"",OFFSET(recherche_multiple!$O$28,((ROWS($1:49)-1)/2)*$W$1,)) | Q49: =IF(((COLUMNS($A:Q))/2)>$W$1,"",OFFSET(recherche_multiple!$O$29,((ROWS($1:49)-1)/2)*$W$1,))
A51: =IF(((COLUMNS($A:A))/2)>$W$1,"",OFFSET(recherche_multiple!$O$21,((ROWS($1:51)-1)/2)*$W$1,)) -> C121 101_x000D_D121 | C51: =IF(((COLUMNS($A:C))/2)>$W$1,"",OFFSET(recherche_multiple!$O$22,((ROWS($1:51)-1)/2)*$W$1,)) -> C122 102_x000D_D122 | E51: =IF(((COLUMNS($A:E))/2)>$W$1,"",OFFSET(recherche_multiple!$O$23,((ROWS($1:51)-1)/2)*$W$1,)) -> C123 103_x000D_D123 | G51: =IF(((COLUMNS($A:G))/2)>$W$1,"",OFFSET(recherche_multiple!$O$24,((ROWS($1:51)-1)/2)*$W$1,)) -> C124 104_x000D_D124 | I51: =IF(((COLUMNS($A:I))/2)>$W$1,"",OFFSET(recherche_multiple!$O$25,((ROWS($1:51)-1)/2)*$W$1,)) | K51: =IF(((COLUMNS($A:K))/2)>$W$1,"",OFFSET(recherche_multiple!$O$26,((ROWS($1:51)-1)/2)*$W$1,)) | M51: =IF(((COLUMNS($A:M))/2)>$W$1,"",OFFSET(recherche_multiple!$O$27,((ROWS($1:51)-1)/2)*$W$1,)) | O51: =IF(((COLUMNS($A:O))/2)>$W$1,"",OFFSET(recherche_multiple!$O$28,((ROWS($1:51)-1)/2)*$W$1,)) | Q51: =IF(((COLUMNS($A:Q))/2)>$W$1,"",OFFSET(recherche_multiple!$O$29,((ROWS($1:51)-1)/2)*$W$1,))
A53: =IF(((COLUMNS($A:A))/2)>$W$1,"",OFFSET(recherche_multiple!$O$21,((ROWS($1:53)-1)/2)*$W$1,)) -> C125 105_x000D_D125 | C53: =IF(((COLUMNS($A:C))/2)>$W$1,"",OFFSET(recherche_multiple!$O$22,((ROWS($1:53)-1)/2)*$W$1,)) -> C126 106_x000D_D126 | E53: =IF(((COLUMNS($A:E))/2)>$W$1,"",OFFSET(recherche_multiple!$O$23,((ROWS($1:53)-1)/2)*$W$1,)) -> C127 107_x000D_D127 | G53: =IF(((COLUMNS($A:G))/2)>$W$1,"",OFFSET(recherche_multiple!$O$24,((ROWS($1:53)-1)/2)*$W$1,)) -> C128 108_x000D_D128 | I53: =IF(((COLUMNS($A:I))/2)>$W$1,"",OFFSET(recherche_multiple!$O$25,((ROWS($1:53)-1)/2)*$W$1,)) | K53: =IF(((COLUMNS($A:K))/2)>$W$1,"",OFFSET(recherche_multiple!$O$26,((ROWS($1:53)-1)/2)*$W$1,)) | M53: =IF(((COLUMNS($A:M))/2)>$W$1,"",OFFSET(recherche_multiple!$O$27,((ROWS($1:53)-1)/2)*$W$1,)) | O53: =IF(((COLUMNS($A:O))/2)>$W$1,"",OFFSET(recherche_multiple!$O$28,((ROWS($1:53)-1)/2)*$W$1,)) | Q53: =IF(((COLUMNS($A:Q))/2)>$W$1,"",OFFSET(recherche_multiple!$O$29,((ROWS($1:53)-1)/2)*$W$1,))
A55: =IF(((COLUMNS($A:A))/2)>$W$1,"",OFFSET(recherche_multiple!$O$21,((ROWS($1:55)-1)/2)*$W$1,)) -> C129 109_x000D_D129 | C55: =IF(((COLUMNS($A:C))/2)>$W$1,"",OFFSET(recherche_multiple!$O$22,((ROWS($1:55)-1)/2)*$W$1,)) -> C130 110_x000D_D130 | E55: =IF(((COLUMNS($A:E))/2)>$W$1,"",OFFSET(recherche_multiple!$O$23,((ROWS($1:55)-1)/2)*$W$1,)) -> C131 111_x000D_D131 | G55: =IF(((COLUMNS($A:G))/2)>$W$1,"",OFFSET(recherche_multiple!$O$24,((ROWS($1:55)-1)/2)*$W$1,)) -> C132 112_x000D_D132 | I55: =IF(((COLUMNS($A:I))/2)>$W$1,"",OFFSET(recherche_multiple!$O$25,((ROWS($1:55)-1)/2)*$W$1,)) | K55: =IF(((COLUMNS($A:K))/2)>$W$1,"",OFFSET(recherche_multiple!$O$26,((ROWS($1:55)-1)/2)*$W$1,)) | M55: =IF(((COLUMNS($A:M))/2)>$W$1,"",OFFSET(recherche_multiple!$O$27,((ROWS($1:55)-1)/2)*$W$1,)) | O55: =IF(((COLUMNS($A:O))/2)>$W$1,"",OFFSET(recherche_multiple!$O$28,((ROWS($1:55)-1)/2)*$W$1,)) | Q55: =IF(((COLUMNS($A:Q))/2)>$W$1,"",OFFSET(recherche_multiple!$O$29,((ROWS($1:55)-1)/2)*$W$1,))
A57: =IF(((COLUMNS($A:A))/2)>$W$1,"",OFFSET(recherche_multiple!$O$21,((ROWS($1:57)-1)/2)*$W$1,)) -> C133 113_x000D_D133 | C57: =IF(((COLUMNS($A:C))/2)>$W$1,"",OFFSET(recherche_multiple!$O$22,((ROWS($1:57)-1)/2)*$W$1,)) -> C134 114_x000D_D134 | E57: =IF(((COLUMNS($A:E))/2)>$W$1,"",OFFSET(recherche_multiple!$O$23,((ROWS($1:57)-1)/2)*$W$1,)) -> C135 115_x000D_D135 | G57: =IF(((COLUMNS($A:G))/2)>$W$1,"",OFFSET(recherche_multiple!$O$24,((ROWS($1:57)-1)/2)*$W$1,)) -> C136 116_x000D_D136 | I57: =IF(((COLUMNS($A:I))/2)>$W$1,"",OFFSET(recherche_multiple!$O$25,((ROWS($1:57)-1)/2)*$W$1,)) | K57: =IF(((COLUMNS($A:K))/2)>$W$1,"",OFFSET(recherche_multiple!$O$26,((ROWS($1:57)-1)/2)*$W$1,)) | M57: =IF(((COLUMNS($A:M))/2)>$W$1,"",OFFSET(recherche_multiple!$O$27,((ROWS($1:57)-1)/2)*$W$1,)) | O57: =IF(((COLUMNS($A:O))/2)>$W$1,"",OFFSET(recherche_multiple!$O$28,((ROWS($1:57)-1)/2)*$W$1,)) | Q57: =IF(((COLUMNS($A:Q))/2)>$W$1,"",OFFSET(recherche_multiple!$O$29,((ROWS($1:57)-1)/2)*$W$1,))
A59: =IF(((COLUMNS($A:A))/2)>$W$1,"",OFFSET(recherche_multiple!$O$21,((ROWS($1:59)-1)/2)*$W$1,)) -> C137 117_x000D_D137 | C59: =IF(((COLUMNS($A:C))/2)>$W$1,"",OFFSET(recherche_multiple!$O$22,((ROWS($1:59)-1)/2)*$W$1,)) -> C138 118_x000D_D138 | E59: =IF(((COLUMNS($A:E))/2)>$W$1,"",OFFSET(recherche_multiple!$O$23,((ROWS($1:59)-1)/2)*$W$1,)) -> C139 119_x000D_D139 | G59: =IF(((COLUMNS($A:G))/2)>$W$1,"",OFFSET(recherche_multiple!$O$24,((ROWS($1:59)-1)/2)*$W$1,)) -> C140 120_x000D_D140 | I59: =IF(((COLUMNS($A:I))/2)>$W$1,"",OFFSET(recherche_multiple!$O$25,((ROWS($1:59)-1)/2)*$W$1,)) | K59: =IF(((COLUMNS($A:K))/2)>$W$1,"",OFFSET(recherche_multiple!$O$26,((ROWS($1:59)-1)/2)*$W$1,)) | M59: =IF(((COLUMNS($A:M))/2)>$W$1,"",OFFSET(recherche_multiple!$O$27,((ROWS($1:59)-1)/2)*$W$1,)) | O59: =IF(((COLUMNS($A:O))/2)>$W$1,"",OFFSET(recherche_multiple!$O$28,((ROWS($1:59)-1)/2)*$W$1,)) | Q59: =IF(((COLUMNS($A:Q))/2)>$W$1,"",OFFSET(recherche_multiple!$O$29,((ROWS($1:59)-1)/2)*$W$1,))
A61: =IF(((COLUMNS($A:A))/2)>$W$1,"",OFFSET(recherche_multiple!$O$21,((ROWS($1:61)-1)/2)*$W$1,)) -> C141 121_x000D_D141 | C61: =IF(((COLUMNS($A:C))/2)>$W$1,"",OFFSET(recherche_multiple!$O$22,((ROWS($1:61)-1)/2)*$W$1,)) -> C142 122_x000D_D142 | E61: =IF(((COLUMNS($A:E))/2)>$W$1,"",OFFSET(recherche_multiple!$O$23,((ROWS($1:61)-1)/2)*$W$1,)) -> C143 123_x000D_D143 | G61: =IF(((COLUMNS($A:G))/2)>$W$1,"",OFFSET(recherche_multiple!$O$24,((ROWS($1:61)-1)/2)*$W$1,)) -> C144 124_x000D_D144 | I61: =IF(((COLUMNS($A:I))/2)>$W$1,"",OFFSET(recherche_multiple!$O$25,((ROWS($1:61)-1)/2)*$W$1,)) | K61: =IF(((COLUMNS($A:K))/2)>$W$1,"",OFFSET(recherche_multiple!$O$26,((ROWS($1:61)-1)/2)*$W$1,)) | M61: =IF(((COLUMNS($A:M))/2)>$W$1,"",OFFSET(recherche_multiple!$O$27,((ROWS($1:61)-1)/2)*$W$1,)) | O61: =IF(((COLUMNS($A:O))/2)>$W$1,"",OFFSET(recherche_multiple!$O$28,((ROWS($1:61)-1)/2)*$W$1,)) | Q61: =IF(((COLUMNS($A:Q))/2)>$W$1,"",OFFSET(recherche_multiple!$O$29,((ROWS($1:61)-1)/2)*$W$1,))
A63: =IF(((COLUMNS($A:A))/2)>$W$1,"",OFFSET(recherche_multiple!$O$21,((ROWS($1:63)-1)/2)*$W$1,)) -> C145 125_x000D_D145 | C63: =IF(((COLUMNS($A:C))/2)>$W$1,"",OFFSET(recherche_multiple!$O$22,((ROWS($1:63)-1)/2)*$W$1,)) -> C146 126_x000D_D146 | E63: =IF(((COLUMNS($A:E))/2)>$W$1,"",OFFSET(recherche_multiple!$O$23,((ROWS($1:63)-1)/2)*$W$1,)) -> C147 127_x000D_D147 | G63: =IF(((COLUMNS($A:G))/2)>$W$1,"",OFFSET(recherche_multiple!$O$24,((ROWS($1:63)-1)/2)*$W$1,)) -> C148 128_x000D_D148 | I63: =IF(((COLUMNS($A:I))/2)>$W$1,"",OFFSET(recherche_multiple!$O$25,((ROWS($1:63)-1)/2)*$W$1,)) | K63: =IF(((COLUMNS($A:K))/2)>$W$1,"",OFFSET(recherche_multiple!$O$26,((ROWS($1:63)-1)/2)*$W$1,)) | M63: =IF(((COLUMNS($A:M))/2)>$W$1,"",OFFSET(recherche_multiple!$O$27,((ROWS($1:63)-1)/2)*$W$1,)) | O63: =IF(((COLUMNS($A:O))/2)>$W$1,"",OFFSET(recherche_multiple!$O$28,((ROWS($1:63)-1)/2)*$W$1,)) | Q63: =IF(((COLUMNS($A:Q))/2)>$W$1,"",OFFSET(recherche_multiple!$O$29,((ROWS($1:63)-1)/2)*$W$1,))
A65: =IF(((COLUMNS($A:A))/2)>$W$1,"",OFFSET(recherche_multiple!$O$21,((ROWS($1:65)-1)/2)*$W$1,)) -> C149 129_x000D_D149 | C65: =IF(((COLUMNS($A:C))/2)>$W$1,"",OFFSET(recherche_multiple!$O$22,((ROWS($1:65)-1)/2)*$W$1,)) -> C150 130_x000D_D150 | E65: =IF(((COLUMNS($A:E))/2)>$W$1,"",OFFSET(recherche_multiple!$O$23,((ROWS($1:65)-1)/2)*$W$1,)) -> C151 131_x000D_D151 | G65: =IF(((COLUMNS($A:G))/2)>$W$1,"",OFFSET(recherche_multiple!$O$24,((ROWS($1:65)-1)/2)*$W$1,)) -> C152 132_x000D_D152 | I65: =IF(((COLUMNS($A:I))/2)>$W$1,"",OFFSET(recherche_multiple!$O$25,((ROWS($1:65)-1)/2)*$W$1,)) | K65: =IF(((COLUMNS($A:K))/2)>$W$1,"",OFFSET(recherche_multiple!$O$26,((ROWS($1:65)-1)/2)*$W$1,)) | M65: =IF(((COLUMNS($A:M))/2)>$W$1,"",OFFSET(recherche_multiple!$O$27,((ROWS($1:65)-1)/2)*$W$1,)) | O65: =IF(((COLUMNS($A:O))/2)>$W$1,"",OFFSET(recherche_multiple!$O$28,((ROWS($1:65)-1)/2)*$W$1,)) | Q65: =IF(((COLUMNS($A:Q))/2)>$W$1,"",OFFSET(recherche_multiple!$O$29,((ROWS($1:65)-1)/2)*$W$1,))
A67: =IF(((COLUMNS($A:A))/2)>$W$1,"",OFFSET(recherche_multiple!$O$21,((ROWS($1:67)-1)/2)*$W$1,)) -> C153 133_x000D_D153 | C67: =IF(((COLUMNS($A:C))/2)>$W$1,"",OFFSET(recherche_multiple!$O$22,((ROWS($1:67)-1)/2)*$W$1,)) -> C154 134_x000D_D154 | E67: =IF(((COLUMNS($A:E))/2)>$W$1,"",OFFSET(recherche_multiple!$O$23,((ROWS($1:67)-1)/2)*$W$1,)) -> C155 135_x000D_D155 | G67: =IF(((COLUMNS($A:G))/2)>$W$1,"",OFFSET(recherche_multiple!$O$24,((ROWS($1:67)-1)/2)*$W$1,)) -> C156 136_x000D_D156 | I67: =IF(((COLUMNS($A:I))/2)>$W$1,"",OFFSET(recherche_multiple!$O$25,((ROWS($1:67)-1)/2)*$W$1,)) | K67: =IF(((COLUMNS($A:K))/2)>$W$1,"",OFFSET(recherche_multiple!$O$26,((ROWS($1:67)-1)/2)*$W$1,)) | M67: =IF(((COLUMNS($A:M))/2)>$W$1,"",OFFSET(recherche_multiple!$O$27,((ROWS($1:67)-1)/2)*$W$1,)) | O67: =IF(((COLUMNS($A:O))/2)>$W$1,"",OFFSET(recherche_multiple!$O$28,((ROWS($1:67)-1)/2)*$W$1,)) | Q67: =IF(((COLUMNS($A:Q))/2)>$W$1,"",OFFSET(recherche_multiple!$O$29,((ROWS($1:67)-1)/2)*$W$1,))
A69: =IF(((COLUMNS($A:A))/2)>$W$1,"",OFFSET(recherche_multiple!$O$21,((ROWS($1:69)-1)/2)*$W$1,)) -> C157 137_x000D_D157 | C69: =IF(((COLUMNS($A:C))/2)>$W$1,"",OFFSET(recherche_multiple!$O$22,((ROWS($1:69)-1)/2)*$W$1,)) -> C158 138_x000D_D158 | E69: =IF(((COLUMNS($A:E))/2)>$W$1,"",OFFSET(recherche_multiple!$O$23,((ROWS($1:69)-1)/2)*$W$1,)) -> C159 139_x000D_D159 | G69: =IF(((COLUMNS($A:G))/2)>$W$1,"",OFFSET(recherche_multiple!$O$24,((ROWS($1:69)-1)/2)*$W$1,)) -> C160 140_x000D_D160 | I69: =IF(((COLUMNS($A:I))/2)>$W$1,"",OFFSET(recherche_multiple!$O$25,((ROWS($1:69)-1)/2)*$W$1,)) | K69: =IF(((COLUMNS($A:K))/2)>$W$1,"",OFFSET(recherche_multiple!$O$26,((ROWS($1:69)-1)/2)*$W$1,)) | M69: =IF(((COLUMNS($A:M))/2)>$W$1,"",OFFSET(recherche_multiple!$O$27,((ROWS($1:69)-1)/2)*$W$1,)) | O69: =IF(((COLUMNS($A:O))/2)>$W$1,"",OFFSET(recherche_multiple!$O$28,((ROWS($1:69)-1)/2)*$W$1,)) | Q69: =IF(((COLUMNS($A:Q))/2)>$W$1,"",OFFSET(recherche_multiple!$O$29,((ROWS($1:69)-1)/2)*$W$1,))
A71: =IF(((COLUMNS($A:A))/2)>$W$1,"",OFFSET(recherche_multiple!$O$21,((ROWS($1:71)-1)/2)*$W$1,)) -> C161 141_x000D_D161 | C71: =IF(((COLUMNS($A:C))/2)>$W$1,"",OFFSET(recherche_multiple!$O$22,((ROWS($1:71)-1)/2)*$W$1,)) -> C162 142_x000D_D162 | E71: =IF(((COLUMNS($A:E))/2)>$W$1,"",OFFSET(recherche_multiple!$O$23,((ROWS($1:71)-1)/2)*$W$1,)) -> C163 143_x000D_D163 | G71: =IF(((COLUMNS($A:G))/2)>$W$1,"",OFFSET(recherche_multiple!$O$24,((ROWS($1:71)-1)/2)*$W$1,)) -> C164 144_x000D_D164 | I71: =IF(((COLUMNS($A:I))/2)>$W$1,"",OFFSET(recherche_multiple!$O$25,((ROWS($1:71)-1)/2)*$W$1,)) | K71: =IF(((COLUMNS($A:K))/2)>$W$1,"",OFFSET(recherche_multiple!$O$26,((ROWS($1:71)-1)/2)*$W$1,)) | M71: =IF(((COLUMNS($A:M))/2)>$W$1,"",OFFSET(recherche_multiple!$O$27,((ROWS($1:71)-1)/2)*$W$1,)) | O71: =IF(((COLUMNS($A:O))/2)>$W$1,"",OFFSET(recherche_multiple!$O$28,((ROWS($1:71)-1)/2)*$W$1,)) | Q71: =IF(((COLUMNS($A:Q))/2)>$W$1,"",OFFSET(recherche_multiple!$O$29,((ROWS($1:71)-1)/2)*$W$1,))
A73: =IF(((COLUMNS($A:A))/2)>$W$1,"",OFFSET(recherche_multiple!$O$21,((ROWS($1:73)-1)/2)*$W$1,)) -> C165 145_x000D_D165 | C73: =IF(((COLUMNS($A:C))/2)>$W$1,"",OFFSET(recherche_multiple!$O$22,((ROWS($1:73)-1)/2)*$W$1,)) -> C166 146_x000D_D166 | E73: =IF(((COLUMNS($A:E))/2)>$W$1,"",OFFSET(recherche_multiple!$O$23,((ROWS($1:73)-1)/2)*$W$1,)) -> C167 147_x000D_D167 | G73: =IF(((COLUMNS($A:G))/2)>$W$1,"",OFFSET(recherche_multiple!$O$24,((ROWS($1:73)-1)/2)*$W$1,)) -> C168 148_x000D_D168 | I73: =IF(((COLUMNS($A:I))/2)>$W$1,"",OFFSET(recherche_multiple!$O$25,((ROWS($1:73)-1)/2)*$W$1,)) | K73: =IF(((COLUMNS($A:K))/2)>$W$1,"",OFFSET(recherche_multiple!$O$26,((ROWS($1:73)-1)/2)*$W$1,)) | M73: =IF(((COLUMNS($A:M))/2)>$W$1,"",OFFSET(recherche_multiple!$O$27,((ROWS($1:73)-1)/2)*$W$1,)) | O73: =IF(((COLUMNS($A:O))/2)>$W$1,"",OFFSET(recherche_multiple!$O$28,((ROWS($1:73)-1)/2)*$W$1,)) | Q73: =IF(((COLUMNS($A:Q))/2)>$W$1,"",OFFSET(recherche_multiple!$O$29,((ROWS($1:73)-1)/2)*$W$1,))
A75: =IF(((COLUMNS($A:A))/2)>$W$1,"",OFFSET(recherche_multiple!$O$21,((ROWS($1:75)-1)/2)*$W$1,)) -> C169 149_x000D_D169 | C75: =IF(((COLUMNS($A:C))/2)>$W$1,"",OFFSET(recherche_multiple!$O$22,((ROWS($1:75)-1)/2)*$W$1,)) -> C170 150_x000D_D170 | E75: =IF(((COLUMNS($A:E))/2)>$W$1,"",OFFSET(recherche_multiple!$O$23,((ROWS($1:75)-1)/2)*$W$1,)) -> C171 151_x000D_D171 | G75: =IF(((COLUMNS($A:G))/2)>$W$1,"",OFFSET(recherche_multiple!$O$24,((ROWS($1:75)-1)/2)*$W$1,)) -> C172 152_x000D_D172 | I75: =IF(((COLUMNS($A:I))/2)>$W$1,"",OFFSET(recherche_multiple!$O$25,((ROWS($1:75)-1)/2)*$W$1,)) | K75: =IF(((COLUMNS($A:K))/2)>$W$1,"",OFFSET(recherche_multiple!$O$26,((ROWS($1:75)-1)/2)*$W$1,)) | M75: =IF(((COLUMNS($A:M))/2)>$W$1,"",OFFSET(recherche_multiple!$O$27,((ROWS($1:75)-1)/2)*$W$1,)) | O75: =IF(((COLUMNS($A:O))/2)>$W$1,"",OFFSET(recherche_multiple!$O$28,((ROWS($1:75)-1)/2)*$W$1,)) | Q75: =IF(((COLUMNS($A:Q))/2)>$W$1,"",OFFSET(recherche_multiple!$O$29,((ROWS($1:75)-1)/2)*$W$1,))
A77: =IF(((COLUMNS($A:A))/2)>$W$1,"",OFFSET(recherche_multiple!$O$21,((ROWS($1:77)-1)/2)*$W$1,)) -> C173 153_x000D_D173 | C77: =IF(((COLUMNS($A:C))/2)>$W$1,"",OFFSET(recherche_multiple!$O$22,((ROWS($1:77)-1)/2)*$W$1,)) -> C174 154_x000D_D174 | E77: =IF(((COLUMNS($A:E))/2)>$W$1,"",OFFSET(recherche_multiple!$O$23,((ROWS($1:77)-1)/2)*$W$1,)) -> C175 155_x000D_D175 | G77: =IF(((COLUMNS($A:G))/2)>$W$1,"",OFFSET(recherche_multiple!$O$24,((ROWS($1:77)-1)/2)*$W$1,)) -> C176 156_x000D_D176 | I77: =IF(((COLUMNS($A:I))/2)>$W$1,"",OFFSET(recherche_multiple!$O$25,((ROWS($1:77)-1)/2)*$W$1,)) | K77: =IF(((COLUMNS($A:K))/2)>$W$1,"",OFFSET(recherche_multiple!$O$26,((ROWS($1:77)-1)/2)*$W$1,)) | M77: =IF(((COLUMNS($A:M))/2)>$W$1,"",OFFSET(recherche_multiple!$O$27,((ROWS($1:77)-1)/2)*$W$1,)) | O77: =IF(((COLUMNS($A:O))/2)>$W$1,"",OFFSET(recherche_multiple!$O$28,((ROWS($1:77)-1)/2)*$W$1,)) | Q77: =IF(((COLUMNS($A:Q))/2)>$W$1,"",OFFSET(recherche_multiple!$O$29,((ROWS($1:77)-1)/2)*$W$1,))
A79: =IF(((COLUMNS($A:A))/2)>$W$1,"",OFFSET(recherche_multiple!$O$21,((ROWS($1:79)-1)/2)*$W$1,)) -> C177 157_x000D_D177 | C79: =IF(((COLUMNS($A:C))/2)>$W$1,"",OFFSET(recherche_multiple!$O$22,((ROWS($1:79)-1)/2)*$W$1,)) -> C178 158_x000D_D178 | E79: =IF(((COLUMNS($A:E))/2)>$W$1,"",OFFSET(recherche_multiple!$O$23,((ROWS($1:79)-1)/2)*$W$1,)) -> C179 159_x000D_D179 | G79: =IF(((COLUMNS($A:G))/2)>$W$1,"",OFFSET(recherche_multiple!$O$24,((ROWS($1:79)-1)/2)*$W$1,)) -> C180 160_x000D_D180 | I79: =IF(((COLUMNS($A:I))/2)>$W$1,"",OFFSET(recherche_multiple!$O$25,((ROWS($1:79)-1)/2)*$W$1,)) | K79: =IF(((COLUMNS($A:K))/2)>$W$1,"",OFFSET(recherche_multiple!$O$26,((ROWS($1:79)-1)/2)*$W$1,)) | M79: =IF(((COLUMNS($A:M))/2)>$W$1,"",OFFSET(recherche_multiple!$O$27,((ROWS($1:79)-1)/2)*$W$1,)) | O79: =IF(((COLUMNS($A:O))/2)>$W$1,"",OFFSET(recherche_multiple!$O$28,((ROWS($1:79)-1)/2)*$W$1,)) | Q79: =IF(((COLUMNS($A:Q))/2)>$W$1,"",OFFSET(recherche_multiple!$O$29,((ROWS($1:79)-1)/2)*$W$1,))
A81: =IF(((COLUMNS($A:A))/2)>$W$1,"",OFFSET(recherche_multiple!$O$21,((ROWS($1:81)-1)/2)*$W$1,)) -> C181 161_x000D_D181 | C81: =IF(((COLUMNS($A:C))/2)>$W$1,"",OFFSET(recherche_multiple!$O$22,((ROWS($1:81)-1)/2)*$W$1,)) -> C182 162_x000D_D182 | E81: =IF(((COLUMNS($A:E))/2)>$W$1,"",OFFSET(recherche_multiple!$O$23,((ROWS($1:81)-1)/2)*$W$1,)) -> C183 163_x000D_D183 | G81: =IF(((COLUMNS($A:G))/2)>$W$1,"",OFFSET(recherche_multiple!$O$24,((ROWS($1:81)-1)/2)*$W$1,)) -> C184 164_x000D_D184 | I81: =IF(((COLUMNS($A:I))/2)>$W$1,"",OFFSET(recherche_multiple!$O$25,((ROWS($1:81)-1)/2)*$W$1,)) | K81: =IF(((COLUMNS($A:K))/2)>$W$1,"",OFFSET(recherche_multiple!$O$26,((ROWS($1:81)-1)/2)*$W$1,)) | M81: =IF(((COLUMNS($A:M))/2)>$W$1,"",OFFSET(recherche_multiple!$O$27,((ROWS($1:81)-1)/2)*$W$1,)) | O81: =IF(((COLUMNS($A:O))/2)>$W$1,"",OFFSET(recherche_multiple!$O$28,((ROWS($1:81)-1)/2)*$W$1,)) | Q81: =IF(((COLUMNS($A:Q))/2)>$W$1,"",OFFSET(recherche_multiple!$O$29,((ROWS($1:81)-1)/2)*$W$1,))
A83: =IF(((COLUMNS($A:A))/2)>$W$1,"",OFFSET(recherche_multiple!$O$21,((ROWS($1:83)-1)/2)*$W$1,)) -> C185 165_x000D_D185 | C83: =IF(((COLUMNS($A:C))/2)>$W$1,"",OFFSET(recherche_multiple!$O$22,((ROWS($1:83)-1)/2)*$W$1,)) -> C186 166_x000D_D186 | E83: =IF(((COLUMNS($A:E))/2)>$W$1,"",OFFSET(recherche_multiple!$O$23,((ROWS($1:83)-1)/2)*$W$1,)) -> C187 167_x000D_D187 | G83: =IF(((COLUMNS($A:G))/2)>$W$1,"",OFFSET(recherche_multiple!$O$24,((ROWS($1:83)-1)/2)*$W$1,)) -> C188 168_x000D_D188 | I83: =IF(((COLUMNS($A:I))/2)>$W$1,"",OFFSET(recherche_multiple!$O$25,((ROWS($1:83)-1)/2)*$W$1,)) | K83: =IF(((COLUMNS($A:K))/2)>$W$1,"",OFFSET(recherche_multiple!$O$26,((ROWS($1:83)-1)/2)*$W$1,)) | M83: =IF(((COLUMNS($A:M))/2)>$W$1,"",OFFSET(recherche_multiple!$O$27,((ROWS($1:83)-1)/2)*$W$1,)) | O83: =IF(((COLUMNS($A:O))/2)>$W$1,"",OFFSET(recherche_multiple!$O$28,((ROWS($1:83)-1)/2)*$W$1,)) | Q83: =IF(((COLUMNS($A:Q))/2)>$W$1,"",OFFSET(recherche_multiple!$O$29,((ROWS($1:83)-1)/2)*$W$1,))
A85: =IF(((COLUMNS($A:A))/2)>$W$1,"",OFFSET(recherche_multiple!$O$21,((ROWS($1:85)-1)/2)*$W$1,)) -> C189 169_x000D_D189 | C85: =IF(((COLUMNS($A:C))/2)>$W$1,"",OFFSET(recherche_multiple!$O$22,((ROWS($1:85)-1)/2)*$W$1,)) -> C190 170_x000D_D190 | E85: =IF(((COLUMNS($A:E))/2)>$W$1,"",OFFSET(recherche_multiple!$O$23,((ROWS($1:85)-1)/2)*$W$1,)) -> C191 171_x000D_D191 | G85: =IF(((COLUMNS($A:G))/2)>$W$1,"",OFFSET(recherche_multiple!$O$24,((ROWS($1:85)-1)/2)*$W$1,)) -> C192 172_x000D_D192 | I85: =IF(((COLUMNS($A:I))/2)>$W$1,"",OFFSET(recherche_multiple!$O$25,((ROWS($1:85)-1)/2)*$W$1,)) | K85: =IF(((COLUMNS($A:K))/2)>$W$1,"",OFFSET(recherche_multiple!$O$26,((ROWS($1:85)-1)/2)*$W$1,)) | M85: =IF(((COLUMNS($A:M))/2)>$W$1,"",OFFSET(recherche_multiple!$O$27,((ROWS($1:85)-1)/2)*$W$1,)) | O85: =IF(((COLUMNS($A:O))/2)>$W$1,"",OFFSET(recherche_multiple!$O$28,((ROWS($1:85)-1)/2)*$W$1,)) | Q85: =IF(((COLUMNS($A:Q))/2)>$W$1,"",OFFSET(recherche_multiple!$O$29,((ROWS($1:85)-1)/2)*$W$1,))
A87: =IF(((COLUMNS($A:A))/2)>$W$1,"",OFFSET(recherche_multiple!$O$21,((ROWS($1:87)-1)/2)*$W$1,)) -> C193 173_x000D_D193 | C87: =IF(((COLUMNS($A:C))/2)>$W$1,"",OFFSET(recherche_multiple!$O$22,((ROWS($1:87)-1)/2)*$W$1,)) -> C194 174_x000D_D194 | E87: =IF(((COLUMNS($A:E))/2)>$W$1,"",OFFSET(recherche_multiple!$O$23,((ROWS($1:87)-1)/2)*$W$1,)) -> C195 175_x000D_D195 | G87: =IF(((COLUMNS($A:G))/2)>$W$1,"",OFFSET(recherche_multiple!$O$24,((ROWS($1:87)-1)/2)*$W$1,)) -> C196 176_x000D_D196 | I87: =IF(((COLUMNS($A:I))/2)>$W$1,"",OFFSET(recherche_multiple!$O$25,((ROWS($1:87)-1)/2)*$W$1,)) | K87: =IF(((COLUMNS($A:K))/2)>$W$1,"",OFFSET(recherche_multiple!$O$26,((ROWS($1:87)-1)/2)*$W$1,)) | M87: =IF(((COLUMNS($A:M))/2)>$W$1,"",OFFSET(recherche_multiple!$O$27,((ROWS($1:87)-1)/2)*$W$1,)) | O87: =IF(((COLUMNS($A:O))/2)>$W$1,"",OFFSET(recherche_multiple!$O$28,((ROWS($1:87)-1)/2)*$W$1,)) | Q87: =IF(((COLUMNS($A:Q))/2)>$W$1,"",OFFSET(recherche_multiple!$O$29,((ROWS($1:87)-1)/2)*$W$1,))
A89: =IF(((COLUMNS($A:A))/2)>$W$1,"",OFFSET(recherche_multiple!$O$21,((ROWS($1:89)-1)/2)*$W$1,)) -> C197 177_x000D_D197 | C89: =IF(((COLUMNS($A:C))/2)>$W$1,"",OFFSET(recherche_multiple!$O$22,((ROWS($1:89)-1)/2)*$W$1,)) -> C198 178_x000D_D198 | E89: =IF(((COLUMNS($A:E))/2)>$W$1,"",OFFSET(recherche_multiple!$O$23,((ROWS($1:89)-1)/2)*$W$1,)) -> C199 179_x000D_D199 | G89: =IF(((COLUMNS($A:G))/2)>$W$1,"",OFFSET(recherche_multiple!$O$24,((ROWS($1:89)-1)/2)*$W$1,)) -> C200 180_x000D_D200 | I89: =IF(((COLUMNS($A:I))/2)>$W$1,"",OFFSET(recherche_multiple!$O$25,((ROWS($1:89)-1)/2)*$W$1,)) | K89: =IF(((COLUMNS($A:K))/2)>$W$1,"",OFFSET(recherche_multiple!$O$26,((ROWS($1:89)-1)/2)*$W$1,)) | M89: =IF(((COLUMNS($A:M))/2)>$W$1,"",OFFSET(recherche_multiple!$O$27,((ROWS($1:89)-1)/2)*$W$1,)) | O89: =IF(((COLUMNS($A:O))/2)>$W$1,"",OFFSET(recherche_multiple!$O$28,((ROWS($1:89)-1)/2)*$W$1,)) | Q89: =IF(((COLUMNS($A:Q))/2)>$W$1,"",OFFSET(recherche_multiple!$O$29,((ROWS($1:89)-1)/2)*$W$1,))
A91: =IF(((COLUMNS($A:A))/2)>$W$1,"",OFFSET(recherche_multiple!$O$21,((ROWS($1:91)-1)/2)*$W$1,)) -> C201 181_x000D_D201 | C91: =IF(((COLUMNS($A:C))/2)>$W$1,"",OFFSET(recherche_multiple!$O$22,((ROWS($1:91)-1)/2)*$W$1,)) -> C202 182_x000D_D202 | E91: =IF(((COLUMNS($A:E))/2)>$W$1,"",OFFSET(recherche_multiple!$O$23,((ROWS($1:91)-1)/2)*$W$1,)) -> C203 183_x000D_D203 | G91: =IF(((COLUMNS($A:G))/2)>$W$1,"",OFFSET(recherche_multiple!$O$24,((ROWS($1:91)-1)/2)*$W$1,)) -> C204 184_x000D_D204 | I91: =IF(((COLUMNS($A:I))/2)>$W$1,"",OFFSET(recherche_multiple!$O$25,((ROWS($1:91)-1)/2)*$W$1,)) | K91: =IF(((COLUMNS($A:K))/2)>$W$1,"",OFFSET(recherche_multiple!$O$26,((ROWS($1:91)-1)/2)*$W$1,)) | M91: =IF(((COLUMNS($A:M))/2)>$W$1,"",OFFSET(recherche_multiple!$O$27,((ROWS($1:91)-1)/2)*$W$1,)) | O91: =IF(((COLUMNS($A:O))/2)>$W$1,"",OFFSET(recherche_multiple!$O$28,((ROWS($1:91)-1)/2)*$W$1,)) | Q91: =IF(((COLUMNS($A:Q))/2)>$W$1,"",OFFSET(recherche_multiple!$O$29,((ROWS($1:91)-1)/2)*$W$1,))
A93: =IF(((COLUMNS($A:A))/2)>$W$1,"",OFFSET(recherche_multiple!$O$21,((ROWS($1:93)-1)/2)*$W$1,)) -> C205 185_x000D_D205 | C93: =IF(((COLUMNS($A:C))/2)>$W$1,"",OFFSET(recherche_multiple!$O$22,((ROWS($1:93)-1)/2)*$W$1,)) -> C206 186_x000D_D206 | E93: =IF(((COLUMNS($A:E))/2)>$W$1,"",OFFSET(recherche_multiple!$O$23,((ROWS($1:93)-1)/2)*$W$1,)) -> C207 187_x000D_D207 | G93: =IF(((COLUMNS($A:G))/2)>$W$1,"",OFFSET(recherche_multiple!$O$24,((ROWS($1:93)-1)/2)*$W$1,)) -> C208 188_x000D_D208 | I93: =IF(((COLUMNS($A:I))/2)>$W$1,"",OFFSET(recherche_multiple!$O$25,((ROWS($1:93)-1)/2)*$W$1,)) | K93: =IF(((COLUMNS($A:K))/2)>$W$1,"",OFFSET(recherche_multiple!$O$26,((ROWS($1:93)-1)/2)*$W$1,)) | M93: =IF(((COLUMNS($A:M))/2)>$W$1,"",OFFSET(recherche_multiple!$O$27,((ROWS($1:93)-1)/2)*$W$1,)) | O93: =IF(((COLUMNS($A:O))/2)>$W$1,"",OFFSET(recherche_multiple!$O$28,((ROWS($1:93)-1)/2)*$W$1,)) | Q93: =IF(((COLUMNS($A:Q))/2)>$W$1,"",OFFSET(recherche_multiple!$O$29,((ROWS($1:93)-1)/2)*$W$1,))
A95: =IF(((COLUMNS($A:A))/2)>$W$1,"",OFFSET(recherche_multiple!$O$21,((ROWS($1:95)-1)/2)*$W$1,)) -> C209 189_x000D_D209 | C95: =IF(((COLUMNS($A:C))/2)>$W$1,"",OFFSET(recherche_multiple!$O$22,((ROWS($1:95)-1)/2)*$W$1,)) -> C210 190_x000D_D210 | E95: =IF(((COLUMNS($A:E))/2)>$W$1,"",OFFSET(recherche_multiple!$O$23,((ROWS($1:95)-1)/2)*$W$1,)) -> C211 191_x000D_D211 | G95: =IF(((COLUMNS($A:G))/2)>$W$1,"",OFFSET(recherche_multiple!$O$24,((ROWS($1:95)-1)/2)*$W$1,)) -> C212 192_x000D_D212 | I95: =IF(((COLUMNS($A:I))/2)>$W$1,"",OFFSET(recherche_multiple!$O$25,((ROWS($1:95)-1)/2)*$W$1,)) | K95: =IF(((COLUMNS($A:K))/2)>$W$1,"",OFFSET(recherche_multiple!$O$26,((ROWS($1:95)-1)/2)*$W$1,)) | M95: =IF(((COLUMNS($A:M))/2)>$W$1,"",OFFSET(recherche_multiple!$O$27,((ROWS($1:95)-1)/2)*$W$1,)) | O95: =IF(((COLUMNS($A:O))/2)>$W$1,"",OFFSET(recherche_multiple!$O$28,((ROWS($1:95)-1)/2)*$W$1,)) | Q95: =IF(((COLUMNS($A:Q))/2)>$W$1,"",OFFSET(recherche_multiple!$O$29,((ROWS($1:95)-1)/2)*$W$1,))
A97: =IF(((COLUMNS($A:A))/2)>$W$1,"",OFFSET(recherche_multiple!$O$21,((ROWS($1:97)-1)/2)*$W$1,)) -> C213 193_x000D_D213 | C97: =IF(((COLUMNS($A:C))/2)>$W$1,"",OFFSET(recherche_multiple!$O$22,((ROWS($1:97)-1)/2)*$W$1,)) -> C214 194_x000D_D214 | E97: =IF(((COLUMNS($A:E))/2)>$W$1,"",OFFSET(recherche_multiple!$O$23,((ROWS($1:97)-1)/2)*$W$1,)) -> C215 195_x000D_D215 | G97: =IF(((COLUMNS($A:G))/2)>$W$1,"",OFFSET(recherche_multiple!$O$24,((ROWS($1:97)-1)/2)*$W$1,)) -> C216 196_x000D_D216 | I97: =IF(((COLUMNS($A:I))/2)>$W$1,"",OFFSET(recherche_multiple!$O$25,((ROWS($1:97)-1)/2)*$W$1,)) | K97: =IF(((COLUMNS($A:K))/2)>$W$1,"",OFFSET(recherche_multiple!$O$26,((ROWS($1:97)-1)/2)*$W$1,)) | M97: =IF(((COLUMNS($A:M))/2)>$W$1,"",OFFSET(recherche_multiple!$O$27,((ROWS($1:97)-1)/2)*$W$1,)) | O97: =IF(((COLUMNS($A:O))/2)>$W$1,"",OFFSET(recherche_multiple!$O$28,((ROWS($1:97)-1)/2)*$W$1,)) | Q97: =IF(((COLUMNS($A:Q))/2)>$W$1,"",OFFSET(recherche_multiple!$O$29,((ROWS($1:97)-1)/2)*$W$1,))
A99: =IF(((COLUMNS($A:A))/2)>$W$1,"",OFFSET(recherche_multiple!$O$21,((ROWS($1:99)-1)/2)*$W$1,)) -> C217 197_x000D_D217 | C99: =IF(((COLUMNS($A:C))/2)>$W$1,"",OFFSET(recherche_multiple!$O$22,((ROWS($1:99)-1)/2)*$W$1,)) -> C218 198_x000D_D218 | E99: =IF(((COLUMNS($A:E))/2)>$W$1,"",OFFSET(recherche_multiple!$O$23,((ROWS($1:99)-1)/2)*$W$1,)) -> C219 199_x000D_D219 | G99: =IF(((COLUMNS($A:G))/2)>$W$1,"",OFFSET(recherche_multiple!$O$24,((ROWS($1:99)-1)/2)*$W$1,)) -> C220 200_x000D_D220 | I99: =IF(((COLUMNS($A:I))/2)>$W$1,"",OFFSET(recherche_multiple!$O$25,((ROWS($1:99)-1)/2)*$W$1,)) | K99: =IF(((COLUMNS($A:K))/2)>$W$1,"",OFFSET(recherche_multiple!$O$26,((ROWS($1:99)-1)/2)*$W$1,)) | M99: =IF(((COLUMNS($A:M))/2)>$W$1,"",OFFSET(recherche_multiple!$O$27,((ROWS($1:99)-1)/2)*$W$1,)) | O99: =IF(((COLUMNS($A:O))/2)>$W$1,"",OFFSET(recherche_multiple!$O$28,((ROWS($1:99)-1)/2)*$W$1,)) | Q99: =IF(((COLUMNS($A:Q))/2)>$W$1,"",OFFSET(recherche_multiple!$O$29,((ROWS($1:99)-1)/2)*$W$1,))
A101: =IF(((COLUMNS($A:A))/2)>$W$1,"",OFFSET(recherche_multiple!$O$21,((ROWS($1:101)-1)/2)*$W$1,)) -> C221 201_x000D_D221 | C101: =IF(((COLUMNS($A:C))/2)>$W$1,"",OFFSET(recherche_multiple!$O$22,((ROWS($1:101)-1)/2)*$W$1,)) -> C222 202_x000D_D222 | E101: =IF(((COLUMNS($A:E))/2)>$W$1,"",OFFSET(recherche_multiple!$O$23,((ROWS($1:101)-1)/2)*$W$1,)) -> C223 203_x000D_D223 | G101: =IF(((COLUMNS($A:G))/2)>$W$1,"",OFFSET(recherche_multiple!$O$24,((ROWS($1:101)-1)/2)*$W$1,)) -> C224 204_x000D_D224 | I101: =IF(((COLUMNS($A:I))/2)>$W$1,"",OFFSET(recherche_multiple!$O$25,((ROWS($1:101)-1)/2)*$W$1,)) | K101: =IF(((COLUMNS($A:K))/2)>$W$1,"",OFFSET(recherche_multiple!$O$26,((ROWS($1:101)-1)/2)*$W$1,)) | M101: =IF(((COLUMNS($A:M))/2)>$W$1,"",OFFSET(recherche_multiple!$O$27,((ROWS($1:101)-1)/2)*$W$1,)) | O101: =IF(((COLUMNS($A:O))/2)>$W$1,"",OFFSET(recherche_multiple!$O$28,((ROWS($1:101)-1)/2)*$W$1,)) | Q101: =IF(((COLUMNS($A:Q))/2)>$W$1,"",OFFSET(recherche_multiple!$O$29,((ROWS($1:101)-1)/2)*$W$1,))
A103: =IF(((COLUMNS($A:A))/2)>$W$1,"",OFFSET(recherche_multiple!$O$21,((ROWS($1:103)-1)/2)*$W$1,)) -> C225 205_x000D_D225 | C103: =IF(((COLUMNS($A:C))/2)>$W$1,"",OFFSET(recherche_multiple!$O$22,((ROWS($1:103)-1)/2)*$W$1,)) -> C226 206_x000D_D226 | E103: =IF(((COLUMNS($A:E))/2)>$W$1,"",OFFSET(recherche_multiple!$O$23,((ROWS($1:103)-1)/2)*$W$1,)) -> C227 207_x000D_D227 | G103: =IF(((COLUMNS($A:G))/2)>$W$1,"",OFFSET(recherche_multiple!$O$24,((ROWS($1:103)-1)/2)*$W$1,)) -> C228 208_x000D_D228 | I103: =IF(((COLUMNS($A:I))/2)>$W$1,"",OFFSET(recherche_multiple!$O$25,((ROWS($1:103)-1)/2)*$W$1,)) | K103: =IF(((COLUMNS($A:K))/2)>$W$1,"",OFFSET(recherche_multiple!$O$26,((ROWS($1:103)-1)/2)*$W$1,)) | M103: =IF(((COLUMNS($A:M))/2)>$W$1,"",OFFSET(recherche_multiple!$O$27,((ROWS($1:103)-1)/2)*$W$1,)) | O103: =IF(((COLUMNS($A:O))/2)>$W$1,"",OFFSET(recherche_multiple!$O$28,((ROWS($1:103)-1)/2)*$W$1,)) | Q103: =IF(((COLUMNS($A:Q))/2)>$W$1,"",OFFSET(recherche_multiple!$O$29,((ROWS($1:103)-1)/2)*$W$1,))
A105: =IF(((COLUMNS($A:A))/2)>$W$1,"",OFFSET(recherche_multiple!$O$21,((ROWS($1:105)-1)/2)*$W$1,)) -> C229 209_x000D_D229 | C105: =IF(((COLUMNS($A:C))/2)>$W$1,"",OFFSET(recherche_multiple!$O$22,((ROWS($1:105)-1)/2)*$W$1,)) -> C230 210_x000D_D230 | E105: =IF(((COLUMNS($A:E))/2)>$W$1,"",OFFSET(recherche_multiple!$O$23,((ROWS($1:105)-1)/2)*$W$1,)) -> C231 211_x000D_D231 | G105: =IF(((COLUMNS($A:G))/2)>$W$1,"",OFFSET(recherche_multiple!$O$24,((ROWS($1:105)-1)/2)*$W$1,)) -> C232 212_x000D_D232 | I105: =IF(((COLUMNS($A:I))/2)>$W$1,"",OFFSET(recherche_multiple!$O$25,((ROWS($1:105)-1)/2)*$W$1,)) | K105: =IF(((COLUMNS($A:K))/2)>$W$1,"",OFFSET(recherche_multiple!$O$26,((ROWS($1:105)-1)/2)*$W$1,)) | M105: =IF(((COLUMNS($A:M))/2)>$W$1,"",OFFSET(recherche_multiple!$O$27,((ROWS($1:105)-1)/2)*$W$1,)) | O105: =IF(((COLUMNS($A:O))/2)>$W$1,"",OFFSET(recherche_multiple!$O$28,((ROWS($1:105)-1)/2)*$W$1,)) | Q105: =IF(((COLUMNS($A:Q))/2)>$W$1,"",OFFSET(recherche_multiple!$O$29,((ROWS($1:105)-1)/2)*$W$1,))
A107: =IF(((COLUMNS($A:A))/2)>$W$1,"",OFFSET(recherche_multiple!$O$21,((ROWS($1:107)-1)/2)*$W$1,)) -> C233 213_x000D_D233 | C107: =IF(((COLUMNS($A:C))/2)>$W$1,"",OFFSET(recherche_multiple!$O$22,((ROWS($1:107)-1)/2)*$W$1,)) -> C234 214_x000D_D234 | E107: =IF(((COLUMNS($A:E))/2)>$W$1,"",OFFSET(recherche_multiple!$O$23,((ROWS($1:107)-1)/2)*$W$1,)) -> C235 215_x000D_D235 | G107: =IF(((COLUMNS($A:G))/2)>$W$1,"",OFFSET(recherche_multiple!$O$24,((ROWS($1:107)-1)/2)*$W$1,)) -> C236 216_x000D_D236 | I107: =IF(((COLUMNS($A:I))/2)>$W$1,"",OFFSET(recherche_multiple!$O$25,((ROWS($1:107)-1)/2)*$W$1,)) | K107: =IF(((COLUMNS($A:K))/2)>$W$1,"",OFFSET(recherche_multiple!$O$26,((ROWS($1:107)-1)/2)*$W$1,)) | M107: =IF(((COLUMNS($A:M))/2)>$W$1,"",OFFSET(recherche_multiple!$O$27,((ROWS($1:107)-1)/2)*$W$1,)) | O107: =IF(((COLUMNS($A:O))/2)>$W$1,"",OFFSET(recherche_multiple!$O$28,((ROWS($1:107)-1)/2)*$W$1,)) | Q107: =IF(((COLUMNS($A:Q))/2)>$W$1,"",OFFSET(recherche_multiple!$O$29,((ROWS($1:107)-1)/2)*$W$1,))
A109: =IF(((COLUMNS($A:A))/2)>$W$1,"",OFFSET(recherche_multiple!$O$21,((ROWS($1:109)-1)/2)*$W$1,)) -> C237 217_x000D_D237 | C109: =IF(((COLUMNS($A:C))/2)>$W$1,"",OFFSET(recherche_multiple!$O$22,((ROWS($1:109)-1)/2)*$W$1,)) -> C238 218_x000D_D238 | E109: =IF(((COLUMNS($A:E))/2)>$W$1,"",OFFSET(recherche_multiple!$O$23,((ROWS($1:109)-1)/2)*$W$1,)) -> C239 219_x000D_D239 | G109: =IF(((COLUMNS($A:G))/2)>$W$1,"",OFFSET(recherche_multiple!$O$24,((ROWS($1:109)-1)/2)*$W$1,)) -> C240 220_x000D_D240 | I109: =IF(((COLUMNS($A:I))/2)>$W$1,"",OFFSET(recherche_multiple!$O$25,((ROWS($1:109)-1)/2)*$W$1,)) | K109: =IF(((COLUMNS($A:K))/2)>$W$1,"",OFFSET(recherche_multiple!$O$26,((ROWS($1:109)-1)/2)*$W$1,)) | M109: =IF(((COLUMNS($A:M))/2)>$W$1,"",OFFSET(recherche_multiple!$O$27,((ROWS($1:109)-1)/2)*$W$1,)) | O109: =IF(((COLUMNS($A:O))/2)>$W$1,"",OFFSET(recherche_multiple!$O$28,((ROWS($1:109)-1)/2)*$W$1,)) | Q109: =IF(((COLUMNS($A:Q))/2)>$W$1,"",OFFSET(recherche_multiple!$O$29,((ROWS($1:109)-1)/2)*$W$1,))
A111: =IF(((COLUMNS($A:A))/2)>$W$1,"",OFFSET(recherche_multiple!$O$21,((ROWS($1:111)-1)/2)*$W$1,)) -> C241 221_x000D_D241 | C111: =IF(((COLUMNS($A:C))/2)>$W$1,"",OFFSET(recherche_multiple!$O$22,((ROWS($1:111)-1)/2)*$W$1,)) -> C242 222_x000D_D242 | E111: =IF(((COLUMNS($A:E))/2)>$W$1,"",OFFSET(recherche_multiple!$O$23,((ROWS($1:111)-1)/2)*$W$1,)) -> C243 223_x000D_D243 | G111: =IF(((COLUMNS($A:G))/2)>$W$1,"",OFFSET(recherche_multiple!$O$24,((ROWS($1:111)-1)/2)*$W$1,)) -> C244 224_x000D_D244 | I111: =IF(((COLUMNS($A:I))/2)>$W$1,"",OFFSET(recherche_multiple!$O$25,((ROWS($1:111)-1)/2)*$W$1,)) | K111: =IF(((COLUMNS($A:K))/2)>$W$1,"",OFFSET(recherche_multiple!$O$26,((ROWS($1:111)-1)/2)*$W$1,)) | M111: =IF(((COLUMNS($A:M))/2)>$W$1,"",OFFSET(recherche_multiple!$O$27,((ROWS($1:111)-1)/2)*$W$1,)) | O111: =IF(((COLUMNS($A:O))/2)>$W$1,"",OFFSET(recherche_multiple!$O$28,((ROWS($1:111)-1)/2)*$W$1,)) | Q111: =IF(((COLUMNS($A:Q))/2)>$W$1,"",OFFSET(recherche_multiple!$O$29,((ROWS($1:111)-1)/2)*$W$1,))
A113: =IF(((COLUMNS($A:A))/2)>$W$1,"",OFFSET(recherche_multiple!$O$21,((ROWS($1:113)-1)/2)*$W$1,)) -> C245 225_x000D_D245 | C113: =IF(((COLUMNS($A:C))/2)>$W$1,"",OFFSET(recherche_multiple!$O$22,((ROWS($1:113)-1)/2)*$W$1,)) -> C246 226_x000D_D246 | E113: =IF(((COLUMNS($A:E))/2)>$W$1,"",OFFSET(recherche_multiple!$O$23,((ROWS($1:113)-1)/2)*$W$1,)) -> C247 227_x000D_D247 | G113: =IF(((COLUMNS($A:G))/2)>$W$1,"",OFFSET(recherche_multiple!$O$24,((ROWS($1:113)-1)/2)*$W$1,)) -> C248 228_x000D_D248 | I113: =IF(((COLUMNS($A:I))/2)>$W$1,"",OFFSET(recherche_multiple!$O$25,((ROWS($1:113)-1)/2)*$W$1,)) | K113: =IF(((COLUMNS($A:K))/2)>$W$1,"",OFFSET(recherche_multiple!$O$26,((ROWS($1:113)-1)/2)*$W$1,)) | M113: =IF(((COLUMNS($A:M))/2)>$W$1,"",OFFSET(recherche_multiple!$O$27,((ROWS($1:113)-1)/2)*$W$1,)) | O113: =IF(((COLUMNS($A:O))/2)>$W$1,"",OFFSET(recherche_multiple!$O$28,((ROWS($1:113)-1)/2)*$W$1,)) | Q113: =IF(((COLUMNS($A:Q))/2)>$W$1,"",OFFSET(recherche_multiple!$O$29,((ROWS($1:113)-1)/2)*$W$1,))
A115: =IF(((COLUMNS($A:A))/2)>$W$1,"",OFFSET(recherche_multiple!$O$21,((ROWS($1:115)-1)/2)*$W$1,)) -> C249 229_x000D_D249 | C115: =IF(((COLUMNS($A:C))/2)>$W$1,"",OFFSET(recherche_multiple!$O$22,((ROWS($1:115)-1)/2)*$W$1,)) -> C250 230_x000D_D250 | E115: =IF(((COLUMNS($A:E))/2)>$W$1,"",OFFSET(recherche_multiple!$O$23,((ROWS($1:115)-1)/2)*$W$1,)) -> C251 231_x000D_D251 | G115: =IF(((COLUMNS($A:G))/2)>$W$1,"",OFFSET(recherche_multiple!$O$24,((ROWS($1:115)-1)/2)*$W$1,)) -> C252 232_x000D_D252 | I115: =IF(((COLUMNS($A:I))/2)>$W$1,"",OFFSET(recherche_multiple!$O$25,((ROWS($1:115)-1)/2)*$W$1,)) | K115: =IF(((COLUMNS($A:K))/2)>$W$1,"",OFFSET(recherche_multiple!$O$26,((ROWS($1:115)-1)/2)*$W$1,)) | M115: =IF(((COLUMNS($A:M))/2)>$W$1,"",OFFSET(recherche_multiple!$O$27,((ROWS($1:115)-1)/2)*$W$1,)) | O115: =IF(((COLUMNS($A:O))/2)>$W$1,"",OFFSET(recherche_multiple!$O$28,((ROWS($1:115)-1)/2)*$W$1,)) | Q115: =IF(((COLUMNS($A:Q))/2)>$W$1,"",OFFSET(recherche_multiple!$O$29,((ROWS($1:115)-1)/2)*$W$1,))
A117: =IF(((COLUMNS($A:A))/2)>$W$1,"",OFFSET(recherche_multiple!$O$21,((ROWS($1:117)-1)/2)*$W$1,)) -> C253 233_x000D_D253 | C117: =IF(((COLUMNS($A:C))/2)>$W$1,"",OFFSET(recherche_multiple!$O$22,((ROWS($1:117)-1)/2)*$W$1,)) -> C254 234_x000D_D254 | E117: =IF(((COLUMNS($A:E))/2)>$W$1,"",OFFSET(recherche_multiple!$O$23,((ROWS($1:117)-1)/2)*$W$1,)) -> C255 235_x000D_D255 | G117: =IF(((COLUMNS($A:G))/2)>$W$1,"",OFFSET(recherche_multiple!$O$24,((ROWS($1:117)-1)/2)*$W$1,)) -> C256 236_x000D_D256 | I117: =IF(((COLUMNS($A:I))/2)>$W$1,"",OFFSET(recherche_multiple!$O$25,((ROWS($1:117)-1)/2)*$W$1,)) | K117: =IF(((COLUMNS($A:K))/2)>$W$1,"",OFFSET(recherche_multiple!$O$26,((ROWS($1:117)-1)/2)*$W$1,)) | M117: =IF(((COLUMNS($A:M))/2)>$W$1,"",OFFSET(recherche_multiple!$O$27,((ROWS($1:117)-1)/2)*$W$1,)) | O117: =IF(((COLUMNS($A:O))/2)>$W$1,"",OFFSET(recherche_multiple!$O$28,((ROWS($1:117)-1)/2)*$W$1,)) | Q117: =IF(((COLUMNS($A:Q))/2)>$W$1,"",OFFSET(recherche_multiple!$O$29,((ROWS($1:117)-1)/2)*$W$1,))
A119: =IF(((COLUMNS($A:A))/2)>$W$1,"",OFFSET(recherche_multiple!$O$21,((ROWS($1:119)-1)/2)*$W$1,)) -> C257 237_x000D_D257 | C119: =IF(((COLUMNS($A:C))/2)>$W$1,"",OFFSET(recherche_multiple!$O$22,((ROWS($1:119)-1)/2)*$W$1,)) -> C258 238_x000D_D258 | E119: =IF(((COLUMNS($A:E))/2)>$W$1,"",OFFSET(recherche_multiple!$O$23,((ROWS($1:119)-1)/2)*$W$1,)) -> C259 239_x000D_D259 | G119: =IF(((COLUMNS($A:G))/2)>$W$1,"",OFFSET(recherche_multiple!$O$24,((ROWS($1:119)-1)/2)*$W$1,)) -> C260 240_x000D_D260 | I119: =IF(((COLUMNS($A:I))/2)>$W$1,"",OFFSET(recherche_multiple!$O$25,((ROWS($1:119)-1)/2)*$W$1,)) | K119: =IF(((COLUMNS($A:K))/2)>$W$1,"",OFFSET(recherche_multiple!$O$26,((ROWS($1:119)-1)/2)*$W$1,)) | M119: =IF(((COLUMNS($A:M))/2)>$W$1,"",OFFSET(recherche_multiple!$O$27,((ROWS($1:119)-1)/2)*$W$1,)) | O119: =IF(((COLUMNS($A:O))/2)>$W$1,"",OFFSET(recherche_multiple!$O$28,((ROWS($1:119)-1)/2)*$W$1,)) | Q119: =IF(((COLUMNS($A:Q))/2)>$W$1,"",OFFSET(recherche_multiple!$O$29,((ROWS($1:119)-1)/2)*$W$1,))
A121: =IF(((COLUMNS($A:A))/2)>$W$1,"",OFFSET(recherche_multiple!$O$21,((ROWS($1:121)-1)/2)*$W$1,)) -> C261 241_x000D_D261 | C121: =IF(((COLUMNS($A:C))/2)>$W$1,"",OFFSET(recherche_multiple!$O$22,((ROWS($1:121)-1)/2)*$W$1,)) -> C262 242_x000D_D262 | E121: =IF(((COLUMNS($A:E))/2)>$W$1,"",OFFSET(recherche_multiple!$O$23,((ROWS($1:121)-1)/2)*$W$1,)) -> C263 243_x000D_D263 | G121: =IF(((COLUMNS($A:G))/2)>$W$1,"",OFFSET(recherche_multiple!$O$24,((ROWS($1:121)-1)/2)*$W$1,)) -> C264 244_x000D_D264 | I121: =IF(((COLUMNS($A:I))/2)>$W$1,"",OFFSET(recherche_multiple!$O$25,((ROWS($1:121)-1)/2)*$W$1,)) | K121: =IF(((COLUMNS($A:K))/2)>$W$1,"",OFFSET(recherche_multiple!$O$26,((ROWS($1:121)-1)/2)*$W$1,)) | M121: =IF(((COLUMNS($A:M))/2)>$W$1,"",OFFSET(recherche_multiple!$O$27,((ROWS($1:121)-1)/2)*$W$1,)) | O121: =IF(((COLUMNS($A:O))/2)>$W$1,"",OFFSET(recherche_multiple!$O$28,((ROWS($1:121)-1)/2)*$W$1,)) | Q121: =IF(((COLUMNS($A:Q))/2)>$W$1,"",OFFSET(recherche_multiple!$O$29,((ROWS($1:121)-1)/2)*$W$1,))
A123: =IF(((COLUMNS($A:A))/2)>$W$1,"",OFFSET(recherche_multiple!$O$21,((ROWS($1:123)-1)/2)*$W$1,)) -> C265 245_x000D_D265 | C123: =IF(((COLUMNS($A:C))/2)>$W$1,"",OFFSET(recherche_multiple!$O$22,((ROWS($1:123)-1)/2)*$W$1,)) -> C266 246_x000D_D266 | E123: =IF(((COLUMNS($A:E))/2)>$W$1,"",OFFSET(recherche_multiple!$O$23,((ROWS($1:123)-1)/2)*$W$1,)) -> C267 247_x000D_D267 | G123: =IF(((COLUMNS($A:G))/2)>$W$1,"",OFFSET(recherche_multiple!$O$24,((ROWS($1:123)-1)/2)*$W$1,)) -> C268 248_x000D_D268 | I123: =IF(((COLUMNS($A:I))/2)>$W$1,"",OFFSET(recherche_multiple!$O$25,((ROWS($1:123)-1)/2)*$W$1,)) | K123: =IF(((COLUMNS($A:K))/2)>$W$1,"",OFFSET(recherche_multiple!$O$26,((ROWS($1:123)-1)/2)*$W$1,)) | M123: =IF(((COLUMNS($A:M))/2)>$W$1,"",OFFSET(recherche_multiple!$O$27,((ROWS($1:123)-1)/2)*$W$1,)) | O123: =IF(((COLUMNS($A:O))/2)>$W$1,"",OFFSET(recherche_multiple!$O$28,((ROWS($1:123)-1)/2)*$W$1,)) | Q123: =IF(((COLUMNS($A:Q))/2)>$W$1,"",OFFSET(recherche_multiple!$O$29,((ROWS($1:123)-1)/2)*$W$1,))
A125: =IF(((COLUMNS($A:A))/2)>$W$1,"",OFFSET(recherche_multiple!$O$21,((ROWS($1:125)-1)/2)*$W$1,)) -> C269 249_x000D_D269 | C125: =IF(((COLUMNS($A:C))/2)>$W$1,"",OFFSET(recherche_multiple!$O$22,((ROWS($1:125)-1)/2)*$W$1,)) -> C270 250_x000D_D270 | E125: =IF(((COLUMNS($A:E))/2)>$W$1,"",OFFSET(recherche_multiple!$O$23,((ROWS($1:125)-1)/2)*$W$1,)) -> C271 251_x000D_D271 | G125: =IF(((COLUMNS($A:G))/2)>$W$1,"",OFFSET(recherche_multiple!$O$24,((ROWS($1:125)-1)/2)*$W$1,)) -> C272 252_x000D_D272 | I125: =IF(((COLUMNS($A:I))/2)>$W$1,"",OFFSET(recherche_multiple!$O$25,((ROWS($1:125)-1)/2)*$W$1,)) | K125: =IF(((COLUMNS($A:K))/2)>$W$1,"",OFFSET(recherche_multiple!$O$26,((ROWS($1:125)-1)/2)*$W$1,)) | M125: =IF(((COLUMNS($A:M))/2)>$W$1,"",OFFSET(recherche_multiple!$O$27,((ROWS($1:125)-1)/2)*$W$1,)) | O125: =IF(((COLUMNS($A:O))/2)>$W$1,"",OFFSET(recherche_multiple!$O$28,((ROWS($1:125)-1)/2)*$W$1,)) | Q125: =IF(((COLUMNS($A:Q))/2)>$W$1,"",OFFSET(recherche_multiple!$O$29,((ROWS($1:125)-1)/2)*$W$1,))
A127: =IF(((COLUMNS($A:A))/2)>$W$1,"",OFFSET(recherche_multiple!$O$21,((ROWS($1:127)-1)/2)*$W$1,)) -> C273 253_x000D_D273 | C127: =IF(((COLUMNS($A:C))/2)>$W$1,"",OFFSET(recherche_multiple!$O$22,((ROWS($1:127)-1)/2)*$W$1,)) -> C274 254_x000D_D274 | E127: =IF(((COLUMNS($A:E))/2)>$W$1,"",OFFSET(recherche_multiple!$O$23,((ROWS($1:127)-1)/2)*$W$1,)) -> C275 255_x000D_D275 | G127: =IF(((COLUMNS($A:G))/2)>$W$1,"",OFFSET(recherche_multiple!$O$24,((ROWS($1:127)-1)/2)*$W$1,)) -> C276 256_x000D_D276 | I127: =IF(((COLUMNS($A:I))/2)>$W$1,"",OFFSET(recherche_multiple!$O$25,((ROWS($1:127)-1)/2)*$W$1,)) | K127: =IF(((COLUMNS($A:K))/2)>$W$1,"",OFFSET(recherche_multiple!$O$26,((ROWS($1:127)-1)/2)*$W$1,)) | M127: =IF(((COLUMNS($A:M))/2)>$W$1,"",OFFSET(recherche_multiple!$O$27,((ROWS($1:127)-1)/2)*$W$1,)) | O127: =IF(((COLUMNS($A:O))/2)>$W$1,"",OFFSET(recherche_multiple!$O$28,((ROWS($1:127)-1)/2)*$W$1,)) | Q127: =IF(((COLUMNS($A:Q))/2)>$W$1,"",OFFSET(recherche_multiple!$O$29,((ROWS($1:127)-1)/2)*$W$1,))
A129: =IF(((COLUMNS($A:A))/2)>$W$1,"",OFFSET(recherche_multiple!$O$21,((ROWS($1:129)-1)/2)*$W$1,)) -> C277 257_x000D_D277 | C129: =IF(((COLUMNS($A:C))/2)>$W$1,"",OFFSET(recherche_multiple!$O$22,((ROWS($1:129)-1)/2)*$W$1,)) -> C278 258_x000D_D278 | E129: =IF(((COLUMNS($A:E))/2)>$W$1,"",OFFSET(recherche_multiple!$O$23,((ROWS($1:129)-1)/2)*$W$1,)) -> C279 259_x000D_D279 | G129: =IF(((COLUMNS($A:G))/2)>$W$1,"",OFFSET(recherche_multiple!$O$24,((ROWS($1:129)-1)/2)*$W$1,)) -> C280 260_x000D_D280 | I129: =IF(((COLUMNS($A:I))/2)>$W$1,"",OFFSET(recherche_multiple!$O$25,((ROWS($1:129)-1)/2)*$W$1,)) | K129: =IF(((COLUMNS($A:K))/2)>$W$1,"",OFFSET(recherche_multiple!$O$26,((ROWS($1:129)-1)/2)*$W$1,)) | M129: =IF(((COLUMNS($A:M))/2)>$W$1,"",OFFSET(recherche_multiple!$O$27,((ROWS($1:129)-1)/2)*$W$1,)) | O129: =IF(((COLUMNS($A:O))/2)>$W$1,"",OFFSET(recherche_multiple!$O$28,((ROWS($1:129)-1)/2)*$W$1,)) | Q129: =IF(((COLUMNS($A:Q))/2)>$W$1,"",OFFSET(recherche_multiple!$O$29,((ROWS($1:129)-1)/2)*$W$1,))
A131: =IF(((COLUMNS($A:A))/2)>$W$1,"",OFFSET(recherche_multiple!$O$21,((ROWS($1:131)-1)/2)*$W$1,)) -> C281 261_x000D_D281 | C131: =IF(((COLUMNS($A:C))/2)>$W$1,"",OFFSET(recherche_multiple!$O$22,((ROWS($1:131)-1)/2)*$W$1,)) -> C282 262_x000D_D282 | E131: =IF(((COLUMNS($A:E))/2)>$W$1,"",OFFSET(recherche_multiple!$O$23,((ROWS($1:131)-1)/2)*$W$1,)) -> C283 263_x000D_D283 | G131: =IF(((COLUMNS($A:G))/2)>$W$1,"",OFFSET(recherche_multiple!$O$24,((ROWS($1:131)-1)/2)*$W$1,)) -> C284 264_x000D_D284 | I131: =IF(((COLUMNS($A:I))/2)>$W$1,"",OFFSET(recherche_multiple!$O$25,((ROWS($1:131)-1)/2)*$W$1,)) | K131: =IF(((COLUMNS($A:K))/2)>$W$1,"",OFFSET(recherche_multiple!$O$26,((ROWS($1:131)-1)/2)*$W$1,)) | M131: =IF(((COLUMNS($A:M))/2)>$W$1,"",OFFSET(recherche_multiple!$O$27,((ROWS($1:131)-1)/2)*$W$1,)) | O131: =IF(((COLUMNS($A:O))/2)>$W$1,"",OFFSET(recherche_multiple!$O$28,((ROWS($1:131)-1)/2)*$W$1,)) | Q131: =IF(((COLUMNS($A:Q))/2)>$W$1,"",OFFSET(recherche_multiple!$O$29,((ROWS($1:131)-1)/2)*$W$1,))
A133: =IF(((COLUMNS($A:A))/2)>$W$1,"",OFFSET(recherche_multiple!$O$21,((ROWS($1:133)-1)/2)*$W$1,)) -> C285 265_x000D_D285 | C133: =IF(((COLUMNS($A:C))/2)>$W$1,"",OFFSET(recherche_multiple!$O$22,((ROWS($1:133)-1)/2)*$W$1,)) -> C286 266_x000D_D286 | E133: =IF(((COLUMNS($A:E))/2)>$W$1,"",OFFSET(recherche_multiple!$O$23,((ROWS($1:133)-1)/2)*$W$1,)) -> C287 267_x000D_D287 | G133: =IF(((COLUMNS($A:G))/2)>$W$1,"",OFFSET(recherche_multiple!$O$24,((ROWS($1:133)-1)/2)*$W$1,)) -> C288 268_x000D_D288 | I133: =IF(((COLUMNS($A:I))/2)>$W$1,"",OFFSET(recherche_multiple!$O$25,((ROWS($1:133)-1)/2)*$W$1,)) | K133: =IF(((COLUMNS($A:K))/2)>$W$1,"",OFFSET(recherche_multiple!$O$26,((ROWS($1:133)-1)/2)*$W$1,)) | M133: =IF(((COLUMNS($A:M))/2)>$W$1,"",OFFSET(recherche_multiple!$O$27,((ROWS($1:133)-1)/2)*$W$1,)) | O133: =IF(((COLUMNS($A:O))/2)>$W$1,"",OFFSET(recherche_multiple!$O$28,((ROWS($1:133)-1)/2)*$W$1,)) | Q133: =IF(((COLUMNS($A:Q))/2)>$W$1,"",OFFSET(recherche_multiple!$O$29,((ROWS($1:133)-1)/2)*$W$1,))
A135: =IF(((COLUMNS($A:A))/2)>$W$1,"",OFFSET(recherche_multiple!$O$21,((ROWS($1:135)-1)/2)*$W$1,)) -> C289 269_x000D_D289 | C135: =IF(((COLUMNS($A:C))/2)>$W$1,"",OFFSET(recherche_multiple!$O$22,((ROWS($1:135)-1)/2)*$W$1,)) -> C290 270_x000D_D290 | E135: =IF(((COLUMNS($A:E))/2)>$W$1,"",OFFSET(recherche_multiple!$O$23,((ROWS($1:135)-1)/2)*$W$1,)) -> C291 271_x000D_D291 | G135: =IF(((COLUMNS($A:G))/2)>$W$1,"",OFFSET(recherche_multiple!$O$24,((ROWS($1:135)-1)/2)*$W$1,)) -> C292 272_x000D_D292 | I135: =IF(((COLUMNS($A:I))/2)>$W$1,"",OFFSET(recherche_multiple!$O$25,((ROWS($1:135)-1)/2)*$W$1,)) | K135: =IF(((COLUMNS($A:K))/2)>$W$1,"",OFFSET(recherche_multiple!$O$26,((ROWS($1:135)-1)/2)*$W$1,)) | M135: =IF(((COLUMNS($A:M))/2)>$W$1,"",OFFSET(recherche_multiple!$O$27,((ROWS($1:135)-1)/2)*$W$1,)) | O135: =IF(((COLUMNS($A:O))/2)>$W$1,"",OFFSET(recherche_multiple!$O$28,((ROWS($1:135)-1)/2)*$W$1,)) | Q135: =IF(((COLUMNS($A:Q))/2)>$W$1,"",OFFSET(recherche_multiple!$O$29,((ROWS($1:135)-1)/2)*$W$1,))
A137: =IF(((COLUMNS($A:A))/2)>$W$1,"",OFFSET(recherche_multiple!$O$21,((ROWS($1:137)-1)/2)*$W$1,)) -> C293 273_x000D_D293 | C137: =IF(((COLUMNS($A:C))/2)>$W$1,"",OFFSET(recherche_multiple!$O$22,((ROWS($1:137)-1)/2)*$W$1,)) -> C294 274_x000D_D294 | E137: =IF(((COLUMNS($A:E))/2)>$W$1,"",OFFSET(recherche_multiple!$O$23,((ROWS($1:137)-1)/2)*$W$1,)) -> C295 275_x000D_D295 | G137: =IF(((COLUMNS($A:G))/2)>$W$1,"",OFFSET(recherche_multiple!$O$24,((ROWS($1:137)-1)/2)*$W$1,)) -> C296 276_x000D_D296 | I137: =IF(((COLUMNS($A:I))/2)>$W$1,"",OFFSET(recherche_multiple!$O$25,((ROWS($1:137)-1)/2)*$W$1,)) | K137: =IF(((COLUMNS($A:K))/2)>$W$1,"",OFFSET(recherche_multiple!$O$26,((ROWS($1:137)-1)/2)*$W$1,)) | M137: =IF(((COLUMNS($A:M))/2)>$W$1,"",OFFSET(recherche_multiple!$O$27,((ROWS($1:137)-1)/2)*$W$1,)) | O137: =IF(((COLUMNS($A:O))/2)>$W$1,"",OFFSET(recherche_multiple!$O$28,((ROWS($1:137)-1)/2)*$W$1,)) | Q137: =IF(((COLUMNS($A:Q))/2)>$W$1,"",OFFSET(recherche_multiple!$O$29,((ROWS($1:137)-1)/2)*$W$1,))
A139: =IF(((COLUMNS($A:A))/2)>$W$1,"",OFFSET(recherche_multiple!$O$21,((ROWS($1:139)-1)/2)*$W$1,)) -> C297 277_x000D_D297 | C139: =IF(((COLUMNS($A:C))/2)>$W$1,"",OFFSET(recherche_multiple!$O$22,((ROWS($1:139)-1)/2)*$W$1,)) -> C298 278_x000D_D298 | E139: =IF(((COLUMNS($A:E))/2)>$W$1,"",OFFSET(recherche_multiple!$O$23,((ROWS($1:139)-1)/2)*$W$1,)) -> C299 279_x000D_D299 | G139: =IF(((COLUMNS($A:G))/2)>$W$1,"",OFFSET(recherche_multiple!$O$24,((ROWS($1:139)-1)/2)*$W$1,)) -> C300 280_x000D_D300 | I139: =IF(((COLUMNS($A:I))/2)>$W$1,"",OFFSET(recherche_multiple!$O$25,((ROWS($1:139)-1)/2)*$W$1,)) | K139: =IF(((COLUMNS($A:K))/2)>$W$1,"",OFFSET(recherche_multiple!$O$26,((ROWS($1:139)-1)/2)*$W$1,)) | M139: =IF(((COLUMNS($A:M))/2)>$W$1,"",OFFSET(recherche_multiple!$O$27,((ROWS($1:139)-1)/2)*$W$1,)) | O139: =IF(((COLUMNS($A:O))/2)>$W$1,"",OFFSET(recherche_multiple!$O$28,((ROWS($1:139)-1)/2)*$W$1,)) | Q139: =IF(((COLUMNS($A:Q))/2)>$W$1,"",OFFSET(recherche_multiple!$O$29,((ROWS($1:139)-1)/2)*$W$1,))
A141: =IF(((COLUMNS($A:A))/2)>$W$1,"",OFFSET(recherche_multiple!$O$21,((ROWS($1:141)-1)/2)*$W$1,)) -> C301 281_x000D_D301 | C141: =IF(((COLUMNS($A:C))/2)>$W$1,"",OFFSET(recherche_multiple!$O$22,((ROWS($1:141)-1)/2)*$W$1,)) -> C302 282_x000D_D302 | E141: =IF(((COLUMNS($A:E))/2)>$W$1,"",OFFSET(recherche_multiple!$O$23,((ROWS($1:141)-1)/2)*$W$1,)) -> C303 283_x000D_D303 | G141: =IF(((COLUMNS($A:G))/2)>$W$1,"",OFFSET(recherche_multiple!$O$24,((ROWS($1:141)-1)/2)*$W$1,)) -> C304 284_x000D_D304 | I141: =IF(((COLUMNS($A:I))/2)>$W$1,"",OFFSET(recherche_multiple!$O$25,((ROWS($1:141)-1)/2)*$W$1,)) | K141: =IF(((COLUMNS($A:K))/2)>$W$1,"",OFFSET(recherche_multiple!$O$26,((ROWS($1:141)-1)/2)*$W$1,)) | M141: =IF(((COLUMNS($A:M))/2)>$W$1,"",OFFSET(recherche_multiple!$O$27,((ROWS($1:141)-1)/2)*$W$1,)) | O141: =IF(((COLUMNS($A:O))/2)>$W$1,"",OFFSET(recherche_multiple!$O$28,((ROWS($1:141)-1)/2)*$W$1,)) | Q141: =IF(((COLUMNS($A:Q))/2)>$W$1,"",OFFSET(recherche_multiple!$O$29,((ROWS($1:141)-1)/2)*$W$1,))
A143: =IF(((COLUMNS($A:A))/2)>$W$1,"",OFFSET(recherche_multiple!$O$21,((ROWS($1:143)-1)/2)*$W$1,)) -> C305 285_x000D_D305 | C143: =IF(((COLUMNS($A:C))/2)>$W$1,"",OFFSET(recherche_multiple!$O$22,((ROWS($1:143)-1)/2)*$W$1,)) -> C306 286_x000D_D306 | E143: =IF(((COLUMNS($A:E))/2)>$W$1,"",OFFSET(recherche_multiple!$O$23,((ROWS($1:143)-1)/2)*$W$1,)) -> C307 287_x000D_D307 | G143: =IF(((COLUMNS($A:G))/2)>$W$1,"",OFFSET(recherche_multiple!$O$24,((ROWS($1:143)-1)/2)*$W$1,)) -> C308 288_x000D_D308 | I143: =IF(((COLUMNS($A:I))/2)>$W$1,"",OFFSET(recherche_multiple!$O$25,((ROWS($1:143)-1)/2)*$W$1,)) | K143: =IF(((COLUMNS($A:K))/2)>$W$1,"",OFFSET(recherche_multiple!$O$26,((ROWS($1:143)-1)/2)*$W$1,)) | M143: =IF(((COLUMNS($A:M))/2)>$W$1,"",OFFSET(recherche_multiple!$O$27,((ROWS($1:143)-1)/2)*$W$1,)) | O143: =IF(((COLUMNS($A:O))/2)>$W$1,"",OFFSET(recherche_multiple!$O$28,((ROWS($1:143)-1)/2)*$W$1,)) | Q143: =IF(((COLUMNS($A:Q))/2)>$W$1,"",OFFSET(recherche_multiple!$O$29,((ROWS($1:143)-1)/2)*$W$1,))
A145: =IF(((COLUMNS($A:A))/2)>$W$1,"",OFFSET(recherche_multiple!$O$21,((ROWS($1:145)-1)/2)*$W$1,)) -> C309 289_x000D_D309 | C145: =IF(((COLUMNS($A:C))/2)>$W$1,"",OFFSET(recherche_multiple!$O$22,((ROWS($1:145)-1)/2)*$W$1,)) -> C310 290_x000D_D310 | E145: =IF(((COLUMNS($A:E))/2)>$W$1,"",OFFSET(recherche_multiple!$O$23,((ROWS($1:145)-1)/2)*$W$1,)) -> C311 291_x000D_D311 | G145: =IF(((COLUMNS($A:G))/2)>$W$1,"",OFFSET(recherche_multiple!$O$24,((ROWS($1:145)-1)/2)*$W$1,)) -> C312 292_x000D_D312 | I145: =IF(((COLUMNS($A:I))/2)>$W$1,"",OFFSET(recherche_multiple!$O$25,((ROWS($1:145)-1)/2)*$W$1,)) | K145: =IF(((COLUMNS($A:K))/2)>$W$1,"",OFFSET(recherche_multiple!$O$26,((ROWS($1:145)-1)/2)*$W$1,)) | M145: =IF(((COLUMNS($A:M))/2)>$W$1,"",OFFSET(recherche_multiple!$O$27,((ROWS($1:145)-1)/2)*$W$1,)) | O145: =IF(((COLUMNS($A:O))/2)>$W$1,"",OFFSET(recherche_multiple!$O$28,((ROWS($1:145)-1)/2)*$W$1,)) | Q145: =IF(((COLUMNS($A:Q))/2)>$W$1,"",OFFSET(recherche_multiple!$O$29,((ROWS($1:145)-1)/2)*$W$1,))
A147: =IF(((COLUMNS($A:A))/2)>$W$1,"",OFFSET(recherche_multiple!$O$21,((ROWS($1:147)-1)/2)*$W$1,)) -> C313 293_x000D_D313 | C147: =IF(((COLUMNS($A:C))/2)>$W$1,"",OFFSET(recherche_multiple!$O$22,((ROWS($1:147)-1)/2)*$W$1,)) -> C314 294_x000D_D314 | E147: =IF(((COLUMNS($A:E))/2)>$W$1,"",OFFSET(recherche_multiple!$O$23,((ROWS($1:147)-1)/2)*$W$1,)) -> C315 295_x000D_D315 | G147: =IF(((COLUMNS($A:G))/2)>$W$1,"",OFFSET(recherche_multiple!$O$24,((ROWS($1:147)-1)/2)*$W$1,)) -> C316 296_x000D_D316 | I147: =IF(((COLUMNS($A:I))/2)>$W$1,"",OFFSET(recherche_multiple!$O$25,((ROWS($1:147)-1)/2)*$W$1,)) | K147: =IF(((COLUMNS($A:K))/2)>$W$1,"",OFFSET(recherche_multiple!$O$26,((ROWS($1:147)-1)/2)*$W$1,)) | M147: =IF(((COLUMNS($A:M))/2)>$W$1,"",OFFSET(recherche_multiple!$O$27,((ROWS($1:147)-1)/2)*$W$1,)) | O147: =IF(((COLUMNS($A:O))/2)>$W$1,"",OFFSET(recherche_multiple!$O$28,((ROWS($1:147)-1)/2)*$W$1,)) | Q147: =IF(((COLUMNS($A:Q))/2)>$W$1,"",OFFSET(recherche_multiple!$O$29,((ROWS($1:147)-1)/2)*$W$1,))
A149: =IF(((COLUMNS($A:A))/2)>$W$1,"",OFFSET(recherche_multiple!$O$21,((ROWS($1:149)-1)/2)*$W$1,)) -> C317 297_x000D_D317 | C149: =IF(((COLUMNS($A:C))/2)>$W$1,"",OFFSET(recherche_multiple!$O$22,((ROWS($1:149)-1)/2)*$W$1,)) -> C318 298_x000D_D318 | E149: =IF(((COLUMNS($A:E))/2)>$W$1,"",OFFSET(recherche_multiple!$O$23,((ROWS($1:149)-1)/2)*$W$1,)) -> C319 299_x000D_D319 | G149: =IF(((COLUMNS($A:G))/2)>$W$1,"",OFFSET(recherche_multiple!$O$24,((ROWS($1:149)-1)/2)*$W$1,)) -> C320 300_x000D_D320 | I149: =IF(((COLUMNS($A:I))/2)>$W$1,"",OFFSET(recherche_multiple!$O$25,((ROWS($1:149)-1)/2)*$W$1,)) | K149: =IF(((COLUMNS($A:K))/2)>$W$1,"",OFFSET(recherche_multiple!$O$26,((ROWS($1:149)-1)/2)*$W$1,)) | M149: =IF(((COLUMNS($A:M))/2)>$W$1,"",OFFSET(recherche_multiple!$O$27,((ROWS($1:149)-1)/2)*$W$1,)) | O149: =IF(((COLUMNS($A:O))/2)>$W$1,"",OFFSET(recherche_multiple!$O$28,((ROWS($1:149)-1)/2)*$W$1,)) | Q149: =IF(((COLUMNS($A:Q))/2)>$W$1,"",OFFSET(recherche_multiple!$O$29,((ROWS($1:149)-1)/2)*$W$1,))
A151: =IF(((COLUMNS($A:A))/2)>$W$1,"",OFFSET(recherche_multiple!$O$21,((ROWS($1:151)-1)/2)*$W$1,)) -> C321 301_x000D_D321 | C151: =IF(((COLUMNS($A:C))/2)>$W$1,"",OFFSET(recherche_multiple!$O$22,((ROWS($1:151)-1)/2)*$W$1,)) -> C322 302_x000D_D322 | E151: =IF(((COLUMNS($A:E))/2)>$W$1,"",OFFSET(recherche_multiple!$O$23,((ROWS($1:151)-1)/2)*$W$1,)) -> C323 303_x000D_D323 | G151: =IF(((COLUMNS($A:G))/2)>$W$1,"",OFFSET(recherche_multiple!$O$24,((ROWS($1:151)-1)/2)*$W$1,)) -> C324 304_x000D_D324 | I151: =IF(((COLUMNS($A:I))/2)>$W$1,"",OFFSET(recherche_multiple!$O$25,((ROWS($1:151)-1)/2)*$W$1,)) | K151: =IF(((COLUMNS($A:K))/2)>$W$1,"",OFFSET(recherche_multiple!$O$26,((ROWS($1:151)-1)/2)*$W$1,)) | M151: =IF(((COLUMNS($A:M))/2)>$W$1,"",OFFSET(recherche_multiple!$O$27,((ROWS($1:151)-1)/2)*$W$1,)) | O151: =IF(((COLUMNS($A:O))/2)>$W$1,"",OFFSET(recherche_multiple!$O$28,((ROWS($1:151)-1)/2)*$W$1,)) | Q151: =IF(((COLUMNS($A:Q))/2)>$W$1,"",OFFSET(recherche_multiple!$O$29,((ROWS($1:151)-1)/2)*$W$1,))
A153: =IF(((COLUMNS($A:A))/2)>$W$1,"",OFFSET(recherche_multiple!$O$21,((ROWS($1:153)-1)/2)*$W$1,)) -> C325 305_x000D_D325 | C153: =IF(((COLUMNS($A:C))/2)>$W$1,"",OFFSET(recherche_multiple!$O$22,((ROWS($1:153)-1)/2)*$W$1,)) -> C326 306_x000D_D326 | E153: =IF(((COLUMNS($A:E))/2)>$W$1,"",OFFSET(recherche_multiple!$O$23,((ROWS($1:153)-1)/2)*$W$1,)) -> C327 307_x000D_D327 | G153: =IF(((COLUMNS($A:G))/2)>$W$1,"",OFFSET(recherche_multiple!$O$24,((ROWS($1:153)-1)/2)*$W$1,)) -> C328 308_x000D_D328 | I153: =IF(((COLUMNS($A:I))/2)>$W$1,"",OFFSET(recherche_multiple!$O$25,((ROWS($1:153)-1)/2)*$W$1,)) | K153: =IF(((COLUMNS($A:K))/2)>$W$1,"",OFFSET(recherche_multiple!$O$26,((ROWS($1:153)-1)/2)*$W$1,)) | M153: =IF(((COLUMNS($A:M))/2)>$W$1,"",OFFSET(recherche_multiple!$O$27,((ROWS($1:153)-1)/2)*$W$1,)) | O153: =IF(((COLUMNS($A:O))/2)>$W$1,"",OFFSET(recherche_multiple!$O$28,((ROWS($1:153)-1)/2)*$W$1,)) | Q153: =IF(((COLUMNS($A:Q))/2)>$W$1,"",OFFSET(recherche_multiple!$O$29,((ROWS($1:153)-1)/2)*$W$1,))
A155: =IF(((COLUMNS($A:A))/2)>$W$1,"",OFFSET(recherche_multiple!$O$21,((ROWS($1:155)-1)/2)*$W$1,)) -> C329 309_x000D_D329 | C155: =IF(((COLUMNS($A:C))/2)>$W$1,"",OFFSET(recherche_multiple!$O$22,((ROWS($1:155)-1)/2)*$W$1,)) -> C330 310_x000D_D330 | E155: =IF(((COLUMNS($A:E))/2)>$W$1,"",OFFSET(recherche_multiple!$O$23,((ROWS($1:155)-1)/2)*$W$1,)) -> C331 311_x000D_D331 | G155: =IF(((COLUMNS($A:G))/2)>$W$1,"",OFFSET(recherche_multiple!$O$24,((ROWS($1:155)-1)/2)*$W$1,)) -> C332 312_x000D_D332 | I155: =IF(((COLUMNS($A:I))/2)>$W$1,"",OFFSET(recherche_multiple!$O$25,((ROWS($1:155)-1)/2)*$W$1,)) | K155: =IF(((COLUMNS($A:K))/2)>$W$1,"",OFFSET(recherche_multiple!$O$26,((ROWS($1:155)-1)/2)*$W$1,)) | M155: =IF(((COLUMNS($A:M))/2)>$W$1,"",OFFSET(recherche_multiple!$O$27,((ROWS($1:155)-1)/2)*$W$1,)) | O155: =IF(((COLUMNS($A:O))/2)>$W$1,"",OFFSET(recherche_multiple!$O$28,((ROWS($1:155)-1)/2)*$W$1,)) | Q155: =IF(((COLUMNS($A:Q))/2)>$W$1,"",OFFSET(recherche_multiple!$O$29,((ROWS($1:155)-1)/2)*$W$1,))
A157: =IF(((COLUMNS($A:A))/2)>$W$1,"",OFFSET(recherche_multiple!$O$21,((ROWS($1:157)-1)/2)*$W$1,)) -> C333 313_x000D_D333 | C157: =IF(((COLUMNS($A:C))/2)>$W$1,"",OFFSET(recherche_multiple!$O$22,((ROWS($1:157)-1)/2)*$W$1,)) -> C334 314_x000D_D334 | E157: =IF(((COLUMNS($A:E))/2)>$W$1,"",OFFSET(recherche_multiple!$O$23,((ROWS($1:157)-1)/2)*$W$1,)) -> C335 315_x000D_D335 | G157: =IF(((COLUMNS($A:G))/2)>$W$1,"",OFFSET(recherche_multiple!$O$24,((ROWS($1:157)-1)/2)*$W$1,)) -> C336 316_x000D_D336 | I157: =IF(((COLUMNS($A:I))/2)>$W$1,"",OFFSET(recherche_multiple!$O$25,((ROWS($1:157)-1)/2)*$W$1,)) | K157: =IF(((COLUMNS($A:K))/2)>$W$1,"",OFFSET(recherche_multiple!$O$26,((ROWS($1:157)-1)/2)*$W$1,)) | M157: =IF(((COLUMNS($A:M))/2)>$W$1,"",OFFSET(recherche_multiple!$O$27,((ROWS($1:157)-1)/2)*$W$1,)) | O157: =IF(((COLUMNS($A:O))/2)>$W$1,"",OFFSET(recherche_multiple!$O$28,((ROWS($1:157)-1)/2)*$W$1,)) | Q157: =IF(((COLUMNS($A:Q))/2)>$W$1,"",OFFSET(recherche_multiple!$O$29,((ROWS($1:157)-1)/2)*$W$1,))
A159: =IF(((COLUMNS($A:A))/2)>$W$1,"",OFFSET(recherche_multiple!$O$21,((ROWS($1:159)-1)/2)*$W$1,)) -> C337 317_x000D_D337 | C159: =IF(((COLUMNS($A:C))/2)>$W$1,"",OFFSET(recherche_multiple!$O$22,((ROWS($1:159)-1)/2)*$W$1,)) -> C338 318_x000D_D338 | E159: =IF(((COLUMNS($A:E))/2)>$W$1,"",OFFSET(recherche_multiple!$O$23,((ROWS($1:159)-1)/2)*$W$1,)) -> C339 319_x000D_D339 | G159: =IF(((COLUMNS($A:G))/2)>$W$1,"",OFFSET(recherche_multiple!$O$24,((ROWS($1:159)-1)/2)*$W$1,)) -> C340 320_x000D_D340 | I159: =IF(((COLUMNS($A:I))/2)>$W$1,"",OFFSET(recherche_multiple!$O$25,((ROWS($1:159)-1)/2)*$W$1,)) | K159: =IF(((COLUMNS($A:K))/2)>$W$1,"",OFFSET(recherche_multiple!$O$26,((ROWS($1:159)-1)/2)*$W$1,)) | M159: =IF(((COLUMNS($A:M))/2)>$W$1,"",OFFSET(recherche_multiple!$O$27,((ROWS($1:159)-1)/2)*$W$1,)) | O159: =IF(((COLUMNS($A:O))/2)>$W$1,"",OFFSET(recherche_multiple!$O$28,((ROWS($1:159)-1)/2)*$W$1,)) | Q159: =IF(((COLUMNS($A:Q))/2)>$W$1,"",OFFSET(recherche_multiple!$O$29,((ROWS($1:159)-1)/2)*$W$1,))
A161: =IF(((COLUMNS($A:A))/2)>$W$1,"",OFFSET(recherche_multiple!$O$21,((ROWS($1:161)-1)/2)*$W$1,)) -> C341 321_x000D_D341 | C161: =IF(((COLUMNS($A:C))/2)>$W$1,"",OFFSET(recherche_multiple!$O$22,((ROWS($1:161)-1)/2)*$W$1,)) -> C342 322_x000D_D342 | E161: =IF(((COLUMNS($A:E))/2)>$W$1,"",OFFSET(recherche_multiple!$O$23,((ROWS($1:161)-1)/2)*$W$1,)) -> C343 323_x000D_D343 | G161: =IF(((COLUMNS($A:G))/2)>$W$1,"",OFFSET(recherche_multiple!$O$24,((ROWS($1:161)-1)/2)*$W$1,)) -> C344 324_x000D_D344 | I161: =IF(((COLUMNS($A:I))/2)>$W$1,"",OFFSET(recherche_multiple!$O$25,((ROWS($1:161)-1)/2)*$W$1,)) | K161: =IF(((COLUMNS($A:K))/2)>$W$1,"",OFFSET(recherche_multiple!$O$26,((ROWS($1:161)-1)/2)*$W$1,)) | M161: =IF(((COLUMNS($A:M))/2)>$W$1,"",OFFSET(recherche_multiple!$O$27,((ROWS($1:161)-1)/2)*$W$1,)) | O161: =IF(((COLUMNS($A:O))/2)>$W$1,"",OFFSET(recherche_multiple!$O$28,((ROWS($1:161)-1)/2)*$W$1,)) | Q161: =IF(((COLUMNS($A:Q))/2)>$W$1,"",OFFSET(recherche_multiple!$O$29,((ROWS($1:161)-1)/2)*$W$1,))
A163: =IF(((COLUMNS($A:A))/2)>$W$1,"",OFFSET(recherche_multiple!$O$21,((ROWS($1:163)-1)/2)*$W$1,)) -> C345 325_x000D_D345 | C163: =IF(((COLUMNS($A:C))/2)>$W$1,"",OFFSET(recherche_multiple!$O$22,((ROWS($1:163)-1)/2)*$W$1,)) -> C346 326_x000D_D346 | E163: =IF(((COLUMNS($A:E))/2)>$W$1,"",OFFSET(recherche_multiple!$O$23,((ROWS($1:163)-1)/2)*$W$1,)) -> C347 327_x000D_D347 | G163: =IF(((COLUMNS($A:G))/2)>$W$1,"",OFFSET(recherche_multiple!$O$24,((ROWS($1:163)-1)/2)*$W$1,)) -> C348 328_x000D_D348 | I163: =IF(((COLUMNS($A:I))/2)>$W$1,"",OFFSET(recherche_multiple!$O$25,((ROWS($1:163)-1)/2)*$W$1,)) | K163: =IF(((COLUMNS($A:K))/2)>$W$1,"",OFFSET(recherche_multiple!$O$26,((ROWS($1:163)-1)/2)*$W$1,)) | M163: =IF(((COLUMNS($A:M))/2)>$W$1,"",OFFSET(recherche_multiple!$O$27,((ROWS($1:163)-1)/2)*$W$1,)) | O163: =IF(((COLUMNS($A:O))/2)>$W$1,"",OFFSET(recherche_multiple!$O$28,((ROWS($1:163)-1)/2)*$W$1,)) | Q163: =IF(((COLUMNS($A:Q))/2)>$W$1,"",OFFSET(recherche_multiple!$O$29,((ROWS($1:163)-1)/2)*$W$1,))
A165: =IF(((COLUMNS($A:A))/2)>$W$1,"",OFFSET(recherche_multiple!$O$21,((ROWS($1:165)-1)/2)*$W$1,)) -> C349 329_x000D_D349 | C165: =IF(((COLUMNS($A:C))/2)>$W$1,"",OFFSET(recherche_multiple!$O$22,((ROWS($1:165)-1)/2)*$W$1,)) -> C350 330_x000D_D350 | E165: =IF(((COLUMNS($A:E))/2)>$W$1,"",OFFSET(recherche_multiple!$O$23,((ROWS($1:165)-1)/2)*$W$1,)) -> C351 331_x000D_D351 | G165: =IF(((COLUMNS($A:G))/2)>$W$1,"",OFFSET(recherche_multiple!$O$24,((ROWS($1:165)-1)/2)*$W$1,)) -> C352 332_x000D_D352 | I165: =IF(((COLUMNS($A:I))/2)>$W$1,"",OFFSET(recherche_multiple!$O$25,((ROWS($1:165)-1)/2)*$W$1,)) | K165: =IF(((COLUMNS($A:K))/2)>$W$1,"",OFFSET(recherche_multiple!$O$26,((ROWS($1:165)-1)/2)*$W$1,)) | M165: =IF(((COLUMNS($A:M))/2)>$W$1,"",OFFSET(recherche_multiple!$O$27,((ROWS($1:165)-1)/2)*$W$1,)) | O165: =IF(((COLUMNS($A:O))/2)>$W$1,"",OFFSET(recherche_multiple!$O$28,((ROWS($1:165)-1)/2)*$W$1,)) | Q165: =IF(((COLUMNS($A:Q))/2)>$W$1,"",OFFSET(recherche_multiple!$O$29,((ROWS($1:165)-1)/2)*$W$1,))
A167: =IF(((COLUMNS($A:A))/2)>$W$1,"",OFFSET(recherche_multiple!$O$21,((ROWS($1:167)-1)/2)*$W$1,)) -> C353 333_x000D_D353 | C167: =IF(((COLUMNS($A:C))/2)>$W$1,"",OFFSET(recherche_multiple!$O$22,((ROWS($1:167)-1)/2)*$W$1,)) -> C354 334_x000D_D354 | E167: =IF(((COLUMNS($A:E))/2)>$W$1,"",OFFSET(recherche_multiple!$O$23,((ROWS($1:167)-1)/2)*$W$1,)) -> C355 335_x000D_D355 | G167: =IF(((COLUMNS($A:G))/2)>$W$1,"",OFFSET(recherche_multiple!$O$24,((ROWS($1:167)-1)/2)*$W$1,)) -> C356 336_x000D_D356 | I167: =IF(((COLUMNS($A:I))/2)>$W$1,"",OFFSET(recherche_multiple!$O$25,((ROWS($1:167)-1)/2)*$W$1,)) | K167: =IF(((COLUMNS($A:K))/2)>$W$1,"",OFFSET(recherche_multiple!$O$26,((ROWS($1:167)-1)/2)*$W$1,)) | M167: =IF(((COLUMNS($A:M))/2)>$W$1,"",OFFSET(recherche_multiple!$O$27,((ROWS($1:167)-1)/2)*$W$1,)) | O167: =IF(((COLUMNS($A:O))/2)>$W$1,"",OFFSET(recherche_multiple!$O$28,((ROWS($1:167)-1)/2)*$W$1,)) | Q167: =IF(((COLUMNS($A:Q))/2)>$W$1,"",OFFSET(recherche_multiple!$O$29,((ROWS($1:167)-1)/2)*$W$1,))
A169: =IF(((COLUMNS($A:A))/2)>$W$1,"",OFFSET(recherche_multiple!$O$21,((ROWS($1:169)-1)/2)*$W$1,)) -> C357 337_x000D_D357 | C169: =IF(((COLUMNS($A:C))/2)>$W$1,"",OFFSET(recherche_multiple!$O$22,((ROWS($1:169)-1)/2)*$W$1,)) -> C358 338_x000D_D358 | E169: =IF(((COLUMNS($A:E))/2)>$W$1,"",OFFSET(recherche_multiple!$O$23,((ROWS($1:169)-1)/2)*$W$1,)) -> C359 339_x000D_D359 | G169: =IF(((COLUMNS($A:G))/2)>$W$1,"",OFFSET(recherche_multiple!$O$24,((ROWS($1:169)-1)/2)*$W$1,)) -> C360 340_x000D_D360 | I169: =IF(((COLUMNS($A:I))/2)>$W$1,"",OFFSET(recherche_multiple!$O$25,((ROWS($1:169)-1)/2)*$W$1,)) | K169: =IF(((COLUMNS($A:K))/2)>$W$1,"",OFFSET(recherche_multiple!$O$26,((ROWS($1:169)-1)/2)*$W$1,)) | M169: =IF(((COLUMNS($A:M))/2)>$W$1,"",OFFSET(recherche_multiple!$O$27,((ROWS($1:169)-1)/2)*$W$1,)) | O169: =IF(((COLUMNS($A:O))/2)>$W$1,"",OFFSET(recherche_multiple!$O$28,((ROWS($1:169)-1)/2)*$W$1,)) | Q169: =IF(((COLUMNS($A:Q))/2)>$W$1,"",OFFSET(recherche_multiple!$O$29,((ROWS($1:169)-1)/2)*$W$1,))
A171: =IF(((COLUMNS($A:A))/2)>$W$1,"",OFFSET(recherche_multiple!$O$21,((ROWS($1:171)-1)/2)*$W$1,)) -> C361 341_x000D_D361 | C171: =IF(((COLUMNS($A:C))/2)>$W$1,"",OFFSET(recherche_multiple!$O$22,((ROWS($1:171)-1)/2)*$W$1,)) -> C362 342_x000D_D362 | E171: =IF(((COLUMNS($A:E))/2)>$W$1,"",OFFSET(recherche_multiple!$O$23,((ROWS($1:171)-1)/2)*$W$1,)) -> C363 343_x000D_D363 | G171: =IF(((COLUMNS($A:G))/2)>$W$1,"",OFFSET(recherche_multiple!$O$24,((ROWS($1:171)-1)/2)*$W$1,)) -> C364 344_x000D_D364 | I171: =IF(((COLUMNS($A:I))/2)>$W$1,"",OFFSET(recherche_multiple!$O$25,((ROWS($1:171)-1)/2)*$W$1,)) | K171: =IF(((COLUMNS($A:K))/2)>$W$1,"",OFFSET(recherche_multiple!$O$26,((ROWS($1:171)-1)/2)*$W$1,)) | M171: =IF(((COLUMNS($A:M))/2)>$W$1,"",OFFSET(recherche_multiple!$O$27,((ROWS($1:171)-1)/2)*$W$1,)) | O171: =IF(((COLUMNS($A:O))/2)>$W$1,"",OFFSET(recherche_multiple!$O$28,((ROWS($1:171)-1)/2)*$W$1,)) | Q171: =IF(((COLUMNS($A:Q))/2)>$W$1,"",OFFSET(recherche_multiple!$O$29,((ROWS($1:171)-1)/2)*$W$1,))
A173: =IF(((COLUMNS($A:A))/2)>$W$1,"",OFFSET(recherche_multiple!$O$21,((ROWS($1:173)-1)/2)*$W$1,)) -> C365 345_x000D_D365 | C173: =IF(((COLUMNS($A:C))/2)>$W$1,"",OFFSET(recherche_multiple!$O$22,((ROWS($1:173)-1)/2)*$W$1,)) -> C366 346_x000D_D366 | E173: =IF(((COLUMNS($A:E))/2)>$W$1,"",OFFSET(recherche_multiple!$O$23,((ROWS($1:173)-1)/2)*$W$1,)) -> C367 347_x000D_D367 | G173: =IF(((COLUMNS($A:G))/2)>$W$1,"",OFFSET(recherche_multiple!$O$24,((ROWS($1:173)-1)/2)*$W$1,)) -> C368 348_x000D_D368 | I173: =IF(((COLUMNS($A:I))/2)>$W$1,"",OFFSET(recherche_multiple!$O$25,((ROWS($1:173)-1)/2)*$W$1,)) | K173: =IF(((COLUMNS($A:K))/2)>$W$1,"",OFFSET(recherche_multiple!$O$26,((ROWS($1:173)-1)/2)*$W$1,)) | M173: =IF(((COLUMNS($A:M))/2)>$W$1,"",OFFSET(recherche_multiple!$O$27,((ROWS($1:173)-1)/2)*$W$1,)) | O173: =IF(((COLUMNS($A:O))/2)>$W$1,"",OFFSET(recherche_multiple!$O$28,((ROWS($1:173)-1)/2)*$W$1,)) | Q173: =IF(((COLUMNS($A:Q))/2)>$W$1,"",OFFSET(recherche_multiple!$O$29,((ROWS($1:173)-1)/2)*$W$1,))
A175: =IF(((COLUMNS($A:A))/2)>$W$1,"",OFFSET(recherche_multiple!$O$21,((ROWS($1:175)-1)/2)*$W$1,)) -> C369 349_x000D_D369 | C175: =IF(((COLUMNS($A:C))/2)>$W$1,"",OFFSET(recherche_multiple!$O$22,((ROWS($1:175)-1)/2)*$W$1,)) -> C370 350_x000D_D370 | E175: =IF(((COLUMNS($A:E))/2)>$W$1,"",OFFSET(recherche_multiple!$O$23,((ROWS($1:175)-1)/2)*$W$1,)) -> C371 351_x000D_D371 | G175: =IF(((COLUMNS($A:G))/2)>$W$1,"",OFFSET(recherche_multiple!$O$24,((ROWS($1:175)-1)/2)*$W$1,)) -> C372 352_x000D_D372 | I175: =IF(((COLUMNS($A:I))/2)>$W$1,"",OFFSET(recherche_multiple!$O$25,((ROWS($1:175)-1)/2)*$W$1,)) | K175: =IF(((COLUMNS($A:K))/2)>$W$1,"",OFFSET(recherche_multiple!$O$26,((ROWS($1:175)-1)/2)*$W$1,)) | M175: =IF(((COLUMNS($A:M))/2)>$W$1,"",OFFSET(recherche_multiple!$O$27,((ROWS($1:175)-1)/2)*$W$1,)) | O175: =IF(((COLUMNS($A:O))/2)>$W$1,"",OFFSET(recherche_multiple!$O$28,((ROWS($1:175)-1)/2)*$W$1,)) | Q175: =IF(((COLUMNS($A:Q))/2)>$W$1,"",OFFSET(recherche_multiple!$O$29,((ROWS($1:175)-1)/2)*$W$1,))
A177: =IF(((COLUMNS($A:A))/2)>$W$1,"",OFFSET(recherche_multiple!$O$21,((ROWS($1:177)-1)/2)*$W$1,)) -> C373 353_x000D_D373 | C177: =IF(((COLUMNS($A:C))/2)>$W$1,"",OFFSET(recherche_multiple!$O$22,((ROWS($1:177)-1)/2)*$W$1,)) -> C374 354_x000D_D374 | E177: =IF(((COLUMNS($A:E))/2)>$W$1,"",OFFSET(recherche_multiple!$O$23,((ROWS($1:177)-1)/2)*$W$1,)) -> C375 355_x000D_D375 | G177: =IF(((COLUMNS($A:G))/2)>$W$1,"",OFFSET(recherche_multiple!$O$24,((ROWS($1:177)-1)/2)*$W$1,)) -> C376 356_x000D_D376 | I177: =IF(((COLUMNS($A:I))/2)>$W$1,"",OFFSET(recherche_multiple!$O$25,((ROWS($1:177)-1)/2)*$W$1,)) | K177: =IF(((COLUMNS($A:K))/2)>$W$1,"",OFFSET(recherche_multiple!$O$26,((ROWS($1:177)-1)/2)*$W$1,)) | M177: =IF(((COLUMNS($A:M))/2)>$W$1,"",OFFSET(recherche_multiple!$O$27,((ROWS($1:177)-1)/2)*$W$1,)) | O177: =IF(((COLUMNS($A:O))/2)>$W$1,"",OFFSET(recherche_multiple!$O$28,((ROWS($1:177)-1)/2)*$W$1,)) | Q177: =IF(((COLUMNS($A:Q))/2)>$W$1,"",OFFSET(recherche_multiple!$O$29,((ROWS($1:177)-1)/2)*$W$1,))
A179: =IF(((COLUMNS($A:A))/2)>$W$1,"",OFFSET(recherche_multiple!$O$21,((ROWS($1:179)-1)/2)*$W$1,)) -> C377 357_x000D_D377 | C179: =IF(((COLUMNS($A:C))/2)>$W$1,"",OFFSET(recherche_multiple!$O$22,((ROWS($1:179)-1)/2)*$W$1,)) -> C378 358_x000D_D378 | E179: =IF(((COLUMNS($A:E))/2)>$W$1,"",OFFSET(recherche_multiple!$O$23,((ROWS($1:179)-1)/2)*$W$1,)) -> C379 359_x000D_D379 | G179: =IF(((COLUMNS($A:G))/2)>$W$1,"",OFFSET(recherche_multiple!$O$24,((ROWS($1:179)-1)/2)*$W$1,)) -> C380 360_x000D_D380 | I179: =IF(((COLUMNS($A:I))/2)>$W$1,"",OFFSET(recherche_multiple!$O$25,((ROWS($1:179)-1)/2)*$W$1,)) | K179: =IF(((COLUMNS($A:K))/2)>$W$1,"",OFFSET(recherche_multiple!$O$26,((ROWS($1:179)-1)/2)*$W$1,)) | M179: =IF(((COLUMNS($A:M))/2)>$W$1,"",OFFSET(recherche_multiple!$O$27,((ROWS($1:179)-1)/2)*$W$1,)) | O179: =IF(((COLUMNS($A:O))/2)>$W$1,"",OFFSET(recherche_multiple!$O$28,((ROWS($1:179)-1)/2)*$W$1,)) | Q179: =IF(((COLUMNS($A:Q))/2)>$W$1,"",OFFSET(recherche_multiple!$O$29,((ROWS($1:179)-1)/2)*$W$1,))
A181: =IF(((COLUMNS($A:A))/2)>$W$1,"",OFFSET(recherche_multiple!$O$21,((ROWS($1:181)-1)/2)*$W$1,)) -> C381 361_x000D_D381 | C181: =IF(((COLUMNS($A:C))/2)>$W$1,"",OFFSET(recherche_multiple!$O$22,((ROWS($1:181)-1)/2)*$W$1,)) -> C382 362_x000D_D382 | E181: =IF(((COLUMNS($A:E))/2)>$W$1,"",OFFSET(recherche_multiple!$O$23,((ROWS($1:181)-1)/2)*$W$1,)) -> C383 363_x000D_D383 | G181: =IF(((COLUMNS($A:G))/2)>$W$1,"",OFFSET(recherche_multiple!$O$24,((ROWS($1:181)-1)/2)*$W$1,)) -> C384 364_x000D_D384 | I181: =IF(((COLUMNS($A:I))/2)>$W$1,"",OFFSET(recherche_multiple!$O$25,((ROWS($1:181)-1)/2)*$W$1,)) | K181: =IF(((COLUMNS($A:K))/2)>$W$1,"",OFFSET(recherche_multiple!$O$26,((ROWS($1:181)-1)/2)*$W$1,)) | M181: =IF(((COLUMNS($A:M))/2)>$W$1,"",OFFSET(recherche_multiple!$O$27,((ROWS($1:181)-1)/2)*$W$1,)) | O181: =IF(((COLUMNS($A:O))/2)>$W$1,"",OFFSET(recherche_multiple!$O$28,((ROWS($1:181)-1)/2)*$W$1,)) | Q181: =IF(((COLUMNS($A:Q))/2)>$W$1,"",OFFSET(recherche_multiple!$O$29,((ROWS($1:181)-1)/2)*$W$1,))
A183: =IF(((COLUMNS($A:A))/2)>$W$1,"",OFFSET(recherche_multiple!$O$21,((ROWS($1:183)-1)/2)*$W$1,)) -> C385 365_x000D_D385 | C183: =IF(((COLUMNS($A:C))/2)>$W$1,"",OFFSET(recherche_multiple!$O$22,((ROWS($1:183)-1)/2)*$W$1,)) -> C386 366_x000D_D386 | E183: =IF(((COLUMNS($A:E))/2)>$W$1,"",OFFSET(recherche_multiple!$O$23,((ROWS($1:183)-1)/2)*$W$1,)) -> C387 367_x000D_D387 | G183: =IF(((COLUMNS($A:G))/2)>$W$1,"",OFFSET(recherche_multiple!$O$24,((ROWS($1:183)-1)/2)*$W$1,)) -> C388 368_x000D_D388 | I183: =IF(((COLUMNS($A:I))/2)>$W$1,"",OFFSET(recherche_multiple!$O$25,((ROWS($1:183)-1)/2)*$W$1,)) | K183: =IF(((COLUMNS($A:K))/2)>$W$1,"",OFFSET(recherche_multiple!$O$26,((ROWS($1:183)-1)/2)*$W$1,)) | M183: =IF(((COLUMNS($A:M))/2)>$W$1,"",OFFSET(recherche_multiple!$O$27,((ROWS($1:183)-1)/2)*$W$1,)) | O183: =IF(((COLUMNS($A:O))/2)>$W$1,"",OFFSET(recherche_multiple!$O$28,((ROWS($1:183)-1)/2)*$W$1,)) | Q183: =IF(((COLUMNS($A:Q))/2)>$W$1,"",OFFSET(recherche_multiple!$O$29,((ROWS($1:183)-1)/2)*$W$1,))
A185: =IF(((COLUMNS($A:A))/2)>$W$1,"",OFFSET(recherche_multiple!$O$21,((ROWS($1:185)-1)/2)*$W$1,)) -> C389 369_x000D_D389 | C185: =IF(((COLUMNS($A:C))/2)>$W$1,"",OFFSET(recherche_multiple!$O$22,((ROWS($1:185)-1)/2)*$W$1,)) -> C390 370_x000D_D390 | E185: =IF(((COLUMNS($A:E))/2)>$W$1,"",OFFSET(recherche_multiple!$O$23,((ROWS($1:185)-1)/2)*$W$1,)) -> C391 371_x000D_D391 | G185: =IF(((COLUMNS($A:G))/2)>$W$1,"",OFFSET(recherche_multiple!$O$24,((ROWS($1:185)-1)/2)*$W$1,)) -> C392 372_x000D_D392 | I185: =IF(((COLUMNS($A:I))/2)>$W$1,"",OFFSET(recherche_multiple!$O$25,((ROWS($1:185)-1)/2)*$W$1,)) | K185: =IF(((COLUMNS($A:K))/2)>$W$1,"",OFFSET(recherche_multiple!$O$26,((ROWS($1:185)-1)/2)*$W$1,)) | M185: =IF(((COLUMNS($A:M))/2)>$W$1,"",OFFSET(recherche_multiple!$O$27,((ROWS($1:185)-1)/2)*$W$1,)) | O185: =IF(((COLUMNS($A:O))/2)>$W$1,"",OFFSET(recherche_multiple!$O$28,((ROWS($1:185)-1)/2)*$W$1,)) | Q185: =IF(((COLUMNS($A:Q))/2)>$W$1,"",OFFSET(recherche_multiple!$O$29,((ROWS($1:185)-1)/2)*$W$1,))
A187: =IF(((COLUMNS($A:A))/2)>$W$1,"",OFFSET(recherche_multiple!$O$21,((ROWS($1:187)-1)/2)*$W$1,)) -> C393 373_x000D_D393 | C187: =IF(((COLUMNS($A:C))/2)>$W$1,"",OFFSET(recherche_multiple!$O$22,((ROWS($1:187)-1)/2)*$W$1,)) -> C394 374_x000D_D394 | E187: =IF(((COLUMNS($A:E))/2)>$W$1,"",OFFSET(recherche_multiple!$O$23,((ROWS($1:187)-1)/2)*$W$1,)) -> C395 375_x000D_D395 | G187: =IF(((COLUMNS($A:G))/2)>$W$1,"",OFFSET(recherche_multiple!$O$24,((ROWS($1:187)-1)/2)*$W$1,)) -> C396 376_x000D_D396 | I187: =IF(((COLUMNS($A:I))/2)>$W$1,"",OFFSET(recherche_multiple!$O$25,((ROWS($1:187)-1)/2)*$W$1,)) | K187: =IF(((COLUMNS($A:K))/2)>$W$1,"",OFFSET(recherche_multiple!$O$26,((ROWS($1:187)-1)/2)*$W$1,)) | M187: =IF(((COLUMNS($A:M))/2)>$W$1,"",OFFSET(recherche_multiple!$O$27,((ROWS($1:187)-1)/2)*$W$1,)) | O187: =IF(((COLUMNS($A:O))/2)>$W$1,"",OFFSET(recherche_multiple!$O$28,((ROWS($1:187)-1)/2)*$W$1,)) | Q187: =IF(((COLUMNS($A:Q))/2)>$W$1,"",OFFSET(recherche_multiple!$O$29,((ROWS($1:187)-1)/2)*$W$1,))
A189: =IF(((COLUMNS($A:A))/2)>$W$1,"",OFFSET(recherche_multiple!$O$21,((ROWS($1:189)-1)/2)*$W$1,)) -> C397 377_x000D_D397 | C189: =IF(((COLUMNS($A:C))/2)>$W$1,"",OFFSET(recherche_multiple!$O$22,((ROWS($1:189)-1)/2)*$W$1,)) -> C398 378_x000D_D398 | E189: =IF(((COLUMNS($A:E))/2)>$W$1,"",OFFSET(recherche_multiple!$O$23,((ROWS($1:189)-1)/2)*$W$1,)) -> C399 379_x000D_D399 | G189: =IF(((COLUMNS($A:G))/2)>$W$1,"",OFFSET(recherche_multiple!$O$24,((ROWS($1:189)-1)/2)*$W$1,)) -> C400 380_x000D_D400 | I189: =IF(((COLUMNS($A:I))/2)>$W$1,"",OFFSET(recherche_multiple!$O$25,((ROWS($1:189)-1)/2)*$W$1,)) | K189: =IF(((COLUMNS($A:K))/2)>$W$1,"",OFFSET(recherche_multiple!$O$26,((ROWS($1:189)-1)/2)*$W$1,)) | M189: =IF(((COLUMNS($A:M))/2)>$W$1,"",OFFSET(recherche_multiple!$O$27,((ROWS($1:189)-1)/2)*$W$1,)) | O189: =IF(((COLUMNS($A:O))/2)>$W$1,"",OFFSET(recherche_multiple!$O$28,((ROWS($1:189)-1)/2)*$W$1,)) | Q189: =IF(((COLUMNS($A:Q))/2)>$W$1,"",OFFSET(recherche_multiple!$O$29,((ROWS($1:189)-1)/2)*$W$1,))
A191: =IF(((COLUMNS($A:A))/2)>$W$1,"",OFFSET(recherche_multiple!$O$21,((ROWS($1:191)-1)/2)*$W$1,)) -> C401 381_x000D_D401 | C191: =IF(((COLUMNS($A:C))/2)>$W$1,"",OFFSET(recherche_multiple!$O$22,((ROWS($1:191)-1)/2)*$W$1,)) -> C402 382_x000D_D402 | E191: =IF(((COLUMNS($A:E))/2)>$W$1,"",OFFSET(recherche_multiple!$O$23,((ROWS($1:191)-1)/2)*$W$1,)) -> C403 383_x000D_D403 | G191: =IF(((COLUMNS($A:G))/2)>$W$1,"",OFFSET(recherche_multiple!$O$24,((ROWS($1:191)-1)/2)*$W$1,)) -> C404 384_x000D_D404 | I191: =IF(((COLUMNS($A:I))/2)>$W$1,"",OFFSET(recherche_multiple!$O$25,((ROWS($1:191)-1)/2)*$W$1,)) | K191: =IF(((COLUMNS($A:K))/2)>$W$1,"",OFFSET(recherche_multiple!$O$26,((ROWS($1:191)-1)/2)*$W$1,)) | M191: =IF(((COLUMNS($A:M))/2)>$W$1,"",OFFSET(recherche_multiple!$O$27,((ROWS($1:191)-1)/2)*$W$1,)) | O191: =IF(((COLUMNS($A:O))/2)>$W$1,"",OFFSET(recherche_multiple!$O$28,((ROWS($1:191)-1)/2)*$W$1,)) | Q191: =IF(((COLUMNS($A:Q))/2)>$W$1,"",OFFSET(recherche_multiple!$O$29,((ROWS($1:191)-1)/2)*$W$1,))
A193: =IF(((COLUMNS($A:A))/2)>$W$1,"",OFFSET(recherche_multiple!$O$21,((ROWS($1:193)-1)/2)*$W$1,)) -> C405 385_x000D_D405 | C193: =IF(((COLUMNS($A:C))/2)>$W$1,"",OFFSET(recherche_multiple!$O$22,((ROWS($1:193)-1)/2)*$W$1,)) -> C406 386_x000D_D406 | E193: =IF(((COLUMNS($A:E))/2)>$W$1,"",OFFSET(recherche_multiple!$O$23,((ROWS($1:193)-1)/2)*$W$1,)) -> C407 387_x000D_D407 | G193: =IF(((COLUMNS($A:G))/2)>$W$1,"",OFFSET(recherche_multiple!$O$24,((ROWS($1:193)-1)/2)*$W$1,)) -> C408 388_x000D_D408 | I193: =IF(((COLUMNS($A:I))/2)>$W$1,"",OFFSET(recherche_multiple!$O$25,((ROWS($1:193)-1)/2)*$W$1,)) | K193: =IF(((COLUMNS($A:K))/2)>$W$1,"",OFFSET(recherche_multiple!$O$26,((ROWS($1:193)-1)/2)*$W$1,)) | M193: =IF(((COLUMNS($A:M))/2)>$W$1,"",OFFSET(recherche_multiple!$O$27,((ROWS($1:193)-1)/2)*$W$1,)) | O193: =IF(((COLUMNS($A:O))/2)>$W$1,"",OFFSET(recherche_multiple!$O$28,((ROWS($1:193)-1)/2)*$W$1,)) | Q193: =IF(((COLUMNS($A:Q))/2)>$W$1,"",OFFSET(recherche_multiple!$O$29,((ROWS($1:193)-1)/2)*$W$1,))
A195: =IF(((COLUMNS($A:A))/2)>$W$1,"",OFFSET(recherche_multiple!$O$21,((ROWS($1:195)-1)/2)*$W$1,)) -> C409 389_x000D_D409 | C195: =IF(((COLUMNS($A:C))/2)>$W$1,"",OFFSET(recherche_multiple!$O$22,((ROWS($1:195)-1)/2)*$W$1,)) -> C410 390_x000D_D410 | E195: =IF(((COLUMNS($A:E))/2)>$W$1,"",OFFSET(recherche_multiple!$O$23,((ROWS($1:195)-1)/2)*$W$1,)) -> C411 391_x000D_D411 | G195: =IF(((COLUMNS($A:G))/2)>$W$1,"",OFFSET(recherche_multiple!$O$24,((ROWS($1:195)-1)/2)*$W$1,)) -> C412 392_x000D_D412 | I195: =IF(((COLUMNS($A:I))/2)>$W$1,"",OFFSET(recherche_multiple!$O$25,((ROWS($1:195)-1)/2)*$W$1,)) | K195: =IF(((COLUMNS($A:K))/2)>$W$1,"",OFFSET(recherche_multiple!$O$26,((ROWS($1:195)-1)/2)*$W$1,)) | M195: =IF(((COLUMNS($A:M))/2)>$W$1,"",OFFSET(recherche_multiple!$O$27,((ROWS($1:195)-1)/2)*$W$1,)) | O195: =IF(((COLUMNS($A:O))/2)>$W$1,"",OFFSET(recherche_multiple!$O$28,((ROWS($1:195)-1)/2)*$W$1,)) | Q195: =IF(((COLUMNS($A:Q))/2)>$W$1,"",OFFSET(recherche_multiple!$O$29,((ROWS($1:195)-1)/2)*$W$1,))
A197: =IF(((COLUMNS($A:A))/2)>$W$1,"",OFFSET(recherche_multiple!$O$21,((ROWS($1:197)-1)/2)*$W$1,)) -> C413 393_x000D_D413 | C197: =IF(((COLUMNS($A:C))/2)>$W$1,"",OFFSET(recherche_multiple!$O$22,((ROWS($1:197)-1)/2)*$W$1,)) -> C414 394_x000D_D414 | E197: =IF(((COLUMNS($A:E))/2)>$W$1,"",OFFSET(recherche_multiple!$O$23,((ROWS($1:197)-1)/2)*$W$1,)) -> C415 395_x000D_D415 | G197: =IF(((COLUMNS($A:G))/2)>$W$1,"",OFFSET(recherche_multiple!$O$24,((ROWS($1:197)-1)/2)*$W$1,)) -> C416 396_x000D_D416 | I197: =IF(((COLUMNS($A:I))/2)>$W$1,"",OFFSET(recherche_multiple!$O$25,((ROWS($1:197)-1)/2)*$W$1,)) | K197: =IF(((COLUMNS($A:K))/2)>$W$1,"",OFFSET(recherche_multiple!$O$26,((ROWS($1:197)-1)/2)*$W$1,)) | M197: =IF(((COLUMNS($A:M))/2)>$W$1,"",OFFSET(recherche_multiple!$O$27,((ROWS($1:197)-1)/2)*$W$1,)) | O197: =IF(((COLUMNS($A:O))/2)>$W$1,"",OFFSET(recherche_multiple!$O$28,((ROWS($1:197)-1)/2)*$W$1,)) | Q197: =IF(((COLUMNS($A:Q))/2)>$W$1,"",OFFSET(recherche_multiple!$O$29,((ROWS($1:197)-1)/2)*$W$1,))
A199: =IF(((COLUMNS($A:A))/2)>$W$1,"",OFFSET(recherche_multiple!$O$21,((ROWS($1:199)-1)/2)*$W$1,)) -> C417 397_x000D_D417 | C199: =IF(((COLUMNS($A:C))/2)>$W$1,"",OFFSET(recherche_multiple!$O$22,((ROWS($1:199)-1)/2)*$W$1,)) -> C418 398_x000D_D418 | E199: =IF(((COLUMNS($A:E))/2)>$W$1,"",OFFSET(recherche_multiple!$O$23,((ROWS($1:199)-1)/2)*$W$1,)) -> C419 399_x000D_D419 | G199: =IF(((COLUMNS($A:G))/2)>$W$1,"",OFFSET(recherche_multiple!$O$24,((ROWS($1:199)-1)/2)*$W$1,)) -> C420 400_x000D_D420 | I199: =IF(((COLUMNS($A:I))/2)>$W$1,"",OFFSET(recherche_multiple!$O$25,((ROWS($1:199)-1)/2)*$W$1,)) | K199: =IF(((COLUMNS($A:K))/2)>$W$1,"",OFFSET(recherche_multiple!$O$26,((ROWS($1:199)-1)/2)*$W$1,)) | M199: =IF(((COLUMNS($A:M))/2)>$W$1,"",OFFSET(recherche_multiple!$O$27,((ROWS($1:199)-1)/2)*$W$1,)) | O199: =IF(((COLUMNS($A:O))/2)>$W$1,"",OFFSET(recherche_multiple!$O$28,((ROWS($1:199)-1)/2)*$W$1,)) | Q199: =IF(((COLUMNS($A:Q))/2)>$W$1,"",OFFSET(recherche_multiple!$O$29,((ROWS($1:199)-1)/2)*$W$1,))
