Workbook
Name Liste_ac: [1]BDD_zone!$A$11:$A$124

Sheet recherche_multiple
A19: Resultat | D19: =Publipostage!W1 -> 4
A20: a | B20: Nom | C20: Prénom | D20: Bureau - Service | E20: Date de naissance | F20: Date réelle d'entrée | G20: c | H20: d | I20: e | J20: f | K20: g | L20: h | M20: i | N20: j
B21: 1 | C21: C21 | D21: D21 | O21: =C21&" "&B21&CHAR(13)&D21 -> C21 1_x000D_D21
B22: 2 | C22: C22 | D22: D22 | O22: =C22&" "&B22&CHAR(13)&D22 -> C22 2_x000D_D22
B23: 3 | C23: C23 | D23: D23 | O23: =C23&" "&B23&CHAR(13)&D23 -> C23 3_x000D_D23
B24: 4 | C24: C24 | D24: D24 | O24: =C24&" "&B24&CHAR(13)&D24 -> C24 4_x000D_D24
B25: 5 | C25: C25 | D25: D25 | O25: =C25&" "&B25&CHAR(13)&D25 -> C25 5_x000D_D25
B26: 6 | C26: C26 | D26: D26 | O26: =C26&" "&B26&CHAR(13)&D26 -> C26 6_x000D_D26
B27: 7 | C27: C27 | D27: D27 | O27: =C27&" "&B27&CHAR(13)&D27 -> C27 7_x000D_D27
B28: 8 | C28: C28 | D28: D28 | O28: =C28&" "&B28&CHAR(13)&D28 -> C28 8_x000D_D28
B29: 9 | C29: C29 | D29: D29 | O29: =C29&" "&B29&CHAR(13)&D29 -> C29 9_x000D_D29
B30: 10 | C30: C30 | D30: D30 | O30: =C30&" "&B30&CHAR(13)&D30 -> C30 10_x000D_D30
B31: 11 | C31: C31 | D31: D31 | O31: =C31&" "&B31&CHAR(13)&D31 -> C31 11_x000D_D31
B32: 12 | C32: C32 | D32: D32 | O32: =C32&" "&B32&CHAR(13)&D32 -> C32 12_x000D_D32
... B3020: 3000 | C3020: C3020 | D3020: D3020 | O3020: =C3020&" "&B3020&CHAR(13)&D3020 -> C3020 3000_x000D_D3020

Sheet Publipostage
A1: =IF(((COLUMNS($A:A))/2)>$W$1,"",OFFSET(recherche_multiple!$O$21,((ROWS($1:1)-1)/2)*$W$1,)) -> C21 1_x000D_D21 | C1: =IF(((COLUMNS($A:C))/2)>$W$1,"",OFFSET(recherche_multiple!$O$22,((ROWS($1:1)-1)/2)*$W$1,)) -> C22 2_x000D_D22 | E1: =IF(((COLUMNS($A:E))/2)>$W$1,"",OFFSET(recherche_multiple!$O$23,((ROWS($1:1)-1)/2)*$W$1,)) -> C23 3_x000D_D23 | G1: =IF(((COLUMNS($A:G))/2)>$W$1,"",OFFSET(recherche_multiple!$O$24,((ROWS($1:1)-1)/2)*$W$1,)) -> C24 4_x000D_D24 | I1: =IF(((COLUMNS($A:I))/2)>$W$1,"",OFFSET(recherche_multiple!$O$25,((ROWS($1:1)-1)/2)*$W$1,)) | K1: =IF(((COLUMNS($A:K))/2)>$W$1,"",OFFSET(recherche_multiple!$O$26,((ROWS($1:1)-1)/2)*$W$1,)) | M1: =IF(((COLUMNS($A:M))/2)>$W$1,"",OFFSET(recherche_multiple!$O$27,((ROWS($1:1)-1)/2)*$W$1,)) | O1: =IF(((COLUMNS($A:O))/2)>$W$1,"",OFFSET(recherche_multiple!$O$28,((ROWS($1:1)-1)/2)*$W$1,)) | Q1: =IF(((COLUMNS($A:Q))/2)>$W$1,"",OFFSET(recherche_multiple!$O$29,((ROWS($1:1)-1)/2)*$W$1,)) | W1: 4
A3: =IF(((COLUMNS($A:A))/2)>$W$1,"",OFFSET(recherche_multiple!$O$21,((ROWS($1:3)-1)/2)*$W$1,)) -> C25 5_x000D_D25 | C3: =IF(((COLUMNS($A:C))/2)>$W$1,"",OFFSET(recherche_multiple!$O$22,((ROWS($1:3)-1)/2)*$W$1,)) -> C26 6_x000D_D26 | E3: =IF(((COLUMNS($A:E))/2)>$W$1,"",OFFSET(recherche_multiple!$O$23,((ROWS($1:3)-1)/2)*$W$1,)) -> C27 7_x000D_D27 | G3: =IF(((COLUMNS($A:G))/2)>$W$1,"",OFFSET(recherche_multiple!$O$24,((ROWS($1:3)-1)/2)*$W$1,)) -> C28 8_x000D_D28 | I3: =IF(((COLUMNS($A:I))/2)>$W$1,"",OFFSET(recherche_multiple!$O$25,((ROWS($1:3)-1)/2)*$W$1,)) | K3: =IF(((COLUMNS($A:K))/2)>$W$1,"",OFFSET(recherche_multiple!$O$26,((ROWS($1:3)-1)/2)*$W$1,)) | M3: =IF(((COLUMNS($A:M))/2)>$W$1,"",OFFSET(recherche_multiple!$O$27,((ROWS($1:3)-1)/2)*$W$1,)) | O3: =IF(((COLUMNS($A:O))/2)>$W$1,"",OFFSET(recherche_multiple!$O$28,((ROWS($1:3)-1)/2)*$W$1,)) | Q3: =IF(((COLUMNS($A:Q))/2)>$W$1,"",OFFSET(recherche_multiple!$O$29,((ROWS($1:3)-1)/2)*$W$1,))
A5: =IF(((COLUMNS($A:A))/2)>$W$1,"",OFFSET(recherche_multiple!$O$21,((ROWS($1:5)-1)/2)*$W$1,)) -> C29 9_x000D_D29 | C5: =IF(((COLUMNS($A:C))/2)>$W$1,"",OFFSET(recherche_multiple!$O$22,((ROWS($1:5)-1)/2)*$W$1,)) -> C30 10_x000D_D30 | E5: =IF(((COLUMNS($A:E))/2)>$W$1,"",OFFSET(recherche_multiple!$O$23,((ROWS($1:5)-1)/2)*$W$1,)) -> C31 11_x000D_D31 | G5: =IF(((COLUMNS($A:G))/2)>$W$1,"",OFFSET(recherche_multiple!$O$24,((ROWS($1:5)-1)/2)*$W$1,)) -> C32 12_x000D_D32 | I5: =IF(((COLUMNS($A:I))/2)>$W$1,"",OFFSET(recherche_multiple!$O$25,((ROWS($1:5)-1)/2)*$W$1,)) | K5: =IF(((COLUMNS($A:K))/2)>$W$1,"",OFFSET(recherche_multiple!$O$26,((ROWS($1:5)-1)/2)*$W$1,)) | M5: =IF(((COLUMNS($A:M))/2)>$W$1,"",OFFSET(recherche_multiple!$O$27,((ROWS($1:5)-1)/2)*$W$1,)) | O5: =IF(((COLUMNS($A:O))/2)>$W$1,"",OFFSET(recherche_multiple!$O$28,((ROWS($1:5)-1)/2)*$W$1,)) | Q5: =IF(((COLUMNS($A:Q))/2)>$W$1,"",OFFSET(recherche_multiple!$O$29,((ROWS($1:5)-1)/2)*$W$1,))
A7: =IF(((COLUMNS($A:A))/2)>$W$1,"",OFFSET(recherche_multiple!$O$21,((ROWS($1:7)-1)/2)*$W$1,)) -> C33 13_x000D_D33 | C7: =IF(((COLUMNS($A:C))/2)>$W$1,"",OFFSET(recherche_multiple!$O$22,((ROWS($1:7)-1)/2)*$W$1,)) -> C34 14_x000D_D34 | E7: =IF(((COLUMNS($A:E))/2)>$W$1,"",OFFSET(recherche_multiple!$O$23,((ROWS($1:7)-1)/2)*$W$1,)) -> C35 15_x000D_D35 | G7: =IF(((COLUMNS($A:G))/2)>$W$1,"",OFFSET(recherche_multiple!$O$24,((ROWS($1:7)-1)/2)*$W$1,)) -> C36 16_x000D_D36 | I7: =IF(((COLUMNS($A:I))/2)>$W$1,"",OFFSET(recherche_multiple!$O$25,((ROWS($1:7)-1)/2)*$W$1,)) | K7: =IF(((COLUMNS($A:K))/2)>$W$1,"",OFFSET(recherche_multiple!$O$26,((ROWS($1:7)-1)/2)*$W$1,)) | M7: =IF(((COLUMNS($A:M))/2)>$W$1,"",OFFSET(recherche_multiple!$O$27,((ROWS($1:7)-1)/2)*$W$1,)) | O7: =IF(((COLUMNS($A:O))/2)>$W$1,"",OFFSET(recherche_multiple!$O$28,((ROWS($1:7)-1)/2)*$W$1,)) | Q7: =IF(((COLUMNS($A:Q))/2)>$W$1,"",OFFSET(recherche_multiple!$O$29,((ROWS($1:7)-1)/2)*$W$1,))
A9: =IF(((COLUMNS($A:A))/2)>$W$1,"",OFFSET(recherche_multiple!$O$21,((ROWS($1:9)-1)/2)*$W$1,)) -> C37 17_x000D_D37 | C9: =IF(((COLUMNS($A:C))/2)>$W$1,"",OFFSET(recherche_multiple!$O$22,((ROWS($1:9)-1)/2)*$W$1,)) -> C38 18_x000D_D38 | E9: =IF(((COLUMNS($A:E))/2)>$W$1,"",OFFSET(recherche_multiple!$O$23,((ROWS($1:9)-1)/2)*$W$1,)) -> C39 19_x000D_D39 | G9: =IF(((COLUMNS($A:G))/2)>$W$1,"",OFFSET(recherche_multiple!$O$24,((ROWS($1:9)-1)/2)*$W$1,)) -> C40 20_x000D_D40 | I9: =IF(((COLUMNS($A:I))/2)>$W$1,"",OFFSET(recherche_multiple!$O$25,((ROWS($1:9)-1)/2)*$W$1,)) | K9: =IF(((COLUMNS($A:K))/2)>$W$1,"",OFFSET(recherche_multiple!$O$26,((ROWS($1:9)-1)/2)*$W$1,)) | M9: =IF(((COLUMNS($A:M))/2)>$W$1,"",OFFSET(recherche_multiple!$O$27,((ROWS($1:9)-1)/2)*$W$1,)) | O9: =IF(((COLUMNS($A:O))/2)>$W$1,"",OFFSET(recherche_multiple!$O$28,((ROWS($1:9)-1)/2)*$W$1,)) | Q9: =IF(((COLUMNS($A:Q))/2)>$W$1,"",OFFSET(recherche_multiple!$O$29,((ROWS($1:9)-1)/2)*$W$1,))
A11: =IF(((COLUMNS($A:A))/2)>$W$1,"",OFFSET(recherche_multiple!$O$21,((ROWS($1:11)-1)/2)*$W$1,)) -> C41 21_x000D_D41 | C11: =IF(((COLUMNS($A:C))/2)>$W$1,"",OFFSET(recherche_multiple!$O$22,((ROWS($1:11)-1)/2)*$W$1,)) -> C42 22_x000D_D42 | E11: =IF(((COLUMNS($A:E))/2)>$W$1,"",OFFSET(recherche_multiple!$O$23,((ROWS($1:11)-1)/2)*$W$1,)) -> C43 23_x000D_D43 | G11: =IF(((COLUMNS($A:G))/2)>$W$1,"",OFFSET(recherche_multiple!$O$24,((ROWS($1:11)-1)/2)*$W$1,)) -> C44 24_x000D_D44 | I11: =IF(((COLUMNS($A:I))/2)>$W$1,"",OFFSET(recherche_multiple!$O$25,((ROWS($1:11)-1)/2)*$W$1,)) | K11: =IF(((COLUMNS($A:K))/2)>$W$1,"",OFFSET(recherche_multiple!$O$26,((ROWS($1:11)-1)/2)*$W$1,)) | M11: =IF(((COLUMNS($A:M))/2)>$W$1,"",OFFSET(recherche_multiple!$O$27,((ROWS($1:11)-1)/2)*$W$1,)) | O11: =IF(((COLUMNS($A:O))/2)>$W$1,"",OFFSET(recherche_multiple!$O$28,((ROWS($1:11)-1)/2)*$W$1,)) | Q11: =IF(((COLUMNS($A:Q))/2)>$W$1,"",OFFSET(recherche_multiple!$O$29,((ROWS($1:11)-1)/2)*$W$1,))
A13: =IF(((COLUMNS($A:A))/2)>$W$1,"",OFFSET(recherche_multiple!$O$21,((ROWS($1:13)-1)/2)*$W$1,)) -> C45 25_x000D_D45 | C13: =IF(((COLUMNS($A:C))/2)>$W$1,"",OFFSET(recherche_multiple!$O$22,((ROWS($1:13)-1)/2)*$W$1,)) -> C46 26_x000D_D46 | E13: =IF(((COLUMNS($A:E))/2)>$W$1,"",OFFSET(recherche_multiple!$O$23,((ROWS($1:13)-1)/2)*$W$1,)) -> C47 27_x000D_D47 | G13: =IF(((COLUMNS($A:G))/2)>$W$1,"",OFFSET(recherche_multiple!$O$24,((ROWS($1:13)-1)/2)*$W$1,)) -> C48 28_x000D_D48 | I13: =IF(((COLUMNS($A:I))/2)>$W$1,"",OFFSET(recherche_multiple!$O$25,((ROWS($1:13)-1)/2)*$W$1,)) | K13: =IF(((COLUMNS($A:K))/2)>$W$1,"",OFFSET(recherche_multiple!$O$26,((ROWS($1:13)-1)/2)*$W$1,)) | M13: =IF(((COLUMNS($A:M))/2)>$W$1,"",OFFSET(recherche_multiple!$O$27,((ROWS($1:13)-1)/2)*$W$1,)) | O13: =IF(((COLUMNS($A:O))/2)>$W$1,"",OFFSET(recherche_multiple!$O$28,((ROWS($1:13)-1)/2)*$W$1,)) | Q13: =IF(((COLUMNS($A:Q))/2)>$W$1,"",OFFSET(recherche_multiple!$O$29,((ROWS($1:13)-1)/2)*$W$1,))
A15: =IF(((COLUMNS($A:A))/2)>$W$1,"",OFFSET(recherche_multiple!$O$21,((ROWS($1:15)-1)/2)*$W$1,)) -> C49 29_x000D_D49 | C15: =IF(((COLUMNS($A:C))/2)>$W$1,"",OFFSET(recherche_multiple!$O$22,((ROWS($1:15)-1)/2)*$W$1,)) -> C50 30_x000D_D50 | E15: =IF(((COLUMNS($A:E))/2)>$W$1,"",OFFSET(recherche_multiple!$O$23,((ROWS($1:15)-1)/2)*$W$1,)) -> C51 31_x000D_D51 | G15: =IF(((COLUMNS($A:G))/2)>$W$1,"",OFFSET(recherche_multiple!$O$24,((ROWS($1:15)-1)/2)*$W$1,)) -> C52 32_x000D_D52 | I15: =IF(((COLUMNS($A:I))/2)>$W$1,"",OFFSET(recherche_multiple!$O$25,((ROWS($1:15)-1)/2)*$W$1,)) | K15: =IF(((COLUMNS($A:K))/2)>$W$1,"",OFFSET(recherche_multiple!$O$26,((ROWS($1:15)-1)/2)*$W$1,)) | M15: =IF(((COLUMNS($A:M))/2)>$W$1,"",OFFSET(recherche_multiple!$O$27,((ROWS($1:15)-1)/2)*$W$1,)) | O15: =IF(((COLUMNS($A:O))/2)>$W$1,"",OFFSET(recherche_multiple!$O$28,((ROWS($1:15)-1)/2)*$W$1,)) | Q15: =IF(((COLUMNS($A:Q))/2)>$W$1,"",OFFSET(recherche_multiple!$O$29,((ROWS($1:15)-1)/2)*$W$1,))
A17: =IF(((COLUMNS($A:A))/2)>$W$1,"",OFFSET(recherche_multiple!$O$21,((ROWS($1:17)-1)/2)*$W$1,)) -> C53 33_x000D_D53 | C17: =IF(((COLUMNS($A:C))/2)>$W$1,"",OFFSET(recherche_multiple!$O$22,((ROWS($1:17)-1)/2)*$W$1,)) -> C54 34_x000D_D54 | E17: =IF(((COLUMNS($A:E))/2)>$W$1,"",OFFSET(recherche_multiple!$O$23,((ROWS($1:17)-1)/2)*$W$1,)) -> C55 35_x000D_D55 | G17: =IF(((COLUMNS($A:G))/2)>$W$1,"",OFFSET(recherche_multiple!$O$24,((ROWS($1:17)-1)/2)*$W$1,)) -> C56 36_x000D_D56 | I17: =IF(((COLUMNS($A:I))/2)>$W$1,"",OFFSET(recherche_multiple!$O$25,((ROWS($1:17)-1)/2)*$W$1,)) | K17: =IF(((COLUMNS($A:K))/2)>$W$1,"",OFFSET(recherche_multiple!$O$26,((ROWS($1:17)-1)/2)*$W$1,)) | M17: =IF(((COLUMNS($A:M))/2)>$W$1,"",OFFSET(recherche_multiple!$O$27,((ROWS($1:17)-1)/2)*$W$1,)) | O17: =IF(((COLUMNS($A:O))/2)>$W$1,"",OFFSET(recherche_multiple!$O$28,((ROWS($1:17)-1)/2)*$W$1,)) | Q17: =IF(((COLUMNS($A:Q))/2)>$W$1,"",OFFSET(recherche_multiple!$O$29,((ROWS($1:17)-1)/2)*$W$1,))
A19: =IF(((COLUMNS($A:A))/2)>$W$1,"",OFFSET(recherche_multiple!$O$21,((ROWS($1:19)-1)/2)*$W$1,)) -> C57 37_x000D_D57 | C19: =IF(((COLUMNS($A:C))/2)>$W$1,"",OFFSET(recherche_multiple!$O$22,((ROWS($1:19)-1)/2)*$W$1,)) -> C58 38_x000D_D58 | E19: =IF(((COLUMNS($A:E))/2)>$W$1,"",OFFSET(recherche_multiple!$O$23,((ROWS($1:19)-1)/2)*$W$1,)) -> C59 39_x000D_D59 | G19: =IF(((COLUMNS($A:G))/2)>$W$1,"",OFFSET(recherche_multiple!$O$24,((ROWS($1:19)-1)/2)*$W$1,)) -> C60 40_x000D_D60 | I19: =IF(((COLUMNS($A:I))/2)>$W$1,"",OFFSET(recherche_multiple!$O$25,((ROWS($1:19)-1)/2)*$W$1,)) | K19: =IF(((COLUMNS($A:K))/2)>$W$1,"",OFFSET(recherche_multiple!$O$26,((ROWS($1:19)-1)/2)*$W$1,)) | M19: =IF(((COLUMNS($A:M))/2)>$W$1,"",OFFSET(recherche_multiple!$O$27,((ROWS($1:19)-1)/2)*$W$1,)) | O19: =IF(((COLUMNS($A:O))/2)>$W$1,"",OFFSET(recherche_multiple!$O$28,((ROWS($1:19)-1)/2)*$W$1,)) | Q19: =IF(((COLUMNS($A:Q))/2)>$W$1,"",OFFSET(recherche_multiple!$O$29,((ROWS($1:19)-1)/2)*$W$1,))
A21: =IF(((COLUMNS($A:A))/2)>$W$1,"",OFFSET(recherche_multiple!$O$21,((ROWS($1:21)-1)/2)*$W$1,)) -> C61 41_x000D_D61 | C21: =IF(((COLUMNS($A:C))/2)>$W$1,"",OFFSET(recherche_multiple!$O$22,((ROWS($1:21)-1)/2)*$W$1,)) -> C62 42_x000D_D62 | E21: =IF(((COLUMNS($A:E))/2)>$W$1,"",OFFSET(recherche_multiple!$O$23,((ROWS($1:21)-1)/2)*$W$1,)) -> C63 43_x000D_D63 | G21: =IF(((COLUMNS($A:G))/2)>$W$1,"",OFFSET(recherche_multiple!$O$24,((ROWS($1:21)-1)/2)*$W$1,)) -> C64 44_x000D_D64 | I21: =IF(((COLUMNS($A:I))/2)>$W$1,"",OFFSET(recherche_multiple!$O$25,((ROWS($1:21)-1)/2)*$W$1,)) | K21: =IF(((COLUMNS($A:K))/2)>$W$1,"",OFFSET(recherche_multiple!$O$26,((ROWS($1:21)-1)/2)*$W$1,)) | M21: =IF(((COLUMNS($A:M))/2)>$W$1,"",OFFSET(recherche_multiple!$O$27,((ROWS($1:21)-1)/2)*$W$1,)) | O21: =IF(((COLUMNS($A:O))/2)>$W$1,"",OFFSET(recherche_multiple!$O$28,((ROWS($1:21)-1)/2)*$W$1,)) | Q21: =IF(((COLUMNS($A:Q))/2)>$W$1,"",OFFSET(recherche_multiple!$O$29,((ROWS($1:21)-1)/2)*$W$1,))
A23: =IF(((COLUMNS($A:A))/2)>$W$1,"",OFFSET(recherche_multiple!$O$21,((ROWS($1:23)-1)/2)*$W$1,)) -> C65 45_x000D_D65 | C23: =IF(((COLUMNS($A:C))/2)>$W$1,"",OFFSET(recherche_multiple!$O$22,((ROWS($1:23)-1)/2)*$W$1,)) -> C66 46_x000D_D66 | E23: =IF(((COLUMNS($A:E))/2)>$W$1,"",OFFSET(recherche_multiple!$O$23,((ROWS($1:23)-1)/2)*$W$1,)) -> C67 47_x000D_D67 | G23: =IF(((COLUMNS($A:G))/2)>$W$1,"",OFFSET(recherche_multiple!$O$24,((ROWS($1:23)-1)/2)*$W$1,)) -> C68 48_x000D_D68 | I23: =IF(((COLUMNS($A:I))/2)>$W$1,"",OFFSET(recherche_multiple!$O$25,((ROWS($1:23)-1)/2)*$W$1,)) | K23: =IF(((COLUMNS($A:K))/2)>$W$1,"",OFFSET(recherche_multiple!$O$26,((ROWS($1:23)-1)/2)*$W$1,)) | M23: =IF(((COLUMNS($A:M))/2)>$W$1,"",OFFSET(recherche_multiple!$O$27,((ROWS($1:23)-1)/2)*$W$1,)) | O23: =IF(((COLUMNS($A:O))/2)>$W$1,"",OFFSET(recherche_multiple!$O$28,((ROWS($1:23)-1)/2)*$W$1,)) | Q23: =IF(((COLUMNS($A:Q))/2)>$W$1,"",OFFSET(recherche_multiple!$O$29,((ROWS($1:23)-1)/2)*$W$1,))
A25: =IF(((COLUMNS($A:A))/2)>$W$1,"",OFFSET(recherche_multiple!$O$21,((ROWS($1:25)-1)/2)*$W$1,)) -> C69 49_x000D_D69 | C25: =IF(((COLUMNS($A:C))/2)>$W$1,"",OFFSET(recherche_multiple!$O$22,((ROWS($1:25)-1)/2)*$W$1,)) -> C70 50_x000D_D70 | E25: =IF(((COLUMNS($A:E))/2)>$W$1,"",OFFSET(recherche_multiple!$O$23,((ROWS($1:25)-1)/2)*$W$1,)) -> C71 51_x000D_D71 | G25: =IF(((COLUMNS($A:G))/2)>$W$1,"",OFFSET(recherche_multiple!$O$24,((ROWS($1:25)-1)/2)*$W$1,)) -> C72 52_x000D_D72 | I25: =IF(((COLUMNS($A:I))/2)>$W$1,"",OFFSET(recherche_multiple!$O$25,((ROWS($1:25)-1)/2)*$W$1,)) | K25: =IF(((COLUMNS($A:K))/2)>$W$1,"",OFFSET(recherche_multiple!$O$26,((ROWS($1:25)-1)/2)*$W$1,)) | M25: =IF(((COLUMNS($A:M))/2)>$W$1,"",OFFSET(recherche_multiple!$O$27,((ROWS($1:25)-1)/2)*$W$1,)) | O25: =IF(((COLUMNS($A:O))/2)>$W$1,"",OFFSET(recherche_multiple!$O$28,((ROWS($1:25)-1)/2)*$W$1,)) | Q25: =IF(((COLUMNS($A:Q))/2)>$W$1,"",OFFSET(recherche_multiple!$O$29,((ROWS($1:25)-1)/2)*$W$1,))
A27: =IF(((COLUMNS($A:A))/2)>$W$1,"",OFFSET(recherche_multiple!$O$21,((ROWS($1:27)-1)/2)*$W$1,)) -> C73 53_x000D_D73 | C27: =IF(((COLUMNS($A:C))/2)>$W$1,"",OFFSET(recherche_multiple!$O$22,((ROWS($1:27)-1)/2)*$W$1,)) -> C74 54_x000D_D74 | E27: =IF(((COLUMNS($A:E))/2)>$W$1,"",OFFSET(recherche_multiple!$O$23,((ROWS($1:27)-1)/2)*$W$1,)) -> C75 55_x000D_D75 | G27: =IF(((COLUMNS($A:G))/2)>$W$1,"",OFFSET(recherche_multiple!$O$24,((ROWS($1:27)-1)/2)*$W$1,)) -> C76 56_x000D_D76 | I27: =IF(((COLUMNS($A:I))/2)>$W$1,"",OFFSET(recherche_multiple!$O$25,((ROWS($1:27)-1)/2)*$W$1,)) | K27: =IF(((COLUMNS($A:K))/2)>$W$1,"",OFFSET(recherche_multiple!$O$26,((ROWS($1:27)-1)/2)*$W$1,)) | M27: =IF(((COLUMNS($A:M))/2)>$W$1,"",OFFSET(recherche_multiple!$O$27,((ROWS($1:27)-1)/2)*$W$1,)) | O27: =IF(((COLUMNS($A:O))/2)>$W$1,"",OFFSET(recherche_multiple!$O$28,((ROWS($1:27)-1)/2)*$W$1,)) | Q27: =IF(((COLUMNS($A:Q))/2)>$W$1,"",OFFSET(recherche_multiple!$O$29,((ROWS($1:27)-1)/2)*$W$1,))
A29: =IF(((COLUMNS($A:A))/2)>$W$1,"",OFFSET(recherche_multiple!$O$21,((ROWS($1:29)-1)/2)*$W$1,)) -> C77 57_x000D_D77 | C29: =IF(((COLUMNS($A:C))/2)>$W$1,"",OFFSET(recherche_multiple!$O$22,((ROWS($1:29)-1)/2)*$W$1,)) -> C78 58_x000D_D78 | E29: =IF(((COLUMNS($A:E))/2)>$W$1,"",OFFSET(recherche_multiple!$O$23,((ROWS($1:29)-1)/2)*$W$1,)) -> C79 59_x000D_D79 | G29: =IF(((COLUMNS($A:G))/2)>$W$1,"",OFFSET(recherche_multiple!$O$24,((ROWS($1:29)-1)/2)*$W$1,)) -> C80 60_x000D_D80 | I29: =IF(((COLUMNS($A:I))/2)>$W$1,"",OFFSET(recherche_multiple!$O$25,((ROWS($1:29)-1)/2)*$W$1,)) | K29: =IF(((COLUMNS($A:K))/2)>$W$1,"",OFFSET(recherche_multiple!$O$26,((ROWS($1:29)-1)/2)*$W$1,)) | M29: =IF(((COLUMNS($A:M))/2)>$W$1,"",OFFSET(recherche_multiple!$O$27,((ROWS($1:29)-1)/2)*$W$1,)) | O29: =IF(((COLUMNS($A:O))/2)>$W$1,"",OFFSET(recherche_multiple!$O$28,((ROWS($1:29)-1)/2)*$W$1,)) | Q29: =IF(((COLUMNS($A:Q))/2)>$W$1,"",OFFSET(recherche_multiple!$O$29,((ROWS($1:29)-1)/2)*$W$1,))
A31: =IF(((COLUMNS($A:A))/2)>$W$1,"",OFFSET(recherche_multiple!$O$21,((ROWS($1:31)-1)/2)*$W$1,)) -> C81 61_x000D_D81 | C31: =IF(((COLUMNS($A:C))/2)>$W$1,"",OFFSET(recherche_multiple!$O$22,((ROWS($1:31)-1)/2)*$W$1,)) -> C82 62_x000D_D82 | E31: =IF(((COLUMNS($A:E))/2)>$W$1,"",OFFSET(recherche_multiple!$O$23,((ROWS($1:31)-1)/2)*$W$1,)) -> C83 63_x000D_D83 | G31: =IF(((COLUMNS($A:G))/2)>$W$1,"",OFFSET(recherche_multiple!$O$24,((ROWS($1:31)-1)/2)*$W$1,)) -> C84 64_x000D_D84 | I31: =IF(((COLUMNS($A:I))/2)>$W$1,"",OFFSET(recherche_multiple!$O$25,((ROWS($1:31)-1)/2)*$W$1,)) | K31: =IF(((COLUMNS($A:K))/2)>$W$1,"",OFFSET(recherche_multiple!$O$26,((ROWS($1:31)-1)/2)*$W$1,)) | M31: =IF(((COLUMNS($A:M))/2)>$W$1,"",OFFSET(recherche_multiple!$O$27,((ROWS($1:31)-1)/2)*$W$1,)) | O31: =IF(((COLUMNS($A:O))/2)>$W$1,"",OFFSET(recherche_multiple!$O$28,((ROWS($1:31)-1)/2)*$W$1,)) | Q31: =IF(((COLUMNS($A:Q))/2)>$W$1,"",OFFSET(recherche_multiple!$O$29,((ROWS($1:31)-1)/2)*$W$1,))
A33: =IF(((COLUMNS($A:A))/2)>$W$1,"",OFFSET(recherche_multiple!$O$21,((ROWS($1:33)-1)/2)*$W$1,)) -> C85 65_x000D_D85 | C33: =IF(((COLUMNS($A:C))/2)>$W$1,"",OFFSET(recherche_multiple!$O$22,((ROWS($1:33)-1)/2)*$W$1,)) -> C86 66_x000D_D86 | E33: =IF(((COLUMNS($A:E))/2)>$W$1,"",OFFSET(recherche_multiple!$O$23,((ROWS($1:33)-1)/2)*$W$1,)) -> C87 67_x000D_D87 | G33: =IF(((COLUMNS($A:G))/2)>$W$1,"",OFFSET(recherche_multiple!$O$24,((ROWS($1:33)-1)/2)*$W$1,)) -> C88 68_x000D_D88 | I33: =IF(((COLUMNS($A:I))/2)>$W$1,"",OFFSET(recherche_multiple!$O$25,((ROWS($1:33)-1)/2)*$W$1,)) | K33: =IF(((COLUMNS($A:K))/2)>$W$1,"",OFFSET(recherche_multiple!$O$26,((ROWS($1:33)-1)/2)*$W$1,)) | M33: =IF(((COLUMNS($A:M))/2)>$W$1,"",OFFSET(recherche_multiple!$O$27,((ROWS($1:33)-1)/2)*$W$1,)) | O33: =IF(((COLUMNS($A:O))/2)>$W$1,"",OFFSET(recherche_multiple!$O$28,((ROWS($1:33)-1)/2)*$W$1,)) | Q33: =IF(((COLUMNS($A:Q))/2)>$W$1,"",OFFSET(recherche_multiple!$O$29,((ROWS($1:33)-1)/2)*$W$1,))
A35: =IF(((COLUMNS($A:A))/2)>$W$1,"",OFFSET(recherche_multiple!$O$21,((ROWS($1:35)-1)/2)*$W$1,)) -> C89 69_x000D_D89 | C35: =IF(((COLUMNS($A:C))/2)>$W$1,"",OFFSET(recherche_multiple!$O$22,((ROWS($1:35)-1)/2)*$W$1,)) -> C90 70_x000D_D90 | E35: =IF(((COLUMNS($A:E))/2)>$W$1,"",OFFSET(recherche_multiple!$O$23,((ROWS($1:35)-1)/2)*$W$1,)) -> C91 71_x000D_D91 | G35: =IF(((COLUMNS($A:G))/2)>$W$1,"",OFFSET(recherche_multiple!$O$24,((ROWS($1:35)-1)/2)*$W$1,)) -> C92 72_x000D_D92 | I35: =IF(((COLUMNS($A:I))/2)>$W$1,"",OFFSET(recherche_multiple!$O$25,((ROWS($1:35)-1)/2)*$W$1,)) | K35: =IF(((COLUMNS($A:K))/2)>$W$1,"",OFFSET(recherche_multiple!$O$26,((ROWS($1:35)-1)/2)*$W$1,)) | M35: =IF(((COLUMNS($A:M))/2)>$W$1,"",OFFSET(recherche_multiple!$O$27,((ROWS($1:35)-1)/2)*$W$1,)) | O35: =IF(((COLUMNS($A:O))/2)>$W$1,"",OFFSET(recherche_multiple!$O$28,((ROWS($1:35)-1)/2)*$W$1,)) | Q35: =IF(((COLUMNS($A:Q))/2)>$W$1,"",OFFSET(recherche_multiple!$O$29,((ROWS($1:35)-1)/2)*$W$1,))
A37: =IF(((COLUMNS($A:A))/2)>$W$1,"",OFFSET(recherche_multiple!$O$21,((ROWS($1:37)-1)/2)*$W$1,)) -> C93 73_x000D_D93 | C37: =IF(((COLUMNS($A:C))/2)>$W$1,"",OFFSET(recherche_multiple!$O$22,((ROWS($1:37)-1)/2)*$W$1,)) -> C94 74_x000D_D94 | E37: =IF(((COLUMNS($A:E))/2)>$W$1,"",OFFSET(recherche_multiple!$O$23,((ROWS($1:37)-1)/2)*$W$1,)) -> C95 75_x000D_D95 | G37: =IF(((COLUMNS($A:G))/2)>$W$1,"",OFFSET(recherche_multiple!$O$24,((ROWS($1:37)-1)/2)*$W$1,)) -> C96 76_x000D_D96 | I37: =IF(((COLUMNS($A:I))/2)>$W$1,"",OFFSET(recherche_multiple!$O$25,((ROWS($1:37)-1)/2)*$W$1,)) | K37: =IF(((COLUMNS($A:K))/2)>$W$1,"",OFFSET(recherche_multiple!$O$26,((ROWS($1:37)-1)/2)*$W$1,)) | M37: =IF(((COLUMNS($A:M))/2)>$W$1,"",OFFSET(recherche_multiple!$O$27,((ROWS($1:37)-1)/2)*$W$1,)) | O37: =IF(((COLUMNS($A:O))/2)>$W$1,"",OFFSET(recherche_multiple!$O$28,((ROWS($1:37)-1)/2)*$W$1,)) | Q37: =IF(((COLUMNS($A:Q))/2)>$W$1,"",OFFSET(recherche_multiple!$O$29,((ROWS($1:37)-1)/2)*$W$1,))
A39: =IF(((COLUMNS($A:A))/2)>$W$1,"",OFFSET(recherche_multiple!$O$21,((ROWS($1:39)-1)/2)*$W$1,)) -> C97 77_x000D_D97 | C39: =IF(((COLUMNS($A:C))/2)>$W$1,"",OFFSET(recherche_multiple!$O$22,((ROWS($1:39)-1)/2)*$W$1,)) -> C98 78_x000D_D98 | E39: =IF(((COLUMNS($A:E))/2)>$W$1,"",OFFSET(recherche_multiple!$O$23,((ROWS($1:39)-1)/2)*$W$1,)) -> C99 79_x000D_D99 | G39: =IF(((COLUMNS($A:G))/2)>$W$1,"",OFFSET(recherche_multiple!$O$24,((ROWS($1:39)-1)/2)*$W$1,)) -> C100 80_x000D_D100 | I39: =IF(((COLUMNS($A:I))/2)>$W$1,"",OFFSET(recherche_multiple!$O$25,((ROWS($1:39)-1)/2)*$W$1,)) | K39: =IF(((COLUMNS($A:K))/2)>$W$1,"",OFFSET(recherche_multiple!$O$26,((ROWS($1:39)-1)/2)*$W$1,)) | M39: =IF(((COLUMNS($A:M))/2)>$W$1,"",OFFSET(recherche_multiple!$O$27,((ROWS($1:39)-1)/2)*$W$1,)) | O39: =IF(((COLUMNS($A:O))/2)>$W$1,"",OFFSET(recherche_multiple!$O$28,((ROWS($1:39)-1)/2)*$W$1,)) | Q39: =IF(((COLUMNS($A:Q))/2)>$W$1,"",OFFSET(recherche_multiple!$O$29,((ROWS($1:39)-1)/2)*$W$1,))
A41: =IF(((COLUMNS($A:A))/2)>$W$1,"",OFFSET(recherche_multiple!$O$21,((ROWS($1:41)-1)/2)*$W$1,)) -> C101 81_x000D_D101 | C41: =IF(((COLUMNS($A:C))/2)>$W$1,"",OFFSET(recherche_multiple!$O$22,((ROWS($1:41)-1)/2)*$W$1,)) -> C102 82_x000D_D102 | E41: =IF(((COLUMNS($A:E))/2)>$W$1,"",OFFSET(recherche_multiple!$O$23,((ROWS($1:41)-1)/2)*$W$1,)) -> C103 83_x000D_D103 | G41: =IF(((COLUMNS($A:G))/2)>$W$1,"",OFFSET(recherche_multiple!$O$24,((ROWS($1:41)-1)/2)*$W$1,)) -> C104 84_x000D_D104 | I41: =IF(((COLUMNS($A:I))/2)>$W$1,"",OFFSET(recherche_multiple!$O$25,((ROWS($1:41)-1)/2)*$W$1,)) | K41: =IF(((COLUMNS($A:K))/2)>$W$1,"",OFFSET(recherche_multiple!$O$26,((ROWS($1:41)-1)/2)*$W$1,)) | M41: =IF(((COLUMNS($A:M))/2)>$W$1,"",OFFSET(recherche_multiple!$O$27,((ROWS($1:41)-1)/2)*$W$1,)) | O41: =IF(((COLUMNS($A:O))/2)>$W$1,"",OFFSET(recherche_multiple!$O$28,((ROWS($1:41)-1)/2)*$W$1,)) | Q41: =IF(((COLUMNS($A:Q))/2)>$W$1,"",OFFSET(recherche_multiple!$O$29,((ROWS($1:41)-1)/2)*$W$1,))
A43: =IF(((COLUMNS($A:A))/2)>$W$1,"",OFFSET(recherche_multiple!$O$21,((ROWS($1:43)-1)/2)*$W$1,)) -> C105 85_x000D_D105 | C43: =IF(((COLUMNS($A:C))/2)>$W$1,"",OFFSET(recherche_multiple!$O$22,((ROWS($1:43)-1)/2)*$W$1,)) -> C106 86_x000D_D106 | E43: =IF(((COLUMNS($A:E))/2)>$W$1,"",OFFSET(recherche_multiple!$O$23,((ROWS($1:43)-1)/2)*$W$1,)) -> C107 87_x000D_D107 | G43: =IF(((COLUMNS($A:G))/2)>$W$1,"",OFFSET(recherche_multiple!$O$24,((ROWS($1:43)-1)/2)*$W$1,)) -> C108 88_x000D_D108 | I43: =IF(((COLUMNS($A:I))/2)>$W$1,"",OFFSET(recherche_multiple!$O$25,((ROWS($1:43)-1)/2)*$W$1,)) | K43: =IF(((COLUMNS($A:K))/2)>$W$1,"",OFFSET(recherche_multiple!$O$26,((ROWS($1:43)-1)/2)*$W$1,)) | M43: =IF(((COLUMNS($A:M))/2)>$W$1,"",OFFSET(recherche_multiple!$O$27,((ROWS($1:43)-1)/2)*$W$1,)) | O43: =IF(((COLUMNS($A:O))/2)>$W$1,"",OFFSET(recherche_multiple!$O$28,((ROWS($1:43)-1)/2)*$W$1,)) | Q43: =IF(((COLUMNS($A:Q))/2)>$W$1,"",OFFSET(recherche_multiple!$O$29,((ROWS($1:43)-1)/2)*$W$1,))
A45: =IF(((COLUMNS($A:A))/2)>$W$1,"",OFFSET(recherche_multiple!$O$21,((ROWS($1:45)-1)/2)*$W$1,)) -> C109 89_x000D_D109 | C45: =IF(((COLUMNS($A:C))/2)>$W$1,"",OFFSET(recherche_multiple!$O$22,((ROWS($1:45)-1)/2)*$W$1,)) -> C110 90_x000D_D110 | E45: =IF(((COLUMNS($A:E))/2)>$W$1,"",OFFSET(recherche_multiple!$O$23,((ROWS($1:45)-1)/2)*$W$1,)) -> C111 91_x000D_D111 | G45: =IF(((COLUMNS($A:G))/2)>$W$1,"",OFFSET(recherche_multiple!$O$24,((ROWS($1:45)-1)/2)*$W$1,)) -> C112 92_x000D_D112 | I45: =IF(((COLUMNS($A:I))/2)>$W$1,"",OFFSET(recherche_multiple!$O$25,((ROWS($1:45)-1)/2)*$W$1,)) | K45: =IF(((COLUMNS($A:K))/2)>$W$1,"",OFFSET(recherche_multiple!$O$26,((ROWS($1:45)-1)/2)*$W$1,)) | M45: =IF(((COLUMNS($A:M))/2)>$W$1,"",OFFSET(recherche_multiple!$O$27,((ROWS($1:45)-1)/2)*$W$1,)) | O45: =IF(((COLUMNS($A:O))/2)>$W$1,"",OFFSET(recherche_multiple!$O$28,((ROWS($1:45)-1)/2)*$W$1,)) | Q45: =IF(((COLUMNS($A:Q))/2)>$W$1,"",OFFSET(recherche_multiple!$O$29,((ROWS($1:45)-1)/2)*$W$1,))
A47: =IF(((COLUMNS($A:A))/2)>$W$1,"",OFFSET(recherche_multiple!$O$21,((ROWS($1:47)-1)/2)*$W$1,)) -> C113 93_x000D_D113 | C47: =IF(((COLUMNS($A:C))/2)>$W$1,"",OFFSET(recherche_multiple!$O$22,((ROWS($1:47)-1)/2)*$W$1,)) -> C114 94_x000D_D114 | E47: =IF(((COLUMNS($A:E))/2)>$W$1,"",OFFSET(recherche_multiple!$O$23,((ROWS($1:47)-1)/2)*$W$1,)) -> C115 95_x000D_D115 | G47: =IF(((COLUMNS($A:G))/2)>$W$1,"",OFFSET(recherche_multiple!$O$24,((ROWS($1:47)-1)/2)*$W$1,)) -> C116 96_x000D_D116 | I47: =IF(((COLUMNS($A:I))/2)>$W$1,"",OFFSET(recherche_multiple!$O$25,((ROWS($1:47)-1)/2)*$W$1,)) | K47: =IF(((COLUMNS($A:K))/2)>$W$1,"",OFFSET(recherche_multiple!$O$26,((ROWS($1:47)-1)/2)*$W$1,)) | M47: =IF(((COLUMNS($A:M))/2)>$W$1,"",OFFSET(recherche_multiple!$O$27,((ROWS($1:47)-1)/2)*$W$1,)) | O47: =IF(((COLUMNS($A:O))/2)>$W$1,"",OFFSET(recherche_multiple!$O$28,((ROWS($1:47)-1)/2)*$W$1,)) | Q47: =IF(((COLUMNS($A:Q))/2)>$W$1,"",OFFSET(recherche_multiple!$O$29,((ROWS($1:47)-1)/2)*$W$1,))
A49: =IF(((COLUMNS($A:A))/2)>$W$1,"",OFFSET(recherche_multiple!$O$21,((ROWS($1:49)-1)/2)*$W$1,)) -> C117 97_x000D_D117 | C49: =IF(((COLUMNS($A:C))/2)>$W$1,"",OFFSET(recherche_multiple!$O$22,((ROWS($1:49)-1)/2)*$W$1,)) -> C118 98_x000D_D118 | E49: =IF(((COLUMNS($A:E))/2)>$W$1,"",OFFSET(recherche_multiple!$O$23,((ROWS($1:49)-1)/2)*$W$1,)) -> C119 99_x000D_D119 | G49: =IF(((COLUMNS($A:G))/2)>$W$1,"",OFFSET(recherche_multiple!$O$24,((ROWS($1:49)-1)/2)*$W$1,)) -> C120 100_x000D_D120 | I49: =IF(((COLUMNS($A:I))/2)>$W$1,"",OFFSET(recherche_multiple!$O$25,((ROWS($1:49)-1)/2)*$W$1,)) | K49: =IF(((COLUMNS($A:K))/2)>$W$1,"",OFFSET(recherche_multiple!$O$26,((ROWS($1:49)-1)/2)*$W$1,)) | M49: =IF(((COLUMNS($A:M))/2)>$W$1,"",OFFSET(recherche_multiple!$O$27,((ROWS($1:49)-1)/2)*$W$1,)) | O49: =IF(((COLUMNS($A:O))/2)>$W$1,"",OFFSET(recherche_multiple!$O$28,((ROWS($1:49)-1)/2)*$W$1,)) | Q49: =IF(((COLUMNS($A:Q))/2)>$W$1,"",OFFSET(recherche_multiple!$O$29,((ROWS($1:49)-1)/2)*$W$1,))
A51: =IF(((COLUMNS($A:A))/2)>$W$1,"",OFFSET(recherche_multiple!$O$21,((ROWS($1:51)-1)/2)*$W$1,)) -> C121 101_x000D_D121 | C51: =IF(((COLUMNS($A:C))/2)>$W$1,"",OFFSET(recherche_multiple!$O$22,((ROWS($1:51)-1)/2)*$W$1,)) -> C122 102_x000D_D122 | E51: =IF(((COLUMNS($A:E))/2)>$W$1,"",OFFSET(recherche_multiple!$O$23,((ROWS($1:51)-1)/2)*$W$1,)) -> C123 103_x000D_D123 | G51: =IF(((COLUMNS($A:G))/2)>$W$1,"",OFFSET(recherche_multiple!$O$24,((ROWS($1:51)-1)/2)*$W$1,)) -> C124 104_x000D_D124 | I51: =IF(((COLUMNS($A:I))/2)>$W$1,"",OFFSET(recherche_multiple!$O$25,((ROWS($1:51)-1)/2)*$W$1,)) | K51: =IF(((COLUMNS($A:K))/2)>$W$1,"",OFFSET(recherche_multiple!$O$26,((ROWS($1:51)-1)/2)*$W$1,)) | M51: =IF(((COLUMNS($A:M))/2)>$W$1,"",OFFSET(recherche_multiple!$O$27,((ROWS($1:51)-1)/2)*$W$1,)) | O51: =IF(((COLUMNS($A:O))/2)>$W$1,"",OFFSET(recherche_multiple!$O$28,((ROWS($1:51)-1)/2)*$W$1,)) | Q51: =IF(((COLUMNS($A:Q))/2)>$W$1,"",OFFSET(recherche_multiple!$O$29,((ROWS($1:51)-1)/2)*$W$1,))
A53: =IF(((COLUMNS($A:A))/2)>$W$1,"",OFFSET(recherche_multiple!$O$21,((ROWS($1:53)-1)/2)*$W$1,)) -> C125 105_x000D_D125 | C53: =IF(((COLUMNS($A:C))/2)>$W$1,"",OFFSET(recherche_multiple!$O$22,((ROWS($1:53)-1)/2)*$W$1,)) -> C126 106_x000D_D126 | E53: =IF(((COLUMNS($A:E))/2)>$W$1,"",OFFSET(recherche_multiple!$O$23,((ROWS($1:53)-1)/2)*$W$1,)) -> C127 107_x000D_D127 | G53: =IF(((COLUMNS($A:G))/2)>$W$1,"",OFFSET(recherche_multiple!$O$24,((ROWS($1:53)-1)/2)*$W$1,)) -> C128 108_x000D_D128 | I53: =IF(((COLUMNS($A:I))/2)>$W$1,"",OFFSET(recherche_multiple!$O$25,((ROWS($1:53)-1)/2)*$W$1,)) | K53: =IF(((COLUMNS($A:K))/2)>$W$1,"",OFFSET(recherche_multiple!$O$26,((ROWS($1:53)-1)/2)*$W$1,)) | M53: =IF(((COLUMNS($A:M))/2)>$W$1,"",OFFSET(recherche_multiple!$O$27,((ROWS($1:53)-1)/2)*$W$1,)) | O53: =IF(((COLUMNS($A:O))/2)>$W$1,"",OFFSET(recherche_multiple!$O$28,((ROWS($1:53)-1)/2)*$W$1,)) | Q53: =IF(((COLUMNS($A:Q))/2)>$W$1,"",OFFSET(recherche_multiple!$O$29,((ROWS($1:53)-1)/2)*$W$1,))
A55: =IF(((COLUMNS($A:A))/2)>$W$1,"",OFFSET(recherche_multiple!$O$21,((ROWS($1:55)-1)/2)*$W$1,)) -> C129 109_x000D_D129 | C55: =IF(((COLUMNS($A:C))/2)>$W$1,"",OFFSET(recherche_multiple!$O$22,((ROWS($1:55)-1)/2)*$W$1,)) -> C130 110_x000D_D130 | E55: =IF(((COLUMNS($A:E))/2)>$W$1,"",OFFSET(recherche_multiple!$O$23,((ROWS($1:55)-1)/2)*$W$1,)) -> C131 111_x000D_D131 | G55: =IF(((COLUMNS($A:G))/2)>$W$1,"",OFFSET(recherche_multiple!$O$24,((ROWS($1:55)-1)/2)*$W$1,)) -> C132 112_x000D_D132 | I55: =IF(((COLUMNS($A:I))/2)>$W$1,"",OFFSET(recherche_multiple!$O$25,((ROWS($1:55)-1)/2)*$W$1,)) | K55: =IF(((COLUMNS($A:K))/2)>$W$1,"",OFFSET(recherche_multiple!$O$26,((ROWS($1:55)-1)/2)*$W$1,)) | M55: =IF(((COLUMNS($A:M))/2)>$W$1,"",OFFSET(recherche_multiple!$O$27,((ROWS($1:55)-1)/2)*$W$1,)) | O55: =IF(((COLUMNS($A:O))/2)>$W$1,"",OFFSET(recherche_multiple!$O$28,((ROWS($1:55)-1)/2)*$W$1,)) | Q55: =IF(((COLUMNS($A:Q))/2)>$W$1,"",OFFSET(recherche_multiple!$O$29,((ROWS($1:55)-1)/2)*$W$1,))
A57: =IF(((COLUMNS($A:A))/2)>$W$1,"",OFFSET(recherche_multiple!$O$21,((ROWS($1:57)-1)/2)*$W$1,)) -> C133 113_x000D_D133 | C57: =IF(((COLUMNS($A:C))/2)>$W$1,"",OFFSET(recherche_multiple!$O$22,((ROWS($1:57)-1)/2)*$W$1,)) -> C134 114_x000D_D134 | E57: =IF(((COLUMNS($A:E))/2)>$W$1,"",OFFSET(recherche_multiple!$O$23,((ROWS($1:57)-1)/2)*$W$1,)) -> C135 115_x000D_D135 | G57: =IF(((COLUMNS($A:G))/2)>$W$1,"",OFFSET(recherche_multiple!$O$24,((ROWS($1:57)-1)/2)*$W$1,)) -> C136 116_x000D_D136 | I57: =IF(((COLUMNS($A:I))/2)>$W$1,"",OFFSET(recherche_multiple!$O$25,((ROWS($1:57)-1)/2)*$W$1,)) | K57: =IF(((COLUMNS($A:K))/2)>$W$1,"",OFFSET(recherche_multiple!$O$26,((ROWS($1:57)-1)/2)*$W$1,)) | M57: =IF(((COLUMNS($A:M))/2)>$W$1,"",OFFSET(recherche_multiple!$O$27,((ROWS($1:57)-1)/2)*$W$1,)) | O57: =IF(((COLUMNS($A:O))/2)>$W$1,"",OFFSET(recherche_multiple!$O$28,((ROWS($1:57)-1)/2)*$W$1,)) | Q57: =IF(((COLUMNS($A:Q))/2)>$W$1,"",OFFSET(recherche_multiple!$O$29,((ROWS($1:57)-1)/2)*$W$1,))
A59: =IF(((COLUMNS($A:A))/2)>$W$1,"",OFFSET(recherche_multiple!$O$21,((ROWS($1:59)-1)/2)*$W$1,)) -> C137 117_x000D_D137 | C59: =IF(((COLUMNS($A:C))/2)>$W$1,"",OFFSET(recherche_multiple!$O$22,((ROWS($1:59)-1)/2)*$W$1,)) -> C138 118_x000D_D138 | E59: =IF(((COLUMNS($A:E))/2)>$W$1,"",OFFSET(recherche_multiple!$O$23,((ROWS($1:59)-1)/2)*$W$1,)) -> C139 119_x000D_D139 | G59: =IF(((COLUMNS($A:G))/2)>$W$1,"",OFFSET(recherche_multiple!$O$24,((ROWS($1:59)-1)/2)*$W$1,)) -> C140 120_x000D_D140 | I59: =IF(((COLUMNS($A:I))/2)>$W$1,"",OFFSET(recherche_multiple!$O$25,((ROWS($1:59)-1)/2)*$W$1,)) | K59: =IF(((COLUMNS($A:K))/2)>$W$1,"",OFFSET(recherche_multiple!$O$26,((ROWS($1:59)-1)/2)*$W$1,)) | M59: =IF(((COLUMNS($A:M))/2)>$W$1,"",OFFSET(recherche_multiple!$O$27,((ROWS($1:59)-1)/2)*$W$1,)) | O59: =IF(((COLUMNS($A:O))/2)>$W$1,"",OFFSET(recherche_multiple!$O$28,((ROWS($1:59)-1)/2)*$W$1,)) | Q59: =IF(((COLUMNS($A:Q))/2)>$W$1,"",OFFSET(recherche_multiple!$O$29,((ROWS($1:59)-1)/2)*$W$1,))
A61: =IF(((COLUMNS($A:A))/2)>$W$1,"",OFFSET(recherche_multiple!$O$21,((ROWS($1:61)-1)/2)*$W$1,)) -> C141 121_x000D_D141 | C61: =IF(((COLUMNS($A:C))/2)>$W$1,"",OFFSET(recherche_multiple!$O$22,((ROWS($1:61)-1)/2)*$W$1,)) -> C142 122_x000D_D142 | E61: =IF(((COLUMNS($A:E))/2)>$W$1,"",OFFSET(recherche_multiple!$O$23,((ROWS($1:61)-1)/2)*$W$1,)) -> C143 123_x000D_D143 | G61: =IF(((COLUMNS($A:G))/2)>$W$1,"",OFFSET(recherche_multiple!$O$24,((ROWS($1:61)-1)/2)*$W$1,)) -> C144 124_x000D_D144 | I61: =IF(((COLUMNS($A:I))/2)>$W$1,"",OFFSET(recherche_multiple!$O$25,((ROWS($1:61)-1)/2)*$W$1,)) | K61: =IF(((COLUMNS($A:K))/2)>$W$1,"",OFFSET(recherche_multiple!$O$26,((ROWS($1:61)-1)/2)*$W$1,)) | M61: =IF(((COLUMNS($A:M))/2)>$W$1,"",OFFSET(recherche_multiple!$O$27,((ROWS($1:61)-1)/2)*$W$1,)) | O61: =IF(((COLUMNS($A:O))/2)>$W$1,"",OFFSET(recherche_multiple!$O$28,((ROWS($1:61)-1)/2)*$W$1,)) | Q61: =IF(((COLUMNS($A:Q))/2)>$W$1,"",OFFSET(recherche_multiple!$O$29,((ROWS($1:61)-1)/2)*$W$1,))
A63: =IF(((COLUMNS($A:A))/2)>$W$1,"",OFFSET(recherche_multiple!$O$21,((ROWS($1:63)-1)/2)*$W$1,)) -> C145 125_x000D_D145 | C63: =IF(((COLUMNS($A:C))/2)>$W$1,"",OFFSET(recherche_multiple!$O$22,((ROWS($1:63)-1)/2)*$W$1,)) -> C146 126_x000D_D146 | E63: =IF(((COLUMNS($A:E))/2)>$W$1,"",OFFSET(recherche_multiple!$O$23,((ROWS($1:63)-1)/2)*$W$1,)) -> C147 127_x000D_D147 | G63: =IF(((COLUMNS($A:G))/2)>$W$1,"",OFFSET(recherche_multiple!$O$24,((ROWS($1:63)-1)/2)*$W$1,)) -> C148 128_x000D_D148 | I63: =IF(((COLUMNS($A:I))/2)>$W$1,"",OFFSET(recherche_multiple!$O$25,((ROWS($1:63)-1)/2)*$W$1,)) | K63: =IF(((COLUMNS($A:K))/2)>$W$1,"",OFFSET(recherche_multiple!$O$26,((ROWS($1:63)-1)/2)*$W$1,)) | M63: =IF(((COLUMNS($A:M))/2)>$W$1,"",OFFSET(recherche_multiple!$O$27,((ROWS($1:63)-1)/2)*$W$1,)) | O63: =IF(((COLUMNS($A:O))/2)>$W$1,"",OFFSET(recherche_multiple!$O$28,((ROWS($1:63)-1)/2)*$W$1,)) | Q63: =IF(((COLUMNS($A:Q))/2)>$W$1,"",OFFSET(recherche_multiple!$O$29,((ROWS($1:63)-1)/2)*$W$1,))
A65: =IF(((COLUMNS($A:A))/2)>$W$1,"",OFFSET(recherche_multiple!$O$21,((ROWS($1:65)-1)/2)*$W$1,)) -> C149 129_x000D_D149 | C65: =IF(((COLUMNS($A:C))/2)>$W$1,"",OFFSET(recherche_multiple!$O$22,((ROWS($1:65)-1)/2)*$W$1,)) -> C150 130_x000D_D150 | E65: =IF(((COLUMNS($A:E))/2)>$W$1,"",OFFSET(recherche_multiple!$O$23,((ROWS($1:65)-1)/2)*$W$1,)) -> C151 131_x000D_D151 | G65: =IF(((COLUMNS($A:G))/2)>$W$1,"",OFFSET(recherche_multiple!$O$24,((ROWS($1:65)-1)/2)*$W$1,)) -> C152 132_x000D_D152 | I65: =IF(((COLUMNS($A:I))/2)>$W$1,"",OFFSET(recherche_multiple!$O$25,((ROWS($1:65)-1)/2)*$W$1,)) | K65: =IF(((COLUMNS($A:K))/2)>$W$1,"",OFFSET(recherche_multiple!$O$26,((ROWS($1:65)-1)/2)*$W$1,)) | M65: =IF(((COLUMNS($A:M))/2)>$W$1,"",OFFSET(recherche_multiple!$O$27,((ROWS($1:65)-1)/2)*$W$1,)) | O65: =IF(((COLUMNS($A:O))/2)>$W$1,"",OFFSET(recherche_multiple!$O$28,((ROWS($1:65)-1)/2)*$W$1,)) | Q65: =IF(((COLUMNS($A:Q))/2)>$W$1,"",OFFSET(recherche_multiple!$O$29,((ROWS($1:65)-1)/2)*$W$1,))
A67: =IF(((COLUMNS($A:A))/2)>$W$1,"",OFFSET(recherche_multiple!$O$21,((ROWS($1:67)-1)/2)*$W$1,)) -> C153 133_x000D_D153 | C67: =IF(((COLUMNS($A:C))/2)>$W$1,"",OFFSET(recherche_multiple!$O$22,((ROWS($1:67)-1)/2)*$W$1,)) -> C154 134_x000D_D154 | E67: =IF(((COLUMNS($A:E))/2)>$W$1,"",OFFSET(recherche_multiple!$O$23,((ROWS($1:67)-1)/2)*$W$1,)) -> C155 135_x000D_D155 | G67: =IF(((COLUMNS($A:G))/2)>$W$1,"",OFFSET(recherche_multiple!$O$24,((ROWS($1:67)-1)/2)*$W$1,)) -> C156 136_x000D_D156 | I67: =IF(((COLUMNS($A:I))/2)>$W$1,"",OFFSET(recherche_multiple!$O$25,((ROWS($1:67)-1)/2)*$W$1,)) | K67: =IF(((COLUMNS($A:K))/2)>$W$1,"",OFFSET(recherche_multiple!$O$26,((ROWS($1:67)-1)/2)*$W$1,)) | M67: =IF(((COLUMNS($A:M))/2)>$W$1,"",OFFSET(recherche_multiple!$O$27,((ROWS($1:67)-1)/2)*$W$1,)) | O67: =IF(((COLUMNS($A:O))/2)>$W$1,"",OFFSET(recherche_multiple!$O$28,((ROWS($1:67)-1)/2)*$W$1,)) | Q67: =IF(((COLUMNS($A:Q))/2)>$W$1,"",OFFSET(recherche_multiple!$O$29,((ROWS($1:67)-1)/2)*$W$1,))
A69: =IF(((COLUMNS($A:A))/2)>$W$1,"",OFFSET(recherche_multiple!$O$21,((ROWS($1:69)-1)/2)*$W$1,)) -> C157 137_x000D_D157 | C69: =IF(((COLUMNS($A:C))/2)>$W$1,"",OFFSET(recherche_multiple!$O$22,((ROWS($1:69)-1)/2)*$W$1,)) -> C158 138_x000D_D158 | E69: =IF(((COLUMNS($A:E))/2)>$W$1,"",OFFSET(recherche_multiple!$O$23,((ROWS($1:69)-1)/2)*$W$1,)) -> C159 139_x000D_D159 | G69: =IF(((COLUMNS($A:G))/2)>$W$1,"",OFFSET(recherche_multiple!$O$24,((ROWS($1:69)-1)/2)*$W$1,)) -> C160 140_x000D_D160 | I69: =IF(((COLUMNS($A:I))/2)>$W$1,"",OFFSET(recherche_multiple!$O$25,((ROWS($1:69)-1)/2)*$W$1,)) | K69: =IF(((COLUMNS($A:K))/2)>$W$1,"",OFFSET(recherche_multiple!$O$26,((ROWS($1:69)-1)/2)*$W$1,)) | M69: =IF(((COLUMNS($A:M))/2)>$W$1,"",OFFSET(recherche_multiple!$O$27,((ROWS($1:69)-1)/2)*$W$1,)) | O69: =IF(((COLUMNS($A:O))/2)>$W$1,"",OFFSET(recherche_multiple!$O$28,((ROWS($1:69)-1)/2)*$W$1,)) | Q69: =IF(((COLUMNS($A:Q))/2)>$W$1,"",OFFSET(recherche_multiple!$O$29,((ROWS($1:69)-1)/2)*$W$1,))
A71: =IF(((COLUMNS($A:A))/2)>$W$1,"",OFFSET(recherche_multiple!$O$21,((ROWS($1:71)-1)/2)*$W$1,)) -> C161 141_x000D_D161 | C71: =IF(((COLUMNS($A:C))/2)>$W$1,"",OFFSET(recherche_multiple!$O$22,((ROWS($1:71)-1)/2)*$W$1,)) -> C162 142_x000D_D162 | E71: =IF(((COLUMNS($A:E))/2)>$W$1,"",OFFSET(recherche_multiple!$O$23,((ROWS($1:71)-1)/2)*$W$1,)) -> C163 143_x000D_D163 | G71: =IF(((COLUMNS($A:G))/2)>$W$1,"",OFFSET(recherche_multiple!$O$24,((ROWS($1:71)-1)/2)*$W$1,)) -> C164 144_x000D_D164 | I71: =IF(((COLUMNS($A:I))/2)>$W$1,"",OFFSET(recherche_multiple!$O$25,((ROWS($1:71)-1)/2)*$W$1,)) | K71: =IF(((COLUMNS($A:K))/2)>$W$1,"",OFFSET(recherche_multiple!$O$26,((ROWS($1:71)-1)/2)*$W$1,)) | M71: =IF(((COLUMNS($A:M))/2)>$W$1,"",OFFSET(recherche_multiple!$O$27,((ROWS($1:71)-1)/2)*$W$1,)) | O71: =IF(((COLUMNS($A:O))/2)>$W$1,"",OFFSET(recherche_multiple!$O$28,((ROWS($1:71)-1)/2)*$W$1,)) | Q71: =IF(((COLUMNS($A:Q))/2)>$W$1,"",OFFSET(recherche_multiple!$O$29,((ROWS($1:71)-1)/2)*$W$1,))
A73: =IF(((COLUMNS($A:A))/2)>$W$1,"",OFFSET(recherche_multiple!$O$21,((ROWS($1:73)-1)/2)*$W$1,)) -> C165 145_x000D_D165 | C73: =IF(((COLUMNS($A:C))/2)>$W$1,"",OFFSET(recherche_multiple!$O$22,((ROWS($1:73)-1)/2)*$W$1,)) -> C166 146_x000D_D166 | E73: =IF(((COLUMNS($A:E))/2)>$W$1,"",OFFSET(recherche_multiple!$O$23,((ROWS($1:73)-1)/2)*$W$1,)) -> C167 147_x000D_D167 | G73: =IF(((COLUMNS($A:G))/2)>$W$1,"",OFFSET(recherche_multiple!$O$24,((ROWS($1:73)-1)/2)*$W$1,)) -> C168 148_x000D_D168 | I73: =IF(((COLUMNS($A:I))/2)>$W$1,"",OFFSET(recherche_multiple!$O$25,((ROWS($1:73)-1)/2)*$W$1,)) | K73: =IF(((COLUMNS($A:K))/2)>$W$1,"",OFFSET(recherche_multiple!$O$26,((ROWS($1:73)-1)/2)*$W$1,)) | M73: =IF(((COLUMNS($A:M))/2)>$W$1,"",OFFSET(recherche_multiple!$O$27,((ROWS($1:73)-1)/2)*$W$1,)) | O73: =IF(((COLUMNS($A:O))/2)>$W$1,"",OFFSET(recherche_multiple!$O$28,((ROWS($1:73)-1)/2)*$W$1,)) | Q73: =IF(((COLUMNS($A:Q))/2)>$W$1,"",OFFSET(recherche_multiple!$O$29,((ROWS($1:73)-1)/2)*$W$1,))
A75: =IF(((COLUMNS($A:A))/2)>$W$1,"",OFFSET(recherche_multiple!$O$21,((ROWS($1:75)-1)/2)*$W$1,)) -> C169 149_x000D_D169 | C75: =IF(((COLUMNS($A:C))/2)>$W$1,"",OFFSET(recherche_multiple!$O$22,((ROWS($1:75)-1)/2)*$W$1,)) -> C170 150_x000D_D170 | E75: =IF(((COLUMNS($A:E))/2)>$W$1,"",OFFSET(recherche_multiple!$O$23,((ROWS($1:75)-1)/2)*$W$1,)) -> C171 151_x000D_D171 | G75: =IF(((COLUMNS($A:G))/2)>$W$1,"",OFFSET(recherche_multiple!$O$24,((ROWS($1:75)-1)/2)*$W$1,)) -> C172 152_x000D_D172 | I75: =IF(((COLUMNS($A:I))/2)>$W$1,"",OFFSET(recherche_multiple!$O$25,((ROWS($1:75)-1)/2)*$W$1,)) | K75: =IF(((COLUMNS($A:K))/2)>$W$1,"",OFFSET(recherche_multiple!$O$26,((ROWS($1:75)-1)/2)*$W$1,)) | M75: =IF(((COLUMNS($A:M))/2)>$W$1,"",OFFSET(recherche_multiple!$O$27,((ROWS($1:75)-1)/2)*$W$1,)) | O75: =IF(((COLUMNS($A:O))/2)>$W$1,"",OFFSET(recherche_multiple!$O$28,((ROWS($1:75)-1)/2)*$W$1,)) | Q75: =IF(((COLUMNS($A:Q))/2)>$W$1,"",OFFSET(recherche_multiple!$O$29,((ROWS($1:75)-1)/2)*$W$1,))
A77: =IF(((COLUMNS($A:A))/2)>$W$1,"",OFFSET(recherche_multiple!$O$21,((ROWS($1:77)-1)/2)*$W$1,)) -> C173 153_x000D_D173 | C77: =IF(((COLUMNS($A:C))/2)>$W$1,"",OFFSET(recherche_multiple!$O$22,((ROWS($1:77)-1)/2)*$W$1,)) -> C174 154_x000D_D174 | E77: =IF(((COLUMNS($A:E))/2)>$W$1,"",OFFSET(recherche_multiple!$O$23,((ROWS($1:77)-1)/2)*$W$1,)) -> C175 155_x000D_D175 | G77: =IF(((COLUMNS($A:G))/2)>$W$1,"",OFFSET(recherche_multiple!$O$24,((ROWS($1:77)-1)/2)*$W$1,)) -> C176 156_x000D_D176 | I77: =IF(((COLUMNS($A:I))/2)>$W$1,"",OFFSET(recherche_multiple!$O$25,((ROWS($1:77)-1)/2)*$W$1,)) | K77: =IF(((COLUMNS($A:K))/2)>$W$1,"",OFFSET(recherche_multiple!$O$26,((ROWS($1:77)-1)/2)*$W$1,)) | M77: =IF(((COLUMNS($A:M))/2)>$W$1,"",OFFSET(recherche_multiple!$O$27,((ROWS($1:77)-1)/2)*$W$1,)) | O77: =IF(((COLUMNS($A:O))/2)>$W$1,"",OFFSET(recherche_multiple!$O$28,((ROWS($1:77)-1)/2)*$W$1,)) | Q77: =IF(((COLUMNS($A:Q))/2)>$W$1,"",OFFSET(recherche_multiple!$O$29,((ROWS($1:77)-1)/2)*$W$1,))
A79: =IF(((COLUMNS($A:A))/2)>$W$1,"",OFFSET(recherche_multiple!$O$21,((ROWS($1:79)-1)/2)*$W$1,)) -> C177 157_x000D_D177 | C79: =IF(((COLUMNS($A:C))/2)>$W$1,"",OFFSET(recherche_multiple!$O$22,((ROWS($1:79)-1)/2)*$W$1,)) -> C178 158_x000D_D178 | E79: =IF(((COLUMNS($A:E))/2)>$W$1,"",OFFSET(recherche_multiple!$O$23,((ROWS($1:79)-1)/2)*$W$1,)) -> C179 159_x000D_D179 | G79: =IF(((COLUMNS($A:G))/2)>$W$1,"",OFFSET(recherche_multiple!$O$24,((ROWS($1:79)-1)/2)*$W$1,)) -> C180 160_x000D_D180 | I79: =IF(((COLUMNS($A:I))/2)>$W$1,"",OFFSET(recherche_multiple!$O$25,((ROWS($1:79)-1)/2)*$W$1,)) | K79: =IF(((COLUMNS($A:K))/2)>$W$1,"",OFFSET(recherche_multiple!$O$26,((ROWS($1:79)-1)/2)*$W$1,)) | M79: =IF(((COLUMNS($A:M))/2)>$W$1,"",OFFSET(recherche_multiple!$O$27,((ROWS($1:79)-1)/2)*$W$1,)) | O79: =IF(((COLUMNS($A:O))/2)>$W$1,"",OFFSET(recherche_multiple!$O$28,((ROWS($1:79)-1)/2)*$W$1,)) | Q79: =IF(((COLUMNS($A:Q))/2)>$W$1,"",OFFSET(recherche_multiple!$O$29,((ROWS($1:79)-1)/2)*$W$1,))
...
