Workbook
Name août: 'données '!$I$3:$I$9
Name avril: 'données '!$E$3:$E$10
Name CibleMois: 'données '!$B$2:$M$2
Name culturesMois: OFFSET('données '!$B$3,0,MATCH('culture '!$C$4,'données '!$B$2:$M$2,0)-1,COUNTA(OFFSET('données '!$B$3,0,MATCH('culture '!$C$4,'données '!$B$2:$M$2,0)-1,100)))
Name décembre: 'données '!$M$3
Name février: 'données '!$C$3:$C$5
Name janvier: 'données '!$B$3:$B$4
Name juillet: 'données '!$H$3:$H$8
Name juin: 'données '!$G$3:$G$12
Name legumes: OFFSET('données '!XFD$3,,,COUNTA('données '!XFD:XFD)-1)
Name mai: 'données '!$F$3:$F$13
Name mars: 'données '!$D$3:$D$9
Name novembre: 'données '!$L$3:$L$5
Name octobre: 'données '!$K$3:$K$6
Name septembre: 'données '!$J$3:$J$9

Sheet Feuil1
B2: CULTURE | C2: DENSITÉ (POUSSES / M²) | D2: SURFACE À SEMER EN M² | E2: QUANTITÉ DE SEMENCES À ACHETER | F2: POIDS DE SEMENCES EN T
B3: AIL D'AUTOMNE | C3: 15 | D3: 5000 | E3: =C3*D3 -> 75000 | F3: =E3*0.00001 -> 0.75
B4: AIL D'HIVER | C4: 15 | D4: 5000 | E4: =C4*D4 -> 75000 | F4: =E4*0.00001 -> 0.75
B5: AUBERGINE | C5: 2 | D5: 5000 | E5: =C5*D5 -> 10000 | F5: =E5*0.00001 -> 0.1
B6: CAROTTE | C6: 160 | D6: 5000 | E6: =C6*D6 -> 800000 | F6: =E6*0.00001 -> 8
B7: CÉLERI-RAVE | C7: 8 | D7: 5000 | E7: =C7*D7 -> 40000 | F7: =E7*0.00001 -> 0.4
B8: CHOU BROCOLI | C8: 3 | D8: 5000 | E8: =C8*D8 -> 15000 | F8: =E8*0.00001 -> 0.15
B9: CHOU DE BRUXELLES | C9: 4 | D9: 5000 | E9: =C9*D9 -> 20000 | F9: =E9*0.00001 -> 0.2
B10: CHOU FLEUR | C10: 3 | D10: 5000 | E10: =C10*D10 -> 15000 | F10: =E10*0.00001 -> 0.15
B11: CORNICHON | C11: 3 | D11: 5000 | E11: =C11*D11 -> 15000 | F11: =E11*0.00001 -> 0.15
B12: COURGETTE | C12: 2 | D12: 5000 | E12: =C12*D12 -> 10000 | F12: =E12*0.00001 -> 0.1
B13: ÉPINARD D'HIVER | C13: 400 | D13: 5000 | E13: =C13*D13 -> 2000000 | F13: =E13*0.00001 -> 20
B14: ÉPINARD DE PRIMTEMPS | C14: 400 | D14: 5000 | E14: =C14*D14 -> 2000000 | F14: =E14*0.00001 -> 20
... B22: RADIS | C22: 360 | D22: 5000 | E22: =C22*D22 -> 1800000 | F22: =E22*0.00001 -> 18

Sheet culture 
B4: MOIS | C4: MAI
B6: CULTURE POSSIBLE | C6: {=IF(OFFSET('données '!B2,2,MATCH('culture '!$C$4,CibleMois,0),COUNTA(legumes))=0,"",OFFSET('données '!B2,2,MATCH('culture '!$C$4,CibleMois,0),COUNTA(legumes)))} -> CÉLERI-RAVE | F6: {=IF(COUNTA(OFFSET('données '!$B$2,1,MATCH($C$4,'données '!$B$2:$M$2,0)-1,100))>=ROWS($1:1),INDEX(OFFSET('données '!$B$2,1,MATCH($C$4,'données '!$B$2:$M$2,0)-1,100),ROWS($1:1)),"")} -> AUBERGINE | I6: {=IF(ROWS($1:1)>COUNTA(culturesMois),"",INDEX(culturesMois,ROWS($1:1)))} -> AUBERGINE
C7: {=IF(OFFSET('données '!B3,2,MATCH('culture '!$C$4,CibleMois,0),COUNTA(legumes))=0,"",OFFSET('données '!B3,2,MATCH('culture '!$C$4,CibleMois,0),COUNTA(legumes)))} -> CHOU BROCOLI | F7: {=IF(COUNTA(OFFSET('données '!$B$2,1,MATCH($C$4,'données '!$B$2:$M$2,0)-1,100))>=ROWS($1:2),INDEX(OFFSET('données '!$B$2,1,MATCH($C$4,'données '!$B$2:$M$2,0)-1,100),ROWS($1:2)),"")} -> CAROTTE | I7: {=IF(ROWS($1:2)>COUNTA(culturesMois),"",INDEX(culturesMois,ROWS($1:2)))} -> CAROTTE
C8: {=IF(OFFSET('données '!B4,2,MATCH('culture '!$C$4,CibleMois,0),COUNTA(legumes))=0,"",OFFSET('données '!B4,2,MATCH('culture '!$C$4,CibleMois,0),COUNTA(legumes)))} -> CHOU DE BRUXELLES | F8: {=IF(COUNTA(OFFSET('données '!$B$2,1,MATCH($C$4,'données '!$B$2:$M$2,0)-1,100))>=ROWS($1:3),INDEX(OFFSET('données '!$B$2,1,MATCH($C$4,'données '!$B$2:$M$2,0)-1,100),ROWS($1:3)),"")} -> CÉLERI-RAVE | I8: {=IF(ROWS($1:3)>COUNTA(culturesMois),"",INDEX(culturesMois,ROWS($1:3)))} -> CÉLERI-RAVE
C9: {=IF(OFFSET('données '!B5,2,MATCH('culture '!$C$4,CibleMois,0),COUNTA(legumes))=0,"",OFFSET('données '!B5,2,MATCH('culture '!$C$4,CibleMois,0),COUNTA(legumes)))} -> CHOU FLEUR | F9: {=IF(COUNTA(OFFSET('données '!$B$2,1,MATCH($C$4,'données '!$B$2:$M$2,0)-1,100))>=ROWS($1:4),INDEX(OFFSET('données '!$B$2,1,MATCH($C$4,'données '!$B$2:$M$2,0)-1,100),ROWS($1:4)),"")} -> CHOU DE BRUXELLES | I9: {=IF(ROWS($1:4)>COUNTA(culturesMois),"",INDEX(culturesMois,ROWS($1:4)))} -> CHOU DE BRUXELLES
C10: {=IF(OFFSET('données '!B6,2,MATCH('culture '!$C$4,CibleMois,0),COUNTA(legumes))=0,"",OFFSET('données '!B6,2,MATCH('culture '!$C$4,CibleMois,0),COUNTA(legumes)))} -> FRAISE | F10: {=IF(COUNTA(OFFSET('données '!$B$2,1,MATCH($C$4,'données '!$B$2:$M$2,0)-1,100))>=ROWS($1:5),INDEX(OFFSET('données '!$B$2,1,MATCH($C$4,'données '!$B$2:$M$2,0)-1,100),ROWS($1:5)),"")} -> CORNICHON | I10: {=IF(ROWS($1:5)>COUNTA(culturesMois),"",INDEX(culturesMois,ROWS($1:5)))} -> CORNICHON
C11: {=IF(OFFSET('données '!B7,2,MATCH('culture '!$C$4,CibleMois,0),COUNTA(legumes))=0,"",OFFSET('données '!B7,2,MATCH('culture '!$C$4,CibleMois,0),COUNTA(legumes)))} -> HARICOT VERT | F11: {=IF(COUNTA(OFFSET('données '!$B$2,1,MATCH($C$4,'données '!$B$2:$M$2,0)-1,100))>=ROWS($1:6),INDEX(OFFSET('données '!$B$2,1,MATCH($C$4,'données '!$B$2:$M$2,0)-1,100),ROWS($1:6)),"")} -> COURGETTE | I11: {=IF(ROWS($1:6)>COUNTA(culturesMois),"",INDEX(culturesMois,ROWS($1:6)))} -> COURGETTE
C12: {=IF(OFFSET('données '!B8,2,MATCH('culture '!$C$4,CibleMois,0),COUNTA(legumes))=0,"",OFFSET('données '!B8,2,MATCH('culture '!$C$4,CibleMois,0),COUNTA(legumes)))} -> MELON | F12: {=IF(COUNTA(OFFSET('données '!$B$2,1,MATCH($C$4,'données '!$B$2:$M$2,0)-1,100))>=ROWS($1:7),INDEX(OFFSET('données '!$B$2,1,MATCH($C$4,'données '!$B$2:$M$2,0)-1,100),ROWS($1:7)),"")} -> HARICOT VERT | I12: {=IF(ROWS($1:7)>COUNTA(culturesMois),"",INDEX(culturesMois,ROWS($1:7)))} -> HARICOT VERT
C13: {=IF(OFFSET('données '!B9,2,MATCH('culture '!$C$4,CibleMois,0),COUNTA(legumes))=0,"",OFFSET('données '!B9,2,MATCH('culture '!$C$4,CibleMois,0),COUNTA(legumes)))} -> PANAIS | F13: {=IF(COUNTA(OFFSET('données '!$B$2,1,MATCH($C$4,'données '!$B$2:$M$2,0)-1,100))>=ROWS($1:8),INDEX(OFFSET('données '!$B$2,1,MATCH($C$4,'données '!$B$2:$M$2,0)-1,100),ROWS($1:8)),"")} -> LAITUE | I13: {=IF(ROWS($1:8)>COUNTA(culturesMois),"",INDEX(culturesMois,ROWS($1:8)))} -> LAITUE
C14: {=IF(OFFSET('données '!B10,2,MATCH('culture '!$C$4,CibleMois,0),COUNTA(legumes))=0,"",OFFSET('données '!B10,2,MATCH('culture '!$C$4,CibleMois,0),COUNTA(legumes)))} -> POIREAU | F14: {=IF(COUNTA(OFFSET('données '!$B$2,1,MATCH($C$4,'données '!$B$2:$M$2,0)-1,100))>=ROWS($1:9),INDEX(OFFSET('données '!$B$2,1,MATCH($C$4,'données '!$B$2:$M$2,0)-1,100),ROWS($1:9)),"")} -> MELON | I14: {=IF(ROWS($1:9)>COUNTA(culturesMois),"",INDEX(culturesMois,ROWS($1:9)))} -> MELON
C15: {=IF(OFFSET('données '!B11,2,MATCH('culture '!$C$4,CibleMois,0),COUNTA(legumes))=0,"",OFFSET('données '!B11,2,MATCH('culture '!$C$4,CibleMois,0),COUNTA(legumes)))} | F15: {=IF(COUNTA(OFFSET('données '!$B$2,1,MATCH($C$4,'données '!$B$2:$M$2,0)-1,100))>=ROWS($1:10),INDEX(OFFSET('données '!$B$2,1,MATCH($C$4,'données '!$B$2:$M$2,0)-1,100),ROWS($1:10)),"")} -> PANAIS | I15: {=IF(ROWS($1:10)>COUNTA(culturesMois),"",INDEX(culturesMois,ROWS($1:10)))} -> PANAIS
C16: {=IF(OFFSET('données '!B12,2,MATCH('culture '!$C$4,CibleMois,0),COUNTA(legumes))=0,"",OFFSET('données '!B12,2,MATCH('culture '!$C$4,CibleMois,0),COUNTA(legumes)))} | F16: {=IF(COUNTA(OFFSET('données '!$B$2,1,MATCH($C$4,'données '!$B$2:$M$2,0)-1,100))>=ROWS($1:11),INDEX(OFFSET('données '!$B$2,1,MATCH($C$4,'données '!$B$2:$M$2,0)-1,100),ROWS($1:11)),"")} -> POIREAU | I16: {=IF(ROWS($1:11)>COUNTA(culturesMois),"",INDEX(culturesMois,ROWS($1:11)))} -> POIREAU
C17: {=IF(OFFSET('données '!B13,2,MATCH('culture '!$C$4,CibleMois,0),COUNTA(legumes))=0,"",OFFSET('données '!B13,2,MATCH('culture '!$C$4,CibleMois,0),COUNTA(legumes)))} | F17: {=IF(COUNTA(OFFSET('données '!$B$2,1,MATCH($C$4,'données '!$B$2:$M$2,0)-1,100))>=ROWS($1:12),INDEX(OFFSET('données '!$B$2,1,MATCH($C$4,'données '!$B$2:$M$2,0)-1,100),ROWS($1:12)),"")} | I17: {=IF(ROWS($1:12)>COUNTA(culturesMois),"",INDEX(culturesMois,ROWS($1:12)))}
C18: {=IF(OFFSET('données '!B14,2,MATCH('culture '!$C$4,CibleMois,0),COUNTA(legumes))=0,"",OFFSET('données '!B14,2,MATCH('culture '!$C$4,CibleMois,0),COUNTA(legumes)))} | I18: {=IF(ROWS($1:13)>COUNTA(culturesMois),"",INDEX(culturesMois,ROWS($1:13)))}
C19: {=IF(OFFSET('données '!B15,2,MATCH('culture '!$C$4,CibleMois,0),COUNTA(legumes))=0,"",OFFSET('données '!B15,2,MATCH('culture '!$C$4,CibleMois,0),COUNTA(legumes)))}
C20: {=IF(OFFSET('données '!B16,2,MATCH('culture '!$C$4,CibleMois,0),COUNTA(legumes))=0,"",OFFSET('données '!B16,2,MATCH('culture '!$C$4,CibleMois,0),COUNTA(legumes)))}
C21: {=IF(OFFSET('données '!B17,2,MATCH('culture '!$C$4,CibleMois,0),COUNTA(legumes))=0,"",OFFSET('données '!B17,2,MATCH('culture '!$C$4,CibleMois,0),COUNTA(legumes)))}
C22: {=IF(OFFSET('données '!B18,2,MATCH('culture '!$C$4,CibleMois,0),COUNTA(legumes))=0,"",OFFSET('données '!B18,2,MATCH('culture '!$C$4,CibleMois,0),COUNTA(legumes)))}
C23: {=IF(OFFSET('données '!B19,2,MATCH('culture '!$C$4,CibleMois,0),COUNTA(legumes))=0,"",OFFSET('données '!B19,2,MATCH('culture '!$C$4,CibleMois,0),COUNTA(legumes)))}
C24: {=IF(OFFSET('données '!B20,2,MATCH('culture '!$C$4,CibleMois,0),COUNTA(legumes))=0,"",OFFSET('données '!B20,2,MATCH('culture '!$C$4,CibleMois,0),COUNTA(legumes)))}
C25: {=IF(OFFSET('données '!B21,2,MATCH('culture '!$C$4,CibleMois,0),COUNTA(legumes))=0,"",OFFSET('données '!B21,2,MATCH('culture '!$C$4,CibleMois,0),COUNTA(legumes)))}

Sheet données 
A2: {=IFERROR(IF(AND(SEARCH('culture '!C4,B3)>0,B3<>""),MAX($A$1:A1)+1,""),"")} | B2: JANVIER | C2: FÉVRIER | D2: MARS | E2: AVRIL | F2: MAI | G2: JUIN | H2: JUILLET | I2: AOÛT | J2: SEPTEMBRE | K2: OCTOBRE | L2: NOVEMBRE | M2: DÉCEMBRE
A3: {=IFERROR(IF(AND(SEARCH('culture '!$C$4,B3)>0,B3<>""),MAX($A$1:A1)+1,""),"")} | B3: AIL D'HIVER | C3: AIL D'HIVER | D3: CAROTTE | E3: CAROTTE | F3: AUBERGINE | G3: CAROTTE | H3: CHOU BROCOLI | I3: CHOU BROCOLI | J3: CHOU BROCOLI | K3: AIL D'AUTOMNE | L3: AIL D'AUTOMNE | M3: MACHE
B4: POIREAU | C4: POIREAU | D4: ÉPINARD DE PRINTEMPS | E4: CORNICHON | F4: CAROTTE | G4: CÉLERI-RAVE | H4: CHOU FLEUR | I4: CHOU FLEUR | J4: CHOU FLEUR | K4: MACHE | L4: MACHE
C5: RADIS | D5: LAITUE | E5: ÉPINARD DE PRINTEMPS | F5: CÉLERI-RAVE | G5: CHOU BROCOLI | H5: FRAISE | I5: ÉPINARD D'HIVER | J5: ÉPINARD D'HIVER | K5: NAVET | L5: NAVET
D6: NAVET | E6: HARICOT VERT | F6: CHOU DE BRUXELLES | G6: CHOU DE BRUXELLES | H6: HARICOT VERT | I6: HARICOT VERT | J6: HARICOT VERT | K6: RADIS
D7: PANAIS | E7: NAVET | F7: CORNICHON | G7: CHOU FLEUR | H7: PANAIS | I7: LAITUE | J7: LAITUE
D8: POIREAU | E8: PANAIS | F8: COURGETTE | G8: FRAISE | H8: POIREAU | I8: NAVET | J8: MACHE
D9: RADIS | E9: POIREAU | F9: HARICOT VERT | G9: HARICOT VERT | I9: POIREAU | J9: RADIS
E10: RADIS | F10: LAITUE | G10: MELON
F11: MELON | G11: PANAIS
F12: PANAIS | G12: POIREAU
F13: POIREAU
A19: {=IFERROR(IF(AND(SEARCH('culture '!$C$5,B20)>0,B20<>""),MAX($A$1:A18)+1,""),"")}
A20: {=IFERROR(IF(AND(SEARCH('culture '!C22,B21)>0,B21<>""),MAX($A$1:A19)+1,""),"")}
A21: {=IFERROR(IF(AND(SEARCH('culture '!C23,B22)>0,B22<>""),MAX($A$1:A20)+1,""),"")}
A22: {=IFERROR(IF(AND(SEARCH('culture '!C24,B23)>0,B23<>""),MAX($A$1:A21)+1,""),"")}
A23: {=IFERROR(IF(AND(SEARCH('culture '!C25,B24)>0,B24<>""),MAX($A$1:A22)+1,""),"")}
A24: {=IFERROR(IF(AND(SEARCH('culture '!C26,B25)>0,B25<>""),MAX($A$1:A23)+1,""),"")}
