Workbook

Sheet Feuil1
C3: 43132 | D3: 43160 | E3: 43191 | F3: 43221 | G3: 43252 | H3: 43282 | I3: 43313 | J3: 43344 | K3: 43374 | L3: 43405 | M3: 43435 | N3: 43466 | O3: 43497 | P3: 43525 | Q3: 43556 | R3: 43586 | S3: 43617 | T3: 43647 | U3: 43678 | V3: 43709 | W3: 43739 | X3: 43770 | Y3: 43800 | Z3: 43831 | AA3: 43862 | AB3: 43891 | AC3: 43922 | AD3: 43952 | AE3: 43983 | AF3: 44013 | AG3: 44044 | AH3: 44075 | AI3: 44105 | AJ3: 44136 | AK3: 44166 | AL3: 44197 | AM3: 44228 | AN3: 44256 | AO3: 44287 | AP3: 44317 | AQ3: 44348 | AR3: 44378 | AS3: 44409 | AT3: 44440 | AU3: 44470 | AV3: 44501 | AW3: 44531 | AX3: 44562 | AY3: 44593 | AZ3: 44621 | BA3: 44652 | BB3: 44682 | BC3: 44713 | BD3: 44743 | BE3: 44774 | BF3: 44805 | BG3: 44835 | BH3: 44866 | BI3: 44896 | BJ3: 44927 | BK3: 44958 | BL3: 44986 | BM3: 45017 | BN3: 45047 | BO3: 45078 | BP3: 45108 | BQ3: 45139 | BR3: 45170 | BS3: 45200 | BT3: 45231 | BU3: 45261 | BV3: 45292 | BW3: 45323 | BX3: 45352 | BY3: 45383 | BZ3: 45413 | CA3: 45444 | CB3: 45474 | CC3: 45505 | CD3: 45536 | CE3: 45566 | CF3: 45597 | CG3: 45627 | CH3: 45658 | CI3: 45689 | CJ3: 45717 | CK3: 45748 | CL3: 45778 | CM3: 45809 | CN3: 45839 | CO3: 45870 | CP3: 45901 | CQ3: 45931 | CR3: 45962 | CS3: 45992 | CT3: 46023 | CU3: 46054 | CV3: 46082 | CW3: 46113 | CX3: 46143 | CY3: 46174 | CZ3: 46204 | DA3: 46235 | DB3: 46266 | DC3: 46296 | DD3: 46327 | DE3: 46357 | DF3: 46388 | DG3: 46419 | DH3: 46447 | DI3: 46478 | DJ3: 46508 | DK3: 46539 | DL3: 46569 | DM3: 46600 | DN3: 46631 | DO3: 46661 | DP3: 46692 | DQ3: 46722
B6: a | C6: -0.118 | D6: 1
B7: b | C7: 0.467 | D7: 2
B8: c | C8: 0.766 | D8: 3
B9: d | C9: 0.888 | D9: 4
B10: e | C10: 1.093 | D10: 5
B11: f | C11: 1.254 | D11: 6
B12: g | C12: 1.568 | D12: 7
B13: h | C13: 1.612 | D13: 8
C20: =OFFSET($B$6,COLUMNS($A:B)-1,MOD(ROWS($1:1)-1,3)) -> b | D20: =OFFSET($B$6,COLUMNS($A:C)-1,MOD(ROWS($1:1)-1,3)) -> c | E20: =OFFSET($B$6,COLUMNS($A:D)-1,MOD(ROWS($1:1)-1,3)) -> d | F20: =OFFSET($B$6,COLUMNS($A:E)-1,MOD(ROWS($1:1)-1,3)) -> e | G20: =OFFSET($B$6,COLUMNS($A:F)-1,MOD(ROWS($1:1)-1,3)) -> f | H20: =OFFSET($B$6,COLUMNS($A:G)-1,MOD(ROWS($1:1)-1,3)) -> g | I20: =OFFSET($B$6,COLUMNS($A:H)-1,MOD(ROWS($1:1)-1,3)) -> h | J20: =OFFSET($B$6,COLUMNS($A:I)-1,MOD(ROWS($1:1)-1,3)) -> 0 | K20: =OFFSET($B$6,COLUMNS($A:J)-1,MOD(ROWS($1:1)-1,3)) -> 0 | L20: =OFFSET($B$6,COLUMNS($A:K)-1,MOD(ROWS($1:1)-1,3)) -> 0 | M20: =OFFSET($B$6,COLUMNS($A:L)-1,MOD(ROWS($1:1)-1,3)) -> 0 | N20: =OFFSET($B$6,COLUMNS($A:M)-1,MOD(ROWS($1:1)-1,3)) -> 0
B21: =OFFSET($B$6,COLUMNS($A:A)-1,MOD(ROWS($1:2)-1,3)) -> -0.118 | C21: =OFFSET($B$6,COLUMNS($A:B)-1,MOD(ROWS($1:2)-1,3)) -> 0.467 | D21: =OFFSET($B$6,COLUMNS($A:C)-1,MOD(ROWS($1:2)-1,3)) -> 0.766 | E21: =OFFSET($B$6,COLUMNS($A:D)-1,MOD(ROWS($1:2)-1,3)) -> 0.888 | F21: =OFFSET($B$6,COLUMNS($A:E)-1,MOD(ROWS($1:2)-1,3)) -> 1.093 | G21: =OFFSET($B$6,COLUMNS($A:F)-1,MOD(ROWS($1:2)-1,3)) -> 1.254 | H21: =OFFSET($B$6,COLUMNS($A:G)-1,MOD(ROWS($1:2)-1,3)) -> 1.568 | I21: =OFFSET($B$6,COLUMNS($A:H)-1,MOD(ROWS($1:2)-1,3)) -> 1.612 | J21: =OFFSET($B$6,COLUMNS($A:I)-1,MOD(ROWS($1:2)-1,3)) -> 0 | K21: =OFFSET($B$6,COLUMNS($A:J)-1,MOD(ROWS($1:2)-1,3)) -> 0 | L21: =OFFSET($B$6,COLUMNS($A:K)-1,MOD(ROWS($1:2)-1,3)) -> 0 | M21: =OFFSET($B$6,COLUMNS($A:L)-1,MOD(ROWS($1:2)-1,3)) -> 0 | N21: =OFFSET($B$6,COLUMNS($A:M)-1,MOD(ROWS($1:2)-1,3)) -> 0
B22: =OFFSET($B$6,COLUMNS($A:A)-1,MOD(ROWS($1:3)-1,3)) -> 1 | C22: =OFFSET($B$6,COLUMNS($A:B)-1,MOD(ROWS($1:3)-1,3)) -> 2 | D22: =OFFSET($B$6,COLUMNS($A:C)-1,MOD(ROWS($1:3)-1,3)) -> 3 | E22: =OFFSET($B$6,COLUMNS($A:D)-1,MOD(ROWS($1:3)-1,3)) -> 4 | F22: =OFFSET($B$6,COLUMNS($A:E)-1,MOD(ROWS($1:3)-1,3)) -> 5 | G22: =OFFSET($B$6,COLUMNS($A:F)-1,MOD(ROWS($1:3)-1,3)) -> 6 | H22: =OFFSET($B$6,COLUMNS($A:G)-1,MOD(ROWS($1:3)-1,3)) -> 7 | I22: =OFFSET($B$6,COLUMNS($A:H)-1,MOD(ROWS($1:3)-1,3)) -> 8 | J22: =OFFSET($B$6,COLUMNS($A:I)-1,MOD(ROWS($1:3)-1,3)) -> 0 | K22: =OFFSET($B$6,COLUMNS($A:J)-1,MOD(ROWS($1:3)-1,3)) -> 0 | L22: =OFFSET($B$6,COLUMNS($A:K)-1,MOD(ROWS($1:3)-1,3)) -> 0 | M22: =OFFSET($B$6,COLUMNS($A:L)-1,MOD(ROWS($1:3)-1,3)) -> 0 | N22: =OFFSET($B$6,COLUMNS($A:M)-1,MOD(ROWS($1:3)-1,3)) -> 0
B24: a | C24: b | D24: c | E24: d | F24: e | G24: f | H24: g | I24: h
B25: -0.118 | C25: 0.467 | D25: 0.766 | E25: 0.888 | F25: 1.093 | G25: 1.254 | H25: 1.568 | I25: 1.612
B26: 1 | C26: 2 | D26: 3 | E26: 4 | F26: 5 | G26: 6 | H26: 7 | I26: 8

Sheet Feuil2
A2: =OFFSET(Feuil1!$B$6,COLUMNS($A:A)-1,MOD(ROWS($1:1)-1,3)) -> a | B2: =OFFSET(Feuil1!$B$6,COLUMNS($A:B)-1,MOD(ROWS($1:1)-1,3)) -> b | C2: =OFFSET(Feuil1!$B$6,COLUMNS($A:C)-1,MOD(ROWS($1:1)-1,3)) -> c | D2: =OFFSET(Feuil1!$B$6,COLUMNS($A:D)-1,MOD(ROWS($1:1)-1,3)) -> d | E2: =OFFSET(Feuil1!$B$6,COLUMNS($A:E)-1,MOD(ROWS($1:1)-1,3)) -> e | F2: =OFFSET(Feuil1!$B$6,COLUMNS($A:F)-1,MOD(ROWS($1:1)-1,3)) -> f | G2: =OFFSET(Feuil1!$B$6,COLUMNS($A:G)-1,MOD(ROWS($1:1)-1,3)) -> g | H2: =OFFSET(Feuil1!$B$6,COLUMNS($A:H)-1,MOD(ROWS($1:1)-1,3)) -> h | I2: =OFFSET(Feuil1!$B$6,COLUMNS($A:I)-1,MOD(ROWS($1:1)-1,3)) -> 0 | J2: =OFFSET(Feuil1!$B$6,COLUMNS($A:J)-1,MOD(ROWS($1:1)-1,3)) -> 0 | K2: =OFFSET(Feuil1!$B$6,COLUMNS($A:K)-1,MOD(ROWS($1:1)-1,3)) -> 0 | L2: =OFFSET(Feuil1!$B$6,COLUMNS($A:L)-1,MOD(ROWS($1:1)-1,3)) -> 0 | M2: =OFFSET(Feuil1!$B$6,COLUMNS($A:M)-1,MOD(ROWS($1:1)-1,3)) -> 0
A3: =OFFSET(Feuil1!$B$6,COLUMNS($A:A)-1,MOD(ROWS($1:2)-1,3)) -> -0.118 | B3: =OFFSET(Feuil1!$B$6,COLUMNS($A:B)-1,MOD(ROWS($1:2)-1,3)) -> 0.467 | C3: =OFFSET(Feuil1!$B$6,COLUMNS($A:C)-1,MOD(ROWS($1:2)-1,3)) -> 0.766 | D3: =OFFSET(Feuil1!$B$6,COLUMNS($A:D)-1,MOD(ROWS($1:2)-1,3)) -> 0.888 | E3: =OFFSET(Feuil1!$B$6,COLUMNS($A:E)-1,MOD(ROWS($1:2)-1,3)) -> 1.093 | F3: =OFFSET(Feuil1!$B$6,COLUMNS($A:F)-1,MOD(ROWS($1:2)-1,3)) -> 1.254 | G3: =OFFSET(Feuil1!$B$6,COLUMNS($A:G)-1,MOD(ROWS($1:2)-1,3)) -> 1.568 | H3: =OFFSET(Feuil1!$B$6,COLUMNS($A:H)-1,MOD(ROWS($1:2)-1,3)) -> 1.612 | I3: =OFFSET(Feuil1!$B$6,COLUMNS($A:I)-1,MOD(ROWS($1:2)-1,3)) -> 0 | J3: =OFFSET(Feuil1!$B$6,COLUMNS($A:J)-1,MOD(ROWS($1:2)-1,3)) -> 0 | K3: =OFFSET(Feuil1!$B$6,COLUMNS($A:K)-1,MOD(ROWS($1:2)-1,3)) -> 0 | L3: =OFFSET(Feuil1!$B$6,COLUMNS($A:L)-1,MOD(ROWS($1:2)-1,3)) -> 0 | M3: =OFFSET(Feuil1!$B$6,COLUMNS($A:M)-1,MOD(ROWS($1:2)-1,3)) -> 0
A4: =OFFSET(Feuil1!$B$6,COLUMNS($A:A)-1,MOD(ROWS($1:3)-1,3)) -> 1 | B4: =OFFSET(Feuil1!$B$6,COLUMNS($A:B)-1,MOD(ROWS($1:3)-1,3)) -> 2 | C4: =OFFSET(Feuil1!$B$6,COLUMNS($A:C)-1,MOD(ROWS($1:3)-1,3)) -> 3 | D4: =OFFSET(Feuil1!$B$6,COLUMNS($A:D)-1,MOD(ROWS($1:3)-1,3)) -> 4 | E4: =OFFSET(Feuil1!$B$6,COLUMNS($A:E)-1,MOD(ROWS($1:3)-1,3)) -> 5 | F4: =OFFSET(Feuil1!$B$6,COLUMNS($A:F)-1,MOD(ROWS($1:3)-1,3)) -> 6 | G4: =OFFSET(Feuil1!$B$6,COLUMNS($A:G)-1,MOD(ROWS($1:3)-1,3)) -> 7 | H4: =OFFSET(Feuil1!$B$6,COLUMNS($A:H)-1,MOD(ROWS($1:3)-1,3)) -> 8 | I4: =OFFSET(Feuil1!$B$6,COLUMNS($A:I)-1,MOD(ROWS($1:3)-1,3)) -> 0 | J4: =OFFSET(Feuil1!$B$6,COLUMNS($A:J)-1,MOD(ROWS($1:3)-1,3)) -> 0 | K4: =OFFSET(Feuil1!$B$6,COLUMNS($A:K)-1,MOD(ROWS($1:3)-1,3)) -> 0 | L4: =OFFSET(Feuil1!$B$6,COLUMNS($A:L)-1,MOD(ROWS($1:3)-1,3)) -> 0 | M4: =OFFSET(Feuil1!$B$6,COLUMNS($A:M)-1,MOD(ROWS($1:3)-1,3)) -> 0

Sheet Feuil3
