Workbook
Name plageDate: OFFSET(Matrice!$G$2:$G$17,,MATCH(Restitution!$B$16,Matrice!$G$1:$R$1,0)-1)

Sheet Matrice
A1: Numéro | B1: Nom prénom | C1: Poste | D1: Equipage | E1: Code equipage | G1: 44957 | H1: 44985 | I1: 45016 | J1: 45046 | K1: 45077 | L1: 45107 | M1: 45138 | N1: 45169 | O1: 45199 | P1: 45230 | Q1: 45260 | R1: 45291
A2: 10 | B2: Monkey D. Luffy | C2: Milieu offensif | D2: Mugiwara | E2: =A2&"-"&D2 -> 10-Mugiwara | G2: 1 | H2: 1 | I2: 1 | J2: 0 | K2: 0 | L2: 0 | M2: 0 | N2: 0 | O2: 0 | P2: 0 | Q2: 0 | R2: 0
A3: 7 | B3: Roronoa Zoro | C3: Attaquant | D3: Mugiwara | E3: =A3&"-"&D3 -> 7-Mugiwara | G3: 1 | H3: 1 | I3: 1 | J3: 0 | K3: 0 | L3: 0 | M3: 0 | N3: 0 | O3: 0 | P3: 0 | Q3: 0 | R3: 0
A4: 7 | B4: Portgas D. Ace | C4: Ailier | D4: Mugiwara | E4: =A4&"-"&D4 -> 7-Mugiwara | G4: 0 | H4: 0 | I4: 0 | J4: 1 | K4: 1 | L4: 1 | M4: 0 | N4: 0 | O4: 0 | P4: 0 | Q4: 0 | R4: 0
A5: 9 | B5: Uzumaki Naruto | C5: Buteur | D5: Mugiwara | E5: =A5&"-"&D5 -> 9-Mugiwara | G5: 0 | H5: 0 | I5: 1 | J5: 1 | K5: 1 | L5: 1 | M5: 1 | N5: 1 | O5: 1 | P5: 0 | Q5: 0 | R5: 0
A6: 10 | B6: Namikaze Minato | C6: Faux neuf | D6: Mugiwara | E6: =A6&"-"&D6 -> 10-Mugiwara | G6: 0 | H6: 0 | I6: 0 | J6: 1 | K6: 1 | L6: 1 | M6: 1 | N6: 0 | O6: 0 | P6: 0 | Q6: 0 | R6: 0
A7: 10 | B7: Edogawa Conan | C7: Buteur | D7: Mugiwara | E7: =A7&"-"&D7 -> 10-Mugiwara | G7: 0 | H7: 0 | I7: 0 | J7: 0 | K7: 0 | L7: 0 | M7: 0 | N7: 1 | O7: 1 | P7: 1 | Q7: 1 | R7: 0
A8: 7 | B8: Uchiha Itachi | C8: Buteur | D8: Mugiwara | E8: =A8&"-"&D8 -> 7-Mugiwara | G8: 0 | H8: 0 | I8: 0 | J8: 0 | K8: 0 | L8: 0 | M8: 1 | N8: 1 | O8: 1 | P8: 1 | Q8: 1 | R8: 0
A9: 9 | B9: Elric Edward | C9: Attaquant | D9: Mugiwara | E9: =A9&"-"&D9 -> 9-Mugiwara | G9: 1 | H9: 1 | I9: 0 | J9: 0 | K9: 0 | L9: 0 | M9: 0 | N9: 0 | O9: 0 | P9: 0 | Q9: 0 | R9: 1
A10: 10 | B10: Trafalgar Law | C10: Milieu offensif | D10: Spade | E10: =A10&"-"&D10 -> 10-Spade | G10: 1 | H10: 1 | I10: 1 | J10: 0 | K10: 0 | L10: 0 | M10: 0 | N10: 0 | O10: 0 | P10: 0 | Q10: 0 | R10: 0
A11: 7 | B11: Edward Newgate | C11: Attaquant | D11: Spade | E11: =A11&"-"&D11 -> 7-Spade | G11: 1 | H11: 1 | I11: 1 | J11: 0 | K11: 0 | L11: 0 | M11: 0 | N11: 0 | O11: 0 | P11: 0 | Q11: 0 | R11: 0
A12: 7 | B12: Sanji Vinsmoke | C12: Ailier | D12: Spade | E12: =A12&"-"&D12 -> 7-Spade | G12: 0 | H12: 0 | I12: 0 | J12: 1 | K12: 1 | L12: 1 | M12: 1 | N12: 0 | O12: 0 | P12: 0 | Q12: 0 | R12: 0
A13: 9 | B13: Marshall D. Teach | C13: Buteur | D13: Spade | E13: =A13&"-"&D13 -> 9-Spade | G13: 1 | H13: 1 | I13: 1 | J13: 1 | K13: 0 | L13: 0 | M13: 0 | N13: 0 | O13: 0 | P13: 0 | Q13: 0 | R13: 0
... A17: 9 | B17: Silvers Rylegh | C17: Attaquant | D17: Spade | E17: =A17&"-"&D17 -> 9-Spade | G17: 0 | H17: 0 | I17: 0 | J17: 0 | K17: 1 | L17: 1 | M17: 1 | N17: 1 | O17: 1 | P17: 1 | Q17: 1 | R17: 1

Sheet Restitution
A1: Liste déroulante -> | B1: 44957
A2: Nom equipe -> | B2: Spade | N2: Spade
N3: Mugiwara
C4: Code équipage | D4: Nom prénom | E4: Poste | F4: Présent ou non ( 1 ou zéro )
A5: =$B$2 -> Spade | B5: 10 | C5: =B5&"-"&A5 -> 10-Spade | D5: =_xlfn.XLOOKUP(C5,Matrice!E:E,Matrice!B:B,,0,1) -> Trafalgar Law | E5: =_xlfn.XLOOKUP(C5,Matrice!E:E,Matrice!C:C,,0,1) -> Milieu offensif | F5: =SUMIFS(INDEX(Matrice!$G$2:$R$17,,VLOOKUP(Restitution!$B$1,Restitution!$M$7:$N$18,2,0)),Matrice!$E$2:$E$17,Restitution!$C5) -> 1
A6: =$B$2 -> Spade | B6: 9 | C6: =B6&"-"&A6 -> 9-Spade | D6: =_xlfn.XLOOKUP(C6,Matrice!E:E,Matrice!B:B,,0,1) -> Marshall D. Teach | E6: =_xlfn.XLOOKUP(C6,Matrice!E:E,Matrice!C:C,,0,1) -> Buteur | F6: =SUMIFS(INDEX(Matrice!$G$2:$R$17,,VLOOKUP(Restitution!$B$1,Restitution!$M$7:$N$18,2,0)),Matrice!$E$2:$E$17,Restitution!$C6) -> 1
A7: =$B$2 -> Spade | B7: 7 | C7: =B7&"-"&A7 -> 7-Spade | D7: =_xlfn.XLOOKUP(C7,Matrice!E:E,Matrice!B:B,,0,1) -> Edward Newgate | E7: =_xlfn.XLOOKUP(C7,Matrice!E:E,Matrice!C:C,,0,1) -> Attaquant | F7: =SUMIFS(INDEX(Matrice!$G$2:$R$17,,VLOOKUP(Restitution!$B$1,Restitution!$M$7:$N$18,2,0)),Matrice!$E$2:$E$17,Restitution!$C7) -> 1 | M7: 44957 | N7: 1
M8: 44985 | N8: 2
M9: 45016 | N9: 3
M10: 45046 | N10: 4
M11: 45077 | N11: 5
M12: 45107 | N12: 6
M13: 45138 | N13: 7
M14: 45169 | N14: 8
M15: 45199 | N15: 9
A16: Liste déroulante -> | B16: 45291 | M16: 45230 | N16: 10
A17: Nom equipe -> | B17: Mugiwara | M17: 45260 | N17: 11
M18: 45291 | N18: 12
C19: Code équipage | D19: Nom prénom | E19: Poste | F19: Présent ou non ( 1 ou zéro )
A20: =$B$17 -> Mugiwara | B20: 10 | C20: =B20&"-"&A20 -> 10-Mugiwara | D20: Monkey D. Garp | E20: Faux neuf | F20: 1
A21: =$B$17 -> Mugiwara | B21: 9 | C21: =B21&"-"&A21 -> 9-Mugiwara | D21: Marshall D. Teach | E21: Buteur | F21: 1
A22: =$B$17 -> Mugiwara | B22: 7 | C22: =B22&"-"&A22 -> 7-Mugiwara | D22: Sanji Vinsmoke | E22: Ailier | F22: 1
C25: {=IFERROR(INDEX(Matrice!$E$2:$E$17,SMALL(IF((Matrice!$D$2:$D$17=$B$17)*(plageDate=1),ROW(plageDate)-1),ROWS($1:1))),"")} -> 9-Mugiwara | D25: {=IFERROR(INDEX(Matrice!$B$2:$B$17,SMALL(IF((Matrice!$D$2:$D$17=$B$17)*(plageDate=1),ROW(plageDate)-1),ROWS($1:1))),"")} -> Elric Edward | E25: {=IFERROR(INDEX(Matrice!$C$2:$C$17,SMALL(IF((Matrice!$D$2:$D$17=$B$17)*(plageDate=1),ROW(plageDate)-1),ROWS($1:1))),"")} -> Attaquant
C26: {=IFERROR(INDEX(Matrice!$E$2:$E$17,SMALL(IF((Matrice!$D$2:$D$17=$B$17)*(plageDate=1),ROW(plageDate)-1),ROWS($1:2))),"")} | D26: {=IFERROR(INDEX(Matrice!$B$2:$B$17,SMALL(IF((Matrice!$D$2:$D$17=$B$17)*(plageDate=1),ROW(plageDate)-1),ROWS($1:2))),"")} | E26: {=IFERROR(INDEX(Matrice!$C$2:$C$17,SMALL(IF((Matrice!$D$2:$D$17=$B$17)*(plageDate=1),ROW(plageDate)-1),ROWS($1:2))),"")}
C27: {=IFERROR(INDEX(Matrice!$E$2:$E$17,SMALL(IF((Matrice!$D$2:$D$17=$B$17)*(plageDate=1),ROW(plageDate)-1),ROWS($1:3))),"")} | D27: {=IFERROR(INDEX(Matrice!$B$2:$B$17,SMALL(IF((Matrice!$D$2:$D$17=$B$17)*(plageDate=1),ROW(plageDate)-1),ROWS($1:3))),"")} | E27: {=IFERROR(INDEX(Matrice!$C$2:$C$17,SMALL(IF((Matrice!$D$2:$D$17=$B$17)*(plageDate=1),ROW(plageDate)-1),ROWS($1:3))),"")}
C28: {=IFERROR(INDEX(Matrice!$E$2:$E$17,SMALL(IF((Matrice!$D$2:$D$17=$B$17)*(plageDate=1),ROW(plageDate)-1),ROWS($1:4))),"")} | D28: {=IFERROR(INDEX(Matrice!$B$2:$B$17,SMALL(IF((Matrice!$D$2:$D$17=$B$17)*(plageDate=1),ROW(plageDate)-1),ROWS($1:4))),"")} | E28: {=IFERROR(INDEX(Matrice!$C$2:$C$17,SMALL(IF((Matrice!$D$2:$D$17=$B$17)*(plageDate=1),ROW(plageDate)-1),ROWS($1:4))),"")}
C29: {=IFERROR(INDEX(Matrice!$E$2:$E$17,SMALL(IF((Matrice!$D$2:$D$17=$B$17)*(plageDate=1),ROW(plageDate)-1),ROWS($1:5))),"")} | D29: {=IFERROR(INDEX(Matrice!$B$2:$B$17,SMALL(IF((Matrice!$D$2:$D$17=$B$17)*(plageDate=1),ROW(plageDate)-1),ROWS($1:5))),"")} | E29: {=IFERROR(INDEX(Matrice!$C$2:$C$17,SMALL(IF((Matrice!$D$2:$D$17=$B$17)*(plageDate=1),ROW(plageDate)-1),ROWS($1:5))),"")}
C30: {=IFERROR(INDEX(Matrice!$E$2:$E$17,SMALL(IF((Matrice!$D$2:$D$17=$B$17)*(plageDate=1),ROW(plageDate)-1),ROWS($1:6))),"")} | D30: {=IFERROR(INDEX(Matrice!$B$2:$B$17,SMALL(IF((Matrice!$D$2:$D$17=$B$17)*(plageDate=1),ROW(plageDate)-1),ROWS($1:6))),"")} | E30: {=IFERROR(INDEX(Matrice!$C$2:$C$17,SMALL(IF((Matrice!$D$2:$D$17=$B$17)*(plageDate=1),ROW(plageDate)-1),ROWS($1:6))),"")}
C31: {=IFERROR(INDEX(Matrice!$E$2:$E$17,SMALL(IF((Matrice!$D$2:$D$17=$B$17)*(plageDate=1),ROW(plageDate)-1),ROWS($1:7))),"")} | D31: {=IFERROR(INDEX(Matrice!$B$2:$B$17,SMALL(IF((Matrice!$D$2:$D$17=$B$17)*(plageDate=1),ROW(plageDate)-1),ROWS($1:7))),"")} | E31: {=IFERROR(INDEX(Matrice!$C$2:$C$17,SMALL(IF((Matrice!$D$2:$D$17=$B$17)*(plageDate=1),ROW(plageDate)-1),ROWS($1:7))),"")}
