Workbook
Name offre: '[1]Offre commerciale '!$D$5:$H$35
Name référence: '[1]Offre commerciale '!$D$6:$D$35

Sheet Feuil1
F11: Type d'offre | H11: référence | I11: Produits | J11: Prix HT | K11: Taux TVA | L11: TVA | M11: Prix TTC | R11: Quantités
F12: Boissons | H12: 1.1 | I12: soft, verre de vin ou 1/2 Bière | J12: 3 | K12: 0.1 | L12: =J12*K12 -> 0.3 | M12: =J12+L12 -> 3.3 | N12: TRUE | O12: =IF(N12,ROW()-11,"") -> 1 | R12: 1
H13: 1.2 | I13: 2 soft, verre de vin ou 1/2 Bière/ personne | J13: 6 | K13: 0.1 | L13: =J13*K13 -> 0.6 | M13: =J13+L13 -> 6.6 | N13: FALSE | O13: =IF(N13,ROW()-11,"") | R13: 2
H14: 1.3 | I14: 3 soft, verre de vin ou 1/2 Bière/ personne | J14: 9 | K14: 0.1 | L14: =J14*K14 -> 0.9 | M14: =J14+L14 -> 9.9 | N14: FALSE | O14: =IF(N14,ROW()-11,"") | R14: 3
H15: 1.4 | J15: 1.36 | K15: 0.1 | L15: =J15*K15 -> 0.136 | M15: =J15+L15 -> 1.496 | N15: FALSE | O15: =IF(N15,ROW()-11,"") | R15: 4
H16: 1.5 | I16: Bouteille de champagne | J16: 32.5 | K16: 0.2 | L16: =J16*K16 -> 6.5 | M16: =J16+L16 -> 39 | N16: TRUE | O16: =IF(N16,ROW()-11,"") -> 5 | R16: 5
H17: 1.6 | I17: {=IF(OR(#REF!=Feuil1!H12:H15,#REF!=Feuil1!H18:H35),Feuil2!#REF!*0.1,"")} -> #REF! | J17: 18 | K17: 0.2 | L17: =J17*K17 -> 3.6 | M17: =J17+L17 -> 21.6 | N17: FALSE | O17: =IF(N17,ROW()-11,"") | R17: 6
F18: Restauration snack | H18: 2.1 | I18: Pizzas | J18: 10 | K18: 0.1 | L18: =J18*K18 -> 1 | M18: =J18+L18 -> 11 | N18: FALSE | O18: =IF(N18,ROW()-11,"") | R18: 7
H19: 2.2 | I19: Burgers seul | J19: 9.5 | K19: 0.1 | L19: =J19*K19 -> 0.95 | M19: =J19+L19 -> 10.45 | N19: FALSE | O19: =IF(N19,ROW()-11,"") | R19: 8
H20: 2.3 | I20: Burgers + Frites | J20: 11 | K20: 0.1 | L20: =J20*K20 -> 1.1 | M20: =J20+L20 -> 12.1 | N20: FALSE | O20: =IF(N20,ROW()-11,"") | R20: 9
H21: 2.4 | I21: Salades | J21: 9.5 | K21: 0.1 | L21: =J21*K21 -> 0.95 | M21: =J21+L21 -> 10.45 | N21: TRUE | O21: =IF(N21,ROW()-11,"") -> 10 | R21: 10
H22: 2.5 | I22: Bagels | J22: 9.5 | K22: 0.1 | L22: =J22*K22 -> 0.95 | M22: =J22+L22 -> 10.45 | N22: TRUE | O22: =IF(N22,ROW()-11,"") -> 11 | R22: 11
H23: 2.6 | I23: formule repas (burger, bagel ou salade + boisson) | J23: 11.36 | K23: 0.1 | L23: =J23*K23 -> 1.136 | M23: =J23+L23 -> 12.496 | N23: FALSE | O23: =IF(N23,ROW()-11,"") | R23: 12
H24: 2.7 | I24: cuisse de confit de canard, frite maison et salade | J24: 11.82 | K24: 0.1 | L24: =J24*K24 -> 1.182 | M24: =J24+L24 -> 13.002 | N24: FALSE | O24: =IF(N24,ROW()-11,"") | R24: 13
H25: 2.8 | I25: Portions frites ou salade verte aux noix | J25: 2.5 | K25: 0.1 | L25: =J25*K25 -> 0.25 | M25: =J25+L25 -> 2.75 | N25: FALSE | O25: =IF(N25,ROW()-11,"") | R25: 14
H26: 2.9 | I26: Apéritif planche de charcuterie/fromage | J26: 4 | K26: 0.1 | L26: =J26*K26 -> 0.4 | M26: =J26+L26 -> 4.4 | N26: FALSE | O26: =IF(N26,ROW()-11,"") | R26: 15
H27: 2.10 | I27: Trio de fritures 6pieces/ personne | J27: 6 | K27: 0.1 | L27: =J27*K27 -> 0.6 | M27: =J27+L27 -> 6.6 | N27: FALSE | O27: =IF(N27,ROW()-11,"") | R27: 16
H28: 2.11 | I28: Plateau saucisson, olives , tomates cerises | J28: 3 | K28: 0.1 | L28: =J28*K28 -> 0.3 | M28: =J28+L28 -> 3.3 | N28: FALSE | O28: =IF(N28,ROW()-11,"") | R28: 17
F29: Restauration sucrée | H29: 3.1 | I29: Gauffre | J29: 2 | K29: 0.1 | L29: =J29*K29 -> 0.2 | M29: =J29+L29 -> 2.2 | N29: FALSE | O29: =IF(N29,ROW()-11,"") | R29: 18
H30: 3.2 | I30: Accompagnement gauffre | J30: 0.5 | K30: 0.1 | L30: =J30*K30 -> 0.05 | M30: =J30+L30 -> 0.55 | N30: FALSE | O30: =IF(N30,ROW()-11,"") | R30: 19
H31: 3.3 | I31: Gouter sortie de la vague macarons, canelés, café | J31: 4.5 | K31: 0.1 | L31: =J31*K31 -> 0.45 | M31: =J31+L31 -> 4.95 | N31: FALSE | O31: =IF(N31,ROW()-11,"") | R31: 20
H32: 3.4 | I32: café + 2 canelés lunch | J32: 3 | K32: 0.1 | L32: =J32*K32 -> 0.3 | M32: =J32+L32 -> 3.3 | N32: FALSE | O32: =IF(N32,ROW()-11,"") | R32: 21
H33: 3.5 | I33: Option accueil (café, jus d'orange, mini viennoiserie) | J33: 4.54 | K33: 0.1 | L33: =J33*K33 -> 0.454 | M33: =J33+L33 -> 4.994 | N33: FALSE | O33: =IF(N33,ROW()-11,"") | R33: 22
H34: 3.6 | I34: café + mignardise | J34: 13.5 | K34: 0.1 | L34: =J34*K34 -> 1.35 | M34: =J34+L34 -> 14.85 | N34: FALSE | O34: =IF(N34,ROW()-11,"") | R34: 23
H35: 3.7 | I35: macarons, canelés, café | J35: 3 | K35: 0.1 | L35: =J35*K35 -> 0.3 | M35: =J35+L35 -> 3.3 | N35: FALSE | O35: =IF(N35,ROW()-11,"") | R35: 24
F36: Sportive | H36: 4.1 | I36: Personne supplémentaire | J36: 18.75 | K36: 0.2 | L36: =J36*K36 -> 3.75 | M36: =J36+L36 -> 22.5 | N36: FALSE | O36: =IF(N36,ROW()-11,"") | R36: 25
H37: 4.2 | I37: Session 55 min classique/ 8 personnes | J37: 150 | K37: 0.2 | L37: =J37*K37 -> 30 | M37: =J37+L37 -> 180 | N37: FALSE | O37: =IF(N37,ROW()-11,"") | R37: 26
H38: 4.3 | I38: Session 55 min 12 personnes centre de loisirs | J38: 166.67 | K38: 0.2 | L38: =J38*K38 -> 33.334 | M38: =J38+L38 -> 200.004 | N38: FALSE | O38: =IF(N38,ROW()-11,"") | R38: 27
H39: 4.4 | I39: session étudiante 20 personnes | J39: 166.67 | K39: 0.2 | L39: =J39*K39 -> 33.334 | M39: =J39+L39 -> 200.004 | N39: FALSE | O39: =IF(N39,ROW()-11,"") | R39: 28
H40: 4.5 | I40: Location shorty | J40: 1.67 | K40: 0.2 | L40: =J40*K40 -> 0.334 | M40: =J40+L40 -> 2.004 | N40: FALSE | O40: =IF(N40,ROW()-11,"") | R40: 29
F41: Accueil | H41: 5 | I41: Privatisation Lieu 1h | J41: 83.33 | K41: 0.2 | L41: =J41*K41 -> 16.666 | M41: =J41+L41 -> 99.996 | N41: FALSE | O41: =IF(N41,ROW()-11,"") | R41: 30

Sheet Feuil2
E15: Référence | F15: Prestation | G15: Prix unitaire | H15: Quantité | I15: Total HT | J15: TVA 10% | K15: TVA 20% | L15: Total TTC
E16: {=IFERROR(INDEX(Feuil1!H$12:H$41,SMALL(Feuil1!$O$12:$O$41,ROWS($1:1))),"")} -> 1.1 | F16: {=IFERROR(INDEX(Feuil1!I$12:I$41,SMALL(Feuil1!$O$12:$O$41,ROWS($1:1))),"")} -> soft, verre de vin ou 1/2 Bière | G16: {=IFERROR(INDEX(Feuil1!J$12:J$41,SMALL(Feuil1!$O$12:$O$41,ROWS($1:1))),"")} -> 3 | H16: 2 | I16: =IF(OR(E16="",H16=""),"",G16*H16) -> 6 | J16: {=IFERROR(IF(INDEX(Feuil1!K$12:K$41,SMALL(Feuil1!$O$12:$O$41,ROWS($1:1)))=0.1,0.1*I16,""),"")} -> 0.6 | K16: {=IFERROR(IF(INDEX(Feuil1!K$12:K$41,SMALL(Feuil1!$O$12:$O$41,ROWS($1:1)))=0.2,0.2*I16,""),"")} | L16: =IF(E16="","",SUM(I16:K16)) -> 6.6
E17: {=IFERROR(INDEX(Feuil1!H$12:H$41,SMALL(Feuil1!$O$12:$O$41,ROWS($1:2))),"")} -> 1.5 | F17: {=IFERROR(INDEX(Feuil1!I$12:I$41,SMALL(Feuil1!$O$12:$O$41,ROWS($1:2))),"")} -> Bouteille de champagne | G17: {=IFERROR(INDEX(Feuil1!J$12:J$41,SMALL(Feuil1!$O$12:$O$41,ROWS($1:2))),"")} -> 32.5 | H17: 10 | I17: =IF(OR(E17="",H17=""),"",G17*H17) -> 325 | J17: {=IFERROR(IF(INDEX(Feuil1!K$12:K$41,SMALL(Feuil1!$O$12:$O$41,ROWS($1:2)))=0.1,0.1*I17,""),"")} | K17: {=IFERROR(IF(INDEX(Feuil1!K$12:K$41,SMALL(Feuil1!$O$12:$O$41,ROWS($1:2)))=0.2,0.2*I17,""),"")} -> 65 | L17: =IF(E17="","",SUM(I17:K17)) -> 390
E18: {=IFERROR(INDEX(Feuil1!H$12:H$41,SMALL(Feuil1!$O$12:$O$41,ROWS($1:3))),"")} -> 2.4 | F18: {=IFERROR(INDEX(Feuil1!I$12:I$41,SMALL(Feuil1!$O$12:$O$41,ROWS($1:3))),"")} -> Salades | G18: {=IFERROR(INDEX(Feuil1!J$12:J$41,SMALL(Feuil1!$O$12:$O$41,ROWS($1:3))),"")} -> 9.5 | H18: 5 | I18: =IF(OR(E18="",H18=""),"",G18*H18) -> 47.5 | J18: {=IFERROR(IF(INDEX(Feuil1!K$12:K$41,SMALL(Feuil1!$O$12:$O$41,ROWS($1:3)))=0.1,0.1*I18,""),"")} -> 4.75 | K18: {=IFERROR(IF(INDEX(Feuil1!K$12:K$41,SMALL(Feuil1!$O$12:$O$41,ROWS($1:3)))=0.2,0.2*I18,""),"")} | L18: =IF(E18="","",SUM(I18:K18)) -> 52.25
E19: {=IFERROR(INDEX(Feuil1!H$12:H$41,SMALL(Feuil1!$O$12:$O$41,ROWS($1:4))),"")} -> 2.5 | F19: {=IFERROR(INDEX(Feuil1!I$12:I$41,SMALL(Feuil1!$O$12:$O$41,ROWS($1:4))),"")} -> Bagels | G19: {=IFERROR(INDEX(Feuil1!J$12:J$41,SMALL(Feuil1!$O$12:$O$41,ROWS($1:4))),"")} -> 9.5 | I19: =IF(OR(E19="",H19=""),"",G19*H19) | J19: {=IFERROR(IF(INDEX(Feuil1!K$12:K$41,SMALL(Feuil1!$O$12:$O$41,ROWS($1:4)))=0.1,0.1*I19,""),"")} | K19: {=IFERROR(IF(INDEX(Feuil1!K$12:K$41,SMALL(Feuil1!$O$12:$O$41,ROWS($1:4)))=0.2,0.2*I19,""),"")} | L19: =IF(E19="","",SUM(I19:K19)) -> 0
E20: {=IFERROR(INDEX(Feuil1!H$12:H$41,SMALL(Feuil1!$O$12:$O$41,ROWS($1:5))),"")} | F20: {=IFERROR(INDEX(Feuil1!I$12:I$41,SMALL(Feuil1!$O$12:$O$41,ROWS($1:5))),"")} | G20: {=IFERROR(INDEX(Feuil1!J$12:J$41,SMALL(Feuil1!$O$12:$O$41,ROWS($1:5))),"")} | I20: =IF(OR(E20="",H20=""),"",G20*H20) | J20: {=IFERROR(IF(INDEX(Feuil1!K$12:K$41,SMALL(Feuil1!$O$12:$O$41,ROWS($1:5)))=0.1,0.1*I20,""),"")} | K20: {=IFERROR(IF(INDEX(Feuil1!K$12:K$41,SMALL(Feuil1!$O$12:$O$41,ROWS($1:5)))=0.2,0.2*I20,""),"")} | L20: =IF(E20="","",SUM(I20:K20))
E21: {=IFERROR(INDEX(Feuil1!H$12:H$41,SMALL(Feuil1!$O$12:$O$41,ROWS($1:6))),"")} | F21: {=IFERROR(INDEX(Feuil1!I$12:I$41,SMALL(Feuil1!$O$12:$O$41,ROWS($1:6))),"")} | G21: {=IFERROR(INDEX(Feuil1!J$12:J$41,SMALL(Feuil1!$O$12:$O$41,ROWS($1:6))),"")} | I21: =IF(OR(E21="",H21=""),"",G21*H21) | J21: {=IFERROR(IF(INDEX(Feuil1!K$12:K$41,SMALL(Feuil1!$O$12:$O$41,ROWS($1:6)))=0.1,0.1*I21,""),"")} | K21: {=IFERROR(IF(INDEX(Feuil1!K$12:K$41,SMALL(Feuil1!$O$12:$O$41,ROWS($1:6)))=0.2,0.2*I21,""),"")} | L21: =IF(E21="","",SUM(I21:K21))
E22: {=IFERROR(INDEX(Feuil1!H$12:H$41,SMALL(Feuil1!$O$12:$O$41,ROWS($1:7))),"")} | F22: {=IFERROR(INDEX(Feuil1!I$12:I$41,SMALL(Feuil1!$O$12:$O$41,ROWS($1:7))),"")} | G22: {=IFERROR(INDEX(Feuil1!J$12:J$41,SMALL(Feuil1!$O$12:$O$41,ROWS($1:7))),"")} | I22: =IF(OR(E22="",H22=""),"",G22*H22) | J22: {=IFERROR(IF(INDEX(Feuil1!K$12:K$41,SMALL(Feuil1!$O$12:$O$41,ROWS($1:7)))=0.1,0.1*I22,""),"")} | K22: {=IFERROR(IF(INDEX(Feuil1!K$12:K$41,SMALL(Feuil1!$O$12:$O$41,ROWS($1:7)))=0.2,0.2*I22,""),"")} | L22: =IF(E22="","",SUM(I22:K22))
