Workbook

Sheet Feuil1
A2: point de départ onglet 1
A4: Période : du 30/01 au 24/02/2017 | D4: HEURES | I4: PRIMES | M4: ABSENCES
D5: Heures | E5: Heures rétabli | F5: H 100% | G5: H 125% | H5: H 150% | I5: Repas | J5: Equipe | K5: Garage | L5: Chargement | M5: Congès payés | O5: Maladie | Q5: Accident de travail
A6: SEMAINES | B6: Matricule | C6: Nom / Prénom
B7: 1 | C7: alain | D7: TOTAL | E7: 0 | F7: 0 | G7: 8 | H7: 2 | I7: 150 | J7: 30 | K7: 58 | L7: 5
B8: 2 | C8: dylan | D8: TOTAL | E8: 0 | F8: 0 | G8: 8 | H8: 10 | I8: 42 | J8: 40 | K8: 22 | L8: 5
B9: 3 | C9: samantha | D9: TOTAL | E9: 0 | F9: 0 | G9: 3 | H9: 0 | I9: 117 | J9: 50 | K9: 34 | L9: 5

Sheet Feuil2
A4: Matricule
A5: MMAT
A6: =IF(ROWS($1:1)<=COUNTA(Feuil1!$B$7:$B$9)*7,OFFSET(Feuil1!$B$7,(ROWS($1:1)-1)/7,0),"") -> 1 | B6: =IF(A6="","",INDEX(Feuil1!$F$5:$L$5,1,MOD(ROWS($1:1)-1,7)+1)) -> H 100% | C6: =IF(A6="","",INDEX(Feuil1!$F$7:$L$9,A6,COUNTIF($A$6:$A6,A6))) -> 0
A7: =IF(ROWS($1:2)<=COUNTA(Feuil1!$B$7:$B$9)*7,OFFSET(Feuil1!$B$7,(ROWS($1:2)-1)/7,0),"") -> 1 | B7: =IF(A7="","",INDEX(Feuil1!$F$5:$L$5,1,MOD(ROWS($1:2)-1,7)+1)) -> H 125% | C7: =IF(A7="","",INDEX(Feuil1!$F$7:$L$9,A7,COUNTIF($A$6:$A7,A7))) -> 8
A8: =IF(ROWS($1:3)<=COUNTA(Feuil1!$B$7:$B$9)*7,OFFSET(Feuil1!$B$7,(ROWS($1:3)-1)/7,0),"") -> 1 | B8: =IF(A8="","",INDEX(Feuil1!$F$5:$L$5,1,MOD(ROWS($1:3)-1,7)+1)) -> H 150% | C8: =IF(A8="","",INDEX(Feuil1!$F$7:$L$9,A8,COUNTIF($A$6:$A8,A8))) -> 2
A9: =IF(ROWS($1:4)<=COUNTA(Feuil1!$B$7:$B$9)*7,OFFSET(Feuil1!$B$7,(ROWS($1:4)-1)/7,0),"") -> 1 | B9: =IF(A9="","",INDEX(Feuil1!$F$5:$L$5,1,MOD(ROWS($1:4)-1,7)+1)) -> Repas | C9: =IF(A9="","",INDEX(Feuil1!$F$7:$L$9,A9,COUNTIF($A$6:$A9,A9))) -> 150
A10: =IF(ROWS($1:5)<=COUNTA(Feuil1!$B$7:$B$9)*7,OFFSET(Feuil1!$B$7,(ROWS($1:5)-1)/7,0),"") -> 1 | B10: =IF(A10="","",INDEX(Feuil1!$F$5:$L$5,1,MOD(ROWS($1:5)-1,7)+1)) -> Equipe | C10: =IF(A10="","",INDEX(Feuil1!$F$7:$L$9,A10,COUNTIF($A$6:$A10,A10))) -> 30
A11: =IF(ROWS($1:6)<=COUNTA(Feuil1!$B$7:$B$9)*7,OFFSET(Feuil1!$B$7,(ROWS($1:6)-1)/7,0),"") -> 1 | B11: =IF(A11="","",INDEX(Feuil1!$F$5:$L$5,1,MOD(ROWS($1:6)-1,7)+1)) -> Garage | C11: =IF(A11="","",INDEX(Feuil1!$F$7:$L$9,A11,COUNTIF($A$6:$A11,A11))) -> 58
A12: =IF(ROWS($1:7)<=COUNTA(Feuil1!$B$7:$B$9)*7,OFFSET(Feuil1!$B$7,(ROWS($1:7)-1)/7,0),"") -> 1 | B12: =IF(A12="","",INDEX(Feuil1!$F$5:$L$5,1,MOD(ROWS($1:7)-1,7)+1)) -> Chargement | C12: =IF(A12="","",INDEX(Feuil1!$F$7:$L$9,A12,COUNTIF($A$6:$A12,A12))) -> 5
A13: =IF(ROWS($1:8)<=COUNTA(Feuil1!$B$7:$B$9)*7,OFFSET(Feuil1!$B$7,(ROWS($1:8)-1)/7,0),"") -> 2 | B13: =IF(A13="","",INDEX(Feuil1!$F$5:$L$5,1,MOD(ROWS($1:8)-1,7)+1)) -> H 100% | C13: =IF(A13="","",INDEX(Feuil1!$F$7:$L$9,A13,COUNTIF($A$6:$A13,A13))) -> 0
A14: =IF(ROWS($1:9)<=COUNTA(Feuil1!$B$7:$B$9)*7,OFFSET(Feuil1!$B$7,(ROWS($1:9)-1)/7,0),"") -> 2 | B14: =IF(A14="","",INDEX(Feuil1!$F$5:$L$5,1,MOD(ROWS($1:9)-1,7)+1)) -> H 125% | C14: =IF(A14="","",INDEX(Feuil1!$F$7:$L$9,A14,COUNTIF($A$6:$A14,A14))) -> 8
A15: =IF(ROWS($1:10)<=COUNTA(Feuil1!$B$7:$B$9)*7,OFFSET(Feuil1!$B$7,(ROWS($1:10)-1)/7,0),"") -> 2 | B15: =IF(A15="","",INDEX(Feuil1!$F$5:$L$5,1,MOD(ROWS($1:10)-1,7)+1)) -> H 150% | C15: =IF(A15="","",INDEX(Feuil1!$F$7:$L$9,A15,COUNTIF($A$6:$A15,A15))) -> 10
A16: =IF(ROWS($1:11)<=COUNTA(Feuil1!$B$7:$B$9)*7,OFFSET(Feuil1!$B$7,(ROWS($1:11)-1)/7,0),"") -> 2 | B16: =IF(A16="","",INDEX(Feuil1!$F$5:$L$5,1,MOD(ROWS($1:11)-1,7)+1)) -> Repas | C16: =IF(A16="","",INDEX(Feuil1!$F$7:$L$9,A16,COUNTIF($A$6:$A16,A16))) -> 42
A17: =IF(ROWS($1:12)<=COUNTA(Feuil1!$B$7:$B$9)*7,OFFSET(Feuil1!$B$7,(ROWS($1:12)-1)/7,0),"") -> 2 | B17: =IF(A17="","",INDEX(Feuil1!$F$5:$L$5,1,MOD(ROWS($1:12)-1,7)+1)) -> Equipe | C17: =IF(A17="","",INDEX(Feuil1!$F$7:$L$9,A17,COUNTIF($A$6:$A17,A17))) -> 40
A18: =IF(ROWS($1:13)<=COUNTA(Feuil1!$B$7:$B$9)*7,OFFSET(Feuil1!$B$7,(ROWS($1:13)-1)/7,0),"") -> 2 | B18: =IF(A18="","",INDEX(Feuil1!$F$5:$L$5,1,MOD(ROWS($1:13)-1,7)+1)) -> Garage | C18: =IF(A18="","",INDEX(Feuil1!$F$7:$L$9,A18,COUNTIF($A$6:$A18,A18))) -> 22
A19: =IF(ROWS($1:14)<=COUNTA(Feuil1!$B$7:$B$9)*7,OFFSET(Feuil1!$B$7,(ROWS($1:14)-1)/7,0),"") -> 2 | B19: =IF(A19="","",INDEX(Feuil1!$F$5:$L$5,1,MOD(ROWS($1:14)-1,7)+1)) -> Chargement | C19: =IF(A19="","",INDEX(Feuil1!$F$7:$L$9,A19,COUNTIF($A$6:$A19,A19))) -> 5
A20: =IF(ROWS($1:15)<=COUNTA(Feuil1!$B$7:$B$9)*7,OFFSET(Feuil1!$B$7,(ROWS($1:15)-1)/7,0),"") -> 3 | B20: =IF(A20="","",INDEX(Feuil1!$F$5:$L$5,1,MOD(ROWS($1:15)-1,7)+1)) -> H 100% | C20: =IF(A20="","",INDEX(Feuil1!$F$7:$L$9,A20,COUNTIF($A$6:$A20,A20))) -> 0
A21: =IF(ROWS($1:16)<=COUNTA(Feuil1!$B$7:$B$9)*7,OFFSET(Feuil1!$B$7,(ROWS($1:16)-1)/7,0),"") -> 3 | B21: =IF(A21="","",INDEX(Feuil1!$F$5:$L$5,1,MOD(ROWS($1:16)-1,7)+1)) -> H 125% | C21: =IF(A21="","",INDEX(Feuil1!$F$7:$L$9,A21,COUNTIF($A$6:$A21,A21))) -> 3
A22: =IF(ROWS($1:17)<=COUNTA(Feuil1!$B$7:$B$9)*7,OFFSET(Feuil1!$B$7,(ROWS($1:17)-1)/7,0),"") -> 3 | B22: =IF(A22="","",INDEX(Feuil1!$F$5:$L$5,1,MOD(ROWS($1:17)-1,7)+1)) -> H 150% | C22: =IF(A22="","",INDEX(Feuil1!$F$7:$L$9,A22,COUNTIF($A$6:$A22,A22))) -> 0
A23: =IF(ROWS($1:18)<=COUNTA(Feuil1!$B$7:$B$9)*7,OFFSET(Feuil1!$B$7,(ROWS($1:18)-1)/7,0),"") -> 3 | B23: =IF(A23="","",INDEX(Feuil1!$F$5:$L$5,1,MOD(ROWS($1:18)-1,7)+1)) -> Repas | C23: =IF(A23="","",INDEX(Feuil1!$F$7:$L$9,A23,COUNTIF($A$6:$A23,A23))) -> 117
A24: =IF(ROWS($1:19)<=COUNTA(Feuil1!$B$7:$B$9)*7,OFFSET(Feuil1!$B$7,(ROWS($1:19)-1)/7,0),"") -> 3 | B24: =IF(A24="","",INDEX(Feuil1!$F$5:$L$5,1,MOD(ROWS($1:19)-1,7)+1)) -> Equipe | C24: =IF(A24="","",INDEX(Feuil1!$F$7:$L$9,A24,COUNTIF($A$6:$A24,A24))) -> 50
A25: =IF(ROWS($1:20)<=COUNTA(Feuil1!$B$7:$B$9)*7,OFFSET(Feuil1!$B$7,(ROWS($1:20)-1)/7,0),"") -> 3 | B25: =IF(A25="","",INDEX(Feuil1!$F$5:$L$5,1,MOD(ROWS($1:20)-1,7)+1)) -> Garage | C25: =IF(A25="","",INDEX(Feuil1!$F$7:$L$9,A25,COUNTIF($A$6:$A25,A25))) -> 34
A26: =IF(ROWS($1:21)<=COUNTA(Feuil1!$B$7:$B$9)*7,OFFSET(Feuil1!$B$7,(ROWS($1:21)-1)/7,0),"") -> 3 | B26: =IF(A26="","",INDEX(Feuil1!$F$5:$L$5,1,MOD(ROWS($1:21)-1,7)+1)) -> Chargement | C26: =IF(A26="","",INDEX(Feuil1!$F$7:$L$9,A26,COUNTIF($A$6:$A26,A26))) -> 5
A27: =IF(ROWS($1:22)<=COUNTA(Feuil1!$B$7:$B$9)*7,OFFSET(Feuil1!$B$7,(ROWS($1:22)-1)/7,0),"") | B27: =IF(A27="","",INDEX(Feuil1!$F$5:$L$5,1,MOD(ROWS($1:22)-1,7)+1)) | C27: =IF(A27="","",INDEX(Feuil1!$F$7:$L$9,A27,COUNTIF($A$6:$A27,A27))) | E27: =IF(ROWS($1:22)<=COUNTA(Feuil1!$A$15:$A$50),OFFSET(Feuil1!$B$7,(ROWS($1:22)-1)/7,0),"")
A28: =IF(ROWS($1:23)<=COUNTA(Feuil1!$B$7:$B$9)*7,OFFSET(Feuil1!$B$7,(ROWS($1:23)-1)/7,0),"") | B28: =IF(A28="","",INDEX(Feuil1!$F$5:$L$5,1,MOD(ROWS($1:23)-1,7)+1)) | C28: =IF(A28="","",INDEX(Feuil1!$F$7:$L$9,A28,COUNTIF($A$6:$A28,A28))) | E28: =IF(ROWS($1:23)<=COUNTA(Feuil1!$A$15:$A$50),OFFSET(Feuil1!$B$7,(ROWS($1:23)-1)/7,0),"")
A29: =IF(ROWS($1:24)<=COUNTA(Feuil1!$B$7:$B$9)*7,OFFSET(Feuil1!$B$7,(ROWS($1:24)-1)/7,0),"") | B29: =IF(A29="","",INDEX(Feuil1!$F$5:$L$5,1,MOD(ROWS($1:24)-1,7)+1)) | C29: =IF(A29="","",INDEX(Feuil1!$F$7:$L$9,A29,COUNTIF($A$6:$A29,A29)))
A30: =IF(ROWS($1:25)<=COUNTA(Feuil1!$B$7:$B$9)*7,OFFSET(Feuil1!$B$7,(ROWS($1:25)-1)/7,0),"") | B30: =IF(A30="","",INDEX(Feuil1!$F$5:$L$5,1,MOD(ROWS($1:25)-1,7)+1)) | C30: =IF(A30="","",INDEX(Feuil1!$F$7:$L$9,A30,COUNTIF($A$6:$A30,A30)))

Sheet Feuil3
