Workbook
Name abrégé: OFFSET(tarifs!$C$3,,,ROWS(colj))
Name colb: OFFSET(tarifs!$B$3,,,ROWS(colj))
Name colj: OFFSET(tarifs!$M$3,,,COUNTIF(tarifs!$M:$M,"><"))
Name dept: tarifs!$C$2
Name Expedition: #REF!
Name FactureNom: #REF!
Name liste1: OFFSET(param!$A$2,,,COUNTIF(param!$A:$A,"><")-1)
Name NomSociété: #REF!
Name quantité: tarifs!$G$2:$L$2
Name RechercheClient: #REF!
Name SousTotalFacture: #REF!
Name tarif: OFFSET(tarifs!$G$3:$L$3,,,ROWS(colj))
Name TauxTVA: #REF!
Name TVA: #REF!
Name Versement: #REF!

Sheet tarifs
B2: description complète produit | C2: abrégé | D2: 50 | E2: 100 | F2: 200 | G2: 300 | H2: 500 | I2: 1000 | J2: 2000 | K2: 3000 | L2: 5000
B3: boitier cristal CD rondelle quadri + livret 4 faces quadri avec jacquette deux faces quadri et plateau transparent Cello transport | C3: boitier cristal livret 4 faces | D3: 0 | E3: 0 | F3: 0 | G3: 350 | H3: 416 | I3: 575 | J3: 1000 | K3: 1500 | L3: 2192 | M3: {=LEFT(B3,SEARCH(" ",B3,SMALL(IF(MID(B3,ROW($1:$27),1)=" ",ROW($1:$27),""),2)))} -> boitier cristal
B4: boitier cristal CD rondelle quadri + livret 6 faces pli roulé quadri avec jacquette deux faces quadri et plateau transparent Cello transport | C4: livret 6 faces pli roulé | D4: 0 | E4: 0 | F4: 0 | G4: 400 | H4: 433 | I4: 633 | J4: 1200 | K4: 1658 | L4: 2392 | M4: {=LEFT(B4,SEARCH(" ",B4,SMALL(IF(MID(B4,ROW($1:$27),1)=" ",ROW($1:$27),""),2)))} -> boitier cristal
B5: boitier cristal CD rondelle quadri + livret 8 faces quadri avec jacquette deux faces quadri et plateau transparent Cello transport | C5: boitier cristal livret 8 faces | D5: 0 | E5: 0 | F5: 0 | G5: 408 | H5: 450 | I5: 678 | J5: 1283 | K5: 1775 | L5: 2500 | M5: {=LEFT(B5,SEARCH(" ",B5,SMALL(IF(MID(B5,ROW($1:$27),1)=" ",ROW($1:$27),""),2)))} -> boitier cristal
B6: boitier cristal CD rondelle quadri + livret 8 faces poster quadri avec jacquette deux faces quadri et plateau transparent Cello transport | C6: boitier cristal livret 8 faces poster | D6: 0 | E6: 0 | F6: 0 | G6: 558 | H6: 642 | I6: 758 | J6: 1300 | K6: 1784 | L6: 2572 | M6: {=LEFT(B6,SEARCH(" ",B6,SMALL(IF(MID(B6,ROW($1:$27),1)=" ",ROW($1:$27),""),2)))} -> boitier cristal
B7: boitier cristal CD rondelle quadri + livret 12 faces quadri avec jacquette deux faces quadri et plateau transparent Cello transport | C7: boitier cristal livret 12 faces | D7: 0 | E7: 0 | F7: 0 | G7: 423 | H7: 467 | I7: 704 | J7: 1325 | K7: 1825 | L7: 2667 | M7: {=LEFT(B7,SEARCH(" ",B7,SMALL(IF(MID(B7,ROW($1:$27),1)=" ",ROW($1:$27),""),2)))} -> boitier cristal
B8: boitier cristal CD rondelle quadri + livret 16 faces quadri avec jacquette deux faces quadri et plateau transparent Cello transport | C8: boitier cristal livret 16 faces | D8: 0 | E8: 0 | F8: 0 | G8: 442 | H8: 483 | I8: 733 | J8: 1417 | K8: 1992 | L8: 2850 | M8: {=LEFT(B8,SEARCH(" ",B8,SMALL(IF(MID(B8,ROW($1:$27),1)=" ",ROW($1:$27),""),2)))} -> boitier cristal
B9: boitier cristal CD rondelle quadri + livret 20 faces quadri avec jacquette deux faces quadri et plateau transparent Cello transport | C9: boitier cristal livret 20 faces | D9: 0 | E9: 0 | F9: 0 | G9: 466 | H9: 504 | I9: 767 | J9: 1567 | K9: 2134 | L9: 3062 | M9: {=LEFT(B9,SEARCH(" ",B9,SMALL(IF(MID(B9,ROW($1:$27),1)=" ",ROW($1:$27),""),2)))} -> boitier cristal
B10: MINT PACK Produit imprimé tout en quadri, tranche intérieure comprise, rondelle de CD quadri Cello transport | C10: MINT PACK | D10: 0 | E10: 0 | F10: 0 | G10: 555 | H10: 638 | I10: 914 | J10: 1368 | K10: 1653 | L10: 2297 | M10: {=LEFT(B10,SEARCH(" ",B10,SMALL(IF(MID(B10,ROW($1:$27),1)=" ",ROW($1:$27),""),2)))} -> MINT PACK
B11: BOITIER DVD AVEC CD Boitier DVD CD rondelle quadri avec jacquette deux faces quadri et plateau transparent Cello transport | C11: Boitier DVD CD | D11: 0 | E11: 0 | F11: 0 | G11: 488 | H11: 571 | I11: 667 | J11: 1183 | K11: 1542 | L11: 2375 | M11: {=LEFT(B11,SEARCH(" ",B11,SMALL(IF(MID(B11,ROW($1:$27),1)=" ",ROW($1:$27),""),2)))} -> BOITIER DVD
A12: P2 | B12: boitier DVD CD rondelle quadri + Avec plateau transparent avec livret 4 faces quadri et jacquette deux faces quadri Cello et transport | C12: boitier DVD CD livret 4 faces | D12: 0 | E12: 0 | F12: 0 | G12: 515 | H12: 598 | I12: 704 | J12: 1236 | K12: 1665 | L12: 2522 | M12: {=LEFT(B12,SEARCH(" ",B12,SMALL(IF(MID(B12,ROW($1:$27),1)=" ",ROW($1:$27),""),2)))} -> boitier DVD
B13: boitier DVD CD rondelle quadri + Avec plateau transparent avec livret 8 faces quadri et jacquette deux faces quadri Cello et transport | C13: boitier DVD CD livret 8 faces | D13: 0 | E13: 0 | F13: 0 | G13: 580 | H13: 663 | I13: 868 | J13: 1376 | K13: 1874 | L13: 2821 | M13: {=LEFT(B13,SEARCH(" ",B13,SMALL(IF(MID(B13,ROW($1:$27),1)=" ",ROW($1:$27),""),2)))} -> boitier DVD
B14: boitier DVD CD rondelle quadri + Avec plateau transparent avec livret 12 faces quadri et jacquette deux faces quadri Cello et transport | C14: boitier DVD CD livret 12 faces | D14: 0 | E14: 0 | F14: 0 | G14: 629 | H14: 713 | I14: 917 | J14: 1436 | K14: 1904 | L14: 2871 | M14: {=LEFT(B14,SEARCH(" ",B14,SMALL(IF(MID(B14,ROW($1:$27),1)=" ",ROW($1:$27),""),2)))} -> boitier DVD
B15: boitier DVD CD rondelle quadri + Avec plateau transparent avec livret 16 faces quadri et jacquette deux faces quadri Cello et transport | C15: boitier DVD CD livret 16 faces | D15: 0 | E15: 0 | F15: 0 | G15: 694 | H15: 778 | I15: 997 | J15: 1555 | K15: 2083 | L15: 3119 | M15: {=LEFT(B15,SEARCH(" ",B15,SMALL(IF(MID(B15,ROW($1:$27),1)=" ",ROW($1:$27),""),2)))} -> boitier DVD
B16: boitier DVD CD rondelle quadri + Avec plateau transparent avec livret 20 faces quadri et jacquette deux faces quadri Cello et transport | C16: boitier DVD CD livret 20 faces | D16: 0 | E16: 0 | F16: 0 | G16: 714 | H16: 798 | I16: 1017 | J16: 1574 | K16: 2143 | L16: 3219 | M16: {=LEFT(B16,SEARCH(" ",B16,SMALL(IF(MID(B16,ROW($1:$27),1)=" ",ROW($1:$27),""),2)))} -> boitier DVD
B17: CD superjewel box avec plateau transparent livret 4 faces quadri et jacquette deux faces quadri Cello et transport | C17: CD superjewel box livret 4 faces | D17: 0 | E17: 0 | F17: 0 | G17: 658 | H17: 742 | I17: 833 | J17: 1667 | K17: 2233 | L17: 3408 | M17: {=LEFT(B17,SEARCH(" ",B17,SMALL(IF(MID(B17,ROW($1:$27),1)=" ",ROW($1:$27),""),2)))} -> CD superjewel
B18: CD superjewel box avec plateau transparent livret 6 faces pli roulé quadri et jacquette deux faces quadri Cello et transport | C18: CD superjewel box livret 6 faces | D18: 0 | E18: 0 | F18: 0 | G18: 713 | H18: 797 | I18: 1000 | J18: 1750 | K18: 2333 | L18: 3625 | M18: {=LEFT(B18,SEARCH(" ",B18,SMALL(IF(MID(B18,ROW($1:$27),1)=" ",ROW($1:$27),""),2)))} -> CD superjewel
B19: CD superjewel box avec plateau transparent livret 8 faces quadri et jacquette deux faces quadri Cello et transport | C19: CD superjewel box livret 8 faces | D19: 0 | E19: 0 | F19: 0 | G19: 733 | H19: 817 | I19: 1042 | J19: 1814 | K19: 2517 | L19: 3783 | M19: {=LEFT(B19,SEARCH(" ",B19,SMALL(IF(MID(B19,ROW($1:$27),1)=" ",ROW($1:$27),""),2)))} -> CD superjewel
B20: CD superjewel box avec plateau transparent livret 12 faces quadri et jacquette deux faces quadri Cello et transport | C20: CD superjewel box livret 12 faces | D20: 0 | E20: 0 | F20: 0 | G20: 758 | H20: 842 | I20: 1083 | J20: 1850 | K20: 2600 | L20: 3992 | M20: {=LEFT(B20,SEARCH(" ",B20,SMALL(IF(MID(B20,ROW($1:$27),1)=" ",ROW($1:$27),""),2)))} -> CD superjewel
B21: CD superjewel box avec plateau transparent livret 16 faces quadri et jacquette deux faces quadri Cello et transport | C21: CD superjewel box livret 16 faces | D21: 0 | E21: 0 | F21: 0 | G21: 792 | H21: 875 | I21: 1150 | J21: 1958 | K21: 2717 | L21: 4063 | M21: {=LEFT(B21,SEARCH(" ",B21,SMALL(IF(MID(B21,ROW($1:$27),1)=" ",ROW($1:$27),""),2)))} -> CD superjewel
B22: Pochette cartonnée CD | C22: Pochette cartonnée CD | D22: 0 | E22: 0 | F22: 0 | G22: 258 | H22: 267 | I22: 350 | J22: 642 | K22: 992 | L22: 1483 | M22: {=LEFT(B22,SEARCH(" ",B22,SMALL(IF(MID(B22,ROW($1:$27),1)=" ",ROW($1:$27),""),2)))} -> Pochette cartonnée
A23: P3 | B23: Pochette cartonnée deux faces quadri avec insertion de Flyer quadri deux faces (125x128mm) Cello - Glassmastering - Livraison | C23: pochette cartonnée insert flyer | D23: 0 | E23: 0 | F23: 0 | G23: 380 | H23: 358 | I23: 558 | J23: 992 | K23: 1286 | L23: 1737 | M23: {=LEFT(B23,SEARCH(" ",B23,SMALL(IF(MID(B23,ROW($1:$27),1)=" ",ROW($1:$27),""),2)))} -> Pochette cartonnée
B24: Pochette cartonnée DVD5 avec rondelle quadri + deux faces quadri cello Transport | C24: pochette cartonnée + DVDS | D24: 0 | E24: 0 | F24: 0 | G24: 350 | H24: 433 | I24: 625 | J24: 1042 | K24: 1375 | L24: 1767 | M24: {=LEFT(B24,SEARCH(" ",B24,SMALL(IF(MID(B24,ROW($1:$27),1)=" ",ROW($1:$27),""),2)))} -> Pochette cartonnée
B25: CD DVD avec rondelle quadri Boitier cristal plateau transparent livret 4 faces quadri Jacquette deux quadri - Cello et transport | C25: CD + DVD + livrets 4 faces | D25: 0 | E25: 0 | F25: 0 | G25: 754 | H25: 838 | I25: 1058 | J25: 1854 | K25: 2592 | L25: 3967 | M25: {=LEFT(B25,SEARCH(" ",B25,SMALL(IF(MID(B25,ROW($1:$27),1)=" ",ROW($1:$27),""),2)))} -> CD DVD
B26: CD DVD avec rondelle quadri Boitier cristal plateau transparent livret 8 faces quadri Jacquette deux quadri - Cello et transport | C26: CD + DVD + livrets 8 faces | D26: 0 | E26: 0 | F26: 0 | G26: 808 | H26: 892 | I26: 1142 | J26: 2073 | K26: 2831 | L26: 4117 | M26: {=LEFT(B26,SEARCH(" ",B26,SMALL(IF(MID(B26,ROW($1:$27),1)=" ",ROW($1:$27),""),2)))} -> CD DVD
B27: CD DVD avec rondelle quadri Boitier cristal plateau transparent livret 12 faces quadri Jacquette deux quadri - Cello et transport | C27: CD + DVD + livrets 12 faces | D27: 0 | E27: 0 | F27: 0 | G27: 848 | H27: 932 | I27: 1246 | J27: 2153 | K27: 2920 | L27: 4416 | M27: {=LEFT(B27,SEARCH(" ",B27,SMALL(IF(MID(B27,ROW($1:$27),1)=" ",ROW($1:$27),""),2)))} -> CD DVD
B28: CD DVD avec rondelle quadri Boitier cristal plateau transparent livret 16 faces quadri Jacquette deux quadri - Cello et transport | C28: CD + DVD + livrets 16 faces | D28: 0 | E28: 0 | F28: 0 | G28: 908 | H28: 992 | I28: 1325 | J28: 2213 | K28: 3040 | L28: 4615 | M28: {=LEFT(B28,SEARCH(" ",B28,SMALL(IF(MID(B28,ROW($1:$27),1)=" ",ROW($1:$27),""),2)))} -> CD DVD
B29: CD DVD avec rondelle quadri Boitier cristal plateau transparent livret 20 faces quadri Jacquette deux quadri - Cello et transport | C29: CD + DVD + livrets 20 faces | D29: 0 | E29: 0 | F29: 0 | G29: 933 | H29: 1017 | I29: 1396 | J29: 2373 | K29: 3189 | L29: 4814 | M29: {=LEFT(B29,SEARCH(" ",B29,SMALL(IF(MID(B29,ROW($1:$27),1)=" ",ROW($1:$27),""),2)))} -> CD DVD
B30: 4 CDS avec rondelle quadri boitier DVDS avec jacquette quadri 4/4 Glassmastering Cellon Transport | C30: 4 CDS BOITIER DVDS | D30: 0 | E30: 0 | F30: 0 | G30: 1058 | H30: 1142 | I30: 2083 | J30: 3821 | K30: 5277 | L30: 8908 | M30: {=LEFT(B30,SEARCH(" ",B30,SMALL(IF(MID(B30,ROW($1:$27),1)=" ",ROW($1:$27),""),2)))} -> 4 CDS
B31: CD RONDELLE QUADRI DANS UNE POCHETTE PLASTIQUE AVEC RABAT Non autocollant Cello Transport | C31: CD rondelle quadri | D31: 0 | E31: 0 | F31: 0 | G31: 233 | H31: 300 | I31: 350 | J31: 617 | K31: 833 | L31: 1242 | M31: {=LEFT(B31,SEARCH(" ",B31,SMALL(IF(MID(B31,ROW($1:$27),1)=" ",ROW($1:$27),""),2)))} -> CD RONDELLE
B32: SPINDLE CDS rondelle quadri Transport | C32: CDS et DVDS SPINDLE | D32: 0 | E32: 0 | F32: 0 | G32: 233 | H32: 267 | I32: 342 | J32: 533 | K32: 723 | L32: 1000 | M32: {=LEFT(B32,SEARCH(" ",B32,SMALL(IF(MID(B32,ROW($1:$27),1)=" ",ROW($1:$27),""),2)))} -> SPINDLE CDS
B33: SPINDLE DVDS 5 + rondelle quadri + Transport | C33: SPINDLE DVDS 5 | D33: 0 | E33: 0 | F33: 0 | G33: 267 | H33: 333.33333 | I33: 458.33333 | J33: 847.5 | K33: 1108.3333 | L33: 1666.6667 | M33: {=LEFT(B33,SEARCH(" ",B33,SMALL(IF(MID(B33,ROW($1:$27),1)=" ",ROW($1:$27),""),2)))} -> SPINDLE DVDS
B34: SPINDLE DVDS 9 rondelle quadri Transport | C34: SPINDLE DVDS 9 | D34: 0 | E34: 0 | F34: 0 | G34: 413 | H34: 479.16667 | I34: 588.33333 | J34: 867.5 | K34: 1141.6667 | L34: 1675 | M34: {=LEFT(B34,SEARCH(" ",B34,SMALL(IF(MID(B34,ROW($1:$27),1)=" ",ROW($1:$27),""),2)))} -> SPINDLE DVDS
B35: Double CD rondelle quadri + livret 4 faces quadri avec jacquette deux faces quadri et cd plateau transparent - cello Transport | C35: BOITIER CRISTAL AVEC 2 CD + livret 4 | D35: 0 | E35: 0 | F35: 0 | G35: 621 | H35: 704.16667 | I35: 850 | J35: 1558.3333 | K35: 2141.6667 | L35: 3241.6667 | M35: {=LEFT(B35,SEARCH(" ",B35,SMALL(IF(MID(B35,ROW($1:$27),1)=" ",ROW($1:$27),""),2)))} -> Double CD
... B43: CD Slimbox avec livret 8 faces quadri Cello Transport | C43: SLIMBOX + CD + livret 8 | D43: 0 | E43: 0 | F43: 0 | G43: 445.83333 | H43: 529.16667 | I43: 728.33333 | J43: 1186.6667 | K43: 1625 | L43: 2312.5 | M43: {=LEFT(B43,SEARCH(" ",B43,SMALL(IF(MID(B43,ROW($1:$27),1)=" ",ROW($1:$27),""),2)))} -> CD Slimbox
A44: p5 | B44: CD Slimbox avec livret 12 faces quadri Cello Transport | C44: SLIMBOX + CD + livret 12 | D44: 0 | E44: 0 | F44: 0 | G44: 465 | H44: 548.33333 | I44: 777.5 | J44: 1186.6667 | K44: 1715 | L44: 2511.6667 | M44: {=LEFT(B44,SEARCH(" ",B44,SMALL(IF(MID(B44,ROW($1:$27),1)=" ",ROW($1:$27),""),2)))} -> CD Slimbox
B45: Digipack 4 faces quadri avec CD rondelle quadri Plateau transparent Cello Transport | C45: DIGIPACK 4 FACES QUADRI + CD | D45: 0 | E45: 0 | F45: 0 | G45: 550 | H45: 575 | I45: 725 | J45: 1208.3333 | K45: 1535.8333 | L45: 2375 | M45: {=LEFT(B45,SEARCH(" ",B45,SMALL(IF(MID(B45,ROW($1:$27),1)=" ",ROW($1:$27),""),2)))} -> Digipack 4
B46: Digipack 4 faces livret 4 faces quadri Plateau transparent avec CD rondelle quadri Cello Transport | C46: DIGIPACK 4 FACES + CD + livret 4 | D46: 0 | E46: 0 | F46: 0 | G46: 583.33333 | H46: 625 | I46: 866.66667 | J46: 1429.1667 | K46: 1804.1667 | L46: 2720 | M46: {=LEFT(B46,SEARCH(" ",B46,SMALL(IF(MID(B46,ROW($1:$27),1)=" ",ROW($1:$27),""),2)))} -> Digipack 4
B47: Digipack 4 faces livret 6 faces pli roulé Plateau transparent avec CD rondelle quadri Cello Transport | C47: DIGIPACK 4 FACES + CD + livret 6 | D47: 0 | E47: 0 | F47: 0 | G47: 591.66667 | H47: 637.5 | I47: 983.33333 | J47: 1454.1667 | K47: 1825 | L47: 2758.3333 | M47: {=LEFT(B47,SEARCH(" ",B47,SMALL(IF(MID(B47,ROW($1:$27),1)=" ",ROW($1:$27),""),2)))} -> Digipack 4
B48: Digipack 4 faces + livret 8 faces quadri Plateau transparent avec CD rondelle quadri Cello Transport | C48: DIGIPACK 4 FACES + CD + livret 8 | D48: 0 | E48: 0 | F48: 0 | G48: 633.33333 | H48: 683.33333 | I48: 925 | J48: 1500.8333 | K48: 1948.3333 | L48: 2908.3333 | M48: {=LEFT(B48,SEARCH(" ",B48,SMALL(IF(MID(B48,ROW($1:$27),1)=" ",ROW($1:$27),""),2)))} -> Digipack 4
...

Sheet devis
B3: article choix dans liste | C3: description choix dans liste | D3: description détaillé | E3: Quantité choix dans liste | F3: Prix unitaire | G3: Remise (montant en €) | H3: Total
B4: TARIFS PRESSAGE
B5: boitier cristal | C5: boitier cristal livret 16 faces | D5: =INDEX(colb,MATCH(devis!$C5,abrégé,0)) -> boitier cristal CD rondelle quadri + livret 16 faces quadri avec jacquette deux faces quadri et plateau transparent Cello transport | E5: 1000 | F5: =SUMPRODUCT((colj=B5)*(abrégé=C5)*(quantité=E5)*(tarif))/E5 -> 0.733 | G5: 0 | H5: =(F5-G5)*E5 -> 733
B6: Pochette cartonnée | C6: Pochette cartonnée CD | D6: =INDEX(colb,MATCH(devis!$C6,abrégé,0)) -> Pochette cartonnée CD | E6: 5000 | F6: =SUMPRODUCT((colj=B6)*(abrégé=C6)*(quantité=E6)*(tarif))/E6 -> 0.2966 | G6: 0 | H6: =(F6-G6)*E6 -> 1483
B7: Digifile 3 | C7: Digifile 3 faces sans livret | D7: =INDEX(colb,MATCH(devis!$C7,abrégé,0)) -> Digifile 3 faces quadri sans livret avec CD rondelle quadri Cello Transport | E7: 2000 | F7: =SUMPRODUCT((colj=B7)*(abrégé=C7)*(quantité=E7)*(tarif))/E7 -> 0.6665 | G7: 0 | H7: =(F7-G7)*E7 -> 1333
B8: DUPLICATION CDS
B9: DVD Jet | C9: CD en boitier SLIMBOX 2 faces | D9: =INDEX(colb,MATCH(devis!$C9,abrégé,0)) -> CD boitier SLIMBOX 2 faces quadri, rond de CD quadri | E9: 200 | F9: =SUMPRODUCT((colj=B9)*(abrégé=C9)*(quantité=E9)*(tarif))/E9 -> 0 | G9: 0 | H9: =(F9-G9)*E9 -> 0
B10: DUPLICATION CDS | D10: Transport, Cello et Vernis UV sur les disques offert
B11: DVD Jet | C11: DVD Jet d'encre boitier Amaray | D11: =INDEX(colb,MATCH(devis!$C11,abrégé,0)) -> DVD Jet d'encre boitier Amaray avec jacquette 4/4 + plateau transparent | E11: 50 | F11: =SUMPRODUCT((colj=B11)*(abrégé=C11)*(quantité=E11)*(tarif))/E11 -> 0 | G11: 0 | H11: =(F11-G11)*E11 -> 0
G12: Sous-total de facture | H12: =SUBTOTAL(109,devis!$H$5:$H$11) -> 3549
G13: Taux TVA | H13: 0.2
G14: TVA | H14: =(H12*(1+H13))-H12 -> 709.8
G15: Total | H15: =H12+H14 -> 4258.8
C17: =DECALER(dept;EQUIV(B7;colj;0);;NB.SI(colj;B7)) | F17: =SOMMEPROD((colj=B7)*(abrégé=C7)*(quantité=E7)*(tarif))/E7

Sheet param
A1: liste1
A2: {=OFFSET(tarifs!M$2,MATCH(0,COUNTIF(A$1:A1,colj),0),)} -> boitier cristal
A3: {=OFFSET(tarifs!M$2,MATCH(0,COUNTIF(A$1:A2,colj),0),)} -> MINT PACK
A4: {=OFFSET(tarifs!M$2,MATCH(0,COUNTIF(A$1:A3,colj),0),)} -> BOITIER DVD
A5: {=OFFSET(tarifs!M$2,MATCH(0,COUNTIF(A$1:A4,colj),0),)} -> CD superjewel
A6: {=OFFSET(tarifs!M$2,MATCH(0,COUNTIF(A$1:A5,colj),0),)} -> Pochette cartonnée
A7: {=OFFSET(tarifs!M$2,MATCH(0,COUNTIF(A$1:A6,colj),0),)} -> CD DVD
A8: {=OFFSET(tarifs!M$2,MATCH(0,COUNTIF(A$1:A7,colj),0),)} -> 4 CDS
A9: {=OFFSET(tarifs!M$2,MATCH(0,COUNTIF(A$1:A8,colj),0),)} -> CD RONDELLE
A10: {=OFFSET(tarifs!M$2,MATCH(0,COUNTIF(A$1:A9,colj),0),)} -> SPINDLE CDS
A11: {=OFFSET(tarifs!M$2,MATCH(0,COUNTIF(A$1:A10,colj),0),)} -> SPINDLE DVDS
A12: {=OFFSET(tarifs!M$2,MATCH(0,COUNTIF(A$1:A11,colj),0),)} -> Double CD
A13: {=OFFSET(tarifs!M$2,MATCH(0,COUNTIF(A$1:A12,colj),0),)} -> CD Slimbox
... A34: {=OFFSET(tarifs!M$2,MATCH(0,COUNTIF(A$1:A33,colj),0),)} -> #N/A
