Workbook
Name Categories: [1]catégories!$A$2:$A$20

Sheet offres
A1: N° | B1: DATE | C1: NOM | D1: PRENOM | E1: CATEGORIE | F1: DESCRIPTION
A2: 47 | B2: 19/03/16 | C2: KRALJIC | D2: Elodie | E2: Administration / secrétariat | F2: aide administrative
A3: 47 | B3: 23/03/16 | C3: KRALJIC | D3: Elodie | E3: Services personne | F3: garderie ponctuelle
A4: 47 | B4: 23/03/16 | C4: KRALJIC | D4: Elodie | E4: Informatique | F4: saisie de rapports
A5: 47 | B5: 23/03/16 | C5: KRALJIC | D5: Elodie | E5: Services personne | F5: aide aux courses | I5: Numéro pour recherche | J5: Liste
A6: 47 | B6: 23/03/16 | C6: KRALJIC | D6: Elodie | E6: Transport | F6: co-voiturage | I6: 1 | J6: Services personne
A7: 47.5 | B7: 19/03/16 | C7: percher | D7: fabrice | E7: Gardiennage | F7: Arrosage jardin,fleurs, potager... | I7: 2 | J7: Informatique
A8: 47.5 | B8: 19/03/16 | C8: percher | D8: fabrice | E8: Informatique | F8: Aide Informatique (excel, internet ...) | I8: 3
A9: 47.5 | B9: 19/03/16 | C9: percher | D9: fabrice | E9: Informatique | F9: Prêt de liseuse pour lecture d'oeuvres libres de droit | I9: 4
I10: 5
I11: 6
I12: 7
I13: 8
I14: 9
I15: 10
I16: 11
I17: 12
I18: 13
I19: 14
I20: 15

Sheet demandes
A1: N° | B1: DATE | C1: NOM | D1: PRENOM | E1: CATEGORIE | F1: DESCRIPTION
A2: 46 | B2: 42397 | C2: COUTAREL | D2: Lydia | E2: informatique | F2: initiation macintosch
A3: 47 | B3: 42477 | C3: KRALJIC - DION | D3: ELODIE | E3: Informatique | F3: cours informatique excel
K6: 1 | L6: =CONCATENATE(K6,E2) -> 1informatique
K7: 2 | L7: =CONCATENATE(K7,E3) -> 2Informatique

Sheet RECHERCHE
F1: RECHERCHE | G1: Informatique
A4: OFFRES | H4: DEMANDES
A5: N° | B5: DATE | C5: NOM | D5: PRENOM | E5: CATEGORIE | F5: DESCRIPTION | H5: N° | I5: DATE | J5: NOM | K5: PRENOM | L5: CATEGORIE | M5: DESCRIPTION
B6: =IFERROR(INDEX($C:$F,MATCH($F23&$G$1,$H:$H,0),1),"") | C6: =IFERROR(INDEX(offres!$C:$F,MATCH(offres!$F23&$G$1,offres!$H:$H,0),2),"") | D6: =IFERROR(INDEX($C:$F,MATCH($F23&$G$1,$H:$H,0),4),"") | J6: =IFERROR(INDEX(demandes!$A:$J,MATCH($F23&$G$1,demandes!$L:$L,0),3),"") | K6: =IFERROR(INDEX(demandes!$A:$J,MATCH($F23&$G$1,demandes!$L:$L,0),4),"") | M6: =IFERROR(INDEX(demandes!$A:$J,MATCH($F23&$G$1,demandes!$L:$L,0),6),"")
B7: =IFERROR(INDEX($C:$F,MATCH($F24&$G$1,$H:$H,0),1),"") | C7: =IFERROR(INDEX($C:$F,MATCH($F24&$G$1,$H:$H,0),2),"") | D7: =IFERROR(INDEX($C:$F,MATCH($F24&$G$1,$H:$H,0),4),"") | J7: =IFERROR(INDEX(demandes!$A:$J,MATCH($F24&$G$1,demandes!$L:$L,0),3),"") | K7: =IFERROR(INDEX(demandes!$A:$J,MATCH($F24&$G$1,demandes!$L:$L,0),4),"") | M7: =IFERROR(INDEX(demandes!$A:$J,MATCH($F24&$G$1,demandes!$L:$L,0),6),"")
B8: =IFERROR(INDEX($C:$F,MATCH($F25&$G$1,$H:$H,0),1),"") | C8: =IFERROR(INDEX($C:$F,MATCH($F25&$G$1,$H:$H,0),2),"") | D8: =IFERROR(INDEX($C:$F,MATCH($F25&$G$1,$H:$H,0),4),"")
B9: =IFERROR(INDEX($C:$F,MATCH($F26&$G$1,$H:$H,0),1),"") | C9: =IFERROR(INDEX($C:$F,MATCH($F26&$G$1,$H:$H,0),2),"") | D9: =IFERROR(INDEX($C:$F,MATCH($F26&$G$1,$H:$H,0),4),"")
B10: =IFERROR(INDEX($C:$F,MATCH($F27&$G$1,$H:$H,0),1),"") | C10: =IFERROR(INDEX($C:$F,MATCH($F27&$G$1,$H:$H,0),2),"") | D10: =IFERROR(INDEX($C:$F,MATCH($F27&$G$1,$H:$H,0),4),"")
B11: =IFERROR(INDEX($C:$F,MATCH($F28&$G$1,$H:$H,0),1),"") | C11: =IFERROR(INDEX($C:$F,MATCH($F28&$G$1,$H:$H,0),2),"") | D11: =IFERROR(INDEX($C:$F,MATCH($F28&$G$1,$H:$H,0),4),"")
B12: =IFERROR(INDEX($C:$F,MATCH($F29&$G$1,$H:$H,0),1),"") | C12: =IFERROR(INDEX($C:$F,MATCH($F29&$G$1,$H:$H,0),2),"") | D12: =IFERROR(INDEX($C:$F,MATCH($F29&$G$1,$H:$H,0),4),"")
B13: =IFERROR(INDEX($C:$F,MATCH($F30&$G$1,$H:$H,0),1),"") | C13: =IFERROR(INDEX($C:$F,MATCH($F30&$G$1,$H:$H,0),2),"") | D13: =IFERROR(INDEX($C:$F,MATCH($F30&$G$1,$H:$H,0),4),"")
B14: =IFERROR(INDEX($C:$F,MATCH($F31&$G$1,$H:$H,0),1),"") | C14: =IFERROR(INDEX($C:$F,MATCH($F31&$G$1,$H:$H,0),2),"") | D14: =IFERROR(INDEX($C:$F,MATCH($F31&$G$1,$H:$H,0),4),"")
B15: =IFERROR(INDEX($C:$F,MATCH($F32&$G$1,$H:$H,0),1),"") | C15: =IFERROR(INDEX($C:$F,MATCH($F32&$G$1,$H:$H,0),2),"") | D15: =IFERROR(INDEX($C:$F,MATCH($F32&$G$1,$H:$H,0),4),"")
B16: =IFERROR(INDEX($C:$F,MATCH($F33&$G$1,$H:$H,0),1),"") | C16: =IFERROR(INDEX($C:$F,MATCH($F33&$G$1,$H:$H,0),2),"") | D16: =IFERROR(INDEX($C:$F,MATCH($F33&$G$1,$H:$H,0),4),"")

Sheet Catégories
A1: Numéro pour recherche | B1: Liste
A2: 1 | B2: Services personne
A3: 2 | B3: Informatique
A4: 3
A5: 4
A6: 5
A7: 6
A8: 7
A9: 8
A10: 9
A11: 10
A12: 11
A13: 12
A14: 13
A15: 14
A16: 15
