Workbook
Name an: Recap!$A$49
Name fériés: Recap!$A$50:$A$61

Sheet Horaire
BH1: =(BI2-BI1)*BH2 -> 80.75
B2: ="SEMAINE"&" "&INT(MOD(INT((B3-3)/7)+0.6,52+5/28))+1 -> SEMAINE 1 | D2: ="SEMAINE"&" "&INT(MOD(INT((D3-3)/7)+0.6,52+5/28))+1 -> SEMAINE 1 | F2: ="SEMAINE"&" "&INT(MOD(INT((F3-3)/7)+0.6,52+5/28))+1 -> SEMAINE 1 | H2: ="SEMAINE"&" "&INT(MOD(INT((H3-3)/7)+0.6,52+5/28))+1 -> SEMAINE 1 | J2: ="SEMAINE"&" "&INT(MOD(INT((J3-3)/7)+0.6,52+5/28))+1 -> SEMAINE 1 | L2: ="SEMAINE"&" "&INT(MOD(INT((L3-3)/7)+0.6,52+5/28))+1 -> SEMAINE 1 | N2: ="SEMAINE"&" "&INT(MOD(INT((N3-3)/7)+0.6,52+5/28))+1 -> SEMAINE 1 | P2: ="SEMAINE"&" "&INT(MOD(INT((P3-2)/7)+0.6,52+5/28))+1 -> SEMAINE 51 | R2: ="SEMAINE"&" "&INT(MOD(INT((R3-2)/7)+0.6,52+5/28))+1 -> SEMAINE 51 | T2: ="SEMAINE"&" "&INT(MOD(INT((T3-2)/7)+0.6,52+5/28))+1 -> SEMAINE 51 | V2: ="SEMAINE"&" "&INT(MOD(INT((V3-2)/7)+0.6,52+5/28))+1 -> SEMAINE 51 | X2: ="SEMAINE"&" "&INT(MOD(INT((X3-2)/7)+0.6,52+5/28))+1 -> SEMAINE 51 | Z2: ="SEMAINE"&" "&INT(MOD(INT((Z3-2)/7)+0.6,52+5/28))+1 -> SEMAINE 51 | AB2: ="SEMAINE"&" "&INT(MOD(INT((AB3-2)/7)+0.6,52+5/28))+1 -> SEMAINE 52 | AE2: ="SEMAINE"&" "&INT(MOD(INT((AE3-2)/7)+0.6,52+5/28))+1 -> SEMAINE 52 | AG2: ="SEMAINE"&" "&INT(MOD(INT((AG3-2)/7)+0.6,52+5/28))+1 -> SEMAINE 52 | AI2: ="SEMAINE"&" "&INT(MOD(INT((AI3-2)/7)+0.6,52+5/28))+1 -> SEMAINE 52 | AK2: ="SEMAINE"&" "&INT(MOD(INT((AK3-2)/7)+0.6,52+5/28))+1 -> SEMAINE 52 | AM2: ="SEMAINE"&" "&INT(MOD(INT((AM3-2)/7)+0.6,52+5/28))+1 -> SEMAINE 52 | AO2: ="SEMAINE"&" "&INT(MOD(INT((AO3-2)/7)+0.6,52+5/28))+1 -> SEMAINE 52 | AQ2: ="SEMAINE"&" "&INT(MOD(INT((AQ3-2)/7)+0.6,52+5/28))+1 -> SEMAINE 1 | AT2: ="SEMAINE"&" "&INT(MOD(INT((AT3-2)/7)+0.6,52+5/28))+1 -> SEMAINE 1 | AV2: ="SEMAINE"&" "&INT(MOD(INT((AV3-2)/7)+0.6,52+5/28))+1 -> SEMAINE 1 | AX2: ="SEMAINE"&" "&INT(MOD(INT((AX3-2)/7)+0.6,52+5/28))+1 -> SEMAINE 1 | AZ2: ="SEMAINE"&" "&INT(MOD(INT((AZ3-2)/7)+0.6,52+5/28))+1 -> SEMAINE 1 | BB2: ="SEMAINE"&" "&INT(MOD(INT((BB3-2)/7)+0.6,52+5/28))+1 -> SEMAINE 1 | BD2: ="SEMAINE"&" "&INT(MOD(INT((BD3-2)/7)+0.6,52+5/28))+1 -> SEMAINE 1 | BF2: ="SEMAINE"&" "&INT(MOD(INT((BF3-2)/7)+0.6,52+5/28))+1 -> SEMAINE 2 | BH2: 1.5833333 | BI2: =INT(MOD(INT((BI3-3)/7)+0.6,52+5/28))+1 -> 51
A3: PLANNING | B3: 41639 | C3: =B3 -> 41639 | D3: =B3+1 -> 41640 | E3: =B3+1 -> 41640 | F3: =D3+1 -> 41641 | G3: =D3+1 -> 41641 | H3: =F3+1 -> 41642 | I3: =F3+1 -> 41642 | J3: =H3+1 -> 41643 | K3: =H3+1 -> 41643 | L3: =J3+1 -> 41644 | M3: =J3+1 -> 41644 | N3: =L3+1 -> 41645 | O3: =L3+1 -> 41645 | P3: 41989 | Q3: =#REF!+1 -> #REF! | R3: =P3+1 -> 41990 | S3: =P3+1 -> 41990 | T3: =R3+1 -> 41991 | U3: =R3+1 -> 41991 | V3: =T3+1 -> 41992 | W3: =T3+1 -> 41992 | X3: =V3+1 -> 41993 | Y3: =V3+1 -> 41993 | Z3: =X3+1 -> 41994 | AA3: =X3+1 -> 41994 | AB3: =Z3+1 -> 41995 | AC3: =Z3+1 -> 41995 | AE3: =AB3+1 -> 41996 | AF3: =AB3+1 -> 41996 | AG3: =AE3+1 -> 41997 | AH3: =AE3+1 -> 41997 | AI3: =AG3+1 -> 41998 | AJ3: =AG3+1 -> 41998 | AK3: =AI3+1 -> 41999 | AL3: =AI3+1 -> 41999 | AM3: =AK3+1 -> 42000 | AN3: =AK3+1 -> 42000 | AO3: =AM3+1 -> 42001 | AP3: =AM3+1 -> 42001 | AQ3: =AO3+1 -> 42002 | AR3: =AO3+1 -> 42002 | AT3: =AQ3+1 -> 42003 | AU3: =AQ3+1 -> 42003 | AV3: =AT3+1 -> 42004 | AW3: =AT3+1 -> 42004 | AX3: =AV3+1 -> 42005 | AY3: =AV3+1 -> 42005 | AZ3: =AX3+1 -> 42006 | BA3: =AX3+1 -> 42006 | BB3: =AZ3+1 -> 42007 | BC3: =AZ3+1 -> 42007 | BD3: =BB3+1 -> 42008 | BE3: =BB3+1 -> 42008 | BF3: =BD3+1 -> 42009 | BG3: =BD3+1 -> 42009 | BH3: 0.31666667 | BI3: =TODAY() -> 41995
A4: PERSONNEL | B4: heure | C4: poste | D4: heure | E4: poste | F4: heure | G4: poste | H4: heure | I4: poste | J4: heure | K4: poste | L4: heure | M4: poste | N4: heure | O4: poste | P4: heure | Q4: poste | R4: heure | S4: poste | T4: heure | U4: poste | V4: heure | W4: poste | X4: heure | Y4: poste | Z4: heure | AA4: poste | AB4: heure | AC4: poste | AD4: 51 | AE4: heure | AF4: poste | AG4: heure | AH4: poste | AI4: heure | AJ4: poste | AK4: heure | AL4: poste | AM4: heure | AN4: poste | AO4: heure | AP4: poste | AQ4: heure | AR4: poste | AS4: 52 | AT4: heure | AU4: poste | AV4: heure | AW4: poste | AX4: heure | AY4: poste | AZ4: heure | BA4: poste | BB4: heure | BC4: poste | BD4: heure | BE4: poste | BF4: heure | BG4: poste | BH4: 0.03125 | BI4: =BI3-WEEKDAY(BI3-1)+7 -> 41995
A5: toto | C5: f | E5: m | G5: m | I5: m | K5: m | P5: 0.20833333 | Q5: pause rec2 cpou | R5: 0.25 | S5: pause rec2 cpou | T5: 0.33333333 | U5: pause rec2 cpou | V5: 0.33333333 | W5: pause rec2 cpou | X5: 0.29166667 | Y5: pause cpou | Z5: 0.29166667 | AA5: pause aide cpou | AD5: =SUM(P7:AC7) -> 2.4791667 | AF5: r | AH5: f | AI5: 0.58333333 | AJ5: pause cuht | AK5: 0.33333333 | AL5: pause cpou | AM5: 0.33333333 | AN5: pause cpou | AS5: =SUM(AE7:AR7) -> 0 | AU5: c | BH5: =SUM(AT7:BG7) -> 0
P6: 0.72916667 | R6: 0.6875 | T6: 0.69791667 | V6: 0.71875 | X6: 0.6875 | Z6: 0.66666667 | AI6: 0.91666667 | AK6: 0.66666667 | AM6: 0.66666667
B7: =IF(B$3>$BI$4,0,IF(OR(ISBLANK(B5),ISBLANK(B6),ISBLANK(C5),LEFT(C5,4)="jour",LEFT(C5,4)="form"),0,IF(COUNTIF(fériés,B$3)>0,MOD((B6-B5),1)*1,MOD((B6-B5),1)))) -> 0 | C7: =IF(B$3>$BI$4,0,IF(AND(ISNUMBER(B5),ISNUMBER(B6),OR(LEFT(C5,4)="jour",LEFT(C5,4)="form")),IF(COUNTIF(fériés,B$3)>0,MOD(-$BH$4+(B6-B5),1)*1,MOD(-$BH$4+(B6-B5),1)),IF(AND(ISBLANK(B5),ISBLANK(B6)),IF(OR(C5="r",C5="c",C5="a",C5="m",C5="f",C5="cp",C5="s",C5="congé parent"),$BH$3,0),0))) -> 0.31666667 | D7: =IF(D$3>$BI$4,0,IF(OR(ISBLANK(D5),ISBLANK(D6),ISBLANK(E5),LEFT(E5,4)="jour",LEFT(E5,4)="form"),0,IF(COUNTIF(fériés,D$3)>0,MOD((D6-D5),1)*1,MOD((D6-D5),1)))) -> 0 | E7: =IF(D$3>$BI$4,0,IF(AND(ISNUMBER(D5),ISNUMBER(D6),OR(LEFT(E5,4)="jour",LEFT(E5,4)="form")),IF(COUNTIF(fériés,D$3)>0,MOD(-$BH$4+(D6-D5),1)*1,MOD(-$BH$4+(D6-D5),1)),IF(AND(ISBLANK(D5),ISBLANK(D6)),IF(OR(E5="r",E5="c",E5="a",E5="m",E5="f",E5="cp",E5="s",E5="congé parent"),$BH$3,0),0))) -> 0.31666667 | F7: =IF(F$3>$BI$4,0,IF(OR(ISBLANK(F5),ISBLANK(F6),ISBLANK(G5),LEFT(G5,4)="jour",LEFT(G5,4)="form"),0,IF(COUNTIF(fériés,F$3)>0,MOD((F6-F5),1)*1,MOD((F6-F5),1)))) -> 0 | G7: =IF(F$3>$BI$4,0,IF(AND(ISNUMBER(F5),ISNUMBER(F6),OR(LEFT(G5,4)="jour",LEFT(G5,4)="form")),IF(COUNTIF(fériés,F$3)>0,MOD(-$BH$4+(F6-F5),1)*1,MOD(-$BH$4+(F6-F5),1)),IF(AND(ISBLANK(F5),ISBLANK(F6)),IF(OR(G5="r",G5="c",G5="a",G5="m",G5="f",G5="cp",G5="s",G5="congé parent"),$BH$3,0),0))) -> 0.31666667 | H7: =IF(H$3>$BI$4,0,IF(OR(ISBLANK(H5),ISBLANK(H6),ISBLANK(I5),LEFT(I5,4)="jour",LEFT(I5,4)="form"),0,IF(COUNTIF(fériés,H$3)>0,MOD((H6-H5),1)*1,MOD((H6-H5),1)))) -> 0 | I7: =IF(H$3>$BI$4,0,IF(AND(ISNUMBER(H5),ISNUMBER(H6),OR(LEFT(I5,4)="jour",LEFT(I5,4)="form")),IF(COUNTIF(fériés,H$3)>0,MOD(-$BH$4+(H6-H5),1)*1,MOD(-$BH$4+(H6-H5),1)),IF(AND(ISBLANK(H5),ISBLANK(H6)),IF(OR(I5="r",I5="c",I5="a",I5="m",I5="f",I5="cp",I5="s",I5="congé parent"),$BH$3,0),0))) -> 0.31666667 | J7: =IF(J$3>$BI$4,0,IF(OR(ISBLANK(J5),ISBLANK(J6),ISBLANK(K5),LEFT(K5,4)="jour",LEFT(K5,4)="form"),0,IF(COUNTIF(fériés,J$3)>0,MOD((J6-J5),1)*1,MOD((J6-J5),1)))) -> 0 | K7: =IF(J$3>$BI$4,0,IF(AND(ISNUMBER(J5),ISNUMBER(J6),OR(LEFT(K5,4)="jour",LEFT(K5,4)="form")),IF(COUNTIF(fériés,J$3)>0,MOD(-$BH$4+(J6-J5),1)*1,MOD(-$BH$4+(J6-J5),1)),IF(AND(ISBLANK(J5),ISBLANK(J6)),IF(OR(K5="r",K5="c",K5="a",K5="m",K5="f",K5="cp",K5="s",K5="congé parent"),$BH$3,0),0))) -> 0.31666667 | L7: =IF(L$3>$BI$4,0,IF(OR(ISBLANK(L5),ISBLANK(L6),ISBLANK(M5),LEFT(M5,4)="jour",LEFT(M5,4)="form"),0,IF(COUNTIF(fériés,L$3)>0,MOD((L6-L5),1)*1,MOD((L6-L5),1)))) -> 0 | M7: =IF(L$3>$BI$4,0,IF(AND(ISNUMBER(L5),ISNUMBER(L6),OR(LEFT(M5,4)="jour",LEFT(M5,4)="form")),IF(COUNTIF(fériés,L$3)>0,MOD(-$BH$4+(L6-L5),1)*1,MOD(-$BH$4+(L6-L5),1)),IF(AND(ISBLANK(L5),ISBLANK(L6)),IF(OR(M5="r",M5="c",M5="a",M5="m",M5="f",M5="cp",M5="s",M5="congé parent"),$BH$3,0),0))) -> 0 | N7: =IF(N$3>$BI$4,0,IF(OR(ISBLANK(N5),ISBLANK(N6),ISBLANK(O5),LEFT(O5,4)="jour",LEFT(O5,4)="form"),0,IF(COUNTIF(fériés,N$3)>0,MOD((N6-N5),1)*1,MOD((N6-N5),1)))) -> 0 | O7: =IF(N$3>$BI$4,0,IF(AND(ISNUMBER(N5),ISNUMBER(N6),OR(LEFT(O5,4)="jour",LEFT(O5,4)="form")),IF(COUNTIF(fériés,N$3)>0,MOD(-$BH$4+(N6-N5),1)*1,MOD(-$BH$4+(N6-N5),1)),IF(AND(ISBLANK(N5),ISBLANK(N6)),IF(OR(O5="r",O5="c",O5="a",O5="m",O5="f",O5="cp",O5="s",O5="congé parent"),$BH$3,0),0))) -> 0 | P7: =IF(P$3>$BI$4,0,IF(OR(ISBLANK(P5),ISBLANK(P6),ISBLANK(Q5),LEFT(Q5,4)="jour",LEFT(Q5,4)="form"),0,IF(COUNTIF(fériés,P$3)>0,MOD((P6-P5),1)*1,MOD((P6-P5),1)))) -> 0.52083333 | Q7: =IF(P$3>$BI$4,0,IF(AND(ISNUMBER(P5),ISNUMBER(P6),OR(LEFT(Q5,4)="jour",LEFT(Q5,4)="form")),IF(COUNTIF(fériés,P$3)>0,MOD(-$BH$4+(P6-P5),1)*1,MOD(-$BH$4+(P6-P5),1)),IF(AND(ISBLANK(P5),ISBLANK(P6)),IF(OR(Q5="r",Q5="c",Q5="a",Q5="m",Q5="f",Q5="cp",Q5="s",Q5="congé parent"),$BH$3,0),0))) -> 0 | R7: =IF(R$3>$BI$4,0,IF(OR(ISBLANK(R5),ISBLANK(R6),ISBLANK(S5),LEFT(S5,4)="jour",LEFT(S5,4)="form"),0,IF(COUNTIF(fériés,R$3)>0,MOD((R6-R5),1)*1,MOD((R6-R5),1)))) -> 0.4375 | S7: =IF(R$3>$BI$4,0,IF(AND(ISNUMBER(R5),ISNUMBER(R6),OR(LEFT(S5,4)="jour",LEFT(S5,4)="form")),IF(COUNTIF(fériés,R$3)>0,MOD(-$BH$4+(R6-R5),1)*1,MOD(-$BH$4+(R6-R5),1)),IF(AND(ISBLANK(R5),ISBLANK(R6)),IF(OR(S5="r",S5="c",S5="a",S5="m",S5="f",S5="cp",S5="s",S5="congé parent"),$BH$3,0),0))) -> 0 | T7: =IF(T$3>$BI$4,0,IF(OR(ISBLANK(T5),ISBLANK(T6),ISBLANK(U5),LEFT(U5,4)="jour",LEFT(U5,4)="form"),0,IF(COUNTIF(fériés,T$3)>0,MOD((T6-T5),1)*1,MOD((T6-T5),1)))) -> 0.36458333 | U7: =IF(T$3>$BI$4,0,IF(AND(ISNUMBER(T5),ISNUMBER(T6),OR(LEFT(U5,4)="jour",LEFT(U5,4)="form")),IF(COUNTIF(fériés,T$3)>0,MOD(-$BH$4+(T6-T5),1)*1,MOD(-$BH$4+(T6-T5),1)),IF(AND(ISBLANK(T5),ISBLANK(T6)),IF(OR(U5="r",U5="c",U5="a",U5="m",U5="f",U5="cp",U5="s",U5="congé parent"),$BH$3,0),0))) -> 0 | V7: =IF(V$3>$BI$4,0,IF(OR(ISBLANK(V5),ISBLANK(V6),ISBLANK(W5),LEFT(W5,4)="jour",LEFT(W5,4)="form"),0,IF(COUNTIF(fériés,V$3)>0,MOD((V6-V5),1)*1,MOD((V6-V5),1)))) -> 0.38541667 | W7: =IF(V$3>$BI$4,0,IF(AND(ISNUMBER(V5),ISNUMBER(V6),OR(LEFT(W5,4)="jour",LEFT(W5,4)="form")),IF(COUNTIF(fériés,V$3)>0,MOD(-$BH$4+(V6-V5),1)*1,MOD(-$BH$4+(V6-V5),1)),IF(AND(ISBLANK(V5),ISBLANK(V6)),IF(OR(W5="r",W5="c",W5="a",W5="m",W5="f",W5="cp",W5="s",W5="congé parent"),$BH$3,0),0))) -> 0 | X7: =IF(X$3>$BI$4,0,IF(OR(ISBLANK(X5),ISBLANK(X6),ISBLANK(Y5),LEFT(Y5,4)="jour",LEFT(Y5,4)="form"),0,IF(COUNTIF(fériés,X$3)>0,MOD((X6-X5),1)*1,MOD((X6-X5),1)))) -> 0.39583333 | Y7: =IF(X$3>$BI$4,0,IF(AND(ISNUMBER(X5),ISNUMBER(X6),OR(LEFT(Y5,4)="jour",LEFT(Y5,4)="form")),IF(COUNTIF(fériés,X$3)>0,MOD(-$BH$4+(X6-X5),1)*1,MOD(-$BH$4+(X6-X5),1)),IF(AND(ISBLANK(X5),ISBLANK(X6)),IF(OR(Y5="r",Y5="c",Y5="a",Y5="m",Y5="f",Y5="cp",Y5="s",Y5="congé parent"),$BH$3,0),0))) -> 0 | Z7: =IF(Z$3>$BI$4,0,IF(OR(ISBLANK(Z5),ISBLANK(Z6),ISBLANK(AA5),LEFT(AA5,4)="jour",LEFT(AA5,4)="form"),0,IF(COUNTIF(fériés,Z$3)>0,MOD((Z6-Z5),1)*1,MOD((Z6-Z5),1)))) -> 0.375 | AA7: =IF(Z$3>$BI$4,0,IF(AND(ISNUMBER(Z5),ISNUMBER(Z6),OR(LEFT(AA5,4)="jour",LEFT(AA5,4)="form")),IF(COUNTIF(fériés,Z$3)>0,MOD(-$BH$4+(Z6-Z5),1)*1,MOD(-$BH$4+(Z6-Z5),1)),IF(AND(ISBLANK(Z5),ISBLANK(Z6)),IF(OR(AA5="r",AA5="c",AA5="a",AA5="m",AA5="f",AA5="cp",AA5="s",AA5="congé parent"),$BH$3,0),0))) -> 0 | AB7: =IF(AB$3>$BI$4,0,IF(OR(ISBLANK(AB5),ISBLANK(AB6),ISBLANK(AC5),LEFT(AC5,4)="jour",LEFT(AC5,4)="form"),0,IF(COUNTIF(fériés,AB$3)>0,MOD((AB6-AB5),1)*1,MOD((AB6-AB5),1)))) -> 0 | AC7: =IF(AB$3>$BI$4,0,IF(AND(ISNUMBER(AB5),ISNUMBER(AB6),OR(LEFT(AC5,4)="jour",LEFT(AC5,4)="form")),IF(COUNTIF(fériés,AB$3)>0,MOD(-$BH$4+(AB6-AB5),1)*1,MOD(-$BH$4+(AB6-AB5),1)),IF(AND(ISBLANK(AB5),ISBLANK(AB6)),IF(OR(AC5="r",AC5="c",AC5="a",AC5="m",AC5="f",AC5="cp",AC5="s",AC5="congé parent"),$BH$3,0),0))) -> 0 | AE7: =IF(AE$3>$BI$4,0,IF(OR(ISBLANK(AE5),ISBLANK(AE6),ISBLANK(AF5),LEFT(AF5,4)="jour",LEFT(AF5,4)="form"),0,IF(COUNTIF(fériés,AE$3)>0,MOD((AE6-AE5),1)*1,MOD((AE6-AE5),1)))) -> 0 | AF7: =IF(AE$3>$BI$4,0,IF(AND(ISNUMBER(AE5),ISNUMBER(AE6),OR(LEFT(AF5,4)="jour",LEFT(AF5,4)="form")),IF(COUNTIF(fériés,AE$3)>0,MOD(-$BH$4+(AE6-AE5),1)*1,MOD(-$BH$4+(AE6-AE5),1)),IF(AND(ISBLANK(AE5),ISBLANK(AE6)),IF(OR(AF5="r",AF5="c",AF5="a",AF5="m",AF5="f",AF5="cp",AF5="s",AF5="congé parent"),$BH$3,0),0))) -> 0 | AG7: =IF(AG$3>$BI$4,0,IF(OR(ISBLANK(AG5),ISBLANK(AG6),ISBLANK(AH5),LEFT(AH5,4)="jour",LEFT(AH5,4)="form"),0,IF(COUNTIF(fériés,AG$3)>0,MOD((AG6-AG5),1)*1,MOD((AG6-AG5),1)))) -> 0 | AH7: =IF(AG$3>$BI$4,0,IF(AND(ISNUMBER(AG5),ISNUMBER(AG6),OR(LEFT(AH5,4)="jour",LEFT(AH5,4)="form")),IF(COUNTIF(fériés,AG$3)>0,MOD(-$BH$4+(AG6-AG5),1)*1,MOD(-$BH$4+(AG6-AG5),1)),IF(AND(ISBLANK(AG5),ISBLANK(AG6)),IF(OR(AH5="r",AH5="c",AH5="a",AH5="m",AH5="f",AH5="cp",AH5="s",AH5="congé parent"),$BH$3,0),0))) -> 0 | AI7: =IF(AI$3>$BI$4,0,IF(OR(ISBLANK(AI5),ISBLANK(AI6),ISBLANK(AJ5),LEFT(AJ5,4)="jour",LEFT(AJ5,4)="form"),0,IF(COUNTIF(fériés,AI$3)>0,MOD((AI6-AI5),1)*1,MOD((AI6-AI5),1)))) -> 0 | AJ7: =IF(AI$3>$BI$4,0,IF(AND(ISNUMBER(AI5),ISNUMBER(AI6),OR(LEFT(AJ5,4)="jour",LEFT(AJ5,4)="form")),IF(COUNTIF(fériés,AI$3)>0,MOD(-$BH$4+(AI6-AI5),1)*1,MOD(-$BH$4+(AI6-AI5),1)),IF(AND(ISBLANK(AI5),ISBLANK(AI6)),IF(OR(AJ5="r",AJ5="c",AJ5="a",AJ5="m",AJ5="f",AJ5="cp",AJ5="s",AJ5="congé parent"),$BH$3,0),0))) -> 0 | AK7: =IF(AK$3>$BI$4,0,IF(OR(ISBLANK(AK5),ISBLANK(AK6),ISBLANK(AL5),LEFT(AL5,4)="jour",LEFT(AL5,4)="form"),0,IF(COUNTIF(fériés,AK$3)>0,MOD((AK6-AK5),1)*1,MOD((AK6-AK5),1)))) -> 0 | AL7: =IF(AK$3>$BI$4,0,IF(AND(ISNUMBER(AK5),ISNUMBER(AK6),OR(LEFT(AL5,4)="jour",LEFT(AL5,4)="form")),IF(COUNTIF(fériés,AK$3)>0,MOD(-$BH$4+(AK6-AK5),1)*1,MOD(-$BH$4+(AK6-AK5),1)),IF(AND(ISBLANK(AK5),ISBLANK(AK6)),IF(OR(AL5="r",AL5="c",AL5="a",AL5="m",AL5="f",AL5="cp",AL5="s",AL5="congé parent"),$BH$3,0),0))) -> 0 | AM7: =IF(AM$3>$BI$4,0,IF(OR(ISBLANK(AM5),ISBLANK(AM6),ISBLANK(AN5),LEFT(AN5,4)="jour",LEFT(AN5,4)="form"),0,IF(COUNTIF(fériés,AM$3)>0,MOD((AM6-AM5),1)*1,MOD((AM6-AM5),1)))) -> 0 | AN7: =IF(AM$3>$BI$4,0,IF(AND(ISNUMBER(AM5),ISNUMBER(AM6),OR(LEFT(AN5,4)="jour",LEFT(AN5,4)="form")),IF(COUNTIF(fériés,AM$3)>0,MOD(-$BH$4+(AM6-AM5),1)*1,MOD(-$BH$4+(AM6-AM5),1)),IF(AND(ISBLANK(AM5),ISBLANK(AM6)),IF(OR(AN5="r",AN5="c",AN5="a",AN5="m",AN5="f",AN5="cp",AN5="s",AN5="congé parent"),$BH$3,0),0))) -> 0 | AO7: =IF(AO$3>$BI$4,0,IF(OR(ISBLANK(AO5),ISBLANK(AO6),ISBLANK(AP5),LEFT(AP5,4)="jour",LEFT(AP5,4)="form"),0,IF(COUNTIF(fériés,AO$3)>0,MOD((AO6-AO5),1)*1,MOD((AO6-AO5),1)))) -> 0 | AP7: =IF(AO$3>$BI$4,0,IF(AND(ISNUMBER(AO5),ISNUMBER(AO6),OR(LEFT(AP5,4)="jour",LEFT(AP5,4)="form")),IF(COUNTIF(fériés,AO$3)>0,MOD(-$BH$4+(AO6-AO5),1)*1,MOD(-$BH$4+(AO6-AO5),1)),IF(AND(ISBLANK(AO5),ISBLANK(AO6)),IF(OR(AP5="r",AP5="c",AP5="a",AP5="m",AP5="f",AP5="cp",AP5="s",AP5="congé parent"),$BH$3,0),0))) -> 0 | AQ7: =IF(AQ$3>$BI$4,0,IF(OR(ISBLANK(AQ5),ISBLANK(AQ6),ISBLANK(AR5),LEFT(AR5,4)="jour",LEFT(AR5,4)="form"),0,IF(COUNTIF(fériés,AQ$3)>0,MOD((AQ6-AQ5),1)*1,MOD((AQ6-AQ5),1)))) -> 0 | AR7: =IF(AQ$3>$BI$4,0,IF(AND(ISNUMBER(AQ5),ISNUMBER(AQ6),OR(LEFT(AR5,4)="jour",LEFT(AR5,4)="form")),IF(COUNTIF(fériés,AQ$3)>0,MOD(-$BH$4+(AQ6-AQ5),1)*1,MOD(-$BH$4+(AQ6-AQ5),1)),IF(AND(ISBLANK(AQ5),ISBLANK(AQ6)),IF(OR(AR5="r",AR5="c",AR5="a",AR5="m",AR5="f",AR5="cp",AR5="s",AR5="congé parent"),$BH$3,0),0))) -> 0 | AT7: =IF(AT$3>$BI$4,0,IF(OR(ISBLANK(AT5),ISBLANK(AT6),ISBLANK(AU5),LEFT(AU5,4)="jour",LEFT(AU5,4)="form"),0,IF(COUNTIF(fériés,AT$3)>0,MOD((AT6-AT5),1)*1,MOD((AT6-AT5),1)))) -> 0 | AU7: =IF(AT$3>$BI$4,0,IF(AND(ISNUMBER(AT5),ISNUMBER(AT6),OR(LEFT(AU5,4)="jour",LEFT(AU5,4)="form")),IF(COUNTIF(fériés,AT$3)>0,MOD(-$BH$4+(AT6-AT5),1)*1,MOD(-$BH$4+(AT6-AT5),1)),IF(AND(ISBLANK(AT5),ISBLANK(AT6)),IF(OR(AU5="r",AU5="c",AU5="a",AU5="m",AU5="f",AU5="cp",AU5="s",AU5="congé parent"),$BH$3,0),0))) -> 0 | AV7: =IF(AV$3>$BI$4,0,IF(OR(ISBLANK(AV5),ISBLANK(AV6),ISBLANK(AW5),LEFT(AW5,4)="jour",LEFT(AW5,4)="form"),0,IF(COUNTIF(fériés,AV$3)>0,MOD((AV6-AV5),1)*1,MOD((AV6-AV5),1)))) -> 0 | AW7: =IF(AV$3>$BI$4,0,IF(AND(ISNUMBER(AV5),ISNUMBER(AV6),OR(LEFT(AW5,4)="jour",LEFT(AW5,4)="form")),IF(COUNTIF(fériés,AV$3)>0,MOD(-$BH$4+(AV6-AV5),1)*1,MOD(-$BH$4+(AV6-AV5),1)),IF(AND(ISBLANK(AV5),ISBLANK(AV6)),IF(OR(AW5="r",AW5="c",AW5="a",AW5="m",AW5="f",AW5="cp",AW5="s",AW5="congé parent"),$BH$3,0),0))) -> 0 | AX7: =IF(AX$3>$BI$4,0,IF(OR(ISBLANK(AX5),ISBLANK(AX6),ISBLANK(AY5),LEFT(AY5,4)="jour",LEFT(AY5,4)="form"),0,IF(COUNTIF(fériés,AX$3)>0,MOD((AX6-AX5),1)*1,MOD((AX6-AX5),1)))) -> 0 | AY7: =IF(AX$3>$BI$4,0,IF(AND(ISNUMBER(AX5),ISNUMBER(AX6),OR(LEFT(AY5,4)="jour",LEFT(AY5,4)="form")),IF(COUNTIF(fériés,AX$3)>0,MOD(-$BH$4+(AX6-AX5),1)*1,MOD(-$BH$4+(AX6-AX5),1)),IF(AND(ISBLANK(AX5),ISBLANK(AX6)),IF(OR(AY5="r",AY5="c",AY5="a",AY5="m",AY5="f",AY5="cp",AY5="s",AY5="congé parent"),$BH$3,0),0))) -> 0 | AZ7: =IF(AZ$3>$BI$4,0,IF(OR(ISBLANK(AZ5),ISBLANK(AZ6),ISBLANK(BA5),LEFT(BA5,4)="jour",LEFT(BA5,4)="form"),0,IF(COUNTIF(fériés,AZ$3)>0,MOD((AZ6-AZ5),1)*1,MOD((AZ6-AZ5),1)))) -> 0 | BA7: =IF(AZ$3>$BI$4,0,IF(AND(ISNUMBER(AZ5),ISNUMBER(AZ6),OR(LEFT(BA5,4)="jour",LEFT(BA5,4)="form")),IF(COUNTIF(fériés,AZ$3)>0,MOD(-$BH$4+(AZ6-AZ5),1)*1,MOD(-$BH$4+(AZ6-AZ5),1)),IF(AND(ISBLANK(AZ5),ISBLANK(AZ6)),IF(OR(BA5="r",BA5="c",BA5="a",BA5="m",BA5="f",BA5="cp",BA5="s",BA5="congé parent"),$BH$3,0),0))) -> 0 | BB7: =IF(BB$3>$BI$4,0,IF(OR(ISBLANK(BB5),ISBLANK(BB6),ISBLANK(BC5),LEFT(BC5,4)="jour",LEFT(BC5,4)="form"),0,IF(COUNTIF(fériés,BB$3)>0,MOD((BB6-BB5),1)*1,MOD((BB6-BB5),1)))) -> 0 | BC7: =IF(BB$3>$BI$4,0,IF(AND(ISNUMBER(BB5),ISNUMBER(BB6),OR(LEFT(BC5,4)="jour",LEFT(BC5,4)="form")),IF(COUNTIF(fériés,BB$3)>0,MOD(-$BH$4+(BB6-BB5),1)*1,MOD(-$BH$4+(BB6-BB5),1)),IF(AND(ISBLANK(BB5),ISBLANK(BB6)),IF(OR(BC5="r",BC5="c",BC5="a",BC5="m",BC5="f",BC5="cp",BC5="s",BC5="congé parent"),$BH$3,0),0))) -> 0 | BD7: =IF(BD$3>$BI$4,0,IF(OR(ISBLANK(BD5),ISBLANK(BD6),ISBLANK(BE5),LEFT(BE5,4)="jour",LEFT(BE5,4)="form"),0,IF(COUNTIF(fériés,BD$3)>0,MOD((BD6-BD5),1)*1,MOD((BD6-BD5),1)))) -> 0 | BE7: =IF(BD$3>$BI$4,0,IF(AND(ISNUMBER(BD5),ISNUMBER(BD6),OR(LEFT(BE5,4)="jour",LEFT(BE5,4)="form")),IF(COUNTIF(fériés,BD$3)>0,MOD(-$BH$4+(BD6-BD5),1)*1,MOD(-$BH$4+(BD6-BD5),1)),IF(AND(ISBLANK(BD5),ISBLANK(BD6)),IF(OR(BE5="r",BE5="c",BE5="a",BE5="m",BE5="f",BE5="cp",BE5="s",BE5="congé parent"),$BH$3,0),0))) -> 0 | BF7: =IF(BF$3>$BI$4,0,IF(OR(ISBLANK(BF5),ISBLANK(BF6),ISBLANK(BG5),LEFT(BG5,4)="jour",LEFT(BG5,4)="form"),0,IF(COUNTIF(fériés,BF$3)>0,MOD((BF6-BF5),1)*1,MOD((BF6-BF5),1)))) -> 0 | BG7: =IF(BF$3>$BI$4,0,IF(AND(ISNUMBER(BF5),ISNUMBER(BF6),OR(LEFT(BG5,4)="jour",LEFT(BG5,4)="form")),IF(COUNTIF(fériés,BF$3)>0,MOD(-$BH$4+(BF6-BF5),1)*1,MOD(-$BH$4+(BF6-BF5),1)),IF(AND(ISBLANK(BF5),ISBLANK(BF6)),IF(OR(BG5="r",BG5="c",BG5="a",BG5="m",BG5="f",BG5="cp",BG5="s",BG5="congé parent"),$BH$3,0),0))) -> 0 | BH7: =SUM(B7:BG7) -> 4.0625
B8: =IF(RIGHT(C5,4)="cuht","171",IF(RIGHT(C5,4)="netu","172",IF(RIGHT(C5,4)="auht","173",IF(OR(RIGHT(C5,4)="ppou",RIGHT(C5,5)="prepa"),"360",IF(RIGHT(C5,4)="cpou","361",IF(OR(RIGHT(C5,4)="apou",RIGHT(C5,6)="molinf"),"363",IF(RIGHT(C5,4)="netp","364",IF(RIGHT(C5,4)="cmtr","365",IF(LEFT(C5,4)="form","873",IF(RIGHT(C5,7)="ce-cppt","902","")))))))))) | C8: =IF(B8="","",IF(OR(B$3=Recap!$A$50,B$3=Recap!$A$51,B$3=Recap!$A$52,B$3=Recap!$A$53,B$3=Recap!$A$54,B$3=Recap!$A$55,B$3=Recap!$A$56,B$3=Recap!$A$57,B$3=Recap!$A$58,B$3=Recap!$A$59,B$3=Recap!$A$60,B$3=Recap!$A$61),(B7+C7)/1,B7+C7)) | D8: =IF(RIGHT(E5,4)="cuht","171",IF(RIGHT(E5,4)="netu","172",IF(RIGHT(E5,4)="auht","173",IF(OR(RIGHT(E5,4)="ppou",RIGHT(E5,5)="prepa"),"360",IF(RIGHT(E5,4)="cpou","361",IF(OR(RIGHT(E5,4)="apou",RIGHT(E5,6)="molinf"),"363",IF(RIGHT(E5,4)="netp","364",IF(RIGHT(E5,4)="cmtr","365",IF(LEFT(E5,4)="form","873",IF(RIGHT(E5,7)="ce-cppt","902","")))))))))) | E8: =IF(D8="","",IF(OR(D$3=Recap!$A$50,D$3=Recap!$A$51,D$3=Recap!$A$52,D$3=Recap!$A$53,D$3=Recap!$A$54,D$3=Recap!$A$55,D$3=Recap!$A$56,D$3=Recap!$A$57,D$3=Recap!$A$58,D$3=Recap!$A$59,D$3=Recap!$A$60,D$3=Recap!$A$61),(D7+E7)/1,D7+E7)) | F8: =IF(RIGHT(G5,4)="cuht","171",IF(RIGHT(G5,4)="netu","172",IF(RIGHT(G5,4)="auht","173",IF(OR(RIGHT(G5,4)="ppou",RIGHT(G5,5)="prepa"),"360",IF(RIGHT(G5,4)="cpou","361",IF(OR(RIGHT(G5,4)="apou",RIGHT(G5,6)="molinf"),"363",IF(RIGHT(G5,4)="netp","364",IF(RIGHT(G5,4)="cmtr","365",IF(LEFT(G5,4)="form","873",IF(RIGHT(G5,7)="ce-cppt","902","")))))))))) | G8: =IF(F8="","",IF(OR(F$3=Recap!$A$50,F$3=Recap!$A$51,F$3=Recap!$A$52,F$3=Recap!$A$53,F$3=Recap!$A$54,F$3=Recap!$A$55,F$3=Recap!$A$56,F$3=Recap!$A$57,F$3=Recap!$A$58,F$3=Recap!$A$59,F$3=Recap!$A$60,F$3=Recap!$A$61),(F7+G7)/1,F7+G7)) | H8: =IF(RIGHT(I5,4)="cuht","171",IF(RIGHT(I5,4)="netu","172",IF(RIGHT(I5,4)="auht","173",IF(OR(RIGHT(I5,4)="ppou",RIGHT(I5,5)="prepa"),"360",IF(RIGHT(I5,4)="cpou","361",IF(OR(RIGHT(I5,4)="apou",RIGHT(I5,6)="molinf"),"363",IF(RIGHT(I5,4)="netp","364",IF(RIGHT(I5,4)="cmtr","365",IF(LEFT(I5,4)="form","873",IF(RIGHT(I5,7)="ce-cppt","902","")))))))))) | I8: =IF(H8="","",IF(OR(H$3=Recap!$A$50,H$3=Recap!$A$51,H$3=Recap!$A$52,H$3=Recap!$A$53,H$3=Recap!$A$54,H$3=Recap!$A$55,H$3=Recap!$A$56,H$3=Recap!$A$57,H$3=Recap!$A$58,H$3=Recap!$A$59,H$3=Recap!$A$60,H$3=Recap!$A$61),(H7+I7)/1,H7+I7)) | J8: =IF(RIGHT(K5,4)="cuht","171",IF(RIGHT(K5,4)="netu","172",IF(RIGHT(K5,4)="auht","173",IF(OR(RIGHT(K5,4)="ppou",RIGHT(K5,5)="prepa"),"360",IF(RIGHT(K5,4)="cpou","361",IF(OR(RIGHT(K5,4)="apou",RIGHT(K5,6)="molinf"),"363",IF(RIGHT(K5,4)="netp","364",IF(RIGHT(K5,4)="cmtr","365",IF(LEFT(K5,4)="form","873",IF(RIGHT(K5,7)="ce-cppt","902","")))))))))) | K8: =IF(J8="","",IF(OR(J$3=Recap!$A$50,J$3=Recap!$A$51,J$3=Recap!$A$52,J$3=Recap!$A$53,J$3=Recap!$A$54,J$3=Recap!$A$55,J$3=Recap!$A$56,J$3=Recap!$A$57,J$3=Recap!$A$58,J$3=Recap!$A$59,J$3=Recap!$A$60,J$3=Recap!$A$61),(J7+K7)/1,J7+K7)) | L8: =IF(RIGHT(M5,4)="cuht","171",IF(RIGHT(M5,4)="netu","172",IF(RIGHT(M5,4)="auht","173",IF(OR(RIGHT(M5,4)="ppou",RIGHT(M5,5)="prepa"),"360",IF(RIGHT(M5,4)="cpou","361",IF(OR(RIGHT(M5,4)="apou",RIGHT(M5,6)="molinf"),"363",IF(RIGHT(M5,4)="netp","364",IF(RIGHT(M5,4)="cmtr","365",IF(LEFT(M5,4)="form","873",IF(RIGHT(M5,7)="ce-cppt","902","")))))))))) | M8: =IF(L8="","",IF(OR(L$3=Recap!$A$50,L$3=Recap!$A$51,L$3=Recap!$A$52,L$3=Recap!$A$53,L$3=Recap!$A$54,L$3=Recap!$A$55,L$3=Recap!$A$56,L$3=Recap!$A$57,L$3=Recap!$A$58,L$3=Recap!$A$59,L$3=Recap!$A$60,L$3=Recap!$A$61),(L7+M7)/1,L7+M7)) | N8: =IF(RIGHT(O5,4)="cuht","171",IF(RIGHT(O5,4)="netu","172",IF(RIGHT(O5,4)="auht","173",IF(OR(RIGHT(O5,4)="ppou",RIGHT(O5,5)="prepa"),"360",IF(RIGHT(O5,4)="cpou","361",IF(OR(RIGHT(O5,4)="apou",RIGHT(O5,6)="molinf"),"363",IF(RIGHT(O5,4)="netp","364",IF(RIGHT(O5,4)="cmtr","365",IF(LEFT(O5,4)="form","873",IF(RIGHT(O5,7)="ce-cppt","902","")))))))))) | O8: =IF(N8="","",IF(OR(N$3=Recap!$A$50,N$3=Recap!$A$51,N$3=Recap!$A$52,N$3=Recap!$A$53,N$3=Recap!$A$54,N$3=Recap!$A$55,N$3=Recap!$A$56,N$3=Recap!$A$57,N$3=Recap!$A$58,N$3=Recap!$A$59,N$3=Recap!$A$60,N$3=Recap!$A$61),(N7+O7)/1,N7+O7)) | P8: =IF(RIGHT(Q5,4)="cuht","171",IF(RIGHT(Q5,4)="netu","172",IF(RIGHT(Q5,4)="auht","173",IF(OR(RIGHT(Q5,4)="ppou",RIGHT(Q5,5)="prepa"),"360",IF(RIGHT(Q5,4)="cpou","361",IF(OR(RIGHT(Q5,4)="apou",RIGHT(Q5,6)="molinf"),"363",IF(RIGHT(Q5,4)="netp","364",IF(RIGHT(Q5,4)="cmtr","365",IF(LEFT(Q5,4)="form","873",IF(RIGHT(Q5,7)="ce-cppt","902","")))))))))) -> 361 | Q8: =IF(P8="","",IF(OR(P$3=Recap!$A$50,P$3=Recap!$A$51,P$3=Recap!$A$52,P$3=Recap!$A$53,P$3=Recap!$A$54,P$3=Recap!$A$55,P$3=Recap!$A$56,P$3=Recap!$A$57,P$3=Recap!$A$58,P$3=Recap!$A$59,P$3=Recap!$A$60,P$3=Recap!$A$61),(P7+Q7)/1,P7+Q7)) -> 0.52083333 | R8: =IF(RIGHT(S5,4)="cuht","171",IF(RIGHT(S5,4)="netu","172",IF(RIGHT(S5,4)="auht","173",IF(OR(RIGHT(S5,4)="ppou",RIGHT(S5,5)="prepa"),"360",IF(RIGHT(S5,4)="cpou","361",IF(OR(RIGHT(S5,4)="apou",RIGHT(S5,6)="molinf"),"363",IF(RIGHT(S5,4)="netp","364",IF(RIGHT(S5,4)="cmtr","365",IF(LEFT(S5,4)="form","873",IF(RIGHT(S5,7)="ce-cppt","902","")))))))))) -> 361 | S8: =IF(R8="","",IF(OR(R$3=Recap!$A$50,R$3=Recap!$A$51,R$3=Recap!$A$52,R$3=Recap!$A$53,R$3=Recap!$A$54,R$3=Recap!$A$55,R$3=Recap!$A$56,R$3=Recap!$A$57,R$3=Recap!$A$58,R$3=Recap!$A$59,R$3=Recap!$A$60,R$3=Recap!$A$61),(R7+S7)/1,R7+S7)) -> 0.4375 | T8: =IF(RIGHT(U5,4)="cuht","171",IF(RIGHT(U5,4)="netu","172",IF(RIGHT(U5,4)="auht","173",IF(OR(RIGHT(U5,4)="ppou",RIGHT(U5,5)="prepa"),"360",IF(RIGHT(U5,4)="cpou","361",IF(OR(RIGHT(U5,4)="apou",RIGHT(U5,6)="molinf"),"363",IF(RIGHT(U5,4)="netp","364",IF(RIGHT(U5,4)="cmtr","365",IF(LEFT(U5,4)="form","873",IF(RIGHT(U5,7)="ce-cppt","902","")))))))))) -> 361 | U8: =IF(T8="","",IF(OR(T$3=Recap!$A$50,T$3=Recap!$A$51,T$3=Recap!$A$52,T$3=Recap!$A$53,T$3=Recap!$A$54,T$3=Recap!$A$55,T$3=Recap!$A$56,T$3=Recap!$A$57,T$3=Recap!$A$58,T$3=Recap!$A$59,T$3=Recap!$A$60,T$3=Recap!$A$61),(T7+U7)/1,T7+U7)) -> 0.36458333 | V8: =IF(RIGHT(W5,4)="cuht","171",IF(RIGHT(W5,4)="netu","172",IF(RIGHT(W5,4)="auht","173",IF(OR(RIGHT(W5,4)="ppou",RIGHT(W5,5)="prepa"),"360",IF(RIGHT(W5,4)="cpou","361",IF(OR(RIGHT(W5,4)="apou",RIGHT(W5,6)="molinf"),"363",IF(RIGHT(W5,4)="netp","364",IF(RIGHT(W5,4)="cmtr","365",IF(LEFT(W5,4)="form","873",IF(RIGHT(W5,7)="ce-cppt","902","")))))))))) -> 361 | W8: =IF(V8="","",IF(OR(V$3=Recap!$A$50,V$3=Recap!$A$51,V$3=Recap!$A$52,V$3=Recap!$A$53,V$3=Recap!$A$54,V$3=Recap!$A$55,V$3=Recap!$A$56,V$3=Recap!$A$57,V$3=Recap!$A$58,V$3=Recap!$A$59,V$3=Recap!$A$60,V$3=Recap!$A$61),(V7+W7)/1,V7+W7)) -> 0.38541667 | X8: =IF(RIGHT(Y5,4)="cuht","171",IF(RIGHT(Y5,4)="netu","172",IF(RIGHT(Y5,4)="auht","173",IF(OR(RIGHT(Y5,4)="ppou",RIGHT(Y5,5)="prepa"),"360",IF(RIGHT(Y5,4)="cpou","361",IF(OR(RIGHT(Y5,4)="apou",RIGHT(Y5,6)="molinf"),"363",IF(RIGHT(Y5,4)="netp","364",IF(RIGHT(Y5,4)="cmtr","365",IF(LEFT(Y5,4)="form","873",IF(RIGHT(Y5,7)="ce-cppt","902","")))))))))) -> 361 | Y8: =IF(X8="","",IF(OR(X$3=Recap!$A$50,X$3=Recap!$A$51,X$3=Recap!$A$52,X$3=Recap!$A$53,X$3=Recap!$A$54,X$3=Recap!$A$55,X$3=Recap!$A$56,X$3=Recap!$A$57,X$3=Recap!$A$58,X$3=Recap!$A$59,X$3=Recap!$A$60,X$3=Recap!$A$61),(X7+Y7)/1,X7+Y7)) -> 0.39583333 | Z8: =IF(RIGHT(AA5,4)="cuht","171",IF(RIGHT(AA5,4)="netu","172",IF(RIGHT(AA5,4)="auht","173",IF(OR(RIGHT(AA5,4)="ppou",RIGHT(AA5,5)="prepa"),"360",IF(RIGHT(AA5,4)="cpou","361",IF(OR(RIGHT(AA5,4)="apou",RIGHT(AA5,6)="molinf"),"363",IF(RIGHT(AA5,4)="netp","364",IF(RIGHT(AA5,4)="cmtr","365",IF(LEFT(AA5,4)="form","873",IF(RIGHT(AA5,7)="ce-cppt","902","")))))))))) -> 361 | AA8: =IF(Z8="","",IF(OR(Z$3=Recap!$A$50,Z$3=Recap!$A$51,Z$3=Recap!$A$52,Z$3=Recap!$A$53,Z$3=Recap!$A$54,Z$3=Recap!$A$55,Z$3=Recap!$A$56,Z$3=Recap!$A$57,Z$3=Recap!$A$58,Z$3=Recap!$A$59,Z$3=Recap!$A$60,Z$3=Recap!$A$61),(Z7+AA7)/1,Z7+AA7)) -> 0.375 | AB8: =IF(RIGHT(AC5,4)="cuht","171",IF(RIGHT(AC5,4)="netu","172",IF(RIGHT(AC5,4)="auht","173",IF(OR(RIGHT(AC5,4)="ppou",RIGHT(AC5,5)="prepa"),"360",IF(RIGHT(AC5,4)="cpou","361",IF(OR(RIGHT(AC5,4)="apou",RIGHT(AC5,6)="molinf"),"363",IF(RIGHT(AC5,4)="netp","364",IF(RIGHT(AC5,4)="cmtr","365",IF(LEFT(AC5,4)="form","873",IF(RIGHT(AC5,7)="ce-cppt","902","")))))))))) | AC8: =IF(AB8="","",IF(OR(AB$3=Recap!$A$50,AB$3=Recap!$A$51,AB$3=Recap!$A$52,AB$3=Recap!$A$53,AB$3=Recap!$A$54,AB$3=Recap!$A$55,AB$3=Recap!$A$56,AB$3=Recap!$A$57,AB$3=Recap!$A$58,AB$3=Recap!$A$59,AB$3=Recap!$A$60,AB$3=Recap!$A$61),(AB7+AC7)/1,AB7+AC7)) | AE8: =IF(RIGHT(AF5,4)="cuht","171",IF(RIGHT(AF5,4)="netu","172",IF(RIGHT(AF5,4)="auht","173",IF(OR(RIGHT(AF5,4)="ppou",RIGHT(AF5,5)="prepa"),"360",IF(RIGHT(AF5,4)="cpou","361",IF(OR(RIGHT(AF5,4)="apou",RIGHT(AF5,6)="molinf"),"363",IF(RIGHT(AF5,4)="netp","364",IF(RIGHT(AF5,4)="cmtr","365",IF(LEFT(AF5,4)="form","873",IF(RIGHT(AF5,7)="ce-cppt","902","")))))))))) | AF8: =IF(AE8="","",IF(OR(AE$3=Recap!$A$50,AE$3=Recap!$A$51,AE$3=Recap!$A$52,AE$3=Recap!$A$53,AE$3=Recap!$A$54,AE$3=Recap!$A$55,AE$3=Recap!$A$56,AE$3=Recap!$A$57,AE$3=Recap!$A$58,AE$3=Recap!$A$59,AE$3=Recap!$A$60,AE$3=Recap!$A$61),(AE7+AF7)/1,AE7+AF7)) | AG8: =IF(RIGHT(AH5,4)="cuht","171",IF(RIGHT(AH5,4)="netu","172",IF(RIGHT(AH5,4)="auht","173",IF(OR(RIGHT(AH5,4)="ppou",RIGHT(AH5,5)="prepa"),"360",IF(RIGHT(AH5,4)="cpou","361",IF(OR(RIGHT(AH5,4)="apou",RIGHT(AH5,6)="molinf"),"363",IF(RIGHT(AH5,4)="netp","364",IF(RIGHT(AH5,4)="cmtr","365",IF(LEFT(AH5,4)="form","873",IF(RIGHT(AH5,7)="ce-cppt","902","")))))))))) | AH8: =IF(AG8="","",IF(OR(AG$3=Recap!$A$50,AG$3=Recap!$A$51,AG$3=Recap!$A$52,AG$3=Recap!$A$53,AG$3=Recap!$A$54,AG$3=Recap!$A$55,AG$3=Recap!$A$56,AG$3=Recap!$A$57,AG$3=Recap!$A$58,AG$3=Recap!$A$59,AG$3=Recap!$A$60,AG$3=Recap!$A$61),(AG7+AH7)/1,AG7+AH7)) | AI8: =IF(RIGHT(AJ5,4)="cuht","171",IF(RIGHT(AJ5,4)="netu","172",IF(RIGHT(AJ5,4)="auht","173",IF(OR(RIGHT(AJ5,4)="ppou",RIGHT(AJ5,5)="prepa"),"360",IF(RIGHT(AJ5,4)="cpou","361",IF(OR(RIGHT(AJ5,4)="apou",RIGHT(AJ5,6)="molinf"),"363",IF(RIGHT(AJ5,4)="netp","364",IF(RIGHT(AJ5,4)="cmtr","365",IF(LEFT(AJ5,4)="form","873",IF(RIGHT(AJ5,7)="ce-cppt","902","")))))))))) -> 171 | AJ8: =IF(AI8="","",IF(OR(AI$3=Recap!$A$50,AI$3=Recap!$A$51,AI$3=Recap!$A$52,AI$3=Recap!$A$53,AI$3=Recap!$A$54,AI$3=Recap!$A$55,AI$3=Recap!$A$56,AI$3=Recap!$A$57,AI$3=Recap!$A$58,AI$3=Recap!$A$59,AI$3=Recap!$A$60,AI$3=Recap!$A$61),(AI7+AJ7)/1,AI7+AJ7)) -> 0 | AK8: =IF(RIGHT(AL5,4)="cuht","171",IF(RIGHT(AL5,4)="netu","172",IF(RIGHT(AL5,4)="auht","173",IF(OR(RIGHT(AL5,4)="ppou",RIGHT(AL5,5)="prepa"),"360",IF(RIGHT(AL5,4)="cpou","361",IF(OR(RIGHT(AL5,4)="apou",RIGHT(AL5,6)="molinf"),"363",IF(RIGHT(AL5,4)="netp","364",IF(RIGHT(AL5,4)="cmtr","365",IF(LEFT(AL5,4)="form","873",IF(RIGHT(AL5,7)="ce-cppt","902","")))))))))) -> 361 | AL8: =IF(AK8="","",IF(OR(AK$3=Recap!$A$50,AK$3=Recap!$A$51,AK$3=Recap!$A$52,AK$3=Recap!$A$53,AK$3=Recap!$A$54,AK$3=Recap!$A$55,AK$3=Recap!$A$56,AK$3=Recap!$A$57,AK$3=Recap!$A$58,AK$3=Recap!$A$59,AK$3=Recap!$A$60,AK$3=Recap!$A$61),(AK7+AL7)/1,AK7+AL7)) -> 0 | AM8: =IF(RIGHT(AN5,4)="cuht","171",IF(RIGHT(AN5,4)="netu","172",IF(RIGHT(AN5,4)="auht","173",IF(OR(RIGHT(AN5,4)="ppou",RIGHT(AN5,5)="prepa"),"360",IF(RIGHT(AN5,4)="cpou","361",IF(OR(RIGHT(AN5,4)="apou",RIGHT(AN5,6)="molinf"),"363",IF(RIGHT(AN5,4)="netp","364",IF(RIGHT(AN5,4)="cmtr","365",IF(LEFT(AN5,4)="form","873",IF(RIGHT(AN5,7)="ce-cppt","902","")))))))))) -> 361 | AN8: =IF(AM8="","",IF(OR(AM$3=Recap!$A$50,AM$3=Recap!$A$51,AM$3=Recap!$A$52,AM$3=Recap!$A$53,AM$3=Recap!$A$54,AM$3=Recap!$A$55,AM$3=Recap!$A$56,AM$3=Recap!$A$57,AM$3=Recap!$A$58,AM$3=Recap!$A$59,AM$3=Recap!$A$60,AM$3=Recap!$A$61),(AM7+AN7)/1,AM7+AN7)) -> 0 | AO8: =IF(RIGHT(AP5,4)="cuht","171",IF(RIGHT(AP5,4)="netu","172",IF(RIGHT(AP5,4)="auht","173",IF(OR(RIGHT(AP5,4)="ppou",RIGHT(AP5,5)="prepa"),"360",IF(RIGHT(AP5,4)="cpou","361",IF(OR(RIGHT(AP5,4)="apou",RIGHT(AP5,6)="molinf"),"363",IF(RIGHT(AP5,4)="netp","364",IF(RIGHT(AP5,4)="cmtr","365",IF(LEFT(AP5,4)="form","873",IF(RIGHT(AP5,7)="ce-cppt","902","")))))))))) | AP8: =IF(AO8="","",IF(OR(AO$3=Recap!$A$50,AO$3=Recap!$A$51,AO$3=Recap!$A$52,AO$3=Recap!$A$53,AO$3=Recap!$A$54,AO$3=Recap!$A$55,AO$3=Recap!$A$56,AO$3=Recap!$A$57,AO$3=Recap!$A$58,AO$3=Recap!$A$59,AO$3=Recap!$A$60,AO$3=Recap!$A$61),(AO7+AP7)/1,AO7+AP7)) | AQ8: =IF(RIGHT(AR5,4)="cuht","171",IF(RIGHT(AR5,4)="netu","172",IF(RIGHT(AR5,4)="auht","173",IF(OR(RIGHT(AR5,4)="ppou",RIGHT(AR5,5)="prepa"),"360",IF(RIGHT(AR5,4)="cpou","361",IF(OR(RIGHT(AR5,4)="apou",RIGHT(AR5,6)="molinf"),"363",IF(RIGHT(AR5,4)="netp","364",IF(RIGHT(AR5,4)="cmtr","365",IF(LEFT(AR5,4)="form","873",IF(RIGHT(AR5,7)="ce-cppt","902","")))))))))) | AR8: =IF(AQ8="","",IF(OR(AQ$3=Recap!$A$50,AQ$3=Recap!$A$51,AQ$3=Recap!$A$52,AQ$3=Recap!$A$53,AQ$3=Recap!$A$54,AQ$3=Recap!$A$55,AQ$3=Recap!$A$56,AQ$3=Recap!$A$57,AQ$3=Recap!$A$58,AQ$3=Recap!$A$59,AQ$3=Recap!$A$60,AQ$3=Recap!$A$61),(AQ7+AR7)/1,AQ7+AR7)) | AT8: =IF(RIGHT(AU5,4)="cuht","171",IF(RIGHT(AU5,4)="netu","172",IF(RIGHT(AU5,4)="auht","173",IF(OR(RIGHT(AU5,4)="ppou",RIGHT(AU5,5)="prepa"),"360",IF(RIGHT(AU5,4)="cpou","361",IF(OR(RIGHT(AU5,4)="apou",RIGHT(AU5,6)="molinf"),"363",IF(RIGHT(AU5,4)="netp","364",IF(RIGHT(AU5,4)="cmtr","365",IF(LEFT(AU5,4)="form","873",IF(RIGHT(AU5,7)="ce-cppt","902","")))))))))) | AU8: =IF(AT8="","",IF(OR(AT$3=Recap!$A$50,AT$3=Recap!$A$51,AT$3=Recap!$A$52,AT$3=Recap!$A$53,AT$3=Recap!$A$54,AT$3=Recap!$A$55,AT$3=Recap!$A$56,AT$3=Recap!$A$57,AT$3=Recap!$A$58,AT$3=Recap!$A$59,AT$3=Recap!$A$60,AT$3=Recap!$A$61),(AT7+AU7)/1,AT7+AU7)) | AV8: =IF(RIGHT(AW5,4)="cuht","171",IF(RIGHT(AW5,4)="netu","172",IF(RIGHT(AW5,4)="auht","173",IF(OR(RIGHT(AW5,4)="ppou",RIGHT(AW5,5)="prepa"),"360",IF(RIGHT(AW5,4)="cpou","361",IF(OR(RIGHT(AW5,4)="apou",RIGHT(AW5,6)="molinf"),"363",IF(RIGHT(AW5,4)="netp","364",IF(RIGHT(AW5,4)="cmtr","365",IF(LEFT(AW5,4)="form","873",IF(RIGHT(AW5,7)="ce-cppt","902","")))))))))) | AW8: =IF(AV8="","",IF(OR(AV$3=Recap!$A$50,AV$3=Recap!$A$51,AV$3=Recap!$A$52,AV$3=Recap!$A$53,AV$3=Recap!$A$54,AV$3=Recap!$A$55,AV$3=Recap!$A$56,AV$3=Recap!$A$57,AV$3=Recap!$A$58,AV$3=Recap!$A$59,AV$3=Recap!$A$60,AV$3=Recap!$A$61),(AV7+AW7)/1,AV7+AW7)) | AX8: =IF(RIGHT(AY5,4)="cuht","171",IF(RIGHT(AY5,4)="netu","172",IF(RIGHT(AY5,4)="auht","173",IF(OR(RIGHT(AY5,4)="ppou",RIGHT(AY5,5)="prepa"),"360",IF(RIGHT(AY5,4)="cpou","361",IF(OR(RIGHT(AY5,4)="apou",RIGHT(AY5,6)="molinf"),"363",IF(RIGHT(AY5,4)="netp","364",IF(RIGHT(AY5,4)="cmtr","365",IF(LEFT(AY5,4)="form","873",IF(RIGHT(AY5,7)="ce-cppt","902","")))))))))) | AY8: =IF(AX8="","",IF(OR(AX$3=Recap!$A$50,AX$3=Recap!$A$51,AX$3=Recap!$A$52,AX$3=Recap!$A$53,AX$3=Recap!$A$54,AX$3=Recap!$A$55,AX$3=Recap!$A$56,AX$3=Recap!$A$57,AX$3=Recap!$A$58,AX$3=Recap!$A$59,AX$3=Recap!$A$60,AX$3=Recap!$A$61),(AX7+AY7)/1,AX7+AY7)) | AZ8: =IF(RIGHT(BA5,4)="cuht","171",IF(RIGHT(BA5,4)="netu","172",IF(RIGHT(BA5,4)="auht","173",IF(OR(RIGHT(BA5,4)="ppou",RIGHT(BA5,5)="prepa"),"360",IF(RIGHT(BA5,4)="cpou","361",IF(OR(RIGHT(BA5,4)="apou",RIGHT(BA5,6)="molinf"),"363",IF(RIGHT(BA5,4)="netp","364",IF(RIGHT(BA5,4)="cmtr","365",IF(LEFT(BA5,4)="form","873",IF(RIGHT(BA5,7)="ce-cppt","902","")))))))))) | BA8: =IF(AZ8="","",IF(OR(AZ$3=Recap!$A$50,AZ$3=Recap!$A$51,AZ$3=Recap!$A$52,AZ$3=Recap!$A$53,AZ$3=Recap!$A$54,AZ$3=Recap!$A$55,AZ$3=Recap!$A$56,AZ$3=Recap!$A$57,AZ$3=Recap!$A$58,AZ$3=Recap!$A$59,AZ$3=Recap!$A$60,AZ$3=Recap!$A$61),(AZ7+BA7)/1,AZ7+BA7)) | BB8: =IF(RIGHT(BC5,4)="cuht","171",IF(RIGHT(BC5,4)="netu","172",IF(RIGHT(BC5,4)="auht","173",IF(OR(RIGHT(BC5,4)="ppou",RIGHT(BC5,5)="prepa"),"360",IF(RIGHT(BC5,4)="cpou","361",IF(OR(RIGHT(BC5,4)="apou",RIGHT(BC5,6)="molinf"),"363",IF(RIGHT(BC5,4)="netp","364",IF(RIGHT(BC5,4)="cmtr","365",IF(LEFT(BC5,4)="form","873",IF(RIGHT(BC5,7)="ce-cppt","902","")))))))))) | BC8: =IF(BB8="","",IF(OR(BB$3=Recap!$A$50,BB$3=Recap!$A$51,BB$3=Recap!$A$52,BB$3=Recap!$A$53,BB$3=Recap!$A$54,BB$3=Recap!$A$55,BB$3=Recap!$A$56,BB$3=Recap!$A$57,BB$3=Recap!$A$58,BB$3=Recap!$A$59,BB$3=Recap!$A$60,BB$3=Recap!$A$61),(BB7+BC7)/1,BB7+BC7)) | BD8: =IF(RIGHT(BE5,4)="cuht","171",IF(RIGHT(BE5,4)="netu","172",IF(RIGHT(BE5,4)="auht","173",IF(OR(RIGHT(BE5,4)="ppou",RIGHT(BE5,5)="prepa"),"360",IF(RIGHT(BE5,4)="cpou","361",IF(OR(RIGHT(BE5,4)="apou",RIGHT(BE5,6)="molinf"),"363",IF(RIGHT(BE5,4)="netp","364",IF(RIGHT(BE5,4)="cmtr","365",IF(LEFT(BE5,4)="form","873",IF(RIGHT(BE5,7)="ce-cppt","902","")))))))))) | BE8: =IF(BD8="","",IF(OR(BD$3=Recap!$A$50,BD$3=Recap!$A$51,BD$3=Recap!$A$52,BD$3=Recap!$A$53,BD$3=Recap!$A$54,BD$3=Recap!$A$55,BD$3=Recap!$A$56,BD$3=Recap!$A$57,BD$3=Recap!$A$58,BD$3=Recap!$A$59,BD$3=Recap!$A$60,BD$3=Recap!$A$61),(BD7+BE7)/1,BD7+BE7)) | BF8: =IF(RIGHT(BG5,4)="cuht","171",IF(RIGHT(BG5,4)="netu","172",IF(RIGHT(BG5,4)="auht","173",IF(OR(RIGHT(BG5,4)="ppou",RIGHT(BG5,5)="prepa"),"360",IF(RIGHT(BG5,4)="cpou","361",IF(OR(RIGHT(BG5,4)="apou",RIGHT(BG5,6)="molinf"),"363",IF(RIGHT(BG5,4)="netp","364",IF(RIGHT(BG5,4)="cmtr","365",IF(LEFT(BG5,4)="form","873",IF(RIGHT(BG5,7)="ce-cppt","902","")))))))))) | BG8: =IF(BF8="","",IF(OR(BF$3=Recap!$A$50,BF$3=Recap!$A$51,BF$3=Recap!$A$52,BF$3=Recap!$A$53,BF$3=Recap!$A$54,BF$3=Recap!$A$55,BF$3=Recap!$A$56,BF$3=Recap!$A$57,BF$3=Recap!$A$58,BF$3=Recap!$A$59,BF$3=Recap!$A$60,BF$3=Recap!$A$61),(BF7+BG7)/1,BF7+BG7))
A9: toti | C9: f | D9: 0.25 | E9: pause cmtr | F9: 0.33333333 | G9: pause cmtr | H9: 0.29166667 | I9: pause cmtr | J9: 0.33333333 | K9: pause cmtr | P9: 0.20833333 | Q9: pause aide cpou | R9: 0.25 | S9: pause cuht | U9: c | W9: c | Y9: c | AD9: =SUM(P11:AC11) -> 1.6583333 | AF9: c | AH9: f | AJ9: c | AL9: c | AN9: c | AS9: =SUM(AE11:AR11) -> 0 | BH9: =SUM(AT11:BG11) -> 0
D10: 0.58333333 | F10: 0.67708333 | H10: 0.72916667 | J10: 0.66666667 | P10: 0.58333333 | R10: 0.58333333
B11: =IF(B$3>$BI$4,0,IF(OR(ISBLANK(B9),ISBLANK(B10),ISBLANK(C9),LEFT(C9,4)="jour",LEFT(C9,4)="form"),0,IF(COUNTIF(fériés,B$3)>0,MOD((B10-B9),1)*1,MOD((B10-B9),1)))) -> 0 | C11: =IF(B$3>$BI$4,0,IF(AND(ISNUMBER(B9),ISNUMBER(B10),OR(LEFT(C9,4)="jour",LEFT(C9,4)="form")),IF(COUNTIF(fériés,B$3)>0,MOD(-$BH$4+(B10-B9),1)*1,MOD(-$BH$4+(B10-B9),1)),IF(AND(ISBLANK(B9),ISBLANK(B10)),IF(OR(C9="r",C9="c",C9="a",C9="m",C9="f",C9="cp",C9="s",C9="congé parent"),$BH$3,0),0))) -> 0.31666667 | D11: =IF(D$3>$BI$4,0,IF(OR(ISBLANK(D9),ISBLANK(D10),ISBLANK(E9),LEFT(E9,4)="jour",LEFT(E9,4)="form"),0,IF(COUNTIF(fériés,D$3)>0,MOD((D10-D9),1)*1,MOD((D10-D9),1)))) -> 0.33333333 | E11: =IF(D$3>$BI$4,0,IF(AND(ISNUMBER(D9),ISNUMBER(D10),OR(LEFT(E9,4)="jour",LEFT(E9,4)="form")),IF(COUNTIF(fériés,D$3)>0,MOD(-$BH$4+(D10-D9),1)*1,MOD(-$BH$4+(D10-D9),1)),IF(AND(ISBLANK(D9),ISBLANK(D10)),IF(OR(E9="r",E9="c",E9="a",E9="m",E9="f",E9="cp",E9="s",E9="congé parent"),$BH$3,0),0))) -> 0 | F11: =IF(F$3>$BI$4,0,IF(OR(ISBLANK(F9),ISBLANK(F10),ISBLANK(G9),LEFT(G9,4)="jour",LEFT(G9,4)="form"),0,IF(COUNTIF(fériés,F$3)>0,MOD((F10-F9),1)*1,MOD((F10-F9),1)))) -> 0.34375 | G11: =IF(F$3>$BI$4,0,IF(AND(ISNUMBER(F9),ISNUMBER(F10),OR(LEFT(G9,4)="jour",LEFT(G9,4)="form")),IF(COUNTIF(fériés,F$3)>0,MOD(-$BH$4+(F10-F9),1)*1,MOD(-$BH$4+(F10-F9),1)),IF(AND(ISBLANK(F9),ISBLANK(F10)),IF(OR(G9="r",G9="c",G9="a",G9="m",G9="f",G9="cp",G9="s",G9="congé parent"),$BH$3,0),0))) -> 0 | H11: =IF(H$3>$BI$4,0,IF(OR(ISBLANK(H9),ISBLANK(H10),ISBLANK(I9),LEFT(I9,4)="jour",LEFT(I9,4)="form"),0,IF(COUNTIF(fériés,H$3)>0,MOD((H10-H9),1)*1,MOD((H10-H9),1)))) -> 0.4375 | I11: =IF(H$3>$BI$4,0,IF(AND(ISNUMBER(H9),ISNUMBER(H10),OR(LEFT(I9,4)="jour",LEFT(I9,4)="form")),IF(COUNTIF(fériés,H$3)>0,MOD(-$BH$4+(H10-H9),1)*1,MOD(-$BH$4+(H10-H9),1)),IF(AND(ISBLANK(H9),ISBLANK(H10)),IF(OR(I9="r",I9="c",I9="a",I9="m",I9="f",I9="cp",I9="s",I9="congé parent"),$BH$3,0),0))) -> 0 | J11: =IF(J$3>$BI$4,0,IF(OR(ISBLANK(J9),ISBLANK(J10),ISBLANK(K9),LEFT(K9,4)="jour",LEFT(K9,4)="form"),0,IF(COUNTIF(fériés,J$3)>0,MOD((J10-J9),1)*1,MOD((J10-J9),1)))) -> 0.33333333 | K11: =IF(J$3>$BI$4,0,IF(AND(ISNUMBER(J9),ISNUMBER(J10),OR(LEFT(K9,4)="jour",LEFT(K9,4)="form")),IF(COUNTIF(fériés,J$3)>0,MOD(-$BH$4+(J10-J9),1)*1,MOD(-$BH$4+(J10-J9),1)),IF(AND(ISBLANK(J9),ISBLANK(J10)),IF(OR(K9="r",K9="c",K9="a",K9="m",K9="f",K9="cp",K9="s",K9="congé parent"),$BH$3,0),0))) -> 0 | L11: =IF(L$3>$BI$4,0,IF(OR(ISBLANK(L9),ISBLANK(L10),ISBLANK(M9),LEFT(M9,4)="jour",LEFT(M9,4)="form"),0,IF(COUNTIF(fériés,L$3)>0,MOD((L10-L9),1)*1,MOD((L10-L9),1)))) -> 0 | M11: =IF(L$3>$BI$4,0,IF(AND(ISNUMBER(L9),ISNUMBER(L10),OR(LEFT(M9,4)="jour",LEFT(M9,4)="form")),IF(COUNTIF(fériés,L$3)>0,MOD(-$BH$4+(L10-L9),1)*1,MOD(-$BH$4+(L10-L9),1)),IF(AND(ISBLANK(L9),ISBLANK(L10)),IF(OR(M9="r",M9="c",M9="a",M9="m",M9="f",M9="cp",M9="s",M9="congé parent"),$BH$3,0),0))) -> 0 | N11: =IF(N$3>$BI$4,0,IF(OR(ISBLANK(N9),ISBLANK(N10),ISBLANK(O9),LEFT(O9,4)="jour",LEFT(O9,4)="form"),0,IF(COUNTIF(fériés,N$3)>0,MOD((N10-N9),1)*1,MOD((N10-N9),1)))) -> 0 | O11: =IF(N$3>$BI$4,0,IF(AND(ISNUMBER(N9),ISNUMBER(N10),OR(LEFT(O9,4)="jour",LEFT(O9,4)="form")),IF(COUNTIF(fériés,N$3)>0,MOD(-$BH$4+(N10-N9),1)*1,MOD(-$BH$4+(N10-N9),1)),IF(AND(ISBLANK(N9),ISBLANK(N10)),IF(OR(O9="r",O9="c",O9="a",O9="m",O9="f",O9="cp",O9="s",O9="congé parent"),$BH$3,0),0))) -> 0 | P11: =IF(P$3>$BI$4,0,IF(OR(ISBLANK(P9),ISBLANK(P10),ISBLANK(Q9),LEFT(Q9,4)="jour",LEFT(Q9,4)="form"),0,IF(COUNTIF(fériés,P$3)>0,MOD((P10-P9),1)*1,MOD((P10-P9),1)))) -> 0.375 | Q11: =IF(P$3>$BI$4,0,IF(AND(ISNUMBER(P9),ISNUMBER(P10),OR(LEFT(Q9,4)="jour",LEFT(Q9,4)="form")),IF(COUNTIF(fériés,P$3)>0,MOD(-$BH$4+(P10-P9),1)*1,MOD(-$BH$4+(P10-P9),1)),IF(AND(ISBLANK(P9),ISBLANK(P10)),IF(OR(Q9="r",Q9="c",Q9="a",Q9="m",Q9="f",Q9="cp",Q9="s",Q9="congé parent"),$BH$3,0),0))) -> 0 | R11: =IF(R$3>$BI$4,0,IF(OR(ISBLANK(R9),ISBLANK(R10),ISBLANK(S9),LEFT(S9,4)="jour",LEFT(S9,4)="form"),0,IF(COUNTIF(fériés,R$3)>0,MOD((R10-R9),1)*1,MOD((R10-R9),1)))) -> 0.33333333 | S11: =IF(R$3>$BI$4,0,IF(AND(ISNUMBER(R9),ISNUMBER(R10),OR(LEFT(S9,4)="jour",LEFT(S9,4)="form")),IF(COUNTIF(fériés,R$3)>0,MOD(-$BH$4+(R10-R9),1)*1,MOD(-$BH$4+(R10-R9),1)),IF(AND(ISBLANK(R9),ISBLANK(R10)),IF(OR(S9="r",S9="c",S9="a",S9="m",S9="f",S9="cp",S9="s",S9="congé parent"),$BH$3,0),0))) -> 0 | T11: =IF(T$3>$BI$4,0,IF(OR(ISBLANK(T9),ISBLANK(T10),ISBLANK(U9),LEFT(U9,4)="jour",LEFT(U9,4)="form"),0,IF(COUNTIF(fériés,T$3)>0,MOD((T10-T9),1)*1,MOD((T10-T9),1)))) -> 0 | U11: =IF(T$3>$BI$4,0,IF(AND(ISNUMBER(T9),ISNUMBER(T10),OR(LEFT(U9,4)="jour",LEFT(U9,4)="form")),IF(COUNTIF(fériés,T$3)>0,MOD(-$BH$4+(T10-T9),1)*1,MOD(-$BH$4+(T10-T9),1)),IF(AND(ISBLANK(T9),ISBLANK(T10)),IF(OR(U9="r",U9="c",U9="a",U9="m",U9="f",U9="cp",U9="s",U9="congé parent"),$BH$3,0),0))) -> 0.31666667 | V11: =IF(V$3>$BI$4,0,IF(OR(ISBLANK(V9),ISBLANK(V10),ISBLANK(W9),LEFT(W9,4)="jour",LEFT(W9,4)="form"),0,IF(COUNTIF(fériés,V$3)>0,MOD((V10-V9),1)*1,MOD((V10-V9),1)))) -> 0 | W11: =IF(V$3>$BI$4,0,IF(AND(ISNUMBER(V9),ISNUMBER(V10),OR(LEFT(W9,4)="jour",LEFT(W9,4)="form")),IF(COUNTIF(fériés,V$3)>0,MOD(-$BH$4+(V10-V9),1)*1,MOD(-$BH$4+(V10-V9),1)),IF(AND(ISBLANK(V9),ISBLANK(V10)),IF(OR(W9="r",W9="c",W9="a",W9="m",W9="f",W9="cp",W9="s",W9="congé parent"),$BH$3,0),0))) -> 0.31666667 | X11: =IF(X$3>$BI$4,0,IF(OR(ISBLANK(X9),ISBLANK(X10),ISBLANK(Y9),LEFT(Y9,4)="jour",LEFT(Y9,4)="form"),0,IF(COUNTIF(fériés,X$3)>0,MOD((X10-X9),1)*1,MOD((X10-X9),1)))) -> 0 | Y11: =IF(X$3>$BI$4,0,IF(AND(ISNUMBER(X9),ISNUMBER(X10),OR(LEFT(Y9,4)="jour",LEFT(Y9,4)="form")),IF(COUNTIF(fériés,X$3)>0,MOD(-$BH$4+(X10-X9),1)*1,MOD(-$BH$4+(X10-X9),1)),IF(AND(ISBLANK(X9),ISBLANK(X10)),IF(OR(Y9="r",Y9="c",Y9="a",Y9="m",Y9="f",Y9="cp",Y9="s",Y9="congé parent"),$BH$3,0),0))) -> 0.31666667 | Z11: =IF(Z$3>$BI$4,0,IF(OR(ISBLANK(Z9),ISBLANK(Z10),ISBLANK(AA9),LEFT(AA9,4)="jour",LEFT(AA9,4)="form"),0,IF(COUNTIF(fériés,Z$3)>0,MOD((Z10-Z9),1)*1,MOD((Z10-Z9),1)))) -> 0 | AA11: =IF(Z$3>$BI$4,0,IF(AND(ISNUMBER(Z9),ISNUMBER(Z10),OR(LEFT(AA9,4)="jour",LEFT(AA9,4)="form")),IF(COUNTIF(fériés,Z$3)>0,MOD(-$BH$4+(Z10-Z9),1)*1,MOD(-$BH$4+(Z10-Z9),1)),IF(AND(ISBLANK(Z9),ISBLANK(Z10)),IF(OR(AA9="r",AA9="c",AA9="a",AA9="m",AA9="f",AA9="cp",AA9="s",AA9="congé parent"),$BH$3,0),0))) -> 0 | AB11: =IF(AB$3>$BI$4,0,IF(OR(ISBLANK(AB9),ISBLANK(AB10),ISBLANK(AC9),LEFT(AC9,4)="jour",LEFT(AC9,4)="form"),0,IF(COUNTIF(fériés,AB$3)>0,MOD((AB10-AB9),1)*1,MOD((AB10-AB9),1)))) -> 0 | AC11: =IF(AB$3>$BI$4,0,IF(AND(ISNUMBER(AB9),ISNUMBER(AB10),OR(LEFT(AC9,4)="jour",LEFT(AC9,4)="form")),IF(COUNTIF(fériés,AB$3)>0,MOD(-$BH$4+(AB10-AB9),1)*1,MOD(-$BH$4+(AB10-AB9),1)),IF(AND(ISBLANK(AB9),ISBLANK(AB10)),IF(OR(AC9="r",AC9="c",AC9="a",AC9="m",AC9="f",AC9="cp",AC9="s",AC9="congé parent"),$BH$3,0),0))) -> 0 | AE11: =IF(AE$3>$BI$4,0,IF(OR(ISBLANK(AE9),ISBLANK(AE10),ISBLANK(AF9),LEFT(AF9,4)="jour",LEFT(AF9,4)="form"),0,IF(COUNTIF(fériés,AE$3)>0,MOD((AE10-AE9),1)*1,MOD((AE10-AE9),1)))) -> 0 | AF11: =IF(AE$3>$BI$4,0,IF(AND(ISNUMBER(AE9),ISNUMBER(AE10),OR(LEFT(AF9,4)="jour",LEFT(AF9,4)="form")),IF(COUNTIF(fériés,AE$3)>0,MOD(-$BH$4+(AE10-AE9),1)*1,MOD(-$BH$4+(AE10-AE9),1)),IF(AND(ISBLANK(AE9),ISBLANK(AE10)),IF(OR(AF9="r",AF9="c",AF9="a",AF9="m",AF9="f",AF9="cp",AF9="s",AF9="congé parent"),$BH$3,0),0))) -> 0 | AG11: =IF(AG$3>$BI$4,0,IF(OR(ISBLANK(AG9),ISBLANK(AG10),ISBLANK(AH9),LEFT(AH9,4)="jour",LEFT(AH9,4)="form"),0,IF(COUNTIF(fériés,AG$3)>0,MOD((AG10-AG9),1)*1,MOD((AG10-AG9),1)))) -> 0 | AH11: =IF(AG$3>$BI$4,0,IF(AND(ISNUMBER(AG9),ISNUMBER(AG10),OR(LEFT(AH9,4)="jour",LEFT(AH9,4)="form")),IF(COUNTIF(fériés,AG$3)>0,MOD(-$BH$4+(AG10-AG9),1)*1,MOD(-$BH$4+(AG10-AG9),1)),IF(AND(ISBLANK(AG9),ISBLANK(AG10)),IF(OR(AH9="r",AH9="c",AH9="a",AH9="m",AH9="f",AH9="cp",AH9="s",AH9="congé parent"),$BH$3,0),0))) -> 0 | AI11: =IF(AI$3>$BI$4,0,IF(OR(ISBLANK(AI9),ISBLANK(AI10),ISBLANK(AJ9),LEFT(AJ9,4)="jour",LEFT(AJ9,4)="form"),0,IF(COUNTIF(fériés,AI$3)>0,MOD((AI10-AI9),1)*1,MOD((AI10-AI9),1)))) -> 0 | AJ11: =IF(AI$3>$BI$4,0,IF(AND(ISNUMBER(AI9),ISNUMBER(AI10),OR(LEFT(AJ9,4)="jour",LEFT(AJ9,4)="form")),IF(COUNTIF(fériés,AI$3)>0,MOD(-$BH$4+(AI10-AI9),1)*1,MOD(-$BH$4+(AI10-AI9),1)),IF(AND(ISBLANK(AI9),ISBLANK(AI10)),IF(OR(AJ9="r",AJ9="c",AJ9="a",AJ9="m",AJ9="f",AJ9="cp",AJ9="s",AJ9="congé parent"),$BH$3,0),0))) -> 0 | AK11: =IF(AK$3>$BI$4,0,IF(OR(ISBLANK(AK9),ISBLANK(AK10),ISBLANK(AL9),LEFT(AL9,4)="jour",LEFT(AL9,4)="form"),0,IF(COUNTIF(fériés,AK$3)>0,MOD((AK10-AK9),1)*1,MOD((AK10-AK9),1)))) -> 0 | AL11: =IF(AK$3>$BI$4,0,IF(AND(ISNUMBER(AK9),ISNUMBER(AK10),OR(LEFT(AL9,4)="jour",LEFT(AL9,4)="form")),IF(COUNTIF(fériés,AK$3)>0,MOD(-$BH$4+(AK10-AK9),1)*1,MOD(-$BH$4+(AK10-AK9),1)),IF(AND(ISBLANK(AK9),ISBLANK(AK10)),IF(OR(AL9="r",AL9="c",AL9="a",AL9="m",AL9="f",AL9="cp",AL9="s",AL9="congé parent"),$BH$3,0),0))) -> 0 | AM11: =IF(AM$3>$BI$4,0,IF(OR(ISBLANK(AM9),ISBLANK(AM10),ISBLANK(AN9),LEFT(AN9,4)="jour",LEFT(AN9,4)="form"),0,IF(COUNTIF(fériés,AM$3)>0,MOD((AM10-AM9),1)*1,MOD((AM10-AM9),1)))) -> 0 | AN11: =IF(AM$3>$BI$4,0,IF(AND(ISNUMBER(AM9),ISNUMBER(AM10),OR(LEFT(AN9,4)="jour",LEFT(AN9,4)="form")),IF(COUNTIF(fériés,AM$3)>0,MOD(-$BH$4+(AM10-AM9),1)*1,MOD(-$BH$4+(AM10-AM9),1)),IF(AND(ISBLANK(AM9),ISBLANK(AM10)),IF(OR(AN9="r",AN9="c",AN9="a",AN9="m",AN9="f",AN9="cp",AN9="s",AN9="congé parent"),$BH$3,0),0))) -> 0 | AO11: =IF(AO$3>$BI$4,0,IF(OR(ISBLANK(AO9),ISBLANK(AO10),ISBLANK(AP9),LEFT(AP9,4)="jour",LEFT(AP9,4)="form"),0,IF(COUNTIF(fériés,AO$3)>0,MOD((AO10-AO9),1)*1,MOD((AO10-AO9),1)))) -> 0 | AP11: =IF(AO$3>$BI$4,0,IF(AND(ISNUMBER(AO9),ISNUMBER(AO10),OR(LEFT(AP9,4)="jour",LEFT(AP9,4)="form")),IF(COUNTIF(fériés,AO$3)>0,MOD(-$BH$4+(AO10-AO9),1)*1,MOD(-$BH$4+(AO10-AO9),1)),IF(AND(ISBLANK(AO9),ISBLANK(AO10)),IF(OR(AP9="r",AP9="c",AP9="a",AP9="m",AP9="f",AP9="cp",AP9="s",AP9="congé parent"),$BH$3,0),0))) -> 0 | AQ11: =IF(AQ$3>$BI$4,0,IF(OR(ISBLANK(AQ9),ISBLANK(AQ10),ISBLANK(AR9),LEFT(AR9,4)="jour",LEFT(AR9,4)="form"),0,IF(COUNTIF(fériés,AQ$3)>0,MOD((AQ10-AQ9),1)*1,MOD((AQ10-AQ9),1)))) -> 0 | AR11: =IF(AQ$3>$BI$4,0,IF(AND(ISNUMBER(AQ9),ISNUMBER(AQ10),OR(LEFT(AR9,4)="jour",LEFT(AR9,4)="form")),IF(COUNTIF(fériés,AQ$3)>0,MOD(-$BH$4+(AQ10-AQ9),1)*1,MOD(-$BH$4+(AQ10-AQ9),1)),IF(AND(ISBLANK(AQ9),ISBLANK(AQ10)),IF(OR(AR9="r",AR9="c",AR9="a",AR9="m",AR9="f",AR9="cp",AR9="s",AR9="congé parent"),$BH$3,0),0))) -> 0 | AT11: =IF(AT$3>$BI$4,0,IF(OR(ISBLANK(AT9),ISBLANK(AT10),ISBLANK(AU9),LEFT(AU9,4)="jour",LEFT(AU9,4)="form"),0,IF(COUNTIF(fériés,AT$3)>0,MOD((AT10-AT9),1)*1,MOD((AT10-AT9),1)))) -> 0 | AU11: =IF(AT$3>$BI$4,0,IF(AND(ISNUMBER(AT9),ISNUMBER(AT10),OR(LEFT(AU9,4)="jour",LEFT(AU9,4)="form")),IF(COUNTIF(fériés,AT$3)>0,MOD(-$BH$4+(AT10-AT9),1)*1,MOD(-$BH$4+(AT10-AT9),1)),IF(AND(ISBLANK(AT9),ISBLANK(AT10)),IF(OR(AU9="r",AU9="c",AU9="a",AU9="m",AU9="f",AU9="cp",AU9="s",AU9="congé parent"),$BH$3,0),0))) -> 0 | AV11: =IF(AV$3>$BI$4,0,IF(OR(ISBLANK(AV9),ISBLANK(AV10),ISBLANK(AW9),LEFT(AW9,4)="jour",LEFT(AW9,4)="form"),0,IF(COUNTIF(fériés,AV$3)>0,MOD((AV10-AV9),1)*1,MOD((AV10-AV9),1)))) -> 0 | AW11: =IF(AV$3>$BI$4,0,IF(AND(ISNUMBER(AV9),ISNUMBER(AV10),OR(LEFT(AW9,4)="jour",LEFT(AW9,4)="form")),IF(COUNTIF(fériés,AV$3)>0,MOD(-$BH$4+(AV10-AV9),1)*1,MOD(-$BH$4+(AV10-AV9),1)),IF(AND(ISBLANK(AV9),ISBLANK(AV10)),IF(OR(AW9="r",AW9="c",AW9="a",AW9="m",AW9="f",AW9="cp",AW9="s",AW9="congé parent"),$BH$3,0),0))) -> 0 | AX11: =IF(AX$3>$BI$4,0,IF(OR(ISBLANK(AX9),ISBLANK(AX10),ISBLANK(AY9),LEFT(AY9,4)="jour",LEFT(AY9,4)="form"),0,IF(COUNTIF(fériés,AX$3)>0,MOD((AX10-AX9),1)*1,MOD((AX10-AX9),1)))) -> 0 | AY11: =IF(AX$3>$BI$4,0,IF(AND(ISNUMBER(AX9),ISNUMBER(AX10),OR(LEFT(AY9,4)="jour",LEFT(AY9,4)="form")),IF(COUNTIF(fériés,AX$3)>0,MOD(-$BH$4+(AX10-AX9),1)*1,MOD(-$BH$4+(AX10-AX9),1)),IF(AND(ISBLANK(AX9),ISBLANK(AX10)),IF(OR(AY9="r",AY9="c",AY9="a",AY9="m",AY9="f",AY9="cp",AY9="s",AY9="congé parent"),$BH$3,0),0))) -> 0 | AZ11: =IF(AZ$3>$BI$4,0,IF(OR(ISBLANK(AZ9),ISBLANK(AZ10),ISBLANK(BA9),LEFT(BA9,4)="jour",LEFT(BA9,4)="form"),0,IF(COUNTIF(fériés,AZ$3)>0,MOD((AZ10-AZ9),1)*1,MOD((AZ10-AZ9),1)))) -> 0 | BA11: =IF(AZ$3>$BI$4,0,IF(AND(ISNUMBER(AZ9),ISNUMBER(AZ10),OR(LEFT(BA9,4)="jour",LEFT(BA9,4)="form")),IF(COUNTIF(fériés,AZ$3)>0,MOD(-$BH$4+(AZ10-AZ9),1)*1,MOD(-$BH$4+(AZ10-AZ9),1)),IF(AND(ISBLANK(AZ9),ISBLANK(AZ10)),IF(OR(BA9="r",BA9="c",BA9="a",BA9="m",BA9="f",BA9="cp",BA9="s",BA9="congé parent"),$BH$3,0),0))) -> 0 | BB11: =IF(BB$3>$BI$4,0,IF(OR(ISBLANK(BB9),ISBLANK(BB10),ISBLANK(BC9),LEFT(BC9,4)="jour",LEFT(BC9,4)="form"),0,IF(COUNTIF(fériés,BB$3)>0,MOD((BB10-BB9),1)*1,MOD((BB10-BB9),1)))) -> 0 | BC11: =IF(BB$3>$BI$4,0,IF(AND(ISNUMBER(BB9),ISNUMBER(BB10),OR(LEFT(BC9,4)="jour",LEFT(BC9,4)="form")),IF(COUNTIF(fériés,BB$3)>0,MOD(-$BH$4+(BB10-BB9),1)*1,MOD(-$BH$4+(BB10-BB9),1)),IF(AND(ISBLANK(BB9),ISBLANK(BB10)),IF(OR(BC9="r",BC9="c",BC9="a",BC9="m",BC9="f",BC9="cp",BC9="s",BC9="congé parent"),$BH$3,0),0))) -> 0 | BD11: =IF(BD$3>$BI$4,0,IF(OR(ISBLANK(BD9),ISBLANK(BD10),ISBLANK(BE9),LEFT(BE9,4)="jour",LEFT(BE9,4)="form"),0,IF(COUNTIF(fériés,BD$3)>0,MOD((BD10-BD9),1)*1,MOD((BD10-BD9),1)))) -> 0 | BE11: =IF(BD$3>$BI$4,0,IF(AND(ISNUMBER(BD9),ISNUMBER(BD10),OR(LEFT(BE9,4)="jour",LEFT(BE9,4)="form")),IF(COUNTIF(fériés,BD$3)>0,MOD(-$BH$4+(BD10-BD9),1)*1,MOD(-$BH$4+(BD10-BD9),1)),IF(AND(ISBLANK(BD9),ISBLANK(BD10)),IF(OR(BE9="r",BE9="c",BE9="a",BE9="m",BE9="f",BE9="cp",BE9="s",BE9="congé parent"),$BH$3,0),0))) -> 0 | BF11: =IF(BF$3>$BI$4,0,IF(OR(ISBLANK(BF9),ISBLANK(BF10),ISBLANK(BG9),LEFT(BG9,4)="jour",LEFT(BG9,4)="form"),0,IF(COUNTIF(fériés,BF$3)>0,MOD((BF10-BF9),1)*1,MOD((BF10-BF9),1)))) -> 0 | BG11: =IF(BF$3>$BI$4,0,IF(AND(ISNUMBER(BF9),ISNUMBER(BF10),OR(LEFT(BG9,4)="jour",LEFT(BG9,4)="form")),IF(COUNTIF(fériés,BF$3)>0,MOD(-$BH$4+(BF10-BF9),1)*1,MOD(-$BH$4+(BF10-BF9),1)),IF(AND(ISBLANK(BF9),ISBLANK(BF10)),IF(OR(BG9="r",BG9="c",BG9="a",BG9="m",BG9="f",BG9="cp",BG9="s",BG9="congé parent"),$BH$3,0),0))) -> 0 | BH11: =SUM(B11:BG11) -> 3.4229167
