Workbook
Name an: Recap!$A$49
Name fériés: Recap!$A$50:$A$61

Sheet Horaire
BH1: =(BI2-BI1)*BH2 -> 80.75
B2: ="SEMAINE"&" "&INT(MOD(INT((B3-3)/7)+0.6,52+5/28))+1 -> SEMAINE 1 | D2: ="SEMAINE"&" "&INT(MOD(INT((D3-3)/7)+0.6,52+5/28))+1 -> SEMAINE 1 | F2: ="SEMAINE"&" "&INT(MOD(INT((F3-3)/7)+0.6,52+5/28))+1 -> SEMAINE 1 | H2: ="SEMAINE"&" "&INT(MOD(INT((H3-3)/7)+0.6,52+5/28))+1 -> SEMAINE 1 | J2: ="SEMAINE"&" "&INT(MOD(INT((J3-3)/7)+0.6,52+5/28))+1 -> SEMAINE 1 | L2: ="SEMAINE"&" "&INT(MOD(INT((L3-3)/7)+0.6,52+5/28))+1 -> SEMAINE 1 | N2: ="SEMAINE"&" "&INT(MOD(INT((N3-3)/7)+0.6,52+5/28))+1 -> SEMAINE 1 | P2: ="SEMAINE"&" "&INT(MOD(INT((P3-2)/7)+0.6,52+5/28))+1 -> SEMAINE 51 | R2: ="SEMAINE"&" "&INT(MOD(INT((R3-2)/7)+0.6,52+5/28))+1 -> SEMAINE 51 | T2: ="SEMAINE"&" "&INT(MOD(INT((T3-2)/7)+0.6,52+5/28))+1 -> SEMAINE 51 | V2: ="SEMAINE"&" "&INT(MOD(INT((V3-2)/7)+0.6,52+5/28))+1 -> SEMAINE 51 | X2: ="SEMAINE"&" "&INT(MOD(INT((X3-2)/7)+0.6,52+5/28))+1 -> SEMAINE 51 | Z2: ="SEMAINE"&" "&INT(MOD(INT((Z3-2)/7)+0.6,52+5/28))+1 -> SEMAINE 51 | AB2: ="SEMAINE"&" "&INT(MOD(INT((AB3-2)/7)+0.6,52+5/28))+1 -> SEMAINE 52 | AE2: ="SEMAINE"&" "&INT(MOD(INT((AE3-2)/7)+0.6,52+5/28))+1 -> SEMAINE 52 | AG2: ="SEMAINE"&" "&INT(MOD(INT((AG3-2)/7)+0.6,52+5/28))+1 -> SEMAINE 52 | AI2: ="SEMAINE"&" "&INT(MOD(INT((AI3-2)/7)+0.6,52+5/28))+1 -> SEMAINE 52 | AK2: ="SEMAINE"&" "&INT(MOD(INT((AK3-2)/7)+0.6,52+5/28))+1 -> SEMAINE 52 | AM2: ="SEMAINE"&" "&INT(MOD(INT((AM3-2)/7)+0.6,52+5/28))+1 -> SEMAINE 52 | AO2: ="SEMAINE"&" "&INT(MOD(INT((AO3-2)/7)+0.6,52+5/28))+1 -> SEMAINE 52 | AQ2: ="SEMAINE"&" "&INT(MOD(INT((AQ3-2)/7)+0.6,52+5/28))+1 -> SEMAINE 1 | AT2: ="SEMAINE"&" "&INT(MOD(INT((AT3-2)/7)+0.6,52+5/28))+1 -> SEMAINE 1 | AV2: ="SEMAINE"&" "&INT(MOD(INT((AV3-2)/7)+0.6,52+5/28))+1 -> SEMAINE 1 | AX2: ="SEMAINE"&" "&INT(MOD(INT((AX3-2)/7)+0.6,52+5/28))+1 -> SEMAINE 1 | AZ2: ="SEMAINE"&" "&INT(MOD(INT((AZ3-2)/7)+0.6,52+5/28))+1 -> SEMAINE 1 | BB2: ="SEMAINE"&" "&INT(MOD(INT((BB3-2)/7)+0.6,52+5/28))+1 -> SEMAINE 1 | BD2: ="SEMAINE"&" "&INT(MOD(INT((BD3-2)/7)+0.6,52+5/28))+1 -> SEMAINE 1 | BF2: ="SEMAINE"&" "&INT(MOD(INT((BF3-2)/7)+0.6,52+5/28))+1 -> SEMAINE 2 | BH2: 1.5833333 | BI2: =INT(MOD(INT((BI3-3)/7)+0.6,52+5/28))+1 -> 51
A3: PLANNING | B3: 41639 | C3: =B3 -> 41639 | D3: =B3+1 -> 41640 | E3: =B3+1 -> 41640 | F3: =D3+1 -> 41641 | G3: =D3+1 -> 41641 | H3: =F3+1 -> 41642 | I3: =F3+1 -> 41642 | J3: =H3+1 -> 41643 | K3: =H3+1 -> 41643 | L3: =J3+1 -> 41644 | M3: =J3+1 -> 41644 | N3: =L3+1 -> 41645 | O3: =L3+1 -> 41645 | P3: 41989 | Q3: =#REF!+1 -> #REF! | R3: =P3+1 -> 41990 | S3: =P3+1 -> 41990 | T3: =R3+1 -> 41991 | U3: =R3+1 -> 41991 | V3: =T3+1 -> 41992 | W3: =T3+1 -> 41992 | X3: =V3+1 -> 41993 | Y3: =V3+1 -> 41993 | Z3: =X3+1 -> 41994 | AA3: =X3+1 -> 41994 | AB3: =Z3+1 -> 41995 | AC3: =Z3+1 -> 41995 | AE3: =AB3+1 -> 41996 | AF3: =AB3+1 -> 41996 | AG3: =AE3+1 -> 41997 | AH3: =AE3+1 -> 41997 | AI3: =AG3+1 -> 41998 | AJ3: =AG3+1 -> 41998 | AK3: =AI3+1 -> 41999 | AL3: =AI3+1 -> 41999 | AM3: =AK3+1 -> 42000 | AN3: =AK3+1 -> 42000 | AO3: =AM3+1 -> 42001 | AP3: =AM3+1 -> 42001 | AQ3: =AO3+1 -> 42002 | AR3: =AO3+1 -> 42002 | AT3: =AQ3+1 -> 42003 | AU3: =AQ3+1 -> 42003 | AV3: =AT3+1 -> 42004 | AW3: =AT3+1 -> 42004 | AX3: =AV3+1 -> 42005 | AY3: =AV3+1 -> 42005 | AZ3: =AX3+1 -> 42006 | BA3: =AX3+1 -> 42006 | BB3: =AZ3+1 -> 42007 | BC3: =AZ3+1 -> 42007 | BD3: =BB3+1 -> 42008 | BE3: =BB3+1 -> 42008 | BF3: =BD3+1 -> 42009 | BG3: =BD3+1 -> 42009 | BH3: 0.31666667 | BI3: =TODAY() -> 41995
A4: PERSONNEL | B4: heure | C4: poste | D4: heure | E4: poste | F4: heure | G4: poste | H4: heure | I4: poste | J4: heure | K4: poste | L4: heure | M4: poste | N4: heure | O4: poste | P4: heure | Q4: poste | R4: heure | S4: poste | T4: heure | U4: poste | V4: heure | W4: poste | X4: heure | Y4: poste | Z4: heure | AA4: poste | AB4: heure | AC4: poste | AD4: 51 | AE4: heure | AF4: poste | AG4: heure | AH4: poste | AI4: heure | AJ4: poste | AK4: heure | AL4: poste | AM4: heure | AN4: poste | AO4: heure | AP4: poste | AQ4: heure | AR4: poste | AS4: 52 | AT4: heure | AU4: poste | AV4: heure | AW4: poste | AX4: heure | AY4: poste | AZ4: heure | BA4: poste | BB4: heure | BC4: poste | BD4: heure | BE4: poste | BF4: heure | BG4: poste | BH4: 0.03125 | BI4: =BI3-WEEKDAY(BI3-1)+7 -> 41995
A5: toto | C5: f | E5: m | G5: m | I5: m | K5: m | P5: 0.20833333 | Q5: pause rec2 cpou | R5: 0.25 | S5: pause rec2 cpou | T5: 0.33333333 | U5: pause rec2 cpou | V5: 0.33333333 | W5: pause rec2 cpou | X5: 0.29166667 | Y5: pause cpou | Z5: 0.29166667 | AA5: pause aide cpou | AD5: =SUM(P7:AC7) -> 2.4791667 | AF5: r | AH5: f | AI5: 0.58333333 | AJ5: pause cuht | AK5: 0.33333333 | AL5: pause cpou | AM5: 0.33333333 | AN5: pause cpou | AS5: =SUM(AE7:AR7) -> 0 | AU5: c | BH5: =SUM(AT7:BG7) -> 0
P6: 0.72916667 | R6: 0.6875 | T6: 0.69791667 | V6: 0.71875 | X6: 0.6875 | Z6: 0.66666667 | AI6: 0.91666667 | AK6: 0.66666667 | AM6: 0.66666667
B7: =IF(B$3>$BI$4,0,IF(OR(ISBLANK(B5),ISBLANK(B6),ISBLANK(C5),LEFT(C5,4)="jour",LEFT(C5,4)="form"),0,IF(COUNTIF(fériés,B$3)>0,MOD((B6-B5),1)*1,MOD((B6-B5),1)))) -> 0 | C7: =IF(B$3>$BI$4,0,IF(AND(ISNUMBER(B5),ISNUMBER(B6),OR(LEFT(C5,4)="jour",LEFT(C5,4)="form")),IF(COUNTIF(fériés,B$3)>0,MOD(-$BH$4+(B6-B5),1)*1,MOD(-$BH$4+(B6-B5),1)),IF(AND(ISBLANK(B5),ISBLANK(B6)),IF(OR(C5="r",C5="c",C5="a",C5="m",C5="f",C5="cp",C5="s",C5="congé parent"),$BH$3,0),0))) -> 0.31666667 | D7: =IF(D$3>$BI$4,0,IF(OR(ISBLANK(D5),ISBLANK(D6),ISBLANK(E5),LEFT(E5,4)="jour",LEFT(E5,4)="form"),0,IF(COUNTIF(fériés,D$3)>0,MOD((D6-D5),1)*1,MOD((D6-D5),1)))) -> 0 | E7: =IF(D$3>$BI$4,0,IF(AND(ISNUMBER(D5),ISNUMBER(D6),OR(LEFT(E5,4)="jour",LEFT(E5,4)="form")),IF(COUNTIF(fériés,D$3)>0,MOD(-$BH$4+(D6-D5),1)*1,MOD(-$BH$4+(D6-D5),1)),IF(AND(ISBLANK(D5),ISBLANK(D6)),IF(OR(E5="r",E5="c",E5="a",E5="m",E5="f",E5="cp",E5="s",E5="congé parent"),$BH$3,0),0))) -> 0.31666667 | F7: =IF(F$3>$BI$4,0,IF(OR(ISBLANK(F5),ISBLANK(F6),ISBLANK(G5),LEFT(G5,4)="jour",LEFT(G5,4)="form"),0,IF(COUNTIF(fériés,F$3)>0,MOD((F6-F5),1)*1,MOD((F6-F5),1)))) -> 0 | G7: =IF(F$3>$BI$4,0,IF(AND(ISNUMBER(F5),ISNUMBER(F6),OR(LEFT(G5,4)="jour",LEFT(G5,4)="form")),IF(COUNTIF(fériés,F$3)>0,MOD(-$BH$4+(F6-F5),1)*1,MOD(-$BH$4+(F6-F5),1)),IF(AND(ISBLANK(F5),ISBLANK(F6)),IF(OR(G5="r",G5="c",G5="a",G5="m",G5="f",G5="cp",G5="s",G5="congé parent"),$BH$3,0),0))) -> 0.31666667 | H7: =IF(H$3>$BI$4,0,IF(OR(ISBLANK(H5),ISBLANK(H6),ISBLANK(I5),LEFT(I5,4)="jour",LEFT(I5,4)="form"),0,IF(COUNTIF(fériés,H$3)>0,MOD((H6-H5),1)*1,MOD((H6-H5),1)))) -> 0 | I7: =IF(H$3>$BI$4,0,IF(AND(ISNUMBER(H5),ISNUMBER(H6),OR(LEFT(I5,4)="jour",LEFT(I5,4)="form")),IF(COUNTIF(fériés,H$3)>0,MOD(-$BH$4+(H6-H5),1)*1,MOD(-$BH$4+(H6-H5),1)),IF(AND(ISBLANK(H5),ISBLANK(H6)),IF(OR(I5="r",I5="c",I5="a",I5="m",I5="f",I5="cp",I5="s",I5="congé parent"),$BH$3,0),0))) -> 0.31666667 | J7: =IF(J$3>$BI$4,0,IF(OR(ISBLANK(J5),ISBLANK(J6),ISBLANK(K5),LEFT(K5,4)="jour",LEFT(K5,4)="form"),0,IF(COUNTIF(fériés,J$3)>0,MOD((J6-J5),1)*1,MOD((J6-J5),1)))) -> 0 | K7: =IF(J$3>$BI$4,0,IF(AND(ISNUMBER(J5),ISNUMBER(J6),OR(LEFT(K5,4)="jour",LEFT(K5,4)="form")),IF(COUNTIF(fériés,J$3)>0,MOD(-$BH$4+(J6-J5),1)*1,MOD(-$BH$4+(J6-J5),1)),IF(AND(ISBLANK(J5),ISBLANK(J6)),IF(OR(K5="r",K5="c",K5="a",K5="m",K5="f",K5="cp",K5="s",K5="congé parent"),$BH$3,0),0))) -> 0.31666667 | L7: =IF(L$3>$BI$4,0,IF(OR(ISBLANK(L5),ISBLANK(L6),ISBLANK(M5),LEFT(M5,4)="jour",LEFT(M5,4)="form"),0,IF(COUNTIF(fériés,L$3)>0,MOD((L6-L5),1)*1,MOD((L6-L5),1)))) -> 0 | M7: =IF(L$3>$BI$4,0,IF(AND(ISNUMBER(L5),ISNUMBER(L6),OR(LEFT(M5,4)="jour",LEFT(M5,4)="form")),IF(COUNTIF(fériés,L$3)>0,MOD(-$BH$4+(L6-L5),1)*1,MOD(-$BH$4+(L6-L5),1)),IF(AND(ISBLANK(L5),ISBLANK(L6)),IF(OR(M5="r",M5="c",M5="a",M5="m",M5="f",M5="cp",M5="s",M5="congé parent"),$BH$3,0),0))) -> 0 | N7: =IF(N$3>$BI$4,0,IF(OR(ISBLANK(N5),ISBLANK(N6),ISBLANK(O5),LEFT(O5,4)="jour",LEFT(O5,4)="form"),0,IF(COUNTIF(fériés,N$3)>0,MOD((N6-N5),1)*1,MOD((N6-N5),1)))) -> 0 | O7: =IF(N$3>$BI$4,0,IF(AND(ISNUMBER(N5),ISNUMBER(N6),OR(LEFT(O5,4)="jour",LEFT(O5,4)="form")),IF(COUNTIF(fériés,N$3)>0,MOD(-$BH$4+(N6-N5),1)*1,MOD(-$BH$4+(N6-N5),1)),IF(AND(ISBLANK(N5),ISBLANK(N6)),IF(OR(O5="r",O5="c",O5="a",O5="m",O5="f",O5="cp",O5="s",O5="congé parent"),$BH$3,0),0))) -> 0 | P7: =IF(P$3>$BI$4,0,IF(OR(ISBLANK(P5),ISBLANK(P6),ISBLANK(Q5),LEFT(Q5,4)="jour",LEFT(Q5,4)="form"),0,IF(COUNTIF(fériés,P$3)>0,MOD((P6-P5),1)*1,MOD((P6-P5),1)))) -> 0.52083333 | Q7: =IF(P$3>$BI$4,0,IF(AND(ISNUMBER(P5),ISNUMBER(P6),OR(LEFT(Q5,4)="jour",LEFT(Q5,4)="form")),IF(COUNTIF(fériés,P$3)>0,MOD(-$BH$4+(P6-P5),1)*1,MOD(-$BH$4+(P6-P5),1)),IF(AND(ISBLANK(P5),ISBLANK(P6)),IF(OR(Q5="r",Q5="c",Q5="a",Q5="m",Q5="f",Q5="cp",Q5="s",Q5="congé parent"),$BH$3,0),0))) -> 0 | R7: =IF(R$3>$BI$4,0,IF(OR(ISBLANK(R5),ISBLANK(R6),ISBLANK(S5),LEFT(S5,4)="jour",LEFT(S5,4)="form"),0,IF(COUNTIF(fériés,R$3)>0,MOD((R6-R5),1)*1,MOD((R6-R5),1)))) -> 0.4375 | S7: =IF(R$3>$BI$4,0,IF(AND(ISNUMBER(R5),ISNUMBER(R6),OR(LEFT(S5,4)="jour",LEFT(S5,4)="form")),IF(COUNTIF(fériés,R$3)>0,MOD(-$BH$4+(R6-R5),1)*1,MOD(-$BH$4+(R6-R5),1)),IF(AND(ISBLANK(R5),ISBLANK(R6)),IF(OR(S5="r",S5="c",S5="a",S5="m",S5="f",S5="cp",S5="s",S5="congé parent"),$BH$3,0),0))) -> 0 | T7: =IF(T$3>$BI$4,0,IF(OR(ISBLANK(T5),ISBLANK(T6),ISBLANK(U5),LEFT(U5,4)="jour",LEFT(U5,4)="form"),0,IF(COUNTIF(fériés,T$3)>0,MOD((T6-T5),1)*1,MOD((T6-T5),1)))) -> 0.36458333 | U7: =IF(T$3>$BI$4,0,IF(AND(ISNUMBER(T5),ISNUMBER(T6),OR(LEFT(U5,4)="jour",LEFT(U5,4)="form")),IF(COUNTIF(fériés,T$3)>0,MOD(-$BH$4+(T6-T5),1)*1,MOD(-$BH$4+(T6-T5),1)),IF(AND(ISBLANK(T5),ISBLANK(T6)),IF(OR(U5="r",U5="c",U5="a",U5="m",U5="f",U5="cp",U5="s",U5="congé parent"),$BH$3,0),0))) -> 0 | V7: =IF(V$3>$BI$4,0,IF(OR(ISBLANK(V5),ISBLANK(V6),ISBLANK(W5),LEFT(W5,4)="jour",LEFT(W5,4)="form"),0,IF(COUNTIF(fériés,V$3)>0,MOD((V6-V5),1)*1,MOD((V6-V5),1)))) -> 0.38541667 | W7: =IF(V$3>$BI$4,0,IF(AND(ISNUMBER(V5),ISNUMBER(V6),OR(LEFT(W5,4)="jour",LEFT(W5,4)="form")),IF(COUNTIF(fériés,V$3)>0,MOD(-$BH$4+(V6-V5),1)*1,MOD(-$BH$4+(V6-V5),1)),IF(AND(ISBLANK(V5),ISBLANK(V6)),IF(OR(W5="r",W5="c",W5="a",W5="m",W5="f",W5="cp",W5="s",W5="congé parent"),$BH$3,0),0))) -> 0 | X7: =IF(X$3>$BI$4,0,IF(OR(ISBLANK(X5),ISBLANK(X6),ISBLANK(Y5),LEFT(Y5,4)="jour",LEFT(Y5,4)="form"),0,IF(COUNTIF(fériés,X$3)>0,MOD((X6-X5),1)*1,MOD((X6-X5),1)))) -> 0.39583333 | Y7: =IF(X$3>$BI$4,0,IF(AND(ISNUMBER(X5),ISNUMBER(X6),OR(LEFT(Y5,4)="jour",LEFT(Y5,4)="form")),IF(COUNTIF(fériés,X$3)>0,MOD(-$BH$4+(X6-X5),1)*1,MOD(-$BH$4+(X6-X5),1)),IF(AND(ISBLANK(X5),ISBLANK(X6)),IF(OR(Y5="r",Y5="c",Y5="a",Y5="m",Y5="f",Y5="cp",Y5="s",Y5="congé parent"),$BH$3,0),0))) -> 0 | Z7: =IF(Z$3>$BI$4,0,IF(OR(ISBLANK(Z5),ISBLANK(Z6),ISBLANK(AA5),LEFT(AA5,4)="jour",LEFT(AA5,4)="form"),0,IF(COUNTIF(fériés,Z$3)>0,MOD((Z6-Z5),1)*1,MOD((Z6-Z5),1)))) -> 0.375 | AA7: =IF(Z$3>$BI$4,0,IF(AND(ISNUMBER(Z5),ISNUMBER(Z6),OR(LEFT(AA5,4)="jour",LEFT(AA5,4)="form")),IF(COUNTIF(fériés,Z$3)>0,MOD(-$BH$4+(Z6-Z5),1)*1,MOD(-$BH$4+(Z6-Z5),1)),IF(AND(ISBLANK(Z5),ISBLANK(Z6)),IF(OR(AA5="r",AA5="c",AA5="a",AA5="m",AA5="f",AA5="cp",AA5="s",AA5="congé parent"),$BH$3,0),0))) -> 0 | AB7: =IF(AB$3>$BI$4,0,IF(OR(ISBLANK(AB5),ISBLANK(AB6),ISBLANK(AC5),LEFT(AC5,4)="jour",LEFT(AC5,4)="form"),0,IF(COUNTIF(fériés,AB$3)>0,MOD((AB6-AB5),1)*1,MOD((AB6-AB5),1)))) -> 0 | AC7: =IF(AB$3>$BI$4,0,IF(AND(ISNUMBER(AB5),ISNUMBER(AB6),OR(LEFT(AC5,4)="jour",LEFT(AC5,4)="form")),IF(COUNTIF(fériés,AB$3)>0,MOD(-$BH$4+(AB6-AB5),1)*1,MOD(-$BH$4+(AB6-AB5),1)),IF(AND(ISBLANK(AB5),ISBLANK(AB6)),IF(OR(AC5="r",AC5="c",AC5="a",AC5="m",AC5="f",AC5="cp",AC5="s",AC5="congé parent"),$BH$3,0),0))) -> 0 | AE7: =IF(AE$3>$BI$4,0,IF(OR(ISBLANK(AE5),ISBLANK(AE6),ISBLANK(AF5),LEFT(AF5,4)="jour",LEFT(AF5,4)="form"),0,IF(COUNTIF(fériés,AE$3)>0,MOD((AE6-AE5),1)*1,MOD((AE6-AE5),1)))) -> 0 | AF7: =IF(AE$3>$BI$4,0,IF(AND(ISNUMBER(AE5),ISNUMBER(AE6),OR(LEFT(AF5,4)="jour",LEFT(AF5,4)="form")),IF(COUNTIF(fériés,AE$3)>0,MOD(-$BH$4+(AE6-AE5),1)*1,MOD(-$BH$4+(AE6-AE5),1)),IF(AND(ISBLANK(AE5),ISBLANK(AE6)),IF(OR(AF5="r",AF5="c",AF5="a",AF5="m",AF5="f",AF5="cp",AF5="s",AF5="congé parent"),$BH$3,0),0))) -> 0 | AG7: =IF(AG$3>$BI$4,0,IF(OR(ISBLANK(AG5),ISBLANK(AG6),ISBLANK(AH5),LEFT(AH5,4)="jour",LEFT(AH5,4)="form"),0,IF(COUNTIF(fériés,AG$3)>0,MOD((AG6-AG5),1)*1,MOD((AG6-AG5),1)))) -> 0 | AH7: =IF(AG$3>$BI$4,0,IF(AND(ISNUMBER(AG5),ISNUMBER(AG6),OR(LEFT(AH5,4)="jour",LEFT(AH5,4)="form")),IF(COUNTIF(fériés,AG$3)>0,MOD(-$BH$4+(AG6-AG5),1)*1,MOD(-$BH$4+(AG6-AG5),1)),IF(AND(ISBLANK(AG5),ISBLANK(AG6)),IF(OR(AH5="r",AH5="c",AH5="a",AH5="m",AH5="f",AH5="cp",AH5="s",AH5="congé parent"),$BH$3,0),0))) -> 0 | AI7: =IF(AI$3>$BI$4,0,IF(OR(ISBLANK(AI5),ISBLANK(AI6),ISBLANK(AJ5),LEFT(AJ5,4)="jour",LEFT(AJ5,4)="form"),0,IF(COUNTIF(fériés,AI$3)>0,MOD((AI6-AI5),1)*1,MOD((AI6-AI5),1)))) -> 0 | AJ7: =IF(AI$3>$BI$4,0,IF(AND(ISNUMBER(AI5),ISNUMBER(AI6),OR(LEFT(AJ5,4)="jour",LEFT(AJ5,4)="form")),IF(COUNTIF(fériés,AI$3)>0,MOD(-$BH$4+(AI6-AI5),1)*1,MOD(-$BH$4+(AI6-AI5),1)),IF(AND(ISBLANK(AI5),ISBLANK(AI6)),IF(OR(AJ5="r",AJ5="c",AJ5="a",AJ5="m",AJ5="f",AJ5="cp",AJ5="s",AJ5="congé parent"),$BH$3,0),0))) -> 0 | AK7: =IF(AK$3>$BI$4,0,IF(OR(ISBLANK(AK5),ISBLANK(AK6),ISBLANK(AL5),LEFT(AL5,4)="jour",LEFT(AL5,4)="form"),0,IF(COUNTIF(fériés,AK$3)>0,MOD((AK6-AK5),1)*1,MOD((AK6-AK5),1)))) -> 0 | AL7: =IF(AK$3>$BI$4,0,IF(AND(ISNUMBER(AK5),ISNUMBER(AK6),OR(LEFT(AL5,4)="jour",LEFT(AL5,4)="form")),IF(COUNTIF(fériés,AK$3)>0,MOD(-$BH$4+(AK6-AK5),1)*1,MOD(-$BH$4+(AK6-AK5),1)),IF(AND(ISBLANK(AK5),ISBLANK(AK6)),IF(OR(AL5="r",AL5="c",AL5="a",AL5="m",AL5="f",AL5="cp",AL5="s",AL5="congé parent"),$BH$3,0),0))) -> 0 | AM7: =IF(AM$3>$BI$4,0,IF(OR(ISBLANK(AM5),ISBLANK(AM6),ISBLANK(AN5),LEFT(AN5,4)="jour",LEFT(AN5,4)="form"),0,IF(COUNTIF(fériés,AM$3)>0,MOD((AM6-AM5),1)*1,MOD((AM6-AM5),1)))) -> 0 | AN7: =IF(AM$3>$BI$4,0,IF(AND(ISNUMBER(AM5),ISNUMBER(AM6),OR(LEFT(AN5,4)="jour",LEFT(AN5,4)="form")),IF(COUNTIF(fériés,AM$3)>0,MOD(-$BH$4+(AM6-AM5),1)*1,MOD(-$BH$4+(AM6-AM5),1)),IF(AND(ISBLANK(AM5),ISBLANK(AM6)),IF(OR(AN5="r",AN5="c",AN5="a",AN5="m",AN5="f",AN5="cp",AN5="s",AN5="congé parent"),$BH$3,0),0))) -> 0 | AO7: =IF(AO$3>$BI$4,0,IF(OR(ISBLANK(AO5),ISBLANK(AO6),ISBLANK(AP5),LEFT(AP5,4)="jour",LEFT(AP5,4)="form"),0,IF(COUNTIF(fériés,AO$3)>0,MOD((AO6-AO5),1)*1,MOD((AO6-AO5),1)))) -> 0 | AP7: =IF(AO$3>$BI$4,0,IF(AND(ISNUMBER(AO5),ISNUMBER(AO6),OR(LEFT(AP5,4)="jour",LEFT(AP5,4)="form")),IF(COUNTIF(fériés,AO$3)>0,MOD(-$BH$4+(AO6-AO5),1)*1,MOD(-$BH$4+(AO6-AO5),1)),IF(AND(ISBLANK(AO5),ISBLANK(AO6)),IF(OR(AP5="r",AP5="c",AP5="a",AP5="m",AP5="f",AP5="cp",AP5="s",AP5="congé parent"),$BH$3,0),0))) -> 0 | AQ7: =IF(AQ$3>$BI$4,0,IF(OR(ISBLANK(AQ5),ISBLANK(AQ6),ISBLANK(AR5),LEFT(AR5,4)="jour",LEFT(AR5,4)="form"),0,IF(COUNTIF(fériés,AQ$3)>0,MOD((AQ6-AQ5),1)*1,MOD((AQ6-AQ5),1)))) -> 0 | AR7: =IF(AQ$3>$BI$4,0,IF(AND(ISNUMBER(AQ5),ISNUMBER(AQ6),OR(LEFT(AR5,4)="jour",LEFT(AR5,4)="form")),IF(COUNTIF(fériés,AQ$3)>0,MOD(-$BH$4+(AQ6-AQ5),1)*1,MOD(-$BH$4+(AQ6-AQ5),1)),IF(AND(ISBLANK(AQ5),ISBLANK(AQ6)),IF(OR(AR5="r",AR5="c",AR5="a",AR5="m",AR5="f",AR5="cp",AR5="s",AR5="congé parent"),$BH$3,0),0))) -> 0 | AT7: =IF(AT$3>$BI$4,0,IF(OR(ISBLANK(AT5),ISBLANK(AT6),ISBLANK(AU5),LEFT(AU5,4)="jour",LEFT(AU5,4)="form"),0,IF(COUNTIF(fériés,AT$3)>0,MOD((AT6-AT5),1)*1,MOD((AT6-AT5),1)))) -> 0 | AU7: =IF(AT$3>$BI$4,0,IF(AND(ISNUMBER(AT5),ISNUMBER(AT6),OR(LEFT(AU5,4)="jour",LEFT(AU5,4)="form")),IF(COUNTIF(fériés,AT$3)>0,MOD(-$BH$4+(AT6-AT5),1)*1,MOD(-$BH$4+(AT6-AT5),1)),IF(AND(ISBLANK(AT5),ISBLANK(AT6)),IF(OR(AU5="r",AU5="c",AU5="a",AU5="m",AU5="f",AU5="cp",AU5="s",AU5="congé parent"),$BH$3,0),0))) -> 0 | AV7: =IF(AV$3>$BI$4,0,IF(OR(ISBLANK(AV5),ISBLANK(AV6),ISBLANK(AW5),LEFT(AW5,4)="jour",LEFT(AW5,4)="form"),0,IF(COUNTIF(fériés,AV$3)>0,MOD((AV6-AV5),1)*1,MOD((AV6-AV5),1)))) -> 0 | AW7: =IF(AV$3>$BI$4,0,IF(AND(ISNUMBER(AV5),ISNUMBER(AV6),OR(LEFT(AW5,4)="jour",LEFT(AW5,4)="form")),IF(COUNTIF(fériés,AV$3)>0,MOD(-$BH$4+(AV6-AV5),1)*1,MOD(-$BH$4+(AV6-AV5),1)),IF(AND(ISBLANK(AV5),ISBLANK(AV6)),IF(OR(AW5="r",AW5="c",AW5="a",AW5="m",AW5="f",AW5="cp",AW5="s",AW5="congé parent"),$BH$3,0),0))) -> 0 | AX7: =IF(AX$3>$BI$4,0,IF(OR(ISBLANK(AX5),ISBLANK(AX6),ISBLANK(AY5),LEFT(AY5,4)="jour",LEFT(AY5,4)="form"),0,IF(COUNTIF(fériés,AX$3)>0,MOD((AX6-AX5),1)*1,MOD((AX6-AX5),1)))) -> 0 | AY7: =IF(AX$3>$BI$4,0,IF(AND(ISNUMBER(AX5),ISNUMBER(AX6),OR(LEFT(AY5,4)="jour",LEFT(AY5,4)="form")),IF(COUNTIF(fériés,AX$3)>0,MOD(-$BH$4+(AX6-AX5),1)*1,MOD(-$BH$4+(AX6-AX5),1)),IF(AND(ISBLANK(AX5),ISBLANK(AX6)),IF(OR(AY5="r",AY5="c",AY5="a",AY5="m",AY5="f",AY5="cp",AY5="s",AY5="congé parent"),$BH$3,0),0))) -> 0 | AZ7: =IF(AZ$3>$BI$4,0,IF(OR(ISBLANK(AZ5),ISBLANK(AZ6),ISBLANK(BA5),LEFT(BA5,4)="jour",LEFT(BA5,4)="form"),0,IF(COUNTIF(fériés,AZ$3)>0,MOD((AZ6-AZ5),1)*1,MOD((AZ6-AZ5),1)))) -> 0 | BA7: =IF(AZ$3>$BI$4,0,IF(AND(ISNUMBER(AZ5),ISNUMBER(AZ6),OR(LEFT(BA5,4)="jour",LEFT(BA5,4)="form")),IF(COUNTIF(fériés,AZ$3)>0,MOD(-$BH$4+(AZ6-AZ5),1)*1,MOD(-$BH$4+(AZ6-AZ5),1)),IF(AND(ISBLANK(AZ5),ISBLANK(AZ6)),IF(OR(BA5="r",BA5="c",BA5="a",BA5="m",BA5="f",BA5="cp",BA5="s",BA5="congé parent"),$BH$3,0),0))) -> 0 | BB7: =IF(BB$3>$BI$4,0,IF(OR(ISBLANK(BB5),ISBLANK(BB6),ISBLANK(BC5),LEFT(BC5,4)="jour",LEFT(BC5,4)="form"),0,IF(COUNTIF(fériés,BB$3)>0,MOD((BB6-BB5),1)*1,MOD((BB6-BB5),1)))) -> 0 | BC7: =IF(BB$3>$BI$4,0,IF(AND(ISNUMBER(BB5),ISNUMBER(BB6),OR(LEFT(BC5,4)="jour",LEFT(BC5,4)="form")),IF(COUNTIF(fériés,BB$3)>0,MOD(-$BH$4+(BB6-BB5),1)*1,MOD(-$BH$4+(BB6-BB5),1)),IF(AND(ISBLANK(BB5),ISBLANK(BB6)),IF(OR(BC5="r",BC5="c",BC5="a",BC5="m",BC5="f",BC5="cp",BC5="s",BC5="congé parent"),$BH$3,0),0))) -> 0 | BD7: =IF(BD$3>$BI$4,0,IF(OR(ISBLANK(BD5),ISBLANK(BD6),ISBLANK(BE5),LEFT(BE5,4)="jour",LEFT(BE5,4)="form"),0,IF(COUNTIF(fériés,BD$3)>0,MOD((BD6-BD5),1)*1,MOD((BD6-BD5),1)))) -> 0 | BE7: =IF(BD$3>$BI$4,0,IF(AND(ISNUMBER(BD5),ISNUMBER(BD6),OR(LEFT(BE5,4)="jour",LEFT(BE5,4)="form")),IF(COUNTIF(fériés,BD$3)>0,MOD(-$BH$4+(BD6-BD5),1)*1,MOD(-$BH$4+(BD6-BD5),1)),IF(AND(ISBLANK(BD5),ISBLANK(BD6)),IF(OR(BE5="r",BE5="c",BE5="a",BE5="m",BE5="f",BE5="cp",BE5="s",BE5="congé parent"),$BH$3,0),0))) -> 0 | BF7: =IF(BF$3>$BI$4,0,IF(OR(ISBLANK(BF5),ISBLANK(BF6),ISBLANK(BG5),LEFT(BG5,4)="jour",LEFT(BG5,4)="form"),0,IF(COUNTIF(fériés,BF$3)>0,MOD((BF6-BF5),1)*1,MOD((BF6-BF5),1)))) -> 0 | BG7: =IF(BF$3>$BI$4,0,IF(AND(ISNUMBER(BF5),ISNUMBER(BF6),OR(LEFT(BG5,4)="jour",LEFT(BG5,4)="form")),IF(COUNTIF(fériés,BF$3)>0,MOD(-$BH$4+(BF6-BF5),1)*1,MOD(-$BH$4+(BF6-BF5),1)),IF(AND(ISBLANK(BF5),ISBLANK(BF6)),IF(OR(BG5="r",BG5="c",BG5="a",BG5="m",BG5="f",BG5="cp",BG5="s",BG5="congé parent"),$BH$3,0),0))) -> 0 | BH7: =SUM(B7:BG7) -> 4.0625
B8: =IF(RIGHT(C5,4)="cuht","171",IF(RIGHT(C5,4)="netu","172",IF(RIGHT(C5,4)="auht","173",IF(OR(RIGHT(C5,4)="ppou",RIGHT(C5,5)="prepa"),"360",IF(RIGHT(C5,4)="cpou","361",IF(OR(RIGHT(C5,4)="apou",RIGHT(C5,6)="molinf"),"363",IF(RIGHT(C5,4)="netp","364",IF(RIGHT(C5,4)="cmtr","365",IF(LEFT(C5,4)="form","873",IF(RIGHT(C5,7)="ce-cppt","902","")))))))))) | C8: =IF(B8="","",IF(OR(B$3=Recap!$A$50,B$3=Recap!$A$51,B$3=Recap!$A$52,B$3=Recap!$A$53,B$3=Recap!$A$54,B$3=Recap!$A$55,B$3=Recap!$A$56,B$3=Recap!$A$57,B$3=Recap!$A$58,B$3=Recap!$A$59,B$3=Recap!$A$60,B$3=Recap!$A$61),(B7+C7)/1,B7+C7)) | D8: =IF(RIGHT(E5,4)="cuht","171",IF(RIGHT(E5,4)="netu","172",IF(RIGHT(E5,4)="auht","173",IF(OR(RIGHT(E5,4)="ppou",RIGHT(E5,5)="prepa"),"360",IF(RIGHT(E5,4)="cpou","361",IF(OR(RIGHT(E5,4)="apou",RIGHT(E5,6)="molinf"),"363",IF(RIGHT(E5,4)="netp","364",IF(RIGHT(E5,4)="cmtr","365",IF(LEFT(E5,4)="form","873",IF(RIGHT(E5,7)="ce-cppt","902","")))))))))) | E8: =IF(D8="","",IF(OR(D$3=Recap!$A$50,D$3=Recap!$A$51,D$3=Recap!$A$52,D$3=Recap!$A$53,D$3=Recap!$A$54,D$3=Recap!$A$55,D$3=Recap!$A$56,D$3=Recap!$A$57,D$3=Recap!$A$58,D$3=Recap!$A$59,D$3=Recap!$A$60,D$3=Recap!$A$61),(D7+E7)/1,D7+E7)) | F8: =IF(RIGHT(G5,4)="cuht","171",IF(RIGHT(G5,4)="netu","172",IF(RIGHT(G5,4)="auht","173",IF(OR(RIGHT(G5,4)="ppou",RIGHT(G5,5)="prepa"),"360",IF(RIGHT(G5,4)="cpou","361",IF(OR(RIGHT(G5,4)="apou",RIGHT(G5,6)="molinf"),"363",IF(RIGHT(G5,4)="netp","364",IF(RIGHT(G5,4)="cmtr","365",IF(LEFT(G5,4)="form","873",IF(RIGHT(G5,7)="ce-cppt","902","")))))))))) | G8: =IF(F8="","",IF(OR(F$3=Recap!$A$50,F$3=Recap!$A$51,F$3=Recap!$A$52,F$3=Recap!$A$53,F$3=Recap!$A$54,F$3=Recap!$A$55,F$3=Recap!$A$56,F$3=Recap!$A$57,F$3=Recap!$A$58,F$3=Recap!$A$59,F$3=Recap!$A$60,F$3=Recap!$A$61),(F7+G7)/1,F7+G7)) | H8: =IF(RIGHT(I5,4)="cuht","171",IF(RIGHT(I5,4)="netu","172",IF(RIGHT(I5,4)="auht","173",IF(OR(RIGHT(I5,4)="ppou",RIGHT(I5,5)="prepa"),"360",IF(RIGHT(I5,4)="cpou","361",IF(OR(RIGHT(I5,4)="apou",RIGHT(I5,6)="molinf"),"363",IF(RIGHT(I5,4)="netp","364",IF(RIGHT(I5,4)="cmtr","365",IF(LEFT(I5,4)="form","873",IF(RIGHT(I5,7)="ce-cppt","902","")))))))))) | I8: =IF(H8="","",IF(OR(H$3=Recap!$A$50,H$3=Recap!$A$51,H$3=Recap!$A$52,H$3=Recap!$A$53,H$3=Recap!$A$54,H$3=Recap!$A$55,H$3=Recap!$A$56,H$3=Recap!$A$57,H$3=Recap!$A$58,H$3=Recap!$A$59,H$3=Recap!$A$60,H$3=Recap!$A$61),(H7+I7)/1,H7+I7)) | J8: =IF(RIGHT(K5,4)="cuht","171",IF(RIGHT(K5,4)="netu","172",IF(RIGHT(K5,4)="auht","173",IF(OR(RIGHT(K5,4)="ppou",RIGHT(K5,5)="prepa"),"360",IF(RIGHT(K5,4)="cpou","361",IF(OR(RIGHT(K5,4)="apou",RIGHT(K5,6)="molinf"),"363",IF(RIGHT(K5,4)="netp","364",IF(RIGHT(K5,4)="cmtr","365",IF(LEFT(K5,4)="form","873",IF(RIGHT(K5,7)="ce-cppt","902","")))))))))) | K8: =IF(J8="","",IF(OR(J$3=Recap!$A$50,J$3=Recap!$A$51,J$3=Recap!$A$52,J$3=Recap!$A$53,J$3=Recap!$A$54,J$3=Recap!$A$55,J$3=Recap!$A$56,J$3=Recap!$A$57,J$3=Recap!$A$58,J$3=Recap!$A$59,J$3=Recap!$A$60,J$3=Recap!$A$61),(J7+K7)/1,J7+K7)) | L8: =IF(RIGHT(M5,4)="cuht","171",IF(RIGHT(M5,4)="netu","172",IF(RIGHT(M5,4)="auht","173",IF(OR(RIGHT(M5,4)="ppou",RIGHT(M5,5)="prepa"),"360",IF(RIGHT(M5,4)="cpou","361",IF(OR(RIGHT(M5,4)="apou",RIGHT(M5,6)="molinf"),"363",IF(RIGHT(M5,4)="netp","364",IF(RIGHT(M5,4)="cmtr","365",IF(LEFT(M5,4)="form","873",IF(RIGHT(M5,7)="ce-cppt","902","")))))))))) | M8: =IF(L8="","",IF(OR(L$3=Recap!$A$50,L$3=Recap!$A$51,L$3=Recap!$A$52,L$3=Recap!$A$53,L$3=Recap!$A$54,L$3=Recap!$A$55,L$3=Recap!$A$56,L$3=Recap!$A$57,L$3=Recap!$A$58,L$3=Recap!$A$59,L$3=Recap!$A$60,L$3=Recap!$A$61),(L7+M7)/1,L7+M7)) | N8: =IF(RIGHT(O5,4)="cuht","171",IF(RIGHT(O5,4)="netu","172",IF(RIGHT(O5,4)="auht","173",IF(OR(RIGHT(O5,4)="ppou",RIGHT(O5,5)="prepa"),"360",IF(RIGHT(O5,4)="cpou","361",IF(OR(RIGHT(O5,4)="apou",RIGHT(O5,6)="molinf"),"363",IF(RIGHT(O5,4)="netp","364",IF(RIGHT(O5,4)="cmtr","365",IF(LEFT(O5,4)="form","873",IF(RIGHT(O5,7)="ce-cppt","902","")))))))))) | O8: =IF(N8="","",IF(OR(N$3=Recap!$A$50,N$3=Recap!$A$51,N$3=Recap!$A$52,N$3=Recap!$A$53,N$3=Recap!$A$54,N$3=Recap!$A$55,N$3=Recap!$A$56,N$3=Recap!$A$57,N$3=Recap!$A$58,N$3=Recap!$A$59,N$3=Recap!$A$60,N$3=Recap!$A$61),(N7+O7)/1,N7+O7)) | P8: =IF(RIGHT(Q5,4)="cuht","171",IF(RIGHT(Q5,4)="netu","172",IF(RIGHT(Q5,4)="auht","173",IF(OR(RIGHT(Q5,4)="ppou",RIGHT(Q5,5)="prepa"),"360",IF(RIGHT(Q5,4)="cpou","361",IF(OR(RIGHT(Q5,4)="apou",RIGHT(Q5,6)="molinf"),"363",IF(RIGHT(Q5,4)="netp","364",IF(RIGHT(Q5,4)="cmtr","365",IF(LEFT(Q5,4)="form","873",IF(RIGHT(Q5,7)="ce-cppt","902","")))))))))) -> 361 | Q8: =IF(P8="","",IF(OR(P$3=Recap!$A$50,P$3=Recap!$A$51,P$3=Recap!$A$52,P$3=Recap!$A$53,P$3=Recap!$A$54,P$3=Recap!$A$55,P$3=Recap!$A$56,P$3=Recap!$A$57,P$3=Recap!$A$58,P$3=Recap!$A$59,P$3=Recap!$A$60,P$3=Recap!$A$61),(P7+Q7)/1,P7+Q7)) -> 0.52083333 | R8: =IF(RIGHT(S5,4)="cuht","171",IF(RIGHT(S5,4)="netu","172",IF(RIGHT(S5,4)="auht","173",IF(OR(RIGHT(S5,4)="ppou",RIGHT(S5,5)="prepa"),"360",IF(RIGHT(S5,4)="cpou","361",IF(OR(RIGHT(S5,4)="apou",RIGHT(S5,6)="molinf"),"363",IF(RIGHT(S5,4)="netp","364",IF(RIGHT(S5,4)="cmtr","365",IF(LEFT(S5,4)="form","873",IF(RIGHT(S5,7)="ce-cppt","902","")))))))))) -> 361 | S8: =IF(R8="","",IF(OR(R$3=Recap!$A$50,R$3=Recap!$A$51,R$3=Recap!$A$52,R$3=Recap!$A$53,R$3=Recap!$A$54,R$3=Recap!$A$55,R$3=Recap!$A$56,R$3=Recap!$A$57,R$3=Recap!$A$58,R$3=Recap!$A$59,R$3=Recap!$A$60,R$3=Recap!$A$61),(R7+S7)/1,R7+S7)) -> 0.4375 | T8: =IF(RIGHT(U5,4)="cuht","171",IF(RIGHT(U5,4)="netu","172",IF(RIGHT(U5,4)="auht","173",IF(OR(RIGHT(U5,4)="ppou",RIGHT(U5,5)="prepa"),"360",IF(RIGHT(U5,4)="cpou","361",IF(OR(RIGHT(U5,4)="apou",RIGHT(U5,6)="molinf"),"363",IF(RIGHT(U5,4)="netp","364",IF(RIGHT(U5,4)="cmtr","365",IF(LEFT(U5,4)="form","873",IF(RIGHT(U5,7)="ce-cppt","902","")))))))))) -> 361 | U8: =IF(T8="","",IF(OR(T$3=Recap!$A$50,T$3=Recap!$A$51,T$3=Recap!$A$52,T$3=Recap!$A$53,T$3=Recap!$A$54,T$3=Recap!$A$55,T$3=Recap!$A$56,T$3=Recap!$A$57,T$3=Recap!$A$58,T$3=Recap!$A$59,T$3=Recap!$A$60,T$3=Recap!$A$61),(T7+U7)/1,T7+U7)) -> 0.36458333 | V8: =IF(RIGHT(W5,4)="cuht","171",IF(RIGHT(W5,4)="netu","172",IF(RIGHT(W5,4)="auht","173",IF(OR(RIGHT(W5,4)="ppou",RIGHT(W5,5)="prepa"),"360",IF(RIGHT(W5,4)="cpou","361",IF(OR(RIGHT(W5,4)="apou",RIGHT(W5,6)="molinf"),"363",IF(RIGHT(W5,4)="netp","364",IF(RIGHT(W5,4)="cmtr","365",IF(LEFT(W5,4)="form","873",IF(RIGHT(W5,7)="ce-cppt","902","")))))))))) -> 361 | W8: =IF(V8="","",IF(OR(V$3=Recap!$A$50,V$3=Recap!$A$51,V$3=Recap!$A$52,V$3=Recap!$A$53,V$3=Recap!$A$54,V$3=Recap!$A$55,V$3=Recap!$A$56,V$3=Recap!$A$57,V$3=Recap!$A$58,V$3=Recap!$A$59,V$3=Recap!$A$60,V$3=Recap!$A$61),(V7+W7)/1,V7+W7)) -> 0.38541667 | X8: =IF(RIGHT(Y5,4)="cuht","171",IF(RIGHT(Y5,4)="netu","172",IF(RIGHT(Y5,4)="auht","173",IF(OR(RIGHT(Y5,4)="ppou",RIGHT(Y5,5)="prepa"),"360",IF(RIGHT(Y5,4)="cpou","361",IF(OR(RIGHT(Y5,4)="apou",RIGHT(Y5,6)="molinf"),"363",IF(RIGHT(Y5,4)="netp","364",IF(RIGHT(Y5,4)="cmtr","365",IF(LEFT(Y5,4)="form","873",IF(RIGHT(Y5,7)="ce-cppt","902","")))))))))) -> 361 | Y8: =IF(X8="","",IF(OR(X$3=Recap!$A$50,X$3=Recap!$A$51,X$3=Recap!$A$52,X$3=Recap!$A$53,X$3=Recap!$A$54,X$3=Recap!$A$55,X$3=Recap!$A$56,X$3=Recap!$A$57,X$3=Recap!$A$58,X$3=Recap!$A$59,X$3=Recap!$A$60,X$3=Recap!$A$61),(X7+Y7)/1,X7+Y7)) -> 0.39583333 | Z8: =IF(RIGHT(AA5,4)="cuht","171",IF(RIGHT(AA5,4)="netu","172",IF(RIGHT(AA5,4)="auht","173",IF(OR(RIGHT(AA5,4)="ppou",RIGHT(AA5,5)="prepa"),"360",IF(RIGHT(AA5,4)="cpou","361",IF(OR(RIGHT(AA5,4)="apou",RIGHT(AA5,6)="molinf"),"363",IF(RIGHT(AA5,4)="netp","364",IF(RIGHT(AA5,4)="cmtr","365",IF(LEFT(AA5,4)="form","873",IF(RIGHT(AA5,7)="ce-cppt","902","")))))))))) -> 361 | AA8: =IF(Z8="","",IF(OR(Z$3=Recap!$A$50,Z$3=Recap!$A$51,Z$3=Recap!$A$52,Z$3=Recap!$A$53,Z$3=Recap!$A$54,Z$3=Recap!$A$55,Z$3=Recap!$A$56,Z$3=Recap!$A$57,Z$3=Recap!$A$58,Z$3=Recap!$A$59,Z$3=Recap!$A$60,Z$3=Recap!$A$61),(Z7+AA7)/1,Z7+AA7)) -> 0.375 | AB8: =IF(RIGHT(AC5,4)="cuht","171",IF(RIGHT(AC5,4)="netu","172",IF(RIGHT(AC5,4)="auht","173",IF(OR(RIGHT(AC5,4)="ppou",RIGHT(AC5,5)="prepa"),"360",IF(RIGHT(AC5,4)="cpou","361",IF(OR(RIGHT(AC5,4)="apou",RIGHT(AC5,6)="molinf"),"363",IF(RIGHT(AC5,4)="netp","364",IF(RIGHT(AC5,4)="cmtr","365",IF(LEFT(AC5,4)="form","873",IF(RIGHT(AC5,7)="ce-cppt","902","")))))))))) | AC8: =IF(AB8="","",IF(OR(AB$3=Recap!$A$50,AB$3=Recap!$A$51,AB$3=Recap!$A$52,AB$3=Recap!$A$53,AB$3=Recap!$A$54,AB$3=Recap!$A$55,AB$3=Recap!$A$56,AB$3=Recap!$A$57,AB$3=Recap!$A$58,AB$3=Recap!$A$59,AB$3=Recap!$A$60,AB$3=Recap!$A$61),(AB7+AC7)/1,AB7+AC7)) | AE8: =IF(RIGHT(AF5,4)="cuht","171",IF(RIGHT(AF5,4)="netu","172",IF(RIGHT(AF5,4)="auht","173",IF(OR(RIGHT(AF5,4)="ppou",RIGHT(AF5,5)="prepa"),"360",IF(RIGHT(AF5,4)="cpou","361",IF(OR(RIGHT(AF5,4)="apou",RIGHT(AF5,6)="molinf"),"363",IF(RIGHT(AF5,4)="netp","364",IF(RIGHT(AF5,4)="cmtr","365",IF(LEFT(AF5,4)="form","873",IF(RIGHT(AF5,7)="ce-cppt","902","")))))))))) | AF8: =IF(AE8="","",IF(OR(AE$3=Recap!$A$50,AE$3=Recap!$A$51,AE$3=Recap!$A$52,AE$3=Recap!$A$53,AE$3=Recap!$A$54,AE$3=Recap!$A$55,AE$3=Recap!$A$56,AE$3=Recap!$A$57,AE$3=Recap!$A$58,AE$3=Recap!$A$59,AE$3=Recap!$A$60,AE$3=Recap!$A$61),(AE7+AF7)/1,AE7+AF7)) | AG8: =IF(RIGHT(AH5,4)="cuht","171",IF(RIGHT(AH5,4)="netu","172",IF(RIGHT(AH5,4)="auht","173",IF(OR(RIGHT(AH5,4)="ppou",RIGHT(AH5,5)="prepa"),"360",IF(RIGHT(AH5,4)="cpou","361",IF(OR(RIGHT(AH5,4)="apou",RIGHT(AH5,6)="molinf"),"363",IF(RIGHT(AH5,4)="netp","364",IF(RIGHT(AH5,4)="cmtr","365",IF(LEFT(AH5,4)="form","873",IF(RIGHT(AH5,7)="ce-cppt","902","")))))))))) | AH8: =IF(AG8="","",IF(OR(AG$3=Recap!$A$50,AG$3=Recap!$A$51,AG$3=Recap!$A$52,AG$3=Recap!$A$53,AG$3=Recap!$A$54,AG$3=Recap!$A$55,AG$3=Recap!$A$56,AG$3=Recap!$A$57,AG$3=Recap!$A$58,AG$3=Recap!$A$59,AG$3=Recap!$A$60,AG$3=Recap!$A$61),(AG7+AH7)/1,AG7+AH7)) | AI8: =IF(RIGHT(AJ5,4)="cuht","171",IF(RIGHT(AJ5,4)="netu","172",IF(RIGHT(AJ5,4)="auht","173",IF(OR(RIGHT(AJ5,4)="ppou",RIGHT(AJ5,5)="prepa"),"360",IF(RIGHT(AJ5,4)="cpou","361",IF(OR(RIGHT(AJ5,4)="apou",RIGHT(AJ5,6)="molinf"),"363",IF(RIGHT(AJ5,4)="netp","364",IF(RIGHT(AJ5,4)="cmtr","365",IF(LEFT(AJ5,4)="form","873",IF(RIGHT(AJ5,7)="ce-cppt","902","")))))))))) -> 171 | AJ8: =IF(AI8="","",IF(OR(AI$3=Recap!$A$50,AI$3=Recap!$A$51,AI$3=Recap!$A$52,AI$3=Recap!$A$53,AI$3=Recap!$A$54,AI$3=Recap!$A$55,AI$3=Recap!$A$56,AI$3=Recap!$A$57,AI$3=Recap!$A$58,AI$3=Recap!$A$59,AI$3=Recap!$A$60,AI$3=Recap!$A$61),(AI7+AJ7)/1,AI7+AJ7)) -> 0 | AK8: =IF(RIGHT(AL5,4)="cuht","171",IF(RIGHT(AL5,4)="netu","172",IF(RIGHT(AL5,4)="auht","173",IF(OR(RIGHT(AL5,4)="ppou",RIGHT(AL5,5)="prepa"),"360",IF(RIGHT(AL5,4)="cpou","361",IF(OR(RIGHT(AL5,4)="apou",RIGHT(AL5,6)="molinf"),"363",IF(RIGHT(AL5,4)="netp","364",IF(RIGHT(AL5,4)="cmtr","365",IF(LEFT(AL5,4)="form","873",IF(RIGHT(AL5,7)="ce-cppt","902","")))))))))) -> 361 | AL8: =IF(AK8="","",IF(OR(AK$3=Recap!$A$50,AK$3=Recap!$A$51,AK$3=Recap!$A$52,AK$3=Recap!$A$53,AK$3=Recap!$A$54,AK$3=Recap!$A$55,AK$3=Recap!$A$56,AK$3=Recap!$A$57,AK$3=Recap!$A$58,AK$3=Recap!$A$59,AK$3=Recap!$A$60,AK$3=Recap!$A$61),(AK7+AL7)/1,AK7+AL7)) -> 0 | AM8: =IF(RIGHT(AN5,4)="cuht","171",IF(RIGHT(AN5,4)="netu","172",IF(RIGHT(AN5,4)="auht","173",IF(OR(RIGHT(AN5,4)="ppou",RIGHT(AN5,5)="prepa"),"360",IF(RIGHT(AN5,4)="cpou","361",IF(OR(RIGHT(AN5,4)="apou",RIGHT(AN5,6)="molinf"),"363",IF(RIGHT(AN5,4)="netp","364",IF(RIGHT(AN5,4)="cmtr","365",IF(LEFT(AN5,4)="form","873",IF(RIGHT(AN5,7)="ce-cppt","902","")))))))))) -> 361 | AN8: =IF(AM8="","",IF(OR(AM$3=Recap!$A$50,AM$3=Recap!$A$51,AM$3=Recap!$A$52,AM$3=Recap!$A$53,AM$3=Recap!$A$54,AM$3=Recap!$A$55,AM$3=Recap!$A$56,AM$3=Recap!$A$57,AM$3=Recap!$A$58,AM$3=Recap!$A$59,AM$3=Recap!$A$60,AM$3=Recap!$A$61),(AM7+AN7)/1,AM7+AN7)) -> 0 | AO8: =IF(RIGHT(AP5,4)="cuht","171",IF(RIGHT(AP5,4)="netu","172",IF(RIGHT(AP5,4)="auht","173",IF(OR(RIGHT(AP5,4)="ppou",RIGHT(AP5,5)="prepa"),"360",IF(RIGHT(AP5,4)="cpou","361",IF(OR(RIGHT(AP5,4)="apou",RIGHT(AP5,6)="molinf"),"363",IF(RIGHT(AP5,4)="netp","364",IF(RIGHT(AP5,4)="cmtr","365",IF(LEFT(AP5,4)="form","873",IF(RIGHT(AP5,7)="ce-cppt","902","")))))))))) | AP8: =IF(AO8="","",IF(OR(AO$3=Recap!$A$50,AO$3=Recap!$A$51,AO$3=Recap!$A$52,AO$3=Recap!$A$53,AO$3=Recap!$A$54,AO$3=Recap!$A$55,AO$3=Recap!$A$56,AO$3=Recap!$A$57,AO$3=Recap!$A$58,AO$3=Recap!$A$59,AO$3=Recap!$A$60,AO$3=Recap!$A$61),(AO7+AP7)/1,AO7+AP7)) | AQ8: =IF(RIGHT(AR5,4)="cuht","171",IF(RIGHT(AR5,4)="netu","172",IF(RIGHT(AR5,4)="auht","173",IF(OR(RIGHT(AR5,4)="ppou",RIGHT(AR5,5)="prepa"),"360",IF(RIGHT(AR5,4)="cpou","361",IF(OR(RIGHT(AR5,4)="apou",RIGHT(AR5,6)="molinf"),"363",IF(RIGHT(AR5,4)="netp","364",IF(RIGHT(AR5,4)="cmtr","365",IF(LEFT(AR5,4)="form","873",IF(RIGHT(AR5,7)="ce-cppt","902","")))))))))) | AR8: =IF(AQ8="","",IF(OR(AQ$3=Recap!$A$50,AQ$3=Recap!$A$51,AQ$3=Recap!$A$52,AQ$3=Recap!$A$53,AQ$3=Recap!$A$54,AQ$3=Recap!$A$55,AQ$3=Recap!$A$56,AQ$3=Recap!$A$57,AQ$3=Recap!$A$58,AQ$3=Recap!$A$59,AQ$3=Recap!$A$60,AQ$3=Recap!$A$61),(AQ7+AR7)/1,AQ7+AR7)) | AT8: =IF(RIGHT(AU5,4)="cuht","171",IF(RIGHT(AU5,4)="netu","172",IF(RIGHT(AU5,4)="auht","173",IF(OR(RIGHT(AU5,4)="ppou",RIGHT(AU5,5)="prepa"),"360",IF(RIGHT(AU5,4)="cpou","361",IF(OR(RIGHT(AU5,4)="apou",RIGHT(AU5,6)="molinf"),"363",IF(RIGHT(AU5,4)="netp","364",IF(RIGHT(AU5,4)="cmtr","365",IF(LEFT(AU5,4)="form","873",IF(RIGHT(AU5,7)="ce-cppt","902","")))))))))) | AU8: =IF(AT8="","",IF(OR(AT$3=Recap!$A$50,AT$3=Recap!$A$51,AT$3=Recap!$A$52,AT$3=Recap!$A$53,AT$3=Recap!$A$54,AT$3=Recap!$A$55,AT$3=Recap!$A$56,AT$3=Recap!$A$57,AT$3=Recap!$A$58,AT$3=Recap!$A$59,AT$3=Recap!$A$60,AT$3=Recap!$A$61),(AT7+AU7)/1,AT7+AU7)) | AV8: =IF(RIGHT(AW5,4)="cuht","171",IF(RIGHT(AW5,4)="netu","172",IF(RIGHT(AW5,4)="auht","173",IF(OR(RIGHT(AW5,4)="ppou",RIGHT(AW5,5)="prepa"),"360",IF(RIGHT(AW5,4)="cpou","361",IF(OR(RIGHT(AW5,4)="apou",RIGHT(AW5,6)="molinf"),"363",IF(RIGHT(AW5,4)="netp","364",IF(RIGHT(AW5,4)="cmtr","365",IF(LEFT(AW5,4)="form","873",IF(RIGHT(AW5,7)="ce-cppt","902","")))))))))) | AW8: =IF(AV8="","",IF(OR(AV$3=Recap!$A$50,AV$3=Recap!$A$51,AV$3=Recap!$A$52,AV$3=Recap!$A$53,AV$3=Recap!$A$54,AV$3=Recap!$A$55,AV$3=Recap!$A$56,AV$3=Recap!$A$57,AV$3=Recap!$A$58,AV$3=Recap!$A$59,AV$3=Recap!$A$60,AV$3=Recap!$A$61),(AV7+AW7)/1,AV7+AW7)) | AX8: =IF(RIGHT(AY5,4)="cuht","171",IF(RIGHT(AY5,4)="netu","172",IF(RIGHT(AY5,4)="auht","173",IF(OR(RIGHT(AY5,4)="ppou",RIGHT(AY5,5)="prepa"),"360",IF(RIGHT(AY5,4)="cpou","361",IF(OR(RIGHT(AY5,4)="apou",RIGHT(AY5,6)="molinf"),"363",IF(RIGHT(AY5,4)="netp","364",IF(RIGHT(AY5,4)="cmtr","365",IF(LEFT(AY5,4)="form","873",IF(RIGHT(AY5,7)="ce-cppt","902","")))))))))) | AY8: =IF(AX8="","",IF(OR(AX$3=Recap!$A$50,AX$3=Recap!$A$51,AX$3=Recap!$A$52,AX$3=Recap!$A$53,AX$3=Recap!$A$54,AX$3=Recap!$A$55,AX$3=Recap!$A$56,AX$3=Recap!$A$57,AX$3=Recap!$A$58,AX$3=Recap!$A$59,AX$3=Recap!$A$60,AX$3=Recap!$A$61),(AX7+AY7)/1,AX7+AY7)) | AZ8: =IF(RIGHT(BA5,4)="cuht","171",IF(RIGHT(BA5,4)="netu","172",IF(RIGHT(BA5,4)="auht","173",IF(OR(RIGHT(BA5,4)="ppou",RIGHT(BA5,5)="prepa"),"360",IF(RIGHT(BA5,4)="cpou","361",IF(OR(RIGHT(BA5,4)="apou",RIGHT(BA5,6)="molinf"),"363",IF(RIGHT(BA5,4)="netp","364",IF(RIGHT(BA5,4)="cmtr","365",IF(LEFT(BA5,4)="form","873",IF(RIGHT(BA5,7)="ce-cppt","902","")))))))))) | BA8: =IF(AZ8="","",IF(OR(AZ$3=Recap!$A$50,AZ$3=Recap!$A$51,AZ$3=Recap!$A$52,AZ$3=Recap!$A$53,AZ$3=Recap!$A$54,AZ$3=Recap!$A$55,AZ$3=Recap!$A$56,AZ$3=Recap!$A$57,AZ$3=Recap!$A$58,AZ$3=Recap!$A$59,AZ$3=Recap!$A$60,AZ$3=Recap!$A$61),(AZ7+BA7)/1,AZ7+BA7)) | BB8: =IF(RIGHT(BC5,4)="cuht","171",IF(RIGHT(BC5,4)="netu","172",IF(RIGHT(BC5,4)="auht","173",IF(OR(RIGHT(BC5,4)="ppou",RIGHT(BC5,5)="prepa"),"360",IF(RIGHT(BC5,4)="cpou","361",IF(OR(RIGHT(BC5,4)="apou",RIGHT(BC5,6)="molinf"),"363",IF(RIGHT(BC5,4)="netp","364",IF(RIGHT(BC5,4)="cmtr","365",IF(LEFT(BC5,4)="form","873",IF(RIGHT(BC5,7)="ce-cppt","902","")))))))))) | BC8: =IF(BB8="","",IF(OR(BB$3=Recap!$A$50,BB$3=Recap!$A$51,BB$3=Recap!$A$52,BB$3=Recap!$A$53,BB$3=Recap!$A$54,BB$3=Recap!$A$55,BB$3=Recap!$A$56,BB$3=Recap!$A$57,BB$3=Recap!$A$58,BB$3=Recap!$A$59,BB$3=Recap!$A$60,BB$3=Recap!$A$61),(BB7+BC7)/1,BB7+BC7)) | BD8: =IF(RIGHT(BE5,4)="cuht","171",IF(RIGHT(BE5,4)="netu","172",IF(RIGHT(BE5,4)="auht","173",IF(OR(RIGHT(BE5,4)="ppou",RIGHT(BE5,5)="prepa"),"360",IF(RIGHT(BE5,4)="cpou","361",IF(OR(RIGHT(BE5,4)="apou",RIGHT(BE5,6)="molinf"),"363",IF(RIGHT(BE5,4)="netp","364",IF(RIGHT(BE5,4)="cmtr","365",IF(LEFT(BE5,4)="form","873",IF(RIGHT(BE5,7)="ce-cppt","902","")))))))))) | BE8: =IF(BD8="","",IF(OR(BD$3=Recap!$A$50,BD$3=Recap!$A$51,BD$3=Recap!$A$52,BD$3=Recap!$A$53,BD$3=Recap!$A$54,BD$3=Recap!$A$55,BD$3=Recap!$A$56,BD$3=Recap!$A$57,BD$3=Recap!$A$58,BD$3=Recap!$A$59,BD$3=Recap!$A$60,BD$3=Recap!$A$61),(BD7+BE7)/1,BD7+BE7)) | BF8: =IF(RIGHT(BG5,4)="cuht","171",IF(RIGHT(BG5,4)="netu","172",IF(RIGHT(BG5,4)="auht","173",IF(OR(RIGHT(BG5,4)="ppou",RIGHT(BG5,5)="prepa"),"360",IF(RIGHT(BG5,4)="cpou","361",IF(OR(RIGHT(BG5,4)="apou",RIGHT(BG5,6)="molinf"),"363",IF(RIGHT(BG5,4)="netp","364",IF(RIGHT(BG5,4)="cmtr","365",IF(LEFT(BG5,4)="form","873",IF(RIGHT(BG5,7)="ce-cppt","902","")))))))))) | BG8: =IF(BF8="","",IF(OR(BF$3=Recap!$A$50,BF$3=Recap!$A$51,BF$3=Recap!$A$52,BF$3=Recap!$A$53,BF$3=Recap!$A$54,BF$3=Recap!$A$55,BF$3=Recap!$A$56,BF$3=Recap!$A$57,BF$3=Recap!$A$58,BF$3=Recap!$A$59,BF$3=Recap!$A$60,BF$3=Recap!$A$61),(BF7+BG7)/1,BF7+BG7))
A9: toti | C9: f | D9: 0.25 | E9: pause cmtr | F9: 0.33333333 | G9: pause cmtr | H9: 0.29166667 | I9: pause cmtr | J9: 0.33333333 | K9: pause cmtr | P9: 0.20833333 | Q9: pause aide cpou | R9: 0.25 | S9: pause cuht | U9: c | W9: c | Y9: c | AD9: =SUM(P11:AC11) -> 1.6583333 | AF9: c | AH9: f | AJ9: c | AL9: c | AN9: c | AS9: =SUM(AE11:AR11) -> 0 | BH9: =SUM(AT11:BG11) -> 0
D10: 0.58333333 | F10: 0.67708333 | H10: 0.72916667 | J10: 0.66666667 | P10: 0.58333333 | R10: 0.58333333
B11: =IF(B$3>$BI$4,0,IF(OR(ISBLANK(B9),ISBLANK(B10),ISBLANK(C9),LEFT(C9,4)="jour",LEFT(C9,4)="form"),0,IF(COUNTIF(fériés,B$3)>0,MOD((B10-B9),1)*1,MOD((B10-B9),1)))) -> 0 | C11: =IF(B$3>$BI$4,0,IF(AND(ISNUMBER(B9),ISNUMBER(B10),OR(LEFT(C9,4)="jour",LEFT(C9,4)="form")),IF(COUNTIF(fériés,B$3)>0,MOD(-$BH$4+(B10-B9),1)*1,MOD(-$BH$4+(B10-B9),1)),IF(AND(ISBLANK(B9),ISBLANK(B10)),IF(OR(C9="r",C9="c",C9="a",C9="m",C9="f",C9="cp",C9="s",C9="congé parent"),$BH$3,0),0))) -> 0.31666667 | D11: =IF(D$3>$BI$4,0,IF(OR(ISBLANK(D9),ISBLANK(D10),ISBLANK(E9),LEFT(E9,4)="jour",LEFT(E9,4)="form"),0,IF(COUNTIF(fériés,D$3)>0,MOD((D10-D9),1)*1,MOD((D10-D9),1)))) -> 0.33333333 | E11: =IF(D$3>$BI$4,0,IF(AND(ISNUMBER(D9),ISNUMBER(D10),OR(LEFT(E9,4)="jour",LEFT(E9,4)="form")),IF(COUNTIF(fériés,D$3)>0,MOD(-$BH$4+(D10-D9),1)*1,MOD(-$BH$4+(D10-D9),1)),IF(AND(ISBLANK(D9),ISBLANK(D10)),IF(OR(E9="r",E9="c",E9="a",E9="m",E9="f",E9="cp",E9="s",E9="congé parent"),$BH$3,0),0))) -> 0 | F11: =IF(F$3>$BI$4,0,IF(OR(ISBLANK(F9),ISBLANK(F10),ISBLANK(G9),LEFT(G9,4)="jour",LEFT(G9,4)="form"),0,IF(COUNTIF(fériés,F$3)>0,MOD((F10-F9),1)*1,MOD((F10-F9),1)))) -> 0.34375 | G11: =IF(F$3>$BI$4,0,IF(AND(ISNUMBER(F9),ISNUMBER(F10),OR(LEFT(G9,4)="jour",LEFT(G9,4)="form")),IF(COUNTIF(fériés,F$3)>0,MOD(-$BH$4+(F10-F9),1)*1,MOD(-$BH$4+(F10-F9),1)),IF(AND(ISBLANK(F9),ISBLANK(F10)),IF(OR(G9="r",G9="c",G9="a",G9="m",G9="f",G9="cp",G9="s",G9="congé parent"),$BH$3,0),0))) -> 0 | H11: =IF(H$3>$BI$4,0,IF(OR(ISBLANK(H9),ISBLANK(H10),ISBLANK(I9),LEFT(I9,4)="jour",LEFT(I9,4)="form"),0,IF(COUNTIF(fériés,H$3)>0,MOD((H10-H9),1)*1,MOD((H10-H9),1)))) -> 0.4375 | I11: =IF(H$3>$BI$4,0,IF(AND(ISNUMBER(H9),ISNUMBER(H10),OR(LEFT(I9,4)="jour",LEFT(I9,4)="form")),IF(COUNTIF(fériés,H$3)>0,MOD(-$BH$4+(H10-H9),1)*1,MOD(-$BH$4+(H10-H9),1)),IF(AND(ISBLANK(H9),ISBLANK(H10)),IF(OR(I9="r",I9="c",I9="a",I9="m",I9="f",I9="cp",I9="s",I9="congé parent"),$BH$3,0),0))) -> 0 | J11: =IF(J$3>$BI$4,0,IF(OR(ISBLANK(J9),ISBLANK(J10),ISBLANK(K9),LEFT(K9,4)="jour",LEFT(K9,4)="form"),0,IF(COUNTIF(fériés,J$3)>0,MOD((J10-J9),1)*1,MOD((J10-J9),1)))) -> 0.33333333 | K11: =IF(J$3>$BI$4,0,IF(AND(ISNUMBER(J9),ISNUMBER(J10),OR(LEFT(K9,4)="jour",LEFT(K9,4)="form")),IF(COUNTIF(fériés,J$3)>0,MOD(-$BH$4+(J10-J9),1)*1,MOD(-$BH$4+(J10-J9),1)),IF(AND(ISBLANK(J9),ISBLANK(J10)),IF(OR(K9="r",K9="c",K9="a",K9="m",K9="f",K9="cp",K9="s",K9="congé parent"),$BH$3,0),0))) -> 0 | L11: =IF(L$3>$BI$4,0,IF(OR(ISBLANK(L9),ISBLANK(L10),ISBLANK(M9),LEFT(M9,4)="jour",LEFT(M9,4)="form"),0,IF(COUNTIF(fériés,L$3)>0,MOD((L10-L9),1)*1,MOD((L10-L9),1)))) -> 0 | M11: =IF(L$3>$BI$4,0,IF(AND(ISNUMBER(L9),ISNUMBER(L10),OR(LEFT(M9,4)="jour",LEFT(M9,4)="form")),IF(COUNTIF(fériés,L$3)>0,MOD(-$BH$4+(L10-L9),1)*1,MOD(-$BH$4+(L10-L9),1)),IF(AND(ISBLANK(L9),ISBLANK(L10)),IF(OR(M9="r",M9="c",M9="a",M9="m",M9="f",M9="cp",M9="s",M9="congé parent"),$BH$3,0),0))) -> 0 | N11: =IF(N$3>$BI$4,0,IF(OR(ISBLANK(N9),ISBLANK(N10),ISBLANK(O9),LEFT(O9,4)="jour",LEFT(O9,4)="form"),0,IF(COUNTIF(fériés,N$3)>0,MOD((N10-N9),1)*1,MOD((N10-N9),1)))) -> 0 | O11: =IF(N$3>$BI$4,0,IF(AND(ISNUMBER(N9),ISNUMBER(N10),OR(LEFT(O9,4)="jour",LEFT(O9,4)="form")),IF(COUNTIF(fériés,N$3)>0,MOD(-$BH$4+(N10-N9),1)*1,MOD(-$BH$4+(N10-N9),1)),IF(AND(ISBLANK(N9),ISBLANK(N10)),IF(OR(O9="r",O9="c",O9="a",O9="m",O9="f",O9="cp",O9="s",O9="congé parent"),$BH$3,0),0))) -> 0 | P11: =IF(P$3>$BI$4,0,IF(OR(ISBLANK(P9),ISBLANK(P10),ISBLANK(Q9),LEFT(Q9,4)="jour",LEFT(Q9,4)="form"),0,IF(COUNTIF(fériés,P$3)>0,MOD((P10-P9),1)*1,MOD((P10-P9),1)))) -> 0.375 | Q11: =IF(P$3>$BI$4,0,IF(AND(ISNUMBER(P9),ISNUMBER(P10),OR(LEFT(Q9,4)="jour",LEFT(Q9,4)="form")),IF(COUNTIF(fériés,P$3)>0,MOD(-$BH$4+(P10-P9),1)*1,MOD(-$BH$4+(P10-P9),1)),IF(AND(ISBLANK(P9),ISBLANK(P10)),IF(OR(Q9="r",Q9="c",Q9="a",Q9="m",Q9="f",Q9="cp",Q9="s",Q9="congé parent"),$BH$3,0),0))) -> 0 | R11: =IF(R$3>$BI$4,0,IF(OR(ISBLANK(R9),ISBLANK(R10),ISBLANK(S9),LEFT(S9,4)="jour",LEFT(S9,4)="form"),0,IF(COUNTIF(fériés,R$3)>0,MOD((R10-R9),1)*1,MOD((R10-R9),1)))) -> 0.33333333 | S11: =IF(R$3>$BI$4,0,IF(AND(ISNUMBER(R9),ISNUMBER(R10),OR(LEFT(S9,4)="jour",LEFT(S9,4)="form")),IF(COUNTIF(fériés,R$3)>0,MOD(-$BH$4+(R10-R9),1)*1,MOD(-$BH$4+(R10-R9),1)),IF(AND(ISBLANK(R9),ISBLANK(R10)),IF(OR(S9="r",S9="c",S9="a",S9="m",S9="f",S9="cp",S9="s",S9="congé parent"),$BH$3,0),0))) -> 0 | T11: =IF(T$3>$BI$4,0,IF(OR(ISBLANK(T9),ISBLANK(T10),ISBLANK(U9),LEFT(U9,4)="jour",LEFT(U9,4)="form"),0,IF(COUNTIF(fériés,T$3)>0,MOD((T10-T9),1)*1,MOD((T10-T9),1)))) -> 0 | U11: =IF(T$3>$BI$4,0,IF(AND(ISNUMBER(T9),ISNUMBER(T10),OR(LEFT(U9,4)="jour",LEFT(U9,4)="form")),IF(COUNTIF(fériés,T$3)>0,MOD(-$BH$4+(T10-T9),1)*1,MOD(-$BH$4+(T10-T9),1)),IF(AND(ISBLANK(T9),ISBLANK(T10)),IF(OR(U9="r",U9="c",U9="a",U9="m",U9="f",U9="cp",U9="s",U9="congé parent"),$BH$3,0),0))) -> 0.31666667 | V11: =IF(V$3>$BI$4,0,IF(OR(ISBLANK(V9),ISBLANK(V10),ISBLANK(W9),LEFT(W9,4)="jour",LEFT(W9,4)="form"),0,IF(COUNTIF(fériés,V$3)>0,MOD((V10-V9),1)*1,MOD((V10-V9),1)))) -> 0 | W11: =IF(V$3>$BI$4,0,IF(AND(ISNUMBER(V9),ISNUMBER(V10),OR(LEFT(W9,4)="jour",LEFT(W9,4)="form")),IF(COUNTIF(fériés,V$3)>0,MOD(-$BH$4+(V10-V9),1)*1,MOD(-$BH$4+(V10-V9),1)),IF(AND(ISBLANK(V9),ISBLANK(V10)),IF(OR(W9="r",W9="c",W9="a",W9="m",W9="f",W9="cp",W9="s",W9="congé parent"),$BH$3,0),0))) -> 0.31666667 | X11: =IF(X$3>$BI$4,0,IF(OR(ISBLANK(X9),ISBLANK(X10),ISBLANK(Y9),LEFT(Y9,4)="jour",LEFT(Y9,4)="form"),0,IF(COUNTIF(fériés,X$3)>0,MOD((X10-X9),1)*1,MOD((X10-X9),1)))) -> 0 | Y11: =IF(X$3>$BI$4,0,IF(AND(ISNUMBER(X9),ISNUMBER(X10),OR(LEFT(Y9,4)="jour",LEFT(Y9,4)="form")),IF(COUNTIF(fériés,X$3)>0,MOD(-$BH$4+(X10-X9),1)*1,MOD(-$BH$4+(X10-X9),1)),IF(AND(ISBLANK(X9),ISBLANK(X10)),IF(OR(Y9="r",Y9="c",Y9="a",Y9="m",Y9="f",Y9="cp",Y9="s",Y9="congé parent"),$BH$3,0),0))) -> 0.31666667 | Z11: =IF(Z$3>$BI$4,0,IF(OR(ISBLANK(Z9),ISBLANK(Z10),ISBLANK(AA9),LEFT(AA9,4)="jour",LEFT(AA9,4)="form"),0,IF(COUNTIF(fériés,Z$3)>0,MOD((Z10-Z9),1)*1,MOD((Z10-Z9),1)))) -> 0 | AA11: =IF(Z$3>$BI$4,0,IF(AND(ISNUMBER(Z9),ISNUMBER(Z10),OR(LEFT(AA9,4)="jour",LEFT(AA9,4)="form")),IF(COUNTIF(fériés,Z$3)>0,MOD(-$BH$4+(Z10-Z9),1)*1,MOD(-$BH$4+(Z10-Z9),1)),IF(AND(ISBLANK(Z9),ISBLANK(Z10)),IF(OR(AA9="r",AA9="c",AA9="a",AA9="m",AA9="f",AA9="cp",AA9="s",AA9="congé parent"),$BH$3,0),0))) -> 0 | AB11: =IF(AB$3>$BI$4,0,IF(OR(ISBLANK(AB9),ISBLANK(AB10),ISBLANK(AC9),LEFT(AC9,4)="jour",LEFT(AC9,4)="form"),0,IF(COUNTIF(fériés,AB$3)>0,MOD((AB10-AB9),1)*1,MOD((AB10-AB9),1)))) -> 0 | AC11: =IF(AB$3>$BI$4,0,IF(AND(ISNUMBER(AB9),ISNUMBER(AB10),OR(LEFT(AC9,4)="jour",LEFT(AC9,4)="form")),IF(COUNTIF(fériés,AB$3)>0,MOD(-$BH$4+(AB10-AB9),1)*1,MOD(-$BH$4+(AB10-AB9),1)),IF(AND(ISBLANK(AB9),ISBLANK(AB10)),IF(OR(AC9="r",AC9="c",AC9="a",AC9="m",AC9="f",AC9="cp",AC9="s",AC9="congé parent"),$BH$3,0),0))) -> 0 | AE11: =IF(AE$3>$BI$4,0,IF(OR(ISBLANK(AE9),ISBLANK(AE10),ISBLANK(AF9),LEFT(AF9,4)="jour",LEFT(AF9,4)="form"),0,IF(COUNTIF(fériés,AE$3)>0,MOD((AE10-AE9),1)*1,MOD((AE10-AE9),1)))) -> 0 | AF11: =IF(AE$3>$BI$4,0,IF(AND(ISNUMBER(AE9),ISNUMBER(AE10),OR(LEFT(AF9,4)="jour",LEFT(AF9,4)="form")),IF(COUNTIF(fériés,AE$3)>0,MOD(-$BH$4+(AE10-AE9),1)*1,MOD(-$BH$4+(AE10-AE9),1)),IF(AND(ISBLANK(AE9),ISBLANK(AE10)),IF(OR(AF9="r",AF9="c",AF9="a",AF9="m",AF9="f",AF9="cp",AF9="s",AF9="congé parent"),$BH$3,0),0))) -> 0 | AG11: =IF(AG$3>$BI$4,0,IF(OR(ISBLANK(AG9),ISBLANK(AG10),ISBLANK(AH9),LEFT(AH9,4)="jour",LEFT(AH9,4)="form"),0,IF(COUNTIF(fériés,AG$3)>0,MOD((AG10-AG9),1)*1,MOD((AG10-AG9),1)))) -> 0 | AH11: =IF(AG$3>$BI$4,0,IF(AND(ISNUMBER(AG9),ISNUMBER(AG10),OR(LEFT(AH9,4)="jour",LEFT(AH9,4)="form")),IF(COUNTIF(fériés,AG$3)>0,MOD(-$BH$4+(AG10-AG9),1)*1,MOD(-$BH$4+(AG10-AG9),1)),IF(AND(ISBLANK(AG9),ISBLANK(AG10)),IF(OR(AH9="r",AH9="c",AH9="a",AH9="m",AH9="f",AH9="cp",AH9="s",AH9="congé parent"),$BH$3,0),0))) -> 0 | AI11: =IF(AI$3>$BI$4,0,IF(OR(ISBLANK(AI9),ISBLANK(AI10),ISBLANK(AJ9),LEFT(AJ9,4)="jour",LEFT(AJ9,4)="form"),0,IF(COUNTIF(fériés,AI$3)>0,MOD((AI10-AI9),1)*1,MOD((AI10-AI9),1)))) -> 0 | AJ11: =IF(AI$3>$BI$4,0,IF(AND(ISNUMBER(AI9),ISNUMBER(AI10),OR(LEFT(AJ9,4)="jour",LEFT(AJ9,4)="form")),IF(COUNTIF(fériés,AI$3)>0,MOD(-$BH$4+(AI10-AI9),1)*1,MOD(-$BH$4+(AI10-AI9),1)),IF(AND(ISBLANK(AI9),ISBLANK(AI10)),IF(OR(AJ9="r",AJ9="c",AJ9="a",AJ9="m",AJ9="f",AJ9="cp",AJ9="s",AJ9="congé parent"),$BH$3,0),0))) -> 0 | AK11: =IF(AK$3>$BI$4,0,IF(OR(ISBLANK(AK9),ISBLANK(AK10),ISBLANK(AL9),LEFT(AL9,4)="jour",LEFT(AL9,4)="form"),0,IF(COUNTIF(fériés,AK$3)>0,MOD((AK10-AK9),1)*1,MOD((AK10-AK9),1)))) -> 0 | AL11: =IF(AK$3>$BI$4,0,IF(AND(ISNUMBER(AK9),ISNUMBER(AK10),OR(LEFT(AL9,4)="jour",LEFT(AL9,4)="form")),IF(COUNTIF(fériés,AK$3)>0,MOD(-$BH$4+(AK10-AK9),1)*1,MOD(-$BH$4+(AK10-AK9),1)),IF(AND(ISBLANK(AK9),ISBLANK(AK10)),IF(OR(AL9="r",AL9="c",AL9="a",AL9="m",AL9="f",AL9="cp",AL9="s",AL9="congé parent"),$BH$3,0),0))) -> 0 | AM11: =IF(AM$3>$BI$4,0,IF(OR(ISBLANK(AM9),ISBLANK(AM10),ISBLANK(AN9),LEFT(AN9,4)="jour",LEFT(AN9,4)="form"),0,IF(COUNTIF(fériés,AM$3)>0,MOD((AM10-AM9),1)*1,MOD((AM10-AM9),1)))) -> 0 | AN11: =IF(AM$3>$BI$4,0,IF(AND(ISNUMBER(AM9),ISNUMBER(AM10),OR(LEFT(AN9,4)="jour",LEFT(AN9,4)="form")),IF(COUNTIF(fériés,AM$3)>0,MOD(-$BH$4+(AM10-AM9),1)*1,MOD(-$BH$4+(AM10-AM9),1)),IF(AND(ISBLANK(AM9),ISBLANK(AM10)),IF(OR(AN9="r",AN9="c",AN9="a",AN9="m",AN9="f",AN9="cp",AN9="s",AN9="congé parent"),$BH$3,0),0))) -> 0 | AO11: =IF(AO$3>$BI$4,0,IF(OR(ISBLANK(AO9),ISBLANK(AO10),ISBLANK(AP9),LEFT(AP9,4)="jour",LEFT(AP9,4)="form"),0,IF(COUNTIF(fériés,AO$3)>0,MOD((AO10-AO9),1)*1,MOD((AO10-AO9),1)))) -> 0 | AP11: =IF(AO$3>$BI$4,0,IF(AND(ISNUMBER(AO9),ISNUMBER(AO10),OR(LEFT(AP9,4)="jour",LEFT(AP9,4)="form")),IF(COUNTIF(fériés,AO$3)>0,MOD(-$BH$4+(AO10-AO9),1)*1,MOD(-$BH$4+(AO10-AO9),1)),IF(AND(ISBLANK(AO9),ISBLANK(AO10)),IF(OR(AP9="r",AP9="c",AP9="a",AP9="m",AP9="f",AP9="cp",AP9="s",AP9="congé parent"),$BH$3,0),0))) -> 0 | AQ11: =IF(AQ$3>$BI$4,0,IF(OR(ISBLANK(AQ9),ISBLANK(AQ10),ISBLANK(AR9),LEFT(AR9,4)="jour",LEFT(AR9,4)="form"),0,IF(COUNTIF(fériés,AQ$3)>0,MOD((AQ10-AQ9),1)*1,MOD((AQ10-AQ9),1)))) -> 0 | AR11: =IF(AQ$3>$BI$4,0,IF(AND(ISNUMBER(AQ9),ISNUMBER(AQ10),OR(LEFT(AR9,4)="jour",LEFT(AR9,4)="form")),IF(COUNTIF(fériés,AQ$3)>0,MOD(-$BH$4+(AQ10-AQ9),1)*1,MOD(-$BH$4+(AQ10-AQ9),1)),IF(AND(ISBLANK(AQ9),ISBLANK(AQ10)),IF(OR(AR9="r",AR9="c",AR9="a",AR9="m",AR9="f",AR9="cp",AR9="s",AR9="congé parent"),$BH$3,0),0))) -> 0 | AT11: =IF(AT$3>$BI$4,0,IF(OR(ISBLANK(AT9),ISBLANK(AT10),ISBLANK(AU9),LEFT(AU9,4)="jour",LEFT(AU9,4)="form"),0,IF(COUNTIF(fériés,AT$3)>0,MOD((AT10-AT9),1)*1,MOD((AT10-AT9),1)))) -> 0 | AU11: =IF(AT$3>$BI$4,0,IF(AND(ISNUMBER(AT9),ISNUMBER(AT10),OR(LEFT(AU9,4)="jour",LEFT(AU9,4)="form")),IF(COUNTIF(fériés,AT$3)>0,MOD(-$BH$4+(AT10-AT9),1)*1,MOD(-$BH$4+(AT10-AT9),1)),IF(AND(ISBLANK(AT9),ISBLANK(AT10)),IF(OR(AU9="r",AU9="c",AU9="a",AU9="m",AU9="f",AU9="cp",AU9="s",AU9="congé parent"),$BH$3,0),0))) -> 0 | AV11: =IF(AV$3>$BI$4,0,IF(OR(ISBLANK(AV9),ISBLANK(AV10),ISBLANK(AW9),LEFT(AW9,4)="jour",LEFT(AW9,4)="form"),0,IF(COUNTIF(fériés,AV$3)>0,MOD((AV10-AV9),1)*1,MOD((AV10-AV9),1)))) -> 0 | AW11: =IF(AV$3>$BI$4,0,IF(AND(ISNUMBER(AV9),ISNUMBER(AV10),OR(LEFT(AW9,4)="jour",LEFT(AW9,4)="form")),IF(COUNTIF(fériés,AV$3)>0,MOD(-$BH$4+(AV10-AV9),1)*1,MOD(-$BH$4+(AV10-AV9),1)),IF(AND(ISBLANK(AV9),ISBLANK(AV10)),IF(OR(AW9="r",AW9="c",AW9="a",AW9="m",AW9="f",AW9="cp",AW9="s",AW9="congé parent"),$BH$3,0),0))) -> 0 | AX11: =IF(AX$3>$BI$4,0,IF(OR(ISBLANK(AX9),ISBLANK(AX10),ISBLANK(AY9),LEFT(AY9,4)="jour",LEFT(AY9,4)="form"),0,IF(COUNTIF(fériés,AX$3)>0,MOD((AX10-AX9),1)*1,MOD((AX10-AX9),1)))) -> 0 | AY11: =IF(AX$3>$BI$4,0,IF(AND(ISNUMBER(AX9),ISNUMBER(AX10),OR(LEFT(AY9,4)="jour",LEFT(AY9,4)="form")),IF(COUNTIF(fériés,AX$3)>0,MOD(-$BH$4+(AX10-AX9),1)*1,MOD(-$BH$4+(AX10-AX9),1)),IF(AND(ISBLANK(AX9),ISBLANK(AX10)),IF(OR(AY9="r",AY9="c",AY9="a",AY9="m",AY9="f",AY9="cp",AY9="s",AY9="congé parent"),$BH$3,0),0))) -> 0 | AZ11: =IF(AZ$3>$BI$4,0,IF(OR(ISBLANK(AZ9),ISBLANK(AZ10),ISBLANK(BA9),LEFT(BA9,4)="jour",LEFT(BA9,4)="form"),0,IF(COUNTIF(fériés,AZ$3)>0,MOD((AZ10-AZ9),1)*1,MOD((AZ10-AZ9),1)))) -> 0 | BA11: =IF(AZ$3>$BI$4,0,IF(AND(ISNUMBER(AZ9),ISNUMBER(AZ10),OR(LEFT(BA9,4)="jour",LEFT(BA9,4)="form")),IF(COUNTIF(fériés,AZ$3)>0,MOD(-$BH$4+(AZ10-AZ9),1)*1,MOD(-$BH$4+(AZ10-AZ9),1)),IF(AND(ISBLANK(AZ9),ISBLANK(AZ10)),IF(OR(BA9="r",BA9="c",BA9="a",BA9="m",BA9="f",BA9="cp",BA9="s",BA9="congé parent"),$BH$3,0),0))) -> 0 | BB11: =IF(BB$3>$BI$4,0,IF(OR(ISBLANK(BB9),ISBLANK(BB10),ISBLANK(BC9),LEFT(BC9,4)="jour",LEFT(BC9,4)="form"),0,IF(COUNTIF(fériés,BB$3)>0,MOD((BB10-BB9),1)*1,MOD((BB10-BB9),1)))) -> 0 | BC11: =IF(BB$3>$BI$4,0,IF(AND(ISNUMBER(BB9),ISNUMBER(BB10),OR(LEFT(BC9,4)="jour",LEFT(BC9,4)="form")),IF(COUNTIF(fériés,BB$3)>0,MOD(-$BH$4+(BB10-BB9),1)*1,MOD(-$BH$4+(BB10-BB9),1)),IF(AND(ISBLANK(BB9),ISBLANK(BB10)),IF(OR(BC9="r",BC9="c",BC9="a",BC9="m",BC9="f",BC9="cp",BC9="s",BC9="congé parent"),$BH$3,0),0))) -> 0 | BD11: =IF(BD$3>$BI$4,0,IF(OR(ISBLANK(BD9),ISBLANK(BD10),ISBLANK(BE9),LEFT(BE9,4)="jour",LEFT(BE9,4)="form"),0,IF(COUNTIF(fériés,BD$3)>0,MOD((BD10-BD9),1)*1,MOD((BD10-BD9),1)))) -> 0 | BE11: =IF(BD$3>$BI$4,0,IF(AND(ISNUMBER(BD9),ISNUMBER(BD10),OR(LEFT(BE9,4)="jour",LEFT(BE9,4)="form")),IF(COUNTIF(fériés,BD$3)>0,MOD(-$BH$4+(BD10-BD9),1)*1,MOD(-$BH$4+(BD10-BD9),1)),IF(AND(ISBLANK(BD9),ISBLANK(BD10)),IF(OR(BE9="r",BE9="c",BE9="a",BE9="m",BE9="f",BE9="cp",BE9="s",BE9="congé parent"),$BH$3,0),0))) -> 0 | BF11: =IF(BF$3>$BI$4,0,IF(OR(ISBLANK(BF9),ISBLANK(BF10),ISBLANK(BG9),LEFT(BG9,4)="jour",LEFT(BG9,4)="form"),0,IF(COUNTIF(fériés,BF$3)>0,MOD((BF10-BF9),1)*1,MOD((BF10-BF9),1)))) -> 0 | BG11: =IF(BF$3>$BI$4,0,IF(AND(ISNUMBER(BF9),ISNUMBER(BF10),OR(LEFT(BG9,4)="jour",LEFT(BG9,4)="form")),IF(COUNTIF(fériés,BF$3)>0,MOD(-$BH$4+(BF10-BF9),1)*1,MOD(-$BH$4+(BF10-BF9),1)),IF(AND(ISBLANK(BF9),ISBLANK(BF10)),IF(OR(BG9="r",BG9="c",BG9="a",BG9="m",BG9="f",BG9="cp",BG9="s",BG9="congé parent"),$BH$3,0),0))) -> 0 | BH11: =SUM(B11:BG11) -> 3.4229167
B12: =IF(RIGHT(C9,4)="cuht","171",IF(RIGHT(C9,4)="netu","172",IF(RIGHT(C9,4)="auht","173",IF(OR(RIGHT(C9,4)="ppou",RIGHT(C9,5)="prepa"),"360",IF(RIGHT(C9,4)="cpou","361",IF(OR(RIGHT(C9,4)="apou",RIGHT(C9,6)="molinf"),"363",IF(RIGHT(C9,4)="netp","364",IF(RIGHT(C9,4)="cmtr","365",IF(LEFT(C9,4)="form","873",IF(RIGHT(C9,7)="ce-cppt","902","")))))))))) | C12: =IF(B12="","",IF(OR(B$3=Recap!$A$50,B$3=Recap!$A$51,B$3=Recap!$A$52,B$3=Recap!$A$53,B$3=Recap!$A$54,B$3=Recap!$A$55,B$3=Recap!$A$56,B$3=Recap!$A$57,B$3=Recap!$A$58,B$3=Recap!$A$59,B$3=Recap!$A$60,B$3=Recap!$A$61),(B11+C11)/1,B11+C11)) | D12: =IF(RIGHT(E9,4)="cuht","171",IF(RIGHT(E9,4)="netu","172",IF(RIGHT(E9,4)="auht","173",IF(OR(RIGHT(E9,4)="ppou",RIGHT(E9,5)="prepa"),"360",IF(RIGHT(E9,4)="cpou","361",IF(OR(RIGHT(E9,4)="apou",RIGHT(E9,6)="molinf"),"363",IF(RIGHT(E9,4)="netp","364",IF(RIGHT(E9,4)="cmtr","365",IF(LEFT(E9,4)="form","873",IF(RIGHT(E9,7)="ce-cppt","902","")))))))))) -> 365 | E12: =IF(D12="","",IF(OR(D$3=Recap!$A$50,D$3=Recap!$A$51,D$3=Recap!$A$52,D$3=Recap!$A$53,D$3=Recap!$A$54,D$3=Recap!$A$55,D$3=Recap!$A$56,D$3=Recap!$A$57,D$3=Recap!$A$58,D$3=Recap!$A$59,D$3=Recap!$A$60,D$3=Recap!$A$61),(D11+E11)/1,D11+E11)) -> 0.33333333 | F12: =IF(RIGHT(G9,4)="cuht","171",IF(RIGHT(G9,4)="netu","172",IF(RIGHT(G9,4)="auht","173",IF(OR(RIGHT(G9,4)="ppou",RIGHT(G9,5)="prepa"),"360",IF(RIGHT(G9,4)="cpou","361",IF(OR(RIGHT(G9,4)="apou",RIGHT(G9,6)="molinf"),"363",IF(RIGHT(G9,4)="netp","364",IF(RIGHT(G9,4)="cmtr","365",IF(LEFT(G9,4)="form","873",IF(RIGHT(G9,7)="ce-cppt","902","")))))))))) -> 365 | G12: =IF(F12="","",IF(OR(F$3=Recap!$A$50,F$3=Recap!$A$51,F$3=Recap!$A$52,F$3=Recap!$A$53,F$3=Recap!$A$54,F$3=Recap!$A$55,F$3=Recap!$A$56,F$3=Recap!$A$57,F$3=Recap!$A$58,F$3=Recap!$A$59,F$3=Recap!$A$60,F$3=Recap!$A$61),(F11+G11)/1,F11+G11)) -> 0.34375 | H12: =IF(RIGHT(I9,4)="cuht","171",IF(RIGHT(I9,4)="netu","172",IF(RIGHT(I9,4)="auht","173",IF(OR(RIGHT(I9,4)="ppou",RIGHT(I9,5)="prepa"),"360",IF(RIGHT(I9,4)="cpou","361",IF(OR(RIGHT(I9,4)="apou",RIGHT(I9,6)="molinf"),"363",IF(RIGHT(I9,4)="netp","364",IF(RIGHT(I9,4)="cmtr","365",IF(LEFT(I9,4)="form","873",IF(RIGHT(I9,7)="ce-cppt","902","")))))))))) -> 365 | I12: =IF(H12="","",IF(OR(H$3=Recap!$A$50,H$3=Recap!$A$51,H$3=Recap!$A$52,H$3=Recap!$A$53,H$3=Recap!$A$54,H$3=Recap!$A$55,H$3=Recap!$A$56,H$3=Recap!$A$57,H$3=Recap!$A$58,H$3=Recap!$A$59,H$3=Recap!$A$60,H$3=Recap!$A$61),(H11+I11)/1,H11+I11)) -> 0.4375 | J12: =IF(RIGHT(K9,4)="cuht","171",IF(RIGHT(K9,4)="netu","172",IF(RIGHT(K9,4)="auht","173",IF(OR(RIGHT(K9,4)="ppou",RIGHT(K9,5)="prepa"),"360",IF(RIGHT(K9,4)="cpou","361",IF(OR(RIGHT(K9,4)="apou",RIGHT(K9,6)="molinf"),"363",IF(RIGHT(K9,4)="netp","364",IF(RIGHT(K9,4)="cmtr","365",IF(LEFT(K9,4)="form","873",IF(RIGHT(K9,7)="ce-cppt","902","")))))))))) -> 365 | K12: =IF(J12="","",IF(OR(J$3=Recap!$A$50,J$3=Recap!$A$51,J$3=Recap!$A$52,J$3=Recap!$A$53,J$3=Recap!$A$54,J$3=Recap!$A$55,J$3=Recap!$A$56,J$3=Recap!$A$57,J$3=Recap!$A$58,J$3=Recap!$A$59,J$3=Recap!$A$60,J$3=Recap!$A$61),(J11+K11)/1,J11+K11)) -> 0.33333333 | L12: =IF(RIGHT(M9,4)="cuht","171",IF(RIGHT(M9,4)="netu","172",IF(RIGHT(M9,4)="auht","173",IF(OR(RIGHT(M9,4)="ppou",RIGHT(M9,5)="prepa"),"360",IF(RIGHT(M9,4)="cpou","361",IF(OR(RIGHT(M9,4)="apou",RIGHT(M9,6)="molinf"),"363",IF(RIGHT(M9,4)="netp","364",IF(RIGHT(M9,4)="cmtr","365",IF(LEFT(M9,4)="form","873",IF(RIGHT(M9,7)="ce-cppt","902","")))))))))) | M12: =IF(L12="","",IF(OR(L$3=Recap!$A$50,L$3=Recap!$A$51,L$3=Recap!$A$52,L$3=Recap!$A$53,L$3=Recap!$A$54,L$3=Recap!$A$55,L$3=Recap!$A$56,L$3=Recap!$A$57,L$3=Recap!$A$58,L$3=Recap!$A$59,L$3=Recap!$A$60,L$3=Recap!$A$61),(L11+M11)/1,L11+M11)) | N12: =IF(RIGHT(O9,4)="cuht","171",IF(RIGHT(O9,4)="netu","172",IF(RIGHT(O9,4)="auht","173",IF(OR(RIGHT(O9,4)="ppou",RIGHT(O9,5)="prepa"),"360",IF(RIGHT(O9,4)="cpou","361",IF(OR(RIGHT(O9,4)="apou",RIGHT(O9,6)="molinf"),"363",IF(RIGHT(O9,4)="netp","364",IF(RIGHT(O9,4)="cmtr","365",IF(LEFT(O9,4)="form","873",IF(RIGHT(O9,7)="ce-cppt","902","")))))))))) | O12: =IF(N12="","",IF(OR(N$3=Recap!$A$50,N$3=Recap!$A$51,N$3=Recap!$A$52,N$3=Recap!$A$53,N$3=Recap!$A$54,N$3=Recap!$A$55,N$3=Recap!$A$56,N$3=Recap!$A$57,N$3=Recap!$A$58,N$3=Recap!$A$59,N$3=Recap!$A$60,N$3=Recap!$A$61),(N11+O11)/1,N11+O11)) | P12: =IF(RIGHT(Q9,4)="cuht","171",IF(RIGHT(Q9,4)="netu","172",IF(RIGHT(Q9,4)="auht","173",IF(OR(RIGHT(Q9,4)="ppou",RIGHT(Q9,5)="prepa"),"360",IF(RIGHT(Q9,4)="cpou","361",IF(OR(RIGHT(Q9,4)="apou",RIGHT(Q9,6)="molinf"),"363",IF(RIGHT(Q9,4)="netp","364",IF(RIGHT(Q9,4)="cmtr","365",IF(LEFT(Q9,4)="form","873",IF(RIGHT(Q9,7)="ce-cppt","902","")))))))))) -> 361 | Q12: =IF(P12="","",IF(OR(P$3=Recap!$A$50,P$3=Recap!$A$51,P$3=Recap!$A$52,P$3=Recap!$A$53,P$3=Recap!$A$54,P$3=Recap!$A$55,P$3=Recap!$A$56,P$3=Recap!$A$57,P$3=Recap!$A$58,P$3=Recap!$A$59,P$3=Recap!$A$60,P$3=Recap!$A$61),(P11+Q11)/1,P11+Q11)) -> 0.375 | R12: =IF(RIGHT(S9,4)="cuht","171",IF(RIGHT(S9,4)="netu","172",IF(RIGHT(S9,4)="auht","173",IF(OR(RIGHT(S9,4)="ppou",RIGHT(S9,5)="prepa"),"360",IF(RIGHT(S9,4)="cpou","361",IF(OR(RIGHT(S9,4)="apou",RIGHT(S9,6)="molinf"),"363",IF(RIGHT(S9,4)="netp","364",IF(RIGHT(S9,4)="cmtr","365",IF(LEFT(S9,4)="form","873",IF(RIGHT(S9,7)="ce-cppt","902","")))))))))) -> 171 | S12: =IF(R12="","",IF(OR(R$3=Recap!$A$50,R$3=Recap!$A$51,R$3=Recap!$A$52,R$3=Recap!$A$53,R$3=Recap!$A$54,R$3=Recap!$A$55,R$3=Recap!$A$56,R$3=Recap!$A$57,R$3=Recap!$A$58,R$3=Recap!$A$59,R$3=Recap!$A$60,R$3=Recap!$A$61),(R11+S11)/1,R11+S11)) -> 0.33333333 | T12: =IF(RIGHT(U9,4)="cuht","171",IF(RIGHT(U9,4)="netu","172",IF(RIGHT(U9,4)="auht","173",IF(OR(RIGHT(U9,4)="ppou",RIGHT(U9,5)="prepa"),"360",IF(RIGHT(U9,4)="cpou","361",IF(OR(RIGHT(U9,4)="apou",RIGHT(U9,6)="molinf"),"363",IF(RIGHT(U9,4)="netp","364",IF(RIGHT(U9,4)="cmtr","365",IF(LEFT(U9,4)="form","873",IF(RIGHT(U9,7)="ce-cppt","902","")))))))))) | U12: =IF(T12="","",IF(OR(T$3=Recap!$A$50,T$3=Recap!$A$51,T$3=Recap!$A$52,T$3=Recap!$A$53,T$3=Recap!$A$54,T$3=Recap!$A$55,T$3=Recap!$A$56,T$3=Recap!$A$57,T$3=Recap!$A$58,T$3=Recap!$A$59,T$3=Recap!$A$60,T$3=Recap!$A$61),(T11+U11)/1,T11+U11)) | V12: =IF(RIGHT(W9,4)="cuht","171",IF(RIGHT(W9,4)="netu","172",IF(RIGHT(W9,4)="auht","173",IF(OR(RIGHT(W9,4)="ppou",RIGHT(W9,5)="prepa"),"360",IF(RIGHT(W9,4)="cpou","361",IF(OR(RIGHT(W9,4)="apou",RIGHT(W9,6)="molinf"),"363",IF(RIGHT(W9,4)="netp","364",IF(RIGHT(W9,4)="cmtr","365",IF(LEFT(W9,4)="form","873",IF(RIGHT(W9,7)="ce-cppt","902","")))))))))) | W12: =IF(V12="","",IF(OR(V$3=Recap!$A$50,V$3=Recap!$A$51,V$3=Recap!$A$52,V$3=Recap!$A$53,V$3=Recap!$A$54,V$3=Recap!$A$55,V$3=Recap!$A$56,V$3=Recap!$A$57,V$3=Recap!$A$58,V$3=Recap!$A$59,V$3=Recap!$A$60,V$3=Recap!$A$61),(V11+W11)/1,V11+W11)) | X12: =IF(RIGHT(Y9,4)="cuht","171",IF(RIGHT(Y9,4)="netu","172",IF(RIGHT(Y9,4)="auht","173",IF(OR(RIGHT(Y9,4)="ppou",RIGHT(Y9,5)="prepa"),"360",IF(RIGHT(Y9,4)="cpou","361",IF(OR(RIGHT(Y9,4)="apou",RIGHT(Y9,6)="molinf"),"363",IF(RIGHT(Y9,4)="netp","364",IF(RIGHT(Y9,4)="cmtr","365",IF(LEFT(Y9,4)="form","873",IF(RIGHT(Y9,7)="ce-cppt","902","")))))))))) | Y12: =IF(X12="","",IF(OR(X$3=Recap!$A$50,X$3=Recap!$A$51,X$3=Recap!$A$52,X$3=Recap!$A$53,X$3=Recap!$A$54,X$3=Recap!$A$55,X$3=Recap!$A$56,X$3=Recap!$A$57,X$3=Recap!$A$58,X$3=Recap!$A$59,X$3=Recap!$A$60,X$3=Recap!$A$61),(X11+Y11)/1,X11+Y11)) | Z12: =IF(RIGHT(AA9,4)="cuht","171",IF(RIGHT(AA9,4)="netu","172",IF(RIGHT(AA9,4)="auht","173",IF(OR(RIGHT(AA9,4)="ppou",RIGHT(AA9,5)="prepa"),"360",IF(RIGHT(AA9,4)="cpou","361",IF(OR(RIGHT(AA9,4)="apou",RIGHT(AA9,6)="molinf"),"363",IF(RIGHT(AA9,4)="netp","364",IF(RIGHT(AA9,4)="cmtr","365",IF(LEFT(AA9,4)="form","873",IF(RIGHT(AA9,7)="ce-cppt","902","")))))))))) | AA12: =IF(Z12="","",IF(OR(Z$3=Recap!$A$50,Z$3=Recap!$A$51,Z$3=Recap!$A$52,Z$3=Recap!$A$53,Z$3=Recap!$A$54,Z$3=Recap!$A$55,Z$3=Recap!$A$56,Z$3=Recap!$A$57,Z$3=Recap!$A$58,Z$3=Recap!$A$59,Z$3=Recap!$A$60,Z$3=Recap!$A$61),(Z11+AA11)/1,Z11+AA11)) | AB12: =IF(RIGHT(AC9,4)="cuht","171",IF(RIGHT(AC9,4)="netu","172",IF(RIGHT(AC9,4)="auht","173",IF(OR(RIGHT(AC9,4)="ppou",RIGHT(AC9,5)="prepa"),"360",IF(RIGHT(AC9,4)="cpou","361",IF(OR(RIGHT(AC9,4)="apou",RIGHT(AC9,6)="molinf"),"363",IF(RIGHT(AC9,4)="netp","364",IF(RIGHT(AC9,4)="cmtr","365",IF(LEFT(AC9,4)="form","873",IF(RIGHT(AC9,7)="ce-cppt","902","")))))))))) | AC12: =IF(AB12="","",IF(OR(AB$3=Recap!$A$50,AB$3=Recap!$A$51,AB$3=Recap!$A$52,AB$3=Recap!$A$53,AB$3=Recap!$A$54,AB$3=Recap!$A$55,AB$3=Recap!$A$56,AB$3=Recap!$A$57,AB$3=Recap!$A$58,AB$3=Recap!$A$59,AB$3=Recap!$A$60,AB$3=Recap!$A$61),(AB11+AC11)/1,AB11+AC11)) | AE12: =IF(RIGHT(AF9,4)="cuht","171",IF(RIGHT(AF9,4)="netu","172",IF(RIGHT(AF9,4)="auht","173",IF(OR(RIGHT(AF9,4)="ppou",RIGHT(AF9,5)="prepa"),"360",IF(RIGHT(AF9,4)="cpou","361",IF(OR(RIGHT(AF9,4)="apou",RIGHT(AF9,6)="molinf"),"363",IF(RIGHT(AF9,4)="netp","364",IF(RIGHT(AF9,4)="cmtr","365",IF(LEFT(AF9,4)="form","873",IF(RIGHT(AF9,7)="ce-cppt","902","")))))))))) | AF12: =IF(AE12="","",IF(OR(AE$3=Recap!$A$50,AE$3=Recap!$A$51,AE$3=Recap!$A$52,AE$3=Recap!$A$53,AE$3=Recap!$A$54,AE$3=Recap!$A$55,AE$3=Recap!$A$56,AE$3=Recap!$A$57,AE$3=Recap!$A$58,AE$3=Recap!$A$59,AE$3=Recap!$A$60,AE$3=Recap!$A$61),(AE11+AF11)/1,AE11+AF11)) | AG12: =IF(RIGHT(AH9,4)="cuht","171",IF(RIGHT(AH9,4)="netu","172",IF(RIGHT(AH9,4)="auht","173",IF(OR(RIGHT(AH9,4)="ppou",RIGHT(AH9,5)="prepa"),"360",IF(RIGHT(AH9,4)="cpou","361",IF(OR(RIGHT(AH9,4)="apou",RIGHT(AH9,6)="molinf"),"363",IF(RIGHT(AH9,4)="netp","364",IF(RIGHT(AH9,4)="cmtr","365",IF(LEFT(AH9,4)="form","873",IF(RIGHT(AH9,7)="ce-cppt","902","")))))))))) | AH12: =IF(AG12="","",IF(OR(AG$3=Recap!$A$50,AG$3=Recap!$A$51,AG$3=Recap!$A$52,AG$3=Recap!$A$53,AG$3=Recap!$A$54,AG$3=Recap!$A$55,AG$3=Recap!$A$56,AG$3=Recap!$A$57,AG$3=Recap!$A$58,AG$3=Recap!$A$59,AG$3=Recap!$A$60,AG$3=Recap!$A$61),(AG11+AH11)/1,AG11+AH11)) | AI12: =IF(RIGHT(AJ9,4)="cuht","171",IF(RIGHT(AJ9,4)="netu","172",IF(RIGHT(AJ9,4)="auht","173",IF(OR(RIGHT(AJ9,4)="ppou",RIGHT(AJ9,5)="prepa"),"360",IF(RIGHT(AJ9,4)="cpou","361",IF(OR(RIGHT(AJ9,4)="apou",RIGHT(AJ9,6)="molinf"),"363",IF(RIGHT(AJ9,4)="netp","364",IF(RIGHT(AJ9,4)="cmtr","365",IF(LEFT(AJ9,4)="form","873",IF(RIGHT(AJ9,7)="ce-cppt","902","")))))))))) | AJ12: =IF(AI12="","",IF(OR(AI$3=Recap!$A$50,AI$3=Recap!$A$51,AI$3=Recap!$A$52,AI$3=Recap!$A$53,AI$3=Recap!$A$54,AI$3=Recap!$A$55,AI$3=Recap!$A$56,AI$3=Recap!$A$57,AI$3=Recap!$A$58,AI$3=Recap!$A$59,AI$3=Recap!$A$60,AI$3=Recap!$A$61),(AI11+AJ11)/1,AI11+AJ11)) | AK12: =IF(RIGHT(AL9,4)="cuht","171",IF(RIGHT(AL9,4)="netu","172",IF(RIGHT(AL9,4)="auht","173",IF(OR(RIGHT(AL9,4)="ppou",RIGHT(AL9,5)="prepa"),"360",IF(RIGHT(AL9,4)="cpou","361",IF(OR(RIGHT(AL9,4)="apou",RIGHT(AL9,6)="molinf"),"363",IF(RIGHT(AL9,4)="netp","364",IF(RIGHT(AL9,4)="cmtr","365",IF(LEFT(AL9,4)="form","873",IF(RIGHT(AL9,7)="ce-cppt","902","")))))))))) | AL12: =IF(AK12="","",IF(OR(AK$3=Recap!$A$50,AK$3=Recap!$A$51,AK$3=Recap!$A$52,AK$3=Recap!$A$53,AK$3=Recap!$A$54,AK$3=Recap!$A$55,AK$3=Recap!$A$56,AK$3=Recap!$A$57,AK$3=Recap!$A$58,AK$3=Recap!$A$59,AK$3=Recap!$A$60,AK$3=Recap!$A$61),(AK11+AL11)/1,AK11+AL11)) | AM12: =IF(RIGHT(AN9,4)="cuht","171",IF(RIGHT(AN9,4)="netu","172",IF(RIGHT(AN9,4)="auht","173",IF(OR(RIGHT(AN9,4)="ppou",RIGHT(AN9,5)="prepa"),"360",IF(RIGHT(AN9,4)="cpou","361",IF(OR(RIGHT(AN9,4)="apou",RIGHT(AN9,6)="molinf"),"363",IF(RIGHT(AN9,4)="netp","364",IF(RIGHT(AN9,4)="cmtr","365",IF(LEFT(AN9,4)="form","873",IF(RIGHT(AN9,7)="ce-cppt","902","")))))))))) | AN12: =IF(AM12="","",IF(OR(AM$3=Recap!$A$50,AM$3=Recap!$A$51,AM$3=Recap!$A$52,AM$3=Recap!$A$53,AM$3=Recap!$A$54,AM$3=Recap!$A$55,AM$3=Recap!$A$56,AM$3=Recap!$A$57,AM$3=Recap!$A$58,AM$3=Recap!$A$59,AM$3=Recap!$A$60,AM$3=Recap!$A$61),(AM11+AN11)/1,AM11+AN11)) | AO12: =IF(RIGHT(AP9,4)="cuht","171",IF(RIGHT(AP9,4)="netu","172",IF(RIGHT(AP9,4)="auht","173",IF(OR(RIGHT(AP9,4)="ppou",RIGHT(AP9,5)="prepa"),"360",IF(RIGHT(AP9,4)="cpou","361",IF(OR(RIGHT(AP9,4)="apou",RIGHT(AP9,6)="molinf"),"363",IF(RIGHT(AP9,4)="netp","364",IF(RIGHT(AP9,4)="cmtr","365",IF(LEFT(AP9,4)="form","873",IF(RIGHT(AP9,7)="ce-cppt","902","")))))))))) | AP12: =IF(AO12="","",IF(OR(AO$3=Recap!$A$50,AO$3=Recap!$A$51,AO$3=Recap!$A$52,AO$3=Recap!$A$53,AO$3=Recap!$A$54,AO$3=Recap!$A$55,AO$3=Recap!$A$56,AO$3=Recap!$A$57,AO$3=Recap!$A$58,AO$3=Recap!$A$59,AO$3=Recap!$A$60,AO$3=Recap!$A$61),(AO11+AP11)/1,AO11+AP11)) | AQ12: =IF(RIGHT(AR9,4)="cuht","171",IF(RIGHT(AR9,4)="netu","172",IF(RIGHT(AR9,4)="auht","173",IF(OR(RIGHT(AR9,4)="ppou",RIGHT(AR9,5)="prepa"),"360",IF(RIGHT(AR9,4)="cpou","361",IF(OR(RIGHT(AR9,4)="apou",RIGHT(AR9,6)="molinf"),"363",IF(RIGHT(AR9,4)="netp","364",IF(RIGHT(AR9,4)="cmtr","365",IF(LEFT(AR9,4)="form","873",IF(RIGHT(AR9,7)="ce-cppt","902","")))))))))) | AR12: =IF(AQ12="","",IF(OR(AQ$3=Recap!$A$50,AQ$3=Recap!$A$51,AQ$3=Recap!$A$52,AQ$3=Recap!$A$53,AQ$3=Recap!$A$54,AQ$3=Recap!$A$55,AQ$3=Recap!$A$56,AQ$3=Recap!$A$57,AQ$3=Recap!$A$58,AQ$3=Recap!$A$59,AQ$3=Recap!$A$60,AQ$3=Recap!$A$61),(AQ11+AR11)/1,AQ11+AR11)) | AT12: =IF(RIGHT(AU9,4)="cuht","171",IF(RIGHT(AU9,4)="netu","172",IF(RIGHT(AU9,4)="auht","173",IF(OR(RIGHT(AU9,4)="ppou",RIGHT(AU9,5)="prepa"),"360",IF(RIGHT(AU9,4)="cpou","361",IF(OR(RIGHT(AU9,4)="apou",RIGHT(AU9,6)="molinf"),"363",IF(RIGHT(AU9,4)="netp","364",IF(RIGHT(AU9,4)="cmtr","365",IF(LEFT(AU9,4)="form","873",IF(RIGHT(AU9,7)="ce-cppt","902","")))))))))) | AU12: =IF(AT12="","",IF(OR(AT$3=Recap!$A$50,AT$3=Recap!$A$51,AT$3=Recap!$A$52,AT$3=Recap!$A$53,AT$3=Recap!$A$54,AT$3=Recap!$A$55,AT$3=Recap!$A$56,AT$3=Recap!$A$57,AT$3=Recap!$A$58,AT$3=Recap!$A$59,AT$3=Recap!$A$60,AT$3=Recap!$A$61),(AT11+AU11)/1,AT11+AU11)) | AV12: =IF(RIGHT(AW9,4)="cuht","171",IF(RIGHT(AW9,4)="netu","172",IF(RIGHT(AW9,4)="auht","173",IF(OR(RIGHT(AW9,4)="ppou",RIGHT(AW9,5)="prepa"),"360",IF(RIGHT(AW9,4)="cpou","361",IF(OR(RIGHT(AW9,4)="apou",RIGHT(AW9,6)="molinf"),"363",IF(RIGHT(AW9,4)="netp","364",IF(RIGHT(AW9,4)="cmtr","365",IF(LEFT(AW9,4)="form","873",IF(RIGHT(AW9,7)="ce-cppt","902","")))))))))) | AW12: =IF(AV12="","",IF(OR(AV$3=Recap!$A$50,AV$3=Recap!$A$51,AV$3=Recap!$A$52,AV$3=Recap!$A$53,AV$3=Recap!$A$54,AV$3=Recap!$A$55,AV$3=Recap!$A$56,AV$3=Recap!$A$57,AV$3=Recap!$A$58,AV$3=Recap!$A$59,AV$3=Recap!$A$60,AV$3=Recap!$A$61),(AV11+AW11)/1,AV11+AW11)) | AX12: =IF(RIGHT(AY9,4)="cuht","171",IF(RIGHT(AY9,4)="netu","172",IF(RIGHT(AY9,4)="auht","173",IF(OR(RIGHT(AY9,4)="ppou",RIGHT(AY9,5)="prepa"),"360",IF(RIGHT(AY9,4)="cpou","361",IF(OR(RIGHT(AY9,4)="apou",RIGHT(AY9,6)="molinf"),"363",IF(RIGHT(AY9,4)="netp","364",IF(RIGHT(AY9,4)="cmtr","365",IF(LEFT(AY9,4)="form","873",IF(RIGHT(AY9,7)="ce-cppt","902","")))))))))) | AY12: =IF(AX12="","",IF(OR(AX$3=Recap!$A$50,AX$3=Recap!$A$51,AX$3=Recap!$A$52,AX$3=Recap!$A$53,AX$3=Recap!$A$54,AX$3=Recap!$A$55,AX$3=Recap!$A$56,AX$3=Recap!$A$57,AX$3=Recap!$A$58,AX$3=Recap!$A$59,AX$3=Recap!$A$60,AX$3=Recap!$A$61),(AX11+AY11)/1,AX11+AY11)) | AZ12: =IF(RIGHT(BA9,4)="cuht","171",IF(RIGHT(BA9,4)="netu","172",IF(RIGHT(BA9,4)="auht","173",IF(OR(RIGHT(BA9,4)="ppou",RIGHT(BA9,5)="prepa"),"360",IF(RIGHT(BA9,4)="cpou","361",IF(OR(RIGHT(BA9,4)="apou",RIGHT(BA9,6)="molinf"),"363",IF(RIGHT(BA9,4)="netp","364",IF(RIGHT(BA9,4)="cmtr","365",IF(LEFT(BA9,4)="form","873",IF(RIGHT(BA9,7)="ce-cppt","902","")))))))))) | BA12: =IF(AZ12="","",IF(OR(AZ$3=Recap!$A$50,AZ$3=Recap!$A$51,AZ$3=Recap!$A$52,AZ$3=Recap!$A$53,AZ$3=Recap!$A$54,AZ$3=Recap!$A$55,AZ$3=Recap!$A$56,AZ$3=Recap!$A$57,AZ$3=Recap!$A$58,AZ$3=Recap!$A$59,AZ$3=Recap!$A$60,AZ$3=Recap!$A$61),(AZ11+BA11)/1,AZ11+BA11)) | BB12: =IF(RIGHT(BC9,4)="cuht","171",IF(RIGHT(BC9,4)="netu","172",IF(RIGHT(BC9,4)="auht","173",IF(OR(RIGHT(BC9,4)="ppou",RIGHT(BC9,5)="prepa"),"360",IF(RIGHT(BC9,4)="cpou","361",IF(OR(RIGHT(BC9,4)="apou",RIGHT(BC9,6)="molinf"),"363",IF(RIGHT(BC9,4)="netp","364",IF(RIGHT(BC9,4)="cmtr","365",IF(LEFT(BC9,4)="form","873",IF(RIGHT(BC9,7)="ce-cppt","902","")))))))))) | BC12: =IF(BB12="","",IF(OR(BB$3=Recap!$A$50,BB$3=Recap!$A$51,BB$3=Recap!$A$52,BB$3=Recap!$A$53,BB$3=Recap!$A$54,BB$3=Recap!$A$55,BB$3=Recap!$A$56,BB$3=Recap!$A$57,BB$3=Recap!$A$58,BB$3=Recap!$A$59,BB$3=Recap!$A$60,BB$3=Recap!$A$61),(BB11+BC11)/1,BB11+BC11)) | BD12: =IF(RIGHT(BE9,4)="cuht","171",IF(RIGHT(BE9,4)="netu","172",IF(RIGHT(BE9,4)="auht","173",IF(OR(RIGHT(BE9,4)="ppou",RIGHT(BE9,5)="prepa"),"360",IF(RIGHT(BE9,4)="cpou","361",IF(OR(RIGHT(BE9,4)="apou",RIGHT(BE9,6)="molinf"),"363",IF(RIGHT(BE9,4)="netp","364",IF(RIGHT(BE9,4)="cmtr","365",IF(LEFT(BE9,4)="form","873",IF(RIGHT(BE9,7)="ce-cppt","902","")))))))))) | BE12: =IF(BD12="","",IF(OR(BD$3=Recap!$A$50,BD$3=Recap!$A$51,BD$3=Recap!$A$52,BD$3=Recap!$A$53,BD$3=Recap!$A$54,BD$3=Recap!$A$55,BD$3=Recap!$A$56,BD$3=Recap!$A$57,BD$3=Recap!$A$58,BD$3=Recap!$A$59,BD$3=Recap!$A$60,BD$3=Recap!$A$61),(BD11+BE11)/1,BD11+BE11)) | BF12: =IF(RIGHT(BG9,4)="cuht","171",IF(RIGHT(BG9,4)="netu","172",IF(RIGHT(BG9,4)="auht","173",IF(OR(RIGHT(BG9,4)="ppou",RIGHT(BG9,5)="prepa"),"360",IF(RIGHT(BG9,4)="cpou","361",IF(OR(RIGHT(BG9,4)="apou",RIGHT(BG9,6)="molinf"),"363",IF(RIGHT(BG9,4)="netp","364",IF(RIGHT(BG9,4)="cmtr","365",IF(LEFT(BG9,4)="form","873",IF(RIGHT(BG9,7)="ce-cppt","902","")))))))))) | BG12: =IF(BF12="","",IF(OR(BF$3=Recap!$A$50,BF$3=Recap!$A$51,BF$3=Recap!$A$52,BF$3=Recap!$A$53,BF$3=Recap!$A$54,BF$3=Recap!$A$55,BF$3=Recap!$A$56,BF$3=Recap!$A$57,BF$3=Recap!$A$58,BF$3=Recap!$A$59,BF$3=Recap!$A$60,BF$3=Recap!$A$61),(BF11+BG11)/1,BF11+BG11))
A13: tota | C13: f | E13: c | F13: 0.16666667 | G13: pause cuht | I13: r | J13: 0.25 | K13: pause cuht | P13: 0.20833333 | Q13: pause cuht | R13: 0.25 | S13: pause ce-cppt | T13: 0.25 | U13: pause cuht | V13: 0.20833333 | W13: pause cuht | X13: 0.20833333 | Y13: pause cuht | AD13: =SUM(P15:AC15) -> 1.7916667 | AF13: r ou c | AH13: f | AJ13: c | AL13: c | AN13: c | AS13: =SUM(AE15:AR15) -> 0 | AU13: c | AY13: c 2019 | BA13: c 2019 | BC13: c 2019 | BH13: =SUM(AT15:BG15) -> 0
F14: 0.58333333 | J14: 0.58333333 | P14: 0.58333333 | R14: 0.58333333 | T14: 0.58333333 | V14: 0.58333333 | X14: 0.58333333
B15: =IF(B$3>$BI$4,0,IF(OR(ISBLANK(B13),ISBLANK(B14),ISBLANK(C13),LEFT(C13,4)="jour",LEFT(C13,4)="form"),0,IF(COUNTIF(fériés,B$3)>0,MOD((B14-B13),1)*1,MOD((B14-B13),1)))) -> 0 | C15: =IF(B$3>$BI$4,0,IF(AND(ISNUMBER(B13),ISNUMBER(B14),OR(LEFT(C13,4)="jour",LEFT(C13,4)="form")),IF(COUNTIF(fériés,B$3)>0,MOD(-$BH$4+(B14-B13),1)*1,MOD(-$BH$4+(B14-B13),1)),IF(AND(ISBLANK(B13),ISBLANK(B14)),IF(OR(C13="r",C13="c",C13="a",C13="m",C13="f",C13="cp",C13="s",C13="congé parent"),$BH$3,0),0))) -> 0.31666667 | D15: =IF(D$3>$BI$4,0,IF(OR(ISBLANK(D13),ISBLANK(D14),ISBLANK(E13),LEFT(E13,4)="jour",LEFT(E13,4)="form"),0,IF(COUNTIF(fériés,D$3)>0,MOD((D14-D13),1)*1,MOD((D14-D13),1)))) -> 0 | E15: =IF(D$3>$BI$4,0,IF(AND(ISNUMBER(D13),ISNUMBER(D14),OR(LEFT(E13,4)="jour",LEFT(E13,4)="form")),IF(COUNTIF(fériés,D$3)>0,MOD(-$BH$4+(D14-D13),1)*1,MOD(-$BH$4+(D14-D13),1)),IF(AND(ISBLANK(D13),ISBLANK(D14)),IF(OR(E13="r",E13="c",E13="a",E13="m",E13="f",E13="cp",E13="s",E13="congé parent"),$BH$3,0),0))) -> 0.31666667 | F15: =IF(F$3>$BI$4,0,IF(OR(ISBLANK(F13),ISBLANK(F14),ISBLANK(G13),LEFT(G13,4)="jour",LEFT(G13,4)="form"),0,IF(COUNTIF(fériés,F$3)>0,MOD((F14-F13),1)*1,MOD((F14-F13),1)))) -> 0.41666667 | G15: =IF(F$3>$BI$4,0,IF(AND(ISNUMBER(F13),ISNUMBER(F14),OR(LEFT(G13,4)="jour",LEFT(G13,4)="form")),IF(COUNTIF(fériés,F$3)>0,MOD(-$BH$4+(F14-F13),1)*1,MOD(-$BH$4+(F14-F13),1)),IF(AND(ISBLANK(F13),ISBLANK(F14)),IF(OR(G13="r",G13="c",G13="a",G13="m",G13="f",G13="cp",G13="s",G13="congé parent"),$BH$3,0),0))) -> 0 | H15: =IF(H$3>$BI$4,0,IF(OR(ISBLANK(H13),ISBLANK(H14),ISBLANK(I13),LEFT(I13,4)="jour",LEFT(I13,4)="form"),0,IF(COUNTIF(fériés,H$3)>0,MOD((H14-H13),1)*1,MOD((H14-H13),1)))) -> 0 | I15: =IF(H$3>$BI$4,0,IF(AND(ISNUMBER(H13),ISNUMBER(H14),OR(LEFT(I13,4)="jour",LEFT(I13,4)="form")),IF(COUNTIF(fériés,H$3)>0,MOD(-$BH$4+(H14-H13),1)*1,MOD(-$BH$4+(H14-H13),1)),IF(AND(ISBLANK(H13),ISBLANK(H14)),IF(OR(I13="r",I13="c",I13="a",I13="m",I13="f",I13="cp",I13="s",I13="congé parent"),$BH$3,0),0))) -> 0.31666667 | J15: =IF(J$3>$BI$4,0,IF(OR(ISBLANK(J13),ISBLANK(J14),ISBLANK(K13),LEFT(K13,4)="jour",LEFT(K13,4)="form"),0,IF(COUNTIF(fériés,J$3)>0,MOD((J14-J13),1)*1,MOD((J14-J13),1)))) -> 0.33333333 | K15: =IF(J$3>$BI$4,0,IF(AND(ISNUMBER(J13),ISNUMBER(J14),OR(LEFT(K13,4)="jour",LEFT(K13,4)="form")),IF(COUNTIF(fériés,J$3)>0,MOD(-$BH$4+(J14-J13),1)*1,MOD(-$BH$4+(J14-J13),1)),IF(AND(ISBLANK(J13),ISBLANK(J14)),IF(OR(K13="r",K13="c",K13="a",K13="m",K13="f",K13="cp",K13="s",K13="congé parent"),$BH$3,0),0))) -> 0 | L15: =IF(L$3>$BI$4,0,IF(OR(ISBLANK(L13),ISBLANK(L14),ISBLANK(M13),LEFT(M13,4)="jour",LEFT(M13,4)="form"),0,IF(COUNTIF(fériés,L$3)>0,MOD((L14-L13),1)*1,MOD((L14-L13),1)))) -> 0 | M15: =IF(L$3>$BI$4,0,IF(AND(ISNUMBER(L13),ISNUMBER(L14),OR(LEFT(M13,4)="jour",LEFT(M13,4)="form")),IF(COUNTIF(fériés,L$3)>0,MOD(-$BH$4+(L14-L13),1)*1,MOD(-$BH$4+(L14-L13),1)),IF(AND(ISBLANK(L13),ISBLANK(L14)),IF(OR(M13="r",M13="c",M13="a",M13="m",M13="f",M13="cp",M13="s",M13="congé parent"),$BH$3,0),0))) -> 0 | N15: =IF(N$3>$BI$4,0,IF(OR(ISBLANK(N13),ISBLANK(N14),ISBLANK(O13),LEFT(O13,4)="jour",LEFT(O13,4)="form"),0,IF(COUNTIF(fériés,N$3)>0,MOD((N14-N13),1)*1,MOD((N14-N13),1)))) -> 0 | O15: =IF(N$3>$BI$4,0,IF(AND(ISNUMBER(N13),ISNUMBER(N14),OR(LEFT(O13,4)="jour",LEFT(O13,4)="form")),IF(COUNTIF(fériés,N$3)>0,MOD(-$BH$4+(N14-N13),1)*1,MOD(-$BH$4+(N14-N13),1)),IF(AND(ISBLANK(N13),ISBLANK(N14)),IF(OR(O13="r",O13="c",O13="a",O13="m",O13="f",O13="cp",O13="s",O13="congé parent"),$BH$3,0),0))) -> 0 | P15: =IF(P$3>$BI$4,0,IF(OR(ISBLANK(P13),ISBLANK(P14),ISBLANK(Q13),LEFT(Q13,4)="jour",LEFT(Q13,4)="form"),0,IF(COUNTIF(fériés,P$3)>0,MOD((P14-P13),1)*1,MOD((P14-P13),1)))) -> 0.375 | Q15: =IF(P$3>$BI$4,0,IF(AND(ISNUMBER(P13),ISNUMBER(P14),OR(LEFT(Q13,4)="jour",LEFT(Q13,4)="form")),IF(COUNTIF(fériés,P$3)>0,MOD(-$BH$4+(P14-P13),1)*1,MOD(-$BH$4+(P14-P13),1)),IF(AND(ISBLANK(P13),ISBLANK(P14)),IF(OR(Q13="r",Q13="c",Q13="a",Q13="m",Q13="f",Q13="cp",Q13="s",Q13="congé parent"),$BH$3,0),0))) -> 0 | R15: =IF(R$3>$BI$4,0,IF(OR(ISBLANK(R13),ISBLANK(R14),ISBLANK(S13),LEFT(S13,4)="jour",LEFT(S13,4)="form"),0,IF(COUNTIF(fériés,R$3)>0,MOD((R14-R13),1)*1,MOD((R14-R13),1)))) -> 0.33333333 | S15: =IF(R$3>$BI$4,0,IF(AND(ISNUMBER(R13),ISNUMBER(R14),OR(LEFT(S13,4)="jour",LEFT(S13,4)="form")),IF(COUNTIF(fériés,R$3)>0,MOD(-$BH$4+(R14-R13),1)*1,MOD(-$BH$4+(R14-R13),1)),IF(AND(ISBLANK(R13),ISBLANK(R14)),IF(OR(S13="r",S13="c",S13="a",S13="m",S13="f",S13="cp",S13="s",S13="congé parent"),$BH$3,0),0))) -> 0 | T15: =IF(T$3>$BI$4,0,IF(OR(ISBLANK(T13),ISBLANK(T14),ISBLANK(U13),LEFT(U13,4)="jour",LEFT(U13,4)="form"),0,IF(COUNTIF(fériés,T$3)>0,MOD((T14-T13),1)*1,MOD((T14-T13),1)))) -> 0.33333333 | U15: =IF(T$3>$BI$4,0,IF(AND(ISNUMBER(T13),ISNUMBER(T14),OR(LEFT(U13,4)="jour",LEFT(U13,4)="form")),IF(COUNTIF(fériés,T$3)>0,MOD(-$BH$4+(T14-T13),1)*1,MOD(-$BH$4+(T14-T13),1)),IF(AND(ISBLANK(T13),ISBLANK(T14)),IF(OR(U13="r",U13="c",U13="a",U13="m",U13="f",U13="cp",U13="s",U13="congé parent"),$BH$3,0),0))) -> 0 | V15: =IF(V$3>$BI$4,0,IF(OR(ISBLANK(V13),ISBLANK(V14),ISBLANK(W13),LEFT(W13,4)="jour",LEFT(W13,4)="form"),0,IF(COUNTIF(fériés,V$3)>0,MOD((V14-V13),1)*1,MOD((V14-V13),1)))) -> 0.375 | W15: =IF(V$3>$BI$4,0,IF(AND(ISNUMBER(V13),ISNUMBER(V14),OR(LEFT(W13,4)="jour",LEFT(W13,4)="form")),IF(COUNTIF(fériés,V$3)>0,MOD(-$BH$4+(V14-V13),1)*1,MOD(-$BH$4+(V14-V13),1)),IF(AND(ISBLANK(V13),ISBLANK(V14)),IF(OR(W13="r",W13="c",W13="a",W13="m",W13="f",W13="cp",W13="s",W13="congé parent"),$BH$3,0),0))) -> 0 | X15: =IF(X$3>$BI$4,0,IF(OR(ISBLANK(X13),ISBLANK(X14),ISBLANK(Y13),LEFT(Y13,4)="jour",LEFT(Y13,4)="form"),0,IF(COUNTIF(fériés,X$3)>0,MOD((X14-X13),1)*1,MOD((X14-X13),1)))) -> 0.375 | Y15: =IF(X$3>$BI$4,0,IF(AND(ISNUMBER(X13),ISNUMBER(X14),OR(LEFT(Y13,4)="jour",LEFT(Y13,4)="form")),IF(COUNTIF(fériés,X$3)>0,MOD(-$BH$4+(X14-X13),1)*1,MOD(-$BH$4+(X14-X13),1)),IF(AND(ISBLANK(X13),ISBLANK(X14)),IF(OR(Y13="r",Y13="c",Y13="a",Y13="m",Y13="f",Y13="cp",Y13="s",Y13="congé parent"),$BH$3,0),0))) -> 0 | Z15: =IF(Z$3>$BI$4,0,IF(OR(ISBLANK(Z13),ISBLANK(Z14),ISBLANK(AA13),LEFT(AA13,4)="jour",LEFT(AA13,4)="form"),0,IF(COUNTIF(fériés,Z$3)>0,MOD((Z14-Z13),1)*1,MOD((Z14-Z13),1)))) -> 0 | AA15: =IF(Z$3>$BI$4,0,IF(AND(ISNUMBER(Z13),ISNUMBER(Z14),OR(LEFT(AA13,4)="jour",LEFT(AA13,4)="form")),IF(COUNTIF(fériés,Z$3)>0,MOD(-$BH$4+(Z14-Z13),1)*1,MOD(-$BH$4+(Z14-Z13),1)),IF(AND(ISBLANK(Z13),ISBLANK(Z14)),IF(OR(AA13="r",AA13="c",AA13="a",AA13="m",AA13="f",AA13="cp",AA13="s",AA13="congé parent"),$BH$3,0),0))) -> 0 | AB15: =IF(AB$3>$BI$4,0,IF(OR(ISBLANK(AB13),ISBLANK(AB14),ISBLANK(AC13),LEFT(AC13,4)="jour",LEFT(AC13,4)="form"),0,IF(COUNTIF(fériés,AB$3)>0,MOD((AB14-AB13),1)*1,MOD((AB14-AB13),1)))) -> 0 | AC15: =IF(AB$3>$BI$4,0,IF(AND(ISNUMBER(AB13),ISNUMBER(AB14),OR(LEFT(AC13,4)="jour",LEFT(AC13,4)="form")),IF(COUNTIF(fériés,AB$3)>0,MOD(-$BH$4+(AB14-AB13),1)*1,MOD(-$BH$4+(AB14-AB13),1)),IF(AND(ISBLANK(AB13),ISBLANK(AB14)),IF(OR(AC13="r",AC13="c",AC13="a",AC13="m",AC13="f",AC13="cp",AC13="s",AC13="congé parent"),$BH$3,0),0))) -> 0 | AE15: =IF(AE$3>$BI$4,0,IF(OR(ISBLANK(AE13),ISBLANK(AE14),ISBLANK(AF13),LEFT(AF13,4)="jour",LEFT(AF13,4)="form"),0,IF(COUNTIF(fériés,AE$3)>0,MOD((AE14-AE13),1)*1,MOD((AE14-AE13),1)))) -> 0 | AF15: =IF(AE$3>$BI$4,0,IF(AND(ISNUMBER(AE13),ISNUMBER(AE14),OR(LEFT(AF13,4)="jour",LEFT(AF13,4)="form")),IF(COUNTIF(fériés,AE$3)>0,MOD(-$BH$4+(AE14-AE13),1)*1,MOD(-$BH$4+(AE14-AE13),1)),IF(AND(ISBLANK(AE13),ISBLANK(AE14)),IF(OR(AF13="r",AF13="c",AF13="a",AF13="m",AF13="f",AF13="cp",AF13="s",AF13="congé parent"),$BH$3,0),0))) -> 0 | AG15: =IF(AG$3>$BI$4,0,IF(OR(ISBLANK(AG13),ISBLANK(AG14),ISBLANK(AH13),LEFT(AH13,4)="jour",LEFT(AH13,4)="form"),0,IF(COUNTIF(fériés,AG$3)>0,MOD((AG14-AG13),1)*1,MOD((AG14-AG13),1)))) -> 0 | AH15: =IF(AG$3>$BI$4,0,IF(AND(ISNUMBER(AG13),ISNUMBER(AG14),OR(LEFT(AH13,4)="jour",LEFT(AH13,4)="form")),IF(COUNTIF(fériés,AG$3)>0,MOD(-$BH$4+(AG14-AG13),1)*1,MOD(-$BH$4+(AG14-AG13),1)),IF(AND(ISBLANK(AG13),ISBLANK(AG14)),IF(OR(AH13="r",AH13="c",AH13="a",AH13="m",AH13="f",AH13="cp",AH13="s",AH13="congé parent"),$BH$3,0),0))) -> 0 | AI15: =IF(AI$3>$BI$4,0,IF(OR(ISBLANK(AI13),ISBLANK(AI14),ISBLANK(AJ13),LEFT(AJ13,4)="jour",LEFT(AJ13,4)="form"),0,IF(COUNTIF(fériés,AI$3)>0,MOD((AI14-AI13),1)*1,MOD((AI14-AI13),1)))) -> 0 | AJ15: =IF(AI$3>$BI$4,0,IF(AND(ISNUMBER(AI13),ISNUMBER(AI14),OR(LEFT(AJ13,4)="jour",LEFT(AJ13,4)="form")),IF(COUNTIF(fériés,AI$3)>0,MOD(-$BH$4+(AI14-AI13),1)*1,MOD(-$BH$4+(AI14-AI13),1)),IF(AND(ISBLANK(AI13),ISBLANK(AI14)),IF(OR(AJ13="r",AJ13="c",AJ13="a",AJ13="m",AJ13="f",AJ13="cp",AJ13="s",AJ13="congé parent"),$BH$3,0),0))) -> 0 | AK15: =IF(AK$3>$BI$4,0,IF(OR(ISBLANK(AK13),ISBLANK(AK14),ISBLANK(AL13),LEFT(AL13,4)="jour",LEFT(AL13,4)="form"),0,IF(COUNTIF(fériés,AK$3)>0,MOD((AK14-AK13),1)*1,MOD((AK14-AK13),1)))) -> 0 | AL15: =IF(AK$3>$BI$4,0,IF(AND(ISNUMBER(AK13),ISNUMBER(AK14),OR(LEFT(AL13,4)="jour",LEFT(AL13,4)="form")),IF(COUNTIF(fériés,AK$3)>0,MOD(-$BH$4+(AK14-AK13),1)*1,MOD(-$BH$4+(AK14-AK13),1)),IF(AND(ISBLANK(AK13),ISBLANK(AK14)),IF(OR(AL13="r",AL13="c",AL13="a",AL13="m",AL13="f",AL13="cp",AL13="s",AL13="congé parent"),$BH$3,0),0))) -> 0 | AM15: =IF(AM$3>$BI$4,0,IF(OR(ISBLANK(AM13),ISBLANK(AM14),ISBLANK(AN13),LEFT(AN13,4)="jour",LEFT(AN13,4)="form"),0,IF(COUNTIF(fériés,AM$3)>0,MOD((AM14-AM13),1)*1,MOD((AM14-AM13),1)))) -> 0 | AN15: =IF(AM$3>$BI$4,0,IF(AND(ISNUMBER(AM13),ISNUMBER(AM14),OR(LEFT(AN13,4)="jour",LEFT(AN13,4)="form")),IF(COUNTIF(fériés,AM$3)>0,MOD(-$BH$4+(AM14-AM13),1)*1,MOD(-$BH$4+(AM14-AM13),1)),IF(AND(ISBLANK(AM13),ISBLANK(AM14)),IF(OR(AN13="r",AN13="c",AN13="a",AN13="m",AN13="f",AN13="cp",AN13="s",AN13="congé parent"),$BH$3,0),0))) -> 0 | AO15: =IF(AO$3>$BI$4,0,IF(OR(ISBLANK(AO13),ISBLANK(AO14),ISBLANK(AP13),LEFT(AP13,4)="jour",LEFT(AP13,4)="form"),0,IF(COUNTIF(fériés,AO$3)>0,MOD((AO14-AO13),1)*1,MOD((AO14-AO13),1)))) -> 0 | AP15: =IF(AO$3>$BI$4,0,IF(AND(ISNUMBER(AO13),ISNUMBER(AO14),OR(LEFT(AP13,4)="jour",LEFT(AP13,4)="form")),IF(COUNTIF(fériés,AO$3)>0,MOD(-$BH$4+(AO14-AO13),1)*1,MOD(-$BH$4+(AO14-AO13),1)),IF(AND(ISBLANK(AO13),ISBLANK(AO14)),IF(OR(AP13="r",AP13="c",AP13="a",AP13="m",AP13="f",AP13="cp",AP13="s",AP13="congé parent"),$BH$3,0),0))) -> 0 | AQ15: =IF(AQ$3>$BI$4,0,IF(OR(ISBLANK(AQ13),ISBLANK(AQ14),ISBLANK(AR13),LEFT(AR13,4)="jour",LEFT(AR13,4)="form"),0,IF(COUNTIF(fériés,AQ$3)>0,MOD((AQ14-AQ13),1)*1,MOD((AQ14-AQ13),1)))) -> 0 | AR15: =IF(AQ$3>$BI$4,0,IF(AND(ISNUMBER(AQ13),ISNUMBER(AQ14),OR(LEFT(AR13,4)="jour",LEFT(AR13,4)="form")),IF(COUNTIF(fériés,AQ$3)>0,MOD(-$BH$4+(AQ14-AQ13),1)*1,MOD(-$BH$4+(AQ14-AQ13),1)),IF(AND(ISBLANK(AQ13),ISBLANK(AQ14)),IF(OR(AR13="r",AR13="c",AR13="a",AR13="m",AR13="f",AR13="cp",AR13="s",AR13="congé parent"),$BH$3,0),0))) -> 0 | AT15: =IF(AT$3>$BI$4,0,IF(OR(ISBLANK(AT13),ISBLANK(AT14),ISBLANK(AU13),LEFT(AU13,4)="jour",LEFT(AU13,4)="form"),0,IF(COUNTIF(fériés,AT$3)>0,MOD((AT14-AT13),1)*1,MOD((AT14-AT13),1)))) -> 0 | AU15: =IF(AT$3>$BI$4,0,IF(AND(ISNUMBER(AT13),ISNUMBER(AT14),OR(LEFT(AU13,4)="jour",LEFT(AU13,4)="form")),IF(COUNTIF(fériés,AT$3)>0,MOD(-$BH$4+(AT14-AT13),1)*1,MOD(-$BH$4+(AT14-AT13),1)),IF(AND(ISBLANK(AT13),ISBLANK(AT14)),IF(OR(AU13="r",AU13="c",AU13="a",AU13="m",AU13="f",AU13="cp",AU13="s",AU13="congé parent"),$BH$3,0),0))) -> 0 | AV15: =IF(AV$3>$BI$4,0,IF(OR(ISBLANK(AV13),ISBLANK(AV14),ISBLANK(AW13),LEFT(AW13,4)="jour",LEFT(AW13,4)="form"),0,IF(COUNTIF(fériés,AV$3)>0,MOD((AV14-AV13),1)*1,MOD((AV14-AV13),1)))) -> 0 | AW15: =IF(AV$3>$BI$4,0,IF(AND(ISNUMBER(AV13),ISNUMBER(AV14),OR(LEFT(AW13,4)="jour",LEFT(AW13,4)="form")),IF(COUNTIF(fériés,AV$3)>0,MOD(-$BH$4+(AV14-AV13),1)*1,MOD(-$BH$4+(AV14-AV13),1)),IF(AND(ISBLANK(AV13),ISBLANK(AV14)),IF(OR(AW13="r",AW13="c",AW13="a",AW13="m",AW13="f",AW13="cp",AW13="s",AW13="congé parent"),$BH$3,0),0))) -> 0 | AX15: =IF(AX$3>$BI$4,0,IF(OR(ISBLANK(AX13),ISBLANK(AX14),ISBLANK(AY13),LEFT(AY13,4)="jour",LEFT(AY13,4)="form"),0,IF(COUNTIF(fériés,AX$3)>0,MOD((AX14-AX13),1)*1,MOD((AX14-AX13),1)))) -> 0 | AY15: =IF(AX$3>$BI$4,0,IF(AND(ISNUMBER(AX13),ISNUMBER(AX14),OR(LEFT(AY13,4)="jour",LEFT(AY13,4)="form")),IF(COUNTIF(fériés,AX$3)>0,MOD(-$BH$4+(AX14-AX13),1)*1,MOD(-$BH$4+(AX14-AX13),1)),IF(AND(ISBLANK(AX13),ISBLANK(AX14)),IF(OR(AY13="r",AY13="c",AY13="a",AY13="m",AY13="f",AY13="cp",AY13="s",AY13="congé parent"),$BH$3,0),0))) -> 0 | AZ15: =IF(AZ$3>$BI$4,0,IF(OR(ISBLANK(AZ13),ISBLANK(AZ14),ISBLANK(BA13),LEFT(BA13,4)="jour",LEFT(BA13,4)="form"),0,IF(COUNTIF(fériés,AZ$3)>0,MOD((AZ14-AZ13),1)*1,MOD((AZ14-AZ13),1)))) -> 0 | BA15: =IF(AZ$3>$BI$4,0,IF(AND(ISNUMBER(AZ13),ISNUMBER(AZ14),OR(LEFT(BA13,4)="jour",LEFT(BA13,4)="form")),IF(COUNTIF(fériés,AZ$3)>0,MOD(-$BH$4+(AZ14-AZ13),1)*1,MOD(-$BH$4+(AZ14-AZ13),1)),IF(AND(ISBLANK(AZ13),ISBLANK(AZ14)),IF(OR(BA13="r",BA13="c",BA13="a",BA13="m",BA13="f",BA13="cp",BA13="s",BA13="congé parent"),$BH$3,0),0))) -> 0 | BB15: =IF(BB$3>$BI$4,0,IF(OR(ISBLANK(BB13),ISBLANK(BB14),ISBLANK(BC13),LEFT(BC13,4)="jour",LEFT(BC13,4)="form"),0,IF(COUNTIF(fériés,BB$3)>0,MOD((BB14-BB13),1)*1,MOD((BB14-BB13),1)))) -> 0 | BC15: =IF(BB$3>$BI$4,0,IF(AND(ISNUMBER(BB13),ISNUMBER(BB14),OR(LEFT(BC13,4)="jour",LEFT(BC13,4)="form")),IF(COUNTIF(fériés,BB$3)>0,MOD(-$BH$4+(BB14-BB13),1)*1,MOD(-$BH$4+(BB14-BB13),1)),IF(AND(ISBLANK(BB13),ISBLANK(BB14)),IF(OR(BC13="r",BC13="c",BC13="a",BC13="m",BC13="f",BC13="cp",BC13="s",BC13="congé parent"),$BH$3,0),0))) -> 0 | BD15: =IF(BD$3>$BI$4,0,IF(OR(ISBLANK(BD13),ISBLANK(BD14),ISBLANK(BE13),LEFT(BE13,4)="jour",LEFT(BE13,4)="form"),0,IF(COUNTIF(fériés,BD$3)>0,MOD((BD14-BD13),1)*1,MOD((BD14-BD13),1)))) -> 0 | BE15: =IF(BD$3>$BI$4,0,IF(AND(ISNUMBER(BD13),ISNUMBER(BD14),OR(LEFT(BE13,4)="jour",LEFT(BE13,4)="form")),IF(COUNTIF(fériés,BD$3)>0,MOD(-$BH$4+(BD14-BD13),1)*1,MOD(-$BH$4+(BD14-BD13),1)),IF(AND(ISBLANK(BD13),ISBLANK(BD14)),IF(OR(BE13="r",BE13="c",BE13="a",BE13="m",BE13="f",BE13="cp",BE13="s",BE13="congé parent"),$BH$3,0),0))) -> 0 | BF15: =IF(BF$3>$BI$4,0,IF(OR(ISBLANK(BF13),ISBLANK(BF14),ISBLANK(BG13),LEFT(BG13,4)="jour",LEFT(BG13,4)="form"),0,IF(COUNTIF(fériés,BF$3)>0,MOD((BF14-BF13),1)*1,MOD((BF14-BF13),1)))) -> 0 | BG15: =IF(BF$3>$BI$4,0,IF(AND(ISNUMBER(BF13),ISNUMBER(BF14),OR(LEFT(BG13,4)="jour",LEFT(BG13,4)="form")),IF(COUNTIF(fériés,BF$3)>0,MOD(-$BH$4+(BF14-BF13),1)*1,MOD(-$BH$4+(BF14-BF13),1)),IF(AND(ISBLANK(BF13),ISBLANK(BF14)),IF(OR(BG13="r",BG13="c",BG13="a",BG13="m",BG13="f",BG13="cp",BG13="s",BG13="congé parent"),$BH$3,0),0))) -> 0 | BH15: =SUM(B15:BG15) -> 3.4916667
B16: =IF(RIGHT(C13,4)="cuht","171",IF(RIGHT(C13,4)="netu","172",IF(RIGHT(C13,4)="auht","173",IF(OR(RIGHT(C13,4)="ppou",RIGHT(C13,5)="prepa"),"360",IF(RIGHT(C13,4)="cpou","361",IF(OR(RIGHT(C13,4)="apou",RIGHT(C13,6)="molinf"),"363",IF(RIGHT(C13,4)="netp","364",IF(RIGHT(C13,4)="cmtr","365",IF(LEFT(C13,4)="form","873",IF(RIGHT(C13,7)="ce-cppt","902","")))))))))) | C16: =IF(B16="","",IF(OR(B$3=Recap!$A$50,B$3=Recap!$A$51,B$3=Recap!$A$52,B$3=Recap!$A$53,B$3=Recap!$A$54,B$3=Recap!$A$55,B$3=Recap!$A$56,B$3=Recap!$A$57,B$3=Recap!$A$58,B$3=Recap!$A$59,B$3=Recap!$A$60,B$3=Recap!$A$61),(B15+C15)/1,B15+C15)) | D16: =IF(RIGHT(E13,4)="cuht","171",IF(RIGHT(E13,4)="netu","172",IF(RIGHT(E13,4)="auht","173",IF(OR(RIGHT(E13,4)="ppou",RIGHT(E13,5)="prepa"),"360",IF(RIGHT(E13,4)="cpou","361",IF(OR(RIGHT(E13,4)="apou",RIGHT(E13,6)="molinf"),"363",IF(RIGHT(E13,4)="netp","364",IF(RIGHT(E13,4)="cmtr","365",IF(LEFT(E13,4)="form","873",IF(RIGHT(E13,7)="ce-cppt","902","")))))))))) | E16: =IF(D16="","",IF(OR(D$3=Recap!$A$50,D$3=Recap!$A$51,D$3=Recap!$A$52,D$3=Recap!$A$53,D$3=Recap!$A$54,D$3=Recap!$A$55,D$3=Recap!$A$56,D$3=Recap!$A$57,D$3=Recap!$A$58,D$3=Recap!$A$59,D$3=Recap!$A$60,D$3=Recap!$A$61),(D15+E15)/1,D15+E15)) | F16: =IF(RIGHT(G13,4)="cuht","171",IF(RIGHT(G13,4)="netu","172",IF(RIGHT(G13,4)="auht","173",IF(OR(RIGHT(G13,4)="ppou",RIGHT(G13,5)="prepa"),"360",IF(RIGHT(G13,4)="cpou","361",IF(OR(RIGHT(G13,4)="apou",RIGHT(G13,6)="molinf"),"363",IF(RIGHT(G13,4)="netp","364",IF(RIGHT(G13,4)="cmtr","365",IF(LEFT(G13,4)="form","873",IF(RIGHT(G13,7)="ce-cppt","902","")))))))))) -> 171 | G16: =IF(F16="","",IF(OR(F$3=Recap!$A$50,F$3=Recap!$A$51,F$3=Recap!$A$52,F$3=Recap!$A$53,F$3=Recap!$A$54,F$3=Recap!$A$55,F$3=Recap!$A$56,F$3=Recap!$A$57,F$3=Recap!$A$58,F$3=Recap!$A$59,F$3=Recap!$A$60,F$3=Recap!$A$61),(F15+G15)/1,F15+G15)) -> 0.41666667 | H16: =IF(RIGHT(I13,4)="cuht","171",IF(RIGHT(I13,4)="netu","172",IF(RIGHT(I13,4)="auht","173",IF(OR(RIGHT(I13,4)="ppou",RIGHT(I13,5)="prepa"),"360",IF(RIGHT(I13,4)="cpou","361",IF(OR(RIGHT(I13,4)="apou",RIGHT(I13,6)="molinf"),"363",IF(RIGHT(I13,4)="netp","364",IF(RIGHT(I13,4)="cmtr","365",IF(LEFT(I13,4)="form","873",IF(RIGHT(I13,7)="ce-cppt","902","")))))))))) | I16: =IF(H16="","",IF(OR(H$3=Recap!$A$50,H$3=Recap!$A$51,H$3=Recap!$A$52,H$3=Recap!$A$53,H$3=Recap!$A$54,H$3=Recap!$A$55,H$3=Recap!$A$56,H$3=Recap!$A$57,H$3=Recap!$A$58,H$3=Recap!$A$59,H$3=Recap!$A$60,H$3=Recap!$A$61),(H15+I15)/1,H15+I15)) | J16: =IF(RIGHT(K13,4)="cuht","171",IF(RIGHT(K13,4)="netu","172",IF(RIGHT(K13,4)="auht","173",IF(OR(RIGHT(K13,4)="ppou",RIGHT(K13,5)="prepa"),"360",IF(RIGHT(K13,4)="cpou","361",IF(OR(RIGHT(K13,4)="apou",RIGHT(K13,6)="molinf"),"363",IF(RIGHT(K13,4)="netp","364",IF(RIGHT(K13,4)="cmtr","365",IF(LEFT(K13,4)="form","873",IF(RIGHT(K13,7)="ce-cppt","902","")))))))))) -> 171 | K16: =IF(J16="","",IF(OR(J$3=Recap!$A$50,J$3=Recap!$A$51,J$3=Recap!$A$52,J$3=Recap!$A$53,J$3=Recap!$A$54,J$3=Recap!$A$55,J$3=Recap!$A$56,J$3=Recap!$A$57,J$3=Recap!$A$58,J$3=Recap!$A$59,J$3=Recap!$A$60,J$3=Recap!$A$61),(J15+K15)/1,J15+K15)) -> 0.33333333 | L16: =IF(RIGHT(M13,4)="cuht","171",IF(RIGHT(M13,4)="netu","172",IF(RIGHT(M13,4)="auht","173",IF(OR(RIGHT(M13,4)="ppou",RIGHT(M13,5)="prepa"),"360",IF(RIGHT(M13,4)="cpou","361",IF(OR(RIGHT(M13,4)="apou",RIGHT(M13,6)="molinf"),"363",IF(RIGHT(M13,4)="netp","364",IF(RIGHT(M13,4)="cmtr","365",IF(LEFT(M13,4)="form","873",IF(RIGHT(M13,7)="ce-cppt","902","")))))))))) | M16: =IF(L16="","",IF(OR(L$3=Recap!$A$50,L$3=Recap!$A$51,L$3=Recap!$A$52,L$3=Recap!$A$53,L$3=Recap!$A$54,L$3=Recap!$A$55,L$3=Recap!$A$56,L$3=Recap!$A$57,L$3=Recap!$A$58,L$3=Recap!$A$59,L$3=Recap!$A$60,L$3=Recap!$A$61),(L15+M15)/1,L15+M15)) | N16: =IF(RIGHT(O13,4)="cuht","171",IF(RIGHT(O13,4)="netu","172",IF(RIGHT(O13,4)="auht","173",IF(OR(RIGHT(O13,4)="ppou",RIGHT(O13,5)="prepa"),"360",IF(RIGHT(O13,4)="cpou","361",IF(OR(RIGHT(O13,4)="apou",RIGHT(O13,6)="molinf"),"363",IF(RIGHT(O13,4)="netp","364",IF(RIGHT(O13,4)="cmtr","365",IF(LEFT(O13,4)="form","873",IF(RIGHT(O13,7)="ce-cppt","902","")))))))))) | O16: =IF(N16="","",IF(OR(N$3=Recap!$A$50,N$3=Recap!$A$51,N$3=Recap!$A$52,N$3=Recap!$A$53,N$3=Recap!$A$54,N$3=Recap!$A$55,N$3=Recap!$A$56,N$3=Recap!$A$57,N$3=Recap!$A$58,N$3=Recap!$A$59,N$3=Recap!$A$60,N$3=Recap!$A$61),(N15+O15)/1,N15+O15)) | P16: =IF(RIGHT(Q13,4)="cuht","171",IF(RIGHT(Q13,4)="netu","172",IF(RIGHT(Q13,4)="auht","173",IF(OR(RIGHT(Q13,4)="ppou",RIGHT(Q13,5)="prepa"),"360",IF(RIGHT(Q13,4)="cpou","361",IF(OR(RIGHT(Q13,4)="apou",RIGHT(Q13,6)="molinf"),"363",IF(RIGHT(Q13,4)="netp","364",IF(RIGHT(Q13,4)="cmtr","365",IF(LEFT(Q13,4)="form","873",IF(RIGHT(Q13,7)="ce-cppt","902","")))))))))) -> 171 | Q16: =IF(P16="","",IF(OR(P$3=Recap!$A$50,P$3=Recap!$A$51,P$3=Recap!$A$52,P$3=Recap!$A$53,P$3=Recap!$A$54,P$3=Recap!$A$55,P$3=Recap!$A$56,P$3=Recap!$A$57,P$3=Recap!$A$58,P$3=Recap!$A$59,P$3=Recap!$A$60,P$3=Recap!$A$61),(P15+Q15)/1,P15+Q15)) -> 0.375 | R16: =IF(RIGHT(S13,4)="cuht","171",IF(RIGHT(S13,4)="netu","172",IF(RIGHT(S13,4)="auht","173",IF(OR(RIGHT(S13,4)="ppou",RIGHT(S13,5)="prepa"),"360",IF(RIGHT(S13,4)="cpou","361",IF(OR(RIGHT(S13,4)="apou",RIGHT(S13,6)="molinf"),"363",IF(RIGHT(S13,4)="netp","364",IF(RIGHT(S13,4)="cmtr","365",IF(LEFT(S13,4)="form","873",IF(RIGHT(S13,7)="ce-cppt","902","")))))))))) -> 902 | S16: =IF(R16="","",IF(OR(R$3=Recap!$A$50,R$3=Recap!$A$51,R$3=Recap!$A$52,R$3=Recap!$A$53,R$3=Recap!$A$54,R$3=Recap!$A$55,R$3=Recap!$A$56,R$3=Recap!$A$57,R$3=Recap!$A$58,R$3=Recap!$A$59,R$3=Recap!$A$60,R$3=Recap!$A$61),(R15+S15)/1,R15+S15)) -> 0.33333333 | T16: =IF(RIGHT(U13,4)="cuht","171",IF(RIGHT(U13,4)="netu","172",IF(RIGHT(U13,4)="auht","173",IF(OR(RIGHT(U13,4)="ppou",RIGHT(U13,5)="prepa"),"360",IF(RIGHT(U13,4)="cpou","361",IF(OR(RIGHT(U13,4)="apou",RIGHT(U13,6)="molinf"),"363",IF(RIGHT(U13,4)="netp","364",IF(RIGHT(U13,4)="cmtr","365",IF(LEFT(U13,4)="form","873",IF(RIGHT(U13,7)="ce-cppt","902","")))))))))) -> 171 | U16: =IF(T16="","",IF(OR(T$3=Recap!$A$50,T$3=Recap!$A$51,T$3=Recap!$A$52,T$3=Recap!$A$53,T$3=Recap!$A$54,T$3=Recap!$A$55,T$3=Recap!$A$56,T$3=Recap!$A$57,T$3=Recap!$A$58,T$3=Recap!$A$59,T$3=Recap!$A$60,T$3=Recap!$A$61),(T15+U15)/1,T15+U15)) -> 0.33333333 | V16: =IF(RIGHT(W13,4)="cuht","171",IF(RIGHT(W13,4)="netu","172",IF(RIGHT(W13,4)="auht","173",IF(OR(RIGHT(W13,4)="ppou",RIGHT(W13,5)="prepa"),"360",IF(RIGHT(W13,4)="cpou","361",IF(OR(RIGHT(W13,4)="apou",RIGHT(W13,6)="molinf"),"363",IF(RIGHT(W13,4)="netp","364",IF(RIGHT(W13,4)="cmtr","365",IF(LEFT(W13,4)="form","873",IF(RIGHT(W13,7)="ce-cppt","902","")))))))))) -> 171 | W16: =IF(V16="","",IF(OR(V$3=Recap!$A$50,V$3=Recap!$A$51,V$3=Recap!$A$52,V$3=Recap!$A$53,V$3=Recap!$A$54,V$3=Recap!$A$55,V$3=Recap!$A$56,V$3=Recap!$A$57,V$3=Recap!$A$58,V$3=Recap!$A$59,V$3=Recap!$A$60,V$3=Recap!$A$61),(V15+W15)/1,V15+W15)) -> 0.375 | X16: =IF(RIGHT(Y13,4)="cuht","171",IF(RIGHT(Y13,4)="netu","172",IF(RIGHT(Y13,4)="auht","173",IF(OR(RIGHT(Y13,4)="ppou",RIGHT(Y13,5)="prepa"),"360",IF(RIGHT(Y13,4)="cpou","361",IF(OR(RIGHT(Y13,4)="apou",RIGHT(Y13,6)="molinf"),"363",IF(RIGHT(Y13,4)="netp","364",IF(RIGHT(Y13,4)="cmtr","365",IF(LEFT(Y13,4)="form","873",IF(RIGHT(Y13,7)="ce-cppt","902","")))))))))) -> 171 | Y16: =IF(X16="","",IF(OR(X$3=Recap!$A$50,X$3=Recap!$A$51,X$3=Recap!$A$52,X$3=Recap!$A$53,X$3=Recap!$A$54,X$3=Recap!$A$55,X$3=Recap!$A$56,X$3=Recap!$A$57,X$3=Recap!$A$58,X$3=Recap!$A$59,X$3=Recap!$A$60,X$3=Recap!$A$61),(X15+Y15)/1,X15+Y15)) -> 0.375 | Z16: =IF(RIGHT(AA13,4)="cuht","171",IF(RIGHT(AA13,4)="netu","172",IF(RIGHT(AA13,4)="auht","173",IF(OR(RIGHT(AA13,4)="ppou",RIGHT(AA13,5)="prepa"),"360",IF(RIGHT(AA13,4)="cpou","361",IF(OR(RIGHT(AA13,4)="apou",RIGHT(AA13,6)="molinf"),"363",IF(RIGHT(AA13,4)="netp","364",IF(RIGHT(AA13,4)="cmtr","365",IF(LEFT(AA13,4)="form","873",IF(RIGHT(AA13,7)="ce-cppt","902","")))))))))) | AA16: =IF(Z16="","",IF(OR(Z$3=Recap!$A$50,Z$3=Recap!$A$51,Z$3=Recap!$A$52,Z$3=Recap!$A$53,Z$3=Recap!$A$54,Z$3=Recap!$A$55,Z$3=Recap!$A$56,Z$3=Recap!$A$57,Z$3=Recap!$A$58,Z$3=Recap!$A$59,Z$3=Recap!$A$60,Z$3=Recap!$A$61),(Z15+AA15)/1,Z15+AA15)) | AB16: =IF(RIGHT(AC13,4)="cuht","171",IF(RIGHT(AC13,4)="netu","172",IF(RIGHT(AC13,4)="auht","173",IF(OR(RIGHT(AC13,4)="ppou",RIGHT(AC13,5)="prepa"),"360",IF(RIGHT(AC13,4)="cpou","361",IF(OR(RIGHT(AC13,4)="apou",RIGHT(AC13,6)="molinf"),"363",IF(RIGHT(AC13,4)="netp","364",IF(RIGHT(AC13,4)="cmtr","365",IF(LEFT(AC13,4)="form","873",IF(RIGHT(AC13,7)="ce-cppt","902","")))))))))) | AC16: =IF(AB16="","",IF(OR(AB$3=Recap!$A$50,AB$3=Recap!$A$51,AB$3=Recap!$A$52,AB$3=Recap!$A$53,AB$3=Recap!$A$54,AB$3=Recap!$A$55,AB$3=Recap!$A$56,AB$3=Recap!$A$57,AB$3=Recap!$A$58,AB$3=Recap!$A$59,AB$3=Recap!$A$60,AB$3=Recap!$A$61),(AB15+AC15)/1,AB15+AC15)) | AE16: =IF(RIGHT(AF13,4)="cuht","171",IF(RIGHT(AF13,4)="netu","172",IF(RIGHT(AF13,4)="auht","173",IF(OR(RIGHT(AF13,4)="ppou",RIGHT(AF13,5)="prepa"),"360",IF(RIGHT(AF13,4)="cpou","361",IF(OR(RIGHT(AF13,4)="apou",RIGHT(AF13,6)="molinf"),"363",IF(RIGHT(AF13,4)="netp","364",IF(RIGHT(AF13,4)="cmtr","365",IF(LEFT(AF13,4)="form","873",IF(RIGHT(AF13,7)="ce-cppt","902","")))))))))) | AF16: =IF(AE16="","",IF(OR(AE$3=Recap!$A$50,AE$3=Recap!$A$51,AE$3=Recap!$A$52,AE$3=Recap!$A$53,AE$3=Recap!$A$54,AE$3=Recap!$A$55,AE$3=Recap!$A$56,AE$3=Recap!$A$57,AE$3=Recap!$A$58,AE$3=Recap!$A$59,AE$3=Recap!$A$60,AE$3=Recap!$A$61),(AE15+AF15)/1,AE15+AF15)) | AG16: =IF(RIGHT(AH13,4)="cuht","171",IF(RIGHT(AH13,4)="netu","172",IF(RIGHT(AH13,4)="auht","173",IF(OR(RIGHT(AH13,4)="ppou",RIGHT(AH13,5)="prepa"),"360",IF(RIGHT(AH13,4)="cpou","361",IF(OR(RIGHT(AH13,4)="apou",RIGHT(AH13,6)="molinf"),"363",IF(RIGHT(AH13,4)="netp","364",IF(RIGHT(AH13,4)="cmtr","365",IF(LEFT(AH13,4)="form","873",IF(RIGHT(AH13,7)="ce-cppt","902","")))))))))) | AH16: =IF(AG16="","",IF(OR(AG$3=Recap!$A$50,AG$3=Recap!$A$51,AG$3=Recap!$A$52,AG$3=Recap!$A$53,AG$3=Recap!$A$54,AG$3=Recap!$A$55,AG$3=Recap!$A$56,AG$3=Recap!$A$57,AG$3=Recap!$A$58,AG$3=Recap!$A$59,AG$3=Recap!$A$60,AG$3=Recap!$A$61),(AG15+AH15)/1,AG15+AH15)) | AI16: =IF(RIGHT(AJ13,4)="cuht","171",IF(RIGHT(AJ13,4)="netu","172",IF(RIGHT(AJ13,4)="auht","173",IF(OR(RIGHT(AJ13,4)="ppou",RIGHT(AJ13,5)="prepa"),"360",IF(RIGHT(AJ13,4)="cpou","361",IF(OR(RIGHT(AJ13,4)="apou",RIGHT(AJ13,6)="molinf"),"363",IF(RIGHT(AJ13,4)="netp","364",IF(RIGHT(AJ13,4)="cmtr","365",IF(LEFT(AJ13,4)="form","873",IF(RIGHT(AJ13,7)="ce-cppt","902","")))))))))) | AJ16: =IF(AI16="","",IF(OR(AI$3=Recap!$A$50,AI$3=Recap!$A$51,AI$3=Recap!$A$52,AI$3=Recap!$A$53,AI$3=Recap!$A$54,AI$3=Recap!$A$55,AI$3=Recap!$A$56,AI$3=Recap!$A$57,AI$3=Recap!$A$58,AI$3=Recap!$A$59,AI$3=Recap!$A$60,AI$3=Recap!$A$61),(AI15+AJ15)/1,AI15+AJ15)) | AK16: =IF(RIGHT(AL13,4)="cuht","171",IF(RIGHT(AL13,4)="netu","172",IF(RIGHT(AL13,4)="auht","173",IF(OR(RIGHT(AL13,4)="ppou",RIGHT(AL13,5)="prepa"),"360",IF(RIGHT(AL13,4)="cpou","361",IF(OR(RIGHT(AL13,4)="apou",RIGHT(AL13,6)="molinf"),"363",IF(RIGHT(AL13,4)="netp","364",IF(RIGHT(AL13,4)="cmtr","365",IF(LEFT(AL13,4)="form","873",IF(RIGHT(AL13,7)="ce-cppt","902","")))))))))) | AL16: =IF(AK16="","",IF(OR(AK$3=Recap!$A$50,AK$3=Recap!$A$51,AK$3=Recap!$A$52,AK$3=Recap!$A$53,AK$3=Recap!$A$54,AK$3=Recap!$A$55,AK$3=Recap!$A$56,AK$3=Recap!$A$57,AK$3=Recap!$A$58,AK$3=Recap!$A$59,AK$3=Recap!$A$60,AK$3=Recap!$A$61),(AK15+AL15)/1,AK15+AL15)) | AM16: =IF(RIGHT(AN13,4)="cuht","171",IF(RIGHT(AN13,4)="netu","172",IF(RIGHT(AN13,4)="auht","173",IF(OR(RIGHT(AN13,4)="ppou",RIGHT(AN13,5)="prepa"),"360",IF(RIGHT(AN13,4)="cpou","361",IF(OR(RIGHT(AN13,4)="apou",RIGHT(AN13,6)="molinf"),"363",IF(RIGHT(AN13,4)="netp","364",IF(RIGHT(AN13,4)="cmtr","365",IF(LEFT(AN13,4)="form","873",IF(RIGHT(AN13,7)="ce-cppt","902","")))))))))) | AN16: =IF(AM16="","",IF(OR(AM$3=Recap!$A$50,AM$3=Recap!$A$51,AM$3=Recap!$A$52,AM$3=Recap!$A$53,AM$3=Recap!$A$54,AM$3=Recap!$A$55,AM$3=Recap!$A$56,AM$3=Recap!$A$57,AM$3=Recap!$A$58,AM$3=Recap!$A$59,AM$3=Recap!$A$60,AM$3=Recap!$A$61),(AM15+AN15)/1,AM15+AN15)) | AO16: =IF(RIGHT(AP13,4)="cuht","171",IF(RIGHT(AP13,4)="netu","172",IF(RIGHT(AP13,4)="auht","173",IF(OR(RIGHT(AP13,4)="ppou",RIGHT(AP13,5)="prepa"),"360",IF(RIGHT(AP13,4)="cpou","361",IF(OR(RIGHT(AP13,4)="apou",RIGHT(AP13,6)="molinf"),"363",IF(RIGHT(AP13,4)="netp","364",IF(RIGHT(AP13,4)="cmtr","365",IF(LEFT(AP13,4)="form","873",IF(RIGHT(AP13,7)="ce-cppt","902","")))))))))) | AP16: =IF(AO16="","",IF(OR(AO$3=Recap!$A$50,AO$3=Recap!$A$51,AO$3=Recap!$A$52,AO$3=Recap!$A$53,AO$3=Recap!$A$54,AO$3=Recap!$A$55,AO$3=Recap!$A$56,AO$3=Recap!$A$57,AO$3=Recap!$A$58,AO$3=Recap!$A$59,AO$3=Recap!$A$60,AO$3=Recap!$A$61),(AO15+AP15)/1,AO15+AP15)) | AQ16: =IF(RIGHT(AR13,4)="cuht","171",IF(RIGHT(AR13,4)="netu","172",IF(RIGHT(AR13,4)="auht","173",IF(OR(RIGHT(AR13,4)="ppou",RIGHT(AR13,5)="prepa"),"360",IF(RIGHT(AR13,4)="cpou","361",IF(OR(RIGHT(AR13,4)="apou",RIGHT(AR13,6)="molinf"),"363",IF(RIGHT(AR13,4)="netp","364",IF(RIGHT(AR13,4)="cmtr","365",IF(LEFT(AR13,4)="form","873",IF(RIGHT(AR13,7)="ce-cppt","902","")))))))))) | AR16: =IF(AQ16="","",IF(OR(AQ$3=Recap!$A$50,AQ$3=Recap!$A$51,AQ$3=Recap!$A$52,AQ$3=Recap!$A$53,AQ$3=Recap!$A$54,AQ$3=Recap!$A$55,AQ$3=Recap!$A$56,AQ$3=Recap!$A$57,AQ$3=Recap!$A$58,AQ$3=Recap!$A$59,AQ$3=Recap!$A$60,AQ$3=Recap!$A$61),(AQ15+AR15)/1,AQ15+AR15)) | AT16: =IF(RIGHT(AU13,4)="cuht","171",IF(RIGHT(AU13,4)="netu","172",IF(RIGHT(AU13,4)="auht","173",IF(OR(RIGHT(AU13,4)="ppou",RIGHT(AU13,5)="prepa"),"360",IF(RIGHT(AU13,4)="cpou","361",IF(OR(RIGHT(AU13,4)="apou",RIGHT(AU13,6)="molinf"),"363",IF(RIGHT(AU13,4)="netp","364",IF(RIGHT(AU13,4)="cmtr","365",IF(LEFT(AU13,4)="form","873",IF(RIGHT(AU13,7)="ce-cppt","902","")))))))))) | AU16: =IF(AT16="","",IF(OR(AT$3=Recap!$A$50,AT$3=Recap!$A$51,AT$3=Recap!$A$52,AT$3=Recap!$A$53,AT$3=Recap!$A$54,AT$3=Recap!$A$55,AT$3=Recap!$A$56,AT$3=Recap!$A$57,AT$3=Recap!$A$58,AT$3=Recap!$A$59,AT$3=Recap!$A$60,AT$3=Recap!$A$61),(AT15+AU15)/1,AT15+AU15)) | AV16: =IF(RIGHT(AW13,4)="cuht","171",IF(RIGHT(AW13,4)="netu","172",IF(RIGHT(AW13,4)="auht","173",IF(OR(RIGHT(AW13,4)="ppou",RIGHT(AW13,5)="prepa"),"360",IF(RIGHT(AW13,4)="cpou","361",IF(OR(RIGHT(AW13,4)="apou",RIGHT(AW13,6)="molinf"),"363",IF(RIGHT(AW13,4)="netp","364",IF(RIGHT(AW13,4)="cmtr","365",IF(LEFT(AW13,4)="form","873",IF(RIGHT(AW13,7)="ce-cppt","902","")))))))))) | AW16: =IF(AV16="","",IF(OR(AV$3=Recap!$A$50,AV$3=Recap!$A$51,AV$3=Recap!$A$52,AV$3=Recap!$A$53,AV$3=Recap!$A$54,AV$3=Recap!$A$55,AV$3=Recap!$A$56,AV$3=Recap!$A$57,AV$3=Recap!$A$58,AV$3=Recap!$A$59,AV$3=Recap!$A$60,AV$3=Recap!$A$61),(AV15+AW15)/1,AV15+AW15)) | AX16: =IF(RIGHT(AY13,4)="cuht","171",IF(RIGHT(AY13,4)="netu","172",IF(RIGHT(AY13,4)="auht","173",IF(OR(RIGHT(AY13,4)="ppou",RIGHT(AY13,5)="prepa"),"360",IF(RIGHT(AY13,4)="cpou","361",IF(OR(RIGHT(AY13,4)="apou",RIGHT(AY13,6)="molinf"),"363",IF(RIGHT(AY13,4)="netp","364",IF(RIGHT(AY13,4)="cmtr","365",IF(LEFT(AY13,4)="form","873",IF(RIGHT(AY13,7)="ce-cppt","902","")))))))))) | AY16: =IF(AX16="","",IF(OR(AX$3=Recap!$A$50,AX$3=Recap!$A$51,AX$3=Recap!$A$52,AX$3=Recap!$A$53,AX$3=Recap!$A$54,AX$3=Recap!$A$55,AX$3=Recap!$A$56,AX$3=Recap!$A$57,AX$3=Recap!$A$58,AX$3=Recap!$A$59,AX$3=Recap!$A$60,AX$3=Recap!$A$61),(AX15+AY15)/1,AX15+AY15)) | AZ16: =IF(RIGHT(BA13,4)="cuht","171",IF(RIGHT(BA13,4)="netu","172",IF(RIGHT(BA13,4)="auht","173",IF(OR(RIGHT(BA13,4)="ppou",RIGHT(BA13,5)="prepa"),"360",IF(RIGHT(BA13,4)="cpou","361",IF(OR(RIGHT(BA13,4)="apou",RIGHT(BA13,6)="molinf"),"363",IF(RIGHT(BA13,4)="netp","364",IF(RIGHT(BA13,4)="cmtr","365",IF(LEFT(BA13,4)="form","873",IF(RIGHT(BA13,7)="ce-cppt","902","")))))))))) | BA16: =IF(AZ16="","",IF(OR(AZ$3=Recap!$A$50,AZ$3=Recap!$A$51,AZ$3=Recap!$A$52,AZ$3=Recap!$A$53,AZ$3=Recap!$A$54,AZ$3=Recap!$A$55,AZ$3=Recap!$A$56,AZ$3=Recap!$A$57,AZ$3=Recap!$A$58,AZ$3=Recap!$A$59,AZ$3=Recap!$A$60,AZ$3=Recap!$A$61),(AZ15+BA15)/1,AZ15+BA15)) | BB16: =IF(RIGHT(BC13,4)="cuht","171",IF(RIGHT(BC13,4)="netu","172",IF(RIGHT(BC13,4)="auht","173",IF(OR(RIGHT(BC13,4)="ppou",RIGHT(BC13,5)="prepa"),"360",IF(RIGHT(BC13,4)="cpou","361",IF(OR(RIGHT(BC13,4)="apou",RIGHT(BC13,6)="molinf"),"363",IF(RIGHT(BC13,4)="netp","364",IF(RIGHT(BC13,4)="cmtr","365",IF(LEFT(BC13,4)="form","873",IF(RIGHT(BC13,7)="ce-cppt","902","")))))))))) | BC16: =IF(BB16="","",IF(OR(BB$3=Recap!$A$50,BB$3=Recap!$A$51,BB$3=Recap!$A$52,BB$3=Recap!$A$53,BB$3=Recap!$A$54,BB$3=Recap!$A$55,BB$3=Recap!$A$56,BB$3=Recap!$A$57,BB$3=Recap!$A$58,BB$3=Recap!$A$59,BB$3=Recap!$A$60,BB$3=Recap!$A$61),(BB15+BC15)/1,BB15+BC15)) | BD16: =IF(RIGHT(BE13,4)="cuht","171",IF(RIGHT(BE13,4)="netu","172",IF(RIGHT(BE13,4)="auht","173",IF(OR(RIGHT(BE13,4)="ppou",RIGHT(BE13,5)="prepa"),"360",IF(RIGHT(BE13,4)="cpou","361",IF(OR(RIGHT(BE13,4)="apou",RIGHT(BE13,6)="molinf"),"363",IF(RIGHT(BE13,4)="netp","364",IF(RIGHT(BE13,4)="cmtr","365",IF(LEFT(BE13,4)="form","873",IF(RIGHT(BE13,7)="ce-cppt","902","")))))))))) | BE16: =IF(BD16="","",IF(OR(BD$3=Recap!$A$50,BD$3=Recap!$A$51,BD$3=Recap!$A$52,BD$3=Recap!$A$53,BD$3=Recap!$A$54,BD$3=Recap!$A$55,BD$3=Recap!$A$56,BD$3=Recap!$A$57,BD$3=Recap!$A$58,BD$3=Recap!$A$59,BD$3=Recap!$A$60,BD$3=Recap!$A$61),(BD15+BE15)/1,BD15+BE15)) | BF16: =IF(RIGHT(BG13,4)="cuht","171",IF(RIGHT(BG13,4)="netu","172",IF(RIGHT(BG13,4)="auht","173",IF(OR(RIGHT(BG13,4)="ppou",RIGHT(BG13,5)="prepa"),"360",IF(RIGHT(BG13,4)="cpou","361",IF(OR(RIGHT(BG13,4)="apou",RIGHT(BG13,6)="molinf"),"363",IF(RIGHT(BG13,4)="netp","364",IF(RIGHT(BG13,4)="cmtr","365",IF(LEFT(BG13,4)="form","873",IF(RIGHT(BG13,7)="ce-cppt","902","")))))))))) | BG16: =IF(BF16="","",IF(OR(BF$3=Recap!$A$50,BF$3=Recap!$A$51,BF$3=Recap!$A$52,BF$3=Recap!$A$53,BF$3=Recap!$A$54,BF$3=Recap!$A$55,BF$3=Recap!$A$56,BF$3=Recap!$A$57,BF$3=Recap!$A$58,BF$3=Recap!$A$59,BF$3=Recap!$A$60,BF$3=Recap!$A$61),(BF15+BG15)/1,BF15+BG15))
A17: totu | C17: f | D17: 0.16666667 | E17: pause cuht | F17: 0.16666667 | G17: pause cuht | H17: 0.16666667 | I17: pause cuht | J17: 0.25 | K17: pause cuht | P17: 0.58333333 | Q17: pause cuht | R17: 0.58333333 | S17: pause cuht | T17: 0.58333333 | U17: pause cuht | V17: 0.58333333 | W17: pause cuht | X17: 0.58333333 | Y17: pause cuht | AD17: =SUM(P19:AC19) -> 1.7916667 | AE17: 0.25 | AF17: pause cuht | AH17: f | AI17: 0.25 | AJ17: pause cuht | AK17: 0.25 | AL17: pause cuht | AM17: 0.25 | AN17: pause cuht | AS17: =SUM(AE19:AR19) -> 0 | BH17: =SUM(AT19:BG19) -> 0
D18: 0.58333333 | F18: 0.58333333 | H18: 0.66666667 | J18: 0.58333333 | P18: 0.91666667 | R18: 0.91666667 | T18: 0.041666667 | V18: 0.91666667 | X18: 0.91666667 | AE18: 0.58333333 | AI18: 0.58333333 | AK18: 0.58333333 | AM18: 0.58333333
B19: =IF(B$3>$BI$4,0,IF(OR(ISBLANK(B17),ISBLANK(B18),ISBLANK(C17),LEFT(C17,4)="jour",LEFT(C17,4)="form"),0,IF(COUNTIF(fériés,B$3)>0,MOD((B18-B17),1)*1,MOD((B18-B17),1)))) -> 0 | C19: =IF(B$3>$BI$4,0,IF(AND(ISNUMBER(B17),ISNUMBER(B18),OR(LEFT(C17,4)="jour",LEFT(C17,4)="form")),IF(COUNTIF(fériés,B$3)>0,MOD(-$BH$4+(B18-B17),1)*1,MOD(-$BH$4+(B18-B17),1)),IF(AND(ISBLANK(B17),ISBLANK(B18)),IF(OR(C17="r",C17="c",C17="a",C17="m",C17="f",C17="cp",C17="s",C17="congé parent"),$BH$3,0),0))) -> 0.31666667 | D19: =IF(D$3>$BI$4,0,IF(OR(ISBLANK(D17),ISBLANK(D18),ISBLANK(E17),LEFT(E17,4)="jour",LEFT(E17,4)="form"),0,IF(COUNTIF(fériés,D$3)>0,MOD((D18-D17),1)*1,MOD((D18-D17),1)))) -> 0.41666667 | E19: =IF(D$3>$BI$4,0,IF(AND(ISNUMBER(D17),ISNUMBER(D18),OR(LEFT(E17,4)="jour",LEFT(E17,4)="form")),IF(COUNTIF(fériés,D$3)>0,MOD(-$BH$4+(D18-D17),1)*1,MOD(-$BH$4+(D18-D17),1)),IF(AND(ISBLANK(D17),ISBLANK(D18)),IF(OR(E17="r",E17="c",E17="a",E17="m",E17="f",E17="cp",E17="s",E17="congé parent"),$BH$3,0),0))) -> 0 | F19: =IF(F$3>$BI$4,0,IF(OR(ISBLANK(F17),ISBLANK(F18),ISBLANK(G17),LEFT(G17,4)="jour",LEFT(G17,4)="form"),0,IF(COUNTIF(fériés,F$3)>0,MOD((F18-F17),1)*1,MOD((F18-F17),1)))) -> 0.41666667 | G19: =IF(F$3>$BI$4,0,IF(AND(ISNUMBER(F17),ISNUMBER(F18),OR(LEFT(G17,4)="jour",LEFT(G17,4)="form")),IF(COUNTIF(fériés,F$3)>0,MOD(-$BH$4+(F18-F17),1)*1,MOD(-$BH$4+(F18-F17),1)),IF(AND(ISBLANK(F17),ISBLANK(F18)),IF(OR(G17="r",G17="c",G17="a",G17="m",G17="f",G17="cp",G17="s",G17="congé parent"),$BH$3,0),0))) -> 0 | H19: =IF(H$3>$BI$4,0,IF(OR(ISBLANK(H17),ISBLANK(H18),ISBLANK(I17),LEFT(I17,4)="jour",LEFT(I17,4)="form"),0,IF(COUNTIF(fériés,H$3)>0,MOD((H18-H17),1)*1,MOD((H18-H17),1)))) -> 0.5 | I19: =IF(H$3>$BI$4,0,IF(AND(ISNUMBER(H17),ISNUMBER(H18),OR(LEFT(I17,4)="jour",LEFT(I17,4)="form")),IF(COUNTIF(fériés,H$3)>0,MOD(-$BH$4+(H18-H17),1)*1,MOD(-$BH$4+(H18-H17),1)),IF(AND(ISBLANK(H17),ISBLANK(H18)),IF(OR(I17="r",I17="c",I17="a",I17="m",I17="f",I17="cp",I17="s",I17="congé parent"),$BH$3,0),0))) -> 0 | J19: =IF(J$3>$BI$4,0,IF(OR(ISBLANK(J17),ISBLANK(J18),ISBLANK(K17),LEFT(K17,4)="jour",LEFT(K17,4)="form"),0,IF(COUNTIF(fériés,J$3)>0,MOD((J18-J17),1)*1,MOD((J18-J17),1)))) -> 0.33333333 | K19: =IF(J$3>$BI$4,0,IF(AND(ISNUMBER(J17),ISNUMBER(J18),OR(LEFT(K17,4)="jour",LEFT(K17,4)="form")),IF(COUNTIF(fériés,J$3)>0,MOD(-$BH$4+(J18-J17),1)*1,MOD(-$BH$4+(J18-J17),1)),IF(AND(ISBLANK(J17),ISBLANK(J18)),IF(OR(K17="r",K17="c",K17="a",K17="m",K17="f",K17="cp",K17="s",K17="congé parent"),$BH$3,0),0))) -> 0 | L19: =IF(L$3>$BI$4,0,IF(OR(ISBLANK(L17),ISBLANK(L18),ISBLANK(M17),LEFT(M17,4)="jour",LEFT(M17,4)="form"),0,IF(COUNTIF(fériés,L$3)>0,MOD((L18-L17),1)*1,MOD((L18-L17),1)))) -> 0 | M19: =IF(L$3>$BI$4,0,IF(AND(ISNUMBER(L17),ISNUMBER(L18),OR(LEFT(M17,4)="jour",LEFT(M17,4)="form")),IF(COUNTIF(fériés,L$3)>0,MOD(-$BH$4+(L18-L17),1)*1,MOD(-$BH$4+(L18-L17),1)),IF(AND(ISBLANK(L17),ISBLANK(L18)),IF(OR(M17="r",M17="c",M17="a",M17="m",M17="f",M17="cp",M17="s",M17="congé parent"),$BH$3,0),0))) -> 0 | N19: =IF(N$3>$BI$4,0,IF(OR(ISBLANK(N17),ISBLANK(N18),ISBLANK(O17),LEFT(O17,4)="jour",LEFT(O17,4)="form"),0,IF(COUNTIF(fériés,N$3)>0,MOD((N18-N17),1)*1,MOD((N18-N17),1)))) -> 0 | O19: =IF(N$3>$BI$4,0,IF(AND(ISNUMBER(N17),ISNUMBER(N18),OR(LEFT(O17,4)="jour",LEFT(O17,4)="form")),IF(COUNTIF(fériés,N$3)>0,MOD(-$BH$4+(N18-N17),1)*1,MOD(-$BH$4+(N18-N17),1)),IF(AND(ISBLANK(N17),ISBLANK(N18)),IF(OR(O17="r",O17="c",O17="a",O17="m",O17="f",O17="cp",O17="s",O17="congé parent"),$BH$3,0),0))) -> 0 | P19: =IF(P$3>$BI$4,0,IF(OR(ISBLANK(P17),ISBLANK(P18),ISBLANK(Q17),LEFT(Q17,4)="jour",LEFT(Q17,4)="form"),0,IF(COUNTIF(fériés,P$3)>0,MOD((P18-P17),1)*1,MOD((P18-P17),1)))) -> 0.33333333 | Q19: =IF(P$3>$BI$4,0,IF(AND(ISNUMBER(P17),ISNUMBER(P18),OR(LEFT(Q17,4)="jour",LEFT(Q17,4)="form")),IF(COUNTIF(fériés,P$3)>0,MOD(-$BH$4+(P18-P17),1)*1,MOD(-$BH$4+(P18-P17),1)),IF(AND(ISBLANK(P17),ISBLANK(P18)),IF(OR(Q17="r",Q17="c",Q17="a",Q17="m",Q17="f",Q17="cp",Q17="s",Q17="congé parent"),$BH$3,0),0))) -> 0 | R19: =IF(R$3>$BI$4,0,IF(OR(ISBLANK(R17),ISBLANK(R18),ISBLANK(S17),LEFT(S17,4)="jour",LEFT(S17,4)="form"),0,IF(COUNTIF(fériés,R$3)>0,MOD((R18-R17),1)*1,MOD((R18-R17),1)))) -> 0.33333333 | S19: =IF(R$3>$BI$4,0,IF(AND(ISNUMBER(R17),ISNUMBER(R18),OR(LEFT(S17,4)="jour",LEFT(S17,4)="form")),IF(COUNTIF(fériés,R$3)>0,MOD(-$BH$4+(R18-R17),1)*1,MOD(-$BH$4+(R18-R17),1)),IF(AND(ISBLANK(R17),ISBLANK(R18)),IF(OR(S17="r",S17="c",S17="a",S17="m",S17="f",S17="cp",S17="s",S17="congé parent"),$BH$3,0),0))) -> 0 | T19: =IF(T$3>$BI$4,0,IF(OR(ISBLANK(T17),ISBLANK(T18),ISBLANK(U17),LEFT(U17,4)="jour",LEFT(U17,4)="form"),0,IF(COUNTIF(fériés,T$3)>0,MOD((T18-T17),1)*1,MOD((T18-T17),1)))) -> 0.45833333 | U19: =IF(T$3>$BI$4,0,IF(AND(ISNUMBER(T17),ISNUMBER(T18),OR(LEFT(U17,4)="jour",LEFT(U17,4)="form")),IF(COUNTIF(fériés,T$3)>0,MOD(-$BH$4+(T18-T17),1)*1,MOD(-$BH$4+(T18-T17),1)),IF(AND(ISBLANK(T17),ISBLANK(T18)),IF(OR(U17="r",U17="c",U17="a",U17="m",U17="f",U17="cp",U17="s",U17="congé parent"),$BH$3,0),0))) -> 0 | V19: =IF(V$3>$BI$4,0,IF(OR(ISBLANK(V17),ISBLANK(V18),ISBLANK(W17),LEFT(W17,4)="jour",LEFT(W17,4)="form"),0,IF(COUNTIF(fériés,V$3)>0,MOD((V18-V17),1)*1,MOD((V18-V17),1)))) -> 0.33333333 | W19: =IF(V$3>$BI$4,0,IF(AND(ISNUMBER(V17),ISNUMBER(V18),OR(LEFT(W17,4)="jour",LEFT(W17,4)="form")),IF(COUNTIF(fériés,V$3)>0,MOD(-$BH$4+(V18-V17),1)*1,MOD(-$BH$4+(V18-V17),1)),IF(AND(ISBLANK(V17),ISBLANK(V18)),IF(OR(W17="r",W17="c",W17="a",W17="m",W17="f",W17="cp",W17="s",W17="congé parent"),$BH$3,0),0))) -> 0 | X19: =IF(X$3>$BI$4,0,IF(OR(ISBLANK(X17),ISBLANK(X18),ISBLANK(Y17),LEFT(Y17,4)="jour",LEFT(Y17,4)="form"),0,IF(COUNTIF(fériés,X$3)>0,MOD((X18-X17),1)*1,MOD((X18-X17),1)))) -> 0.33333333 | Y19: =IF(X$3>$BI$4,0,IF(AND(ISNUMBER(X17),ISNUMBER(X18),OR(LEFT(Y17,4)="jour",LEFT(Y17,4)="form")),IF(COUNTIF(fériés,X$3)>0,MOD(-$BH$4+(X18-X17),1)*1,MOD(-$BH$4+(X18-X17),1)),IF(AND(ISBLANK(X17),ISBLANK(X18)),IF(OR(Y17="r",Y17="c",Y17="a",Y17="m",Y17="f",Y17="cp",Y17="s",Y17="congé parent"),$BH$3,0),0))) -> 0 | Z19: =IF(Z$3>$BI$4,0,IF(OR(ISBLANK(Z17),ISBLANK(Z18),ISBLANK(AA17),LEFT(AA17,4)="jour",LEFT(AA17,4)="form"),0,IF(COUNTIF(fériés,Z$3)>0,MOD((Z18-Z17),1)*1,MOD((Z18-Z17),1)))) -> 0 | AA19: =IF(Z$3>$BI$4,0,IF(AND(ISNUMBER(Z17),ISNUMBER(Z18),OR(LEFT(AA17,4)="jour",LEFT(AA17,4)="form")),IF(COUNTIF(fériés,Z$3)>0,MOD(-$BH$4+(Z18-Z17),1)*1,MOD(-$BH$4+(Z18-Z17),1)),IF(AND(ISBLANK(Z17),ISBLANK(Z18)),IF(OR(AA17="r",AA17="c",AA17="a",AA17="m",AA17="f",AA17="cp",AA17="s",AA17="congé parent"),$BH$3,0),0))) -> 0 | AB19: =IF(AB$3>$BI$4,0,IF(OR(ISBLANK(AB17),ISBLANK(AB18),ISBLANK(AC17),LEFT(AC17,4)="jour",LEFT(AC17,4)="form"),0,IF(COUNTIF(fériés,AB$3)>0,MOD((AB18-AB17),1)*1,MOD((AB18-AB17),1)))) -> 0 | AC19: =IF(AB$3>$BI$4,0,IF(AND(ISNUMBER(AB17),ISNUMBER(AB18),OR(LEFT(AC17,4)="jour",LEFT(AC17,4)="form")),IF(COUNTIF(fériés,AB$3)>0,MOD(-$BH$4+(AB18-AB17),1)*1,MOD(-$BH$4+(AB18-AB17),1)),IF(AND(ISBLANK(AB17),ISBLANK(AB18)),IF(OR(AC17="r",AC17="c",AC17="a",AC17="m",AC17="f",AC17="cp",AC17="s",AC17="congé parent"),$BH$3,0),0))) -> 0 | AE19: =IF(AE$3>$BI$4,0,IF(OR(ISBLANK(AE17),ISBLANK(AE18),ISBLANK(AF17),LEFT(AF17,4)="jour",LEFT(AF17,4)="form"),0,IF(COUNTIF(fériés,AE$3)>0,MOD((AE18-AE17),1)*1,MOD((AE18-AE17),1)))) -> 0 | AF19: =IF(AE$3>$BI$4,0,IF(AND(ISNUMBER(AE17),ISNUMBER(AE18),OR(LEFT(AF17,4)="jour",LEFT(AF17,4)="form")),IF(COUNTIF(fériés,AE$3)>0,MOD(-$BH$4+(AE18-AE17),1)*1,MOD(-$BH$4+(AE18-AE17),1)),IF(AND(ISBLANK(AE17),ISBLANK(AE18)),IF(OR(AF17="r",AF17="c",AF17="a",AF17="m",AF17="f",AF17="cp",AF17="s",AF17="congé parent"),$BH$3,0),0))) -> 0 | AG19: =IF(AG$3>$BI$4,0,IF(OR(ISBLANK(AG17),ISBLANK(AG18),ISBLANK(AH17),LEFT(AH17,4)="jour",LEFT(AH17,4)="form"),0,IF(COUNTIF(fériés,AG$3)>0,MOD((AG18-AG17),1)*1,MOD((AG18-AG17),1)))) -> 0 | AH19: =IF(AG$3>$BI$4,0,IF(AND(ISNUMBER(AG17),ISNUMBER(AG18),OR(LEFT(AH17,4)="jour",LEFT(AH17,4)="form")),IF(COUNTIF(fériés,AG$3)>0,MOD(-$BH$4+(AG18-AG17),1)*1,MOD(-$BH$4+(AG18-AG17),1)),IF(AND(ISBLANK(AG17),ISBLANK(AG18)),IF(OR(AH17="r",AH17="c",AH17="a",AH17="m",AH17="f",AH17="cp",AH17="s",AH17="congé parent"),$BH$3,0),0))) -> 0 | AI19: =IF(AI$3>$BI$4,0,IF(OR(ISBLANK(AI17),ISBLANK(AI18),ISBLANK(AJ17),LEFT(AJ17,4)="jour",LEFT(AJ17,4)="form"),0,IF(COUNTIF(fériés,AI$3)>0,MOD((AI18-AI17),1)*1,MOD((AI18-AI17),1)))) -> 0 | AJ19: =IF(AI$3>$BI$4,0,IF(AND(ISNUMBER(AI17),ISNUMBER(AI18),OR(LEFT(AJ17,4)="jour",LEFT(AJ17,4)="form")),IF(COUNTIF(fériés,AI$3)>0,MOD(-$BH$4+(AI18-AI17),1)*1,MOD(-$BH$4+(AI18-AI17),1)),IF(AND(ISBLANK(AI17),ISBLANK(AI18)),IF(OR(AJ17="r",AJ17="c",AJ17="a",AJ17="m",AJ17="f",AJ17="cp",AJ17="s",AJ17="congé parent"),$BH$3,0),0))) -> 0 | AK19: =IF(AK$3>$BI$4,0,IF(OR(ISBLANK(AK17),ISBLANK(AK18),ISBLANK(AL17),LEFT(AL17,4)="jour",LEFT(AL17,4)="form"),0,IF(COUNTIF(fériés,AK$3)>0,MOD((AK18-AK17),1)*1,MOD((AK18-AK17),1)))) -> 0 | AL19: =IF(AK$3>$BI$4,0,IF(AND(ISNUMBER(AK17),ISNUMBER(AK18),OR(LEFT(AL17,4)="jour",LEFT(AL17,4)="form")),IF(COUNTIF(fériés,AK$3)>0,MOD(-$BH$4+(AK18-AK17),1)*1,MOD(-$BH$4+(AK18-AK17),1)),IF(AND(ISBLANK(AK17),ISBLANK(AK18)),IF(OR(AL17="r",AL17="c",AL17="a",AL17="m",AL17="f",AL17="cp",AL17="s",AL17="congé parent"),$BH$3,0),0))) -> 0 | AM19: =IF(AM$3>$BI$4,0,IF(OR(ISBLANK(AM17),ISBLANK(AM18),ISBLANK(AN17),LEFT(AN17,4)="jour",LEFT(AN17,4)="form"),0,IF(COUNTIF(fériés,AM$3)>0,MOD((AM18-AM17),1)*1,MOD((AM18-AM17),1)))) -> 0 | AN19: =IF(AM$3>$BI$4,0,IF(AND(ISNUMBER(AM17),ISNUMBER(AM18),OR(LEFT(AN17,4)="jour",LEFT(AN17,4)="form")),IF(COUNTIF(fériés,AM$3)>0,MOD(-$BH$4+(AM18-AM17),1)*1,MOD(-$BH$4+(AM18-AM17),1)),IF(AND(ISBLANK(AM17),ISBLANK(AM18)),IF(OR(AN17="r",AN17="c",AN17="a",AN17="m",AN17="f",AN17="cp",AN17="s",AN17="congé parent"),$BH$3,0),0))) -> 0 | AO19: =IF(AO$3>$BI$4,0,IF(OR(ISBLANK(AO17),ISBLANK(AO18),ISBLANK(AP17),LEFT(AP17,4)="jour",LEFT(AP17,4)="form"),0,IF(COUNTIF(fériés,AO$3)>0,MOD((AO18-AO17),1)*1,MOD((AO18-AO17),1)))) -> 0 | AP19: =IF(AO$3>$BI$4,0,IF(AND(ISNUMBER(AO17),ISNUMBER(AO18),OR(LEFT(AP17,4)="jour",LEFT(AP17,4)="form")),IF(COUNTIF(fériés,AO$3)>0,MOD(-$BH$4+(AO18-AO17),1)*1,MOD(-$BH$4+(AO18-AO17),1)),IF(AND(ISBLANK(AO17),ISBLANK(AO18)),IF(OR(AP17="r",AP17="c",AP17="a",AP17="m",AP17="f",AP17="cp",AP17="s",AP17="congé parent"),$BH$3,0),0))) -> 0 | AQ19: =IF(AQ$3>$BI$4,0,IF(OR(ISBLANK(AQ17),ISBLANK(AQ18),ISBLANK(AR17),LEFT(AR17,4)="jour",LEFT(AR17,4)="form"),0,IF(COUNTIF(fériés,AQ$3)>0,MOD((AQ18-AQ17),1)*1,MOD((AQ18-AQ17),1)))) -> 0 | AR19: =IF(AQ$3>$BI$4,0,IF(AND(ISNUMBER(AQ17),ISNUMBER(AQ18),OR(LEFT(AR17,4)="jour",LEFT(AR17,4)="form")),IF(COUNTIF(fériés,AQ$3)>0,MOD(-$BH$4+(AQ18-AQ17),1)*1,MOD(-$BH$4+(AQ18-AQ17),1)),IF(AND(ISBLANK(AQ17),ISBLANK(AQ18)),IF(OR(AR17="r",AR17="c",AR17="a",AR17="m",AR17="f",AR17="cp",AR17="s",AR17="congé parent"),$BH$3,0),0))) -> 0 | AT19: =IF(AT$3>$BI$4,0,IF(OR(ISBLANK(AT17),ISBLANK(AT18),ISBLANK(AU17),LEFT(AU17,4)="jour",LEFT(AU17,4)="form"),0,IF(COUNTIF(fériés,AT$3)>0,MOD((AT18-AT17),1)*1,MOD((AT18-AT17),1)))) -> 0 | AU19: =IF(AT$3>$BI$4,0,IF(AND(ISNUMBER(AT17),ISNUMBER(AT18),OR(LEFT(AU17,4)="jour",LEFT(AU17,4)="form")),IF(COUNTIF(fériés,AT$3)>0,MOD(-$BH$4+(AT18-AT17),1)*1,MOD(-$BH$4+(AT18-AT17),1)),IF(AND(ISBLANK(AT17),ISBLANK(AT18)),IF(OR(AU17="r",AU17="c",AU17="a",AU17="m",AU17="f",AU17="cp",AU17="s",AU17="congé parent"),$BH$3,0),0))) -> 0 | AV19: =IF(AV$3>$BI$4,0,IF(OR(ISBLANK(AV17),ISBLANK(AV18),ISBLANK(AW17),LEFT(AW17,4)="jour",LEFT(AW17,4)="form"),0,IF(COUNTIF(fériés,AV$3)>0,MOD((AV18-AV17),1)*1,MOD((AV18-AV17),1)))) -> 0 | AW19: =IF(AV$3>$BI$4,0,IF(AND(ISNUMBER(AV17),ISNUMBER(AV18),OR(LEFT(AW17,4)="jour",LEFT(AW17,4)="form")),IF(COUNTIF(fériés,AV$3)>0,MOD(-$BH$4+(AV18-AV17),1)*1,MOD(-$BH$4+(AV18-AV17),1)),IF(AND(ISBLANK(AV17),ISBLANK(AV18)),IF(OR(AW17="r",AW17="c",AW17="a",AW17="m",AW17="f",AW17="cp",AW17="s",AW17="congé parent"),$BH$3,0),0))) -> 0 | AX19: =IF(AX$3>$BI$4,0,IF(OR(ISBLANK(AX17),ISBLANK(AX18),ISBLANK(AY17),LEFT(AY17,4)="jour",LEFT(AY17,4)="form"),0,IF(COUNTIF(fériés,AX$3)>0,MOD((AX18-AX17),1)*1,MOD((AX18-AX17),1)))) -> 0 | AY19: =IF(AX$3>$BI$4,0,IF(AND(ISNUMBER(AX17),ISNUMBER(AX18),OR(LEFT(AY17,4)="jour",LEFT(AY17,4)="form")),IF(COUNTIF(fériés,AX$3)>0,MOD(-$BH$4+(AX18-AX17),1)*1,MOD(-$BH$4+(AX18-AX17),1)),IF(AND(ISBLANK(AX17),ISBLANK(AX18)),IF(OR(AY17="r",AY17="c",AY17="a",AY17="m",AY17="f",AY17="cp",AY17="s",AY17="congé parent"),$BH$3,0),0))) -> 0 | AZ19: =IF(AZ$3>$BI$4,0,IF(OR(ISBLANK(AZ17),ISBLANK(AZ18),ISBLANK(BA17),LEFT(BA17,4)="jour",LEFT(BA17,4)="form"),0,IF(COUNTIF(fériés,AZ$3)>0,MOD((AZ18-AZ17),1)*1,MOD((AZ18-AZ17),1)))) -> 0 | BA19: =IF(AZ$3>$BI$4,0,IF(AND(ISNUMBER(AZ17),ISNUMBER(AZ18),OR(LEFT(BA17,4)="jour",LEFT(BA17,4)="form")),IF(COUNTIF(fériés,AZ$3)>0,MOD(-$BH$4+(AZ18-AZ17),1)*1,MOD(-$BH$4+(AZ18-AZ17),1)),IF(AND(ISBLANK(AZ17),ISBLANK(AZ18)),IF(OR(BA17="r",BA17="c",BA17="a",BA17="m",BA17="f",BA17="cp",BA17="s",BA17="congé parent"),$BH$3,0),0))) -> 0 | BB19: =IF(BB$3>$BI$4,0,IF(OR(ISBLANK(BB17),ISBLANK(BB18),ISBLANK(BC17),LEFT(BC17,4)="jour",LEFT(BC17,4)="form"),0,IF(COUNTIF(fériés,BB$3)>0,MOD((BB18-BB17),1)*1,MOD((BB18-BB17),1)))) -> 0 | BC19: =IF(BB$3>$BI$4,0,IF(AND(ISNUMBER(BB17),ISNUMBER(BB18),OR(LEFT(BC17,4)="jour",LEFT(BC17,4)="form")),IF(COUNTIF(fériés,BB$3)>0,MOD(-$BH$4+(BB18-BB17),1)*1,MOD(-$BH$4+(BB18-BB17),1)),IF(AND(ISBLANK(BB17),ISBLANK(BB18)),IF(OR(BC17="r",BC17="c",BC17="a",BC17="m",BC17="f",BC17="cp",BC17="s",BC17="congé parent"),$BH$3,0),0))) -> 0 | BD19: =IF(BD$3>$BI$4,0,IF(OR(ISBLANK(BD17),ISBLANK(BD18),ISBLANK(BE17),LEFT(BE17,4)="jour",LEFT(BE17,4)="form"),0,IF(COUNTIF(fériés,BD$3)>0,MOD((BD18-BD17),1)*1,MOD((BD18-BD17),1)))) -> 0 | BE19: =IF(BD$3>$BI$4,0,IF(AND(ISNUMBER(BD17),ISNUMBER(BD18),OR(LEFT(BE17,4)="jour",LEFT(BE17,4)="form")),IF(COUNTIF(fériés,BD$3)>0,MOD(-$BH$4+(BD18-BD17),1)*1,MOD(-$BH$4+(BD18-BD17),1)),IF(AND(ISBLANK(BD17),ISBLANK(BD18)),IF(OR(BE17="r",BE17="c",BE17="a",BE17="m",BE17="f",BE17="cp",BE17="s",BE17="congé parent"),$BH$3,0),0))) -> 0 | BF19: =IF(BF$3>$BI$4,0,IF(OR(ISBLANK(BF17),ISBLANK(BF18),ISBLANK(BG17),LEFT(BG17,4)="jour",LEFT(BG17,4)="form"),0,IF(COUNTIF(fériés,BF$3)>0,MOD((BF18-BF17),1)*1,MOD((BF18-BF17),1)))) -> 0 | BG19: =IF(BF$3>$BI$4,0,IF(AND(ISNUMBER(BF17),ISNUMBER(BF18),OR(LEFT(BG17,4)="jour",LEFT(BG17,4)="form")),IF(COUNTIF(fériés,BF$3)>0,MOD(-$BH$4+(BF18-BF17),1)*1,MOD(-$BH$4+(BF18-BF17),1)),IF(AND(ISBLANK(BF17),ISBLANK(BF18)),IF(OR(BG17="r",BG17="c",BG17="a",BG17="m",BG17="f",BG17="cp",BG17="s",BG17="congé parent"),$BH$3,0),0))) -> 0 | BH19: =SUM(B19:BG19) -> 3.775
B20: =IF(RIGHT(C17,4)="cuht","171",IF(RIGHT(C17,4)="netu","172",IF(RIGHT(C17,4)="auht","173",IF(OR(RIGHT(C17,4)="ppou",RIGHT(C17,5)="prepa"),"360",IF(RIGHT(C17,4)="cpou","361",IF(OR(RIGHT(C17,4)="apou",RIGHT(C17,6)="molinf"),"363",IF(RIGHT(C17,4)="netp","364",IF(RIGHT(C17,4)="cmtr","365",IF(LEFT(C17,4)="form","873",IF(RIGHT(C17,7)="ce-cppt","902","")))))))))) | C20: =IF(B20="","",IF(OR(B$3=Recap!$A$50,B$3=Recap!$A$51,B$3=Recap!$A$52,B$3=Recap!$A$53,B$3=Recap!$A$54,B$3=Recap!$A$55,B$3=Recap!$A$56,B$3=Recap!$A$57,B$3=Recap!$A$58,B$3=Recap!$A$59,B$3=Recap!$A$60,B$3=Recap!$A$61),(B19+C19)/1,B19+C19)) | D20: =IF(RIGHT(E17,4)="cuht","171",IF(RIGHT(E17,4)="netu","172",IF(RIGHT(E17,4)="auht","173",IF(OR(RIGHT(E17,4)="ppou",RIGHT(E17,5)="prepa"),"360",IF(RIGHT(E17,4)="cpou","361",IF(OR(RIGHT(E17,4)="apou",RIGHT(E17,6)="molinf"),"363",IF(RIGHT(E17,4)="netp","364",IF(RIGHT(E17,4)="cmtr","365",IF(LEFT(E17,4)="form","873",IF(RIGHT(E17,7)="ce-cppt","902","")))))))))) -> 171 | E20: =IF(D20="","",IF(OR(D$3=Recap!$A$50,D$3=Recap!$A$51,D$3=Recap!$A$52,D$3=Recap!$A$53,D$3=Recap!$A$54,D$3=Recap!$A$55,D$3=Recap!$A$56,D$3=Recap!$A$57,D$3=Recap!$A$58,D$3=Recap!$A$59,D$3=Recap!$A$60,D$3=Recap!$A$61),(D19+E19)/1,D19+E19)) -> 0.41666667 | F20: =IF(RIGHT(G17,4)="cuht","171",IF(RIGHT(G17,4)="netu","172",IF(RIGHT(G17,4)="auht","173",IF(OR(RIGHT(G17,4)="ppou",RIGHT(G17,5)="prepa"),"360",IF(RIGHT(G17,4)="cpou","361",IF(OR(RIGHT(G17,4)="apou",RIGHT(G17,6)="molinf"),"363",IF(RIGHT(G17,4)="netp","364",IF(RIGHT(G17,4)="cmtr","365",IF(LEFT(G17,4)="form","873",IF(RIGHT(G17,7)="ce-cppt","902","")))))))))) -> 171 | G20: =IF(F20="","",IF(OR(F$3=Recap!$A$50,F$3=Recap!$A$51,F$3=Recap!$A$52,F$3=Recap!$A$53,F$3=Recap!$A$54,F$3=Recap!$A$55,F$3=Recap!$A$56,F$3=Recap!$A$57,F$3=Recap!$A$58,F$3=Recap!$A$59,F$3=Recap!$A$60,F$3=Recap!$A$61),(F19+G19)/1,F19+G19)) -> 0.41666667 | H20: =IF(RIGHT(I17,4)="cuht","171",IF(RIGHT(I17,4)="netu","172",IF(RIGHT(I17,4)="auht","173",IF(OR(RIGHT(I17,4)="ppou",RIGHT(I17,5)="prepa"),"360",IF(RIGHT(I17,4)="cpou","361",IF(OR(RIGHT(I17,4)="apou",RIGHT(I17,6)="molinf"),"363",IF(RIGHT(I17,4)="netp","364",IF(RIGHT(I17,4)="cmtr","365",IF(LEFT(I17,4)="form","873",IF(RIGHT(I17,7)="ce-cppt","902","")))))))))) -> 171 | I20: =IF(H20="","",IF(OR(H$3=Recap!$A$50,H$3=Recap!$A$51,H$3=Recap!$A$52,H$3=Recap!$A$53,H$3=Recap!$A$54,H$3=Recap!$A$55,H$3=Recap!$A$56,H$3=Recap!$A$57,H$3=Recap!$A$58,H$3=Recap!$A$59,H$3=Recap!$A$60,H$3=Recap!$A$61),(H19+I19)/1,H19+I19)) -> 0.5 | J20: =IF(RIGHT(K17,4)="cuht","171",IF(RIGHT(K17,4)="netu","172",IF(RIGHT(K17,4)="auht","173",IF(OR(RIGHT(K17,4)="ppou",RIGHT(K17,5)="prepa"),"360",IF(RIGHT(K17,4)="cpou","361",IF(OR(RIGHT(K17,4)="apou",RIGHT(K17,6)="molinf"),"363",IF(RIGHT(K17,4)="netp","364",IF(RIGHT(K17,4)="cmtr","365",IF(LEFT(K17,4)="form","873",IF(RIGHT(K17,7)="ce-cppt","902","")))))))))) -> 171 | K20: =IF(J20="","",IF(OR(J$3=Recap!$A$50,J$3=Recap!$A$51,J$3=Recap!$A$52,J$3=Recap!$A$53,J$3=Recap!$A$54,J$3=Recap!$A$55,J$3=Recap!$A$56,J$3=Recap!$A$57,J$3=Recap!$A$58,J$3=Recap!$A$59,J$3=Recap!$A$60,J$3=Recap!$A$61),(J19+K19)/1,J19+K19)) -> 0.33333333 | L20: =IF(RIGHT(M17,4)="cuht","171",IF(RIGHT(M17,4)="netu","172",IF(RIGHT(M17,4)="auht","173",IF(OR(RIGHT(M17,4)="ppou",RIGHT(M17,5)="prepa"),"360",IF(RIGHT(M17,4)="cpou","361",IF(OR(RIGHT(M17,4)="apou",RIGHT(M17,6)="molinf"),"363",IF(RIGHT(M17,4)="netp","364",IF(RIGHT(M17,4)="cmtr","365",IF(LEFT(M17,4)="form","873",IF(RIGHT(M17,7)="ce-cppt","902","")))))))))) | M20: =IF(L20="","",IF(OR(L$3=Recap!$A$50,L$3=Recap!$A$51,L$3=Recap!$A$52,L$3=Recap!$A$53,L$3=Recap!$A$54,L$3=Recap!$A$55,L$3=Recap!$A$56,L$3=Recap!$A$57,L$3=Recap!$A$58,L$3=Recap!$A$59,L$3=Recap!$A$60,L$3=Recap!$A$61),(L19+M19)/1,L19+M19)) | N20: =IF(RIGHT(O17,4)="cuht","171",IF(RIGHT(O17,4)="netu","172",IF(RIGHT(O17,4)="auht","173",IF(OR(RIGHT(O17,4)="ppou",RIGHT(O17,5)="prepa"),"360",IF(RIGHT(O17,4)="cpou","361",IF(OR(RIGHT(O17,4)="apou",RIGHT(O17,6)="molinf"),"363",IF(RIGHT(O17,4)="netp","364",IF(RIGHT(O17,4)="cmtr","365",IF(LEFT(O17,4)="form","873",IF(RIGHT(O17,7)="ce-cppt","902","")))))))))) | O20: =IF(N20="","",IF(OR(N$3=Recap!$A$50,N$3=Recap!$A$51,N$3=Recap!$A$52,N$3=Recap!$A$53,N$3=Recap!$A$54,N$3=Recap!$A$55,N$3=Recap!$A$56,N$3=Recap!$A$57,N$3=Recap!$A$58,N$3=Recap!$A$59,N$3=Recap!$A$60,N$3=Recap!$A$61),(N19+O19)/1,N19+O19)) | P20: =IF(RIGHT(Q17,4)="cuht","171",IF(RIGHT(Q17,4)="netu","172",IF(RIGHT(Q17,4)="auht","173",IF(OR(RIGHT(Q17,4)="ppou",RIGHT(Q17,5)="prepa"),"360",IF(RIGHT(Q17,4)="cpou","361",IF(OR(RIGHT(Q17,4)="apou",RIGHT(Q17,6)="molinf"),"363",IF(RIGHT(Q17,4)="netp","364",IF(RIGHT(Q17,4)="cmtr","365",IF(LEFT(Q17,4)="form","873",IF(RIGHT(Q17,7)="ce-cppt","902","")))))))))) -> 171 | Q20: =IF(P20="","",IF(OR(P$3=Recap!$A$50,P$3=Recap!$A$51,P$3=Recap!$A$52,P$3=Recap!$A$53,P$3=Recap!$A$54,P$3=Recap!$A$55,P$3=Recap!$A$56,P$3=Recap!$A$57,P$3=Recap!$A$58,P$3=Recap!$A$59,P$3=Recap!$A$60,P$3=Recap!$A$61),(P19+Q19)/1,P19+Q19)) -> 0.33333333 | R20: =IF(RIGHT(S17,4)="cuht","171",IF(RIGHT(S17,4)="netu","172",IF(RIGHT(S17,4)="auht","173",IF(OR(RIGHT(S17,4)="ppou",RIGHT(S17,5)="prepa"),"360",IF(RIGHT(S17,4)="cpou","361",IF(OR(RIGHT(S17,4)="apou",RIGHT(S17,6)="molinf"),"363",IF(RIGHT(S17,4)="netp","364",IF(RIGHT(S17,4)="cmtr","365",IF(LEFT(S17,4)="form","873",IF(RIGHT(S17,7)="ce-cppt","902","")))))))))) -> 171 | S20: =IF(R20="","",IF(OR(R$3=Recap!$A$50,R$3=Recap!$A$51,R$3=Recap!$A$52,R$3=Recap!$A$53,R$3=Recap!$A$54,R$3=Recap!$A$55,R$3=Recap!$A$56,R$3=Recap!$A$57,R$3=Recap!$A$58,R$3=Recap!$A$59,R$3=Recap!$A$60,R$3=Recap!$A$61),(R19+S19)/1,R19+S19)) -> 0.33333333 | T20: =IF(RIGHT(U17,4)="cuht","171",IF(RIGHT(U17,4)="netu","172",IF(RIGHT(U17,4)="auht","173",IF(OR(RIGHT(U17,4)="ppou",RIGHT(U17,5)="prepa"),"360",IF(RIGHT(U17,4)="cpou","361",IF(OR(RIGHT(U17,4)="apou",RIGHT(U17,6)="molinf"),"363",IF(RIGHT(U17,4)="netp","364",IF(RIGHT(U17,4)="cmtr","365",IF(LEFT(U17,4)="form","873",IF(RIGHT(U17,7)="ce-cppt","902","")))))))))) -> 171 | U20: =IF(T20="","",IF(OR(T$3=Recap!$A$50,T$3=Recap!$A$51,T$3=Recap!$A$52,T$3=Recap!$A$53,T$3=Recap!$A$54,T$3=Recap!$A$55,T$3=Recap!$A$56,T$3=Recap!$A$57,T$3=Recap!$A$58,T$3=Recap!$A$59,T$3=Recap!$A$60,T$3=Recap!$A$61),(T19+U19)/1,T19+U19)) -> 0.45833333 | V20: =IF(RIGHT(W17,4)="cuht","171",IF(RIGHT(W17,4)="netu","172",IF(RIGHT(W17,4)="auht","173",IF(OR(RIGHT(W17,4)="ppou",RIGHT(W17,5)="prepa"),"360",IF(RIGHT(W17,4)="cpou","361",IF(OR(RIGHT(W17,4)="apou",RIGHT(W17,6)="molinf"),"363",IF(RIGHT(W17,4)="netp","364",IF(RIGHT(W17,4)="cmtr","365",IF(LEFT(W17,4)="form","873",IF(RIGHT(W17,7)="ce-cppt","902","")))))))))) -> 171 | W20: =IF(V20="","",IF(OR(V$3=Recap!$A$50,V$3=Recap!$A$51,V$3=Recap!$A$52,V$3=Recap!$A$53,V$3=Recap!$A$54,V$3=Recap!$A$55,V$3=Recap!$A$56,V$3=Recap!$A$57,V$3=Recap!$A$58,V$3=Recap!$A$59,V$3=Recap!$A$60,V$3=Recap!$A$61),(V19+W19)/1,V19+W19)) -> 0.33333333 | X20: =IF(RIGHT(Y17,4)="cuht","171",IF(RIGHT(Y17,4)="netu","172",IF(RIGHT(Y17,4)="auht","173",IF(OR(RIGHT(Y17,4)="ppou",RIGHT(Y17,5)="prepa"),"360",IF(RIGHT(Y17,4)="cpou","361",IF(OR(RIGHT(Y17,4)="apou",RIGHT(Y17,6)="molinf"),"363",IF(RIGHT(Y17,4)="netp","364",IF(RIGHT(Y17,4)="cmtr","365",IF(LEFT(Y17,4)="form","873",IF(RIGHT(Y17,7)="ce-cppt","902","")))))))))) -> 171 | Y20: =IF(X20="","",IF(OR(X$3=Recap!$A$50,X$3=Recap!$A$51,X$3=Recap!$A$52,X$3=Recap!$A$53,X$3=Recap!$A$54,X$3=Recap!$A$55,X$3=Recap!$A$56,X$3=Recap!$A$57,X$3=Recap!$A$58,X$3=Recap!$A$59,X$3=Recap!$A$60,X$3=Recap!$A$61),(X19+Y19)/1,X19+Y19)) -> 0.33333333 | Z20: =IF(RIGHT(AA17,4)="cuht","171",IF(RIGHT(AA17,4)="netu","172",IF(RIGHT(AA17,4)="auht","173",IF(OR(RIGHT(AA17,4)="ppou",RIGHT(AA17,5)="prepa"),"360",IF(RIGHT(AA17,4)="cpou","361",IF(OR(RIGHT(AA17,4)="apou",RIGHT(AA17,6)="molinf"),"363",IF(RIGHT(AA17,4)="netp","364",IF(RIGHT(AA17,4)="cmtr","365",IF(LEFT(AA17,4)="form","873",IF(RIGHT(AA17,7)="ce-cppt","902","")))))))))) | AA20: =IF(Z20="","",IF(OR(Z$3=Recap!$A$50,Z$3=Recap!$A$51,Z$3=Recap!$A$52,Z$3=Recap!$A$53,Z$3=Recap!$A$54,Z$3=Recap!$A$55,Z$3=Recap!$A$56,Z$3=Recap!$A$57,Z$3=Recap!$A$58,Z$3=Recap!$A$59,Z$3=Recap!$A$60,Z$3=Recap!$A$61),(Z19+AA19)/1,Z19+AA19)) | AB20: =IF(RIGHT(AC17,4)="cuht","171",IF(RIGHT(AC17,4)="netu","172",IF(RIGHT(AC17,4)="auht","173",IF(OR(RIGHT(AC17,4)="ppou",RIGHT(AC17,5)="prepa"),"360",IF(RIGHT(AC17,4)="cpou","361",IF(OR(RIGHT(AC17,4)="apou",RIGHT(AC17,6)="molinf"),"363",IF(RIGHT(AC17,4)="netp","364",IF(RIGHT(AC17,4)="cmtr","365",IF(LEFT(AC17,4)="form","873",IF(RIGHT(AC17,7)="ce-cppt","902","")))))))))) | AC20: =IF(AB20="","",IF(OR(AB$3=Recap!$A$50,AB$3=Recap!$A$51,AB$3=Recap!$A$52,AB$3=Recap!$A$53,AB$3=Recap!$A$54,AB$3=Recap!$A$55,AB$3=Recap!$A$56,AB$3=Recap!$A$57,AB$3=Recap!$A$58,AB$3=Recap!$A$59,AB$3=Recap!$A$60,AB$3=Recap!$A$61),(AB19+AC19)/1,AB19+AC19)) | AE20: =IF(RIGHT(AF17,4)="cuht","171",IF(RIGHT(AF17,4)="netu","172",IF(RIGHT(AF17,4)="auht","173",IF(OR(RIGHT(AF17,4)="ppou",RIGHT(AF17,5)="prepa"),"360",IF(RIGHT(AF17,4)="cpou","361",IF(OR(RIGHT(AF17,4)="apou",RIGHT(AF17,6)="molinf"),"363",IF(RIGHT(AF17,4)="netp","364",IF(RIGHT(AF17,4)="cmtr","365",IF(LEFT(AF17,4)="form","873",IF(RIGHT(AF17,7)="ce-cppt","902","")))))))))) -> 171 | AF20: =IF(AE20="","",IF(OR(AE$3=Recap!$A$50,AE$3=Recap!$A$51,AE$3=Recap!$A$52,AE$3=Recap!$A$53,AE$3=Recap!$A$54,AE$3=Recap!$A$55,AE$3=Recap!$A$56,AE$3=Recap!$A$57,AE$3=Recap!$A$58,AE$3=Recap!$A$59,AE$3=Recap!$A$60,AE$3=Recap!$A$61),(AE19+AF19)/1,AE19+AF19)) -> 0 | AG20: =IF(RIGHT(AH17,4)="cuht","171",IF(RIGHT(AH17,4)="netu","172",IF(RIGHT(AH17,4)="auht","173",IF(OR(RIGHT(AH17,4)="ppou",RIGHT(AH17,5)="prepa"),"360",IF(RIGHT(AH17,4)="cpou","361",IF(OR(RIGHT(AH17,4)="apou",RIGHT(AH17,6)="molinf"),"363",IF(RIGHT(AH17,4)="netp","364",IF(RIGHT(AH17,4)="cmtr","365",IF(LEFT(AH17,4)="form","873",IF(RIGHT(AH17,7)="ce-cppt","902","")))))))))) | AH20: =IF(AG20="","",IF(OR(AG$3=Recap!$A$50,AG$3=Recap!$A$51,AG$3=Recap!$A$52,AG$3=Recap!$A$53,AG$3=Recap!$A$54,AG$3=Recap!$A$55,AG$3=Recap!$A$56,AG$3=Recap!$A$57,AG$3=Recap!$A$58,AG$3=Recap!$A$59,AG$3=Recap!$A$60,AG$3=Recap!$A$61),(AG19+AH19)/1,AG19+AH19)) | AI20: =IF(RIGHT(AJ17,4)="cuht","171",IF(RIGHT(AJ17,4)="netu","172",IF(RIGHT(AJ17,4)="auht","173",IF(OR(RIGHT(AJ17,4)="ppou",RIGHT(AJ17,5)="prepa"),"360",IF(RIGHT(AJ17,4)="cpou","361",IF(OR(RIGHT(AJ17,4)="apou",RIGHT(AJ17,6)="molinf"),"363",IF(RIGHT(AJ17,4)="netp","364",IF(RIGHT(AJ17,4)="cmtr","365",IF(LEFT(AJ17,4)="form","873",IF(RIGHT(AJ17,7)="ce-cppt","902","")))))))))) -> 171 | AJ20: =IF(AI20="","",IF(OR(AI$3=Recap!$A$50,AI$3=Recap!$A$51,AI$3=Recap!$A$52,AI$3=Recap!$A$53,AI$3=Recap!$A$54,AI$3=Recap!$A$55,AI$3=Recap!$A$56,AI$3=Recap!$A$57,AI$3=Recap!$A$58,AI$3=Recap!$A$59,AI$3=Recap!$A$60,AI$3=Recap!$A$61),(AI19+AJ19)/1,AI19+AJ19)) -> 0 | AK20: =IF(RIGHT(AL17,4)="cuht","171",IF(RIGHT(AL17,4)="netu","172",IF(RIGHT(AL17,4)="auht","173",IF(OR(RIGHT(AL17,4)="ppou",RIGHT(AL17,5)="prepa"),"360",IF(RIGHT(AL17,4)="cpou","361",IF(OR(RIGHT(AL17,4)="apou",RIGHT(AL17,6)="molinf"),"363",IF(RIGHT(AL17,4)="netp","364",IF(RIGHT(AL17,4)="cmtr","365",IF(LEFT(AL17,4)="form","873",IF(RIGHT(AL17,7)="ce-cppt","902","")))))))))) -> 171 | AL20: =IF(AK20="","",IF(OR(AK$3=Recap!$A$50,AK$3=Recap!$A$51,AK$3=Recap!$A$52,AK$3=Recap!$A$53,AK$3=Recap!$A$54,AK$3=Recap!$A$55,AK$3=Recap!$A$56,AK$3=Recap!$A$57,AK$3=Recap!$A$58,AK$3=Recap!$A$59,AK$3=Recap!$A$60,AK$3=Recap!$A$61),(AK19+AL19)/1,AK19+AL19)) -> 0 | AM20: =IF(RIGHT(AN17,4)="cuht","171",IF(RIGHT(AN17,4)="netu","172",IF(RIGHT(AN17,4)="auht","173",IF(OR(RIGHT(AN17,4)="ppou",RIGHT(AN17,5)="prepa"),"360",IF(RIGHT(AN17,4)="cpou","361",IF(OR(RIGHT(AN17,4)="apou",RIGHT(AN17,6)="molinf"),"363",IF(RIGHT(AN17,4)="netp","364",IF(RIGHT(AN17,4)="cmtr","365",IF(LEFT(AN17,4)="form","873",IF(RIGHT(AN17,7)="ce-cppt","902","")))))))))) -> 171 | AN20: =IF(AM20="","",IF(OR(AM$3=Recap!$A$50,AM$3=Recap!$A$51,AM$3=Recap!$A$52,AM$3=Recap!$A$53,AM$3=Recap!$A$54,AM$3=Recap!$A$55,AM$3=Recap!$A$56,AM$3=Recap!$A$57,AM$3=Recap!$A$58,AM$3=Recap!$A$59,AM$3=Recap!$A$60,AM$3=Recap!$A$61),(AM19+AN19)/1,AM19+AN19)) -> 0 | AO20: =IF(RIGHT(AP17,4)="cuht","171",IF(RIGHT(AP17,4)="netu","172",IF(RIGHT(AP17,4)="auht","173",IF(OR(RIGHT(AP17,4)="ppou",RIGHT(AP17,5)="prepa"),"360",IF(RIGHT(AP17,4)="cpou","361",IF(OR(RIGHT(AP17,4)="apou",RIGHT(AP17,6)="molinf"),"363",IF(RIGHT(AP17,4)="netp","364",IF(RIGHT(AP17,4)="cmtr","365",IF(LEFT(AP17,4)="form","873",IF(RIGHT(AP17,7)="ce-cppt","902","")))))))))) | AP20: =IF(AO20="","",IF(OR(AO$3=Recap!$A$50,AO$3=Recap!$A$51,AO$3=Recap!$A$52,AO$3=Recap!$A$53,AO$3=Recap!$A$54,AO$3=Recap!$A$55,AO$3=Recap!$A$56,AO$3=Recap!$A$57,AO$3=Recap!$A$58,AO$3=Recap!$A$59,AO$3=Recap!$A$60,AO$3=Recap!$A$61),(AO19+AP19)/1,AO19+AP19)) | AQ20: =IF(RIGHT(AR17,4)="cuht","171",IF(RIGHT(AR17,4)="netu","172",IF(RIGHT(AR17,4)="auht","173",IF(OR(RIGHT(AR17,4)="ppou",RIGHT(AR17,5)="prepa"),"360",IF(RIGHT(AR17,4)="cpou","361",IF(OR(RIGHT(AR17,4)="apou",RIGHT(AR17,6)="molinf"),"363",IF(RIGHT(AR17,4)="netp","364",IF(RIGHT(AR17,4)="cmtr","365",IF(LEFT(AR17,4)="form","873",IF(RIGHT(AR17,7)="ce-cppt","902","")))))))))) | AR20: =IF(AQ20="","",IF(OR(AQ$3=Recap!$A$50,AQ$3=Recap!$A$51,AQ$3=Recap!$A$52,AQ$3=Recap!$A$53,AQ$3=Recap!$A$54,AQ$3=Recap!$A$55,AQ$3=Recap!$A$56,AQ$3=Recap!$A$57,AQ$3=Recap!$A$58,AQ$3=Recap!$A$59,AQ$3=Recap!$A$60,AQ$3=Recap!$A$61),(AQ19+AR19)/1,AQ19+AR19)) | AT20: =IF(RIGHT(AU17,4)="cuht","171",IF(RIGHT(AU17,4)="netu","172",IF(RIGHT(AU17,4)="auht","173",IF(OR(RIGHT(AU17,4)="ppou",RIGHT(AU17,5)="prepa"),"360",IF(RIGHT(AU17,4)="cpou","361",IF(OR(RIGHT(AU17,4)="apou",RIGHT(AU17,6)="molinf"),"363",IF(RIGHT(AU17,4)="netp","364",IF(RIGHT(AU17,4)="cmtr","365",IF(LEFT(AU17,4)="form","873",IF(RIGHT(AU17,7)="ce-cppt","902","")))))))))) | AU20: =IF(AT20="","",IF(OR(AT$3=Recap!$A$50,AT$3=Recap!$A$51,AT$3=Recap!$A$52,AT$3=Recap!$A$53,AT$3=Recap!$A$54,AT$3=Recap!$A$55,AT$3=Recap!$A$56,AT$3=Recap!$A$57,AT$3=Recap!$A$58,AT$3=Recap!$A$59,AT$3=Recap!$A$60,AT$3=Recap!$A$61),(AT19+AU19)/1,AT19+AU19)) | AV20: =IF(RIGHT(AW17,4)="cuht","171",IF(RIGHT(AW17,4)="netu","172",IF(RIGHT(AW17,4)="auht","173",IF(OR(RIGHT(AW17,4)="ppou",RIGHT(AW17,5)="prepa"),"360",IF(RIGHT(AW17,4)="cpou","361",IF(OR(RIGHT(AW17,4)="apou",RIGHT(AW17,6)="molinf"),"363",IF(RIGHT(AW17,4)="netp","364",IF(RIGHT(AW17,4)="cmtr","365",IF(LEFT(AW17,4)="form","873",IF(RIGHT(AW17,7)="ce-cppt","902","")))))))))) | AW20: =IF(AV20="","",IF(OR(AV$3=Recap!$A$50,AV$3=Recap!$A$51,AV$3=Recap!$A$52,AV$3=Recap!$A$53,AV$3=Recap!$A$54,AV$3=Recap!$A$55,AV$3=Recap!$A$56,AV$3=Recap!$A$57,AV$3=Recap!$A$58,AV$3=Recap!$A$59,AV$3=Recap!$A$60,AV$3=Recap!$A$61),(AV19+AW19)/1,AV19+AW19)) | AX20: =IF(RIGHT(AY17,4)="cuht","171",IF(RIGHT(AY17,4)="netu","172",IF(RIGHT(AY17,4)="auht","173",IF(OR(RIGHT(AY17,4)="ppou",RIGHT(AY17,5)="prepa"),"360",IF(RIGHT(AY17,4)="cpou","361",IF(OR(RIGHT(AY17,4)="apou",RIGHT(AY17,6)="molinf"),"363",IF(RIGHT(AY17,4)="netp","364",IF(RIGHT(AY17,4)="cmtr","365",IF(LEFT(AY17,4)="form","873",IF(RIGHT(AY17,7)="ce-cppt","902","")))))))))) | AY20: =IF(AX20="","",IF(OR(AX$3=Recap!$A$50,AX$3=Recap!$A$51,AX$3=Recap!$A$52,AX$3=Recap!$A$53,AX$3=Recap!$A$54,AX$3=Recap!$A$55,AX$3=Recap!$A$56,AX$3=Recap!$A$57,AX$3=Recap!$A$58,AX$3=Recap!$A$59,AX$3=Recap!$A$60,AX$3=Recap!$A$61),(AX19+AY19)/1,AX19+AY19)) | AZ20: =IF(RIGHT(BA17,4)="cuht","171",IF(RIGHT(BA17,4)="netu","172",IF(RIGHT(BA17,4)="auht","173",IF(OR(RIGHT(BA17,4)="ppou",RIGHT(BA17,5)="prepa"),"360",IF(RIGHT(BA17,4)="cpou","361",IF(OR(RIGHT(BA17,4)="apou",RIGHT(BA17,6)="molinf"),"363",IF(RIGHT(BA17,4)="netp","364",IF(RIGHT(BA17,4)="cmtr","365",IF(LEFT(BA17,4)="form","873",IF(RIGHT(BA17,7)="ce-cppt","902","")))))))))) | BA20: =IF(AZ20="","",IF(OR(AZ$3=Recap!$A$50,AZ$3=Recap!$A$51,AZ$3=Recap!$A$52,AZ$3=Recap!$A$53,AZ$3=Recap!$A$54,AZ$3=Recap!$A$55,AZ$3=Recap!$A$56,AZ$3=Recap!$A$57,AZ$3=Recap!$A$58,AZ$3=Recap!$A$59,AZ$3=Recap!$A$60,AZ$3=Recap!$A$61),(AZ19+BA19)/1,AZ19+BA19)) | BB20: =IF(RIGHT(BC17,4)="cuht","171",IF(RIGHT(BC17,4)="netu","172",IF(RIGHT(BC17,4)="auht","173",IF(OR(RIGHT(BC17,4)="ppou",RIGHT(BC17,5)="prepa"),"360",IF(RIGHT(BC17,4)="cpou","361",IF(OR(RIGHT(BC17,4)="apou",RIGHT(BC17,6)="molinf"),"363",IF(RIGHT(BC17,4)="netp","364",IF(RIGHT(BC17,4)="cmtr","365",IF(LEFT(BC17,4)="form","873",IF(RIGHT(BC17,7)="ce-cppt","902","")))))))))) | BC20: =IF(BB20="","",IF(OR(BB$3=Recap!$A$50,BB$3=Recap!$A$51,BB$3=Recap!$A$52,BB$3=Recap!$A$53,BB$3=Recap!$A$54,BB$3=Recap!$A$55,BB$3=Recap!$A$56,BB$3=Recap!$A$57,BB$3=Recap!$A$58,BB$3=Recap!$A$59,BB$3=Recap!$A$60,BB$3=Recap!$A$61),(BB19+BC19)/1,BB19+BC19)) | BD20: =IF(RIGHT(BE17,4)="cuht","171",IF(RIGHT(BE17,4)="netu","172",IF(RIGHT(BE17,4)="auht","173",IF(OR(RIGHT(BE17,4)="ppou",RIGHT(BE17,5)="prepa"),"360",IF(RIGHT(BE17,4)="cpou","361",IF(OR(RIGHT(BE17,4)="apou",RIGHT(BE17,6)="molinf"),"363",IF(RIGHT(BE17,4)="netp","364",IF(RIGHT(BE17,4)="cmtr","365",IF(LEFT(BE17,4)="form","873",IF(RIGHT(BE17,7)="ce-cppt","902","")))))))))) | BE20: =IF(BD20="","",IF(OR(BD$3=Recap!$A$50,BD$3=Recap!$A$51,BD$3=Recap!$A$52,BD$3=Recap!$A$53,BD$3=Recap!$A$54,BD$3=Recap!$A$55,BD$3=Recap!$A$56,BD$3=Recap!$A$57,BD$3=Recap!$A$58,BD$3=Recap!$A$59,BD$3=Recap!$A$60,BD$3=Recap!$A$61),(BD19+BE19)/1,BD19+BE19)) | BF20: =IF(RIGHT(BG17,4)="cuht","171",IF(RIGHT(BG17,4)="netu","172",IF(RIGHT(BG17,4)="auht","173",IF(OR(RIGHT(BG17,4)="ppou",RIGHT(BG17,5)="prepa"),"360",IF(RIGHT(BG17,4)="cpou","361",IF(OR(RIGHT(BG17,4)="apou",RIGHT(BG17,6)="molinf"),"363",IF(RIGHT(BG17,4)="netp","364",IF(RIGHT(BG17,4)="cmtr","365",IF(LEFT(BG17,4)="form","873",IF(RIGHT(BG17,7)="ce-cppt","902","")))))))))) | BG20: =IF(BF20="","",IF(OR(BF$3=Recap!$A$50,BF$3=Recap!$A$51,BF$3=Recap!$A$52,BF$3=Recap!$A$53,BF$3=Recap!$A$54,BF$3=Recap!$A$55,BF$3=Recap!$A$56,BF$3=Recap!$A$57,BF$3=Recap!$A$58,BF$3=Recap!$A$59,BF$3=Recap!$A$60,BF$3=Recap!$A$61),(BF19+BG19)/1,BF19+BG19))
A21: totai | B21: 0.91666667 | C21: pause puht | E21: f | F21: 0.58333333 | G21: pause puht | H21: 0.58333333 | I21: pause puht | J21: 0.58333333 | K21: pause puht | P21: 0.91666667 | Q21: pause cuht | R21: 0.91666667 | S21: pause cuht | T21: 0.91666667 | U21: pause cuht | V21: 0.91666667 | W21: pause cuht | X21: 0.91666667 | Y21: pause cuht | AD21: =SUM(P23:AC23) -> 1.6666667 | AE21: 0.58333333 | AF21: pause cuht | AH21: f | AI21: 0.58333333 | AJ21: pause cuht | AK21: 0.58333333 | AL21: pause cuht | AM21: 0.58333333 | AN21: pause cuht | AS21: =SUM(AE23:AR23) -> 0 | BH21: =SUM(AT23:BG23) -> 0
B22: 0.25 | F22: 0.91666667 | H22: 0.91666667 | J22: 0.91666667 | P22: 0.25 | R22: 0.25 | T22: 0.25 | V22: 0.25 | X22: 0.25 | AE22: 0.91666667 | AI22: 0.91666667 | AK22: 0.91666667 | AM22: 0.91666667
B23: =IF(B$3>$BI$4,0,IF(OR(ISBLANK(B21),ISBLANK(B22),ISBLANK(C21),LEFT(C21,4)="jour",LEFT(C21,4)="form"),0,IF(COUNTIF(fériés,B$3)>0,MOD((B22-B21),1)*1,MOD((B22-B21),1)))) -> 0.33333333 | C23: =IF(B$3>$BI$4,0,IF(AND(ISNUMBER(B21),ISNUMBER(B22),OR(LEFT(C21,4)="jour",LEFT(C21,4)="form")),IF(COUNTIF(fériés,B$3)>0,MOD(-$BH$4+(B22-B21),1)*1,MOD(-$BH$4+(B22-B21),1)),IF(AND(ISBLANK(B21),ISBLANK(B22)),IF(OR(C21="r",C21="c",C21="a",C21="m",C21="f",C21="cp",C21="s",C21="congé parent"),$BH$3,0),0))) -> 0 | D23: =IF(D$3>$BI$4,0,IF(OR(ISBLANK(D21),ISBLANK(D22),ISBLANK(E21),LEFT(E21,4)="jour",LEFT(E21,4)="form"),0,IF(COUNTIF(fériés,D$3)>0,MOD((D22-D21),1)*1,MOD((D22-D21),1)))) -> 0 | E23: =IF(D$3>$BI$4,0,IF(AND(ISNUMBER(D21),ISNUMBER(D22),OR(LEFT(E21,4)="jour",LEFT(E21,4)="form")),IF(COUNTIF(fériés,D$3)>0,MOD(-$BH$4+(D22-D21),1)*1,MOD(-$BH$4+(D22-D21),1)),IF(AND(ISBLANK(D21),ISBLANK(D22)),IF(OR(E21="r",E21="c",E21="a",E21="m",E21="f",E21="cp",E21="s",E21="congé parent"),$BH$3,0),0))) -> 0.31666667 | F23: =IF(F$3>$BI$4,0,IF(OR(ISBLANK(F21),ISBLANK(F22),ISBLANK(G21),LEFT(G21,4)="jour",LEFT(G21,4)="form"),0,IF(COUNTIF(fériés,F$3)>0,MOD((F22-F21),1)*1,MOD((F22-F21),1)))) -> 0.33333333 | G23: =IF(F$3>$BI$4,0,IF(AND(ISNUMBER(F21),ISNUMBER(F22),OR(LEFT(G21,4)="jour",LEFT(G21,4)="form")),IF(COUNTIF(fériés,F$3)>0,MOD(-$BH$4+(F22-F21),1)*1,MOD(-$BH$4+(F22-F21),1)),IF(AND(ISBLANK(F21),ISBLANK(F22)),IF(OR(G21="r",G21="c",G21="a",G21="m",G21="f",G21="cp",G21="s",G21="congé parent"),$BH$3,0),0))) -> 0 | H23: =IF(H$3>$BI$4,0,IF(OR(ISBLANK(H21),ISBLANK(H22),ISBLANK(I21),LEFT(I21,4)="jour",LEFT(I21,4)="form"),0,IF(COUNTIF(fériés,H$3)>0,MOD((H22-H21),1)*1,MOD((H22-H21),1)))) -> 0.33333333 | I23: =IF(H$3>$BI$4,0,IF(AND(ISNUMBER(H21),ISNUMBER(H22),OR(LEFT(I21,4)="jour",LEFT(I21,4)="form")),IF(COUNTIF(fériés,H$3)>0,MOD(-$BH$4+(H22-H21),1)*1,MOD(-$BH$4+(H22-H21),1)),IF(AND(ISBLANK(H21),ISBLANK(H22)),IF(OR(I21="r",I21="c",I21="a",I21="m",I21="f",I21="cp",I21="s",I21="congé parent"),$BH$3,0),0))) -> 0 | J23: =IF(J$3>$BI$4,0,IF(OR(ISBLANK(J21),ISBLANK(J22),ISBLANK(K21),LEFT(K21,4)="jour",LEFT(K21,4)="form"),0,IF(COUNTIF(fériés,J$3)>0,MOD((J22-J21),1)*1,MOD((J22-J21),1)))) -> 0.33333333 | K23: =IF(J$3>$BI$4,0,IF(AND(ISNUMBER(J21),ISNUMBER(J22),OR(LEFT(K21,4)="jour",LEFT(K21,4)="form")),IF(COUNTIF(fériés,J$3)>0,MOD(-$BH$4+(J22-J21),1)*1,MOD(-$BH$4+(J22-J21),1)),IF(AND(ISBLANK(J21),ISBLANK(J22)),IF(OR(K21="r",K21="c",K21="a",K21="m",K21="f",K21="cp",K21="s",K21="congé parent"),$BH$3,0),0))) -> 0 | L23: =IF(L$3>$BI$4,0,IF(OR(ISBLANK(L21),ISBLANK(L22),ISBLANK(M21),LEFT(M21,4)="jour",LEFT(M21,4)="form"),0,IF(COUNTIF(fériés,L$3)>0,MOD((L22-L21),1)*1,MOD((L22-L21),1)))) -> 0 | M23: =IF(L$3>$BI$4,0,IF(AND(ISNUMBER(L21),ISNUMBER(L22),OR(LEFT(M21,4)="jour",LEFT(M21,4)="form")),IF(COUNTIF(fériés,L$3)>0,MOD(-$BH$4+(L22-L21),1)*1,MOD(-$BH$4+(L22-L21),1)),IF(AND(ISBLANK(L21),ISBLANK(L22)),IF(OR(M21="r",M21="c",M21="a",M21="m",M21="f",M21="cp",M21="s",M21="congé parent"),$BH$3,0),0))) -> 0 | N23: =IF(N$3>$BI$4,0,IF(OR(ISBLANK(N21),ISBLANK(N22),ISBLANK(O21),LEFT(O21,4)="jour",LEFT(O21,4)="form"),0,IF(COUNTIF(fériés,N$3)>0,MOD((N22-N21),1)*1,MOD((N22-N21),1)))) -> 0 | O23: =IF(N$3>$BI$4,0,IF(AND(ISNUMBER(N21),ISNUMBER(N22),OR(LEFT(O21,4)="jour",LEFT(O21,4)="form")),IF(COUNTIF(fériés,N$3)>0,MOD(-$BH$4+(N22-N21),1)*1,MOD(-$BH$4+(N22-N21),1)),IF(AND(ISBLANK(N21),ISBLANK(N22)),IF(OR(O21="r",O21="c",O21="a",O21="m",O21="f",O21="cp",O21="s",O21="congé parent"),$BH$3,0),0))) -> 0 | P23: =IF(P$3>$BI$4,0,IF(OR(ISBLANK(P21),ISBLANK(P22),ISBLANK(Q21),LEFT(Q21,4)="jour",LEFT(Q21,4)="form"),0,IF(COUNTIF(fériés,P$3)>0,MOD((P22-P21),1)*1,MOD((P22-P21),1)))) -> 0.33333333 | Q23: =IF(P$3>$BI$4,0,IF(AND(ISNUMBER(P21),ISNUMBER(P22),OR(LEFT(Q21,4)="jour",LEFT(Q21,4)="form")),IF(COUNTIF(fériés,P$3)>0,MOD(-$BH$4+(P22-P21),1)*1,MOD(-$BH$4+(P22-P21),1)),IF(AND(ISBLANK(P21),ISBLANK(P22)),IF(OR(Q21="r",Q21="c",Q21="a",Q21="m",Q21="f",Q21="cp",Q21="s",Q21="congé parent"),$BH$3,0),0))) -> 0 | R23: =IF(R$3>$BI$4,0,IF(OR(ISBLANK(R21),ISBLANK(R22),ISBLANK(S21),LEFT(S21,4)="jour",LEFT(S21,4)="form"),0,IF(COUNTIF(fériés,R$3)>0,MOD((R22-R21),1)*1,MOD((R22-R21),1)))) -> 0.33333333 | S23: =IF(R$3>$BI$4,0,IF(AND(ISNUMBER(R21),ISNUMBER(R22),OR(LEFT(S21,4)="jour",LEFT(S21,4)="form")),IF(COUNTIF(fériés,R$3)>0,MOD(-$BH$4+(R22-R21),1)*1,MOD(-$BH$4+(R22-R21),1)),IF(AND(ISBLANK(R21),ISBLANK(R22)),IF(OR(S21="r",S21="c",S21="a",S21="m",S21="f",S21="cp",S21="s",S21="congé parent"),$BH$3,0),0))) -> 0 | T23: =IF(T$3>$BI$4,0,IF(OR(ISBLANK(T21),ISBLANK(T22),ISBLANK(U21),LEFT(U21,4)="jour",LEFT(U21,4)="form"),0,IF(COUNTIF(fériés,T$3)>0,MOD((T22-T21),1)*1,MOD((T22-T21),1)))) -> 0.33333333 | U23: =IF(T$3>$BI$4,0,IF(AND(ISNUMBER(T21),ISNUMBER(T22),OR(LEFT(U21,4)="jour",LEFT(U21,4)="form")),IF(COUNTIF(fériés,T$3)>0,MOD(-$BH$4+(T22-T21),1)*1,MOD(-$BH$4+(T22-T21),1)),IF(AND(ISBLANK(T21),ISBLANK(T22)),IF(OR(U21="r",U21="c",U21="a",U21="m",U21="f",U21="cp",U21="s",U21="congé parent"),$BH$3,0),0))) -> 0 | V23: =IF(V$3>$BI$4,0,IF(OR(ISBLANK(V21),ISBLANK(V22),ISBLANK(W21),LEFT(W21,4)="jour",LEFT(W21,4)="form"),0,IF(COUNTIF(fériés,V$3)>0,MOD((V22-V21),1)*1,MOD((V22-V21),1)))) -> 0.33333333 | W23: =IF(V$3>$BI$4,0,IF(AND(ISNUMBER(V21),ISNUMBER(V22),OR(LEFT(W21,4)="jour",LEFT(W21,4)="form")),IF(COUNTIF(fériés,V$3)>0,MOD(-$BH$4+(V22-V21),1)*1,MOD(-$BH$4+(V22-V21),1)),IF(AND(ISBLANK(V21),ISBLANK(V22)),IF(OR(W21="r",W21="c",W21="a",W21="m",W21="f",W21="cp",W21="s",W21="congé parent"),$BH$3,0),0))) -> 0 | X23: =IF(X$3>$BI$4,0,IF(OR(ISBLANK(X21),ISBLANK(X22),ISBLANK(Y21),LEFT(Y21,4)="jour",LEFT(Y21,4)="form"),0,IF(COUNTIF(fériés,X$3)>0,MOD((X22-X21),1)*1,MOD((X22-X21),1)))) -> 0.33333333 | Y23: =IF(X$3>$BI$4,0,IF(AND(ISNUMBER(X21),ISNUMBER(X22),OR(LEFT(Y21,4)="jour",LEFT(Y21,4)="form")),IF(COUNTIF(fériés,X$3)>0,MOD(-$BH$4+(X22-X21),1)*1,MOD(-$BH$4+(X22-X21),1)),IF(AND(ISBLANK(X21),ISBLANK(X22)),IF(OR(Y21="r",Y21="c",Y21="a",Y21="m",Y21="f",Y21="cp",Y21="s",Y21="congé parent"),$BH$3,0),0))) -> 0 | Z23: =IF(Z$3>$BI$4,0,IF(OR(ISBLANK(Z21),ISBLANK(Z22),ISBLANK(AA21),LEFT(AA21,4)="jour",LEFT(AA21,4)="form"),0,IF(COUNTIF(fériés,Z$3)>0,MOD((Z22-Z21),1)*1,MOD((Z22-Z21),1)))) -> 0 | AA23: =IF(Z$3>$BI$4,0,IF(AND(ISNUMBER(Z21),ISNUMBER(Z22),OR(LEFT(AA21,4)="jour",LEFT(AA21,4)="form")),IF(COUNTIF(fériés,Z$3)>0,MOD(-$BH$4+(Z22-Z21),1)*1,MOD(-$BH$4+(Z22-Z21),1)),IF(AND(ISBLANK(Z21),ISBLANK(Z22)),IF(OR(AA21="r",AA21="c",AA21="a",AA21="m",AA21="f",AA21="cp",AA21="s",AA21="congé parent"),$BH$3,0),0))) -> 0 | AB23: =IF(AB$3>$BI$4,0,IF(OR(ISBLANK(AB21),ISBLANK(AB22),ISBLANK(AC21),LEFT(AC21,4)="jour",LEFT(AC21,4)="form"),0,IF(COUNTIF(fériés,AB$3)>0,MOD((AB22-AB21),1)*1,MOD((AB22-AB21),1)))) -> 0 | AC23: =IF(AB$3>$BI$4,0,IF(AND(ISNUMBER(AB21),ISNUMBER(AB22),OR(LEFT(AC21,4)="jour",LEFT(AC21,4)="form")),IF(COUNTIF(fériés,AB$3)>0,MOD(-$BH$4+(AB22-AB21),1)*1,MOD(-$BH$4+(AB22-AB21),1)),IF(AND(ISBLANK(AB21),ISBLANK(AB22)),IF(OR(AC21="r",AC21="c",AC21="a",AC21="m",AC21="f",AC21="cp",AC21="s",AC21="congé parent"),$BH$3,0),0))) -> 0 | AE23: =IF(AE$3>$BI$4,0,IF(OR(ISBLANK(AE21),ISBLANK(AE22),ISBLANK(AF21),LEFT(AF21,4)="jour",LEFT(AF21,4)="form"),0,IF(COUNTIF(fériés,AE$3)>0,MOD((AE22-AE21),1)*1,MOD((AE22-AE21),1)))) -> 0 | AF23: =IF(AE$3>$BI$4,0,IF(AND(ISNUMBER(AE21),ISNUMBER(AE22),OR(LEFT(AF21,4)="jour",LEFT(AF21,4)="form")),IF(COUNTIF(fériés,AE$3)>0,MOD(-$BH$4+(AE22-AE21),1)*1,MOD(-$BH$4+(AE22-AE21),1)),IF(AND(ISBLANK(AE21),ISBLANK(AE22)),IF(OR(AF21="r",AF21="c",AF21="a",AF21="m",AF21="f",AF21="cp",AF21="s",AF21="congé parent"),$BH$3,0),0))) -> 0 | AG23: =IF(AG$3>$BI$4,0,IF(OR(ISBLANK(AG21),ISBLANK(AG22),ISBLANK(AH21),LEFT(AH21,4)="jour",LEFT(AH21,4)="form"),0,IF(COUNTIF(fériés,AG$3)>0,MOD((AG22-AG21),1)*1,MOD((AG22-AG21),1)))) -> 0 | AH23: =IF(AG$3>$BI$4,0,IF(AND(ISNUMBER(AG21),ISNUMBER(AG22),OR(LEFT(AH21,4)="jour",LEFT(AH21,4)="form")),IF(COUNTIF(fériés,AG$3)>0,MOD(-$BH$4+(AG22-AG21),1)*1,MOD(-$BH$4+(AG22-AG21),1)),IF(AND(ISBLANK(AG21),ISBLANK(AG22)),IF(OR(AH21="r",AH21="c",AH21="a",AH21="m",AH21="f",AH21="cp",AH21="s",AH21="congé parent"),$BH$3,0),0))) -> 0 | AI23: =IF(AI$3>$BI$4,0,IF(OR(ISBLANK(AI21),ISBLANK(AI22),ISBLANK(AJ21),LEFT(AJ21,4)="jour",LEFT(AJ21,4)="form"),0,IF(COUNTIF(fériés,AI$3)>0,MOD((AI22-AI21),1)*1,MOD((AI22-AI21),1)))) -> 0 | AJ23: =IF(AI$3>$BI$4,0,IF(AND(ISNUMBER(AI21),ISNUMBER(AI22),OR(LEFT(AJ21,4)="jour",LEFT(AJ21,4)="form")),IF(COUNTIF(fériés,AI$3)>0,MOD(-$BH$4+(AI22-AI21),1)*1,MOD(-$BH$4+(AI22-AI21),1)),IF(AND(ISBLANK(AI21),ISBLANK(AI22)),IF(OR(AJ21="r",AJ21="c",AJ21="a",AJ21="m",AJ21="f",AJ21="cp",AJ21="s",AJ21="congé parent"),$BH$3,0),0))) -> 0 | AK23: =IF(AK$3>$BI$4,0,IF(OR(ISBLANK(AK21),ISBLANK(AK22),ISBLANK(AL21),LEFT(AL21,4)="jour",LEFT(AL21,4)="form"),0,IF(COUNTIF(fériés,AK$3)>0,MOD((AK22-AK21),1)*1,MOD((AK22-AK21),1)))) -> 0 | AL23: =IF(AK$3>$BI$4,0,IF(AND(ISNUMBER(AK21),ISNUMBER(AK22),OR(LEFT(AL21,4)="jour",LEFT(AL21,4)="form")),IF(COUNTIF(fériés,AK$3)>0,MOD(-$BH$4+(AK22-AK21),1)*1,MOD(-$BH$4+(AK22-AK21),1)),IF(AND(ISBLANK(AK21),ISBLANK(AK22)),IF(OR(AL21="r",AL21="c",AL21="a",AL21="m",AL21="f",AL21="cp",AL21="s",AL21="congé parent"),$BH$3,0),0))) -> 0 | AM23: =IF(AM$3>$BI$4,0,IF(OR(ISBLANK(AM21),ISBLANK(AM22),ISBLANK(AN21),LEFT(AN21,4)="jour",LEFT(AN21,4)="form"),0,IF(COUNTIF(fériés,AM$3)>0,MOD((AM22-AM21),1)*1,MOD((AM22-AM21),1)))) -> 0 | AN23: =IF(AM$3>$BI$4,0,IF(AND(ISNUMBER(AM21),ISNUMBER(AM22),OR(LEFT(AN21,4)="jour",LEFT(AN21,4)="form")),IF(COUNTIF(fériés,AM$3)>0,MOD(-$BH$4+(AM22-AM21),1)*1,MOD(-$BH$4+(AM22-AM21),1)),IF(AND(ISBLANK(AM21),ISBLANK(AM22)),IF(OR(AN21="r",AN21="c",AN21="a",AN21="m",AN21="f",AN21="cp",AN21="s",AN21="congé parent"),$BH$3,0),0))) -> 0 | AO23: =IF(AO$3>$BI$4,0,IF(OR(ISBLANK(AO21),ISBLANK(AO22),ISBLANK(AP21),LEFT(AP21,4)="jour",LEFT(AP21,4)="form"),0,IF(COUNTIF(fériés,AO$3)>0,MOD((AO22-AO21),1)*1,MOD((AO22-AO21),1)))) -> 0 | AP23: =IF(AO$3>$BI$4,0,IF(AND(ISNUMBER(AO21),ISNUMBER(AO22),OR(LEFT(AP21,4)="jour",LEFT(AP21,4)="form")),IF(COUNTIF(fériés,AO$3)>0,MOD(-$BH$4+(AO22-AO21),1)*1,MOD(-$BH$4+(AO22-AO21),1)),IF(AND(ISBLANK(AO21),ISBLANK(AO22)),IF(OR(AP21="r",AP21="c",AP21="a",AP21="m",AP21="f",AP21="cp",AP21="s",AP21="congé parent"),$BH$3,0),0))) -> 0 | AQ23: =IF(AQ$3>$BI$4,0,IF(OR(ISBLANK(AQ21),ISBLANK(AQ22),ISBLANK(AR21),LEFT(AR21,4)="jour",LEFT(AR21,4)="form"),0,IF(COUNTIF(fériés,AQ$3)>0,MOD((AQ22-AQ21),1)*1,MOD((AQ22-AQ21),1)))) -> 0 | AR23: =IF(AQ$3>$BI$4,0,IF(AND(ISNUMBER(AQ21),ISNUMBER(AQ22),OR(LEFT(AR21,4)="jour",LEFT(AR21,4)="form")),IF(COUNTIF(fériés,AQ$3)>0,MOD(-$BH$4+(AQ22-AQ21),1)*1,MOD(-$BH$4+(AQ22-AQ21),1)),IF(AND(ISBLANK(AQ21),ISBLANK(AQ22)),IF(OR(AR21="r",AR21="c",AR21="a",AR21="m",AR21="f",AR21="cp",AR21="s",AR21="congé parent"),$BH$3,0),0))) -> 0 | AT23: =IF(AT$3>$BI$4,0,IF(OR(ISBLANK(AT21),ISBLANK(AT22),ISBLANK(AU21),LEFT(AU21,4)="jour",LEFT(AU21,4)="form"),0,IF(COUNTIF(fériés,AT$3)>0,MOD((AT22-AT21),1)*1,MOD((AT22-AT21),1)))) -> 0 | AU23: =IF(AT$3>$BI$4,0,IF(AND(ISNUMBER(AT21),ISNUMBER(AT22),OR(LEFT(AU21,4)="jour",LEFT(AU21,4)="form")),IF(COUNTIF(fériés,AT$3)>0,MOD(-$BH$4+(AT22-AT21),1)*1,MOD(-$BH$4+(AT22-AT21),1)),IF(AND(ISBLANK(AT21),ISBLANK(AT22)),IF(OR(AU21="r",AU21="c",AU21="a",AU21="m",AU21="f",AU21="cp",AU21="s",AU21="congé parent"),$BH$3,0),0))) -> 0 | AV23: =IF(AV$3>$BI$4,0,IF(OR(ISBLANK(AV21),ISBLANK(AV22),ISBLANK(AW21),LEFT(AW21,4)="jour",LEFT(AW21,4)="form"),0,IF(COUNTIF(fériés,AV$3)>0,MOD((AV22-AV21),1)*1,MOD((AV22-AV21),1)))) -> 0 | AW23: =IF(AV$3>$BI$4,0,IF(AND(ISNUMBER(AV21),ISNUMBER(AV22),OR(LEFT(AW21,4)="jour",LEFT(AW21,4)="form")),IF(COUNTIF(fériés,AV$3)>0,MOD(-$BH$4+(AV22-AV21),1)*1,MOD(-$BH$4+(AV22-AV21),1)),IF(AND(ISBLANK(AV21),ISBLANK(AV22)),IF(OR(AW21="r",AW21="c",AW21="a",AW21="m",AW21="f",AW21="cp",AW21="s",AW21="congé parent"),$BH$3,0),0))) -> 0 | AX23: =IF(AX$3>$BI$4,0,IF(OR(ISBLANK(AX21),ISBLANK(AX22),ISBLANK(AY21),LEFT(AY21,4)="jour",LEFT(AY21,4)="form"),0,IF(COUNTIF(fériés,AX$3)>0,MOD((AX22-AX21),1)*1,MOD((AX22-AX21),1)))) -> 0 | AY23: =IF(AX$3>$BI$4,0,IF(AND(ISNUMBER(AX21),ISNUMBER(AX22),OR(LEFT(AY21,4)="jour",LEFT(AY21,4)="form")),IF(COUNTIF(fériés,AX$3)>0,MOD(-$BH$4+(AX22-AX21),1)*1,MOD(-$BH$4+(AX22-AX21),1)),IF(AND(ISBLANK(AX21),ISBLANK(AX22)),IF(OR(AY21="r",AY21="c",AY21="a",AY21="m",AY21="f",AY21="cp",AY21="s",AY21="congé parent"),$BH$3,0),0))) -> 0 | AZ23: =IF(AZ$3>$BI$4,0,IF(OR(ISBLANK(AZ21),ISBLANK(AZ22),ISBLANK(BA21),LEFT(BA21,4)="jour",LEFT(BA21,4)="form"),0,IF(COUNTIF(fériés,AZ$3)>0,MOD((AZ22-AZ21),1)*1,MOD((AZ22-AZ21),1)))) -> 0 | BA23: =IF(AZ$3>$BI$4,0,IF(AND(ISNUMBER(AZ21),ISNUMBER(AZ22),OR(LEFT(BA21,4)="jour",LEFT(BA21,4)="form")),IF(COUNTIF(fériés,AZ$3)>0,MOD(-$BH$4+(AZ22-AZ21),1)*1,MOD(-$BH$4+(AZ22-AZ21),1)),IF(AND(ISBLANK(AZ21),ISBLANK(AZ22)),IF(OR(BA21="r",BA21="c",BA21="a",BA21="m",BA21="f",BA21="cp",BA21="s",BA21="congé parent"),$BH$3,0),0))) -> 0 | BB23: =IF(BB$3>$BI$4,0,IF(OR(ISBLANK(BB21),ISBLANK(BB22),ISBLANK(BC21),LEFT(BC21,4)="jour",LEFT(BC21,4)="form"),0,IF(COUNTIF(fériés,BB$3)>0,MOD((BB22-BB21),1)*1,MOD((BB22-BB21),1)))) -> 0 | BC23: =IF(BB$3>$BI$4,0,IF(AND(ISNUMBER(BB21),ISNUMBER(BB22),OR(LEFT(BC21,4)="jour",LEFT(BC21,4)="form")),IF(COUNTIF(fériés,BB$3)>0,MOD(-$BH$4+(BB22-BB21),1)*1,MOD(-$BH$4+(BB22-BB21),1)),IF(AND(ISBLANK(BB21),ISBLANK(BB22)),IF(OR(BC21="r",BC21="c",BC21="a",BC21="m",BC21="f",BC21="cp",BC21="s",BC21="congé parent"),$BH$3,0),0))) -> 0 | BD23: =IF(BD$3>$BI$4,0,IF(OR(ISBLANK(BD21),ISBLANK(BD22),ISBLANK(BE21),LEFT(BE21,4)="jour",LEFT(BE21,4)="form"),0,IF(COUNTIF(fériés,BD$3)>0,MOD((BD22-BD21),1)*1,MOD((BD22-BD21),1)))) -> 0 | BE23: =IF(BD$3>$BI$4,0,IF(AND(ISNUMBER(BD21),ISNUMBER(BD22),OR(LEFT(BE21,4)="jour",LEFT(BE21,4)="form")),IF(COUNTIF(fériés,BD$3)>0,MOD(-$BH$4+(BD22-BD21),1)*1,MOD(-$BH$4+(BD22-BD21),1)),IF(AND(ISBLANK(BD21),ISBLANK(BD22)),IF(OR(BE21="r",BE21="c",BE21="a",BE21="m",BE21="f",BE21="cp",BE21="s",BE21="congé parent"),$BH$3,0),0))) -> 0 | BF23: =IF(BF$3>$BI$4,0,IF(OR(ISBLANK(BF21),ISBLANK(BF22),ISBLANK(BG21),LEFT(BG21,4)="jour",LEFT(BG21,4)="form"),0,IF(COUNTIF(fériés,BF$3)>0,MOD((BF22-BF21),1)*1,MOD((BF22-BF21),1)))) -> 0 | BG23: =IF(BF$3>$BI$4,0,IF(AND(ISNUMBER(BF21),ISNUMBER(BF22),OR(LEFT(BG21,4)="jour",LEFT(BG21,4)="form")),IF(COUNTIF(fériés,BF$3)>0,MOD(-$BH$4+(BF22-BF21),1)*1,MOD(-$BH$4+(BF22-BF21),1)),IF(AND(ISBLANK(BF21),ISBLANK(BF22)),IF(OR(BG21="r",BG21="c",BG21="a",BG21="m",BG21="f",BG21="cp",BG21="s",BG21="congé parent"),$BH$3,0),0))) -> 0 | BH23: =SUM(B23:BG23) -> 3.3166667
B24: =IF(RIGHT(C21,4)="cuht","171",IF(RIGHT(C21,4)="netu","172",IF(RIGHT(C21,4)="auht","173",IF(OR(RIGHT(C21,4)="ppou",RIGHT(C21,5)="prepa"),"360",IF(RIGHT(C21,4)="cpou","361",IF(OR(RIGHT(C21,4)="apou",RIGHT(C21,6)="molinf"),"363",IF(RIGHT(C21,4)="netp","364",IF(RIGHT(C21,4)="cmtr","365",IF(LEFT(C21,4)="form","873",IF(RIGHT(C21,7)="ce-cppt","902","")))))))))) | C24: =IF(B24="","",IF(OR(B$3=Recap!$A$50,B$3=Recap!$A$51,B$3=Recap!$A$52,B$3=Recap!$A$53,B$3=Recap!$A$54,B$3=Recap!$A$55,B$3=Recap!$A$56,B$3=Recap!$A$57,B$3=Recap!$A$58,B$3=Recap!$A$59,B$3=Recap!$A$60,B$3=Recap!$A$61),(B23+C23)/1,B23+C23)) | D24: =IF(RIGHT(E21,4)="cuht","171",IF(RIGHT(E21,4)="netu","172",IF(RIGHT(E21,4)="auht","173",IF(OR(RIGHT(E21,4)="ppou",RIGHT(E21,5)="prepa"),"360",IF(RIGHT(E21,4)="cpou","361",IF(OR(RIGHT(E21,4)="apou",RIGHT(E21,6)="molinf"),"363",IF(RIGHT(E21,4)="netp","364",IF(RIGHT(E21,4)="cmtr","365",IF(LEFT(E21,4)="form","873",IF(RIGHT(E21,7)="ce-cppt","902","")))))))))) | E24: =IF(D24="","",IF(OR(D$3=Recap!$A$50,D$3=Recap!$A$51,D$3=Recap!$A$52,D$3=Recap!$A$53,D$3=Recap!$A$54,D$3=Recap!$A$55,D$3=Recap!$A$56,D$3=Recap!$A$57,D$3=Recap!$A$58,D$3=Recap!$A$59,D$3=Recap!$A$60,D$3=Recap!$A$61),(D23+E23)/1,D23+E23)) | F24: =IF(RIGHT(G21,4)="cuht","171",IF(RIGHT(G21,4)="netu","172",IF(RIGHT(G21,4)="auht","173",IF(OR(RIGHT(G21,4)="ppou",RIGHT(G21,5)="prepa"),"360",IF(RIGHT(G21,4)="cpou","361",IF(OR(RIGHT(G21,4)="apou",RIGHT(G21,6)="molinf"),"363",IF(RIGHT(G21,4)="netp","364",IF(RIGHT(G21,4)="cmtr","365",IF(LEFT(G21,4)="form","873",IF(RIGHT(G21,7)="ce-cppt","902","")))))))))) | G24: =IF(F24="","",IF(OR(F$3=Recap!$A$50,F$3=Recap!$A$51,F$3=Recap!$A$52,F$3=Recap!$A$53,F$3=Recap!$A$54,F$3=Recap!$A$55,F$3=Recap!$A$56,F$3=Recap!$A$57,F$3=Recap!$A$58,F$3=Recap!$A$59,F$3=Recap!$A$60,F$3=Recap!$A$61),(F23+G23)/1,F23+G23)) | H24: =IF(RIGHT(I21,4)="cuht","171",IF(RIGHT(I21,4)="netu","172",IF(RIGHT(I21,4)="auht","173",IF(OR(RIGHT(I21,4)="ppou",RIGHT(I21,5)="prepa"),"360",IF(RIGHT(I21,4)="cpou","361",IF(OR(RIGHT(I21,4)="apou",RIGHT(I21,6)="molinf"),"363",IF(RIGHT(I21,4)="netp","364",IF(RIGHT(I21,4)="cmtr","365",IF(LEFT(I21,4)="form","873",IF(RIGHT(I21,7)="ce-cppt","902","")))))))))) | I24: =IF(H24="","",IF(OR(H$3=Recap!$A$50,H$3=Recap!$A$51,H$3=Recap!$A$52,H$3=Recap!$A$53,H$3=Recap!$A$54,H$3=Recap!$A$55,H$3=Recap!$A$56,H$3=Recap!$A$57,H$3=Recap!$A$58,H$3=Recap!$A$59,H$3=Recap!$A$60,H$3=Recap!$A$61),(H23+I23)/1,H23+I23)) | J24: =IF(RIGHT(K21,4)="cuht","171",IF(RIGHT(K21,4)="netu","172",IF(RIGHT(K21,4)="auht","173",IF(OR(RIGHT(K21,4)="ppou",RIGHT(K21,5)="prepa"),"360",IF(RIGHT(K21,4)="cpou","361",IF(OR(RIGHT(K21,4)="apou",RIGHT(K21,6)="molinf"),"363",IF(RIGHT(K21,4)="netp","364",IF(RIGHT(K21,4)="cmtr","365",IF(LEFT(K21,4)="form","873",IF(RIGHT(K21,7)="ce-cppt","902","")))))))))) | K24: =IF(J24="","",IF(OR(J$3=Recap!$A$50,J$3=Recap!$A$51,J$3=Recap!$A$52,J$3=Recap!$A$53,J$3=Recap!$A$54,J$3=Recap!$A$55,J$3=Recap!$A$56,J$3=Recap!$A$57,J$3=Recap!$A$58,J$3=Recap!$A$59,J$3=Recap!$A$60,J$3=Recap!$A$61),(J23+K23)/1,J23+K23)) | L24: =IF(RIGHT(M21,4)="cuht","171",IF(RIGHT(M21,4)="netu","172",IF(RIGHT(M21,4)="auht","173",IF(OR(RIGHT(M21,4)="ppou",RIGHT(M21,5)="prepa"),"360",IF(RIGHT(M21,4)="cpou","361",IF(OR(RIGHT(M21,4)="apou",RIGHT(M21,6)="molinf"),"363",IF(RIGHT(M21,4)="netp","364",IF(RIGHT(M21,4)="cmtr","365",IF(LEFT(M21,4)="form","873",IF(RIGHT(M21,7)="ce-cppt","902","")))))))))) | M24: =IF(L24="","",IF(OR(L$3=Recap!$A$50,L$3=Recap!$A$51,L$3=Recap!$A$52,L$3=Recap!$A$53,L$3=Recap!$A$54,L$3=Recap!$A$55,L$3=Recap!$A$56,L$3=Recap!$A$57,L$3=Recap!$A$58,L$3=Recap!$A$59,L$3=Recap!$A$60,L$3=Recap!$A$61),(L23+M23)/1,L23+M23)) | N24: =IF(RIGHT(O21,4)="cuht","171",IF(RIGHT(O21,4)="netu","172",IF(RIGHT(O21,4)="auht","173",IF(OR(RIGHT(O21,4)="ppou",RIGHT(O21,5)="prepa"),"360",IF(RIGHT(O21,4)="cpou","361",IF(OR(RIGHT(O21,4)="apou",RIGHT(O21,6)="molinf"),"363",IF(RIGHT(O21,4)="netp","364",IF(RIGHT(O21,4)="cmtr","365",IF(LEFT(O21,4)="form","873",IF(RIGHT(O21,7)="ce-cppt","902","")))))))))) | O24: =IF(N24="","",IF(OR(N$3=Recap!$A$50,N$3=Recap!$A$51,N$3=Recap!$A$52,N$3=Recap!$A$53,N$3=Recap!$A$54,N$3=Recap!$A$55,N$3=Recap!$A$56,N$3=Recap!$A$57,N$3=Recap!$A$58,N$3=Recap!$A$59,N$3=Recap!$A$60,N$3=Recap!$A$61),(N23+O23)/1,N23+O23)) | P24: =IF(RIGHT(Q21,4)="cuht","171",IF(RIGHT(Q21,4)="netu","172",IF(RIGHT(Q21,4)="auht","173",IF(OR(RIGHT(Q21,4)="ppou",RIGHT(Q21,5)="prepa"),"360",IF(RIGHT(Q21,4)="cpou","361",IF(OR(RIGHT(Q21,4)="apou",RIGHT(Q21,6)="molinf"),"363",IF(RIGHT(Q21,4)="netp","364",IF(RIGHT(Q21,4)="cmtr","365",IF(LEFT(Q21,4)="form","873",IF(RIGHT(Q21,7)="ce-cppt","902","")))))))))) -> 171 | Q24: =IF(P24="","",IF(OR(P$3=Recap!$A$50,P$3=Recap!$A$51,P$3=Recap!$A$52,P$3=Recap!$A$53,P$3=Recap!$A$54,P$3=Recap!$A$55,P$3=Recap!$A$56,P$3=Recap!$A$57,P$3=Recap!$A$58,P$3=Recap!$A$59,P$3=Recap!$A$60,P$3=Recap!$A$61),(P23+Q23)/1,P23+Q23)) -> 0.33333333 | R24: =IF(RIGHT(S21,4)="cuht","171",IF(RIGHT(S21,4)="netu","172",IF(RIGHT(S21,4)="auht","173",IF(OR(RIGHT(S21,4)="ppou",RIGHT(S21,5)="prepa"),"360",IF(RIGHT(S21,4)="cpou","361",IF(OR(RIGHT(S21,4)="apou",RIGHT(S21,6)="molinf"),"363",IF(RIGHT(S21,4)="netp","364",IF(RIGHT(S21,4)="cmtr","365",IF(LEFT(S21,4)="form","873",IF(RIGHT(S21,7)="ce-cppt","902","")))))))))) -> 171 | S24: =IF(R24="","",IF(OR(R$3=Recap!$A$50,R$3=Recap!$A$51,R$3=Recap!$A$52,R$3=Recap!$A$53,R$3=Recap!$A$54,R$3=Recap!$A$55,R$3=Recap!$A$56,R$3=Recap!$A$57,R$3=Recap!$A$58,R$3=Recap!$A$59,R$3=Recap!$A$60,R$3=Recap!$A$61),(R23+S23)/1,R23+S23)) -> 0.33333333 | T24: =IF(RIGHT(U21,4)="cuht","171",IF(RIGHT(U21,4)="netu","172",IF(RIGHT(U21,4)="auht","173",IF(OR(RIGHT(U21,4)="ppou",RIGHT(U21,5)="prepa"),"360",IF(RIGHT(U21,4)="cpou","361",IF(OR(RIGHT(U21,4)="apou",RIGHT(U21,6)="molinf"),"363",IF(RIGHT(U21,4)="netp","364",IF(RIGHT(U21,4)="cmtr","365",IF(LEFT(U21,4)="form","873",IF(RIGHT(U21,7)="ce-cppt","902","")))))))))) -> 171 | U24: =IF(T24="","",IF(OR(T$3=Recap!$A$50,T$3=Recap!$A$51,T$3=Recap!$A$52,T$3=Recap!$A$53,T$3=Recap!$A$54,T$3=Recap!$A$55,T$3=Recap!$A$56,T$3=Recap!$A$57,T$3=Recap!$A$58,T$3=Recap!$A$59,T$3=Recap!$A$60,T$3=Recap!$A$61),(T23+U23)/1,T23+U23)) -> 0.33333333 | V24: =IF(RIGHT(W21,4)="cuht","171",IF(RIGHT(W21,4)="netu","172",IF(RIGHT(W21,4)="auht","173",IF(OR(RIGHT(W21,4)="ppou",RIGHT(W21,5)="prepa"),"360",IF(RIGHT(W21,4)="cpou","361",IF(OR(RIGHT(W21,4)="apou",RIGHT(W21,6)="molinf"),"363",IF(RIGHT(W21,4)="netp","364",IF(RIGHT(W21,4)="cmtr","365",IF(LEFT(W21,4)="form","873",IF(RIGHT(W21,7)="ce-cppt","902","")))))))))) -> 171 | W24: =IF(V24="","",IF(OR(V$3=Recap!$A$50,V$3=Recap!$A$51,V$3=Recap!$A$52,V$3=Recap!$A$53,V$3=Recap!$A$54,V$3=Recap!$A$55,V$3=Recap!$A$56,V$3=Recap!$A$57,V$3=Recap!$A$58,V$3=Recap!$A$59,V$3=Recap!$A$60,V$3=Recap!$A$61),(V23+W23)/1,V23+W23)) -> 0.33333333 | X24: =IF(RIGHT(Y21,4)="cuht","171",IF(RIGHT(Y21,4)="netu","172",IF(RIGHT(Y21,4)="auht","173",IF(OR(RIGHT(Y21,4)="ppou",RIGHT(Y21,5)="prepa"),"360",IF(RIGHT(Y21,4)="cpou","361",IF(OR(RIGHT(Y21,4)="apou",RIGHT(Y21,6)="molinf"),"363",IF(RIGHT(Y21,4)="netp","364",IF(RIGHT(Y21,4)="cmtr","365",IF(LEFT(Y21,4)="form","873",IF(RIGHT(Y21,7)="ce-cppt","902","")))))))))) -> 171 | Y24: =IF(X24="","",IF(OR(X$3=Recap!$A$50,X$3=Recap!$A$51,X$3=Recap!$A$52,X$3=Recap!$A$53,X$3=Recap!$A$54,X$3=Recap!$A$55,X$3=Recap!$A$56,X$3=Recap!$A$57,X$3=Recap!$A$58,X$3=Recap!$A$59,X$3=Recap!$A$60,X$3=Recap!$A$61),(X23+Y23)/1,X23+Y23)) -> 0.33333333 | Z24: =IF(RIGHT(AA21,4)="cuht","171",IF(RIGHT(AA21,4)="netu","172",IF(RIGHT(AA21,4)="auht","173",IF(OR(RIGHT(AA21,4)="ppou",RIGHT(AA21,5)="prepa"),"360",IF(RIGHT(AA21,4)="cpou","361",IF(OR(RIGHT(AA21,4)="apou",RIGHT(AA21,6)="molinf"),"363",IF(RIGHT(AA21,4)="netp","364",IF(RIGHT(AA21,4)="cmtr","365",IF(LEFT(AA21,4)="form","873",IF(RIGHT(AA21,7)="ce-cppt","902","")))))))))) | AA24: =IF(Z24="","",IF(OR(Z$3=Recap!$A$50,Z$3=Recap!$A$51,Z$3=Recap!$A$52,Z$3=Recap!$A$53,Z$3=Recap!$A$54,Z$3=Recap!$A$55,Z$3=Recap!$A$56,Z$3=Recap!$A$57,Z$3=Recap!$A$58,Z$3=Recap!$A$59,Z$3=Recap!$A$60,Z$3=Recap!$A$61),(Z23+AA23)/1,Z23+AA23)) | AB24: =IF(RIGHT(AC21,4)="cuht","171",IF(RIGHT(AC21,4)="netu","172",IF(RIGHT(AC21,4)="auht","173",IF(OR(RIGHT(AC21,4)="ppou",RIGHT(AC21,5)="prepa"),"360",IF(RIGHT(AC21,4)="cpou","361",IF(OR(RIGHT(AC21,4)="apou",RIGHT(AC21,6)="molinf"),"363",IF(RIGHT(AC21,4)="netp","364",IF(RIGHT(AC21,4)="cmtr","365",IF(LEFT(AC21,4)="form","873",IF(RIGHT(AC21,7)="ce-cppt","902","")))))))))) | AC24: =IF(AB24="","",IF(OR(AB$3=Recap!$A$50,AB$3=Recap!$A$51,AB$3=Recap!$A$52,AB$3=Recap!$A$53,AB$3=Recap!$A$54,AB$3=Recap!$A$55,AB$3=Recap!$A$56,AB$3=Recap!$A$57,AB$3=Recap!$A$58,AB$3=Recap!$A$59,AB$3=Recap!$A$60,AB$3=Recap!$A$61),(AB23+AC23)/1,AB23+AC23)) | AE24: =IF(RIGHT(AF21,4)="cuht","171",IF(RIGHT(AF21,4)="netu","172",IF(RIGHT(AF21,4)="auht","173",IF(OR(RIGHT(AF21,4)="ppou",RIGHT(AF21,5)="prepa"),"360",IF(RIGHT(AF21,4)="cpou","361",IF(OR(RIGHT(AF21,4)="apou",RIGHT(AF21,6)="molinf"),"363",IF(RIGHT(AF21,4)="netp","364",IF(RIGHT(AF21,4)="cmtr","365",IF(LEFT(AF21,4)="form","873",IF(RIGHT(AF21,7)="ce-cppt","902","")))))))))) -> 171 | AF24: =IF(AE24="","",IF(OR(AE$3=Recap!$A$50,AE$3=Recap!$A$51,AE$3=Recap!$A$52,AE$3=Recap!$A$53,AE$3=Recap!$A$54,AE$3=Recap!$A$55,AE$3=Recap!$A$56,AE$3=Recap!$A$57,AE$3=Recap!$A$58,AE$3=Recap!$A$59,AE$3=Recap!$A$60,AE$3=Recap!$A$61),(AE23+AF23)/1,AE23+AF23)) -> 0 | AG24: =IF(RIGHT(AH21,4)="cuht","171",IF(RIGHT(AH21,4)="netu","172",IF(RIGHT(AH21,4)="auht","173",IF(OR(RIGHT(AH21,4)="ppou",RIGHT(AH21,5)="prepa"),"360",IF(RIGHT(AH21,4)="cpou","361",IF(OR(RIGHT(AH21,4)="apou",RIGHT(AH21,6)="molinf"),"363",IF(RIGHT(AH21,4)="netp","364",IF(RIGHT(AH21,4)="cmtr","365",IF(LEFT(AH21,4)="form","873",IF(RIGHT(AH21,7)="ce-cppt","902","")))))))))) | AH24: =IF(AG24="","",IF(OR(AG$3=Recap!$A$50,AG$3=Recap!$A$51,AG$3=Recap!$A$52,AG$3=Recap!$A$53,AG$3=Recap!$A$54,AG$3=Recap!$A$55,AG$3=Recap!$A$56,AG$3=Recap!$A$57,AG$3=Recap!$A$58,AG$3=Recap!$A$59,AG$3=Recap!$A$60,AG$3=Recap!$A$61),(AG23+AH23)/1,AG23+AH23)) | AI24: =IF(RIGHT(AJ21,4)="cuht","171",IF(RIGHT(AJ21,4)="netu","172",IF(RIGHT(AJ21,4)="auht","173",IF(OR(RIGHT(AJ21,4)="ppou",RIGHT(AJ21,5)="prepa"),"360",IF(RIGHT(AJ21,4)="cpou","361",IF(OR(RIGHT(AJ21,4)="apou",RIGHT(AJ21,6)="molinf"),"363",IF(RIGHT(AJ21,4)="netp","364",IF(RIGHT(AJ21,4)="cmtr","365",IF(LEFT(AJ21,4)="form","873",IF(RIGHT(AJ21,7)="ce-cppt","902","")))))))))) -> 171 | AJ24: =IF(AI24="","",IF(OR(AI$3=Recap!$A$50,AI$3=Recap!$A$51,AI$3=Recap!$A$52,AI$3=Recap!$A$53,AI$3=Recap!$A$54,AI$3=Recap!$A$55,AI$3=Recap!$A$56,AI$3=Recap!$A$57,AI$3=Recap!$A$58,AI$3=Recap!$A$59,AI$3=Recap!$A$60,AI$3=Recap!$A$61),(AI23+AJ23)/1,AI23+AJ23)) -> 0 | AK24: =IF(RIGHT(AL21,4)="cuht","171",IF(RIGHT(AL21,4)="netu","172",IF(RIGHT(AL21,4)="auht","173",IF(OR(RIGHT(AL21,4)="ppou",RIGHT(AL21,5)="prepa"),"360",IF(RIGHT(AL21,4)="cpou","361",IF(OR(RIGHT(AL21,4)="apou",RIGHT(AL21,6)="molinf"),"363",IF(RIGHT(AL21,4)="netp","364",IF(RIGHT(AL21,4)="cmtr","365",IF(LEFT(AL21,4)="form","873",IF(RIGHT(AL21,7)="ce-cppt","902","")))))))))) -> 171 | AL24: =IF(AK24="","",IF(OR(AK$3=Recap!$A$50,AK$3=Recap!$A$51,AK$3=Recap!$A$52,AK$3=Recap!$A$53,AK$3=Recap!$A$54,AK$3=Recap!$A$55,AK$3=Recap!$A$56,AK$3=Recap!$A$57,AK$3=Recap!$A$58,AK$3=Recap!$A$59,AK$3=Recap!$A$60,AK$3=Recap!$A$61),(AK23+AL23)/1,AK23+AL23)) -> 0 | AM24: =IF(RIGHT(AN21,4)="cuht","171",IF(RIGHT(AN21,4)="netu","172",IF(RIGHT(AN21,4)="auht","173",IF(OR(RIGHT(AN21,4)="ppou",RIGHT(AN21,5)="prepa"),"360",IF(RIGHT(AN21,4)="cpou","361",IF(OR(RIGHT(AN21,4)="apou",RIGHT(AN21,6)="molinf"),"363",IF(RIGHT(AN21,4)="netp","364",IF(RIGHT(AN21,4)="cmtr","365",IF(LEFT(AN21,4)="form","873",IF(RIGHT(AN21,7)="ce-cppt","902","")))))))))) -> 171 | AN24: =IF(AM24="","",IF(OR(AM$3=Recap!$A$50,AM$3=Recap!$A$51,AM$3=Recap!$A$52,AM$3=Recap!$A$53,AM$3=Recap!$A$54,AM$3=Recap!$A$55,AM$3=Recap!$A$56,AM$3=Recap!$A$57,AM$3=Recap!$A$58,AM$3=Recap!$A$59,AM$3=Recap!$A$60,AM$3=Recap!$A$61),(AM23+AN23)/1,AM23+AN23)) -> 0 | AO24: =IF(RIGHT(AP21,4)="cuht","171",IF(RIGHT(AP21,4)="netu","172",IF(RIGHT(AP21,4)="auht","173",IF(OR(RIGHT(AP21,4)="ppou",RIGHT(AP21,5)="prepa"),"360",IF(RIGHT(AP21,4)="cpou","361",IF(OR(RIGHT(AP21,4)="apou",RIGHT(AP21,6)="molinf"),"363",IF(RIGHT(AP21,4)="netp","364",IF(RIGHT(AP21,4)="cmtr","365",IF(LEFT(AP21,4)="form","873",IF(RIGHT(AP21,7)="ce-cppt","902","")))))))))) | AP24: =IF(AO24="","",IF(OR(AO$3=Recap!$A$50,AO$3=Recap!$A$51,AO$3=Recap!$A$52,AO$3=Recap!$A$53,AO$3=Recap!$A$54,AO$3=Recap!$A$55,AO$3=Recap!$A$56,AO$3=Recap!$A$57,AO$3=Recap!$A$58,AO$3=Recap!$A$59,AO$3=Recap!$A$60,AO$3=Recap!$A$61),(AO23+AP23)/1,AO23+AP23)) | AQ24: =IF(RIGHT(AR21,4)="cuht","171",IF(RIGHT(AR21,4)="netu","172",IF(RIGHT(AR21,4)="auht","173",IF(OR(RIGHT(AR21,4)="ppou",RIGHT(AR21,5)="prepa"),"360",IF(RIGHT(AR21,4)="cpou","361",IF(OR(RIGHT(AR21,4)="apou",RIGHT(AR21,6)="molinf"),"363",IF(RIGHT(AR21,4)="netp","364",IF(RIGHT(AR21,4)="cmtr","365",IF(LEFT(AR21,4)="form","873",IF(RIGHT(AR21,7)="ce-cppt","902","")))))))))) | AR24: =IF(AQ24="","",IF(OR(AQ$3=Recap!$A$50,AQ$3=Recap!$A$51,AQ$3=Recap!$A$52,AQ$3=Recap!$A$53,AQ$3=Recap!$A$54,AQ$3=Recap!$A$55,AQ$3=Recap!$A$56,AQ$3=Recap!$A$57,AQ$3=Recap!$A$58,AQ$3=Recap!$A$59,AQ$3=Recap!$A$60,AQ$3=Recap!$A$61),(AQ23+AR23)/1,AQ23+AR23)) | AT24: =IF(RIGHT(AU21,4)="cuht","171",IF(RIGHT(AU21,4)="netu","172",IF(RIGHT(AU21,4)="auht","173",IF(OR(RIGHT(AU21,4)="ppou",RIGHT(AU21,5)="prepa"),"360",IF(RIGHT(AU21,4)="cpou","361",IF(OR(RIGHT(AU21,4)="apou",RIGHT(AU21,6)="molinf"),"363",IF(RIGHT(AU21,4)="netp","364",IF(RIGHT(AU21,4)="cmtr","365",IF(LEFT(AU21,4)="form","873",IF(RIGHT(AU21,7)="ce-cppt","902","")))))))))) | AU24: =IF(AT24="","",IF(OR(AT$3=Recap!$A$50,AT$3=Recap!$A$51,AT$3=Recap!$A$52,AT$3=Recap!$A$53,AT$3=Recap!$A$54,AT$3=Recap!$A$55,AT$3=Recap!$A$56,AT$3=Recap!$A$57,AT$3=Recap!$A$58,AT$3=Recap!$A$59,AT$3=Recap!$A$60,AT$3=Recap!$A$61),(AT23+AU23)/1,AT23+AU23)) | AV24: =IF(RIGHT(AW21,4)="cuht","171",IF(RIGHT(AW21,4)="netu","172",IF(RIGHT(AW21,4)="auht","173",IF(OR(RIGHT(AW21,4)="ppou",RIGHT(AW21,5)="prepa"),"360",IF(RIGHT(AW21,4)="cpou","361",IF(OR(RIGHT(AW21,4)="apou",RIGHT(AW21,6)="molinf"),"363",IF(RIGHT(AW21,4)="netp","364",IF(RIGHT(AW21,4)="cmtr","365",IF(LEFT(AW21,4)="form","873",IF(RIGHT(AW21,7)="ce-cppt","902","")))))))))) | AW24: =IF(AV24="","",IF(OR(AV$3=Recap!$A$50,AV$3=Recap!$A$51,AV$3=Recap!$A$52,AV$3=Recap!$A$53,AV$3=Recap!$A$54,AV$3=Recap!$A$55,AV$3=Recap!$A$56,AV$3=Recap!$A$57,AV$3=Recap!$A$58,AV$3=Recap!$A$59,AV$3=Recap!$A$60,AV$3=Recap!$A$61),(AV23+AW23)/1,AV23+AW23)) | AX24: =IF(RIGHT(AY21,4)="cuht","171",IF(RIGHT(AY21,4)="netu","172",IF(RIGHT(AY21,4)="auht","173",IF(OR(RIGHT(AY21,4)="ppou",RIGHT(AY21,5)="prepa"),"360",IF(RIGHT(AY21,4)="cpou","361",IF(OR(RIGHT(AY21,4)="apou",RIGHT(AY21,6)="molinf"),"363",IF(RIGHT(AY21,4)="netp","364",IF(RIGHT(AY21,4)="cmtr","365",IF(LEFT(AY21,4)="form","873",IF(RIGHT(AY21,7)="ce-cppt","902","")))))))))) | AY24: =IF(AX24="","",IF(OR(AX$3=Recap!$A$50,AX$3=Recap!$A$51,AX$3=Recap!$A$52,AX$3=Recap!$A$53,AX$3=Recap!$A$54,AX$3=Recap!$A$55,AX$3=Recap!$A$56,AX$3=Recap!$A$57,AX$3=Recap!$A$58,AX$3=Recap!$A$59,AX$3=Recap!$A$60,AX$3=Recap!$A$61),(AX23+AY23)/1,AX23+AY23)) | AZ24: =IF(RIGHT(BA21,4)="cuht","171",IF(RIGHT(BA21,4)="netu","172",IF(RIGHT(BA21,4)="auht","173",IF(OR(RIGHT(BA21,4)="ppou",RIGHT(BA21,5)="prepa"),"360",IF(RIGHT(BA21,4)="cpou","361",IF(OR(RIGHT(BA21,4)="apou",RIGHT(BA21,6)="molinf"),"363",IF(RIGHT(BA21,4)="netp","364",IF(RIGHT(BA21,4)="cmtr","365",IF(LEFT(BA21,4)="form","873",IF(RIGHT(BA21,7)="ce-cppt","902","")))))))))) | BA24: =IF(AZ24="","",IF(OR(AZ$3=Recap!$A$50,AZ$3=Recap!$A$51,AZ$3=Recap!$A$52,AZ$3=Recap!$A$53,AZ$3=Recap!$A$54,AZ$3=Recap!$A$55,AZ$3=Recap!$A$56,AZ$3=Recap!$A$57,AZ$3=Recap!$A$58,AZ$3=Recap!$A$59,AZ$3=Recap!$A$60,AZ$3=Recap!$A$61),(AZ23+BA23)/1,AZ23+BA23)) | BB24: =IF(RIGHT(BC21,4)="cuht","171",IF(RIGHT(BC21,4)="netu","172",IF(RIGHT(BC21,4)="auht","173",IF(OR(RIGHT(BC21,4)="ppou",RIGHT(BC21,5)="prepa"),"360",IF(RIGHT(BC21,4)="cpou","361",IF(OR(RIGHT(BC21,4)="apou",RIGHT(BC21,6)="molinf"),"363",IF(RIGHT(BC21,4)="netp","364",IF(RIGHT(BC21,4)="cmtr","365",IF(LEFT(BC21,4)="form","873",IF(RIGHT(BC21,7)="ce-cppt","902","")))))))))) | BC24: =IF(BB24="","",IF(OR(BB$3=Recap!$A$50,BB$3=Recap!$A$51,BB$3=Recap!$A$52,BB$3=Recap!$A$53,BB$3=Recap!$A$54,BB$3=Recap!$A$55,BB$3=Recap!$A$56,BB$3=Recap!$A$57,BB$3=Recap!$A$58,BB$3=Recap!$A$59,BB$3=Recap!$A$60,BB$3=Recap!$A$61),(BB23+BC23)/1,BB23+BC23)) | BD24: =IF(RIGHT(BE21,4)="cuht","171",IF(RIGHT(BE21,4)="netu","172",IF(RIGHT(BE21,4)="auht","173",IF(OR(RIGHT(BE21,4)="ppou",RIGHT(BE21,5)="prepa"),"360",IF(RIGHT(BE21,4)="cpou","361",IF(OR(RIGHT(BE21,4)="apou",RIGHT(BE21,6)="molinf"),"363",IF(RIGHT(BE21,4)="netp","364",IF(RIGHT(BE21,4)="cmtr","365",IF(LEFT(BE21,4)="form","873",IF(RIGHT(BE21,7)="ce-cppt","902","")))))))))) | BE24: =IF(BD24="","",IF(OR(BD$3=Recap!$A$50,BD$3=Recap!$A$51,BD$3=Recap!$A$52,BD$3=Recap!$A$53,BD$3=Recap!$A$54,BD$3=Recap!$A$55,BD$3=Recap!$A$56,BD$3=Recap!$A$57,BD$3=Recap!$A$58,BD$3=Recap!$A$59,BD$3=Recap!$A$60,BD$3=Recap!$A$61),(BD23+BE23)/1,BD23+BE23)) | BF24: =IF(RIGHT(BG21,4)="cuht","171",IF(RIGHT(BG21,4)="netu","172",IF(RIGHT(BG21,4)="auht","173",IF(OR(RIGHT(BG21,4)="ppou",RIGHT(BG21,5)="prepa"),"360",IF(RIGHT(BG21,4)="cpou","361",IF(OR(RIGHT(BG21,4)="apou",RIGHT(BG21,6)="molinf"),"363",IF(RIGHT(BG21,4)="netp","364",IF(RIGHT(BG21,4)="cmtr","365",IF(LEFT(BG21,4)="form","873",IF(RIGHT(BG21,7)="ce-cppt","902","")))))))))) | BG24: =IF(BF24="","",IF(OR(BF$3=Recap!$A$50,BF$3=Recap!$A$51,BF$3=Recap!$A$52,BF$3=Recap!$A$53,BF$3=Recap!$A$54,BF$3=Recap!$A$55,BF$3=Recap!$A$56,BF$3=Recap!$A$57,BF$3=Recap!$A$58,BF$3=Recap!$A$59,BF$3=Recap!$A$60,BF$3=Recap!$A$61),(BF23+BG23)/1,BF23+BG23))
A25: toteu | C25: f | D25: 0.58333333 | E25: pause cuht | F25: 0.58333333 | G25: pause cuht | H25: 0.58333333 | I25: pause cuht | J25: 0.58333333 | K25: pause cuht | P25: 0.25 | Q25: pause cuht | R25: 0.25 | S25: pause cuht | T25: 0.25 | U25: pause cuht | V25: 0.25 | W25: pause cuht | X25: 0.25 | Y25: pause cuht | AD25: =SUM(P27:AC27) -> 1.7291667 | AE25: 0.25 | AF25: pause cuht | AH25: f | AI25: 0.25 | AJ25: pause cuht | AK25: 0.25 | AL25: pause cuht | AM25: 0.25 | AN25: pause cuht | AS25: =SUM(AE27:AR27) -> 0 | BH25: =SUM(AT27:BG27) -> 0
D26: 0.91666667 | F26: 0.91666667 | H26: 0.91666667 | J26: 0.91666667 | P26: 0.58333333 | R26: 0.58333333 | T26: 0.58333333 | V26: 0.64583333 | X26: 0.58333333 | AE26: 0.58333333 | AI26: 0.58333333 | AK26: 0.58333333 | AM26: 0.58333333
B27: =IF(B$3>$BI$4,0,IF(OR(ISBLANK(B25),ISBLANK(B26),ISBLANK(C25),LEFT(C25,4)="jour",LEFT(C25,4)="form"),0,IF(COUNTIF(fériés,B$3)>0,MOD((B26-B25),1)*1,MOD((B26-B25),1)))) -> 0 | C27: =IF(B$3>$BI$4,0,IF(AND(ISNUMBER(B25),ISNUMBER(B26),OR(LEFT(C25,4)="jour",LEFT(C25,4)="form")),IF(COUNTIF(fériés,B$3)>0,MOD(-$BH$4+(B26-B25),1)*1,MOD(-$BH$4+(B26-B25),1)),IF(AND(ISBLANK(B25),ISBLANK(B26)),IF(OR(C25="r",C25="c",C25="a",C25="m",C25="f",C25="cp",C25="s",C25="congé parent"),$BH$3,0),0))) -> 0.31666667 | D27: =IF(D$3>$BI$4,0,IF(OR(ISBLANK(D25),ISBLANK(D26),ISBLANK(E25),LEFT(E25,4)="jour",LEFT(E25,4)="form"),0,IF(COUNTIF(fériés,D$3)>0,MOD((D26-D25),1)*1,MOD((D26-D25),1)))) -> 0.33333333 | E27: =IF(D$3>$BI$4,0,IF(AND(ISNUMBER(D25),ISNUMBER(D26),OR(LEFT(E25,4)="jour",LEFT(E25,4)="form")),IF(COUNTIF(fériés,D$3)>0,MOD(-$BH$4+(D26-D25),1)*1,MOD(-$BH$4+(D26-D25),1)),IF(AND(ISBLANK(D25),ISBLANK(D26)),IF(OR(E25="r",E25="c",E25="a",E25="m",E25="f",E25="cp",E25="s",E25="congé parent"),$BH$3,0),0))) -> 0 | F27: =IF(F$3>$BI$4,0,IF(OR(ISBLANK(F25),ISBLANK(F26),ISBLANK(G25),LEFT(G25,4)="jour",LEFT(G25,4)="form"),0,IF(COUNTIF(fériés,F$3)>0,MOD((F26-F25),1)*1,MOD((F26-F25),1)))) -> 0.33333333 | G27: =IF(F$3>$BI$4,0,IF(AND(ISNUMBER(F25),ISNUMBER(F26),OR(LEFT(G25,4)="jour",LEFT(G25,4)="form")),IF(COUNTIF(fériés,F$3)>0,MOD(-$BH$4+(F26-F25),1)*1,MOD(-$BH$4+(F26-F25),1)),IF(AND(ISBLANK(F25),ISBLANK(F26)),IF(OR(G25="r",G25="c",G25="a",G25="m",G25="f",G25="cp",G25="s",G25="congé parent"),$BH$3,0),0))) -> 0 | H27: =IF(H$3>$BI$4,0,IF(OR(ISBLANK(H25),ISBLANK(H26),ISBLANK(I25),LEFT(I25,4)="jour",LEFT(I25,4)="form"),0,IF(COUNTIF(fériés,H$3)>0,MOD((H26-H25),1)*1,MOD((H26-H25),1)))) -> 0.33333333 | I27: =IF(H$3>$BI$4,0,IF(AND(ISNUMBER(H25),ISNUMBER(H26),OR(LEFT(I25,4)="jour",LEFT(I25,4)="form")),IF(COUNTIF(fériés,H$3)>0,MOD(-$BH$4+(H26-H25),1)*1,MOD(-$BH$4+(H26-H25),1)),IF(AND(ISBLANK(H25),ISBLANK(H26)),IF(OR(I25="r",I25="c",I25="a",I25="m",I25="f",I25="cp",I25="s",I25="congé parent"),$BH$3,0),0))) -> 0 | J27: =IF(J$3>$BI$4,0,IF(OR(ISBLANK(J25),ISBLANK(J26),ISBLANK(K25),LEFT(K25,4)="jour",LEFT(K25,4)="form"),0,IF(COUNTIF(fériés,J$3)>0,MOD((J26-J25),1)*1,MOD((J26-J25),1)))) -> 0.33333333 | K27: =IF(J$3>$BI$4,0,IF(AND(ISNUMBER(J25),ISNUMBER(J26),OR(LEFT(K25,4)="jour",LEFT(K25,4)="form")),IF(COUNTIF(fériés,J$3)>0,MOD(-$BH$4+(J26-J25),1)*1,MOD(-$BH$4+(J26-J25),1)),IF(AND(ISBLANK(J25),ISBLANK(J26)),IF(OR(K25="r",K25="c",K25="a",K25="m",K25="f",K25="cp",K25="s",K25="congé parent"),$BH$3,0),0))) -> 0 | L27: =IF(L$3>$BI$4,0,IF(OR(ISBLANK(L25),ISBLANK(L26),ISBLANK(M25),LEFT(M25,4)="jour",LEFT(M25,4)="form"),0,IF(COUNTIF(fériés,L$3)>0,MOD((L26-L25),1)*1,MOD((L26-L25),1)))) -> 0 | M27: =IF(L$3>$BI$4,0,IF(AND(ISNUMBER(L25),ISNUMBER(L26),OR(LEFT(M25,4)="jour",LEFT(M25,4)="form")),IF(COUNTIF(fériés,L$3)>0,MOD(-$BH$4+(L26-L25),1)*1,MOD(-$BH$4+(L26-L25),1)),IF(AND(ISBLANK(L25),ISBLANK(L26)),IF(OR(M25="r",M25="c",M25="a",M25="m",M25="f",M25="cp",M25="s",M25="congé parent"),$BH$3,0),0))) -> 0 | N27: =IF(N$3>$BI$4,0,IF(OR(ISBLANK(N25),ISBLANK(N26),ISBLANK(O25),LEFT(O25,4)="jour",LEFT(O25,4)="form"),0,IF(COUNTIF(fériés,N$3)>0,MOD((N26-N25),1)*1,MOD((N26-N25),1)))) -> 0 | O27: =IF(N$3>$BI$4,0,IF(AND(ISNUMBER(N25),ISNUMBER(N26),OR(LEFT(O25,4)="jour",LEFT(O25,4)="form")),IF(COUNTIF(fériés,N$3)>0,MOD(-$BH$4+(N26-N25),1)*1,MOD(-$BH$4+(N26-N25),1)),IF(AND(ISBLANK(N25),ISBLANK(N26)),IF(OR(O25="r",O25="c",O25="a",O25="m",O25="f",O25="cp",O25="s",O25="congé parent"),$BH$3,0),0))) -> 0 | P27: =IF(P$3>$BI$4,0,IF(OR(ISBLANK(P25),ISBLANK(P26),ISBLANK(Q25),LEFT(Q25,4)="jour",LEFT(Q25,4)="form"),0,IF(COUNTIF(fériés,P$3)>0,MOD((P26-P25),1)*1,MOD((P26-P25),1)))) -> 0.33333333 | Q27: =IF(P$3>$BI$4,0,IF(AND(ISNUMBER(P25),ISNUMBER(P26),OR(LEFT(Q25,4)="jour",LEFT(Q25,4)="form")),IF(COUNTIF(fériés,P$3)>0,MOD(-$BH$4+(P26-P25),1)*1,MOD(-$BH$4+(P26-P25),1)),IF(AND(ISBLANK(P25),ISBLANK(P26)),IF(OR(Q25="r",Q25="c",Q25="a",Q25="m",Q25="f",Q25="cp",Q25="s",Q25="congé parent"),$BH$3,0),0))) -> 0 | R27: =IF(R$3>$BI$4,0,IF(OR(ISBLANK(R25),ISBLANK(R26),ISBLANK(S25),LEFT(S25,4)="jour",LEFT(S25,4)="form"),0,IF(COUNTIF(fériés,R$3)>0,MOD((R26-R25),1)*1,MOD((R26-R25),1)))) -> 0.33333333 | S27: =IF(R$3>$BI$4,0,IF(AND(ISNUMBER(R25),ISNUMBER(R26),OR(LEFT(S25,4)="jour",LEFT(S25,4)="form")),IF(COUNTIF(fériés,R$3)>0,MOD(-$BH$4+(R26-R25),1)*1,MOD(-$BH$4+(R26-R25),1)),IF(AND(ISBLANK(R25),ISBLANK(R26)),IF(OR(S25="r",S25="c",S25="a",S25="m",S25="f",S25="cp",S25="s",S25="congé parent"),$BH$3,0),0))) -> 0 | T27: =IF(T$3>$BI$4,0,IF(OR(ISBLANK(T25),ISBLANK(T26),ISBLANK(U25),LEFT(U25,4)="jour",LEFT(U25,4)="form"),0,IF(COUNTIF(fériés,T$3)>0,MOD((T26-T25),1)*1,MOD((T26-T25),1)))) -> 0.33333333 | U27: =IF(T$3>$BI$4,0,IF(AND(ISNUMBER(T25),ISNUMBER(T26),OR(LEFT(U25,4)="jour",LEFT(U25,4)="form")),IF(COUNTIF(fériés,T$3)>0,MOD(-$BH$4+(T26-T25),1)*1,MOD(-$BH$4+(T26-T25),1)),IF(AND(ISBLANK(T25),ISBLANK(T26)),IF(OR(U25="r",U25="c",U25="a",U25="m",U25="f",U25="cp",U25="s",U25="congé parent"),$BH$3,0),0))) -> 0 | V27: =IF(V$3>$BI$4,0,IF(OR(ISBLANK(V25),ISBLANK(V26),ISBLANK(W25),LEFT(W25,4)="jour",LEFT(W25,4)="form"),0,IF(COUNTIF(fériés,V$3)>0,MOD((V26-V25),1)*1,MOD((V26-V25),1)))) -> 0.39583333 | W27: =IF(V$3>$BI$4,0,IF(AND(ISNUMBER(V25),ISNUMBER(V26),OR(LEFT(W25,4)="jour",LEFT(W25,4)="form")),IF(COUNTIF(fériés,V$3)>0,MOD(-$BH$4+(V26-V25),1)*1,MOD(-$BH$4+(V26-V25),1)),IF(AND(ISBLANK(V25),ISBLANK(V26)),IF(OR(W25="r",W25="c",W25="a",W25="m",W25="f",W25="cp",W25="s",W25="congé parent"),$BH$3,0),0))) -> 0 | X27: =IF(X$3>$BI$4,0,IF(OR(ISBLANK(X25),ISBLANK(X26),ISBLANK(Y25),LEFT(Y25,4)="jour",LEFT(Y25,4)="form"),0,IF(COUNTIF(fériés,X$3)>0,MOD((X26-X25),1)*1,MOD((X26-X25),1)))) -> 0.33333333 | Y27: =IF(X$3>$BI$4,0,IF(AND(ISNUMBER(X25),ISNUMBER(X26),OR(LEFT(Y25,4)="jour",LEFT(Y25,4)="form")),IF(COUNTIF(fériés,X$3)>0,MOD(-$BH$4+(X26-X25),1)*1,MOD(-$BH$4+(X26-X25),1)),IF(AND(ISBLANK(X25),ISBLANK(X26)),IF(OR(Y25="r",Y25="c",Y25="a",Y25="m",Y25="f",Y25="cp",Y25="s",Y25="congé parent"),$BH$3,0),0))) -> 0 | Z27: =IF(Z$3>$BI$4,0,IF(OR(ISBLANK(Z25),ISBLANK(Z26),ISBLANK(AA25),LEFT(AA25,4)="jour",LEFT(AA25,4)="form"),0,IF(COUNTIF(fériés,Z$3)>0,MOD((Z26-Z25),1)*1,MOD((Z26-Z25),1)))) -> 0 | AA27: =IF(Z$3>$BI$4,0,IF(AND(ISNUMBER(Z25),ISNUMBER(Z26),OR(LEFT(AA25,4)="jour",LEFT(AA25,4)="form")),IF(COUNTIF(fériés,Z$3)>0,MOD(-$BH$4+(Z26-Z25),1)*1,MOD(-$BH$4+(Z26-Z25),1)),IF(AND(ISBLANK(Z25),ISBLANK(Z26)),IF(OR(AA25="r",AA25="c",AA25="a",AA25="m",AA25="f",AA25="cp",AA25="s",AA25="congé parent"),$BH$3,0),0))) -> 0 | AB27: =IF(AB$3>$BI$4,0,IF(OR(ISBLANK(AB25),ISBLANK(AB26),ISBLANK(AC25),LEFT(AC25,4)="jour",LEFT(AC25,4)="form"),0,IF(COUNTIF(fériés,AB$3)>0,MOD((AB26-AB25),1)*1,MOD((AB26-AB25),1)))) -> 0 | AC27: =IF(AB$3>$BI$4,0,IF(AND(ISNUMBER(AB25),ISNUMBER(AB26),OR(LEFT(AC25,4)="jour",LEFT(AC25,4)="form")),IF(COUNTIF(fériés,AB$3)>0,MOD(-$BH$4+(AB26-AB25),1)*1,MOD(-$BH$4+(AB26-AB25),1)),IF(AND(ISBLANK(AB25),ISBLANK(AB26)),IF(OR(AC25="r",AC25="c",AC25="a",AC25="m",AC25="f",AC25="cp",AC25="s",AC25="congé parent"),$BH$3,0),0))) -> 0 | AE27: =IF(AE$3>$BI$4,0,IF(OR(ISBLANK(AE25),ISBLANK(AE26),ISBLANK(AF25),LEFT(AF25,4)="jour",LEFT(AF25,4)="form"),0,IF(COUNTIF(fériés,AE$3)>0,MOD((AE26-AE25),1)*1,MOD((AE26-AE25),1)))) -> 0 | AF27: =IF(AE$3>$BI$4,0,IF(AND(ISNUMBER(AE25),ISNUMBER(AE26),OR(LEFT(AF25,4)="jour",LEFT(AF25,4)="form")),IF(COUNTIF(fériés,AE$3)>0,MOD(-$BH$4+(AE26-AE25),1)*1,MOD(-$BH$4+(AE26-AE25),1)),IF(AND(ISBLANK(AE25),ISBLANK(AE26)),IF(OR(AF25="r",AF25="c",AF25="a",AF25="m",AF25="f",AF25="cp",AF25="s",AF25="congé parent"),$BH$3,0),0))) -> 0 | AG27: =IF(AG$3>$BI$4,0,IF(OR(ISBLANK(AG25),ISBLANK(AG26),ISBLANK(AH25),LEFT(AH25,4)="jour",LEFT(AH25,4)="form"),0,IF(COUNTIF(fériés,AG$3)>0,MOD((AG26-AG25),1)*1,MOD((AG26-AG25),1)))) -> 0 | AH27: =IF(AG$3>$BI$4,0,IF(AND(ISNUMBER(AG25),ISNUMBER(AG26),OR(LEFT(AH25,4)="jour",LEFT(AH25,4)="form")),IF(COUNTIF(fériés,AG$3)>0,MOD(-$BH$4+(AG26-AG25),1)*1,MOD(-$BH$4+(AG26-AG25),1)),IF(AND(ISBLANK(AG25),ISBLANK(AG26)),IF(OR(AH25="r",AH25="c",AH25="a",AH25="m",AH25="f",AH25="cp",AH25="s",AH25="congé parent"),$BH$3,0),0))) -> 0 | AI27: =IF(AI$3>$BI$4,0,IF(OR(ISBLANK(AI25),ISBLANK(AI26),ISBLANK(AJ25),LEFT(AJ25,4)="jour",LEFT(AJ25,4)="form"),0,IF(COUNTIF(fériés,AI$3)>0,MOD((AI26-AI25),1)*1,MOD((AI26-AI25),1)))) -> 0 | AJ27: =IF(AI$3>$BI$4,0,IF(AND(ISNUMBER(AI25),ISNUMBER(AI26),OR(LEFT(AJ25,4)="jour",LEFT(AJ25,4)="form")),IF(COUNTIF(fériés,AI$3)>0,MOD(-$BH$4+(AI26-AI25),1)*1,MOD(-$BH$4+(AI26-AI25),1)),IF(AND(ISBLANK(AI25),ISBLANK(AI26)),IF(OR(AJ25="r",AJ25="c",AJ25="a",AJ25="m",AJ25="f",AJ25="cp",AJ25="s",AJ25="congé parent"),$BH$3,0),0))) -> 0 | AK27: =IF(AK$3>$BI$4,0,IF(OR(ISBLANK(AK25),ISBLANK(AK26),ISBLANK(AL25),LEFT(AL25,4)="jour",LEFT(AL25,4)="form"),0,IF(COUNTIF(fériés,AK$3)>0,MOD((AK26-AK25),1)*1,MOD((AK26-AK25),1)))) -> 0 | AL27: =IF(AK$3>$BI$4,0,IF(AND(ISNUMBER(AK25),ISNUMBER(AK26),OR(LEFT(AL25,4)="jour",LEFT(AL25,4)="form")),IF(COUNTIF(fériés,AK$3)>0,MOD(-$BH$4+(AK26-AK25),1)*1,MOD(-$BH$4+(AK26-AK25),1)),IF(AND(ISBLANK(AK25),ISBLANK(AK26)),IF(OR(AL25="r",AL25="c",AL25="a",AL25="m",AL25="f",AL25="cp",AL25="s",AL25="congé parent"),$BH$3,0),0))) -> 0 | AM27: =IF(AM$3>$BI$4,0,IF(OR(ISBLANK(AM25),ISBLANK(AM26),ISBLANK(AN25),LEFT(AN25,4)="jour",LEFT(AN25,4)="form"),0,IF(COUNTIF(fériés,AM$3)>0,MOD((AM26-AM25),1)*1,MOD((AM26-AM25),1)))) -> 0 | AN27: =IF(AM$3>$BI$4,0,IF(AND(ISNUMBER(AM25),ISNUMBER(AM26),OR(LEFT(AN25,4)="jour",LEFT(AN25,4)="form")),IF(COUNTIF(fériés,AM$3)>0,MOD(-$BH$4+(AM26-AM25),1)*1,MOD(-$BH$4+(AM26-AM25),1)),IF(AND(ISBLANK(AM25),ISBLANK(AM26)),IF(OR(AN25="r",AN25="c",AN25="a",AN25="m",AN25="f",AN25="cp",AN25="s",AN25="congé parent"),$BH$3,0),0))) -> 0 | AO27: =IF(AO$3>$BI$4,0,IF(OR(ISBLANK(AO25),ISBLANK(AO26),ISBLANK(AP25),LEFT(AP25,4)="jour",LEFT(AP25,4)="form"),0,IF(COUNTIF(fériés,AO$3)>0,MOD((AO26-AO25),1)*1,MOD((AO26-AO25),1)))) -> 0 | AP27: =IF(AO$3>$BI$4,0,IF(AND(ISNUMBER(AO25),ISNUMBER(AO26),OR(LEFT(AP25,4)="jour",LEFT(AP25,4)="form")),IF(COUNTIF(fériés,AO$3)>0,MOD(-$BH$4+(AO26-AO25),1)*1,MOD(-$BH$4+(AO26-AO25),1)),IF(AND(ISBLANK(AO25),ISBLANK(AO26)),IF(OR(AP25="r",AP25="c",AP25="a",AP25="m",AP25="f",AP25="cp",AP25="s",AP25="congé parent"),$BH$3,0),0))) -> 0 | AQ27: =IF(AQ$3>$BI$4,0,IF(OR(ISBLANK(AQ25),ISBLANK(AQ26),ISBLANK(AR25),LEFT(AR25,4)="jour",LEFT(AR25,4)="form"),0,IF(COUNTIF(fériés,AQ$3)>0,MOD((AQ26-AQ25),1)*1,MOD((AQ26-AQ25),1)))) -> 0 | AR27: =IF(AQ$3>$BI$4,0,IF(AND(ISNUMBER(AQ25),ISNUMBER(AQ26),OR(LEFT(AR25,4)="jour",LEFT(AR25,4)="form")),IF(COUNTIF(fériés,AQ$3)>0,MOD(-$BH$4+(AQ26-AQ25),1)*1,MOD(-$BH$4+(AQ26-AQ25),1)),IF(AND(ISBLANK(AQ25),ISBLANK(AQ26)),IF(OR(AR25="r",AR25="c",AR25="a",AR25="m",AR25="f",AR25="cp",AR25="s",AR25="congé parent"),$BH$3,0),0))) -> 0 | AT27: =IF(AT$3>$BI$4,0,IF(OR(ISBLANK(AT25),ISBLANK(AT26),ISBLANK(AU25),LEFT(AU25,4)="jour",LEFT(AU25,4)="form"),0,IF(COUNTIF(fériés,AT$3)>0,MOD((AT26-AT25),1)*1,MOD((AT26-AT25),1)))) -> 0 | AU27: =IF(AT$3>$BI$4,0,IF(AND(ISNUMBER(AT25),ISNUMBER(AT26),OR(LEFT(AU25,4)="jour",LEFT(AU25,4)="form")),IF(COUNTIF(fériés,AT$3)>0,MOD(-$BH$4+(AT26-AT25),1)*1,MOD(-$BH$4+(AT26-AT25),1)),IF(AND(ISBLANK(AT25),ISBLANK(AT26)),IF(OR(AU25="r",AU25="c",AU25="a",AU25="m",AU25="f",AU25="cp",AU25="s",AU25="congé parent"),$BH$3,0),0))) -> 0 | AV27: =IF(AV$3>$BI$4,0,IF(OR(ISBLANK(AV25),ISBLANK(AV26),ISBLANK(AW25),LEFT(AW25,4)="jour",LEFT(AW25,4)="form"),0,IF(COUNTIF(fériés,AV$3)>0,MOD((AV26-AV25),1)*1,MOD((AV26-AV25),1)))) -> 0 | AW27: =IF(AV$3>$BI$4,0,IF(AND(ISNUMBER(AV25),ISNUMBER(AV26),OR(LEFT(AW25,4)="jour",LEFT(AW25,4)="form")),IF(COUNTIF(fériés,AV$3)>0,MOD(-$BH$4+(AV26-AV25),1)*1,MOD(-$BH$4+(AV26-AV25),1)),IF(AND(ISBLANK(AV25),ISBLANK(AV26)),IF(OR(AW25="r",AW25="c",AW25="a",AW25="m",AW25="f",AW25="cp",AW25="s",AW25="congé parent"),$BH$3,0),0))) -> 0 | AX27: =IF(AX$3>$BI$4,0,IF(OR(ISBLANK(AX25),ISBLANK(AX26),ISBLANK(AY25),LEFT(AY25,4)="jour",LEFT(AY25,4)="form"),0,IF(COUNTIF(fériés,AX$3)>0,MOD((AX26-AX25),1)*1,MOD((AX26-AX25),1)))) -> 0 | AY27: =IF(AX$3>$BI$4,0,IF(AND(ISNUMBER(AX25),ISNUMBER(AX26),OR(LEFT(AY25,4)="jour",LEFT(AY25,4)="form")),IF(COUNTIF(fériés,AX$3)>0,MOD(-$BH$4+(AX26-AX25),1)*1,MOD(-$BH$4+(AX26-AX25),1)),IF(AND(ISBLANK(AX25),ISBLANK(AX26)),IF(OR(AY25="r",AY25="c",AY25="a",AY25="m",AY25="f",AY25="cp",AY25="s",AY25="congé parent"),$BH$3,0),0))) -> 0 | AZ27: =IF(AZ$3>$BI$4,0,IF(OR(ISBLANK(AZ25),ISBLANK(AZ26),ISBLANK(BA25),LEFT(BA25,4)="jour",LEFT(BA25,4)="form"),0,IF(COUNTIF(fériés,AZ$3)>0,MOD((AZ26-AZ25),1)*1,MOD((AZ26-AZ25),1)))) -> 0 | BA27: =IF(AZ$3>$BI$4,0,IF(AND(ISNUMBER(AZ25),ISNUMBER(AZ26),OR(LEFT(BA25,4)="jour",LEFT(BA25,4)="form")),IF(COUNTIF(fériés,AZ$3)>0,MOD(-$BH$4+(AZ26-AZ25),1)*1,MOD(-$BH$4+(AZ26-AZ25),1)),IF(AND(ISBLANK(AZ25),ISBLANK(AZ26)),IF(OR(BA25="r",BA25="c",BA25="a",BA25="m",BA25="f",BA25="cp",BA25="s",BA25="congé parent"),$BH$3,0),0))) -> 0 | BB27: =IF(BB$3>$BI$4,0,IF(OR(ISBLANK(BB25),ISBLANK(BB26),ISBLANK(BC25),LEFT(BC25,4)="jour",LEFT(BC25,4)="form"),0,IF(COUNTIF(fériés,BB$3)>0,MOD((BB26-BB25),1)*1,MOD((BB26-BB25),1)))) -> 0 | BC27: =IF(BB$3>$BI$4,0,IF(AND(ISNUMBER(BB25),ISNUMBER(BB26),OR(LEFT(BC25,4)="jour",LEFT(BC25,4)="form")),IF(COUNTIF(fériés,BB$3)>0,MOD(-$BH$4+(BB26-BB25),1)*1,MOD(-$BH$4+(BB26-BB25),1)),IF(AND(ISBLANK(BB25),ISBLANK(BB26)),IF(OR(BC25="r",BC25="c",BC25="a",BC25="m",BC25="f",BC25="cp",BC25="s",BC25="congé parent"),$BH$3,0),0))) -> 0 | BD27: =IF(BD$3>$BI$4,0,IF(OR(ISBLANK(BD25),ISBLANK(BD26),ISBLANK(BE25),LEFT(BE25,4)="jour",LEFT(BE25,4)="form"),0,IF(COUNTIF(fériés,BD$3)>0,MOD((BD26-BD25),1)*1,MOD((BD26-BD25),1)))) -> 0 | BE27: =IF(BD$3>$BI$4,0,IF(AND(ISNUMBER(BD25),ISNUMBER(BD26),OR(LEFT(BE25,4)="jour",LEFT(BE25,4)="form")),IF(COUNTIF(fériés,BD$3)>0,MOD(-$BH$4+(BD26-BD25),1)*1,MOD(-$BH$4+(BD26-BD25),1)),IF(AND(ISBLANK(BD25),ISBLANK(BD26)),IF(OR(BE25="r",BE25="c",BE25="a",BE25="m",BE25="f",BE25="cp",BE25="s",BE25="congé parent"),$BH$3,0),0))) -> 0 | BF27: =IF(BF$3>$BI$4,0,IF(OR(ISBLANK(BF25),ISBLANK(BF26),ISBLANK(BG25),LEFT(BG25,4)="jour",LEFT(BG25,4)="form"),0,IF(COUNTIF(fériés,BF$3)>0,MOD((BF26-BF25),1)*1,MOD((BF26-BF25),1)))) -> 0 | BG27: =IF(BF$3>$BI$4,0,IF(AND(ISNUMBER(BF25),ISNUMBER(BF26),OR(LEFT(BG25,4)="jour",LEFT(BG25,4)="form")),IF(COUNTIF(fériés,BF$3)>0,MOD(-$BH$4+(BF26-BF25),1)*1,MOD(-$BH$4+(BF26-BF25),1)),IF(AND(ISBLANK(BF25),ISBLANK(BF26)),IF(OR(BG25="r",BG25="c",BG25="a",BG25="m",BG25="f",BG25="cp",BG25="s",BG25="congé parent"),$BH$3,0),0))) -> 0 | BH27: =SUM(B27:BG27) -> 3.3791667
B28: =IF(RIGHT(C25,4)="cuht","171",IF(RIGHT(C25,4)="netu","172",IF(RIGHT(C25,4)="auht","173",IF(OR(RIGHT(C25,4)="ppou",RIGHT(C25,5)="prepa"),"360",IF(RIGHT(C25,4)="cpou","361",IF(OR(RIGHT(C25,4)="apou",RIGHT(C25,6)="molinf"),"363",IF(RIGHT(C25,4)="netp","364",IF(RIGHT(C25,4)="cmtr","365",IF(LEFT(C25,4)="form","873",IF(RIGHT(C25,7)="ce-cppt","902","")))))))))) | C28: =IF(B28="","",IF(OR(B$3=Recap!$A$50,B$3=Recap!$A$51,B$3=Recap!$A$52,B$3=Recap!$A$53,B$3=Recap!$A$54,B$3=Recap!$A$55,B$3=Recap!$A$56,B$3=Recap!$A$57,B$3=Recap!$A$58,B$3=Recap!$A$59,B$3=Recap!$A$60,B$3=Recap!$A$61),(B27+C27)/1,B27+C27)) | D28: =IF(RIGHT(E25,4)="cuht","171",IF(RIGHT(E25,4)="netu","172",IF(RIGHT(E25,4)="auht","173",IF(OR(RIGHT(E25,4)="ppou",RIGHT(E25,5)="prepa"),"360",IF(RIGHT(E25,4)="cpou","361",IF(OR(RIGHT(E25,4)="apou",RIGHT(E25,6)="molinf"),"363",IF(RIGHT(E25,4)="netp","364",IF(RIGHT(E25,4)="cmtr","365",IF(LEFT(E25,4)="form","873",IF(RIGHT(E25,7)="ce-cppt","902","")))))))))) -> 171 | E28: =IF(D28="","",IF(OR(D$3=Recap!$A$50,D$3=Recap!$A$51,D$3=Recap!$A$52,D$3=Recap!$A$53,D$3=Recap!$A$54,D$3=Recap!$A$55,D$3=Recap!$A$56,D$3=Recap!$A$57,D$3=Recap!$A$58,D$3=Recap!$A$59,D$3=Recap!$A$60,D$3=Recap!$A$61),(D27+E27)/1,D27+E27)) -> 0.33333333 | F28: =IF(RIGHT(G25,4)="cuht","171",IF(RIGHT(G25,4)="netu","172",IF(RIGHT(G25,4)="auht","173",IF(OR(RIGHT(G25,4)="ppou",RIGHT(G25,5)="prepa"),"360",IF(RIGHT(G25,4)="cpou","361",IF(OR(RIGHT(G25,4)="apou",RIGHT(G25,6)="molinf"),"363",IF(RIGHT(G25,4)="netp","364",IF(RIGHT(G25,4)="cmtr","365",IF(LEFT(G25,4)="form","873",IF(RIGHT(G25,7)="ce-cppt","902","")))))))))) -> 171 | G28: =IF(F28="","",IF(OR(F$3=Recap!$A$50,F$3=Recap!$A$51,F$3=Recap!$A$52,F$3=Recap!$A$53,F$3=Recap!$A$54,F$3=Recap!$A$55,F$3=Recap!$A$56,F$3=Recap!$A$57,F$3=Recap!$A$58,F$3=Recap!$A$59,F$3=Recap!$A$60,F$3=Recap!$A$61),(F27+G27)/1,F27+G27)) -> 0.33333333 | H28: =IF(RIGHT(I25,4)="cuht","171",IF(RIGHT(I25,4)="netu","172",IF(RIGHT(I25,4)="auht","173",IF(OR(RIGHT(I25,4)="ppou",RIGHT(I25,5)="prepa"),"360",IF(RIGHT(I25,4)="cpou","361",IF(OR(RIGHT(I25,4)="apou",RIGHT(I25,6)="molinf"),"363",IF(RIGHT(I25,4)="netp","364",IF(RIGHT(I25,4)="cmtr","365",IF(LEFT(I25,4)="form","873",IF(RIGHT(I25,7)="ce-cppt","902","")))))))))) -> 171 | I28: =IF(H28="","",IF(OR(H$3=Recap!$A$50,H$3=Recap!$A$51,H$3=Recap!$A$52,H$3=Recap!$A$53,H$3=Recap!$A$54,H$3=Recap!$A$55,H$3=Recap!$A$56,H$3=Recap!$A$57,H$3=Recap!$A$58,H$3=Recap!$A$59,H$3=Recap!$A$60,H$3=Recap!$A$61),(H27+I27)/1,H27+I27)) -> 0.33333333 | J28: =IF(RIGHT(K25,4)="cuht","171",IF(RIGHT(K25,4)="netu","172",IF(RIGHT(K25,4)="auht","173",IF(OR(RIGHT(K25,4)="ppou",RIGHT(K25,5)="prepa"),"360",IF(RIGHT(K25,4)="cpou","361",IF(OR(RIGHT(K25,4)="apou",RIGHT(K25,6)="molinf"),"363",IF(RIGHT(K25,4)="netp","364",IF(RIGHT(K25,4)="cmtr","365",IF(LEFT(K25,4)="form","873",IF(RIGHT(K25,7)="ce-cppt","902","")))))))))) -> 171 | K28: =IF(J28="","",IF(OR(J$3=Recap!$A$50,J$3=Recap!$A$51,J$3=Recap!$A$52,J$3=Recap!$A$53,J$3=Recap!$A$54,J$3=Recap!$A$55,J$3=Recap!$A$56,J$3=Recap!$A$57,J$3=Recap!$A$58,J$3=Recap!$A$59,J$3=Recap!$A$60,J$3=Recap!$A$61),(J27+K27)/1,J27+K27)) -> 0.33333333 | L28: =IF(RIGHT(M25,4)="cuht","171",IF(RIGHT(M25,4)="netu","172",IF(RIGHT(M25,4)="auht","173",IF(OR(RIGHT(M25,4)="ppou",RIGHT(M25,5)="prepa"),"360",IF(RIGHT(M25,4)="cpou","361",IF(OR(RIGHT(M25,4)="apou",RIGHT(M25,6)="molinf"),"363",IF(RIGHT(M25,4)="netp","364",IF(RIGHT(M25,4)="cmtr","365",IF(LEFT(M25,4)="form","873",IF(RIGHT(M25,7)="ce-cppt","902","")))))))))) | M28: =IF(L28="","",IF(OR(L$3=Recap!$A$50,L$3=Recap!$A$51,L$3=Recap!$A$52,L$3=Recap!$A$53,L$3=Recap!$A$54,L$3=Recap!$A$55,L$3=Recap!$A$56,L$3=Recap!$A$57,L$3=Recap!$A$58,L$3=Recap!$A$59,L$3=Recap!$A$60,L$3=Recap!$A$61),(L27+M27)/1,L27+M27)) | N28: =IF(RIGHT(O25,4)="cuht","171",IF(RIGHT(O25,4)="netu","172",IF(RIGHT(O25,4)="auht","173",IF(OR(RIGHT(O25,4)="ppou",RIGHT(O25,5)="prepa"),"360",IF(RIGHT(O25,4)="cpou","361",IF(OR(RIGHT(O25,4)="apou",RIGHT(O25,6)="molinf"),"363",IF(RIGHT(O25,4)="netp","364",IF(RIGHT(O25,4)="cmtr","365",IF(LEFT(O25,4)="form","873",IF(RIGHT(O25,7)="ce-cppt","902","")))))))))) | O28: =IF(N28="","",IF(OR(N$3=Recap!$A$50,N$3=Recap!$A$51,N$3=Recap!$A$52,N$3=Recap!$A$53,N$3=Recap!$A$54,N$3=Recap!$A$55,N$3=Recap!$A$56,N$3=Recap!$A$57,N$3=Recap!$A$58,N$3=Recap!$A$59,N$3=Recap!$A$60,N$3=Recap!$A$61),(N27+O27)/1,N27+O27)) | P28: =IF(RIGHT(Q25,4)="cuht","171",IF(RIGHT(Q25,4)="netu","172",IF(RIGHT(Q25,4)="auht","173",IF(OR(RIGHT(Q25,4)="ppou",RIGHT(Q25,5)="prepa"),"360",IF(RIGHT(Q25,4)="cpou","361",IF(OR(RIGHT(Q25,4)="apou",RIGHT(Q25,6)="molinf"),"363",IF(RIGHT(Q25,4)="netp","364",IF(RIGHT(Q25,4)="cmtr","365",IF(LEFT(Q25,4)="form","873",IF(RIGHT(Q25,7)="ce-cppt","902","")))))))))) -> 171 | Q28: =IF(P28="","",IF(OR(P$3=Recap!$A$50,P$3=Recap!$A$51,P$3=Recap!$A$52,P$3=Recap!$A$53,P$3=Recap!$A$54,P$3=Recap!$A$55,P$3=Recap!$A$56,P$3=Recap!$A$57,P$3=Recap!$A$58,P$3=Recap!$A$59,P$3=Recap!$A$60,P$3=Recap!$A$61),(P27+Q27)/1,P27+Q27)) -> 0.33333333 | R28: =IF(RIGHT(S25,4)="cuht","171",IF(RIGHT(S25,4)="netu","172",IF(RIGHT(S25,4)="auht","173",IF(OR(RIGHT(S25,4)="ppou",RIGHT(S25,5)="prepa"),"360",IF(RIGHT(S25,4)="cpou","361",IF(OR(RIGHT(S25,4)="apou",RIGHT(S25,6)="molinf"),"363",IF(RIGHT(S25,4)="netp","364",IF(RIGHT(S25,4)="cmtr","365",IF(LEFT(S25,4)="form","873",IF(RIGHT(S25,7)="ce-cppt","902","")))))))))) -> 171 | S28: =IF(R28="","",IF(OR(R$3=Recap!$A$50,R$3=Recap!$A$51,R$3=Recap!$A$52,R$3=Recap!$A$53,R$3=Recap!$A$54,R$3=Recap!$A$55,R$3=Recap!$A$56,R$3=Recap!$A$57,R$3=Recap!$A$58,R$3=Recap!$A$59,R$3=Recap!$A$60,R$3=Recap!$A$61),(R27+S27)/1,R27+S27)) -> 0.33333333 | T28: =IF(RIGHT(U25,4)="cuht","171",IF(RIGHT(U25,4)="netu","172",IF(RIGHT(U25,4)="auht","173",IF(OR(RIGHT(U25,4)="ppou",RIGHT(U25,5)="prepa"),"360",IF(RIGHT(U25,4)="cpou","361",IF(OR(RIGHT(U25,4)="apou",RIGHT(U25,6)="molinf"),"363",IF(RIGHT(U25,4)="netp","364",IF(RIGHT(U25,4)="cmtr","365",IF(LEFT(U25,4)="form","873",IF(RIGHT(U25,7)="ce-cppt","902","")))))))))) -> 171 | U28: =IF(T28="","",IF(OR(T$3=Recap!$A$50,T$3=Recap!$A$51,T$3=Recap!$A$52,T$3=Recap!$A$53,T$3=Recap!$A$54,T$3=Recap!$A$55,T$3=Recap!$A$56,T$3=Recap!$A$57,T$3=Recap!$A$58,T$3=Recap!$A$59,T$3=Recap!$A$60,T$3=Recap!$A$61),(T27+U27)/1,T27+U27)) -> 0.33333333 | V28: =IF(RIGHT(W25,4)="cuht","171",IF(RIGHT(W25,4)="netu","172",IF(RIGHT(W25,4)="auht","173",IF(OR(RIGHT(W25,4)="ppou",RIGHT(W25,5)="prepa"),"360",IF(RIGHT(W25,4)="cpou","361",IF(OR(RIGHT(W25,4)="apou",RIGHT(W25,6)="molinf"),"363",IF(RIGHT(W25,4)="netp","364",IF(RIGHT(W25,4)="cmtr","365",IF(LEFT(W25,4)="form","873",IF(RIGHT(W25,7)="ce-cppt","902","")))))))))) -> 171 | W28: =IF(V28="","",IF(OR(V$3=Recap!$A$50,V$3=Recap!$A$51,V$3=Recap!$A$52,V$3=Recap!$A$53,V$3=Recap!$A$54,V$3=Recap!$A$55,V$3=Recap!$A$56,V$3=Recap!$A$57,V$3=Recap!$A$58,V$3=Recap!$A$59,V$3=Recap!$A$60,V$3=Recap!$A$61),(V27+W27)/1,V27+W27)) -> 0.39583333 | X28: =IF(RIGHT(Y25,4)="cuht","171",IF(RIGHT(Y25,4)="netu","172",IF(RIGHT(Y25,4)="auht","173",IF(OR(RIGHT(Y25,4)="ppou",RIGHT(Y25,5)="prepa"),"360",IF(RIGHT(Y25,4)="cpou","361",IF(OR(RIGHT(Y25,4)="apou",RIGHT(Y25,6)="molinf"),"363",IF(RIGHT(Y25,4)="netp","364",IF(RIGHT(Y25,4)="cmtr","365",IF(LEFT(Y25,4)="form","873",IF(RIGHT(Y25,7)="ce-cppt","902","")))))))))) -> 171 | Y28: =IF(X28="","",IF(OR(X$3=Recap!$A$50,X$3=Recap!$A$51,X$3=Recap!$A$52,X$3=Recap!$A$53,X$3=Recap!$A$54,X$3=Recap!$A$55,X$3=Recap!$A$56,X$3=Recap!$A$57,X$3=Recap!$A$58,X$3=Recap!$A$59,X$3=Recap!$A$60,X$3=Recap!$A$61),(X27+Y27)/1,X27+Y27)) -> 0.33333333 | Z28: =IF(RIGHT(AA25,4)="cuht","171",IF(RIGHT(AA25,4)="netu","172",IF(RIGHT(AA25,4)="auht","173",IF(OR(RIGHT(AA25,4)="ppou",RIGHT(AA25,5)="prepa"),"360",IF(RIGHT(AA25,4)="cpou","361",IF(OR(RIGHT(AA25,4)="apou",RIGHT(AA25,6)="molinf"),"363",IF(RIGHT(AA25,4)="netp","364",IF(RIGHT(AA25,4)="cmtr","365",IF(LEFT(AA25,4)="form","873",IF(RIGHT(AA25,7)="ce-cppt","902","")))))))))) | AA28: =IF(Z28="","",IF(OR(Z$3=Recap!$A$50,Z$3=Recap!$A$51,Z$3=Recap!$A$52,Z$3=Recap!$A$53,Z$3=Recap!$A$54,Z$3=Recap!$A$55,Z$3=Recap!$A$56,Z$3=Recap!$A$57,Z$3=Recap!$A$58,Z$3=Recap!$A$59,Z$3=Recap!$A$60,Z$3=Recap!$A$61),(Z27+AA27)/1,Z27+AA27)) | AB28: =IF(RIGHT(AC25,4)="cuht","171",IF(RIGHT(AC25,4)="netu","172",IF(RIGHT(AC25,4)="auht","173",IF(OR(RIGHT(AC25,4)="ppou",RIGHT(AC25,5)="prepa"),"360",IF(RIGHT(AC25,4)="cpou","361",IF(OR(RIGHT(AC25,4)="apou",RIGHT(AC25,6)="molinf"),"363",IF(RIGHT(AC25,4)="netp","364",IF(RIGHT(AC25,4)="cmtr","365",IF(LEFT(AC25,4)="form","873",IF(RIGHT(AC25,7)="ce-cppt","902","")))))))))) | AC28: =IF(AB28="","",IF(OR(AB$3=Recap!$A$50,AB$3=Recap!$A$51,AB$3=Recap!$A$52,AB$3=Recap!$A$53,AB$3=Recap!$A$54,AB$3=Recap!$A$55,AB$3=Recap!$A$56,AB$3=Recap!$A$57,AB$3=Recap!$A$58,AB$3=Recap!$A$59,AB$3=Recap!$A$60,AB$3=Recap!$A$61),(AB27+AC27)/1,AB27+AC27)) | AE28: =IF(RIGHT(AF25,4)="cuht","171",IF(RIGHT(AF25,4)="netu","172",IF(RIGHT(AF25,4)="auht","173",IF(OR(RIGHT(AF25,4)="ppou",RIGHT(AF25,5)="prepa"),"360",IF(RIGHT(AF25,4)="cpou","361",IF(OR(RIGHT(AF25,4)="apou",RIGHT(AF25,6)="molinf"),"363",IF(RIGHT(AF25,4)="netp","364",IF(RIGHT(AF25,4)="cmtr","365",IF(LEFT(AF25,4)="form","873",IF(RIGHT(AF25,7)="ce-cppt","902","")))))))))) -> 171 | AF28: =IF(AE28="","",IF(OR(AE$3=Recap!$A$50,AE$3=Recap!$A$51,AE$3=Recap!$A$52,AE$3=Recap!$A$53,AE$3=Recap!$A$54,AE$3=Recap!$A$55,AE$3=Recap!$A$56,AE$3=Recap!$A$57,AE$3=Recap!$A$58,AE$3=Recap!$A$59,AE$3=Recap!$A$60,AE$3=Recap!$A$61),(AE27+AF27)/1,AE27+AF27)) -> 0 | AG28: =IF(RIGHT(AH25,4)="cuht","171",IF(RIGHT(AH25,4)="netu","172",IF(RIGHT(AH25,4)="auht","173",IF(OR(RIGHT(AH25,4)="ppou",RIGHT(AH25,5)="prepa"),"360",IF(RIGHT(AH25,4)="cpou","361",IF(OR(RIGHT(AH25,4)="apou",RIGHT(AH25,6)="molinf"),"363",IF(RIGHT(AH25,4)="netp","364",IF(RIGHT(AH25,4)="cmtr","365",IF(LEFT(AH25,4)="form","873",IF(RIGHT(AH25,7)="ce-cppt","902","")))))))))) | AH28: =IF(AG28="","",IF(OR(AG$3=Recap!$A$50,AG$3=Recap!$A$51,AG$3=Recap!$A$52,AG$3=Recap!$A$53,AG$3=Recap!$A$54,AG$3=Recap!$A$55,AG$3=Recap!$A$56,AG$3=Recap!$A$57,AG$3=Recap!$A$58,AG$3=Recap!$A$59,AG$3=Recap!$A$60,AG$3=Recap!$A$61),(AG27+AH27)/1,AG27+AH27)) | AI28: =IF(RIGHT(AJ25,4)="cuht","171",IF(RIGHT(AJ25,4)="netu","172",IF(RIGHT(AJ25,4)="auht","173",IF(OR(RIGHT(AJ25,4)="ppou",RIGHT(AJ25,5)="prepa"),"360",IF(RIGHT(AJ25,4)="cpou","361",IF(OR(RIGHT(AJ25,4)="apou",RIGHT(AJ25,6)="molinf"),"363",IF(RIGHT(AJ25,4)="netp","364",IF(RIGHT(AJ25,4)="cmtr","365",IF(LEFT(AJ25,4)="form","873",IF(RIGHT(AJ25,7)="ce-cppt","902","")))))))))) -> 171 | AJ28: =IF(AI28="","",IF(OR(AI$3=Recap!$A$50,AI$3=Recap!$A$51,AI$3=Recap!$A$52,AI$3=Recap!$A$53,AI$3=Recap!$A$54,AI$3=Recap!$A$55,AI$3=Recap!$A$56,AI$3=Recap!$A$57,AI$3=Recap!$A$58,AI$3=Recap!$A$59,AI$3=Recap!$A$60,AI$3=Recap!$A$61),(AI27+AJ27)/1,AI27+AJ27)) -> 0 | AK28: =IF(RIGHT(AL25,4)="cuht","171",IF(RIGHT(AL25,4)="netu","172",IF(RIGHT(AL25,4)="auht","173",IF(OR(RIGHT(AL25,4)="ppou",RIGHT(AL25,5)="prepa"),"360",IF(RIGHT(AL25,4)="cpou","361",IF(OR(RIGHT(AL25,4)="apou",RIGHT(AL25,6)="molinf"),"363",IF(RIGHT(AL25,4)="netp","364",IF(RIGHT(AL25,4)="cmtr","365",IF(LEFT(AL25,4)="form","873",IF(RIGHT(AL25,7)="ce-cppt","902","")))))))))) -> 171 | AL28: =IF(AK28="","",IF(OR(AK$3=Recap!$A$50,AK$3=Recap!$A$51,AK$3=Recap!$A$52,AK$3=Recap!$A$53,AK$3=Recap!$A$54,AK$3=Recap!$A$55,AK$3=Recap!$A$56,AK$3=Recap!$A$57,AK$3=Recap!$A$58,AK$3=Recap!$A$59,AK$3=Recap!$A$60,AK$3=Recap!$A$61),(AK27+AL27)/1,AK27+AL27)) -> 0 | AM28: =IF(RIGHT(AN25,4)="cuht","171",IF(RIGHT(AN25,4)="netu","172",IF(RIGHT(AN25,4)="auht","173",IF(OR(RIGHT(AN25,4)="ppou",RIGHT(AN25,5)="prepa"),"360",IF(RIGHT(AN25,4)="cpou","361",IF(OR(RIGHT(AN25,4)="apou",RIGHT(AN25,6)="molinf"),"363",IF(RIGHT(AN25,4)="netp","364",IF(RIGHT(AN25,4)="cmtr","365",IF(LEFT(AN25,4)="form","873",IF(RIGHT(AN25,7)="ce-cppt","902","")))))))))) -> 171 | AN28: =IF(AM28="","",IF(OR(AM$3=Recap!$A$50,AM$3=Recap!$A$51,AM$3=Recap!$A$52,AM$3=Recap!$A$53,AM$3=Recap!$A$54,AM$3=Recap!$A$55,AM$3=Recap!$A$56,AM$3=Recap!$A$57,AM$3=Recap!$A$58,AM$3=Recap!$A$59,AM$3=Recap!$A$60,AM$3=Recap!$A$61),(AM27+AN27)/1,AM27+AN27)) -> 0 | AO28: =IF(RIGHT(AP25,4)="cuht","171",IF(RIGHT(AP25,4)="netu","172",IF(RIGHT(AP25,4)="auht","173",IF(OR(RIGHT(AP25,4)="ppou",RIGHT(AP25,5)="prepa"),"360",IF(RIGHT(AP25,4)="cpou","361",IF(OR(RIGHT(AP25,4)="apou",RIGHT(AP25,6)="molinf"),"363",IF(RIGHT(AP25,4)="netp","364",IF(RIGHT(AP25,4)="cmtr","365",IF(LEFT(AP25,4)="form","873",IF(RIGHT(AP25,7)="ce-cppt","902","")))))))))) | AP28: =IF(AO28="","",IF(OR(AO$3=Recap!$A$50,AO$3=Recap!$A$51,AO$3=Recap!$A$52,AO$3=Recap!$A$53,AO$3=Recap!$A$54,AO$3=Recap!$A$55,AO$3=Recap!$A$56,AO$3=Recap!$A$57,AO$3=Recap!$A$58,AO$3=Recap!$A$59,AO$3=Recap!$A$60,AO$3=Recap!$A$61),(AO27+AP27)/1,AO27+AP27)) | AQ28: =IF(RIGHT(AR25,4)="cuht","171",IF(RIGHT(AR25,4)="netu","172",IF(RIGHT(AR25,4)="auht","173",IF(OR(RIGHT(AR25,4)="ppou",RIGHT(AR25,5)="prepa"),"360",IF(RIGHT(AR25,4)="cpou","361",IF(OR(RIGHT(AR25,4)="apou",RIGHT(AR25,6)="molinf"),"363",IF(RIGHT(AR25,4)="netp","364",IF(RIGHT(AR25,4)="cmtr","365",IF(LEFT(AR25,4)="form","873",IF(RIGHT(AR25,7)="ce-cppt","902","")))))))))) | AR28: =IF(AQ28="","",IF(OR(AQ$3=Recap!$A$50,AQ$3=Recap!$A$51,AQ$3=Recap!$A$52,AQ$3=Recap!$A$53,AQ$3=Recap!$A$54,AQ$3=Recap!$A$55,AQ$3=Recap!$A$56,AQ$3=Recap!$A$57,AQ$3=Recap!$A$58,AQ$3=Recap!$A$59,AQ$3=Recap!$A$60,AQ$3=Recap!$A$61),(AQ27+AR27)/1,AQ27+AR27)) | AT28: =IF(RIGHT(AU25,4)="cuht","171",IF(RIGHT(AU25,4)="netu","172",IF(RIGHT(AU25,4)="auht","173",IF(OR(RIGHT(AU25,4)="ppou",RIGHT(AU25,5)="prepa"),"360",IF(RIGHT(AU25,4)="cpou","361",IF(OR(RIGHT(AU25,4)="apou",RIGHT(AU25,6)="molinf"),"363",IF(RIGHT(AU25,4)="netp","364",IF(RIGHT(AU25,4)="cmtr","365",IF(LEFT(AU25,4)="form","873",IF(RIGHT(AU25,7)="ce-cppt","902","")))))))))) | AU28: =IF(AT28="","",IF(OR(AT$3=Recap!$A$50,AT$3=Recap!$A$51,AT$3=Recap!$A$52,AT$3=Recap!$A$53,AT$3=Recap!$A$54,AT$3=Recap!$A$55,AT$3=Recap!$A$56,AT$3=Recap!$A$57,AT$3=Recap!$A$58,AT$3=Recap!$A$59,AT$3=Recap!$A$60,AT$3=Recap!$A$61),(AT27+AU27)/1,AT27+AU27)) | AV28: =IF(RIGHT(AW25,4)="cuht","171",IF(RIGHT(AW25,4)="netu","172",IF(RIGHT(AW25,4)="auht","173",IF(OR(RIGHT(AW25,4)="ppou",RIGHT(AW25,5)="prepa"),"360",IF(RIGHT(AW25,4)="cpou","361",IF(OR(RIGHT(AW25,4)="apou",RIGHT(AW25,6)="molinf"),"363",IF(RIGHT(AW25,4)="netp","364",IF(RIGHT(AW25,4)="cmtr","365",IF(LEFT(AW25,4)="form","873",IF(RIGHT(AW25,7)="ce-cppt","902","")))))))))) | AW28: =IF(AV28="","",IF(OR(AV$3=Recap!$A$50,AV$3=Recap!$A$51,AV$3=Recap!$A$52,AV$3=Recap!$A$53,AV$3=Recap!$A$54,AV$3=Recap!$A$55,AV$3=Recap!$A$56,AV$3=Recap!$A$57,AV$3=Recap!$A$58,AV$3=Recap!$A$59,AV$3=Recap!$A$60,AV$3=Recap!$A$61),(AV27+AW27)/1,AV27+AW27)) | AX28: =IF(RIGHT(AY25,4)="cuht","171",IF(RIGHT(AY25,4)="netu","172",IF(RIGHT(AY25,4)="auht","173",IF(OR(RIGHT(AY25,4)="ppou",RIGHT(AY25,5)="prepa"),"360",IF(RIGHT(AY25,4)="cpou","361",IF(OR(RIGHT(AY25,4)="apou",RIGHT(AY25,6)="molinf"),"363",IF(RIGHT(AY25,4)="netp","364",IF(RIGHT(AY25,4)="cmtr","365",IF(LEFT(AY25,4)="form","873",IF(RIGHT(AY25,7)="ce-cppt","902","")))))))))) | AY28: =IF(AX28="","",IF(OR(AX$3=Recap!$A$50,AX$3=Recap!$A$51,AX$3=Recap!$A$52,AX$3=Recap!$A$53,AX$3=Recap!$A$54,AX$3=Recap!$A$55,AX$3=Recap!$A$56,AX$3=Recap!$A$57,AX$3=Recap!$A$58,AX$3=Recap!$A$59,AX$3=Recap!$A$60,AX$3=Recap!$A$61),(AX27+AY27)/1,AX27+AY27)) | AZ28: =IF(RIGHT(BA25,4)="cuht","171",IF(RIGHT(BA25,4)="netu","172",IF(RIGHT(BA25,4)="auht","173",IF(OR(RIGHT(BA25,4)="ppou",RIGHT(BA25,5)="prepa"),"360",IF(RIGHT(BA25,4)="cpou","361",IF(OR(RIGHT(BA25,4)="apou",RIGHT(BA25,6)="molinf"),"363",IF(RIGHT(BA25,4)="netp","364",IF(RIGHT(BA25,4)="cmtr","365",IF(LEFT(BA25,4)="form","873",IF(RIGHT(BA25,7)="ce-cppt","902","")))))))))) | BA28: =IF(AZ28="","",IF(OR(AZ$3=Recap!$A$50,AZ$3=Recap!$A$51,AZ$3=Recap!$A$52,AZ$3=Recap!$A$53,AZ$3=Recap!$A$54,AZ$3=Recap!$A$55,AZ$3=Recap!$A$56,AZ$3=Recap!$A$57,AZ$3=Recap!$A$58,AZ$3=Recap!$A$59,AZ$3=Recap!$A$60,AZ$3=Recap!$A$61),(AZ27+BA27)/1,AZ27+BA27)) | BB28: =IF(RIGHT(BC25,4)="cuht","171",IF(RIGHT(BC25,4)="netu","172",IF(RIGHT(BC25,4)="auht","173",IF(OR(RIGHT(BC25,4)="ppou",RIGHT(BC25,5)="prepa"),"360",IF(RIGHT(BC25,4)="cpou","361",IF(OR(RIGHT(BC25,4)="apou",RIGHT(BC25,6)="molinf"),"363",IF(RIGHT(BC25,4)="netp","364",IF(RIGHT(BC25,4)="cmtr","365",IF(LEFT(BC25,4)="form","873",IF(RIGHT(BC25,7)="ce-cppt","902","")))))))))) | BC28: =IF(BB28="","",IF(OR(BB$3=Recap!$A$50,BB$3=Recap!$A$51,BB$3=Recap!$A$52,BB$3=Recap!$A$53,BB$3=Recap!$A$54,BB$3=Recap!$A$55,BB$3=Recap!$A$56,BB$3=Recap!$A$57,BB$3=Recap!$A$58,BB$3=Recap!$A$59,BB$3=Recap!$A$60,BB$3=Recap!$A$61),(BB27+BC27)/1,BB27+BC27)) | BD28: =IF(RIGHT(BE25,4)="cuht","171",IF(RIGHT(BE25,4)="netu","172",IF(RIGHT(BE25,4)="auht","173",IF(OR(RIGHT(BE25,4)="ppou",RIGHT(BE25,5)="prepa"),"360",IF(RIGHT(BE25,4)="cpou","361",IF(OR(RIGHT(BE25,4)="apou",RIGHT(BE25,6)="molinf"),"363",IF(RIGHT(BE25,4)="netp","364",IF(RIGHT(BE25,4)="cmtr","365",IF(LEFT(BE25,4)="form","873",IF(RIGHT(BE25,7)="ce-cppt","902","")))))))))) | BE28: =IF(BD28="","",IF(OR(BD$3=Recap!$A$50,BD$3=Recap!$A$51,BD$3=Recap!$A$52,BD$3=Recap!$A$53,BD$3=Recap!$A$54,BD$3=Recap!$A$55,BD$3=Recap!$A$56,BD$3=Recap!$A$57,BD$3=Recap!$A$58,BD$3=Recap!$A$59,BD$3=Recap!$A$60,BD$3=Recap!$A$61),(BD27+BE27)/1,BD27+BE27)) | BF28: =IF(RIGHT(BG25,4)="cuht","171",IF(RIGHT(BG25,4)="netu","172",IF(RIGHT(BG25,4)="auht","173",IF(OR(RIGHT(BG25,4)="ppou",RIGHT(BG25,5)="prepa"),"360",IF(RIGHT(BG25,4)="cpou","361",IF(OR(RIGHT(BG25,4)="apou",RIGHT(BG25,6)="molinf"),"363",IF(RIGHT(BG25,4)="netp","364",IF(RIGHT(BG25,4)="cmtr","365",IF(LEFT(BG25,4)="form","873",IF(RIGHT(BG25,7)="ce-cppt","902","")))))))))) | BG28: =IF(BF28="","",IF(OR(BF$3=Recap!$A$50,BF$3=Recap!$A$51,BF$3=Recap!$A$52,BF$3=Recap!$A$53,BF$3=Recap!$A$54,BF$3=Recap!$A$55,BF$3=Recap!$A$56,BF$3=Recap!$A$57,BF$3=Recap!$A$58,BF$3=Recap!$A$59,BF$3=Recap!$A$60,BF$3=Recap!$A$61),(BF27+BG27)/1,BF27+BG27))
A29: totem | C29: f | E29: c | F29: 0.91666667 | G29: pause ppou | H29: 0.91666667 | I29: pause ppou | J29: 0.91666667 | K29: pause ppou | P29: 0.58333333 | Q29: pause puht | R29: 0.58333333 | S29: pause puht | T29: 0.33333333 | U29: jour cuht | W29: c | Y29: c | AD29: =SUM(P31:AC31) -> 1.6166667 | AF29: c | AH29: f | AJ29: c | AL29: c | AN29: c | AS29: =SUM(AE31:AR31) -> 0 | AU29: c | BH29: =SUM(AT31:BG31) -> 0
F30: 0.25 | H30: 0.25 | J30: 0.25 | P30: 0.91666667 | R30: 0.91666667 | T30: 0.68125
