Workbook
Name C_1: #REF!
Name C_2: #REF!
Name d: #REF!
Name fériés: Feuil3!$B$3:$B$13
Name MAIL: DÉCHARGE!$A$1:$H$35
Name V_1: #REF!
Name V_2: #REF!
Name V_3: #REF!
Name V_4: #REF!
Name V_5: #REF!
Name V_6: #REF!
Name WW: #REF!

Sheet DATE
A1: 2021
A2: 2016 | B2: 2018
A3: 2017
A4: 2018
A5: 2019
A6: 2020
A7: 2021
A8: 2022
A9: 2023
A10: 2024
A11: 2025
A12: 2026
A13: 2027
A14: 2028
... A36: 2050

Sheet C.E PERM
A1: =SUM(DATE!B2) -> 2018 | B1: =SUM(DATE!B2) -> 2018 | AM1: Pâques
AI2: C. A. | AK2: 39 | AO2: Enfant Malade | AQ2: 0 | AU2: =SUM(AU8:AU31) -> 0 | AW2: =SUM(A1) -> 2018
A3: =A6+1 -> 43192 | AI3: Reste | AK3: =SUM(AL30,AU2) -> 39 | AO3: Reste | AQ3: =AR30 -> 0
A4: =A6+39 -> 43230 | D4: DÉCHARGE | I4: CALENDRIER | N4: RÉCAP | S4: BASE DE DONNÉES | X4: CONGÉ SCOLAIRES
A5: =A6+50 -> 43241 | AM5: =ROUND(DATE(B1,4,MOD(234-11*MOD(B1,19),30))/7,0)*7-6 -> 43191
A6: =ROUND(DATE(B1,4,MOD(234-11*MOD(B1,19),30))/7,0)*7-6 -> 43191 | C6: 1 | D6: 2 | E6: 3 | F6: 4 | G6: 5 | H6: 6 | I6: 7 | J6: 8 | K6: 9 | L6: 10 | M6: 11 | N6: 12 | O6: 13 | P6: 14 | Q6: 15 | R6: 16 | S6: 17 | T6: 18 | U6: 19 | V6: 20 | W6: 21 | X6: 22 | Y6: 23 | Z6: 24 | AA6: 25 | AB6: 26 | AC6: 27 | AD6: 28 | AE6: 29 | AF6: 30 | AG6: 31 | AK6: Jours | AQ6: Jours | AU6: Jours | AW6: Notes :
B8: =DATE($B$1,1,1) -> 43101 | Y8: 0.10416667 | AJ8: =SUM(AK2) -> 39 | AL8: =SUM(AJ8-AK8) -> 39 | AM8: Jours fériés | AP8: =SUM(AQ2) -> 0 | AR8: =SUM(AP8-AQ8) -> 0
B9: =DATE($B$1,1,1) -> 43101 | D9: 0.059027778 | R9: 0.16666667 | AM9: =DATE(B1,1,1) -> 43101
B10: =DATE($B$1,2,1) -> 43132 | AJ10: =SUM(AL8) -> 39 | AL10: =SUM(AJ10-AK10) -> 39 | AM10: =DATE(B1,5,1) -> 43221 | AP10: =SUM(AR8) -> 0 | AR10: =SUM(AP10-AQ10) -> 0
B11: =DATE($B$1,2,1) -> 43132 | AM11: =DATE(B1,5,8) -> 43228
B12: =DATE($B$1,3,1) -> 43160 | R12: 0.14583333 | AJ12: =SUM(AL10) -> 39 | AL12: =SUM(AJ12-AK12) -> 39 | AM12: =DATE(B1,7,14) -> 43295 | AP12: =SUM(AR10) -> 0 | AR12: =SUM(AP12-AQ12) -> 0
B13: =DATE($B$1,3,1) -> 43160 | AM13: =DATE(B1,8,15) -> 43327
B14: =DATE($B$1,4,1) -> 43191 | AJ14: =SUM(AL12) -> 39 | AL14: =SUM(AJ14-AK14) -> 39 | AM14: =DATE(B1,11,1) -> 43405 | AP14: =SUM(AR12) -> 0 | AR14: =SUM(AP14-AQ14) -> 0
B15: =DATE($B$1,4,1) -> 43191 | AM15: =DATE(B1,11,11) -> 43415
B16: =DATE($B$1,5,1) -> 43221 | AJ16: =SUM(AL14) -> 39 | AL16: =SUM(AJ16-AK16) -> 39 | AM16: =DATE(B1,12,25) -> 43459 | AP16: =SUM(AR14) -> 0 | AR16: =SUM(AP16-AQ16) -> 0
B17: =DATE($B$1,5,1) -> 43221 | AM17: =AM5+1 -> 43192
B18: =DATE($B$1,6,1) -> 43252 | AJ18: =SUM(AL16) -> 39 | AL18: =SUM(AJ18-AK18) -> 39 | AM18: =AM5+39 -> 43230 | AP18: =SUM(AR16) -> 0 | AR18: =SUM(AP18-AQ18) -> 0
B19: =DATE($B$1,6,1) -> 43252 | AM19: =AM5+50 -> 43241
B20: =DATE($B$1,7,1) -> 43282 | AJ20: =SUM(AL18) -> 39 | AL20: =SUM(AJ20-AK20) -> 39 | AP20: =SUM(AR18) -> 0 | AR20: =SUM(AP20-AQ20) -> 0
B21: =DATE($B$1,7,1) -> 43282
B22: =DATE($B$1,8,1) -> 43313 | AJ22: =SUM(AL20) -> 39 | AL22: =SUM(AJ22-AK22) -> 39 | AP22: =SUM(AR20) -> 0 | AR22: =SUM(AP22-AQ22) -> 0
B23: =DATE($B$1,8,1) -> 43313
B24: =DATE($B$1,9,1) -> 43344 | AJ24: =SUM(AL22) -> 39 | AL24: =SUM(AJ24-AK24) -> 39 | AP24: =SUM(AR22) -> 0 | AR24: =SUM(AP24-AQ24) -> 0
B25: =DATE($B$1,9,1) -> 43344
B26: =DATE($B$1,10,1) -> 43374 | AJ26: =SUM(AL24) -> 39 | AL26: =SUM(AJ26-AK26) -> 39 | AP26: =SUM(AR24) -> 0 | AR26: =SUM(AP26-AQ26) -> 0
B27: =DATE($B$1,10,1) -> 43374
B28: =DATE($B$1,11,1) -> 43405 | AJ28: =SUM(AL26) -> 39 | AL28: =SUM(AJ28-AK28) -> 39 | AP28: =SUM(AR26) -> 0 | AR28: =SUM(AP28-AQ28) -> 0
B29: =DATE($B$1,11,1) -> 43405
B30: =DATE($B$1,12,1) -> 43435 | AJ30: =SUM(AL28) -> 39 | AL30: =SUM(AJ30-AK30) -> 39 | AP30: =SUM(AR28) -> 0 | AR30: =SUM(AP30-AQ30) -> 0
B31: =DATE($B$1,12,1) -> 43435
A47: JANV | B47: =DATE($B$1,1,1) -> 43101 | C47: =B47 -> 43101 | D47: =DATE(YEAR(C47),MONTH(C47),2) -> 43102 | E47: =D47+1 -> 43103 | F47: =E47+1 -> 43104 | G47: =F47+1 -> 43105 | H47: =G47+1 -> 43106 | I47: =H47+1 -> 43107 | J47: =I47+1 -> 43108 | K47: =J47+1 -> 43109 | L47: =K47+1 -> 43110 | ... AG47: =AF47+1 -> 43131
A48: FÉV | B48: =DATE($B$1,2,1) -> 43132 | C48: =B48 -> 43132 | D48: =DATE(YEAR(C48),MONTH(C48),2) -> 43133 | E48: =D48+1 -> 43134 | F48: =E48+1 -> 43135 | G48: =F48+1 -> 43136 | H48: =G48+1 -> 43137 | I48: =H48+1 -> 43138 | J48: =I48+1 -> 43139 | K48: =J48+1 -> 43140 | L48: =K48+1 -> 43141 | ... AE48: =AD48+1 -> 43160 | AG48: =AF48+1 -> 1
A49: MARS | B49: =DATE($B$1,3,1) -> 43160 | C49: =B49 -> 43160 | D49: =DATE(YEAR(C49),MONTH(C49),2) -> 43161 | E49: =D49+1 -> 43162 | F49: =E49+1 -> 43163 | G49: =F49+1 -> 43164 | H49: =G49+1 -> 43165 | I49: =H49+1 -> 43166 | J49: =I49+1 -> 43167 | K49: =J49+1 -> 43168 | L49: =K49+1 -> 43169 | ... AG49: =AF49+1 -> 43190
A50: AVRIL | B50: =DATE($B$1,4,1) -> 43191 | C50: =B50 -> 43191 | D50: =DATE(YEAR(C50),MONTH(C50),2) -> 43192 | E50: =D50+1 -> 43193 | F50: =E50+1 -> 43194 | G50: =F50+1 -> 43195 | H50: =G50+1 -> 43196 | I50: =H50+1 -> 43197 | J50: =I50+1 -> 43198 | K50: =J50+1 -> 43199 | L50: =K50+1 -> 43200 | ... AD50: =AC50+1 -> 43218 | AE50: =IF(OR(MONTH(AD50)<>MONTH(AD50+1),#REF!=59),REPT("",100),AD50+1) -> #REF! | AF50: =IF(MONTH(AD50)<>MONTH(AD50+2),REPT("",100),AE50+1) -> #REF! | AG50: =AF50+1 -> #REF!
A51: MAI | B51: =DATE($B$1,5,1) -> 43221 | C51: =B51 -> 43221 | D51: =DATE(YEAR(C51),MONTH(C51),2) -> 43222 | E51: =D51+1 -> 43223 | F51: =E51+1 -> 43224 | G51: =F51+1 -> 43225 | H51: =G51+1 -> 43226 | I51: =H51+1 -> 43227 | J51: =I51+1 -> 43228 | K51: =J51+1 -> 43229 | L51: =K51+1 -> 43230 | ... AD51: =AC51+1 -> 43248 | AE51: =IF(OR(MONTH(AD51)<>MONTH(AD51+1),B1=59),REPT("",100),AD51+1) -> 43249 | AF51: =IF(MONTH(AD51)<>MONTH(AD51+2),REPT("",100),AE51+1) -> 43250 | AG51: =AF51+1 -> 43251
A52: JUIN | B52: =DATE($B$1,6,1) -> 43252 | C52: =B52 -> 43252 | D52: =DATE(YEAR(C52),MONTH(C52),2) -> 43253 | E52: =D52+1 -> 43254 | F52: =E52+1 -> 43255 | G52: =F52+1 -> 43256 | H52: =G52+1 -> 43257 | I52: =H52+1 -> 43258 | J52: =I52+1 -> 43259 | K52: =J52+1 -> 43260 | L52: =K52+1 -> 43261 | ... AD52: =AC52+1 -> 43279 | AE52: =IF(OR(MONTH(AD52)<>MONTH(AD52+1),B2=59),REPT("",100),AD52+1) -> 43280 | AF52: =IF(MONTH(AD52)<>MONTH(AD52+2),REPT("",100),AE52+1) -> 43281 | AG52: =AF52+1 -> 43282
A53: JUILLET | B53: =DATE($B$1,7,1) -> 43282 | C53: =B53 -> 43282 | D53: =DATE(YEAR(C53),MONTH(C53),2) -> 43283 | E53: =D53+1 -> 43284 | F53: =E53+1 -> 43285 | G53: =F53+1 -> 43286 | H53: =G53+1 -> 43287 | I53: =H53+1 -> 43288 | J53: =I53+1 -> 43289 | K53: =J53+1 -> 43290 | L53: =K53+1 -> 43291 | ... AD53: =AC53+1 -> 43309 | AE53: =IF(OR(MONTH(AD53)<>MONTH(AD53+1),B3=59),REPT("",100),AD53+1) -> 43310 | AF53: =IF(MONTH(AD53)<>MONTH(AD53+2),REPT("",100),AE53+1) -> 43311 | AG53: =AF53+1 -> 43312
A54: AOUT | B54: =DATE($B$1,8,1) -> 43313 | C54: =B54 -> 43313 | D54: =DATE(YEAR(C54),MONTH(C54),2) -> 43314 | E54: =D54+1 -> 43315 | F54: =E54+1 -> 43316 | G54: =F54+1 -> 43317 | H54: =G54+1 -> 43318 | I54: =H54+1 -> 43319 | J54: =I54+1 -> 43320 | K54: =J54+1 -> 43321 | L54: =K54+1 -> 43322 | ... AD54: =AC54+1 -> 43340 | AE54: =IF(OR(MONTH(AD54)<>MONTH(AD54+1),B4=59),REPT("",100),AD54+1) -> 43341 | AF54: =IF(MONTH(AD54)<>MONTH(AD54+2),REPT("",100),AE54+1) -> 43342 | AG54: =AF54+1 -> 43343
A55: SEPT | B55: =DATE($B$1,9,1) -> 43344 | C55: =B55 -> 43344 | D55: =DATE(YEAR(C55),MONTH(C55),2) -> 43345 | E55: =D55+1 -> 43346 | F55: =E55+1 -> 43347 | G55: =F55+1 -> 43348 | H55: =G55+1 -> 43349 | I55: =H55+1 -> 43350 | J55: =I55+1 -> 43351 | K55: =J55+1 -> 43352 | L55: =K55+1 -> 43353 | ... AD55: =AC55+1 -> 43371 | AE55: =IF(OR(MONTH(AD55)<>MONTH(AD55+1),B5=59),REPT("",100),AD55+1) -> 43372 | AF55: =IF(MONTH(AD55)<>MONTH(AD55+2),REPT("",100),AE55+1) -> 43373 | AG55: =AF55+1 -> 43374
A56: OCT | B56: =DATE($B$1,10,1) -> 43374 | C56: =B56 -> 43374 | D56: =DATE(YEAR(C56),MONTH(C56),2) -> 43375 | E56: =D56+1 -> 43376 | F56: =E56+1 -> 43377 | G56: =F56+1 -> 43378 | H56: =G56+1 -> 43379 | I56: =H56+1 -> 43380 | J56: =I56+1 -> 43381 | K56: =J56+1 -> 43382 | L56: =K56+1 -> 43383 | ... AD56: =AC56+1 -> 43401 | AE56: =IF(OR(MONTH(AD56)<>MONTH(AD56+1),B6=59),REPT("",100),AD56+1) -> 43402 | AF56: =IF(MONTH(AD56)<>MONTH(AD56+2),REPT("",100),AE56+1) -> 43403 | AG56: =AF56+1 -> 43404
A57: NOV | B57: =DATE($B$1,11,1) -> 43405 | C57: =B57 -> 43405 | D57: =DATE(YEAR(C57),MONTH(C57),2) -> 43406 | E57: =D57+1 -> 43407 | F57: =E57+1 -> 43408 | G57: =F57+1 -> 43409 | H57: =G57+1 -> 43410 | I57: =H57+1 -> 43411 | J57: =I57+1 -> 43412 | K57: =J57+1 -> 43413 | L57: =K57+1 -> 43414 | ... AD57: =AC57+1 -> 43432 | AE57: =IF(OR(MONTH(AD57)<>MONTH(AD57+1),B7=59),REPT("",100),AD57+1) -> 43433 | AF57: =IF(MONTH(AD57)<>MONTH(AD57+2),REPT("",100),AE57+1) -> 43434 | AG57: =AF57+1 -> 43435
A58: DÉC | B58: =DATE($B$1,12,1) -> 43435 | C58: =B58 -> 43435 | D58: =DATE(YEAR(C58),MONTH(C58),2) -> 43436 | E58: =D58+1 -> 43437 | F58: =E58+1 -> 43438 | G58: =F58+1 -> 43439 | H58: =G58+1 -> 43440 | I58: =H58+1 -> 43441 | J58: =I58+1 -> 43442 | K58: =J58+1 -> 43443 | L58: =K58+1 -> 43444 | ... AD58: =AC58+1 -> 43462 | AE58: =IF(OR(MONTH(AD58)<>MONTH(AD58+1),B8=59),REPT("",100),AD58+1) -> 43463 | AF58: =IF(MONTH(AD58)<>MONTH(AD58+2),REPT("",100),AE58+1) -> 43464 | AG58: =AF58+1 -> 43465
B60: INFORMATIONS :
C65: Congés Scolaires | J65: Fériés | Q65: Week-end

Sheet CALENDRIER
A1: RÉCAP | N1: DÉCHARGE | AA1: Base de Données | AM1: Pâques
AM2: =ROUND(DATE(AO30,4,MOD(234-11*MOD(AO30,19),30))/7,0)*7-6 -> 43191 | AN2: Bloc Notes
A3: =PROPER(TEXT(DATE($AO$30,AJ4,1),"mmmm aa")) -> Janvier 18 | I3: =PROPER(TEXT(DATE($AO$30,AJ5,1),"mmmm aa")) -> Février 18 | R3: =PROPER(TEXT(DATE($AO$30,AJ6,1),"mmmm aa")) -> Mars 18 | Z3: =PROPER(TEXT(DATE($AO$30,AJ7,1),"mmmm aa")) -> Avril 18
A4: L | B4: M | C4: M | D4: J | E4: V | F4: S | G4: D | I4: L | J4: M | K4: M | L4: J | M4: V | N4: S | O4: D | R4: L | S4: M | T4: M | U4: J | V4: V | W4: S | X4: D | Z4: L | AA4: M | AB4: M | AC4: J | AD4: V | AE4: S | AF4: D | AJ4: 1 | AM4: Jours fériés
A5: {=IF(MONTH(DATE($AO$30,AJ4,1)-WEEKDAY(DATE($AO$30,AJ4,1),2)+{1,2,3,4,5,6,7}+{0;1;2;3;4;5}*7)=AJ4,DATE($AO$30,AJ4,1)-WEEKDAY(DATE($AO$30,AJ4,1),2)+{1,2,3,4,5,6,7}+{0;1;2;3;4;5}*7,"")} -> 43101 | B5: 43102 | C5: 43103 | D5: 43104 | E5: 43105 | F5: 43106 | G5: 43107 | I5: {=IF(MONTH(DATE($AO$30,AJ5,1)-WEEKDAY(DATE($AO$30,AJ5,1),2)+{1,2,3,4,5,6,7}+{0;1;2;3;4;5}*7)=AJ5,DATE($AO$30,AJ5,1)-WEEKDAY(DATE($AO$30,AJ5,1),2)+{1,2,3,4,5,6,7}+{0;1;2;3;4;5}*7,"")} | L5: 43132 | M5: 43133 | N5: 43134 | O5: 43135 | R5: {=IF(MONTH(DATE($AO$30,AJ6,1)-WEEKDAY(DATE($AO$30,AJ6,1),2)+{1,2,3,4,5,6,7}+{0;1;2;3;4;5}*7)=AJ6,DATE($AO$30,AJ6,1)-WEEKDAY(DATE($AO$30,AJ6,1),2)+{1,2,3,4,5,6,7}+{0;1;2;3;4;5}*7,"")} | U5: 43160 | V5: 43161 | W5: 43162 | X5: 43163 | Z5: {=IF(MONTH(DATE($AO$30,AJ7,1)-WEEKDAY(DATE($AO$30,AJ7,1),2)+{1,2,3,4,5,6,7}+{0;1;2;3;4;5}*7)=AJ7,DATE($AO$30,AJ7,1)-WEEKDAY(DATE($AO$30,AJ7,1),2)+{1,2,3,4,5,6,7}+{0;1;2;3;4;5}*7,"")} | AF5: 43191 | AJ5: 2 | AM5: =DATE(AO30,1,1) -> 43101
A6: 43108 | B6: 43109 | C6: 43110 | D6: 43111 | E6: 43112 | F6: 43113 | G6: 43114 | I6: 43136 | J6: 43137 | K6: 43138 | L6: 43139 | M6: 43140 | N6: 43141 | O6: 43142 | R6: 43164 | S6: 43165 | T6: 43166 | U6: 43167 | V6: 43168 | W6: 43169 | X6: 43170 | Z6: 43192 | AA6: 43193 | AB6: 43194 | AC6: 43195 | AD6: 43196 | AE6: 43197 | AF6: 43198 | AJ6: 3 | AM6: =DATE(AO30,5,1) -> 43221
A7: 43115 | B7: 43116 | C7: 43117 | D7: 43118 | E7: 43119 | F7: 43120 | G7: 43121 | I7: 43143 | J7: 43144 | K7: 43145 | L7: 43146 | M7: 43147 | N7: 43148 | O7: 43149 | R7: 43171 | S7: 43172 | T7: 43173 | U7: 43174 | V7: 43175 | W7: 43176 | X7: 43177 | Z7: 43199 | AA7: 43200 | AB7: 43201 | AC7: 43202 | AD7: 43203 | AE7: 43204 | AF7: 43205 | AJ7: 4 | AM7: =DATE(AO30,5,8) -> 43228
A8: 43122 | B8: 43123 | C8: 43124 | D8: 43125 | E8: 43126 | F8: 43127 | G8: 43128 | I8: 43150 | J8: 43151 | K8: 43152 | L8: 43153 | M8: 43154 | N8: 43155 | O8: 43156 | R8: 43178 | S8: 43179 | T8: 43180 | U8: 43181 | V8: 43182 | W8: 43183 | X8: 43184 | Z8: 43206 | AA8: 43207 | AB8: 43208 | AC8: 43209 | AD8: 43210 | AE8: 43211 | AF8: 43212 | AJ8: 5 | AM8: =DATE(AO30,7,14) -> 43295
A9: 43129 | B9: 43130 | C9: 43131 | I9: 43157 | J9: 43158 | K9: 43159 | R9: 43185 | S9: 43186 | T9: 43187 | U9: 43188 | V9: 43189 | W9: 43190 | Z9: 43213 | AA9: 43214 | AB9: 43215 | AC9: 43216 | AD9: 43217 | AE9: 43218 | AF9: 43219 | AJ9: 6 | AM9: =DATE(AO30,8,15) -> 43327
Z10: 43220 | AJ10: 7 | AM10: =DATE(AO30,11,1) -> 43405
AM11: =DATE(AO30,11,11) -> 43415
A12: =PROPER(TEXT(DATE($AO$30,AJ8,1),"mmmm aa")) -> Mai 18 | I12: =PROPER(TEXT(DATE($AO$30,AJ9,1),"mmmm aa")) -> Juin 18 | R12: =PROPER(TEXT(DATE($AO$30,AJ10,1),"mmmm aa")) -> Juillet 18 | Z12: =PROPER(TEXT(DATE($AO$30,AJ12,1),"mmmm aa")) -> Août 18 | AJ12: 8 | AM12: =DATE(AO30,12,25) -> 43459
A13: L | B13: M | C13: M | D13: J | E13: V | F13: S | G13: D | I13: L | J13: M | K13: M | L13: J | M13: V | N13: S | O13: D | R13: L | S13: M | T13: M | U13: J | V13: V | W13: S | X13: D | Z13: L | AA13: M | AB13: M | AC13: J | AD13: V | AE13: S | AF13: D | AJ13: 10 | AM13: =AM2+1 -> 43192
A14: {=IF(MONTH(DATE($AO$30,AJ8,1)-WEEKDAY(DATE($AO$30,AJ8,1),2)+{1,2,3,4,5,6,7}+{0;1;2;3;4;5}*7)=AJ8,DATE($AO$30,AJ8,1)-WEEKDAY(DATE($AO$30,AJ8,1),2)+{1,2,3,4,5,6,7}+{0;1;2;3;4;5}*7,"")} | B14: 43221 | C14: 43222 | D14: 43223 | E14: 43224 | F14: 43225 | G14: 43226 | I14: {=IF(MONTH(DATE($AO$30,AJ9,1)-WEEKDAY(DATE($AO$30,AJ9,1),2)+{1,2,3,4,5,6,7}+{0;1;2;3;4;5}*7)=AJ9,DATE($AO$30,AJ9,1)-WEEKDAY(DATE($AO$30,AJ9,1),2)+{1,2,3,4,5,6,7}+{0;1;2;3;4;5}*7,"")} | M14: 43252 | N14: 43253 | O14: 43254 | R14: {=IF(MONTH(DATE($AO$30,AJ10,1)-WEEKDAY(DATE($AO$30,AJ10,1),2)+{1,2,3,4,5,6,7}+{0;1;2;3;4;5}*7)=AJ10,DATE($AO$30,AJ10,1)-WEEKDAY(DATE($AO$30,AJ10,1),2)+{1,2,3,4,5,6,7}+{0;1;2;3;4;5}*7,"")} | X14: 43282 | Z14: {=IF(MONTH(DATE($AO$30,AJ12,1)-WEEKDAY(DATE($AO$30,AJ12,1),2)+{1,2,3,4,5,6,7}+{0;1;2;3;4;5}*7)=AJ12,DATE($AO$30,AJ12,1)-WEEKDAY(DATE($AO$30,AJ12,1),2)+{1,2,3,4,5,6,7}+{0;1;2;3;4;5}*7,"")} | AB14: 43313 | AC14: 43314 | AD14: 43315 | AE14: 43316 | AF14: 43317 | AJ14: 11 | AM14: =AM2+39 -> 43230
A15: 43227 | B15: 43228 | C15: 43229 | D15: 43230 | E15: 43231 | F15: 43232 | G15: 43233 | I15: 43255 | J15: 43256 | K15: 43257 | L15: 43258 | M15: 43259 | N15: 43260 | O15: 43261 | R15: 43283 | S15: 43284 | T15: 43285 | U15: 43286 | V15: 43287 | W15: 43288 | X15: 43289 | Z15: 43318 | AA15: 43319 | AB15: 43320 | AC15: 43321 | AD15: 43322 | AE15: 43323 | AF15: 43324 | AJ15: 12 | AM15: =AM2+50 -> 43241
A16: 43234 | B16: 43235 | C16: 43236 | D16: 43237 | E16: 43238 | F16: 43239 | G16: 43240 | I16: 43262 | J16: 43263 | K16: 43264 | L16: 43265 | M16: 43266 | N16: 43267 | O16: 43268 | R16: 43290 | S16: 43291 | T16: 43292 | U16: 43293 | V16: 43294 | W16: 43295 | X16: 43296 | Z16: 43325 | AA16: 43326 | AB16: 43327 | AC16: 43328 | AD16: 43329 | AE16: 43330 | AF16: 43331 | AJ16: 9
A17: 43241 | B17: 43242 | C17: 43243 | D17: 43244 | E17: 43245 | F17: 43246 | G17: 43247 | I17: 43269 | J17: 43270 | K17: 43271 | L17: 43272 | M17: 43273 | N17: 43274 | O17: 43275 | R17: 43297 | S17: 43298 | T17: 43299 | U17: 43300 | V17: 43301 | W17: 43302 | X17: 43303 | Z17: 43332 | AA17: 43333 | AB17: 43334 | AC17: 43335 | AD17: 43336 | AE17: 43337 | AF17: 43338
A18: 43248 | B18: 43249 | C18: 43250 | D18: 43251 | I18: 43276 | J18: 43277 | K18: 43278 | L18: 43279 | M18: 43280 | N18: 43281 | R18: 43304 | S18: 43305 | T18: 43306 | U18: 43307 | V18: 43308 | W18: 43309 | X18: 43310 | Z18: 43339 | AA18: 43340 | AB18: 43341 | AC18: 43342 | AD18: 43343 | AJ18: 2000
R19: 43311 | S19: 43312 | AJ19: 2001
AJ20: 2002
A21: =PROPER(TEXT(DATE($AO$30,AJ16,1),"mmmm aa")) -> Septembre 18 | I21: =PROPER(TEXT(DATE($AO$30,AJ13,1),"mmmm aa")) -> Octobre 18 | R21: =PROPER(TEXT(DATE($AO$30,AJ14,1),"mmmm aa")) -> Novembre 18 | Z21: =PROPER(TEXT(DATE($AO$30,AJ15,1),"mmmm aa")) -> Décembre 18 | AJ21: 2003
A22: L | B22: M | C22: M | D22: J | E22: V | F22: S | G22: D | I22: L | J22: M | K22: M | L22: J | M22: V | N22: S | O22: D | R22: L | S22: M | T22: M | U22: J | V22: V | W22: S | X22: D | Z22: L | AA22: M | AB22: M | AC22: J | AD22: V | AE22: S | AF22: D | AJ22: 2004
A23: {=IF(MONTH(DATE($AO$30,AJ16,1)-WEEKDAY(DATE($AO$30,AJ16,1),2)+{1,2,3,4,5,6,7}+{0;1;2;3;4;5}*7)=AJ16,DATE($AO$30,AJ16,1)-WEEKDAY(DATE($AO$30,AJ16,1),2)+{1,2,3,4,5,6,7}+{0;1;2;3;4;5}*7,"")} | F23: 43344 | G23: 43345 | I23: {=IF(MONTH(DATE($AO$30,AJ13,1)-WEEKDAY(DATE($AO$30,AJ13,1),2)+{1,2,3,4,5,6,7}+{0;1;2;3;4;5}*7)=AJ13,DATE($AO$30,AJ13,1)-WEEKDAY(DATE($AO$30,AJ13,1),2)+{1,2,3,4,5,6,7}+{0;1;2;3;4;5}*7,"")} -> 43374 | J23: 43375 | K23: 43376 | L23: 43377 | M23: 43378 | N23: 43379 | O23: 43380 | R23: {=IF(MONTH(DATE($AO$30,AJ14,1)-WEEKDAY(DATE($AO$30,AJ14,1),2)+{1,2,3,4,5,6,7}+{0;1;2;3;4;5}*7)=AJ14,DATE($AO$30,AJ14,1)-WEEKDAY(DATE($AO$30,AJ14,1),2)+{1,2,3,4,5,6,7}+{0;1;2;3;4;5}*7,"")} | U23: 43405 | V23: 43406 | W23: 43407 | X23: 43408 | Z23: {=IF(MONTH(DATE($AO$30,AJ15,1)-WEEKDAY(DATE($AO$30,AJ15,1),2)+{1,2,3,4,5,6,7}+{0;1;2;3;4;5}*7)=AJ15,DATE($AO$30,AJ15,1)-WEEKDAY(DATE($AO$30,AJ15,1),2)+{1,2,3,4,5,6,7}+{0;1;2;3;4;5}*7,"")} | AE23: 43435 | AF23: 43436 | AJ23: 2005
A24: 43346 | B24: 43347 | C24: 43348 | D24: 43349 | E24: 43350 | F24: 43351 | G24: 43352 | I24: 43381 | J24: 43382 | K24: 43383 | L24: 43384 | M24: 43385 | N24: 43386 | O24: 43387 | R24: 43409 | S24: 43410 | T24: 43411 | U24: 43412 | V24: 43413 | W24: 43414 | X24: 43415 | Z24: 43437 | AA24: 43438 | AB24: 43439 | AC24: 43440 | AD24: 43441 | AE24: 43442 | AF24: 43443 | AJ24: 2006
A25: 43353 | B25: 43354 | C25: 43355 | D25: 43356 | E25: 43357 | F25: 43358 | G25: 43359 | I25: 43388 | J25: 43389 | K25: 43390 | L25: 43391 | M25: 43392 | N25: 43393 | O25: 43394 | R25: 43416 | S25: 43417 | T25: 43418 | U25: 43419 | V25: 43420 | W25: 43421 | X25: 43422 | Z25: 43444 | AA25: 43445 | AB25: 43446 | AC25: 43447 | AD25: 43448 | AE25: 43449 | AF25: 43450 | AJ25: 2007
A26: 43360 | B26: 43361 | C26: 43362 | D26: 43363 | E26: 43364 | F26: 43365 | G26: 43366 | I26: 43395 | J26: 43396 | K26: 43397 | L26: 43398 | M26: 43399 | N26: 43400 | O26: 43401 | R26: 43423 | S26: 43424 | T26: 43425 | U26: 43426 | V26: 43427 | W26: 43428 | X26: 43429 | Z26: 43451 | AA26: 43452 | AB26: 43453 | AC26: 43454 | AD26: 43455 | AE26: 43456 | AF26: 43457 | AJ26: 2008
A27: 43367 | B27: 43368 | C27: 43369 | D27: 43370 | E27: 43371 | F27: 43372 | G27: 43373 | I27: 43402 | J27: 43403 | K27: 43404 | R27: 43430 | S27: 43431 | T27: 43432 | U27: 43433 | V27: 43434 | Z27: 43458 | AA27: 43459 | AB27: 43460 | AC27: 43461 | AD27: 43462 | AE27: 43463 | AF27: 43464 | AJ27: 2009
Z28: 43465 | AJ28: 2010
AJ29: 2011
AJ30: 2012 | AO30: =DATE!B2 -> 2018
AJ31: 2013
AJ32: 2014
AJ33: 2015
AJ34: 2016
AJ35: 2017
AJ36: 2018

Sheet DÉCHARGE
E1: DÉCHARGE D'ACTIVITÉ DE SERVICE | L1: CALENDRIER | O1: BASE DE DONNÉES | S1: =(Base_utilisateurs!A3) -> AA
A2: Direction de l'innovation, du dialogue social et de l'animation managériale (DIDAM). | E2: (Imputé sur le crédit d'heures syndicales) | K2: 0.083333333 | S2: =(Base_utilisateurs!A4) -> BB
K3: 0.16666667 | L3: =IF(IF(T3<>1,VLOOKUP(C6,Base_utilisateurs!A3:E150,5,FALSE),"")=0,"",IF(T3<>1,HYPERLINK("mailto:"&VLOOKUP(C6,Base_utilisateurs!A3:E150,5,FALSE),VLOOKUP(C6,Base_utilisateurs!A3:E150,5,FALSE)),"")) -> email@gmail.com | S3: =(Base_utilisateurs!A5) -> CC | T3: =VLOOKUP(C6,Base_utilisateurs!A3:E100,2,FALSE) -> Service des Sports
A4: SYNDICAT CGT | S4: =(Base_utilisateurs!A6) -> DD
S5: =(Base_utilisateurs!A7) -> XXXX
A6: NOM DE L'AGENT : | C6: EEEa | S6: =(Base_utilisateurs!A8) -> EE
S7: =(Base_utilisateurs!A9) -> EEEa
A8: SERVICE D'AFFECTATION : | C8: =VLOOKUP(C6,Base_utilisateurs!A3:E101,2,FALSE)&" "&VLOOKUP(C6,Base_utilisateurs!A3:E101,3,FALSE) -> Service des Sports | S8: =(Base_utilisateurs!A10) -> FF | T8: =VLOOKUP(C6,Base_utilisateurs!A3:E100,3,FALSE) -> 0
S9: =(Base_utilisateurs!A11) -> GG | T9: =VLOOKUP(C6,Base_utilisateurs!A3:E101,4,FALSE) -> Chef de Service
A10: ABSENCE (S) PRÉVUE (S) | S10: =(Base_utilisateurs!A12) -> HH | T10: =VLOOKUP(C6,Base_utilisateurs!A3:E101,2,FALSE)&" "&VLOOKUP(C6,Base_utilisateurs!A3:E101,3,FALSE) -> Service des Sports
A11: DATE (S) ET HORAIRE (S) | G11: Confirmation de L'absence (s) par | H11: Réservé à la DIDAM | S11: =(Base_utilisateurs!A13) -> II | T11: =SI(C13<>$K$1;C13+$K$2;"")
A12: JOURS | B12: DATES | C12: MATIN | E12: APRÈS-MIDI | G12: =VLOOKUP(C6,Base_utilisateurs!A3:E101,4,FALSE) -> Chef de Service | S12: =(Base_utilisateurs!A14) -> JJ
A13: LUNDI | I13: =IF(C13<>$K$1,D13-C13,"") | J13: =IF(E13<>$K$1,F13-E13,"") | S13: =(Base_utilisateurs!A15) -> KK
A14: MARDI | B14: 43116 | E14: 0.58333333 | F14: 0.75 | I14: =IF(C14<>$K$1,D14-C14,"") | J14: =IF(E14<>$K$1,F14-E14,"") -> 0.16666667 | S14: =(Base_utilisateurs!A16) -> LL
A15: MERCREDI | I15: =IF(C15<>$K$1,D15-C15,"") | J15: =IF(E15<>$K$1,F15-E15,"") | S15: =(Base_utilisateurs!A17) -> MM
A16: JEUDI | I16: =IF(C16<>$K$1,D16-C16,"") | J16: =IF(E16<>$K$1,F16-E16,"") | S16: =(Base_utilisateurs!A18) -> NN
A17: VENDREDI | I17: =IF(C17<>$K$1,D17-C17,"") | J17: =IF(E17<>$K$1,F17-E17,"") | S17: =(Base_utilisateurs!A19) -> OO
A18: SAMEDI | I18: =IF(C18<>$K$1,D18-C18,"") | J18: =IF(E18<>$K$1,F18-E18,"") | S18: =(Base_utilisateurs!A20) -> PP
G19: TOTAL | H19: =SUM(I13:J18) -> 0.16666667 | I19: =SUM(I13:I18) -> 0 | J19: =SUM(J13:J18) -> 0.16666667 | S19: =(Base_utilisateurs!A21) -> pppp
S20: =(Base_utilisateurs!A22) -> pppz
A21: =TODAY() -> 43124 | C21: Signature du responsable syndicale habilité | G21: Visa du chef de service | S21: =(Base_utilisateurs!A23) -> QQ
S22: =(Base_utilisateurs!A24) -> RR
S23: =(Base_utilisateurs!A25) -> SS
A24: OBRSEVATIONS : | S24: =(Base_utilisateurs!A26) -> TT
S25: =(Base_utilisateurs!A27) -> UU
S26: =(Base_utilisateurs!A28) -> VV
S27: =(Base_utilisateurs!A29) -> WW
S28: =(Base_utilisateurs!A30) -> XX
A29: Dans le cas où l'absence réelle ne correspond pas à la demande formulée, le chef de service indiquera l'absence réellement constatée. | S29: =(Base_utilisateurs!A31) -> YY
S30: =(Base_utilisateurs!A32) -> ZZ
S31: =(Base_utilisateurs!A33) -> AAB
A32: Ce formulaire de DÉCHARGE D'ACTVITÉS DE SERVICE est à remettre impérativement par l'agent concerné | S32: =(Base_utilisateurs!A34) -> AAC
A33: à son chef de service, ou responsable direct, AVANT LE DÉPART DU SERVICE. | S33: =(Base_utilisateurs!A35) -> AAD
S34: =(Base_utilisateurs!A36) -> AAE
A35: LE CHEF DE SERVICE transmet ce formulaire auprès de la DIDAM dès la fin de la dernière absence constatée. | S35: =(Base_utilisateurs!A37) -> AAF
S36: =(Base_utilisateurs!A38) -> AAG
S37: =(Base_utilisateurs!A39) -> AAH
S38: =(Base_utilisateurs!A40) -> AAI
S39: =(Base_utilisateurs!A41) -> AAJ
S40: =(Base_utilisateurs!A42) -> AAK
S41: =(Base_utilisateurs!A43) -> AAL
S42: =(Base_utilisateurs!A44) -> AAM
S43: =(Base_utilisateurs!A45) -> AAN
S44: =(Base_utilisateurs!A46) -> AAO
S45: =(Base_utilisateurs!A47) -> AAP
S46: =(Base_utilisateurs!A48) -> AAQ
S47: =(Base_utilisateurs!A49) -> AAR
... S215: =(Base_utilisateurs!A217) -> 0

Sheet Base_utilisateurs
B1: !
A2: NOM- PRÉNOM | B2: SERVICE | C2: AFFECTATION | D2: RESPONSABLE | E2: MAIL
A3: AA | B3: Médiathèque | D3: Chef de Service | E3: email@gmail.com
A4: BB | B4: Médiathèque | D4: Chef de Service | E4: email@gmail.com
A5: CC | B5: Médiathèque | D5: Chef de Service | E5: email@gmail.com
A6: DD | B6: Médiathèque | D6: Chef de Service | E6: email@gmail.com
A7: XXXX | B7: Médiathèque | D7: Defrade Sébastien | E7: email@gmail.com
A8: EE | B8: Médiathèque | D8: Chef de Service | E8: email@gmail.com
A9: EEEa | B9: Service des Sports | D9: Chef de Service | E9: email@gmail.com
A10: FF | B10: Médiathèque | D10: Chef de Service | E10: email@gmail.com
A11: GG | B11: Médiathèque | D11: Chef de Service | E11: email@gmail.com
A12: HH | B12: Médiathèque | D12: Chef de Service | E12: email@gmail.com
A13: II | B13: Gymnase | D13: Chef de Service | E13: email@gmail.com
A14: JJ | B14: Déchèteries | D14: Chef de Service | E14: email@gmail.com
... A38: AAG | B38: Cuisine Centrale | D38: Chef de Service | E38: email@gmail.com
A39: AAH | D39: Chef de Service | E39: email@gmail.com
A40: AAI | B40: TECPARC | D40: Chef de Service | E40: email@gmail.com
A41: AAJ | B41: Bâtiment Administratif | D41: Chef de Service | E41: email@gmail.com
A42: AAK | B42: Service Technique - Secteur Haut Val de Marne | D42: Chef de Service
A43: AAL | B43: Bâtiment Administratif | D43: Chef de Service
A44: AAM | B44: Serre Horticole | D44: Chef de Service
A45: AAN | B45: Pépinère
A46: AAO | B46: Pépinère
A47: AAP | B47: Pépinère
A48: AAQ | B48: Pépinère
A49: AAR | B49: Maison des Arts et de la Culture
A50: AAS | B50: Complexe Sportif Du Belvédère
A51: AAT | B51: Propreté Urbaine
A52: AAU | B52: Propreté Urbaine
A53: AAV
B54: a voir ----->

Sheet Feuil3
B1: =DATE!B2 -> 2018
B3: =DATE(B1,1,1) -> 43101 | D3: =ROUND(DATE(B1,4,MOD(234-11*MOD(B1,19),30))/7,0)*7-6 -> 43191
B4: =DATE(B1,5,1) -> 43221
B5: =DATE(B1,5,8) -> 43228
B6: =DATE(B1,7,14) -> 43295
B7: =DATE(B1,8,15) -> 43327
B8: =DATE(B1,11,1) -> 43405
B9: =DATE(B1,11,11) -> 43415
B10: =DATE(B1,12,25) -> 43459
B11: =D3+1 -> 43192
B12: =D3+39 -> 43230
B13: =D3+50 -> 43241
