Workbook
Name bb: #REF!
Name bb: #REF!
Name boud3: #REF!
Name boud3: #REF!
Name bouda3: #REF!
Name bouda3: #REF!
Name code: 'agent 14 '!$A$10:$F$40
Name code1: 'agent 13'!$A$10:$F$40
Name code10: '7'!$A$10:$F$40
Name code11: '8'!$A$10:$F$40
Name code12: '9'!$A$10:$F$40
Name code13: '10'!$A$10:$F$40
Name code14: '11'!$A$10:$F$40
Name code3: '12'!$A$10:$F$40
Name code4: '1'!$A$10:$F$40
Name code5: '2'!$A$10:$F$40
Name code6: '3'!$A$10:$F$40
Name code7: '4'!$A$10:$F$40
Name code8: '5'!$A$10:$F$40
Name code9: '6'!$A$10:$F$40
Name dd: #REF!
Name dd: #REF!

Sheet 1
A1: 0 | J1: USCL /
A2: ETAT DES HEURES SUPPLEMENTAIRES | J2: CFA2 /
J3: Dépassement Week-end
J4: Entrainement de l'équipe 1
J5: Permanence
A6: AGENT: | B6: =(FEUIL!C5) -> AGENT 1 | D6: =FEUIL!C1 -> Mois de : Mai 2017 | J6: Renfort Week-end
J7: Week-end
A8: DATES | B8: NATURE DU SERVICE | D8: NORMALES | E8: DIMANCHE | F8: NUITS
E9: ET FERIES
A10: 1
A11: 2
A12: 3
A13: 4
A14: 5
A15: 6
A16: 7
A17: 8
A18: 9
A19: =A18+1 -> 10
A20: =A19+1 -> 11
A21: =A20+1 -> 12
A22: =A21+1 -> 13
A23: =A22+1 -> 14
A24: =A23+1 -> 15
A25: =A24+1 -> 16
A26: =A25+1 -> 17
A27: =A26+1 -> 18
A28: =A27+1 -> 19
A29: =A28+1 -> 20
A30: =A29+1 -> 21
... A38: =A37+1 -> 29
A39: =SUM(A38+1) -> 30
A40: =SUM(A39+1) -> 31
A41: TOTAL | D41: =SUM(D10:D40) -> 0 | E41: =SUM(E10:E40) -> 0 | F41: =SUM(F10:F40) -> 0

Sheet 2
A1: 0 | J1: USCL /
A2: ETAT DES HEURES SUPPLEMENTAIRES | J2: CFA2 /
J3: Dépassement Week-end
J4: Entrainement de l'équipe 1
J5: Permanence
A6: AGENT: | B6: =(FEUIL!C6) -> AGENT 2 | D6: =FEUIL!C1 -> Mois de : Mai 2017 | J6: Renfort Week-end
J7: Week-end
A8: DATES | B8: NATURE DU SERVICE | D8: NORMALES | E8: DIMANCHE | F8: NUITS
E9: ET FERIES
A10: 1
A11: 2
A12: 3
A13: 4
A14: 5
A15: 6
A16: 7
A17: 8
A18: 9
A19: =A18+1 -> 10
A20: =A19+1 -> 11
A21: =A20+1 -> 12
A22: =A21+1 -> 13
A23: =A22+1 -> 14
A24: =A23+1 -> 15
A25: =A24+1 -> 16
A26: =A25+1 -> 17
A27: =A26+1 -> 18
A28: =A27+1 -> 19
A29: =A28+1 -> 20
A30: =A29+1 -> 21
... A38: =A37+1 -> 29
A39: =SUM(A38+1) -> 30
A40: =SUM(A39+1) -> 31
A41: TOTAL | D41: =SUM(D10:D40) -> 0 | E41: =SUM(E10:E40) -> 0 | F41: =SUM(F10:F40) -> 0

Sheet 3
A1: 0 | J1: USCL /
A2: ETAT DES HEURES SUPPLEMENTAIRES | J2: CFA2 /
J3: Dépassement Week-end
J4: Entrainement de l'équipe 1
J5: Permanence
A6: AGENT: | B6: =(FEUIL!C7) -> AGENT 3 | D6: =FEUIL!C1 -> Mois de : Mai 2017 | J6: Renfort Week-end
J7: Week-end
A8: DATES | B8: NATURE DU SERVICE | D8: NORMALES | E8: DIMANCHE | F8: NUITS
E9: ET FERIES
A10: 1
A11: 2
A12: 3
A13: 4
A14: 5
A15: 6
A16: 7
A17: 8
A18: 9
A19: =A18+1 -> 10
A20: =A19+1 -> 11
A21: =A20+1 -> 12
A22: =A21+1 -> 13
A23: =A22+1 -> 14
A24: =A23+1 -> 15
A25: =A24+1 -> 16
A26: =A25+1 -> 17
A27: =A26+1 -> 18
A28: =A27+1 -> 19
A29: =A28+1 -> 20
A30: =A29+1 -> 21
... A38: =A37+1 -> 29
A39: =SUM(A38+1) -> 30
A40: =SUM(A39+1) -> 31
A41: TOTAL | D41: =SUM(D10:D40) -> 0 | E41: =SUM(E10:E40) -> 0 | F41: =SUM(F10:F40) -> 0

Sheet 4
A1: 0 | J1: USCL /
A2: ETAT DES HEURES SUPPLEMENTAIRES | J2: CFA2 /
J3: Dépassement Week-end
J4: Entrainement de l'équipe 1
J5: Permanence
A6: AGENT: | B6: =(FEUIL!C8) -> AGENT 4 | D6: =FEUIL!C1 -> Mois de : Mai 2017 | J6: Renfort Week-end
J7: Week-end
A8: DATES | B8: NATURE DU SERVICE | D8: NORMALES | E8: DIMANCHE | F8: NUITS
E9: ET FERIES
A10: 1
A11: 2
A12: 3
A13: 4
A14: 5
A15: 6
A16: 7
A17: 8
A18: 9
A19: =A18+1 -> 10
A20: =A19+1 -> 11
A21: =A20+1 -> 12
A22: =A21+1 -> 13
A23: =A22+1 -> 14
A24: =A23+1 -> 15
A25: =A24+1 -> 16
A26: =A25+1 -> 17
A27: =A26+1 -> 18
A28: =A27+1 -> 19
A29: =A28+1 -> 20
A30: =A29+1 -> 21
... A38: =A37+1 -> 29
A39: =SUM(A38+1) -> 30
A40: =SUM(A39+1) -> 31
A41: TOTAL | D41: =SUM(D10:D40) -> 0 | E41: =SUM(E10:E40) -> 0 | F41: =SUM(F10:F40) -> 0

Sheet 5
A1: 0 | J1: USCL /
A2: ETAT DES HEURES SUPPLEMENTAIRES | J2: CFA2 /
J3: Dépassement Week-end
J4: Entrainement de l'équipe 1
J5: Permanence
A6: AGENT: | B6: =(FEUIL!C9) -> AGENT 5 | D6: =FEUIL!C1 -> Mois de : Mai 2017 | J6: Renfort Week-end
J7: Week-end
A8: DATES | B8: NATURE DU SERVICE | D8: NORMALES | E8: DIMANCHE | F8: NUITS
E9: ET FERIES
A10: 1
A11: 2
A12: 3
A13: 4
A14: 5
A15: 6
A16: 7
A17: 8
A18: 9
A19: =A18+1 -> 10
A20: =A19+1 -> 11
A21: =A20+1 -> 12
A22: =A21+1 -> 13
A23: =A22+1 -> 14
A24: =A23+1 -> 15
A25: =A24+1 -> 16
A26: =A25+1 -> 17
A27: =A26+1 -> 18
A28: =A27+1 -> 19
A29: =A28+1 -> 20
A30: =A29+1 -> 21
... A38: =A37+1 -> 29
A39: =SUM(A38+1) -> 30
A40: =SUM(A39+1) -> 31
A41: TOTAL | D41: =SUM(D10:D40) -> 0 | E41: =SUM(E10:E40) -> 0 | F41: =SUM(F10:F40) -> 0

Sheet 6
A1: 0 | J1: USCL /
A2: ETAT DES HEURES SUPPLEMENTAIRES | J2: CFA2 /
J3: Dépassement Week-end
J4: Entrainement de l'équipe 1
J5: Permanence
A6: AGENT: | B6: =(FEUIL!C10) -> AGENT 6 | D6: =FEUIL!C1 -> Mois de : Mai 2017 | J6: Renfort Week-end
J7: Week-end
A8: DATES | B8: NATURE DU SERVICE | D8: NORMALES | E8: DIMANCHE | F8: NUITS
E9: ET FERIES
A10: 1
A11: 2
A12: 3
A13: 4
A14: 5
A15: 6
A16: 7
A17: 8
A18: 9
A19: =A18+1 -> 10
A20: =A19+1 -> 11
A21: =A20+1 -> 12
A22: =A21+1 -> 13
A23: =A22+1 -> 14
A24: =A23+1 -> 15
A25: =A24+1 -> 16
A26: =A25+1 -> 17
A27: =A26+1 -> 18
A28: =A27+1 -> 19
A29: =A28+1 -> 20
A30: =A29+1 -> 21
... A38: =A37+1 -> 29
A39: =SUM(A38+1) -> 30
A40: =SUM(A39+1) -> 31
A41: TOTAL | D41: =SUM(D10:D40) -> 0 | E41: =SUM(E10:E40) -> 0 | F41: =SUM(F10:F40) -> 0

Sheet 7
A1: 0 | J1: USCL /
A2: ETAT DES HEURES SUPPLEMENTAIRES | J2: CFA2 /
J3: Dépassement Week-end
J4: Entrainement de l'équipe 1
J5: Permanence
A6: AGENT: | B6: =(FEUIL!C11) -> AGENT 7 | D6: =FEUIL!C1 -> Mois de : Mai 2017 | J6: Renfort Week-end
J7: Week-end
A8: DATES | B8: NATURE DU SERVICE | D8: NORMALES | E8: DIMANCHE | F8: NUITS
E9: ET FERIES
A10: 1
A11: 2
A12: 3
A13: 4
A14: 5
A15: 6
A16: 7
A17: 8
A18: 9
A19: =A18+1 -> 10
A20: =A19+1 -> 11
A21: =A20+1 -> 12
A22: =A21+1 -> 13
A23: =A22+1 -> 14
A24: =A23+1 -> 15
A25: =A24+1 -> 16
A26: =A25+1 -> 17
A27: =A26+1 -> 18
A28: =A27+1 -> 19
A29: =A28+1 -> 20
A30: =A29+1 -> 21
... A38: =A37+1 -> 29
A39: =SUM(A38+1) -> 30
A40: =SUM(A39+1) -> 31
A41: TOTAL | D41: =SUM(D10:D40) -> 0 | E41: =SUM(E10:E40) -> 0 | F41: =SUM(F10:F40) -> 0

Sheet 8
A1: 0 | J1: USCL /
A2: ETAT DES HEURES SUPPLEMENTAIRES | J2: CFA2 /
J3: Dépassement Week-end
J4: Entrainement de l'équipe 1
J5: Permanence
A6: AGENT: | B6: =(FEUIL!C12) -> AGENT 8 | D6: =FEUIL!C1 -> Mois de : Mai 2017 | J6: Renfort Week-end
J7: Week-end
A8: DATES | B8: NATURE DU SERVICE | D8: NORMALES | E8: DIMANCHE | F8: NUITS
E9: ET FERIES
A10: 1
A11: 2
A12: 3
A13: 4
A14: 5
A15: 6
A16: 7
A17: 8
A18: 9
A19: =A18+1 -> 10
A20: =A19+1 -> 11
A21: =A20+1 -> 12
A22: =A21+1 -> 13
A23: =A22+1 -> 14
A24: =A23+1 -> 15
A25: =A24+1 -> 16
A26: =A25+1 -> 17
A27: =A26+1 -> 18
A28: =A27+1 -> 19
A29: =A28+1 -> 20
A30: =A29+1 -> 21
... A38: =A37+1 -> 29
A39: =SUM(A38+1) -> 30
A40: =SUM(A39+1) -> 31
A41: TOTAL | D41: =SUM(D10:D40) -> 0 | E41: =SUM(E10:E40) -> 0 | F41: =SUM(F10:F40) -> 0

Sheet 9
A1: 0 | J1: USCL /
A2: ETAT DES HEURES SUPPLEMENTAIRES | J2: CFA2 /
J3: Dépassement Week-end
J4: Entrainement de l'équipe 1
J5: Permanence
A6: AGENT: | B6: =(FEUIL!C13) -> AGENT 9 | D6: =FEUIL!C1 -> Mois de : Mai 2017 | J6: Renfort Week-end
J7: Week-end
A8: DATES | B8: NATURE DU SERVICE | D8: NORMALES | E8: DIMANCHE | F8: NUITS
E9: ET FERIES
A10: 1
A11: 2
A12: 3
A13: 4
A14: 5
A15: 6
A16: 7
A17: 8
A18: 9
A19: =A18+1 -> 10
A20: =A19+1 -> 11
A21: =A20+1 -> 12
A22: =A21+1 -> 13
A23: =A22+1 -> 14
A24: =A23+1 -> 15
A25: =A24+1 -> 16
A26: =A25+1 -> 17
A27: =A26+1 -> 18
A28: =A27+1 -> 19
A29: =A28+1 -> 20
A30: =A29+1 -> 21
... A38: =A37+1 -> 29
A39: =SUM(A38+1) -> 30
A40: =SUM(A39+1) -> 31
A41: TOTAL | D41: =SUM(D10:D40) -> 0 | E41: =SUM(E10:E40) -> 0 | F41: =SUM(F10:F40) -> 0

Sheet 10
A1: 0 | J1: USCL /
A2: ETAT DES HEURES SUPPLEMENTAIRES | J2: CFA2 /
J3: Dépassement Week-end
J4: Entrainement de l'équipe 1
J5: Permanence
A6: AGENT: | B6: =(FEUIL!C14) -> AGENT 10 | D6: =FEUIL!C1 -> Mois de : Mai 2017 | J6: Renfort Week-end
J7: Week-end
A8: DATES | B8: NATURE DU SERVICE | D8: NORMALES | E8: DIMANCHE | F8: NUITS
E9: ET FERIES
A10: 1
A11: 2
A12: 3
A13: 4
A14: 5
A15: 6
A16: 7
A17: 8
A18: 9
A19: =A18+1 -> 10
A20: =A19+1 -> 11
A21: =A20+1 -> 12
A22: =A21+1 -> 13
A23: =A22+1 -> 14
A24: =A23+1 -> 15
A25: =A24+1 -> 16
A26: =A25+1 -> 17
A27: =A26+1 -> 18
A28: =A27+1 -> 19
A29: =A28+1 -> 20
A30: =A29+1 -> 21
... A38: =A37+1 -> 29
A39: =SUM(A38+1) -> 30
A40: =SUM(A39+1) -> 31
A41: TOTAL | D41: =SUM(D10:D40) -> 0 | E41: =SUM(E10:E40) -> 0 | F41: =SUM(F10:F40) -> 0

Sheet 11
A1: 0 | J1: USCL /
A2: ETAT DES HEURES SUPPLEMENTAIRES | J2: CFA2 /
J3: Dépassement Week-end
J4: Entrainement de l'équipe 1
J5: Permanence
A6: AGENT: | B6: =(FEUIL!C15) -> AGENT 11 | D6: =FEUIL!C1 -> Mois de : Mai 2017 | J6: Renfort Week-end
J7: Week-end
A8: DATES | B8: NATURE DU SERVICE | D8: NORMALES | E8: DIMANCHE | F8: NUITS
E9: ET FERIES
A10: 1
A11: 2 | B11: :
A12: 3
A13: 4
A14: 5
A15: 6
A16: 7
A17: 8
A18: 9
A19: =A18+1 -> 10
A20: =A19+1 -> 11
A21: =A20+1 -> 12
A22: =A21+1 -> 13
A23: =A22+1 -> 14
A24: =A23+1 -> 15
A25: =A24+1 -> 16
A26: =A25+1 -> 17
A27: =A26+1 -> 18
A28: =A27+1 -> 19
A29: =A28+1 -> 20
A30: =A29+1 -> 21
... A38: =A37+1 -> 29
A39: =SUM(A38+1) -> 30
A40: =SUM(A39+1) -> 31
A41: TOTAL | D41: =SUM(D10:D40) -> 0 | E41: =SUM(E10:E40) -> 0 | F41: =SUM(F10:F40) -> 0

Sheet 12
A1: 0 | J1: USCL /
A2: ETAT DES HEURES SUPPLEMENTAIRES | J2: CFA2 /
J3: Dépassement Week-end
J4: Entrainement de l'équipe 1
J5: Permanence
A6: AGENT: | B6: =(FEUIL!C16) -> AGENT 12 | D6: =FEUIL!C1 -> Mois de : Mai 2017 | J6: Renfort Week-end
J7: Week-end
A8: DATES | B8: NATURE DU SERVICE | D8: NORMALES | E8: DIMANCHE | F8: NUITS
E9: ET FERIES
A10: 1
A11: 2
A12: 3
A13: 4
A14: 5
A15: 6
A16: 7
A17: 8
A18: 9
A19: =A18+1 -> 10
A20: =A19+1 -> 11
A21: =A20+1 -> 12
A22: =A21+1 -> 13
A23: =A22+1 -> 14
A24: =A23+1 -> 15
A25: =A24+1 -> 16
A26: =A25+1 -> 17
A27: =A26+1 -> 18
A28: =A27+1 -> 19
A29: =A28+1 -> 20
A30: =A29+1 -> 21
... A38: =A37+1 -> 29
A39: =SUM(A38+1) -> 30
A40: =SUM(A39+1) -> 31
A41: TOTAL | D41: =SUM(D10:D40) -> 0 | E41: =SUM(E10:E40) -> 0 | F41: =SUM(F10:F40) -> 0

Sheet agent 13
A1: 0 | J1: USCL /
A2: ETAT DES HEURES SUPPLEMENTAIRES | J2: CFA2 /
J3: Dépassement Week-end
J4: Entrainement de l'équipe 1
J5: Permanence
B6: ReSPONSABLE: | C6: =(FEUIL!C17) -> AGENT 13 | D6: =FEUIL!C1 -> Mois de : Mai 2017 | J6: Renfort Week-end
J7: Week-end
A8: DATES | B8: NATURE DU SERVICE | D8: NORMALES | E8: DIMANCHE | F8: NUITS
E9: ET FERIES
A10: 1 | B10: Dépassement Week-end | D10: 0.0625
A11: 2 | B11: Permanence | E11: 0.11458333
A12: 3 | B12: Renfort Week-end | F12: 0.041666667
A13: 4
A14: 5
A15: 6
A16: 7
A17: 8
A18: 9
A19: =A18+1 -> 10
A20: =A19+1 -> 11
A21: =A20+1 -> 12
A22: =A21+1 -> 13
A23: =A22+1 -> 14
A24: =A23+1 -> 15
A25: =A24+1 -> 16
A26: =A25+1 -> 17
A27: =A26+1 -> 18
A28: =A27+1 -> 19
A29: =A28+1 -> 20
A30: =A29+1 -> 21
... A38: =A37+1 -> 29
A39: =SUM(A38+1) -> 30
A40: =SUM(A39+1) -> 31
A41: TOTAL | D41: =SUM(D10:D40) -> 0.0625 | E41: =SUM(E10:E40) -> 0.11458333 | F41: =SUM(F10:F40) -> 0.041666667
L49: =('agent 13'!B10) -> Dépassement Week-end
L50: =('agent 13'!B11) -> Permanence
L51: =('agent 13'!B12) -> Renfort Week-end
L52: =('agent 13'!B13) -> 0
L53: =('agent 13'!B14) -> 0
L54: =('agent 13'!B15) -> 0
L55: =('agent 13'!B16) -> 0
L56: =('agent 13'!B17) -> 0
L57: =('agent 13'!B18) -> 0
L58: =('agent 13'!B19) -> 0
L59: =('agent 13'!B20) -> 0
L60: =('agent 13'!B21) -> 0
... L79: =('agent 13'!B40) -> 0

Sheet Recap agent 13
A1: =+FEUIL!C27 -> 0
J4: 0
A8: ÉTAT DES HEURES SUPPLEMENTAIRES
D10: 0.0625 | I10: =(FEUIL!C1) -> Mois de : Mai 2017
E11: 0.11458333
F12: 0.041666667
A14: Noms - Prénoms | B14: Date | C14: Jours ouvrables | D14: Dates | E14: Dates | F14: Dates | G14: Dates | H14: Dim. - Fêtes | I14: Nuit | J14: Motif
B15: Jours ouvrables | D15: Jours ouvrables | E15: Jours ouvrables | F15: Jours ouvrables | G15: Jours ouvrables
A16: =(FEUIL!C17) -> AGENT 13 | B16: 1 | C16: =IF(B16<>"",VLOOKUP(B16,code1,4,FALSE),"") -> 0.0625 | H16: =IF(B16<>"",VLOOKUP(B16,code1,5,FALSE),"") -> 0 | I16: =IF(B16<>"",VLOOKUP(B16,code1,6,FALSE),"") -> 0 | J16: =IF(B16<>"",VLOOKUP(B16,code1,2,FALSE),"") -> Dépassement Week-end
B17: 2 | C17: =IF(B17<>"",VLOOKUP(B17,code1,4,FALSE),"") -> 0 | H17: =IF(B17<>"",VLOOKUP(B17,code1,5,FALSE),"") -> 0.11458333 | I17: =IF(B17<>"",VLOOKUP(B17,code1,6,FALSE),"") -> 0 | J17: =IF(B17<>"",VLOOKUP(B17,code1,2,FALSE),"") -> Permanence
B18: 3 | C18: =IF(B18<>"",VLOOKUP(B18,code1,4,FALSE),"") -> 0 | H18: =IF(B18<>"",VLOOKUP(B18,code1,5,FALSE),"") -> 0 | I18: =IF(B18<>"",VLOOKUP(B18,code1,6,FALSE),"") -> 0.041666667 | J18: =IF(B18<>"",VLOOKUP(B18,code1,2,FALSE),"") -> Renfort Week-end
C19: =IF(B19<>"",VLOOKUP(B19,code1,4,FALSE),"") | H19: =IF(B19<>"",VLOOKUP(B19,code1,5,FALSE),"") | I19: =IF(B19<>"",VLOOKUP(B19,code1,6,FALSE),"") | J19: =IF(B19<>"",VLOOKUP(B19,code1,2,FALSE),"")
C20: =IF(B20<>"",VLOOKUP(B20,code1,4,FALSE),"") | H20: =IF(B20<>"",VLOOKUP(B20,code1,5,FALSE),"") | I20: =IF(B20<>"",VLOOKUP(B20,code1,6,FALSE),"") | J20: =IF(B20<>"",VLOOKUP(B20,code1,2,FALSE),"")
C21: =IF(B21<>"",VLOOKUP(B21,code1,4,FALSE),"") | H21: =IF(B21<>"",VLOOKUP(B21,code1,5,FALSE),"") | I21: =IF(B21<>"",VLOOKUP(B21,code1,6,FALSE),"") | J21: =IF(B21<>"",VLOOKUP(B21,code1,2,FALSE),"")
C22: =IF(B22<>"",VLOOKUP(B22,code1,4,FALSE),"") | H22: =IF(B22<>"",VLOOKUP(B22,code1,5,FALSE),"") | I22: =IF(B22<>"",VLOOKUP(B22,code1,6,FALSE),"") | J22: =IF(B22<>"",VLOOKUP(B22,code1,2,FALSE),"")
C23: =IF(B23<>"",VLOOKUP(B23,code,4,FALSE),"") | H23: =IF(B23<>"",VLOOKUP(B23,code,5,FALSE),"") | I23: =IF(B23<>"",VLOOKUP(B23,code,6,FALSE),"") | J23: =IF(B23<>"",VLOOKUP(B23,code,2,FALSE),"")
C24: =IF(B24<>"",VLOOKUP(B24,code,4,FALSE),"") | H24: =IF(B24<>"",VLOOKUP(B24,code,5,FALSE),"") | I24: =IF(B24<>"",VLOOKUP(B24,code,6,FALSE),"") | J24: =IF(B24<>"",VLOOKUP(B24,code,2,FALSE),"")
C25: =IF(B25<>"",VLOOKUP(B25,code,4,FALSE),"") | H25: =IF(B25<>"",VLOOKUP(B25,code,5,FALSE),"") | I25: =IF(B25<>"",VLOOKUP(B25,code,6,FALSE),"") | J25: =IF(B25<>"",VLOOKUP(B25,code,2,FALSE),"")
C26: =IF(B26<>"",VLOOKUP(B26,code,4,FALSE),"") | H26: =IF(B26<>"",VLOOKUP(B26,code,5,FALSE),"") | I26: =IF(B26<>"",VLOOKUP(B26,code,6,FALSE),"") | J26: =IF(B26<>"",VLOOKUP(B26,code,2,FALSE),"")
C27: =IF(B27<>"",VLOOKUP(B27,code,4,FALSE),"") | H27: =IF(B27<>"",VLOOKUP(B27,code,5,FALSE),"") | I27: =IF(B27<>"",VLOOKUP(B27,code,6,FALSE),"") | J27: =IF(B27<>"",VLOOKUP(B27,code,2,FALSE),"")
C28: =IF(B28<>"",VLOOKUP(B28,code,4,FALSE),"") | H28: =IF(B28<>"",VLOOKUP(B28,code,5,FALSE),"") | I28: =IF(B28<>"",VLOOKUP(B28,code,6,FALSE),"") | J28: =IF(B28<>"",VLOOKUP(B28,code,2,FALSE),"")
C29: =IF(B29<>"",VLOOKUP(B29,code,4,FALSE),"") | H29: =IF(B29<>"",VLOOKUP(B29,code,5,FALSE),"") | I29: =IF(B29<>"",VLOOKUP(B29,code,6,FALSE),"") | J29: =IF(B29<>"",VLOOKUP(B29,code,2,FALSE),"")
C30: =IF(B30<>"",VLOOKUP(B30,code,4,FALSE),"") | H30: =IF(B30<>"",VLOOKUP(B30,code,5,FALSE),"") | I30: =IF(B30<>"",VLOOKUP(B30,code,6,FALSE),"") | J30: =IF(B30<>"",VLOOKUP(B30,code,2,FALSE),"")
C31: =IF(B31<>"",VLOOKUP(B31,code,4,FALSE),"") | H31: =IF(B31<>"",VLOOKUP(B31,code,5,FALSE),"") | I31: =IF(B31<>"",VLOOKUP(B31,code,6,FALSE),"") | J31: =IF(B31<>"",VLOOKUP(B31,code,2,FALSE),"")
C32: =IF(B32<>"",VLOOKUP(B32,code,4,FALSE),"") | H32: =IF(B32<>"",VLOOKUP(B32,code,5,FALSE),"") | I32: =IF(B32<>"",VLOOKUP(B32,code,6,FALSE),"") | J32: =IF(B32<>"",VLOOKUP(B32,code,2,FALSE),"")
C33: =IF(B33<>"",VLOOKUP(B33,code,4,FALSE),"") | H33: =IF(B33<>"",VLOOKUP(B33,code,5,FALSE),"") | I33: =IF(B33<>"",VLOOKUP(B33,code,6,FALSE),"") | J33: =IF(B33<>"",VLOOKUP(B33,code,2,FALSE),"")
C34: =IF(B34<>"",VLOOKUP(B34,code,4,FALSE),"") | H34: =IF(B34<>"",VLOOKUP(B34,code,5,FALSE),"") | I34: =IF(B34<>"",VLOOKUP(B34,code,6,FALSE),"") | J34: =IF(B34<>"",VLOOKUP(B34,code,2,FALSE),"")
... C46: =IF(B46<>"",VLOOKUP(B46,code,4,FALSE),"") | H46: =IF(B46<>"",VLOOKUP(B46,code,5,FALSE),"") | I46: =IF(B46<>"",VLOOKUP(B46,code,6,FALSE),"") | J46: =IF(B46<>"",VLOOKUP(B46,code,2,FALSE),"")
B47: =COUNTA(B16:B22) -> 3 | C47: =SUM(C16:C46) -> 0.0625 | D47: =SUM(C47) -> 0.0625 | E47: =IF(D47>$B$50,$A$50,D47) -> Nombre de jours travaillés en heures supplementaires dans le mois | F47: 0.58333333 | G47: =SUM(C47-F47) -> -0.52083333 | H47: =SUM(H16:H46) -> 0.11458333 | I47: =SUM(I16:I46) -> 0.041666667
L49: =('agent 13'!B10) -> Dépassement Week-end
A50: Nombre de jours travaillés en heures supplementaires dans le mois | L50: =('agent 13'!B11) -> Permanence
A51: 1 | B51: 2 | C51: 3 | H51: 4 | I51: 5 | J51: 6 | L51: =('agent 13'!B12) -> Renfort Week-end
A52: 7 | B52: 8 | C52: 9 | H52: 10 | I52: 11 | J52: 12 | L52: =('agent 13'!B13) -> 0
A53: 13 | B53: 14 | C53: 15 | H53: 16 | I53: 17 | J53: 18 | L53: =('agent 13'!B14) -> 0
A54: 19 | B54: 20 | C54: 21 | H54: 22 | I54: 23 | J54: 24 | L54: =('agent 13'!B15) -> 0
A55: 25 | B55: 26 | C55: 27 | H55: 28 | I55: 29 | J55: 30 | L55: =('agent 13'!B16) -> 0
A56: 31 | L56: =('agent 13'!B17) -> 0
L57: =('agent 13'!B18) -> 0
L58: =('agent 13'!B19) -> 0
L59: =('agent 13'!B20) -> 0
L60: =('agent 13'!B21) -> 0
L61: =('agent 13'!B22) -> 0
L62: =('agent 13'!B23) -> 0
L63: =('agent 13'!B24) -> 0
L64: =('agent 13'!B25) -> 0
L65: =('agent 13'!B26) -> 0
L66: =('agent 13'!B27) -> 0
L67: =('agent 13'!B28) -> 0
L68: =('agent 13'!B29) -> 0
... L79: =('agent 13'!B40) -> 0
L80: =('agent 14 '!B41) -> 0
L81: =('agent 14 '!B42) -> 0
L82: =('agent 14 '!B43) -> 0
L83: =('agent 14 '!B44) -> 0
L84: =('agent 14 '!B45) -> 0
L85: =('agent 14 '!B46) -> 0
L86: =('agent 14 '!B47) -> 0
L87: =('agent 14 '!B48) -> 0
L88: =('agent 14 '!B49) -> 0
L89: =('agent 14 '!B50) -> 0
L90: =('agent 14 '!B51) -> 0
L91: =('agent 14 '!B52) -> 0
... L277: =('agent 14 '!B238) -> 0

Sheet agent 14 
A1: 0 | J1: USCL /
A2: ETAT DES HEURES SUPPLEMENTAIRES | J2: CFA2 /
J3: Dépassement Week-end
J4: Entrainement de l'équipe 1
J5: Permanence
B6: ReSPONSABLE: | C6: =(FEUIL!C18) -> AGENT 14 | D6: =FEUIL!C1 -> Mois de : Mai 2017 | J6: Renfort Week-end
J7: Week-end
A8: DATES | B8: NATURE DU SERVICE | D8: NORMALES | E8: DIMANCHE | F8: NUITS
E9: ET FERIES
A10: 1
A11: 2 | B11: Week-end | E11: 0.083333333
A12: 3
A13: 4
A14: 5
A15: 6
A16: 7
A17: 8
A18: 9
A19: =A18+1 -> 10 | B19: Permanence | D19: 0.16666667 | E19: 0.041666667
A20: =A19+1 -> 11
A21: =A20+1 -> 12
A22: =A21+1 -> 13
A23: =A22+1 -> 14
A24: =A23+1 -> 15
A25: =A24+1 -> 16
A26: =A25+1 -> 17
A27: =A26+1 -> 18
A28: =A27+1 -> 19
A29: =A28+1 -> 20
A30: =A29+1 -> 21
A31: =A30+1 -> 22
A32: =A31+1 -> 23
A33: =A32+1 -> 24 | B33: Renfort Week-end | D33: 0.20833333 | F33: 0.041666667
A34: =A33+1 -> 25
A35: =A34+1 -> 26
A36: =A35+1 -> 27
A37: =A36+1 -> 28
A38: =A37+1 -> 29
A39: =SUM(A38+1) -> 30
A40: =SUM(A39+1) -> 31 | B40: Permanence | E40: 0.083333333
A41: TOTAL | D41: =SUM(D10:D40) -> 0.375 | E41: =SUM(E10:E40) -> 0.20833333 | F41: =SUM(F10:F40) -> 0.041666667

Sheet Recap agent 14 
A1: =+FEUIL!C27 -> 0
J4: 0
A8: ÉTAT DES HEURES SUPPLEMENTAIRES
I10: =(FEUIL!C1) -> Mois de : Mai 2017
L13: '=SI(B17<>"";RECHERCHEV(B17;code;4;FAUX);"")
A14: Noms - Prénoms | B14: Date | C14: Jours ouvrables | D14: Dates | E14: Dates | F14: Dates | G14: Dates | H14: Dim. - Fêtes | I14: Nuit | J14: Motif
B15: Jours ouvrables | D15: Jours ouvrables | E15: Jours ouvrables | F15: Jours ouvrables | G15: Jours ouvrables
A16: =(FEUIL!C18) -> AGENT 14 | B16: 2 | C16: =IF(B16<>"",VLOOKUP(B16,code,4,FALSE),"") -> 0 | H16: =IF(B16<>"",VLOOKUP(B16,code,5,FALSE),"") -> 0.083333333 | I16: =IF(B16<>"",VLOOKUP(B16,code,6,FALSE),"") -> 0 | J16: =IF(B16<>"",VLOOKUP(B16,code,2,FALSE),"") -> Week-end
B17: 10 | C17: =IF(B17<>"",VLOOKUP(B17,code,4,FALSE),"") -> 0.16666667 | H17: =IF(B17<>"",VLOOKUP(B17,code,5,FALSE),"") -> 0.041666667 | I17: =IF(B17<>"",VLOOKUP(B17,code,6,FALSE),"") -> 0 | J17: =IF(B17<>"",VLOOKUP(B17,code,2,FALSE),"") -> Permanence
B18: 24 | C18: =IF(B18<>"",VLOOKUP(B18,code,4,FALSE),"") -> 0.20833333 | H18: =IF(B18<>"",VLOOKUP(B18,code,5,FALSE),"") -> 0 | I18: =IF(B18<>"",VLOOKUP(B18,code,6,FALSE),"") -> 0.041666667 | J18: =IF(B18<>"",VLOOKUP(B18,code,2,FALSE),"") -> Renfort Week-end | M18: j'aimerai que les jours se reportents automatiuement en B16:B22
B19: 31 | C19: =IF(B19<>"",VLOOKUP(B19,code,4,FALSE),"") -> 0 | H19: =IF(B19<>"",VLOOKUP(B19,code,5,FALSE),"") -> 0.083333333 | I19: =IF(B19<>"",VLOOKUP(B19,code,6,FALSE),"") -> 0 | J19: =IF(B19<>"",VLOOKUP(B19,code,2,FALSE),"") -> Permanence | M19: plutôt que de les saisimanuellement
C20: =IF(B20<>"",VLOOKUP(B20,code,4,FALSE),"") | H20: =IF(B20<>"",VLOOKUP(B20,code,5,FALSE),"") | I20: =IF(B20<>"",VLOOKUP(B20,code,6,FALSE),"") | J20: =IF(B20<>"",VLOOKUP(B20,code,2,FALSE),"")
C21: =IF(B21<>"",VLOOKUP(B21,code,4,FALSE),"") | H21: =IF(B21<>"",VLOOKUP(B21,code,5,FALSE),"") | I21: =IF(B21<>"",VLOOKUP(B21,code,6,FALSE),"") | J21: =IF(B21<>"",VLOOKUP(B21,code,2,FALSE),"")
C22: =IF(B22<>"",VLOOKUP(B22,code,4,FALSE),"") | H22: =IF(B22<>"",VLOOKUP(B22,code,5,FALSE),"") | I22: =IF(B22<>"",VLOOKUP(B22,code,6,FALSE),"") | J22: =IF(B22<>"",VLOOKUP(B22,code,2,FALSE),"")
C23: =IF(B23<>"",VLOOKUP(B23,code,4,FALSE),"") | H23: =IF(B23<>"",VLOOKUP(B23,code,5,FALSE),"") | I23: =IF(B23<>"",VLOOKUP(B23,code,6,FALSE),"") | J23: =IF(B23<>"",VLOOKUP(B23,code,2,FALSE),"")
C24: =IF(B24<>"",VLOOKUP(B24,code,4,FALSE),"") | H24: =IF(B24<>"",VLOOKUP(B24,code,5,FALSE),"") | I24: =IF(B24<>"",VLOOKUP(B24,code,6,FALSE),"") | J24: =IF(B24<>"",VLOOKUP(B24,code,2,FALSE),"")
C25: =IF(B25<>"",VLOOKUP(B25,code,4,FALSE),"") | H25: =IF(B25<>"",VLOOKUP(B25,code,5,FALSE),"") | I25: =IF(B25<>"",VLOOKUP(B25,code,6,FALSE),"") | J25: =IF(B25<>"",VLOOKUP(B25,code,2,FALSE),"")
C26: =IF(B26<>"",VLOOKUP(B26,code,4,FALSE),"") | H26: =IF(B26<>"",VLOOKUP(B26,code,5,FALSE),"") | I26: =IF(B26<>"",VLOOKUP(B26,code,6,FALSE),"") | J26: =IF(B26<>"",VLOOKUP(B26,code,2,FALSE),"")
C27: =IF(B27<>"",VLOOKUP(B27,code,4,FALSE),"") | H27: =IF(B27<>"",VLOOKUP(B27,code,5,FALSE),"") | I27: =IF(B27<>"",VLOOKUP(B27,code,6,FALSE),"") | J27: =IF(B27<>"",VLOOKUP(B27,code,2,FALSE),"")
C28: =IF(B28<>"",VLOOKUP(B28,code,4,FALSE),"") | H28: =IF(B28<>"",VLOOKUP(B28,code,5,FALSE),"") | I28: =IF(B28<>"",VLOOKUP(B28,code,6,FALSE),"") | J28: =IF(B28<>"",VLOOKUP(B28,code,2,FALSE),"")
C29: =IF(B29<>"",VLOOKUP(B29,code,4,FALSE),"") | H29: =IF(B29<>"",VLOOKUP(B29,code,5,FALSE),"") | I29: =IF(B29<>"",VLOOKUP(B29,code,6,FALSE),"") | J29: =IF(B29<>"",VLOOKUP(B29,code,2,FALSE),"")
C30: =IF(B30<>"",VLOOKUP(B30,code,4,FALSE),"") | H30: =IF(B30<>"",VLOOKUP(B30,code,5,FALSE),"") | I30: =IF(B30<>"",VLOOKUP(B30,code,6,FALSE),"") | J30: =IF(B30<>"",VLOOKUP(B30,code,2,FALSE),"")
C31: =IF(B31<>"",VLOOKUP(B31,code,4,FALSE),"") | H31: =IF(B31<>"",VLOOKUP(B31,code,5,FALSE),"") | I31: =IF(B31<>"",VLOOKUP(B31,code,6,FALSE),"") | J31: =IF(B31<>"",VLOOKUP(B31,code,2,FALSE),"")
... C46: =IF(B46<>"",VLOOKUP(B46,code,4,FALSE),"") | H46: =IF(B46<>"",VLOOKUP(B46,code,5,FALSE),"") | I46: =IF(B46<>"",VLOOKUP(B46,code,6,FALSE),"") | J46: =IF(B46<>"",VLOOKUP(B46,code,2,FALSE),"")
B47: =COUNTA(B16:B22) -> 4 | C47: =SUM(C16:C46) -> 0.375 | D47: =SUM(C47) -> 0.375 | E47: =IF(D47>$B$50,$A$50,D47) -> Nombre de jours travaillés en heures supplementaires dans le mois | F47: 0.58333333 | G47: =SUM(C47-F47) -> -0.20833333 | H47: =SUM(H16:H46) -> 0.20833333 | I47: =SUM(I16:I46) -> 0.041666667
L49: =('agent 14 '!B10) -> 0
A50: Nombre de jours travaillés en heures supplementaires dans le mois | L50: =('agent 14 '!B11) -> Week-end
A51: 1 | B51: 2 | C51: 3 | H51: 4 | I51: 5 | J51: 6 | L51: =('agent 14 '!B12) -> 0 | M51: j'ai effctivement un repère en a51 :j56 avec une MFC qui fait reference a la colonne L
A52: 7 | B52: 8 | C52: 9 | H52: 10 | I52: 11 | J52: 12 | L52: =('agent 14 '!B13) -> 0
A53: 13 | B53: 14 | C53: 15 | H53: 16 | I53: 17 | J53: 18 | L53: =('agent 14 '!B14) -> 0
A54: 19 | B54: 20 | C54: 21 | H54: 22 | I54: 23 | J54: 24 | L54: =('agent 14 '!B15) -> 0
A55: 25 | B55: 26 | C55: 27 | H55: 28 | I55: 29 | J55: 30 | L55: =('agent 14 '!B16) -> 0
A56: 31 | L56: =('agent 14 '!B17) -> 0
L57: =('agent 14 '!B18) -> 0
L58: =('agent 14 '!B19) -> Permanence
L59: =('agent 14 '!B20) -> 0
L60: =('agent 14 '!B21) -> 0
L61: =('agent 14 '!B22) -> 0
L62: =('agent 14 '!B23) -> 0
L63: =('agent 14 '!B24) -> 0
L64: =('agent 14 '!B25) -> 0
L65: =('agent 14 '!B26) -> 0
L66: =('agent 14 '!B27) -> 0
L67: =('agent 14 '!B28) -> 0
L68: =('agent 14 '!B29) -> 0
... L277: =('agent 14 '!B238) -> 0

Sheet FEUIL
C1: Mois de : Mai 2017
A2: Mois de : Janvier 2017
A3: Mois de : Février 2017 | C3: NOM DES AGENTS
A4: Mois de : Mars 2017 | B4: E
A5: Mois : D'avril 2017 | B5: 10 | C5: AGENT 1
A6: Mois de : Mai 2017 | B6: 11 | C6: AGENT 2
A7: Mois de : Juin 2017 | B7: 12 | C7: AGENT 3
A8: Mois de : Juillet 2017 | B8: 13 | C8: AGENT 4
A9: Mois : D' août 2017 | B9: 14 | C9: AGENT 5
A10: Mois de : Septembre 2017 | B10: 15 | C10: AGENT 6
A11: Mois : D'octobre 2017 | B11: 16 | C11: AGENT 7
A12: Mois de : Novembre 2017 | B12: 17 | C12: AGENT 8
A13: Mois de : Décembre 2017 | B13: 18 | C13: AGENT 9
A14: Mois de : Janvier 2018 | B14: 19 | C14: AGENT 10
A15: Mois de : Février 2018 | B15: 20 | C15: AGENT 11
A16: Mois de : Mars 2018 | B16: 21 | C16: AGENT 12
... A18: Mois de : Mai 2018 | B18: 23 | C18: AGENT 14
A19: Mois de : Juin 2018
A20: Mois de : Juillet 2018
A21: Mois : D' août 2018
A22: Mois de : Septembre 2018
A23: Mois : D'octobre 2018
A24: Mois de : Novembre 2018
A25: Mois de : Décembre 2018
A26: Mois de : Janvier 2019
A27: Mois de : Février 2019
A28: Mois de : Mars 2019
A29: Mois : D'avril 2019
A30: Mois de : Mai 2019
... A517: Mois de : Décembre 2059
