Workbook

Sheet NOMS
B4: AAAA | C4: 111111
B5: BBBBB | C5: 22222
B6: CCCCC | C6: 33333
B7: DDDDD | C7: 44444
B8: EEEEEEE | C8: 555555
B9: FFFFFFF | C9: 6666666

Sheet 2014 - 2015
B1: 2014/2015 | D1: =(NOMS!B4) -> AAAA | E1: =(NOMS!B5) -> BBBBB | F1: BIANAY | G1: =(NOMS!B7) -> DDDDD | H1: =(NOMS!B8) -> EEEEEEE | I1: =(NOMS!B9) -> FFFFFFF | J1: Cycle 1, 2, 3 | O1: § | Q1: =(NOMS!B4) -> AAAA | R1: =(NOMS!B5) -> BBBBB | S1: =(NOMS!B6) -> CCCCC | T1: =(NOMS!B7) -> DDDDD | U1: =(NOMS!B8) -> EEEEEEE | V1: =(NOMS!B9) -> FFFFFFF
B2: LUNDI | C2: 8:00-10:00 | J2: AFFICHER LES CYCLES | M2: OPTION | N2: Cycle 1 | O2: MODE DE RECHERCHE
J3: A rendre Fradin Ultimate Stade | K3: 1S: Penta – Stade | M3: DANSE | N3: Cycle 2 | Q3: =COUNTIF(D3:D5,"**?????") -> 0 | R3: =COUNTIF(E3:E5,"**?????") -> 0 | S3: =COUNTIF(F3:F5,"**?????") -> 0 | T3: =COUNTIF(G3:G5,"**?????") -> 0 | U3: =COUNTIF(H3:H5,"**?????") -> 0 | V3: =COUNTIF(I3:I5,"**?????") -> 0
J4: A rendre Fradin Dassibat TT | K4: 2S: Penta – Stade | M4: HB/MUSCU | N4: Cycle 3 | Q4: =COUNTIF(D7:D9,"**?????") -> 0 | R4: =COUNTIF(E7:E9,"**?????") -> 0 | S4: =COUNTIF(F7:F9,"**?????") -> 0 | T4: =COUNTIF(G7:G9,"**?????") -> 0 | U4: =COUNTIF(H7:H9,"**?????") -> 0 | V4: =COUNTIF(I7:I9,"**?????") -> 0
K5: 3x500 - Stade | M5: STEP | N5: Cycle 1, 2, 3 | Q5: =COUNTIF(D12:D14,"**?????") -> 0 | R5: =COUNTIF(E12:E14,"**?????") -> 0 | S5: =COUNTIF(F12:F14,"**?????") -> 0 | T5: =COUNTIF(G12:G14,"**?????") -> 0 | U5: =COUNTIF(H12:H14,"**?????") -> 0 | V5: =COUNTIF(I12:I14,"**?????") -> 0
C6: 10:00-12:00 | K6: Accro - MJC Judo | Q6: =COUNTIF(D16:D18,"**?????") -> 0 | R6: =COUNTIF(E16:E18,"**?????") -> 0 | S6: =COUNTIF(F16:F18,"**?????") -> 0 | T6: =COUNTIF(G16:G18,"**?????") -> 0 | U6: =COUNTIF(H16:H18,"**?????") -> 0 | V6: =COUNTIF(I16:I18,"**?????") -> 0
K7: Acrosport – Pasteur | Q7: =COUNTIF(D23:D25,"**?????") -> 0 | R7: =COUNTIF(E23:E25,"**?????") -> 0 | S7: =COUNTIF(F23:F25,"**?????") -> 0 | T7: =COUNTIF(G23:G25,"**?????") -> 0 | U7: =COUNTIF(H23:H25,"**?????") -> 0 | V7: =COUNTIF(I23:I25,"**?????") -> 0
K8: Aérobic – MJC | Q8: =COUNTIF(D27:D29,"**?????") -> 0 | R8: =COUNTIF(E27:E29,"**?????") -> 0 | S8: =COUNTIF(F27:F29,"**?????") -> 0 | T8: =COUNTIF(G27:G29,"**?????") -> 0 | U8: =COUNTIF(H27:H29,"**?????") -> 0 | V8: =COUNTIF(I27:I29,"**?????") -> 0 | X8: =NB.SI(plage;"*")
K9: Bad - CMTE | Q9: =COUNTIF(D32:D34,"**?????") -> 0 | R9: =COUNTIF(E32:E34,"**?????") -> 0 | S9: =COUNTIF(F32:F34,"**?????") -> 0 | T9: =COUNTIF(G32:G34,"**?????") -> 0 | U9: =COUNTIF(H32:H34,"**?????") -> 0 | V9: =COUNTIF(I32:I34,"**?????") -> 0 | X9: =NB.SI(E82:E84;"**?????")
K10: Bad - Jeu de Paume
C11: 13h -15h | K11: Bad - SMTE | Q11: =COUNTIF(D36:D38,"**?????") -> 0 | R11: =COUNTIF(E36:E38,"**?????") -> 0 | S11: =COUNTIF(F36:F38,"**?????") -> 0 | T11: =COUNTIF(G36:G38,"**?????") -> 0 | U11: =COUNTIF(H36:H38,"**?????") -> 0 | V11: =COUNTIF(I36:I38,"**?????") -> 0
K12: Boxe - Casalis | Q12: =COUNTIF(D43:D45,"**?????") -> 0 | R12: =COUNTIF(E43:E45,"**?????") -> 0 | S12: =COUNTIF(F43:F45,"*") -> 0 | T12: =COUNTIF(G43:G45,"*") -> 0 | U12: =COUNTIF(H43:H45,"**?????") -> 0 | V12: =COUNTIF(I43:I45,"**?????") -> 0
K13: Boxe - Lévrière | Q13: =COUNTIF(D47:D49,"**?????") -> 0 | R13: =COUNTIF(E47:E49,"**?????") -> 0 | S13: =COUNTIF(F47:F49,"*") -> 0 | T13: =COUNTIF(G47:G49,"**?????") -> 0 | U13: =COUNTIF(H47:H49,"**?????") -> 0 | V13: =COUNTIF(I47:I49,"**?????") -> 0
K14: Boxe - MJC | Q14: =COUNTIF(D55:D57,"**?????") -> 0 | R14: =COUNTIF(E55:E57,"**?????") -> 0 | S14: =COUNTIF(F55:F57,"**?????") -> 0 | T14: =COUNTIF(G55:G57,"**?????") -> 0 | U14: =COUNTIF(H55:H57,"**?????") -> 0 | V14: =COUNTIF(I55:I57,"**?????") -> 0
C15: 15h -17h | K15: Boxe - Palais | Q15: =COUNTIF(D59:D61,"**?????") -> 0 | R15: =COUNTIF(E59:E61,"**?????") -> 0 | S15: =COUNTIF(F59:F61,"**?????") -> 0 | T15: =COUNTIF(G59:G61,"**?????") -> 0 | U15: =COUNTIF(H59:H61,"**?????") -> 0 | V15: =COUNTIF(I59:I61,"**?????") -> 0
K16: CO - Base | Q16: =COUNTIF(D63:D65,"**?????") -> 0 | R16: =COUNTIF(E63:E65,"**?????") -> 0 | S16: =COUNTIF(F63:F65,"**?????") -> 0 | T16: =COUNTIF(G63:G65,"**?????") -> 0 | U16: =COUNTIF(H63:H65,"**?????") -> 0 | V16: =COUNTIF(I63:I65,"**?????") -> 0
K17: Danse - Jeu de Paume | Q17: =COUNTIF(D67:D69,"**?????") -> 0 | R17: =COUNTIF(E67:E69,"**?????") -> 0 | S17: =COUNTIF(F67:F69,"**?????") -> 0 | T17: =COUNTIF(G67:G69,"**?????") -> 0 | U17: =COUNTIF(H67:H69,"**?????") -> 0 | V17: =COUNTIF(I67:I69,"**?????") -> 0
K18: Danse - MJC | Q18: =COUNTIF(D73:D75,"**?????") -> 0 | R18: =COUNTIF(E73:E75,"**?????") -> 0 | S18: =COUNTIF(F73:F75,"**?????") -> 0 | T18: =COUNTIF(G73:G75,"**?????") -> 0 | U18: =COUNTIF(H73:H75,"**?????") -> 0 | V18: =COUNTIF(I73:I75,"**?????") -> 0
C19: 17:00-18:30 | K19: Durée - Stade | Q19: =COUNTIF(D77:D79,"**?????") -> 0 | R19: =COUNTIF(E77:E79,"**?????") -> 0 | S19: =COUNTIF(F77:F79,"**?????") -> 0 | T19: =COUNTIF(G77:G79,"**?????") -> 0 | U19: =COUNTIF(H77:H79,"**?????") -> 0 | V19: =COUNTIF(I77:I79,"**?????") -> 0
K20: Durée (step) – Stade | Q20: =COUNTIF(D82:D84,"**?????") -> 0 | R20: =COUNTIF(E82:E84,"**?????") -> 0 | S20: =COUNTIF(F82:F84,"**?????") -> 0 | T20: =COUNTIF(G82:G84,"**?????") -> 0 | U20: =COUNTIF(H82:H84,"**?????") -> 0 | V20: =COUNTIF(I82:I84,"**?????") -> 0
K21: Musculation - Casalis | Q21: =COUNTIF(D86:D88,"**?????") -> 0 | R21: =COUNTIF(E86:E88,"**?????") -> 0 | S21: =COUNTIF(F86:F88,"**?????") -> 0 | T21: =COUNTIF(G86:G88,"**?????") -> 0 | U21: =COUNTIF(H86:H88,"**?????") -> 0 | V21: =COUNTIF(I86:I88,"**?????") -> 0
B22: MARDI | C22: 8:00-10:00 | K22: Penta - Stade | Q22: =COUNTIF(D93:D95,"**?????") -> 0 | R22: =COUNTIF(E93:E95,"**?????") -> 0 | S22: =COUNTIF(F93:F95,"**?????") -> 0 | T22: =COUNTIF(G93:G95,"**?????") -> 0 | U22: =COUNTIF(H93:H95,"**?????") -> 0 | V22: =COUNTIF(I93:I95,"**?????") -> 0
K23: Relais - Stade | Q23: =COUNTIF(D97:D99,"*") -> 0 | R23: =COUNTIF(E97:E99,"*") -> 0 | S23: =COUNTIF(F97:F99,"*") -> 0 | T23: =COUNTIF(G97:G99,"*") -> 0 | U23: =COUNTIF(H97:H99,"*") -> 0 | V23: =COUNTIF(I97:I99,"*") -> 0
K24: S1: Bad – Pasteur
K25: S1: Durée – Stade
C26: 10:00-12:00 | K26: S2: Durée - Stade | Q26: =SUM(Q3:Q25) -> 0 | R26: =SUM(R3:R25) -> 0 | S26: =SUM(S3:S25) -> 0 | T26: =SUM(T3:T25) -> 0 | U26: =SUM(U3:U25) -> 0 | V26: =SUM(V3:V25) -> 0
K27: S2: Step – Pasteur
K28: STEP – MJC
K29: STEP – Pasteur | Q29: OPTION
K30: TT - Dassibat
C31: 13h -15h | K31: TT- Pasteur | P31: Lundi | Q31: =COUNTIF(D20,"*") -> 0 | R31: =COUNTIF(E20,"*") -> 0 | S31: =COUNTIF(F20,"*") -> 0 | T31: =COUNTIF(G20,"*") -> 0 | U31: =COUNTIF(H20,"*") -> 0 | V31: =COUNTIF(I20,"*") -> 0
K32: Ultimate - (TT dassibat) | P32: Mardi | Q32: =COUNTIF(D40,"*") -> 0 | R32: =COUNTIF(E40,"*") -> 0 | S32: =COUNTIF(F40,"*") -> 0 | T32: =COUNTIF(G40,"*") -> 0 | U32: =COUNTIF(H40,"*") -> 0 | V32: =COUNTIF(I40,"*") -> 0
K33: Ultimate - Stade | P33: Jeudi | Q33: =COUNTIF(D90,"*") -> 0 | R33: =COUNTIF(E90,"*") -> 0 | S33: =COUNTIF(F90,"*") -> 0 | T33: =COUNTIF(G90,"*") -> 0 | U33: =COUNTIF(H90,"*") -> 0 | V33: =COUNTIF(I90,"*") -> 0
K34: UNSS
C35: 15h -17h | K35: Volley - Palais
C39: 17:00-18:30
B42: MERCREDI | C42: 8:00-10:00 | K42: BASKET
K43: STEP
K44: STEP + BOXE
K45: HAND
...

Sheet 2016 - 2017
B1: 2016/2017 | D1: =(NOMS!B4) -> AAAA | E1: =(NOMS!B5) -> BBBBB | F1: =(NOMS!B6) -> CCCCC | G1: =(NOMS!B7) -> DDDDD | H1: =(NOMS!B8) -> EEEEEEE | I1: =(NOMS!B9) -> FFFFFFF | J1: Cycle 1, 2, 3 | O1: §
B2: LUNDI | C2: 8:00-10:00 | J2: AFFICHER LES CYCLES | M2: OPTION | N2: Cycle 1 | O2: MODE DE RECHERCHE
K3: ALLEZARD | L3: 2014/2015 | M3: DANSE | N3: Cycle 2
K4: ALLEZARD - BASKET | L4: 2015/2016 | M4: HB/MUSCU | N4: Cycle 3
K5: BASE - CO | L5: 2016/2017 | M5: STEP | N5: Cycle 1, 2, 3
C6: 10:00-12:00 | K6: CASALIS | L6: 2017/2018
K7: CASALIS - ACRO | L7: 2018/2019
K8: CASALIS - BAD | L8: 2019/2020
K9: CASALIS - BOXE | L9: 2020/2021
K10: CASALIS - LUTTE | L10: 2021/2022
C11: 13h -15h | K11: CASALIS - MUSCUL | L11: 2022/2023
K12: CASALIS - PARQUET BF | L12: 2023/2024
K13: CASALIS - PARQUET TT | L13: 2024/2025
K14: CASALIS JUDO | L14: 2025/2026
C15: 15h -17h | K15: DASSIBAT | L15: 2026/2027 | M15: 6h SEP
K16: DASSIBAT - ACRO | L16: 2027/2028 | M16: 7h SEP
K17: DASSIBAT - JUDO | L17: 2028/2029 | M17: 8h SEP
J18: dispo pour gut si necessaire car durée sur ouest
C19: 17:00-18:30 | K19: DASSIBAT - TT 12 | L19: 2030/2031
K20: DASSIBAT - TT 8 | L20: 2031/2032
K21: DAUVAUCHELLE | L21: 2032/2033
B22: MARDI | C22: 8:00-10:00 | K22: DUV ULTIMATE EST | L22: 2033/2034
K23: DUV ULTIMATE OUEST | L23: 2034/2035
K24: DUVAUCHELLE - PENTA
K25: DUVAUCHELLE 3X500
C26: 10:00-12:00 | K26: DUVAUCHELLE DURÉE
K27: DUVAUCHELLE PISTE
K28: DUVAUCHELLE RELAIS
K29: GUIBLETS - BASKET
K30: ISSAURAT
C31: 13h -15h | K31: ISSAURAT - ACRO
K32: ISSAURAT - BASKET
K33: ISSAURAT - DANSE
K34: ISSAURAT- BAD
C35: 15h -17h | K35: JEU DE PAUME
K36: JEU DE PAUME - ACRO
K37: JEU DE PAUME - BAD
K38: JEU DE PAUME - BASKET
C39: 17:00-18:30 | K39: JEU DE PAUME - DANSE
K40: JEU DE PAUME - GYM
...

Sheet 2017 - 2018
B1: 2017/2018 | D1: =(NOMS!B4) -> AAAA | E1: =(NOMS!B5) -> BBBBB | F1: =(NOMS!B6) -> CCCCC | G1: =(NOMS!B7) -> DDDDD | H1: =(NOMS!B8) -> EEEEEEE | I1: =(NOMS!B9) -> FFFFFFF | J1: Cycle 1, 2, 3 | O1: §
B2: LUNDI | C2: 8:00-10:00 | J2: AFFICHER LES CYCLES | M2: OPTION | N2: Cycle 1 | O2: MODE DE RECHERCHE
K3: ALLEZARD | L3: 2014/2015 | M3: DANSE | N3: Cycle 2
K4: ALLEZARD - BASKET | L4: 2015/2016 | M4: HB/MUSCU | N4: Cycle 3
K5: BASE - CO | L5: 2016/2017 | M5: STEP | N5: Cycle 1, 2, 3
C6: 10:00-12:00 | K6: CASALIS | L6: 2017/2018
K7: CASALIS - ACRO | L7: 2018/2019
K8: CASALIS - BAD | L8: 2019/2020
K9: CASALIS - BOXE | L9: 2020/2021
K10: CASALIS - LUTTE | L10: 2021/2022
C11: 13h -15h | K11: CASALIS - MUSCUL | L11: 2022/2023
K12: CASALIS - PARQUET BF | L12: 2023/2024
K13: CASALIS - PARQUET TT | L13: 2024/2025
K14: CASALIS JUDO | L14: 2025/2026
C15: 15h -17h | K15: DASSIBAT | L15: 2026/2027 | M15: 6h SEP
K16: DASSIBAT - ACRO | L16: 2027/2028 | M16: 7h SEP
K17: DASSIBAT - JUDO | L17: 2028/2029 | M17: 8h SEP
K18: DASSIBAT - TT | L18: 2029/2030
C19: 17:00-18:30 | K19: DASSIBAT - TT 12 | L19: 2030/2031
K20: DASSIBAT - TT 8 | L20: 2031/2032
K21: DAUVAUCHELLE | L21: 2032/2033
B22: MARDI | C22: 8:00-10:00 | K22: DUV ULTIMATE EST | L22: 2033/2034
K23: DUV ULTIMATE OUEST | L23: 2034/2035
K24: DUVAUCHELLE - PENTA
K25: DUVAUCHELLE 3X500
C26: 10:00-12:00 | K26: DUVAUCHELLE DURÉE
K27: DUVAUCHELLE PISTE
K28: DUVAUCHELLE RELAIS
K29: GUIBLETS - BASKET
K30: ISSAURAT
C31: 13h -15h | K31: ISSAURAT - ACRO
K32: ISSAURAT - BASKET
K33: ISSAURAT - DANSE
K34: ISSAURAT- BAD
C35: 15h -17h | K35: JEU DE PAUME
K36: JEU DE PAUME - ACRO
K37: JEU DE PAUME - BAD
K38: JEU DE PAUME - BASKET
C39: 17:00-18:30 | K39: JEU DE PAUME - DANSE
K40: JEU DE PAUME - GYM
...

Sheet 2018 - 2019
B1: 2018/2019 | D1: =(NOMS!B4) -> AAAA | E1: =(NOMS!B5) -> BBBBB | F1: =(NOMS!B6) -> CCCCC | G1: =(NOMS!B7) -> DDDDD | H1: =(NOMS!B8) -> EEEEEEE | I1: =(NOMS!B9) -> FFFFFFF | J1: Cycle 1, 2, 3 | O1: §
B2: LUNDI | C2: 8:00-10:00 | J2: AFFICHER LES CYCLES | M2: OPTION | N2: Cycle 1 | O2: MODE DE RECHERCHE
K3: ALLEZARD | L3: 2014/2015 | M3: DANSE | N3: Cycle 2
K4: ALLEZARD - BASKET | L4: 2015/2016 | M4: HB/MUSCU | N4: Cycle 3
K5: BASE - CO | L5: 2016/2017 | M5: STEP | N5: Cycle 1, 2, 3
C6: 10:00-12:00 | K6: CASALIS | L6: 2017/2018
K7: CASALIS - ACRO | L7: 2018/2019
K8: CASALIS - BAD | L8: 2019/2020
K9: CASALIS - BOXE | L9: 2020/2021
K10: CASALIS - LUTTE | L10: 2021/2022
C11: 13h -15h | K11: CASALIS - MUSCUL | L11: 2022/2023
K12: CASALIS - PARQUET BF | L12: 2023/2024
K13: CASALIS - PARQUET TT | L13: 2024/2025
K14: CASALIS JUDO | L14: 2025/2026
C15: 15h -17h | K15: DASSIBAT | L15: 2026/2027 | M15: 6h SEP
K16: DASSIBAT - ACRO | L16: 2027/2028 | M16: 7h SEP
K17: DASSIBAT - JUDO | L17: 2028/2029 | M17: 8h SEP
K18: DASSIBAT - TT | L18: 2029/2030
C19: 17:00-18:30 | K19: DASSIBAT - TT 12 | L19: 2030/2031
K20: DASSIBAT - TT 8 | L20: 2031/2032
K21: DAUVAUCHELLE | L21: 2032/2033
B22: MARDI | C22: 8:00-10:00 | K22: DUV ULTIMATE EST | L22: 2033/2034
K23: DUV ULTIMATE OUEST | L23: 2034/2035
K24: DUVAUCHELLE - PENTA
K25: DUVAUCHELLE 3X500
C26: 10:00-12:00 | K26: DUVAUCHELLE DURÉE
K27: DUVAUCHELLE PISTE
K28: DUVAUCHELLE RELAIS
K29: GUIBLETS - BASKET
K30: ISSAURAT
C31: 13h -15h | K31: ISSAURAT - ACRO
K32: ISSAURAT - BASKET
K33: ISSAURAT - DANSE
K34: ISSAURAT- BAD
C35: 15h -17h | K35: JEU DE PAUME
K36: JEU DE PAUME - ACRO
K37: JEU DE PAUME - BAD
K38: JEU DE PAUME - BASKET
C39: 17:00-18:30 | K39: JEU DE PAUME - DANSE
K40: JEU DE PAUME - GYM
...
