Workbook

Sheet calendrier
B1: 42973 | C1: BLANC MESNIL | D1: =IF(B1<>"",VLOOKUP(B1,$F$1:$G$101,2,FALSE),"") -> #N/A | F1: ='CALENDRIER CFA2'!N5 -> 0
B2: 42994 | C2: IVRY US | D2: =IF(B2<>"",VLOOKUP(B2,$F$1:$G$101,2,FALSE),"") -> V | F2: ='CALENDRIER CFA2'!F5 -> 42980 | G2: ='CALENDRIER CFA2'!H5 -> R
B3: 43022 | C3: RACING C. 92 | D3: =IF(B3<>"",VLOOKUP(B3,$F$1:$G$101,2,FALSE),"") -> R | F3: ='CALENDRIER CFA2'!N9 -> 42987 | G3: ='CALENDRIER CFA2'!O9 -> B
B4: 43043 | C4: NOISY LE SEC | D4: =IF(B4<>"",VLOOKUP(B4,$F$1:$G$101,2,FALSE),"") -> R | F4: ='CALENDRIER CFA2'!N10 -> 42994 | G4: ='CALENDRIER CFA2'!O10 -> V
B5: 43064 | C5: BOBIGNY | D5: =IF(B5<>"",VLOOKUP(B5,$F$1:$G$101,2,FALSE),"") -> R | F5: =F4+7 -> 43001 | G5: =(G2) -> R
B6: 43085 | C6: LES MUREAUX | D6: =IF(B6<>"",VLOOKUP(B6,$F$1:$G$101,2,FALSE),"") -> R | F6: =F5+7 -> 43008 | G6: =(G3) -> B
B7: 43113 | C7: GOBELINS | D7: =IF(B7<>"",VLOOKUP(B7,$F$1:$G$101,2,FALSE),"") -> B | F7: =F6+7 -> 43015 | G7: =(G4) -> V
B8: 43134 | C8: ST-OUEN L'AUMONE | D8: =IF(B8<>"",VLOOKUP(B8,$F$1:$G$101,2,FALSE),"") -> B | F8: =F7+7 -> 43022 | G8: =(G5) -> R
B9: 43155 | C9: PARIS FC 2 | D9: =IF(B9<>"",VLOOKUP(B9,$F$1:$G$101,2,FALSE),"") -> B | F9: =F8+7 -> 43029 | G9: =(G6) -> B
B10: 43176 | C10: VERSAILLES | D10: =IF(B10<>"",VLOOKUP(B10,$F$1:$G$101,2,FALSE),"") -> B | F10: =F9+7 -> 43036 | G10: =(G7) -> V
B11: 43197 | C11: LES ULIS | D11: =IF(B11<>"",VLOOKUP(B11,$F$1:$G$101,2,FALSE),"") -> B | F11: =F10+7 -> 43043 | G11: =(G8) -> R
B12: 43211 | C12: AUBERVILLIERS | D12: =IF(B12<>"",VLOOKUP(B12,$F$1:$G$101,2,FALSE),"") -> R | F12: =F11+7 -> 43050 | G12: =(G9) -> B
B13: 43239 | C13: SÉNART-MOISSY | D13: =IF(B13<>"",VLOOKUP(B13,$F$1:$G$101,2,FALSE),"") -> B | F13: =F12+7 -> 43057 | G13: =(G10) -> V
D14: =IF(B14<>"",VLOOKUP(B14,$F$1:$G$101,2,FALSE),"") | F14: =F13+7 -> 43064 | G14: =(G11) -> R
D15: =IF(B15<>"",VLOOKUP(B15,F1:G101,2,FALSE),"") | F15: =F14+7 -> 43071 | G15: =(G12) -> B
F16: =F15+7 -> 43078 | G16: =(G13) -> V
F17: =F16+7 -> 43085 | G17: =(G14) -> R
F18: =F17+7 -> 43092 | G18: =(G15) -> B
F19: =F18+7 -> 43099 | G19: =(G16) -> V
F20: =F19+7 -> 43106 | G20: =(G17) -> R
F21: =F20+7 -> 43113 | G21: =(G18) -> B
F22: =F21+7 -> 43120 | G22: =(G19) -> V
F23: =F22+7 -> 43127 | G23: =(G20) -> R
F24: =F23+7 -> 43134 | G24: =(G21) -> B
F25: =F24+7 -> 43141 | G25: =(G22) -> V
F26: =F25+7 -> 43148 | G26: =(G23) -> R
F27: =F26+7 -> 43155 | G27: =(G24) -> B
... F101: =F100+7 -> 43673 | G101: =(G98) -> R

Sheet CALENDRIER CFA2
N1: =N17 -> 42973 | O1: R | X1: 42948
B2: CALENDRIER NAT 3 / ROULEMENT DES AGENTS | O2: B | X2: 43313
H3: =NOW() -> 42981.639 | O3: V | X3: 43678
X4: 44044
B5: DATES | C5: ÉQUIPES | D5: AGENTS | F5: =N17+7 -> 42980 | H5: R | X5: 44409
X6: 44774
A7: =calendrier!D1 -> #N/A | B7: =SUM(calendrier!B1) -> 42973 | C7: =(calendrier!C1) -> BLANC MESNIL | D7: AGENT 1 | F7: AGENT 1 | H7: =COUNTIF($D$7:$D$26,K7) -> 2 | K7: AGENT 1 | R7: 43708 | X7: 45139
A8: =+calendrier!D2 -> V | B8: =SUM(calendrier!B2) -> 42994 | C8: =(calendrier!C2) -> IVRY US | D8: AGENT 5 | F8: AGENT 2 | H8: =COUNTIF($D$7:$D$26,K8) -> 1 | K8: AGENT 2 | R8: 44072 | X8: 45505
A9: =+calendrier!D3 -> R | B9: =SUM(calendrier!B3) -> 43022 | C9: =(calendrier!C3) -> RACING C. 92 | D9: AGENT 2 | F9: AGENT 3 | H9: =COUNTIF($D$7:$D$26,K9) -> 2 | K9: AGENT 3 | N9: =F5+7 -> 42987 | O9: =IF(H5=O1,O2,IF(H5=O2,O3,IF(H5=O3,O1,""))) -> B | R9: 44436 | T9: =WEEKNUM(N17) -> 34 | X9: 45870
A10: =+calendrier!D4 -> R | B10: =SUM(calendrier!B4) -> 43043 | C10: =(calendrier!C4) -> NOISY LE SEC | D10: AGENT 6 | F10: AGENT 4 | H10: =COUNTIF($D$7:$D$26,K10) -> 1 | K10: AGENT 4 | N10: =N9+7 -> 42994 | O10: =IF(O9=O2,O3,IF(O9=O3,O1,IF(O9=O1,O2,""))) -> V | R10: 44800 | X10: 46235
A11: =+calendrier!D5 -> R | B11: =SUM(calendrier!B5) -> 43064 | C11: =(calendrier!C5) -> BOBIGNY | D11: AGENT 8 | F11: AGENT 5 | H11: =COUNTIF($D$7:$D$26,K11) -> 2 | K11: AGENT 5 | R11: 45164 | X11: 46600
A12: =+calendrier!D6 -> R | B12: =SUM(calendrier!B6) -> 43085 | C12: =(calendrier!C6) -> LES MUREAUX | D12: AGENT 7 | F12: AGENT 6 | H12: =COUNTIF($D$7:$D$26,K12) -> 1 | K12: AGENT 6 | R12: 45535 | X12: 46966
A13: =+calendrier!D7 -> B | B13: =SUM(calendrier!B7) -> 43113 | C13: =(calendrier!C7) -> GOBELINS | D13: AGENT 3 | F13: AGENT 7 | H13: =COUNTIF($D$7:$D$26,K13) -> 1 | K13: AGENT 7 | R13: 45899 | X13: 47331
A14: =+calendrier!D8 -> B | B14: =SUM(calendrier!B8) -> 43134 | C14: =(calendrier!C8) -> ST-OUEN L'AUMONE | D14: AGENT 9 | F14: AGENT 8 | H14: =COUNTIF($D$7:$D$26,K14) -> 2 | K14: AGENT 8 | R14: 46263 | X14: 47696
A15: =+calendrier!D9 -> B | B15: =SUM(calendrier!B9) -> 43155 | C15: =(calendrier!C9) -> PARIS FC 2 | D15: AGENT 4 | F15: AGENT 9 | H15: =COUNTIF($D$7:$D$26,K15) -> 1 | K15: AGENT 9 | R15: 46627 | X15: 48061
A16: =+calendrier!D10 -> B | B16: =SUM(calendrier!B10) -> 43176 | C16: =(calendrier!C10) -> VERSAILLES | D16: AGENT 1 | N16: Dernier samedi du mois d'août | R16: 46991 | X16: 48427
A17: =+calendrier!D11 -> B | B17: =SUM(calendrier!B11) -> 43197 | C17: =(calendrier!C11) -> LES ULIS | D17: AGENT 3 | F17: SAISON | K17: 42948 | L17: <-- | N17: =IF(WEEKDAY(EOMONTH(K17,0))=7,EOMONTH(K17,0),EOMONTH(K17,0)-WEEKDAY(EOMONTH(K17,0))) -> 42973 | R17: 47355 | X17: 48792
A18: =+calendrier!D12 -> R | B18: =SUM(calendrier!B12) -> 43211 | C18: =(calendrier!C12) -> AUBERVILLIERS | D18: AGENT 8 | F18: =N17 -> 42973 | G18: / | H18: =F18+365 -> 43338 | K18: menu deroulant | R18: 47726 | X18: 49157
A19: =+calendrier!D13 -> B | B19: =SUM(calendrier!B13) -> 43239 | C19: =(calendrier!C13) -> SÉNART-MOISSY | D19: AGENT 5 | R19: 48090 | X19: 49522
B20: =SUM(calendrier!B14) -> 0 | C20: =(calendrier!C14) -> 0 | K20: AGENT 4 | X20: 49888
B21: =SUM(calendrier!B15) -> 0 | C21: =(calendrier!C15) -> 0 | K21: AGENT 5 | X21: 50253
B22: =SUM(calendrier!B16) -> 0 | C22: =(calendrier!C16) -> 0 | K22: AGENT 6 | X22: 50618
B23: =SUM(calendrier!B17) -> 0 | C23: =(calendrier!C17) -> 0 | K23: AGENT 7 | X23: 50983
B24: =SUM(calendrier!B18) -> 0 | C24: =(calendrier!C18) -> 0 | K24: AGENT 8 | X24: 51349
B25: =SUM(calendrier!B19) -> 0 | C25: =(calendrier!C19) -> 0 | K25: AGENT 9 | X25: 51714
B26: =SUM(calendrier!B20) -> 0 | C26: =(calendrier!C20) -> 0 | X26: 52079
R27: 48454 | X27: 52444
B28: INFORMATIONS ET COMMENTAIRES | R28: 48818 | X28: 52810
R29: 49182 | X29: 53175
X30: 53540
R31: 49546 | X31: 53905
R32: 49917 | X32: 54271
X33: 54636
X34: 55001
R35: 50281
R36: 50645
R37: 51009
B38: 2015/2016 | C38: 2016
B39: 2016/2017 | C39: 2017
B40: 2017/2018 | C40: 2018
B41: 2018/2019 | C41: 2019
B42: 2019/2020 | C42: 2020
B43: 2020/2021 | C43: 2021
B44: 2021/2022 | C44: 2022
B45: 2022/2023 | C45: 2023
B46: 2023/2024 | C46: 2024
B47: 2024/2025 | C47: 2025
B48: 2025/2026 | C48: 2026
B49: 2026/2027 | C49: 2027
... B72: 2049/2050 | C72: 2050
R73: 51373
K74: AGENT 2
K75: AGENT 4
K76: AGENT 5
F77: sans l'equipe ROSE | K77: AGENT 6
K78: AGENT 7
K79: AGENT 8
K80: AGENT 9
K84: AGENT 1
K85: AGENT 3
F86: sans l'equipe BLEU | K86: AGENT 4
K87: AGENT 5
K88: AGENT 7
K89: AGENT 8
K90: AGENT 9
K94: AGENT 1
K95: AGENT 2
F96: sans l'equipe VERT | K96: AGENT 3
K97: AGENT 5
K98: AGENT 6
K99: AGENT 7
K100: AGENT 9
