Workbook
Name lundi1er: calendrier!$A$5

Sheet calendrier
A1: 2016 | R1: =DATE($A$1,COLUMN()-9,1) -> 42614 | T1: =DATE($A$1,COLUMN()-10,1) -> 42644 | V1: =DATE($A$1,COLUMN()-11,1) -> 42675 | X1: =DATE($A$1,COLUMN()-12,1) -> 42705 | Z1: =DATE($A$1,COLUMN()-1,1) -> 43101 | AB1: =DATE($A$1,COLUMN()-2,1) -> 43132 | AD1: =DATE($A$1,COLUMN()-3,1) -> 43160 | AF1: =DATE($A$1,COLUMN()-4,1) -> 43191 | AH1: =DATE($A$1,COLUMN()-5,1) -> 43221 | AJ1: =DATE($A$1,COLUMN()-6,1) -> 43252 | AL1: =DATE($A$1,COLUMN()-7,1) -> 43282 | AN1: =DATE($A$1,COLUMN()-8,1) -> 43313
R2: =DATE($A$1,COLUMN()-9,ROW()-1) -> 42614 | S2: =IFERROR(OFFSET(grille!$A$1,MOD(INT((R2-lundi1er)/7),42)+1,WEEKDAY(calendrier!R2,2)),"") -> REPOS ROSE | T2: =DATE($A$1,COLUMN()-10,ROW()-1) -> 42644 | U2: =IFERROR(OFFSET(grille!$A$1,MOD(INT((T2-lundi1er)/7),42)+1,WEEKDAY(calendrier!T2,2)),"") -> WE BLEU | V2: =DATE($A$1,COLUMN()-11,ROW()-1) -> 42675 | W2: =IFERROR(OFFSET(grille!$A$1,MOD(INT((V2-lundi1er)/7),42)+1,WEEKDAY(calendrier!V2,2)),"") -> . | X2: =DATE($A$1,COLUMN()-12,ROW()-1) -> 42705 | Y2: =IFERROR(OFFSET(grille!$A$1,MOD(INT((X2-lundi1er)/7),42)+1,WEEKDAY(calendrier!X2,2)),"") -> REPOS BLEU | Z2: =DATE($A$7,COLUMN()-1,ROW()-1) -> 43466 | AA2: =IFERROR(OFFSET(grille!$A$1,MOD(INT((Z2-lundi1er)/7),42)+1,WEEKDAY(calendrier!Z2,2)),"") -> . | AB2: =DATE($A$7,COLUMN()-2,ROW()-1) -> 43497 | AC2: =IFERROR(OFFSET(grille!$A$1,MOD(INT((AB2-lundi1er)/7),42)+1,WEEKDAY(calendrier!AB2,2)),"") -> . | AD2: =DATE($A$7,COLUMN()-3,ROW()-1) -> 43525 | AE2: =IFERROR(OFFSET(grille!$A$1,MOD(INT((AD2-lundi1er)/7),42)+1,WEEKDAY(calendrier!AD2,2)),"") -> . | AF2: =DATE($A$7,COLUMN()-4,ROW()-1) -> 43556 | AG2: =IFERROR(OFFSET(grille!$A$1,MOD(INT((AF2-lundi1er)/7),42)+1,WEEKDAY(calendrier!AF2,2)),"") -> REPOS VERT | AH2: =DATE($A$7,COLUMN()-5,ROW()-1) -> 43586 | AI2: =IFERROR(OFFSET(grille!$A$1,MOD(INT((AH2-lundi1er)/7),42)+1,WEEKDAY(calendrier!AH2,2)),"") -> REPOS BLEU | AJ2: =DATE($A$7,COLUMN()-6,ROW()-1) -> 43617 | AK2: =IFERROR(OFFSET(grille!$A$1,MOD(INT((AJ2-lundi1er)/7),42)+1,WEEKDAY(calendrier!AJ2,2)),"") -> WE VERT | AL2: =DATE($A$7,COLUMN()-7,ROW()-1) -> 43647 | AN2: =DATE($A$7,COLUMN()-8,ROW()-1) -> 43678
R3: =DATE($A$1,COLUMN()-9,ROW()-1) -> 42615 | S3: =IFERROR(OFFSET(grille!$A$1,MOD(INT((R3-lundi1er)/7),42)+1,WEEKDAY(calendrier!R3,2)),"") -> . | T3: =DATE($A$1,COLUMN()-10,ROW()-1) -> 42645 | U3: =IFERROR(OFFSET(grille!$A$1,MOD(INT((T3-lundi1er)/7),42)+1,WEEKDAY(calendrier!T3,2)),"") -> WE BLEU | V3: =DATE($A$1,COLUMN()-11,ROW()-1) -> 42676 | W3: =IFERROR(OFFSET(grille!$A$1,MOD(INT((V3-lundi1er)/7),42)+1,WEEKDAY(calendrier!V3,2)),"") -> REPOS ROSE | X3: =DATE($A$1,COLUMN()-12,ROW()-1) -> 42706 | Y3: =IFERROR(OFFSET(grille!$A$1,MOD(INT((X3-lundi1er)/7),42)+1,WEEKDAY(calendrier!X3,2)),"") -> . | Z3: =DATE($A$7,COLUMN()-1,ROW()-1) -> 43467 | AA3: =IFERROR(OFFSET(grille!$A$1,MOD(INT((Z3-lundi1er)/7),42)+1,WEEKDAY(calendrier!Z3,2)),"") -> REPOS VERT | AB3: =DATE($A$7,COLUMN()-2,ROW()-1) -> 43498 | AC3: =IFERROR(OFFSET(grille!$A$1,MOD(INT((AB3-lundi1er)/7),42)+1,WEEKDAY(calendrier!AB3,2)),"") -> WE ROSE | AD3: =DATE($A$7,COLUMN()-3,ROW()-1) -> 43526 | AE3: =IFERROR(OFFSET(grille!$A$1,MOD(INT((AD3-lundi1er)/7),42)+1,WEEKDAY(calendrier!AD3,2)),"") -> WE BLEU | AF3: =DATE($A$7,COLUMN()-4,ROW()-1) -> 43557 | AG3: =IFERROR(OFFSET(grille!$A$1,MOD(INT((AF3-lundi1er)/7),42)+1,WEEKDAY(calendrier!AF3,2)),"") -> . | AH3: =DATE($A$7,COLUMN()-5,ROW()-1) -> 43587 | AI3: =IFERROR(OFFSET(grille!$A$1,MOD(INT((AH3-lundi1er)/7),42)+1,WEEKDAY(calendrier!AH3,2)),"") -> REPOS BLEU | AJ3: =DATE($A$7,COLUMN()-6,ROW()-1) -> 43618 | AK3: =IFERROR(OFFSET(grille!$A$1,MOD(INT((AJ3-lundi1er)/7),42)+1,WEEKDAY(calendrier!AJ3,2)),"") -> WE VERT | AL3: =DATE($A$7,COLUMN()-7,ROW()-1) -> 43648 | AN3: =DATE($A$7,COLUMN()-8,ROW()-1) -> 43679
R4: =DATE($A$1,COLUMN()-9,ROW()-1) -> 42616 | S4: =IFERROR(OFFSET(grille!$A$1,MOD(INT((R4-lundi1er)/7),42)+1,WEEKDAY(calendrier!R4,2)),"") -> WE ROSE | T4: =DATE($A$1,COLUMN()-10,ROW()-1) -> 42646 | U4: =IFERROR(OFFSET(grille!$A$1,MOD(INT((T4-lundi1er)/7),42)+1,WEEKDAY(calendrier!T4,2)),"") -> REPOS BLEU | V4: =DATE($A$1,COLUMN()-11,ROW()-1) -> 42677 | W4: =IFERROR(OFFSET(grille!$A$1,MOD(INT((V4-lundi1er)/7),42)+1,WEEKDAY(calendrier!V4,2)),"") -> REPOS ROSE | X4: =DATE($A$1,COLUMN()-12,ROW()-1) -> 42707 | Y4: =IFERROR(OFFSET(grille!$A$1,MOD(INT((X4-lundi1er)/7),42)+1,WEEKDAY(calendrier!X4,2)),"") -> WE BLEU | Z4: =DATE($A$7,COLUMN()-1,ROW()-1) -> 43468 | AA4: =IFERROR(OFFSET(grille!$A$1,MOD(INT((Z4-lundi1er)/7),42)+1,WEEKDAY(calendrier!Z4,2)),"") -> REPOS VERT | AB4: =DATE($A$7,COLUMN()-2,ROW()-1) -> 43499 | AC4: =IFERROR(OFFSET(grille!$A$1,MOD(INT((AB4-lundi1er)/7),42)+1,WEEKDAY(calendrier!AB4,2)),"") -> WE ROSE | AD4: =DATE($A$7,COLUMN()-3,ROW()-1) -> 43527 | AE4: =IFERROR(OFFSET(grille!$A$1,MOD(INT((AD4-lundi1er)/7),42)+1,WEEKDAY(calendrier!AD4,2)),"") -> WE BLEU | AF4: =DATE($A$7,COLUMN()-4,ROW()-1) -> 43558 | AG4: =IFERROR(OFFSET(grille!$A$1,MOD(INT((AF4-lundi1er)/7),42)+1,WEEKDAY(calendrier!AF4,2)),"") -> REPOS ROSE | AH4: =DATE($A$7,COLUMN()-5,ROW()-1) -> 43588 | AI4: =IFERROR(OFFSET(grille!$A$1,MOD(INT((AH4-lundi1er)/7),42)+1,WEEKDAY(calendrier!AH4,2)),"") -> . | AJ4: =DATE($A$7,COLUMN()-6,ROW()-1) -> 43619 | AK4: =IFERROR(OFFSET(grille!$A$1,MOD(INT((AJ4-lundi1er)/7),42)+1,WEEKDAY(calendrier!AJ4,2)),"") -> REPOS VERT | AL4: =DATE($A$7,COLUMN()-7,ROW()-1) -> 43649 | AN4: =DATE($A$7,COLUMN()-8,ROW()-1) -> 43680
A5: 42618 | R5: =DATE($A$1,COLUMN()-9,ROW()-1) -> 42617 | S5: =IFERROR(OFFSET(grille!$A$1,MOD(INT((R5-lundi1er)/7),42)+1,WEEKDAY(calendrier!R5,2)),"") -> WE ROSE | T5: =DATE($A$1,COLUMN()-10,ROW()-1) -> 42647 | U5: =IFERROR(OFFSET(grille!$A$1,MOD(INT((T5-lundi1er)/7),42)+1,WEEKDAY(calendrier!T5,2)),"") -> . | V5: =DATE($A$1,COLUMN()-11,ROW()-1) -> 42678 | W5: =IFERROR(OFFSET(grille!$A$1,MOD(INT((V5-lundi1er)/7),42)+1,WEEKDAY(calendrier!V5,2)),"") -> . | X5: =DATE($A$1,COLUMN()-12,ROW()-1) -> 42708 | Y5: =IFERROR(OFFSET(grille!$A$1,MOD(INT((X5-lundi1er)/7),42)+1,WEEKDAY(calendrier!X5,2)),"") -> WE BLEU | Z5: =DATE($A$7,COLUMN()-1,ROW()-1) -> 43469 | AA5: =IFERROR(OFFSET(grille!$A$1,MOD(INT((Z5-lundi1er)/7),42)+1,WEEKDAY(calendrier!Z5,2)),"") -> . | AB5: =DATE($A$7,COLUMN()-2,ROW()-1) -> 43500 | AC5: =IFERROR(OFFSET(grille!$A$1,MOD(INT((AB5-lundi1er)/7),42)+1,WEEKDAY(calendrier!AB5,2)),"") -> REPOS ROSE | AD5: =DATE($A$7,COLUMN()-3,ROW()-1) -> 43528 | AE5: =IFERROR(OFFSET(grille!$A$1,MOD(INT((AD5-lundi1er)/7),42)+1,WEEKDAY(calendrier!AD5,2)),"") -> REPOS BLEU | AF5: =DATE($A$7,COLUMN()-4,ROW()-1) -> 43559 | AG5: =IFERROR(OFFSET(grille!$A$1,MOD(INT((AF5-lundi1er)/7),42)+1,WEEKDAY(calendrier!AF5,2)),"") -> REPOS ROSE | AH5: =DATE($A$7,COLUMN()-5,ROW()-1) -> 43589 | AI5: =IFERROR(OFFSET(grille!$A$1,MOD(INT((AH5-lundi1er)/7),42)+1,WEEKDAY(calendrier!AH5,2)),"") -> WE BLEU | AJ5: =DATE($A$7,COLUMN()-6,ROW()-1) -> 43620 | AK5: =IFERROR(OFFSET(grille!$A$1,MOD(INT((AJ5-lundi1er)/7),42)+1,WEEKDAY(calendrier!AJ5,2)),"") -> . | AL5: =DATE($A$7,COLUMN()-7,ROW()-1) -> 43650 | AN5: =DATE($A$7,COLUMN()-8,ROW()-1) -> 43681
R6: =DATE($A$1,COLUMN()-9,ROW()-1) -> 42618 | S6: =IFERROR(OFFSET(grille!$A$1,MOD(INT((R6-lundi1er)/7),42)+1,WEEKDAY(calendrier!R6,2)),"") -> REPOS ROSE | T6: =DATE($A$1,COLUMN()-10,ROW()-1) -> 42648 | U6: =IFERROR(OFFSET(grille!$A$1,MOD(INT((T6-lundi1er)/7),42)+1,WEEKDAY(calendrier!T6,2)),"") -> REPOS VERT | V6: =DATE($A$1,COLUMN()-11,ROW()-1) -> 42679 | W6: =IFERROR(OFFSET(grille!$A$1,MOD(INT((V6-lundi1er)/7),42)+1,WEEKDAY(calendrier!V6,2)),"") -> WE ROSE | X6: =DATE($A$1,COLUMN()-12,ROW()-1) -> 42709 | Y6: =IFERROR(OFFSET(grille!$A$1,MOD(INT((X6-lundi1er)/7),42)+1,WEEKDAY(calendrier!X6,2)),"") -> REPOS BLEU | Z6: =DATE($A$7,COLUMN()-1,ROW()-1) -> 43470 | AA6: =IFERROR(OFFSET(grille!$A$1,MOD(INT((Z6-lundi1er)/7),42)+1,WEEKDAY(calendrier!Z6,2)),"") -> WE VERT | AB6: =DATE($A$7,COLUMN()-2,ROW()-1) -> 43501 | AC6: =IFERROR(OFFSET(grille!$A$1,MOD(INT((AB6-lundi1er)/7),42)+1,WEEKDAY(calendrier!AB6,2)),"") -> . | AD6: =DATE($A$7,COLUMN()-3,ROW()-1) -> 43529 | AE6: =IFERROR(OFFSET(grille!$A$1,MOD(INT((AD6-lundi1er)/7),42)+1,WEEKDAY(calendrier!AD6,2)),"") -> . | AF6: =DATE($A$7,COLUMN()-4,ROW()-1) -> 43560 | AG6: =IFERROR(OFFSET(grille!$A$1,MOD(INT((AF6-lundi1er)/7),42)+1,WEEKDAY(calendrier!AF6,2)),"") -> . | AH6: =DATE($A$7,COLUMN()-5,ROW()-1) -> 43590 | AI6: =IFERROR(OFFSET(grille!$A$1,MOD(INT((AH6-lundi1er)/7),42)+1,WEEKDAY(calendrier!AH6,2)),"") -> WE BLEU | AJ6: =DATE($A$7,COLUMN()-6,ROW()-1) -> 43621 | AK6: =IFERROR(OFFSET(grille!$A$1,MOD(INT((AJ6-lundi1er)/7),42)+1,WEEKDAY(calendrier!AJ6,2)),"") -> REPOS ROSE | AL6: =DATE($A$7,COLUMN()-7,ROW()-1) -> 43651 | AN6: =DATE($A$7,COLUMN()-8,ROW()-1) -> 43682
A7: =SUM(A1+1) -> 2017 | R7: =DATE($A$1,COLUMN()-9,ROW()-1) -> 42619 | S7: =IFERROR(OFFSET(grille!$A$1,MOD(INT((R7-lundi1er)/7),42)+1,WEEKDAY(calendrier!R7,2)),"") -> . | T7: =DATE($A$1,COLUMN()-10,ROW()-1) -> 42649 | U7: =IFERROR(OFFSET(grille!$A$1,MOD(INT((T7-lundi1er)/7),42)+1,WEEKDAY(calendrier!T7,2)),"") -> REPOS VERT | V7: =DATE($A$1,COLUMN()-11,ROW()-1) -> 42680 | W7: =IFERROR(OFFSET(grille!$A$1,MOD(INT((V7-lundi1er)/7),42)+1,WEEKDAY(calendrier!V7,2)),"") -> WE ROSE | X7: =DATE($A$1,COLUMN()-12,ROW()-1) -> 42710 | Y7: =IFERROR(OFFSET(grille!$A$1,MOD(INT((X7-lundi1er)/7),42)+1,WEEKDAY(calendrier!X7,2)),"") -> . | Z7: =DATE($A$7,COLUMN()-1,ROW()-1) -> 43471 | AA7: =IFERROR(OFFSET(grille!$A$1,MOD(INT((Z7-lundi1er)/7),42)+1,WEEKDAY(calendrier!Z7,2)),"") -> WE VERT | AB7: =DATE($A$7,COLUMN()-2,ROW()-1) -> 43502 | AC7: =IFERROR(OFFSET(grille!$A$1,MOD(INT((AB7-lundi1er)/7),42)+1,WEEKDAY(calendrier!AB7,2)),"") -> REPOS BLEU | AD7: =DATE($A$7,COLUMN()-3,ROW()-1) -> 43530 | AE7: =IFERROR(OFFSET(grille!$A$1,MOD(INT((AD7-lundi1er)/7),42)+1,WEEKDAY(calendrier!AD7,2)),"") -> REPOS VERT | AF7: =DATE($A$7,COLUMN()-4,ROW()-1) -> 43561 | AG7: =IFERROR(OFFSET(grille!$A$1,MOD(INT((AF7-lundi1er)/7),42)+1,WEEKDAY(calendrier!AF7,2)),"") -> WE ROSE | AH7: =DATE($A$7,COLUMN()-5,ROW()-1) -> 43591 | AI7: =IFERROR(OFFSET(grille!$A$1,MOD(INT((AH7-lundi1er)/7),42)+1,WEEKDAY(calendrier!AH7,2)),"") -> REPOS BLEU | AJ7: =DATE($A$7,COLUMN()-6,ROW()-1) -> 43622 | AK7: =IFERROR(OFFSET(grille!$A$1,MOD(INT((AJ7-lundi1er)/7),42)+1,WEEKDAY(calendrier!AJ7,2)),"") -> REPOS ROSE | AL7: =DATE($A$7,COLUMN()-7,ROW()-1) -> 43652 | AN7: =DATE($A$7,COLUMN()-8,ROW()-1) -> 43683
A8: 2018 | R8: =DATE($A$1,COLUMN()-9,ROW()-1) -> 42620 | S8: =IFERROR(OFFSET(grille!$A$1,MOD(INT((R8-lundi1er)/7),42)+1,WEEKDAY(calendrier!R8,2)),"") -> REPOS BLEU | T8: =DATE($A$1,COLUMN()-10,ROW()-1) -> 42650 | U8: =IFERROR(OFFSET(grille!$A$1,MOD(INT((T8-lundi1er)/7),42)+1,WEEKDAY(calendrier!T8,2)),"") -> . | V8: =DATE($A$1,COLUMN()-11,ROW()-1) -> 42681 | W8: =IFERROR(OFFSET(grille!$A$1,MOD(INT((V8-lundi1er)/7),42)+1,WEEKDAY(calendrier!V8,2)),"") -> REPOS ROSE | X8: =DATE($A$1,COLUMN()-12,ROW()-1) -> 42711 | Y8: =IFERROR(OFFSET(grille!$A$1,MOD(INT((X8-lundi1er)/7),42)+1,WEEKDAY(calendrier!X8,2)),"") -> REPOS VERT | Z8: =DATE($A$7,COLUMN()-1,ROW()-1) -> 43472 | AA8: =IFERROR(OFFSET(grille!$A$1,MOD(INT((Z8-lundi1er)/7),42)+1,WEEKDAY(calendrier!Z8,2)),"") -> REPOS VERT | AB8: =DATE($A$7,COLUMN()-2,ROW()-1) -> 43503 | AC8: =IFERROR(OFFSET(grille!$A$1,MOD(INT((AB8-lundi1er)/7),42)+1,WEEKDAY(calendrier!AB8,2)),"") -> REPOS BLEU | AD8: =DATE($A$7,COLUMN()-3,ROW()-1) -> 43531 | AE8: =IFERROR(OFFSET(grille!$A$1,MOD(INT((AD8-lundi1er)/7),42)+1,WEEKDAY(calendrier!AD8,2)),"") -> REPOS VERT | AF8: =DATE($A$7,COLUMN()-4,ROW()-1) -> 43562 | AG8: =IFERROR(OFFSET(grille!$A$1,MOD(INT((AF8-lundi1er)/7),42)+1,WEEKDAY(calendrier!AF8,2)),"") -> WE ROSE | AH8: =DATE($A$7,COLUMN()-5,ROW()-1) -> 43592 | AI8: =IFERROR(OFFSET(grille!$A$1,MOD(INT((AH8-lundi1er)/7),42)+1,WEEKDAY(calendrier!AH8,2)),"") -> . | AJ8: =DATE($A$7,COLUMN()-6,ROW()-1) -> 43623 | AK8: =IFERROR(OFFSET(grille!$A$1,MOD(INT((AJ8-lundi1er)/7),42)+1,WEEKDAY(calendrier!AJ8,2)),"") -> . | AL8: =DATE($A$7,COLUMN()-7,ROW()-1) -> 43653 | AN8: =DATE($A$7,COLUMN()-8,ROW()-1) -> 43684
A9: 2019 | R9: =DATE($A$1,COLUMN()-9,ROW()-1) -> 42621 | S9: =IFERROR(OFFSET(grille!$A$1,MOD(INT((R9-lundi1er)/7),42)+1,WEEKDAY(calendrier!R9,2)),"") -> REPOS BLEU | T9: =DATE($A$1,COLUMN()-10,ROW()-1) -> 42651 | U9: =IFERROR(OFFSET(grille!$A$1,MOD(INT((T9-lundi1er)/7),42)+1,WEEKDAY(calendrier!T9,2)),"") -> WE VERT | V9: =DATE($A$1,COLUMN()-11,ROW()-1) -> 42682 | W9: =IFERROR(OFFSET(grille!$A$1,MOD(INT((V9-lundi1er)/7),42)+1,WEEKDAY(calendrier!V9,2)),"") -> . | X9: =DATE($A$1,COLUMN()-12,ROW()-1) -> 42712 | Y9: =IFERROR(OFFSET(grille!$A$1,MOD(INT((X9-lundi1er)/7),42)+1,WEEKDAY(calendrier!X9,2)),"") -> REPOS VERT | Z9: =DATE($A$7,COLUMN()-1,ROW()-1) -> 43473 | AA9: =IFERROR(OFFSET(grille!$A$1,MOD(INT((Z9-lundi1er)/7),42)+1,WEEKDAY(calendrier!Z9,2)),"") -> . | AB9: =DATE($A$7,COLUMN()-2,ROW()-1) -> 43504 | AC9: =IFERROR(OFFSET(grille!$A$1,MOD(INT((AB9-lundi1er)/7),42)+1,WEEKDAY(calendrier!AB9,2)),"") -> . | AD9: =DATE($A$7,COLUMN()-3,ROW()-1) -> 43532 | AE9: =IFERROR(OFFSET(grille!$A$1,MOD(INT((AD9-lundi1er)/7),42)+1,WEEKDAY(calendrier!AD9,2)),"") -> . | AF9: =DATE($A$7,COLUMN()-4,ROW()-1) -> 43563 | AG9: =IFERROR(OFFSET(grille!$A$1,MOD(INT((AF9-lundi1er)/7),42)+1,WEEKDAY(calendrier!AF9,2)),"") -> REPOS ROSE | AH9: =DATE($A$7,COLUMN()-5,ROW()-1) -> 43593 | AI9: =IFERROR(OFFSET(grille!$A$1,MOD(INT((AH9-lundi1er)/7),42)+1,WEEKDAY(calendrier!AH9,2)),"") -> REPOS VERT | AJ9: =DATE($A$7,COLUMN()-6,ROW()-1) -> 43624 | AK9: =IFERROR(OFFSET(grille!$A$1,MOD(INT((AJ9-lundi1er)/7),42)+1,WEEKDAY(calendrier!AJ9,2)),"") -> WE ROSE | AL9: =DATE($A$7,COLUMN()-7,ROW()-1) -> 43654 | AN9: =DATE($A$7,COLUMN()-8,ROW()-1) -> 43685
A10: 2020 | R10: =DATE($A$1,COLUMN()-9,ROW()-1) -> 42622 | S10: =IFERROR(OFFSET(grille!$A$1,MOD(INT((R10-lundi1er)/7),42)+1,WEEKDAY(calendrier!R10,2)),"") -> . | T10: =DATE($A$1,COLUMN()-10,ROW()-1) -> 42652 | U10: =IFERROR(OFFSET(grille!$A$1,MOD(INT((T10-lundi1er)/7),42)+1,WEEKDAY(calendrier!T10,2)),"") -> WE VERT | V10: =DATE($A$1,COLUMN()-11,ROW()-1) -> 42683 | W10: =IFERROR(OFFSET(grille!$A$1,MOD(INT((V10-lundi1er)/7),42)+1,WEEKDAY(calendrier!V10,2)),"") -> REPOS BLEU | X10: =DATE($A$1,COLUMN()-12,ROW()-1) -> 42713 | Y10: =IFERROR(OFFSET(grille!$A$1,MOD(INT((X10-lundi1er)/7),42)+1,WEEKDAY(calendrier!X10,2)),"") -> . | Z10: =DATE($A$7,COLUMN()-1,ROW()-1) -> 43474 | AA10: =IFERROR(OFFSET(grille!$A$1,MOD(INT((Z10-lundi1er)/7),42)+1,WEEKDAY(calendrier!Z10,2)),"") -> REPOS ROSE | AB10: =DATE($A$7,COLUMN()-2,ROW()-1) -> 43505 | AC10: =IFERROR(OFFSET(grille!$A$1,MOD(INT((AB10-lundi1er)/7),42)+1,WEEKDAY(calendrier!AB10,2)),"") -> WE BLEU | AD10: =DATE($A$7,COLUMN()-3,ROW()-1) -> 43533 | AE10: =IFERROR(OFFSET(grille!$A$1,MOD(INT((AD10-lundi1er)/7),42)+1,WEEKDAY(calendrier!AD10,2)),"") -> WE VERT | AF10: =DATE($A$7,COLUMN()-4,ROW()-1) -> 43564 | AG10: =IFERROR(OFFSET(grille!$A$1,MOD(INT((AF10-lundi1er)/7),42)+1,WEEKDAY(calendrier!AF10,2)),"") -> . | AH10: =DATE($A$7,COLUMN()-5,ROW()-1) -> 43594 | AI10: =IFERROR(OFFSET(grille!$A$1,MOD(INT((AH10-lundi1er)/7),42)+1,WEEKDAY(calendrier!AH10,2)),"") -> REPOS VERT | AJ10: =DATE($A$7,COLUMN()-6,ROW()-1) -> 43625 | AK10: =IFERROR(OFFSET(grille!$A$1,MOD(INT((AJ10-lundi1er)/7),42)+1,WEEKDAY(calendrier!AJ10,2)),"") -> WE ROSE | AL10: =DATE($A$7,COLUMN()-7,ROW()-1) -> 43655 | AN10: =DATE($A$7,COLUMN()-8,ROW()-1) -> 43686
A11: 2021 | R11: =DATE($A$1,COLUMN()-9,ROW()-1) -> 42623 | S11: =IFERROR(OFFSET(grille!$A$1,MOD(INT((R11-lundi1er)/7),42)+1,WEEKDAY(calendrier!R11,2)),"") -> WE BLEU | T11: =DATE($A$1,COLUMN()-10,ROW()-1) -> 42653 | U11: =IFERROR(OFFSET(grille!$A$1,MOD(INT((T11-lundi1er)/7),42)+1,WEEKDAY(calendrier!T11,2)),"") -> REPOS VERT | V11: =DATE($A$1,COLUMN()-11,ROW()-1) -> 42684 | W11: =IFERROR(OFFSET(grille!$A$1,MOD(INT((V11-lundi1er)/7),42)+1,WEEKDAY(calendrier!V11,2)),"") -> REPOS BLEU | X11: =DATE($A$1,COLUMN()-12,ROW()-1) -> 42714 | Y11: =IFERROR(OFFSET(grille!$A$1,MOD(INT((X11-lundi1er)/7),42)+1,WEEKDAY(calendrier!X11,2)),"") -> WE VERT | Z11: =DATE($A$7,COLUMN()-1,ROW()-1) -> 43475 | AA11: =IFERROR(OFFSET(grille!$A$1,MOD(INT((Z11-lundi1er)/7),42)+1,WEEKDAY(calendrier!Z11,2)),"") -> REPOS ROSE | AB11: =DATE($A$7,COLUMN()-2,ROW()-1) -> 43506 | AC11: =IFERROR(OFFSET(grille!$A$1,MOD(INT((AB11-lundi1er)/7),42)+1,WEEKDAY(calendrier!AB11,2)),"") -> WE BLEU | AD11: =DATE($A$7,COLUMN()-3,ROW()-1) -> 43534 | AE11: =IFERROR(OFFSET(grille!$A$1,MOD(INT((AD11-lundi1er)/7),42)+1,WEEKDAY(calendrier!AD11,2)),"") -> WE VERT | AF11: =DATE($A$7,COLUMN()-4,ROW()-1) -> 43565 | AG11: =IFERROR(OFFSET(grille!$A$1,MOD(INT((AF11-lundi1er)/7),42)+1,WEEKDAY(calendrier!AF11,2)),"") -> REPOS BLEU | AH11: =DATE($A$7,COLUMN()-5,ROW()-1) -> 43595 | AI11: =IFERROR(OFFSET(grille!$A$1,MOD(INT((AH11-lundi1er)/7),42)+1,WEEKDAY(calendrier!AH11,2)),"") -> . | AJ11: =DATE($A$7,COLUMN()-6,ROW()-1) -> 43626 | AK11: =IFERROR(OFFSET(grille!$A$1,MOD(INT((AJ11-lundi1er)/7),42)+1,WEEKDAY(calendrier!AJ11,2)),"") -> REPOS ROSE | AL11: =DATE($A$7,COLUMN()-7,ROW()-1) -> 43656 | AN11: =DATE($A$7,COLUMN()-8,ROW()-1) -> 43687
A12: 2022 | R12: =DATE($A$1,COLUMN()-9,ROW()-1) -> 42624 | S12: =IFERROR(OFFSET(grille!$A$1,MOD(INT((R12-lundi1er)/7),42)+1,WEEKDAY(calendrier!R12,2)),"") -> WE BLEU | T12: =DATE($A$1,COLUMN()-10,ROW()-1) -> 42654 | U12: =IFERROR(OFFSET(grille!$A$1,MOD(INT((T12-lundi1er)/7),42)+1,WEEKDAY(calendrier!T12,2)),"") -> . | V12: =DATE($A$1,COLUMN()-11,ROW()-1) -> 42685 | W12: =IFERROR(OFFSET(grille!$A$1,MOD(INT((V12-lundi1er)/7),42)+1,WEEKDAY(calendrier!V12,2)),"") -> . | X12: =DATE($A$1,COLUMN()-12,ROW()-1) -> 42715 | Y12: =IFERROR(OFFSET(grille!$A$1,MOD(INT((X12-lundi1er)/7),42)+1,WEEKDAY(calendrier!X12,2)),"") -> WE VERT | Z12: =DATE($A$7,COLUMN()-1,ROW()-1) -> 43476 | AA12: =IFERROR(OFFSET(grille!$A$1,MOD(INT((Z12-lundi1er)/7),42)+1,WEEKDAY(calendrier!Z12,2)),"") -> . | AB12: =DATE($A$7,COLUMN()-2,ROW()-1) -> 43507 | AC12: =IFERROR(OFFSET(grille!$A$1,MOD(INT((AB12-lundi1er)/7),42)+1,WEEKDAY(calendrier!AB12,2)),"") -> REPOS BLEU | AD12: =DATE($A$7,COLUMN()-3,ROW()-1) -> 43535 | AE12: =IFERROR(OFFSET(grille!$A$1,MOD(INT((AD12-lundi1er)/7),42)+1,WEEKDAY(calendrier!AD12,2)),"") -> REPOS VERT | AF12: =DATE($A$7,COLUMN()-4,ROW()-1) -> 43566 | AG12: =IFERROR(OFFSET(grille!$A$1,MOD(INT((AF12-lundi1er)/7),42)+1,WEEKDAY(calendrier!AF12,2)),"") -> REPOS BLEU | AH12: =DATE($A$7,COLUMN()-5,ROW()-1) -> 43596 | AI12: =IFERROR(OFFSET(grille!$A$1,MOD(INT((AH12-lundi1er)/7),42)+1,WEEKDAY(calendrier!AH12,2)),"") -> WE VERT | AJ12: =DATE($A$7,COLUMN()-6,ROW()-1) -> 43627 | AK12: =IFERROR(OFFSET(grille!$A$1,MOD(INT((AJ12-lundi1er)/7),42)+1,WEEKDAY(calendrier!AJ12,2)),"") -> . | AL12: =DATE($A$7,COLUMN()-7,ROW()-1) -> 43657 | AN12: =DATE($A$7,COLUMN()-8,ROW()-1) -> 43688
A13: 2023 | R13: =DATE($A$1,COLUMN()-9,ROW()-1) -> 42625 | S13: =IFERROR(OFFSET(grille!$A$1,MOD(INT((R13-lundi1er)/7),42)+1,WEEKDAY(calendrier!R13,2)),"") -> REPOS BLEU | T13: =DATE($A$1,COLUMN()-10,ROW()-1) -> 42655 | U13: =IFERROR(OFFSET(grille!$A$1,MOD(INT((T13-lundi1er)/7),42)+1,WEEKDAY(calendrier!T13,2)),"") -> REPOS ROSE | V13: =DATE($A$1,COLUMN()-11,ROW()-1) -> 42686 | W13: =IFERROR(OFFSET(grille!$A$1,MOD(INT((V13-lundi1er)/7),42)+1,WEEKDAY(calendrier!V13,2)),"") -> WE BLEU | X13: =DATE($A$1,COLUMN()-12,ROW()-1) -> 42716 | Y13: =IFERROR(OFFSET(grille!$A$1,MOD(INT((X13-lundi1er)/7),42)+1,WEEKDAY(calendrier!X13,2)),"") -> REPOS VERT | Z13: =DATE($A$7,COLUMN()-1,ROW()-1) -> 43477 | AA13: =IFERROR(OFFSET(grille!$A$1,MOD(INT((Z13-lundi1er)/7),42)+1,WEEKDAY(calendrier!Z13,2)),"") -> WE ROSE | AB13: =DATE($A$7,COLUMN()-2,ROW()-1) -> 43508 | AC13: =IFERROR(OFFSET(grille!$A$1,MOD(INT((AB13-lundi1er)/7),42)+1,WEEKDAY(calendrier!AB13,2)),"") -> . | AD13: =DATE($A$7,COLUMN()-3,ROW()-1) -> 43536 | AE13: =IFERROR(OFFSET(grille!$A$1,MOD(INT((AD13-lundi1er)/7),42)+1,WEEKDAY(calendrier!AD13,2)),"") -> . | AF13: =DATE($A$7,COLUMN()-4,ROW()-1) -> 43567 | AG13: =IFERROR(OFFSET(grille!$A$1,MOD(INT((AF13-lundi1er)/7),42)+1,WEEKDAY(calendrier!AF13,2)),"") -> . | AH13: =DATE($A$7,COLUMN()-5,ROW()-1) -> 43597 | AI13: =IFERROR(OFFSET(grille!$A$1,MOD(INT((AH13-lundi1er)/7),42)+1,WEEKDAY(calendrier!AH13,2)),"") -> WE VERT | AJ13: =DATE($A$7,COLUMN()-6,ROW()-1) -> 43628 | AK13: =IFERROR(OFFSET(grille!$A$1,MOD(INT((AJ13-lundi1er)/7),42)+1,WEEKDAY(calendrier!AJ13,2)),"") -> REPOS BLEU | AL13: =DATE($A$7,COLUMN()-7,ROW()-1) -> 43658 | AN13: =DATE($A$7,COLUMN()-8,ROW()-1) -> 43689
A14: 2024 | R14: =DATE($A$1,COLUMN()-9,ROW()-1) -> 42626 | S14: =IFERROR(OFFSET(grille!$A$1,MOD(INT((R14-lundi1er)/7),42)+1,WEEKDAY(calendrier!R14,2)),"") -> . | T14: =DATE($A$1,COLUMN()-10,ROW()-1) -> 42656 | U14: =IFERROR(OFFSET(grille!$A$1,MOD(INT((T14-lundi1er)/7),42)+1,WEEKDAY(calendrier!T14,2)),"") -> REPOS ROSE | V14: =DATE($A$1,COLUMN()-11,ROW()-1) -> 42687 | W14: =IFERROR(OFFSET(grille!$A$1,MOD(INT((V14-lundi1er)/7),42)+1,WEEKDAY(calendrier!V14,2)),"") -> WE BLEU | X14: =DATE($A$1,COLUMN()-12,ROW()-1) -> 42717 | Y14: =IFERROR(OFFSET(grille!$A$1,MOD(INT((X14-lundi1er)/7),42)+1,WEEKDAY(calendrier!X14,2)),"") -> . | Z14: =DATE($A$7,COLUMN()-1,ROW()-1) -> 43478 | AA14: =IFERROR(OFFSET(grille!$A$1,MOD(INT((Z14-lundi1er)/7),42)+1,WEEKDAY(calendrier!Z14,2)),"") -> WE ROSE | AB14: =DATE($A$7,COLUMN()-2,ROW()-1) -> 43509 | AC14: =IFERROR(OFFSET(grille!$A$1,MOD(INT((AB14-lundi1er)/7),42)+1,WEEKDAY(calendrier!AB14,2)),"") -> REPOS VERT | AD14: =DATE($A$7,COLUMN()-3,ROW()-1) -> 43537 | AE14: =IFERROR(OFFSET(grille!$A$1,MOD(INT((AD14-lundi1er)/7),42)+1,WEEKDAY(calendrier!AD14,2)),"") -> REPOS ROSE | AF14: =DATE($A$7,COLUMN()-4,ROW()-1) -> 43568 | AG14: =IFERROR(OFFSET(grille!$A$1,MOD(INT((AF14-lundi1er)/7),42)+1,WEEKDAY(calendrier!AF14,2)),"") -> WE BLEU | AH14: =DATE($A$7,COLUMN()-5,ROW()-1) -> 43598 | AI14: =IFERROR(OFFSET(grille!$A$1,MOD(INT((AH14-lundi1er)/7),42)+1,WEEKDAY(calendrier!AH14,2)),"") -> REPOS VERT | AJ14: =DATE($A$7,COLUMN()-6,ROW()-1) -> 43629 | AK14: =IFERROR(OFFSET(grille!$A$1,MOD(INT((AJ14-lundi1er)/7),42)+1,WEEKDAY(calendrier!AJ14,2)),"") -> REPOS BLEU | AL14: =DATE($A$7,COLUMN()-7,ROW()-1) -> 43659 | AN14: =DATE($A$7,COLUMN()-8,ROW()-1) -> 43690
A15: 2025 | R15: =DATE($A$1,COLUMN()-9,ROW()-1) -> 42627 | S15: =IFERROR(OFFSET(grille!$A$1,MOD(INT((R15-lundi1er)/7),42)+1,WEEKDAY(calendrier!R15,2)),"") -> REPOS VERT | T15: =DATE($A$1,COLUMN()-10,ROW()-1) -> 42657 | U15: =IFERROR(OFFSET(grille!$A$1,MOD(INT((T15-lundi1er)/7),42)+1,WEEKDAY(calendrier!T15,2)),"") -> . | V15: =DATE($A$1,COLUMN()-11,ROW()-1) -> 42688 | W15: =IFERROR(OFFSET(grille!$A$1,MOD(INT((V15-lundi1er)/7),42)+1,WEEKDAY(calendrier!V15,2)),"") -> REPOS BLEU | X15: =DATE($A$1,COLUMN()-12,ROW()-1) -> 42718 | Y15: =IFERROR(OFFSET(grille!$A$1,MOD(INT((X15-lundi1er)/7),42)+1,WEEKDAY(calendrier!X15,2)),"") -> REPOS ROSE | Z15: =DATE($A$7,COLUMN()-1,ROW()-1) -> 43479 | AA15: =IFERROR(OFFSET(grille!$A$1,MOD(INT((Z15-lundi1er)/7),42)+1,WEEKDAY(calendrier!Z15,2)),"") -> REPOS ROSE | AB15: =DATE($A$7,COLUMN()-2,ROW()-1) -> 43510 | AC15: =IFERROR(OFFSET(grille!$A$1,MOD(INT((AB15-lundi1er)/7),42)+1,WEEKDAY(calendrier!AB15,2)),"") -> REPOS VERT | AD15: =DATE($A$7,COLUMN()-3,ROW()-1) -> 43538 | AE15: =IFERROR(OFFSET(grille!$A$1,MOD(INT((AD15-lundi1er)/7),42)+1,WEEKDAY(calendrier!AD15,2)),"") -> REPOS ROSE | AF15: =DATE($A$7,COLUMN()-4,ROW()-1) -> 43569 | AG15: =IFERROR(OFFSET(grille!$A$1,MOD(INT((AF15-lundi1er)/7),42)+1,WEEKDAY(calendrier!AF15,2)),"") -> WE BLEU | AH15: =DATE($A$7,COLUMN()-5,ROW()-1) -> 43599 | AI15: =IFERROR(OFFSET(grille!$A$1,MOD(INT((AH15-lundi1er)/7),42)+1,WEEKDAY(calendrier!AH15,2)),"") -> . | AJ15: =DATE($A$7,COLUMN()-6,ROW()-1) -> 43630 | AK15: =IFERROR(OFFSET(grille!$A$1,MOD(INT((AJ15-lundi1er)/7),42)+1,WEEKDAY(calendrier!AJ15,2)),"") -> . | AL15: =DATE($A$7,COLUMN()-7,ROW()-1) -> 43660 | AN15: =DATE($A$7,COLUMN()-8,ROW()-1) -> 43691
A16: 2026 | R16: =DATE($A$1,COLUMN()-9,ROW()-1) -> 42628 | S16: =IFERROR(OFFSET(grille!$A$1,MOD(INT((R16-lundi1er)/7),42)+1,WEEKDAY(calendrier!R16,2)),"") -> REPOS VERT | T16: =DATE($A$1,COLUMN()-10,ROW()-1) -> 42658 | U16: =IFERROR(OFFSET(grille!$A$1,MOD(INT((T16-lundi1er)/7),42)+1,WEEKDAY(calendrier!T16,2)),"") -> WE ROSE | V16: =DATE($A$1,COLUMN()-11,ROW()-1) -> 42689 | W16: =IFERROR(OFFSET(grille!$A$1,MOD(INT((V16-lundi1er)/7),42)+1,WEEKDAY(calendrier!V16,2)),"") -> . | X16: =DATE($A$1,COLUMN()-12,ROW()-1) -> 42719 | Y16: =IFERROR(OFFSET(grille!$A$1,MOD(INT((X16-lundi1er)/7),42)+1,WEEKDAY(calendrier!X16,2)),"") -> REPOS ROSE | Z16: =DATE($A$7,COLUMN()-1,ROW()-1) -> 43480 | AA16: =IFERROR(OFFSET(grille!$A$1,MOD(INT((Z16-lundi1er)/7),42)+1,WEEKDAY(calendrier!Z16,2)),"") -> . | AB16: =DATE($A$7,COLUMN()-2,ROW()-1) -> 43511 | AC16: =IFERROR(OFFSET(grille!$A$1,MOD(INT((AB16-lundi1er)/7),42)+1,WEEKDAY(calendrier!AB16,2)),"") -> . | AD16: =DATE($A$7,COLUMN()-3,ROW()-1) -> 43539 | AE16: =IFERROR(OFFSET(grille!$A$1,MOD(INT((AD16-lundi1er)/7),42)+1,WEEKDAY(calendrier!AD16,2)),"") -> . | AF16: =DATE($A$7,COLUMN()-4,ROW()-1) -> 43570 | AG16: =IFERROR(OFFSET(grille!$A$1,MOD(INT((AF16-lundi1er)/7),42)+1,WEEKDAY(calendrier!AF16,2)),"") -> REPOS BLEU | AH16: =DATE($A$7,COLUMN()-5,ROW()-1) -> 43600 | AI16: =IFERROR(OFFSET(grille!$A$1,MOD(INT((AH16-lundi1er)/7),42)+1,WEEKDAY(calendrier!AH16,2)),"") -> REPOS ROSE | AJ16: =DATE($A$7,COLUMN()-6,ROW()-1) -> 43631 | AK16: =IFERROR(OFFSET(grille!$A$1,MOD(INT((AJ16-lundi1er)/7),42)+1,WEEKDAY(calendrier!AJ16,2)),"") -> WE BLEU | AL16: =DATE($A$7,COLUMN()-7,ROW()-1) -> 43661 | AN16: =DATE($A$7,COLUMN()-8,ROW()-1) -> 43692
A17: 2027 | R17: =DATE($A$1,COLUMN()-9,ROW()-1) -> 42629 | S17: =IFERROR(OFFSET(grille!$A$1,MOD(INT((R17-lundi1er)/7),42)+1,WEEKDAY(calendrier!R17,2)),"") -> . | T17: =DATE($A$1,COLUMN()-10,ROW()-1) -> 42659 | U17: =IFERROR(OFFSET(grille!$A$1,MOD(INT((T17-lundi1er)/7),42)+1,WEEKDAY(calendrier!T17,2)),"") -> WE ROSE | V17: =DATE($A$1,COLUMN()-11,ROW()-1) -> 42690 | W17: =IFERROR(OFFSET(grille!$A$1,MOD(INT((V17-lundi1er)/7),42)+1,WEEKDAY(calendrier!V17,2)),"") -> REPOS VERT | X17: =DATE($A$1,COLUMN()-12,ROW()-1) -> 42720 | Y17: =IFERROR(OFFSET(grille!$A$1,MOD(INT((X17-lundi1er)/7),42)+1,WEEKDAY(calendrier!X17,2)),"") -> . | Z17: =DATE($A$7,COLUMN()-1,ROW()-1) -> 43481 | AA17: =IFERROR(OFFSET(grille!$A$1,MOD(INT((Z17-lundi1er)/7),42)+1,WEEKDAY(calendrier!Z17,2)),"") -> REPOS BLEU | AB17: =DATE($A$7,COLUMN()-2,ROW()-1) -> 43512 | AC17: =IFERROR(OFFSET(grille!$A$1,MOD(INT((AB17-lundi1er)/7),42)+1,WEEKDAY(calendrier!AB17,2)),"") -> WE VERT | AD17: =DATE($A$7,COLUMN()-3,ROW()-1) -> 43540 | AE17: =IFERROR(OFFSET(grille!$A$1,MOD(INT((AD17-lundi1er)/7),42)+1,WEEKDAY(calendrier!AD17,2)),"") -> WE ROSE | AF17: =DATE($A$7,COLUMN()-4,ROW()-1) -> 43571 | AG17: =IFERROR(OFFSET(grille!$A$1,MOD(INT((AF17-lundi1er)/7),42)+1,WEEKDAY(calendrier!AF17,2)),"") -> . | AH17: =DATE($A$7,COLUMN()-5,ROW()-1) -> 43601 | AI17: =IFERROR(OFFSET(grille!$A$1,MOD(INT((AH17-lundi1er)/7),42)+1,WEEKDAY(calendrier!AH17,2)),"") -> REPOS ROSE | AJ17: =DATE($A$7,COLUMN()-6,ROW()-1) -> 43632 | AK17: =IFERROR(OFFSET(grille!$A$1,MOD(INT((AJ17-lundi1er)/7),42)+1,WEEKDAY(calendrier!AJ17,2)),"") -> WE BLEU | AL17: =DATE($A$7,COLUMN()-7,ROW()-1) -> 43662 | AN17: =DATE($A$7,COLUMN()-8,ROW()-1) -> 43693
A18: 2028 | R18: =DATE($A$1,COLUMN()-9,ROW()-1) -> 42630 | S18: =IFERROR(OFFSET(grille!$A$1,MOD(INT((R18-lundi1er)/7),42)+1,WEEKDAY(calendrier!R18,2)),"") -> WE VERT | T18: =DATE($A$1,COLUMN()-10,ROW()-1) -> 42660 | U18: =IFERROR(OFFSET(grille!$A$1,MOD(INT((T18-lundi1er)/7),42)+1,WEEKDAY(calendrier!T18,2)),"") -> REPOS ROSE | V18: =DATE($A$1,COLUMN()-11,ROW()-1) -> 42691 | W18: =IFERROR(OFFSET(grille!$A$1,MOD(INT((V18-lundi1er)/7),42)+1,WEEKDAY(calendrier!V18,2)),"") -> REPOS VERT | X18: =DATE($A$1,COLUMN()-12,ROW()-1) -> 42721 | Y18: =IFERROR(OFFSET(grille!$A$1,MOD(INT((X18-lundi1er)/7),42)+1,WEEKDAY(calendrier!X18,2)),"") -> WE ROSE | Z18: =DATE($A$7,COLUMN()-1,ROW()-1) -> 43482 | AA18: =IFERROR(OFFSET(grille!$A$1,MOD(INT((Z18-lundi1er)/7),42)+1,WEEKDAY(calendrier!Z18,2)),"") -> REPOS BLEU | AB18: =DATE($A$7,COLUMN()-2,ROW()-1) -> 43513 | AC18: =IFERROR(OFFSET(grille!$A$1,MOD(INT((AB18-lundi1er)/7),42)+1,WEEKDAY(calendrier!AB18,2)),"") -> WE VERT | AD18: =DATE($A$7,COLUMN()-3,ROW()-1) -> 43541 | AE18: =IFERROR(OFFSET(grille!$A$1,MOD(INT((AD18-lundi1er)/7),42)+1,WEEKDAY(calendrier!AD18,2)),"") -> WE ROSE | AF18: =DATE($A$7,COLUMN()-4,ROW()-1) -> 43572 | AG18: =IFERROR(OFFSET(grille!$A$1,MOD(INT((AF18-lundi1er)/7),42)+1,WEEKDAY(calendrier!AF18,2)),"") -> REPOS VERT | AH18: =DATE($A$7,COLUMN()-5,ROW()-1) -> 43602 | AI18: =IFERROR(OFFSET(grille!$A$1,MOD(INT((AH18-lundi1er)/7),42)+1,WEEKDAY(calendrier!AH18,2)),"") -> . | AJ18: =DATE($A$7,COLUMN()-6,ROW()-1) -> 43633 | AK18: =IFERROR(OFFSET(grille!$A$1,MOD(INT((AJ18-lundi1er)/7),42)+1,WEEKDAY(calendrier!AJ18,2)),"") -> REPOS BLEU | AL18: =DATE($A$7,COLUMN()-7,ROW()-1) -> 43663 | AN18: =DATE($A$7,COLUMN()-8,ROW()-1) -> 43694
A19: 2029 | R19: =DATE($A$1,COLUMN()-9,ROW()-1) -> 42631 | S19: =IFERROR(OFFSET(grille!$A$1,MOD(INT((R19-lundi1er)/7),42)+1,WEEKDAY(calendrier!R19,2)),"") -> WE VERT | T19: =DATE($A$1,COLUMN()-10,ROW()-1) -> 42661 | U19: =IFERROR(OFFSET(grille!$A$1,MOD(INT((T19-lundi1er)/7),42)+1,WEEKDAY(calendrier!T19,2)),"") -> . | V19: =DATE($A$1,COLUMN()-11,ROW()-1) -> 42692 | W19: =IFERROR(OFFSET(grille!$A$1,MOD(INT((V19-lundi1er)/7),42)+1,WEEKDAY(calendrier!V19,2)),"") -> . | X19: =DATE($A$1,COLUMN()-12,ROW()-1) -> 42722 | Y19: =IFERROR(OFFSET(grille!$A$1,MOD(INT((X19-lundi1er)/7),42)+1,WEEKDAY(calendrier!X19,2)),"") -> WE ROSE | Z19: =DATE($A$7,COLUMN()-1,ROW()-1) -> 43483 | AA19: =IFERROR(OFFSET(grille!$A$1,MOD(INT((Z19-lundi1er)/7),42)+1,WEEKDAY(calendrier!Z19,2)),"") -> . | AB19: =DATE($A$7,COLUMN()-2,ROW()-1) -> 43514 | AC19: =IFERROR(OFFSET(grille!$A$1,MOD(INT((AB19-lundi1er)/7),42)+1,WEEKDAY(calendrier!AB19,2)),"") -> REPOS VERT | AD19: =DATE($A$7,COLUMN()-3,ROW()-1) -> 43542 | AE19: =IFERROR(OFFSET(grille!$A$1,MOD(INT((AD19-lundi1er)/7),42)+1,WEEKDAY(calendrier!AD19,2)),"") -> REPOS ROSE | AF19: =DATE($A$7,COLUMN()-4,ROW()-1) -> 43573 | AG19: =IFERROR(OFFSET(grille!$A$1,MOD(INT((AF19-lundi1er)/7),42)+1,WEEKDAY(calendrier!AF19,2)),"") -> REPOS VERT | AH19: =DATE($A$7,COLUMN()-5,ROW()-1) -> 43603 | AI19: =IFERROR(OFFSET(grille!$A$1,MOD(INT((AH19-lundi1er)/7),42)+1,WEEKDAY(calendrier!AH19,2)),"") -> WE ROSE | AJ19: =DATE($A$7,COLUMN()-6,ROW()-1) -> 43634 | AK19: =IFERROR(OFFSET(grille!$A$1,MOD(INT((AJ19-lundi1er)/7),42)+1,WEEKDAY(calendrier!AJ19,2)),"") -> . | AL19: =DATE($A$7,COLUMN()-7,ROW()-1) -> 43664 | AN19: =DATE($A$7,COLUMN()-8,ROW()-1) -> 43695
... A30: 2040 | R30: =DATE($A$1,COLUMN()-9,ROW()-1) -> 42642 | S30: =IFERROR(OFFSET(grille!$A$1,MOD(INT((R30-lundi1er)/7),42)+1,WEEKDAY(calendrier!R30,2)),"") -> REPOS BLEU | T30: =DATE($A$1,COLUMN()-10,ROW()-1) -> 42672 | U30: =IFERROR(OFFSET(grille!$A$1,MOD(INT((T30-lundi1er)/7),42)+1,WEEKDAY(calendrier!T30,2)),"") -> WE VERT | V30: =DATE($A$1,COLUMN()-11,ROW()-1) -> 42703 | W30: =IFERROR(OFFSET(grille!$A$1,MOD(INT((V30-lundi1er)/7),42)+1,WEEKDAY(calendrier!V30,2)),"") -> . | X30: =DATE($A$1,COLUMN()-12,ROW()-1) -> 42733 | Y30: =IFERROR(OFFSET(grille!$A$1,MOD(INT((X30-lundi1er)/7),42)+1,WEEKDAY(calendrier!X30,2)),"") -> REPOS VERT | Z30: =DATE($A$7,COLUMN()-1,ROW()-1) -> 43494 | AA30: =IFERROR(OFFSET(grille!$A$1,MOD(INT((Z30-lundi1er)/7),42)+1,WEEKDAY(calendrier!Z30,2)),"") -> . | AB30: =DATE($A$7,COLUMN()-2,ROW()-1) -> 43525 | AC30: =IFERROR(OFFSET(grille!$A$1,MOD(INT((AB30-lundi1er)/7),42)+1,WEEKDAY(calendrier!AB30,2)),"") -> . | AD30: =DATE($A$7,COLUMN()-3,ROW()-1) -> 43553 | AE30: =IFERROR(OFFSET(grille!$A$1,MOD(INT((AD30-lundi1er)/7),42)+1,WEEKDAY(calendrier!AD30,2)),"") -> . | AF30: =DATE($A$7,COLUMN()-4,ROW()-1) -> 43584 | AG30: =IFERROR(OFFSET(grille!$A$1,MOD(INT((AF30-lundi1er)/7),42)+1,WEEKDAY(calendrier!AF30,2)),"") -> REPOS ROSE | AH30: =DATE($A$7,COLUMN()-5,ROW()-1) -> 43614 | AI30: =IFERROR(OFFSET(grille!$A$1,MOD(INT((AH30-lundi1er)/7),42)+1,WEEKDAY(calendrier!AH30,2)),"") -> REPOS VERT | AJ30: =DATE($A$7,COLUMN()-6,ROW()-1) -> 43645 | AK30: =IFERROR(OFFSET(grille!$A$1,MOD(INT((AJ30-lundi1er)/7),42)+1,WEEKDAY(calendrier!AJ30,2)),"") -> WE ROSE | AL30: =DATE($A$7,COLUMN()-7,ROW()-1) -> 43675 | AN30: =DATE($A$7,COLUMN()-8,ROW()-1) -> 43706
A31: 2041 | R31: =DATE($A$1,COLUMN()-9,ROW()-1) -> 42643 | S31: =IFERROR(OFFSET(grille!$A$1,MOD(INT((R31-lundi1er)/7),42)+1,WEEKDAY(calendrier!R31,2)),"") -> . | T31: =DATE($A$1,COLUMN()-10,ROW()-1) -> 42673 | U31: =IFERROR(OFFSET(grille!$A$1,MOD(INT((T31-lundi1er)/7),42)+1,WEEKDAY(calendrier!T31,2)),"") -> WE VERT | V31: =DATE($A$1,COLUMN()-11,ROW()-1) -> 42704 | W31: =IFERROR(OFFSET(grille!$A$1,MOD(INT((V31-lundi1er)/7),42)+1,WEEKDAY(calendrier!V31,2)),"") -> REPOS BLEU | X31: =DATE($A$1,COLUMN()-12,ROW()-1) -> 42734 | Y31: =IFERROR(OFFSET(grille!$A$1,MOD(INT((X31-lundi1er)/7),42)+1,WEEKDAY(calendrier!X31,2)),"") -> . | Z31: =DATE($A$7,COLUMN()-1,ROW()-1) -> 43495 | AA31: =IFERROR(OFFSET(grille!$A$1,MOD(INT((Z31-lundi1er)/7),42)+1,WEEKDAY(calendrier!Z31,2)),"") -> REPOS ROSE | AD31: =DATE($A$7,COLUMN()-3,ROW()-1) -> 43554 | AE31: =IFERROR(OFFSET(grille!$A$1,MOD(INT((AD31-lundi1er)/7),42)+1,WEEKDAY(calendrier!AD31,2)),"") -> WE VERT | AF31: =DATE($A$7,COLUMN()-4,ROW()-1) -> 43585 | AG31: =IFERROR(OFFSET(grille!$A$1,MOD(INT((AF31-lundi1er)/7),42)+1,WEEKDAY(calendrier!AF31,2)),"") -> . | AH31: =DATE($A$7,COLUMN()-5,ROW()-1) -> 43615 | AI31: =IFERROR(OFFSET(grille!$A$1,MOD(INT((AH31-lundi1er)/7),42)+1,WEEKDAY(calendrier!AH31,2)),"") -> REPOS VERT | AJ31: =DATE($A$7,COLUMN()-6,ROW()-1) -> 43646 | AK31: =IFERROR(OFFSET(grille!$A$1,MOD(INT((AJ31-lundi1er)/7),42)+1,WEEKDAY(calendrier!AJ31,2)),"") -> WE ROSE | AL31: =DATE($A$7,COLUMN()-7,ROW()-1) -> 43676 | AN31: =DATE($A$7,COLUMN()-8,ROW()-1) -> 43707
A32: 2042 | T32: =DATE($A$1,COLUMN()-10,ROW()-1) -> 42674 | U32: =IFERROR(OFFSET(grille!$A$1,MOD(INT((T32-lundi1er)/7),42)+1,WEEKDAY(calendrier!T32,2)),"") -> REPOS VERT | X32: =DATE($A$1,COLUMN()-12,ROW()-1) -> 42735 | Y32: =IFERROR(OFFSET(grille!$A$1,MOD(INT((X32-lundi1er)/7),42)+1,WEEKDAY(calendrier!X32,2)),"") -> WE VERT | Z32: =DATE($A$7,COLUMN()-1,ROW()-1) -> 43496 | AA32: =IFERROR(OFFSET(grille!$A$1,MOD(INT((Z32-lundi1er)/7),42)+1,WEEKDAY(calendrier!Z32,2)),"") -> REPOS ROSE | AD32: =DATE($A$7,COLUMN()-3,ROW()-1) -> 43555 | AE32: =IFERROR(OFFSET(grille!$A$1,MOD(INT((AD32-lundi1er)/7),42)+1,WEEKDAY(calendrier!AD32,2)),"") -> WE VERT | AH32: =DATE($A$7,COLUMN()-5,ROW()-1) -> 43616 | AI32: =IFERROR(OFFSET(grille!$A$1,MOD(INT((AH32-lundi1er)/7),42)+1,WEEKDAY(calendrier!AH32,2)),"") -> . | AL32: =DATE($A$7,COLUMN()-7,ROW()-1) -> 43677 | AN32: =DATE($A$7,COLUMN()-8,ROW()-1) -> 43708
A33: 2043
A34: 2044
A35: 2045 | R35: 2016 | Z35: 2017
A36: 2046
A37: 2047
A38: 2048
A39: 2049
A40: 2050
A41: 2051
A42: 2052
A43: 2053
A44: 2054

Sheet parametres

Sheet grille
B1: lundi | C1: mardi | D1: mercredi | E1: jeudi | F1: vendredi | G1: samedi | H1: dimanche
A2: 1 | B2: REPOS ROSE | C2: . | D2: REPOS BLEU | E2: REPOS BLEU | F2: . | G2: WE BLEU | H2: WE BLEU
A3: 2 | B3: REPOS BLEU | C3: . | D3: REPOS VERT | E3: REPOS VERT | F3: . | G3: WE VERT | H3: WE VERT
A4: 3 | B4: REPOS VERT | C4: . | D4: REPOS ROSE | E4: REPOS ROSE | F4: . | G4: WE ROSE | H4: WE ROSE
A5: 4 | B5: REPOS ROSE | C5: . | D5: REPOS BLEU | E5: REPOS BLEU | F5: . | G5: WE BLEU | H5: WE BLEU
A6: 5 | B6: REPOS BLEU | C6: . | D6: REPOS VERT | E6: REPOS VERT | F6: . | G6: WE VERT | H6: WE VERT
A7: 6 | B7: REPOS VERT | C7: . | D7: REPOS ROSE | E7: REPOS ROSE | F7: . | G7: WE ROSE | H7: WE ROSE
A8: 7 | B8: REPOS ROSE | C8: . | D8: REPOS BLEU | E8: REPOS BLEU | F8: . | G8: WE BLEU | H8: WE BLEU
A9: 8 | B9: REPOS BLEU | C9: . | D9: REPOS VERT | E9: REPOS VERT | F9: . | G9: WE VERT | H9: WE VERT
A10: 9 | B10: REPOS VERT | C10: . | D10: REPOS ROSE | E10: REPOS ROSE | F10: . | G10: WE ROSE | H10: WE ROSE
A11: 10 | B11: REPOS ROSE | C11: . | D11: REPOS BLEU | E11: REPOS BLEU | F11: . | G11: WE BLEU | H11: WE BLEU
A12: 11 | B12: REPOS BLEU | C12: . | D12: REPOS VERT | E12: REPOS VERT | F12: . | G12: WE VERT | H12: WE VERT
A13: 12 | B13: REPOS VERT | C13: . | D13: REPOS ROSE | E13: REPOS ROSE | F13: . | G13: WE ROSE | H13: WE ROSE
... A43: 42 | B43: REPOS VERT | C43: . | D43: REPOS ROSE | E43: REPOS ROSE | F43: . | G43: WE ROSE | H43: WE ROSE
B44: REPOS ROSE | C44: . | D44: REPOS BLEU | E44: REPOS BLEU | F44: . | G44: WE BLEU | H44: WE BLEU
B45: REPOS BLEU | C45: . | D45: REPOS VERT | E45: REPOS VERT | F45: . | G45: WE VERT | H45: WE VERT
B46: REPOS VERT | C46: . | D46: REPOS ROSE | E46: REPOS ROSE | F46: . | G46: WE ROSE | H46: WE ROSE
B47: REPOS ROSE | C47: . | D47: REPOS BLEU | E47: REPOS BLEU | F47: . | G47: WE BLEU | H47: WE BLEU
B48: REPOS BLEU | C48: . | D48: REPOS VERT | E48: REPOS VERT | F48: . | G48: WE VERT | H48: WE VERT
B49: REPOS VERT | C49: . | D49: REPOS ROSE | E49: REPOS ROSE | F49: . | G49: WE ROSE | H49: WE ROSE
B50: REPOS ROSE | C50: . | D50: REPOS BLEU | E50: REPOS BLEU | F50: . | G50: WE BLEU | H50: WE BLEU
B51: REPOS BLEU | C51: . | D51: REPOS VERT | E51: REPOS VERT | F51: . | G51: WE VERT | H51: WE VERT
B52: REPOS VERT | C52: . | D52: REPOS ROSE | E52: REPOS ROSE | F52: . | G52: WE ROSE | H52: WE ROSE
B53: REPOS ROSE | C53: . | D53: REPOS BLEU | E53: REPOS BLEU | F53: . | G53: WE BLEU | H53: WE BLEU
B54: REPOS BLEU | C54: . | D54: REPOS VERT | E54: REPOS VERT | F54: . | G54: WE VERT | H54: WE VERT
B55: REPOS VERT | C55: . | D55: REPOS ROSE | E55: REPOS ROSE | F55: . | G55: WE ROSE | H55: WE ROSE
... B83: REPOS BLEU | C83: 6 agents | D83: REPOS VERT | E83: REPOS VERT | F83: 6 agents | G83: WE VERT | H83: WE VERT
