Workbook
Name IMP: FÉVRIER!$A$1:$R$50
Name IMP: 'FÉVRIER non bissextile'!$A$1:$R$50
Name IMP: 'JANV (2)'!$A$1:$L$38
Name IMP: JANVIER!$A$1:$R$50
Name IMP: MASTER!$A$1:$J$36
Name IMP: #REF!

Sheet Récap 
B2: 2024 | C2: CHIFFRE d'affaire | D2: Salaire 1 | E2: Salaire 2 | F2: Total Salaires versés | G2: CHARGES MENSUELS | H2: FRAIS DIVERS | I2: TOTAL DES RECETTES
D3: Salaire MATI
B4: Janvier
B5: Février | C5: =FÉVRIER!N27 -> 6520 | D5: =FÉVRIER!N30 -> 1790 | E5: =FÉVRIER!N31 -> 1890 | F5: =SUM(D5:E5) -> 3680 | G5: =FÉVRIER!N22 -> 1815 | I5: =FÉVRIER!M41 -> 1025
B6: Mars
B7: Avril
B8: Mai
B9: Juin
B10: Juillet
B11: Août
B12: Septembre
B13: Octobre
B14: Novembre
B15: Décembre
A23: 12

Sheet JANVIER
A1: ÉTAT DES HEURES SUPPLÉMENTAIRES
C2: FEVRIER 2024
C4: Ville de CRÉTEIL : | Q4: Nom, Prénom : | S4: BERTHOLOM JULIE
C5: 140 | D5: 100 | E5: à masquer
C6: 70 | D6: 0 | E6: à masquer
C7: Sous-Service : | G7: à masquer
R8: =TODAY() -> 45382
A10: NOM | B10: PRÉNOM | C10: DATE | D10: Employé 1 | F10: Employé 2 | J10: RECETTE SANS CHARGES | K10: SALAIRES DES EMPLOYÉS | M10: CHARGES MENSUELS | Q10: INFORMATIONS / COMMENTAIRES | AF10: =ROUND(DATE(#REF!,4,MOD(234-11*MOD(#REF!,19),30))/7,0)*7-6 -> #REF!
A12: BERTHOLOM | B12: =IF(A12<>"",VLOOKUP(A12,$A$53:$B$56,2,FALSE),"") -> JULIE | C12: 46388 | D12: 100 | E12: =IFERROR(IF(WEEKDAY(C12,2)=1,"",IF(D12>=$C$5,(D12/2),$C$6)),"") -> 70 | F12: 110 | G12: =IF(F12<=$D$5,$D$6,(F12-$D$5)) -> 10 | H12: =SUM(G12/2) -> 5 | J12: =SUM(F12,D12) -> 210 | K12: =SUM(E12,H12) -> 75 | M12: LOYER | N12: 800 | T12: =IF( ISTEXT(P12), 1, "" ) | AF12: =DATE(#REF!,1,1) -> #REF!
B13: =IF(A13<>"",VLOOKUP(A13,$A$53:$B$56,2,FALSE),"") | C13: =C12+1 -> 46389 | D13: 150 | E13: =IFERROR(IF(WEEKDAY(C13,2)=1,"",IF(D13>=$C$5,(D13/2),$C$6)),"") -> 75 | F13: 110 | G13: =IF(F13<=$D$5,$D$6,(F13-$D$5)) -> 10 | H13: =SUM(G13/2) -> 5 | J13: =SUM(F13,D13) -> 260 | K13: =SUM(E13,H13) -> 80 | M13: EDF | N13: 80 | T13: =IF( ISTEXT(P13), 1, "" ) | AF13: =DATE(#REF!,5,1) -> #REF!
B14: =IF(A14<>"",VLOOKUP(A14,$A$53:$B$56,2,FALSE),"") | C14: =C13+1 -> 46390 | E14: =IFERROR(IF(WEEKDAY(C14,2)=1,"",IF(D14>=$C$5,(D14/2),$C$6)),"") -> 70 | G14: =IF(F14<=$D$5,$D$6,(F14-$D$5)) -> 0 | H14: =SUM(G14/2) -> 0 | J14: =SUM(F14,D14) -> 0 | K14: =SUM(E14,H14) -> 70 | M14: URSSAF | N14: 500 | T14: =IF( ISTEXT(P14), 1, "" ) | AF14: =DATE(#REF!,5,8) -> #REF!
B15: =IF(A15<>"",VLOOKUP(A15,$A$53:$B$56,2,FALSE),"") | C15: =C14+1 -> 46391 | D15: 150 | E15: =IFERROR(IF(WEEKDAY(C15,2)=1,"",IF(D15>=$C$5,(D15/2),$C$6)),"") | F15: 110 | G15: =IF(F15<=$D$5,$D$6,(F15-$D$5)) -> 10 | H15: =SUM(G15/2) -> 5 | J15: =SUM(F15,D15) -> 260 | K15: =SUM(E15,H15) -> 5 | M15: INTERNET | N15: 45 | T15: =IF( ISTEXT(P15), 1, "" ) | AF15: =DATE(#REF!,7,14) -> #REF!
B16: =IF(A16<>"",VLOOKUP(A16,$A$53:$B$56,2,FALSE),"") | C16: =C15+1 -> 46392 | D16: 100 | E16: =IFERROR(IF(WEEKDAY(C16,2)=1,"",IF(D16>=$C$5,(D16/2),$C$6)),"") -> 70 | F16: 110 | G16: =IF(F16<=$D$5,$D$6,(F16-$D$5)) -> 10 | H16: =SUM(G16/2) -> 5 | J16: =SUM(F16,D16) -> 210 | K16: =SUM(E16,H16) -> 75 | M16: EAU | N16: 60 | T16: =IF( ISTEXT(P16), 1, "" ) | AF16: =DATE(#REF!,8,15) -> #REF!
B17: =IF(A17<>"",VLOOKUP(A17,$A$53:$B$56,2,FALSE),"") | C17: =C16+1 -> 46393 | D17: 100 | E17: =IFERROR(IF(WEEKDAY(C17,2)=1,"",IF(D17>=$C$5,(D17/2),$C$6)),"") -> 70 | F17: 110 | G17: =IF(F17<=$D$5,$D$6,(F17-$D$5)) -> 10 | H17: =SUM(G17/2) -> 5 | J17: =SUM(F17,D17) -> 210 | K17: =SUM(E17,H17) -> 75 | M17: ASSURANCE | N17: 30 | T17: =IF( ISTEXT(P17), 1, "" ) | AF17: =DATE(#REF!,11,1) -> #REF!
B18: =IF(A18<>"",VLOOKUP(A18,$A$53:$B$56,2,FALSE),"") | C18: =C17+1 -> 46394 | D18: 100 | E18: =IFERROR(IF(WEEKDAY(C18,2)=1,"",IF(D18>=$C$5,(D18/2),$C$6)),"") -> 70 | F18: 110 | G18: =IF(F18<=$D$5,$D$6,(F18-$D$5)) -> 10 | H18: =SUM(G18/2) -> 5 | J18: =SUM(F18,D18) -> 210 | K18: =SUM(E18,H18) -> 75 | M18: etc. | N18: 300 | T18: =IF( ISTEXT(P18), 1, "" ) | AF18: =DATE(#REF!,11,11) -> #REF!
B19: =IF(A19<>"",VLOOKUP(A19,$A$53:$B$56,2,FALSE),"") | C19: =C18+1 -> 46395 | D19: 100 | E19: =IFERROR(IF(WEEKDAY(C19,2)=1,"",IF(D19>=$C$5,(D19/2),$C$6)),"") -> 70 | F19: 110 | G19: =IF(F19<=$D$5,$D$6,(F19-$D$5)) -> 10 | H19: =SUM(G19/2) -> 5 | J19: =SUM(F19,D19) -> 210 | K19: =SUM(E19,H19) -> 75 | M19: pour exemple | T19: =IF( ISTEXT(P19), 1, "" ) | AF19: =DATE(#REF!,12,25) -> #REF!
B20: =IF(A20<>"",VLOOKUP(A20,$A$53:$B$56,2,FALSE),"") | C20: =C19+1 -> 46396 | D20: 150 | E20: =IFERROR(IF(WEEKDAY(C20,2)=1,"",IF(D20>=$C$5,(D20/2),$C$6)),"") -> 75 | F20: 110 | G20: =IF(F20<=$D$5,$D$6,(F20-$D$5)) -> 10 | H20: =SUM(G20/2) -> 5 | J20: =SUM(F20,D20) -> 260 | K20: =SUM(E20,H20) -> 80 | T20: =IF( ISTEXT(P20), 1, "" ) | AF20: =AF10+1 -> #REF!
B21: =IF(A21<>"",VLOOKUP(A21,$A$53:$B$56,2,FALSE),"") | C21: =C20+1 -> 46397 | E21: =IFERROR(IF(WEEKDAY(C21,2)=1,"",IF(D21>=$C$5,(D21/2),$C$6)),"") -> 70 | G21: =IF(F21<=$D$5,$D$6,(F21-$D$5)) -> 0 | H21: =SUM(G21/2) -> 0 | J21: =SUM(F21,D21) -> 0 | K21: =SUM(E21,H21) -> 70 | T21: =IF( ISTEXT(P21), 1, "" ) | AF21: =AF10+39 -> #REF!
B22: =IF(A22<>"",VLOOKUP(A22,$A$53:$B$56,2,FALSE),"") | C22: =C21+1 -> 46398 | D22: 150 | E22: =IFERROR(IF(WEEKDAY(C22,2)=1,"",IF(D22>=$C$5,(D22/2),$C$6)),"") | F22: 110 | G22: =IF(F22<=$D$5,$D$6,(F22-$D$5)) -> 10 | H22: =SUM(G22/2) -> 5 | J22: =SUM(F22,D22) -> 260 | K22: =SUM(E22,H22) -> 5 | M22: TOTAL | N22: =SUM(N12:N21) -> 1815 | T22: =IF( ISTEXT(P22), 1, "" ) | AF22: =AF10+50 -> #REF!
B23: =IF(A23<>"",VLOOKUP(A23,$A$53:$B$56,2,FALSE),"") | C23: =C22+1 -> 46399 | D23: 100 | E23: =IFERROR(IF(WEEKDAY(C23,2)=1,"",IF(D23>=$C$5,(D23/2),$C$6)),"") -> 70 | F23: 110 | G23: =IF(F23<=$D$5,$D$6,(F23-$D$5)) -> 10 | H23: =SUM(G23/2) -> 5 | J23: =SUM(F23,D23) -> 210 | K23: =SUM(E23,H23) -> 75 | T23: =IF( ISTEXT(P23), 1, "" )
B24: =IF(A24<>"",VLOOKUP(A24,$A$53:$B$56,2,FALSE),"") | C24: =C23+1 -> 46400 | D24: 100 | E24: =IFERROR(IF(WEEKDAY(C24,2)=1,"",IF(D24>=$C$5,(D24/2),$C$6)),"") -> 70 | F24: 110 | G24: =IF(F24<=$D$5,$D$6,(F24-$D$5)) -> 10 | H24: =SUM(G24/2) -> 5 | J24: =SUM(F24,D24) -> 210 | K24: =SUM(E24,H24) -> 75 | T24: =IF( ISTEXT(P24), 1, "" )
B25: =IF(A25<>"",VLOOKUP(A25,$A$53:$B$56,2,FALSE),"") | C25: =C24+1 -> 46401 | D25: 100 | E25: =IFERROR(IF(WEEKDAY(C25,2)=1,"",IF(D25>=$C$5,(D25/2),$C$6)),"") -> 70 | F25: 110 | G25: =IF(F25<=$D$5,$D$6,(F25-$D$5)) -> 10 | H25: =SUM(G25/2) -> 5 | J25: =SUM(F25,D25) -> 210 | K25: =SUM(E25,H25) -> 75 | T25: =IF( ISTEXT(P25), 1, "" )
B26: =IF(A26<>"",VLOOKUP(A26,$A$53:$B$56,2,FALSE),"") | C26: =C25+1 -> 46402 | D26: 100 | E26: =IFERROR(IF(WEEKDAY(C26,2)=1,"",IF(D26>=$C$5,(D26/2),$C$6)),"") -> 70 | F26: 110 | G26: =IF(F26<=$D$5,$D$6,(F26-$D$5)) -> 10 | H26: =SUM(G26/2) -> 5 | J26: =SUM(F26,D26) -> 210 | K26: =SUM(E26,H26) -> 75 | M26: CHIFFRE MENSUEL | T26: =IF( ISTEXT(P26), 1, "" )
B27: =IF(A27<>"",VLOOKUP(A27,$A$53:$B$56,2,FALSE),"") | C27: =C26+1 -> 46403 | D27: 150 | E27: =IFERROR(IF(WEEKDAY(C27,2)=1,"",IF(D27>=$C$5,(D27/2),$C$6)),"") -> 75 | F27: 110 | G27: =IF(F27<=$D$5,$D$6,(F27-$D$5)) -> 10 | H27: =SUM(G27/2) -> 5 | J27: =SUM(F27,D27) -> 260 | K27: =SUM(E27,H27) -> 80 | M27: SALON | N27: =J43 -> 5650 | W27: Colonne D | X27: Exemple | Z27: Colonne F
B28: =IF(A28<>"",VLOOKUP(A28,$A$53:$B$56,2,FALSE),"") | C28: =C27+1 -> 46404 | E28: =IFERROR(IF(WEEKDAY(C28,2)=1,"",IF(D28>=$C$5,(D28/2),$C$6)),"") -> 70 | G28: =IF(F28<=$D$5,$D$6,(F28-$D$5)) -> 0 | H28: =SUM(G28/2) -> 0 | J28: =SUM(F28,D28) -> 0 | K28: =SUM(E28,H28) -> 70 | W28: =_xlfn.ISOWEEKNUM(C12) -> 53 | X28: {=SUMPRODUCT((_xlfn.ISOWEEKNUM($C$12:$C$42)=W28)*($D$12:$D$42))} -> 250 | Z28: =_xlfn.ISOWEEKNUM(C12) -> 53 | AA28: {=SUMPRODUCT((_xlfn.ISOWEEKNUM($C$12:$C$42)=Z28)*($F$12:$F$42))} -> 220
C29: =C28+1 -> 46405 | D29: 150 | E29: =IFERROR(IF(WEEKDAY(C29,2)=1,"",IF(D29>=$C$5,(D29/2),$C$6)),"") | F29: 110 | G29: =IF(F29<=$D$5,$D$6,(F29-$D$5)) -> 10 | H29: =SUM(G29/2) -> 5 | J29: =SUM(F29,D29) -> 260 | K29: =SUM(E29,H29) -> 5 | W29: =W28+1 -> 54 | X29: {=SUMPRODUCT((_xlfn.ISOWEEKNUM($C$12:$C$42)=W29)*($D$12:$D$42))} -> 0 | Z29: =_xlfn.ISOWEEKNUM(C15) -> 1 | AA29: {=SUMPRODUCT((_xlfn.ISOWEEKNUM($C$12:$C$42)=Z29)*($F$12:$F$42))} -> 660
C30: =C29+1 -> 46406 | D30: 100 | E30: =IFERROR(IF(WEEKDAY(C30,2)=1,"",IF(D30>=$C$5,(D30/2),$C$6)),"") -> 70 | F30: 110 | G30: =IF(F30<=$D$5,$D$6,(F30-$D$5)) -> 10 | H30: =SUM(G30/2) -> 5 | J30: =SUM(F30,D30) -> 210 | K30: =SUM(E30,H30) -> 75 | M30: Salaire 1 | N30: =E43 -> 1915 | W30: =W29+1 -> 55 | X30: {=SUMPRODUCT((_xlfn.ISOWEEKNUM($C$12:$C$42)=W30)*($D$12:$D$42))} -> 0 | Z30: =Z29+1 -> 2 | AA30: {=SUMPRODUCT((_xlfn.ISOWEEKNUM($C$12:$C$42)=Z30)*($F$12:$F$42))} -> 660
C31: =C30+1 -> 46407 | D31: 100 | E31: =IFERROR(IF(WEEKDAY(C31,2)=1,"",IF(D31>=$C$5,(D31/2),$C$6)),"") -> 70 | F31: 110 | G31: =IF(F31<=$D$5,$D$6,(F31-$D$5)) -> 10 | H31: =SUM(G31/2) -> 5 | J31: =SUM(F31,D31) -> 210 | K31: =SUM(E31,H31) -> 75 | M31: Salaire 2 | N31: =H46 -> 1630 | W31: =W30+1 -> 56 | X31: {=SUMPRODUCT((_xlfn.ISOWEEKNUM($C$12:$C$42)=W31)*($D$12:$D$42))} -> 0 | Z31: =Z30+1 -> 3 | AA31: {=SUMPRODUCT((_xlfn.ISOWEEKNUM($C$12:$C$42)=Z31)*($F$12:$F$42))} -> 660
C32: =C31+1 -> 46408 | D32: 100 | E32: =IFERROR(IF(WEEKDAY(C32,2)=1,"",IF(D32>=$C$5,(D32/2),$C$6)),"") -> 70 | F32: 110 | G32: =IF(F32<=$D$5,$D$6,(F32-$D$5)) -> 10 | H32: =SUM(G32/2) -> 5 | J32: =SUM(F32,D32) -> 210 | K32: =SUM(E32,H32) -> 75 | M32: SALAIRE 1 & 2 | N32: =SUM(N30:N31) -> 3545 | W32: =W31+1 -> 57 | X32: {=SUMPRODUCT((_xlfn.ISOWEEKNUM($C$12:$C$42)=W32)*($D$12:$D$42))} -> 0 | Z32: =Z31+1 -> 4 | AA32: {=SUMPRODUCT((_xlfn.ISOWEEKNUM($C$12:$C$42)=Z32)*($F$12:$F$42))} -> 660
C33: =C32+1 -> 46409 | D33: 100 | E33: =IFERROR(IF(WEEKDAY(C33,2)=1,"",IF(D33>=$C$5,(D33/2),$C$6)),"") -> 70 | F33: 110 | G33: =IF(F33<=$D$5,$D$6,(F33-$D$5)) -> 10 | H33: =SUM(G33/2) -> 5 | J33: =SUM(F33,D33) -> 210 | K33: =SUM(E33,H33) -> 75
C34: =C33+1 -> 46410 | D34: 150 | E34: =IFERROR(IF(WEEKDAY(C34,2)=1,"",IF(D34>=$C$5,(D34/2),$C$6)),"") -> 75 | F34: 110 | G34: =IF(F34<=$D$5,$D$6,(F34-$D$5)) -> 10 | H34: =SUM(G34/2) -> 5 | J34: =SUM(F34,D34) -> 260 | K34: =SUM(E34,H34) -> 80
C35: =C34+1 -> 46411 | E35: =IFERROR(IF(WEEKDAY(C35,2)=1,"",IF(D35>=$C$5,(D35/2),$C$6)),"") -> 70 | G35: =IF(F35<=$D$5,$D$6,(F35-$D$5)) -> 0 | H35: =SUM(G35/2) -> 0 | J35: =SUM(F35,D35) -> 0 | K35: =SUM(E35,H35) -> 70 | M35: RECETTES | N35: =SUM(N27-N32) -> 2105 | X35: =IFERROR(IF(AND(ISBLANK(D12), WEEKDAY($C12)=2), "", IF(D12>=$C$5, D12/2, $C$6)),"") -> 70
C36: =C35+1 -> 46412 | D36: 150 | E36: =IFERROR(IF(WEEKDAY(C36,2)=1,"",IF(D36>=$C$5,(D36/2),$C$6)),"") | F36: 110 | G36: =IF(F36<=$D$5,$D$6,(F36-$D$5)) -> 10 | H36: =SUM(G36/2) -> 5 | J36: =SUM(F36,D36) -> 260 | K36: =SUM(E36,H36) -> 5 | M36: MOIS LES CHARGES
C37: =C36+1 -> 46413 | D37: 100 | E37: =IFERROR(IF(WEEKDAY(C37,2)=1,"",IF(D37>=$C$5,(D37/2),$C$6)),"") -> 70 | F37: 110 | G37: =IF(F37<=$D$5,$D$6,(F37-$D$5)) -> 10 | H37: =SUM(G37/2) -> 5 | J37: =SUM(F37,D37) -> 210 | K37: =SUM(E37,H37) -> 75 | M37: CHARGES | N37: =N22 -> 1815
C38: =C37+1 -> 46414 | D38: 100 | E38: =IFERROR(IF(WEEKDAY(C38,2)=1,"",IF(D38>=$C$5,(D38/2),$C$6)),"") -> 70 | F38: 110 | G38: =IF(F38<=$D$5,$D$6,(F38-$D$5)) -> 10 | H38: =SUM(G38/2) -> 5 | J38: =SUM(F38,D38) -> 210 | K38: =SUM(E38,H38) -> 75
C39: =C38+1 -> 46415 | D39: 100 | E39: =IFERROR(IF(WEEKDAY(C39,2)=1,"",IF(D39>=$C$5,(D39/2),$C$6)),"") -> 70 | F39: 110 | G39: =IF(F39<=$D$5,$D$6,(F39-$D$5)) -> 10 | H39: =SUM(G39/2) -> 5 | J39: =SUM(F39,D39) -> 210 | K39: =SUM(E39,H39) -> 75 | M39: =C2 -> FEVRIER 2024
C40: =C39+1 -> 46416 | D40: 100 | E40: =IFERROR(IF(WEEKDAY(C40,2)=1,"",IF(D40>=$C$5,(D40/2),$C$6)),"") -> 70 | F40: 110 | G40: =IF(F40<=$D$5,$D$6,(F40-$D$5)) -> 10 | H40: =SUM(G40/2) -> 5 | J40: =SUM(F40,D40) -> 210 | K40: =SUM(E40,H40) -> 75 | M40: RECETTE
C41: =C40+1 -> 46417 | D41: 150 | E41: =IFERROR(IF(WEEKDAY(C41,2)=1,"",IF(D41>=$C$5,(D41/2),$C$6)),"") -> 75 | F41: 110 | G41: =IF(F41<=$D$5,$D$6,(F41-$D$5)) -> 10 | H41: =SUM(G41/2) -> 5 | M41: =SUM(N35-N37) -> 290
C42: =C41+1 -> 46418 | E42: =IFERROR(IF(WEEKDAY(C42,2)=1,"",IF(D42>=$C$5,(D42/2),$C$6)),"") -> 70 | G42: =IF(F42<=$D$5,$D$6,(F42-$D$5)) -> 0 | H42: =SUM(G42/2) -> 0
C43: TOTAL | D43: =SUM(D12:D42) -> 3050 | E43: =SUM(E12:E42) -> 1915 | F43: =SUM(F12:F42) -> 2860 | G43: à masquer | H43: =SUM(H12:H42) -> 130 | J43: =SUM(J12:J42) -> 5650 | K43: =SUM(K12:K42,H44) -> 3395 | L43: =SUM(L12:N42) -> 20580
H44: 1500
F46: à masquer | H46: =SUM(H43:H44) -> 1630
W51: je rencontre également un problème de valeur en Février popur les année non bissexite, car il y a une formule en ligne 29
A53: BERTHOLOM | B53: JULIE | C53: JANVIER | L53: 2024
A54: GUIMBER | B54: ROMAIN | C54: FÉVRIER | L54: 2025
C55: MARS | L55: 2026
C56: AVRIL | L56: 2027
C57: MAI | L57: 2028
C58: JUIN | L58: 2029
C59: JUILLET | L59: 2030
C60: AOÛT | L60: 2031
C61: SEPTEMBRE | L61: 2032
C62: OCTOBRE | L62: 2033
C63: NOVEMBRE | L63: 2034
C64: DÉCEMBRE | L64: 2035
L65: 2036
L66: 2037
L67: 2038
L68: 2039
L69: 2040
L70: 2041
L71: 2042
L72: 2043
L73: 2044
L74: 2045
L75: 2046
L76: 2047
... L109: 2080
A110: =#REF! -> #REF! | B110: =#REF! -> #REF!
A111: =#REF! -> #REF! | B111: =#REF! -> #REF!
A112: =#REF! -> #REF! | B112: =#REF! -> #REF!
A113: =#REF! -> #REF! | B113: =#REF! -> #REF!
A114: =#REF! -> #REF! | B114: =#REF! -> #REF!
A115: =#REF! -> #REF! | B115: =#REF! -> #REF!
A116: =#REF! -> #REF! | B116: =#REF! -> #REF!
A117: =#REF! -> #REF! | B117: =#REF! -> #REF!
A118: =#REF! -> #REF! | B118: =#REF! -> #REF!
A119: =#REF! -> #REF! | B119: =#REF! -> #REF!
A120: =#REF! -> #REF! | B120: =#REF! -> #REF!
A121: =#REF! -> #REF! | B121: =#REF! -> #REF!
... A124: =#REF! -> #REF! | B124: =#REF! -> #REF!
A133: Chef de service : Directeur du Comité de Jumelage

Sheet FÉVRIER
A1: ÉTAT DES HEURES SUPPLÉMENTAIRES
C2: FEVRIER 2024
C4: Ville de CRÉTEIL : | Q4: Nom, Prénom : | S4: BERTHOLOM JULIE
C5: 140 | D5: 100 | E5: à masquer
C6: 70 | D6: 0 | E6: à masquer
C7: Sous-Service : | G7: à masquer
R8: =TODAY() -> 45382
A10: NOM | B10: PRÉNOM | C10: DATE | D10: Employé 1 | F10: Employé 2 | J10: RECETTE SANS CHARGES | K10: SALAIRES DES EMPLOYÉS | M10: CHARGES MENSUELS | Q10: INFORMATIONS / COMMENTAIRES | AE10: =ROUND(DATE(#REF!,4,MOD(234-11*MOD(#REF!,19),30))/7,0)*7-6 -> #REF!
A12: BERTHOLOM | B12: =IF(A12<>"",VLOOKUP(A12,$A$53:$B$56,2,FALSE),"") -> JULIE | C12: 46784 | D12: 110 | E12: =IFERROR(IF(WEEKDAY(C12,2)=1,"",IF(D12>=$C$5,(D12/2),$C$6)),"") -> 70 | F12: 110 | G12: =IF(F12<=$D$5,$D$6,(F12-$D$5)) -> 10 | H12: =SUM(G12/2) -> 5 | J12: =SUM(F12,D12) -> 220 | K12: =SUM(E12,H12) -> 75 | M12: LOYER | N12: 800 | T12: =IF( ISTEXT(P12), 1, "" ) | AE12: =DATE(#REF!,1,1) -> #REF!
B13: =IF(A13<>"",VLOOKUP(A13,$A$53:$B$56,2,FALSE),"") | C13: =C12+1 -> 46785 | D13: 120 | E13: =IFERROR(IF(WEEKDAY(C13,2)=1,"",IF(D13>=$C$5,(D13/2),$C$6)),"") -> 70 | F13: 120 | G13: =IF(F13<=$D$5,$D$6,(F13-$D$5)) -> 20 | H13: =SUM(G13/2) -> 10 | J13: =SUM(F13,D13) -> 240 | K13: =SUM(E13,H13) -> 80 | M13: EDF | N13: 80 | T13: =IF( ISTEXT(P13), 1, "" ) | AE13: =DATE(#REF!,5,1) -> #REF!
B14: =IF(A14<>"",VLOOKUP(A14,$A$53:$B$56,2,FALSE),"") | C14: =C13+1 -> 46786 | D14: 130 | E14: =IFERROR(IF(WEEKDAY(C14,2)=1,"",IF(D14>=$C$5,(D14/2),$C$6)),"") -> 70 | F14: 130 | G14: =IF(F14<=$D$5,$D$6,(F14-$D$5)) -> 30 | H14: =SUM(G14/2) -> 15 | J14: =SUM(F14,D14) -> 260 | K14: =SUM(E14,H14) -> 85 | M14: URSSAF | N14: 500 | T14: =IF( ISTEXT(P14), 1, "" ) | AE14: =DATE(#REF!,5,8) -> #REF!
B15: =IF(A15<>"",VLOOKUP(A15,$A$53:$B$56,2,FALSE),"") | C15: =C14+1 -> 46787 | D15: 140 | E15: =IFERROR(IF(WEEKDAY(C15,2)=1,"",IF(D15>=$C$5,(D15/2),$C$6)),"") -> 70 | F15: 140 | G15: =IF(F15<=$D$5,$D$6,(F15-$D$5)) -> 40 | H15: =SUM(G15/2) -> 20 | J15: =SUM(F15,D15) -> 280 | K15: =SUM(E15,H15) -> 90 | M15: INTERNET | N15: 45 | T15: =IF( ISTEXT(P15), 1, "" ) | AE15: =DATE(#REF!,7,14) -> #REF!
B16: =IF(A16<>"",VLOOKUP(A16,$A$53:$B$56,2,FALSE),"") | C16: =C15+1 -> 46788 | D16: 145 | E16: =IFERROR(IF(WEEKDAY(C16,2)=1,"",IF(D16>=$C$5,(D16/2),$C$6)),"") -> 72.5 | F16: 145 | G16: =IF(F16<=$D$5,$D$6,(F16-$D$5)) -> 45 | H16: =SUM(G16/2) -> 22.5 | J16: =SUM(F16,D16) -> 290 | K16: =SUM(E16,H16) -> 95 | M16: EAU | N16: 60 | T16: =IF( ISTEXT(P16), 1, "" ) | AE16: =DATE(#REF!,8,15) -> #REF!
B17: =IF(A17<>"",VLOOKUP(A17,$A$53:$B$56,2,FALSE),"") | C17: =C16+1 -> 46789 | D17: 150 | E17: =IFERROR(IF(WEEKDAY(C17,2)=1,"",IF(D17>=$C$5,(D17/2),$C$6)),"") -> 75 | F17: 150 | G17: =IF(F17<=$D$5,$D$6,(F17-$D$5)) -> 50 | H17: =SUM(G17/2) -> 25 | J17: =SUM(F17,D17) -> 300 | K17: =SUM(E17,H17) -> 100 | M17: ASSURANCE | N17: 30 | T17: =IF( ISTEXT(P17), 1, "" ) | AE17: =DATE(#REF!,11,1) -> #REF!
B18: =IF(A18<>"",VLOOKUP(A18,$A$53:$B$56,2,FALSE),"") | C18: =C17+1 -> 46790 | E18: =IFERROR(IF(WEEKDAY(C18,2)=1,"",IF(D18>=$C$5,(D18/2),$C$6)),"") | G18: =IF(F18<=$D$5,$D$6,(F18-$D$5)) -> 0 | H18: =SUM(G18/2) -> 0 | J18: =SUM(F18,D18) -> 0 | K18: =SUM(E18,H18) -> 0 | M18: etc. | N18: 300 | T18: =IF( ISTEXT(P18), 1, "" ) | AE18: =DATE(#REF!,11,11) -> #REF!
B19: =IF(A19<>"",VLOOKUP(A19,$A$53:$B$56,2,FALSE),"") | C19: =C18+1 -> 46791 | D19: 110 | E19: =IFERROR(IF(WEEKDAY(C19,2)=1,"",IF(D19>=$C$5,(D19/2),$C$6)),"") -> 70 | F19: 110 | G19: =IF(F19<=$D$5,$D$6,(F19-$D$5)) -> 10 | H19: =SUM(G19/2) -> 5 | J19: =SUM(F19,D19) -> 220 | K19: =SUM(E19,H19) -> 75 | M19: pour exemple | T19: =IF( ISTEXT(P19), 1, "" ) | AE19: =DATE(#REF!,12,25) -> #REF!
B20: =IF(A20<>"",VLOOKUP(A20,$A$53:$B$56,2,FALSE),"") | C20: =C19+1 -> 46792 | D20: 120 | E20: =IFERROR(IF(WEEKDAY(C20,2)=1,"",IF(D20>=$C$5,(D20/2),$C$6)),"") -> 70 | F20: 120 | G20: =IF(F20<=$D$5,$D$6,(F20-$D$5)) -> 20 | H20: =SUM(G20/2) -> 10 | J20: =SUM(F20,D20) -> 240 | K20: =SUM(E20,H20) -> 80 | T20: =IF( ISTEXT(P20), 1, "" ) | AE20: =AE10+1 -> #REF!
B21: =IF(A21<>"",VLOOKUP(A21,$A$53:$B$56,2,FALSE),"") | C21: =C20+1 -> 46793 | D21: 130 | E21: =IFERROR(IF(WEEKDAY(C21,2)=1,"",IF(D21>=$C$5,(D21/2),$C$6)),"") -> 70 | F21: 130 | G21: =IF(F21<=$D$5,$D$6,(F21-$D$5)) -> 30 | H21: =SUM(G21/2) -> 15 | J21: =SUM(F21,D21) -> 260 | K21: =SUM(E21,H21) -> 85 | T21: =IF( ISTEXT(P21), 1, "" ) | AE21: =AE10+39 -> #REF!
B22: =IF(A22<>"",VLOOKUP(A22,$A$53:$B$56,2,FALSE),"") | C22: =C21+1 -> 46794 | D22: 140 | E22: =IFERROR(IF(WEEKDAY(C22,2)=1,"",IF(D22>=$C$5,(D22/2),$C$6)),"") -> 70 | F22: 140 | G22: =IF(F22<=$D$5,$D$6,(F22-$D$5)) -> 40 | H22: =SUM(G22/2) -> 20 | J22: =SUM(F22,D22) -> 280 | K22: =SUM(E22,H22) -> 90 | M22: TOTAL | N22: =SUM(N12:N21) -> 1815 | T22: =IF( ISTEXT(P22), 1, "" ) | V22: C'est OK pour les années bissextiles | AE22: =AE10+50 -> #REF!
B23: =IF(A23<>"",VLOOKUP(A23,$A$53:$B$56,2,FALSE),"") | C23: =C22+1 -> 46795 | D23: 145 | E23: =IFERROR(IF(WEEKDAY(C23,2)=1,"",IF(D23>=$C$5,(D23/2),$C$6)),"") -> 72.5 | F23: 145 | G23: =IF(F23<=$D$5,$D$6,(F23-$D$5)) -> 45 | H23: =SUM(G23/2) -> 22.5 | J23: =SUM(F23,D23) -> 290 | K23: =SUM(E23,H23) -> 95 | T23: =IF( ISTEXT(P23), 1, "" )
B24: =IF(A24<>"",VLOOKUP(A24,$A$53:$B$56,2,FALSE),"") | C24: =C23+1 -> 46796 | D24: 150 | E24: =IFERROR(IF(WEEKDAY(C24,2)=1,"",IF(D24>=$C$5,(D24/2),$C$6)),"") -> 75 | F24: 150 | G24: =IF(F24<=$D$5,$D$6,(F24-$D$5)) -> 50 | H24: =SUM(G24/2) -> 25 | J24: =SUM(F24,D24) -> 300 | K24: =SUM(E24,H24) -> 100 | T24: =IF( ISTEXT(P24), 1, "" )
B25: =IF(A25<>"",VLOOKUP(A25,$A$53:$B$56,2,FALSE),"") | C25: =C24+1 -> 46797 | E25: =IFERROR(IF(WEEKDAY(C25,2)=1,"",IF(D25>=$C$5,(D25/2),$C$6)),"") | G25: =IF(F25<=$D$5,$D$6,(F25-$D$5)) -> 0 | H25: =SUM(G25/2) -> 0 | J25: =SUM(F25,D25) -> 0 | K25: =SUM(E25,H25) -> 0 | T25: =IF( ISTEXT(P25), 1, "" )
B26: =IF(A26<>"",VLOOKUP(A26,$A$53:$B$56,2,FALSE),"") | C26: =C25+1 -> 46798 | D26: 110 | E26: =IFERROR(IF(WEEKDAY(C26,2)=1,"",IF(D26>=$C$5,(D26/2),$C$6)),"") -> 70 | F26: 110 | G26: =IF(F26<=$D$5,$D$6,(F26-$D$5)) -> 10 | H26: =SUM(G26/2) -> 5 | J26: =SUM(F26,D26) -> 220 | K26: =SUM(E26,H26) -> 75 | M26: CHIFFRE MENSUEL | T26: =IF( ISTEXT(P26), 1, "" )
B27: =IF(A27<>"",VLOOKUP(A27,$A$53:$B$56,2,FALSE),"") | C27: =C26+1 -> 46799 | D27: 120 | E27: =IFERROR(IF(WEEKDAY(C27,2)=1,"",IF(D27>=$C$5,(D27/2),$C$6)),"") -> 70 | F27: 120 | G27: =IF(F27<=$D$5,$D$6,(F27-$D$5)) -> 20 | H27: =SUM(G27/2) -> 10 | J27: =SUM(F27,D27) -> 240 | K27: =SUM(E27,H27) -> 80 | M27: SALON | N27: =J43 -> 6520
B28: =IF(A28<>"",VLOOKUP(A28,$A$53:$B$56,2,FALSE),"") | C28: =C27+1 -> 46800 | D28: 130 | E28: =IFERROR(IF(WEEKDAY(C28,2)=1,"",IF(D28>=$C$5,(D28/2),$C$6)),"") -> 70 | F28: 130 | G28: =IF(F28<=$D$5,$D$6,(F28-$D$5)) -> 30 | H28: =SUM(G28/2) -> 15 | J28: =SUM(F28,D28) -> 260 | K28: =SUM(E28,H28) -> 85 | V28: Colonne D | W28: Exemple | Y28: Colonne F
C29: =C28+1 -> 46801 | D29: 140 | E29: =IFERROR(IF(WEEKDAY(C29,2)=1,"",IF(D29>=$C$5,(D29/2),$C$6)),"") -> 70 | F29: 140 | G29: =IF(F29<=$D$5,$D$6,(F29-$D$5)) -> 40 | H29: =SUM(G29/2) -> 20 | J29: =SUM(F29,D29) -> 280 | K29: =SUM(E29,H29) -> 90 | V29: =_xlfn.ISOWEEKNUM(C12) -> 5 | W29: {=SUMPRODUCT((_xlfn.ISOWEEKNUM($C$12:$C$42)=V29)*($D$12:$D$42))} -> 795 | Y29: =_xlfn.ISOWEEKNUM(C12) -> 5 | Z29: {=SUMPRODUCT((_xlfn.ISOWEEKNUM($C$12:$C$42)=Y29)*($F$12:$F$42))} -> 795
C30: =C29+1 -> 46802 | D30: 145 | E30: =IFERROR(IF(WEEKDAY(C30,2)=1,"",IF(D30>=$C$5,(D30/2),$C$6)),"") -> 72.5 | F30: 145 | G30: =IF(F30<=$D$5,$D$6,(F30-$D$5)) -> 45 | H30: =SUM(G30/2) -> 22.5 | J30: =SUM(F30,D30) -> 290 | K30: =SUM(E30,H30) -> 95 | M30: Salaire 1 | N30: =E43 -> 1790 | V30: =V29+1 -> 6 | W30: {=SUMPRODUCT((_xlfn.ISOWEEKNUM($C$12:$C$42)=V30)*($D$12:$D$42))} -> 795 | Y30: =Y29+1 -> 6 | Z30: {=SUMPRODUCT((_xlfn.ISOWEEKNUM($C$12:$C$42)=Y30)*($F$12:$F$42))} -> 795
C31: =C30+1 -> 46803 | D31: 150 | E31: =IFERROR(IF(WEEKDAY(C31,2)=1,"",IF(D31>=$C$5,(D31/2),$C$6)),"") -> 75 | F31: 150 | G31: =IF(F31<=$D$5,$D$6,(F31-$D$5)) -> 50 | H31: =SUM(G31/2) -> 25 | J31: =SUM(F31,D31) -> 300 | K31: =SUM(E31,H31) -> 100 | M31: Salaire 2 | N31: =H46 -> 1890 | V31: =V30+1 -> 7 | W31: {=SUMPRODUCT((_xlfn.ISOWEEKNUM($C$12:$C$42)=V31)*($D$12:$D$42))} -> 795 | Y31: =Y30+1 -> 7 | Z31: {=SUMPRODUCT((_xlfn.ISOWEEKNUM($C$12:$C$42)=Y31)*($F$12:$F$42))} -> 795
C32: =C31+1 -> 46804 | E32: =IFERROR(IF(WEEKDAY(C32,2)=1,"",IF(D32>=$C$5,(D32/2),$C$6)),"") | G32: =IF(F32<=$D$5,$D$6,(F32-$D$5)) -> 0 | H32: =SUM(G32/2) -> 0 | J32: =SUM(F32,D32) -> 0 | K32: =SUM(E32,H32) -> 0 | M32: SALAIRE 1 & 2 | N32: =SUM(N30:N31) -> 3680 | V32: =V31+1 -> 8 | W32: {=SUMPRODUCT((_xlfn.ISOWEEKNUM($C$12:$C$42)=V32)*($D$12:$D$42))} -> 795 | Y32: =Y31+1 -> 8 | Z32: {=SUMPRODUCT((_xlfn.ISOWEEKNUM($C$12:$C$42)=Y32)*($F$12:$F$42))} -> 795
C33: =C32+1 -> 46805 | D33: 110 | E33: =IFERROR(IF(WEEKDAY(C33,2)=1,"",IF(D33>=$C$5,(D33/2),$C$6)),"") -> 70 | F33: 110 | G33: =IF(F33<=$D$5,$D$6,(F33-$D$5)) -> 10 | H33: =SUM(G33/2) -> 5 | J33: =SUM(F33,D33) -> 220 | K33: =SUM(E33,H33) -> 75 | V33: =V32+1 -> 9 | W33: {=SUMPRODUCT((_xlfn.ISOWEEKNUM($C$12:$C$42)=V33)*($D$12:$D$42))} -> 160 | Y33: =Y32+1 -> 9 | Z33: {=SUMPRODUCT((_xlfn.ISOWEEKNUM($C$12:$C$42)=Y33)*($F$12:$F$42))} -> 0
C34: =C33+1 -> 46806 | D34: 120 | E34: =IFERROR(IF(WEEKDAY(C34,2)=1,"",IF(D34>=$C$5,(D34/2),$C$6)),"") -> 70 | F34: 120 | G34: =IF(F34<=$D$5,$D$6,(F34-$D$5)) -> 20 | H34: =SUM(G34/2) -> 10 | J34: =SUM(F34,D34) -> 240 | K34: =SUM(E34,H34) -> 80
C35: =C34+1 -> 46807 | D35: 130 | E35: =IFERROR(IF(WEEKDAY(C35,2)=1,"",IF(D35>=$C$5,(D35/2),$C$6)),"") -> 70 | F35: 130 | G35: =IF(F35<=$D$5,$D$6,(F35-$D$5)) -> 30 | H35: =SUM(G35/2) -> 15 | J35: =SUM(F35,D35) -> 260 | K35: =SUM(E35,H35) -> 85 | M35: RECETTES | N35: =SUM(N27-N32) -> 2840
C36: =C35+1 -> 46808 | D36: 140 | E36: =IFERROR(IF(WEEKDAY(C36,2)=1,"",IF(D36>=$C$5,(D36/2),$C$6)),"") -> 70 | F36: 140 | G36: =IF(F36<=$D$5,$D$6,(F36-$D$5)) -> 40 | H36: =SUM(G36/2) -> 20 | J36: =SUM(F36,D36) -> 280 | K36: =SUM(E36,H36) -> 90 | M36: MOIS LES CHARGES
C37: =C36+1 -> 46809 | D37: 145 | E37: =IFERROR(IF(WEEKDAY(C37,2)=1,"",IF(D37>=$C$5,(D37/2),$C$6)),"") -> 72.5 | F37: 145 | G37: =IF(F37<=$D$5,$D$6,(F37-$D$5)) -> 45 | H37: =SUM(G37/2) -> 22.5 | J37: =SUM(F37,D37) -> 290 | K37: =SUM(E37,H37) -> 95 | M37: CHARGES | N37: =N22 -> 1815
C38: =C37+1 -> 46810 | D38: 150 | E38: =IFERROR(IF(WEEKDAY(C38,2)=1,"",IF(D38>=$C$5,(D38/2),$C$6)),"") -> 75 | F38: 150 | G38: =IF(F38<=$D$5,$D$6,(F38-$D$5)) -> 50 | H38: =SUM(G38/2) -> 25 | J38: =SUM(F38,D38) -> 300 | K38: =SUM(E38,H38) -> 100
C39: =IFERROR(IF(MONTH(C38+1)=MONTH($C$12),C38+1,""),"") -> 46811 | E39: =IFERROR(IF(WEEKDAY(C39,2)=1,"",IF(D39>=$C$5,(D39/2),$C$6)),"") | G39: =IF(F39<=$D$5,$D$6,(F39-$D$5)) -> 0 | H39: =SUM(G39/2) -> 0 | J39: =SUM(F39,D39) -> 0 | K39: =SUM(E39,H39) -> 0 | M39: =C2 -> FEVRIER 2024
C40: =IFERROR(IF(MONTH(C39+1)=MONTH($C$12),C39+1,""),"") -> 46812 | D40: 160 | E40: =IFERROR(IF(WEEKDAY(C40,2)=1,"",IF(D40>=$C$5,(D40/2),$C$6)),"") -> 80 | G40: =IF(F40<=$D$5,$D$6,(F40-$D$5)) -> 0 | H40: =SUM(G40/2) -> 0 | J40: =SUM(F40,D40) -> 160 | K40: =SUM(E40,H40) -> 80 | M40: RECETTE
M41: =SUM(N35-N37) -> 1025
C43: TOTAL | D43: =SUM(D12:D42) -> 3340 | E43: =SUM(E12:E42) -> 1790 | F43: =SUM(F12:F42) -> 3180 | G43: à masquer | H43: =SUM(H12:H42) -> 390 | J43: =SUM(J12:J42) -> 6520 | K43: =SUM(K12:K42,H44) -> 3680 | L43: =SUM(L12:N42) -> 23190
H44: 1500
F46: à masquer | H46: =SUM(H43:H44) -> 1890
A53: BERTHOLOM | B53: JULIE | C53: JANVIER | L53: 2024
A54: GUIMBER | B54: ROMAIN | C54: FÉVRIER | L54: 2025
C55: MARS | L55: 2026
C56: AVRIL | L56: 2027
C57: MAI | L57: 2028
C58: JUIN | L58: 2029
C59: JUILLET | L59: 2030
C60: AOÛT | L60: 2031
C61: SEPTEMBRE | L61: 2032
C62: OCTOBRE | L62: 2033
C63: NOVEMBRE | L63: 2034
C64: DÉCEMBRE | L64: 2035
L65: 2036
L66: 2037
L67: 2038
L68: 2039
L69: 2040
L70: 2041
L71: 2042
L72: 2043
L73: 2044
L74: 2045
L75: 2046
L76: 2047
... L109: 2080
A110: =#REF! -> #REF! | B110: =#REF! -> #REF!
A111: =#REF! -> #REF! | B111: =#REF! -> #REF!
A112: =#REF! -> #REF! | B112: =#REF! -> #REF!
A113: =#REF! -> #REF! | B113: =#REF! -> #REF!
A114: =#REF! -> #REF! | B114: =#REF! -> #REF!
A115: =#REF! -> #REF! | B115: =#REF! -> #REF!
A116: =#REF! -> #REF! | B116: =#REF! -> #REF!
A117: =#REF! -> #REF! | B117: =#REF! -> #REF!
A118: =#REF! -> #REF! | B118: =#REF! -> #REF!
A119: =#REF! -> #REF! | B119: =#REF! -> #REF!
A120: =#REF! -> #REF! | B120: =#REF! -> #REF!
A121: =#REF! -> #REF! | B121: =#REF! -> #REF!
... A124: =#REF! -> #REF! | B124: =#REF! -> #REF!
A133: Chef de service : Directeur du Comité de Jumelage

Sheet FÉVRIER non bissextile
A1: ÉTAT DES HEURES SUPPLÉMENTAIRES
C2: FEVRIER 2024
C4: Ville de CRÉTEIL : | Q4: Nom, Prénom : | S4: BERTHOLOM JULIE
C5: 140 | D5: 100 | E5: à masquer
C6: 70 | D6: 0 | E6: à masquer
C7: Sous-Service : | G7: à masquer
R8: =TODAY() -> 45382
A10: NOM | B10: PRÉNOM | C10: DATE | D10: Employé 1 | F10: Employé 2 | J10: RECETTE SANS CHARGES | K10: SALAIRES DES EMPLOYÉS | M10: CHARGES MENSUELS | Q10: INFORMATIONS / COMMENTAIRES | AE10: =ROUND(DATE(#REF!,4,MOD(234-11*MOD(#REF!,19),30))/7,0)*7-6 -> #REF!
A12: BERTHOLOM | B12: =IF(A12<>"",VLOOKUP(A12,$A$53:$B$56,2,FALSE),"") -> JULIE | C12: 45689 | D12: 110 | E12: =IFERROR(IF(WEEKDAY(C12,2)=1,"",IF(D12>=$C$5,(D12/2),$C$6)),"") -> 70 | F12: 110 | G12: =IF(F12<=$D$5,$D$6,(F12-$D$5)) -> 10 | H12: =SUM(G12/2) -> 5 | J12: =SUM(F12,D12) -> 220 | K12: =SUM(E12,H12) -> 75 | M12: LOYER | N12: 800 | T12: =IF( ISTEXT(P12), 1, "" ) | AE12: =DATE(#REF!,1,1) -> #REF!
B13: =IF(A13<>"",VLOOKUP(A13,$A$53:$B$56,2,FALSE),"") | C13: =C12+1 -> 45690 | D13: 120 | E13: =IFERROR(IF(WEEKDAY(C13,2)=1,"",IF(D13>=$C$5,(D13/2),$C$6)),"") -> 70 | F13: 120 | G13: =IF(F13<=$D$5,$D$6,(F13-$D$5)) -> 20 | H13: =SUM(G13/2) -> 10 | J13: =SUM(F13,D13) -> 240 | K13: =SUM(E13,H13) -> 80 | M13: EDF | N13: 80 | T13: =IF( ISTEXT(P13), 1, "" ) | AE13: =DATE(#REF!,5,1) -> #REF!
B14: =IF(A14<>"",VLOOKUP(A14,$A$53:$B$56,2,FALSE),"") | C14: =C13+1 -> 45691 | E14: =IFERROR(IF(WEEKDAY(C14,2)=1,"",IF(D14>=$C$5,(D14/2),$C$6)),"") | G14: =IF(F14<=$D$5,$D$6,(F14-$D$5)) -> 0 | H14: =SUM(G14/2) -> 0 | J14: =SUM(F14,D14) -> 0 | K14: =SUM(E14,H14) -> 0 | M14: URSSAF | N14: 500 | T14: =IF( ISTEXT(P14), 1, "" ) | AE14: =DATE(#REF!,5,8) -> #REF!
B15: =IF(A15<>"",VLOOKUP(A15,$A$53:$B$56,2,FALSE),"") | C15: =C14+1 -> 45692 | D15: 130 | E15: =IFERROR(IF(WEEKDAY(C15,2)=1,"",IF(D15>=$C$5,(D15/2),$C$6)),"") -> 70 | F15: 130 | G15: =IF(F15<=$D$5,$D$6,(F15-$D$5)) -> 30 | H15: =SUM(G15/2) -> 15 | J15: =SUM(F15,D15) -> 260 | K15: =SUM(E15,H15) -> 85 | M15: INTERNET | N15: 45 | T15: =IF( ISTEXT(P15), 1, "" ) | AE15: =DATE(#REF!,7,14) -> #REF!
B16: =IF(A16<>"",VLOOKUP(A16,$A$53:$B$56,2,FALSE),"") | C16: =C15+1 -> 45693 | D16: 140 | E16: =IFERROR(IF(WEEKDAY(C16,2)=1,"",IF(D16>=$C$5,(D16/2),$C$6)),"") -> 70 | F16: 140 | G16: =IF(F16<=$D$5,$D$6,(F16-$D$5)) -> 40 | H16: =SUM(G16/2) -> 20 | J16: =SUM(F16,D16) -> 280 | K16: =SUM(E16,H16) -> 90 | M16: EAU | N16: 60 | T16: =IF( ISTEXT(P16), 1, "" ) | AE16: =DATE(#REF!,8,15) -> #REF!
B17: =IF(A17<>"",VLOOKUP(A17,$A$53:$B$56,2,FALSE),"") | C17: =C16+1 -> 45694 | D17: 145 | E17: =IFERROR(IF(WEEKDAY(C17,2)=1,"",IF(D17>=$C$5,(D17/2),$C$6)),"") -> 72.5 | F17: 145 | G17: =IF(F17<=$D$5,$D$6,(F17-$D$5)) -> 45 | H17: =SUM(G17/2) -> 22.5 | J17: =SUM(F17,D17) -> 290 | K17: =SUM(E17,H17) -> 95 | M17: ASSURANCE | N17: 30 | T17: =IF( ISTEXT(P17), 1, "" ) | AE17: =DATE(#REF!,11,1) -> #REF!
B18: =IF(A18<>"",VLOOKUP(A18,$A$53:$B$56,2,FALSE),"") | C18: =C17+1 -> 45695 | D18: 150 | E18: =IFERROR(IF(WEEKDAY(C18,2)=1,"",IF(D18>=$C$5,(D18/2),$C$6)),"") -> 75 | F18: 150 | G18: =IF(F18<=$D$5,$D$6,(F18-$D$5)) -> 50 | H18: =SUM(G18/2) -> 25 | J18: =SUM(F18,D18) -> 300 | K18: =SUM(E18,H18) -> 100 | M18: etc. | N18: 300 | T18: =IF( ISTEXT(P18), 1, "" ) | AE18: =DATE(#REF!,11,11) -> #REF!
B19: =IF(A19<>"",VLOOKUP(A19,$A$53:$B$56,2,FALSE),"") | C19: =C18+1 -> 45696 | D19: 110 | E19: =IFERROR(IF(WEEKDAY(C19,2)=1,"",IF(D19>=$C$5,(D19/2),$C$6)),"") -> 70 | F19: 110 | G19: =IF(F19<=$D$5,$D$6,(F19-$D$5)) -> 10 | H19: =SUM(G19/2) -> 5 | J19: =SUM(F19,D19) -> 220 | K19: =SUM(E19,H19) -> 75 | M19: pour exemple | T19: =IF( ISTEXT(P19), 1, "" ) | AE19: =DATE(#REF!,12,25) -> #REF!
B20: =IF(A20<>"",VLOOKUP(A20,$A$53:$B$56,2,FALSE),"") | C20: =C19+1 -> 45697 | D20: 120 | E20: =IFERROR(IF(WEEKDAY(C20,2)=1,"",IF(D20>=$C$5,(D20/2),$C$6)),"") -> 70 | F20: 120 | G20: =IF(F20<=$D$5,$D$6,(F20-$D$5)) -> 20 | H20: =SUM(G20/2) -> 10 | J20: =SUM(F20,D20) -> 240 | K20: =SUM(E20,H20) -> 80 | T20: =IF( ISTEXT(P20), 1, "" ) | V20: Je rencontre également un problème #VALEUR en février pour les années non bissextiles, car il y a une formule en ligne 40. Est-ce qu'il est possible de trouver une solution ? Car sinon, il faudra effacer les formules qui se trouvent dans cette ligne. | AE20: =AE10+1 -> #REF!
B21: =IF(A21<>"",VLOOKUP(A21,$A$53:$B$56,2,FALSE),"") | C21: =C20+1 -> 45698 | E21: =IFERROR(IF(WEEKDAY(C21,2)=1,"",IF(D21>=$C$5,(D21/2),$C$6)),"") | G21: =IF(F21<=$D$5,$D$6,(F21-$D$5)) -> 0 | H21: =SUM(G21/2) -> 0 | J21: =SUM(F21,D21) -> 0 | K21: =SUM(E21,H21) -> 0 | T21: =IF( ISTEXT(P21), 1, "" ) | AE21: =AE10+39 -> #REF!
B22: =IF(A22<>"",VLOOKUP(A22,$A$53:$B$56,2,FALSE),"") | C22: =C21+1 -> 45699 | D22: 130 | E22: =IFERROR(IF(WEEKDAY(C22,2)=1,"",IF(D22>=$C$5,(D22/2),$C$6)),"") -> 70 | F22: 130 | G22: =IF(F22<=$D$5,$D$6,(F22-$D$5)) -> 30 | H22: =SUM(G22/2) -> 15 | J22: =SUM(F22,D22) -> 260 | K22: =SUM(E22,H22) -> 85 | M22: TOTAL | N22: =SUM(N12:N21) -> 1815 | T22: =IF( ISTEXT(P22), 1, "" ) | AE22: =AE10+50 -> #REF!
B23: =IF(A23<>"",VLOOKUP(A23,$A$53:$B$56,2,FALSE),"") | C23: =C22+1 -> 45700 | D23: 140 | E23: =IFERROR(IF(WEEKDAY(C23,2)=1,"",IF(D23>=$C$5,(D23/2),$C$6)),"") -> 70 | F23: 140 | G23: =IF(F23<=$D$5,$D$6,(F23-$D$5)) -> 40 | H23: =SUM(G23/2) -> 20 | J23: =SUM(F23,D23) -> 280 | K23: =SUM(E23,H23) -> 90 | T23: =IF( ISTEXT(P23), 1, "" )
B24: =IF(A24<>"",VLOOKUP(A24,$A$53:$B$56,2,FALSE),"") | C24: =C23+1 -> 45701 | D24: 145 | E24: =IFERROR(IF(WEEKDAY(C24,2)=1,"",IF(D24>=$C$5,(D24/2),$C$6)),"") -> 72.5 | F24: 145 | G24: =IF(F24<=$D$5,$D$6,(F24-$D$5)) -> 45 | H24: =SUM(G24/2) -> 22.5 | J24: =SUM(F24,D24) -> 290 | K24: =SUM(E24,H24) -> 95 | T24: =IF( ISTEXT(P24), 1, "" )
B25: =IF(A25<>"",VLOOKUP(A25,$A$53:$B$56,2,FALSE),"") | C25: =C24+1 -> 45702 | D25: 150 | E25: =IFERROR(IF(WEEKDAY(C25,2)=1,"",IF(D25>=$C$5,(D25/2),$C$6)),"") -> 75 | F25: 150 | G25: =IF(F25<=$D$5,$D$6,(F25-$D$5)) -> 50 | H25: =SUM(G25/2) -> 25 | J25: =SUM(F25,D25) -> 300 | K25: =SUM(E25,H25) -> 100 | T25: =IF( ISTEXT(P25), 1, "" )
B26: =IF(A26<>"",VLOOKUP(A26,$A$53:$B$56,2,FALSE),"") | C26: =C25+1 -> 45703 | D26: 110 | E26: =IFERROR(IF(WEEKDAY(C26,2)=1,"",IF(D26>=$C$5,(D26/2),$C$6)),"") -> 70 | F26: 110 | G26: =IF(F26<=$D$5,$D$6,(F26-$D$5)) -> 10 | H26: =SUM(G26/2) -> 5 | J26: =SUM(F26,D26) -> 220 | K26: =SUM(E26,H26) -> 75 | M26: CHIFFRE MENSUEL | T26: =IF( ISTEXT(P26), 1, "" )
B27: =IF(A27<>"",VLOOKUP(A27,$A$53:$B$56,2,FALSE),"") | C27: =C26+1 -> 45704 | D27: 120 | E27: =IFERROR(IF(WEEKDAY(C27,2)=1,"",IF(D27>=$C$5,(D27/2),$C$6)),"") -> 70 | F27: 120 | G27: =IF(F27<=$D$5,$D$6,(F27-$D$5)) -> 20 | H27: =SUM(G27/2) -> 10 | J27: =SUM(F27,D27) -> 240 | K27: =SUM(E27,H27) -> 80 | M27: SALON | N27: =J43 -> 6380
B28: =IF(A28<>"",VLOOKUP(A28,$A$53:$B$56,2,FALSE),"") | C28: =C27+1 -> 45705 | E28: =IFERROR(IF(WEEKDAY(C28,2)=1,"",IF(D28>=$C$5,(D28/2),$C$6)),"") | G28: =IF(F28<=$D$5,$D$6,(F28-$D$5)) -> 0 | H28: =SUM(G28/2) -> 0 | J28: =SUM(F28,D28) -> 0 | K28: =SUM(E28,H28) -> 0 | V28: Colonne D | W28: Exemple | Y28: Colonne F
C29: =C28+1 -> 45706 | D29: 130 | E29: =IFERROR(IF(WEEKDAY(C29,2)=1,"",IF(D29>=$C$5,(D29/2),$C$6)),"") -> 70 | F29: 130 | G29: =IF(F29<=$D$5,$D$6,(F29-$D$5)) -> 30 | H29: =SUM(G29/2) -> 15 | J29: =SUM(F29,D29) -> 260 | K29: =SUM(E29,H29) -> 85 | V29: =_xlfn.ISOWEEKNUM(C12) -> 5 | W29: {=SUMPRODUCT((_xlfn.ISOWEEKNUM($C$12:$C$42)=V29)*($D$12:$D$42))} -> #VALUE! | Y29: =_xlfn.ISOWEEKNUM(C12) -> 5 | Z29: {=SUMPRODUCT((_xlfn.ISOWEEKNUM($C$12:$C$42)=Y29)*($F$12:$F$42))} -> #VALUE!
C30: =C29+1 -> 45707 | D30: 140 | E30: =IFERROR(IF(WEEKDAY(C30,2)=1,"",IF(D30>=$C$5,(D30/2),$C$6)),"") -> 70 | F30: 140 | G30: =IF(F30<=$D$5,$D$6,(F30-$D$5)) -> 40 | H30: =SUM(G30/2) -> 20 | J30: =SUM(F30,D30) -> 280 | K30: =SUM(E30,H30) -> 90 | M30: Salaire 1 | N30: =E43 -> 1710 | V30: =V29+1 -> 6 | W30: {=SUMPRODUCT((_xlfn.ISOWEEKNUM($C$12:$C$42)=V30)*($D$12:$D$42))} -> #VALUE! | Y30: =Y29+1 -> 6 | Z30: {=SUMPRODUCT((_xlfn.ISOWEEKNUM($C$12:$C$42)=Y30)*($F$12:$F$42))} -> #VALUE!
C31: =C30+1 -> 45708 | D31: 145 | E31: =IFERROR(IF(WEEKDAY(C31,2)=1,"",IF(D31>=$C$5,(D31/2),$C$6)),"") -> 72.5 | F31: 145 | G31: =IF(F31<=$D$5,$D$6,(F31-$D$5)) -> 45 | H31: =SUM(G31/2) -> 22.5 | J31: =SUM(F31,D31) -> 290 | K31: =SUM(E31,H31) -> 95 | M31: Salaire 2 | N31: =H46 -> 1895 | V31: =V30+1 -> 7 | W31: {=SUMPRODUCT((_xlfn.ISOWEEKNUM($C$12:$C$42)=V31)*($D$12:$D$42))} -> #VALUE! | Y31: =Y30+1 -> 7 | Z31: {=SUMPRODUCT((_xlfn.ISOWEEKNUM($C$12:$C$42)=Y31)*($F$12:$F$42))} -> #VALUE!
C32: =C31+1 -> 45709 | D32: 150 | E32: =IFERROR(IF(WEEKDAY(C32,2)=1,"",IF(D32>=$C$5,(D32/2),$C$6)),"") -> 75 | F32: 150 | G32: =IF(F32<=$D$5,$D$6,(F32-$D$5)) -> 50 | H32: =SUM(G32/2) -> 25 | J32: =SUM(F32,D32) -> 300 | K32: =SUM(E32,H32) -> 100 | M32: SALAIRE 1 & 2 | N32: =SUM(N30:N31) -> 3605 | V32: =V31+1 -> 8 | W32: {=SUMPRODUCT((_xlfn.ISOWEEKNUM($C$12:$C$42)=V32)*($D$12:$D$42))} -> #VALUE! | Y32: =Y31+1 -> 8 | Z32: {=SUMPRODUCT((_xlfn.ISOWEEKNUM($C$12:$C$42)=Y32)*($F$12:$F$42))} -> #VALUE!
C33: =C32+1 -> 45710 | D33: 110 | E33: =IFERROR(IF(WEEKDAY(C33,2)=1,"",IF(D33>=$C$5,(D33/2),$C$6)),"") -> 70 | F33: 110 | G33: =IF(F33<=$D$5,$D$6,(F33-$D$5)) -> 10 | H33: =SUM(G33/2) -> 5 | J33: =SUM(F33,D33) -> 220 | K33: =SUM(E33,H33) -> 75 | V33: =V32+1 -> 9 | W33: {=SUMPRODUCT((_xlfn.ISOWEEKNUM($C$12:$C$42)=V33)*($D$12:$D$42))} -> #VALUE! | Y33: =Y32+1 -> 9 | Z33: {=SUMPRODUCT((_xlfn.ISOWEEKNUM($C$12:$C$42)=Y33)*($F$12:$F$42))} -> #VALUE!
C34: =C33+1 -> 45711 | D34: 120 | E34: =IFERROR(IF(WEEKDAY(C34,2)=1,"",IF(D34>=$C$5,(D34/2),$C$6)),"") -> 70 | F34: 120 | G34: =IF(F34<=$D$5,$D$6,(F34-$D$5)) -> 20 | H34: =SUM(G34/2) -> 10 | J34: =SUM(F34,D34) -> 240 | K34: =SUM(E34,H34) -> 80
C35: =C34+1 -> 45712 | E35: =IFERROR(IF(WEEKDAY(C35,2)=1,"",IF(D35>=$C$5,(D35/2),$C$6)),"") | G35: =IF(F35<=$D$5,$D$6,(F35-$D$5)) -> 0 | H35: =SUM(G35/2) -> 0 | J35: =SUM(F35,D35) -> 0 | K35: =SUM(E35,H35) -> 0 | M35: RECETTES | N35: =SUM(N27-N32) -> 2775
C36: =C35+1 -> 45713 | D36: 140 | E36: =IFERROR(IF(WEEKDAY(C36,2)=1,"",IF(D36>=$C$5,(D36/2),$C$6)),"") -> 70 | F36: 140 | G36: =IF(F36<=$D$5,$D$6,(F36-$D$5)) -> 40 | H36: =SUM(G36/2) -> 20 | J36: =SUM(F36,D36) -> 280 | K36: =SUM(E36,H36) -> 90 | M36: MOIS LES CHARGES
C37: =C36+1 -> 45714 | D37: 145 | E37: =IFERROR(IF(WEEKDAY(C37,2)=1,"",IF(D37>=$C$5,(D37/2),$C$6)),"") -> 72.5 | F37: 145 | G37: =IF(F37<=$D$5,$D$6,(F37-$D$5)) -> 45 | H37: =SUM(G37/2) -> 22.5 | J37: =SUM(F37,D37) -> 290 | K37: =SUM(E37,H37) -> 95 | M37: CHARGES | N37: =N22 -> 1815
C38: =C37+1 -> 45715 | D38: 150 | E38: =IFERROR(IF(WEEKDAY(C38,2)=1,"",IF(D38>=$C$5,(D38/2),$C$6)),"") -> 75 | F38: 150 | G38: =IF(F38<=$D$5,$D$6,(F38-$D$5)) -> 50 | H38: =SUM(G38/2) -> 25 | J38: =SUM(F38,D38) -> 300 | K38: =SUM(E38,H38) -> 100
C39: =IFERROR(IF(MONTH(C38+1)=MONTH($C$12),C38+1,""),"") -> 45716 | D39: 140 | E39: =IFERROR(IF(WEEKDAY(C39,2)=1,"",IF(D39>=$C$5,(D39/2),$C$6)),"") -> 70 | F39: 140 | G39: =IF(F39<=$D$5,$D$6,(F39-$D$5)) -> 40 | H39: =SUM(G39/2) -> 20 | J39: =SUM(F39,D39) -> 280 | K39: =SUM(E39,H39) -> 90 | M39: =C2 -> FEVRIER 2024
C40: =IFERROR(IF(MONTH(C39+1)=MONTH($C$12),C39+1,""),"") | E40: =IFERROR(IF(WEEKDAY(C40,2)=1,"",IF(D40>=$C$5,(D40/2),$C$6)),"") | G40: =IF(F40<=$D$5,$D$6,(F40-$D$5)) -> 0 | H40: =SUM(G40/2) -> 0 | J40: =SUM(F40,D40) -> 0 | K40: =SUM(E40,H40) -> 0 | M40: RECETTE
M41: =SUM(N35-N37) -> 960
C43: TOTAL | D43: =SUM(D12:D42) -> 3190 | E43: =SUM(E12:E42) -> 1710 | F43: =SUM(F12:F42) -> 3190 | G43: à masquer | H43: =SUM(H12:H42) -> 395 | J43: =SUM(J12:J42) -> 6380 | K43: =SUM(K12:K42,H44) -> 3605 | L43: =SUM(L12:N42) -> 22770
H44: 1500
F46: à masquer | H46: =SUM(H43:H44) -> 1895
A53: BERTHOLOM | B53: JULIE | C53: JANVIER | L53: 2024
A54: GUIMBER | B54: ROMAIN | C54: FÉVRIER | L54: 2025
C55: MARS | L55: 2026
C56: AVRIL | L56: 2027
C57: MAI | L57: 2028
C58: JUIN | L58: 2029
C59: JUILLET | L59: 2030
C60: AOÛT | L60: 2031
C61: SEPTEMBRE | L61: 2032
C62: OCTOBRE | L62: 2033
C63: NOVEMBRE | L63: 2034
C64: DÉCEMBRE | L64: 2035
L65: 2036
L66: 2037
L67: 2038
L68: 2039
L69: 2040
L70: 2041
L71: 2042
L72: 2043
L73: 2044
L74: 2045
L75: 2046
L76: 2047
... L109: 2080
A110: =#REF! -> #REF! | B110: =#REF! -> #REF!
A111: =#REF! -> #REF! | B111: =#REF! -> #REF!
A112: =#REF! -> #REF! | B112: =#REF! -> #REF!
A113: =#REF! -> #REF! | B113: =#REF! -> #REF!
A114: =#REF! -> #REF! | B114: =#REF! -> #REF!
A115: =#REF! -> #REF! | B115: =#REF! -> #REF!
A116: =#REF! -> #REF! | B116: =#REF! -> #REF!
A117: =#REF! -> #REF! | B117: =#REF! -> #REF!
A118: =#REF! -> #REF! | B118: =#REF! -> #REF!
A119: =#REF! -> #REF! | B119: =#REF! -> #REF!
A120: =#REF! -> #REF! | B120: =#REF! -> #REF!
A121: =#REF! -> #REF! | B121: =#REF! -> #REF!
... A124: =#REF! -> #REF! | B124: =#REF! -> #REF!
A133: Chef de service : Directeur du Comité de Jumelage

Sheet MASTER
A1: ÉTAT DES HEURES SUPPLÉMENTAIRES | AB1: 1.65
AB2: 0.3125 | AL2: =AL5 -> 5
AL3: =J4 -> 2025
A4: Ville de CRÉTEIL : | H4: MOIS : | I4: MAI | J4: 2025
A5: Direction : Cabinet | AL5: =MONTH(DATEVALUE(I4&"1")) -> 5
A6: Service : Comité de Jumelage de Créteil
A7: Sous-Service :
J8: =TODAY() -> 45382
A10: NOM | B10: PRÉNOM | C10: DATE | D10: JOURS OUVRÉS | E10: Dimanche | F10: NUIT | G10: TOTAL | H10: MOTIF | AB10: RÉCAP | BJ10: =ROUND(DATE(J4,4,MOD(234-11*MOD(J4,19),30))/7,0)*7-6 -> 45767
E11: Jours fériés
A12: BERTHOLOM | B12: =IF(A12<>"",VLOOKUP(A12,$A$39:$B$42,2,FALSE),"") -> JULIE | G12: =SUM(D12:F12) -> 0 | AB12: Visualisation du mois en cours | BJ12: =DATE(J$4,1,1) -> 45658
B13: =IF(A13<>"",VLOOKUP(A13,$A$39:$B$42,2,FALSE),"") | G13: =SUM(D13:F13) -> 0 | BJ13: =DATE(J$4,5,1) -> 45778
B14: =IF(A14<>"",VLOOKUP(A14,$A$39:$B$42,2,FALSE),"") | G14: =SUM(D14:F14) -> 0 | AC14: =PROPER(TEXT(DATE($AL$3,AL2,1),"mmmm aa")) -> Mai 25 | BJ14: =DATE(J$4,5,8) -> 45785
B15: =IF(A15<>"",VLOOKUP(A15,$A$39:$B$42,2,FALSE),"") | G15: =SUM(D15:F15) -> 0 | AC15: L | AD15: M | AE15: M | AF15: J | AG15: V | AH15: S | AI15: D | BJ15: =DATE(J$4,7,14) -> 45852
B16: =IF(A16<>"",VLOOKUP(A16,$A$39:$B$42,2,FALSE),"") | G16: =SUM(D16:F16) -> 0 | AC16: {=IF(MONTH(DATE($AL$3,AL2,1)-WEEKDAY(DATE($AL$3,AL2,1),2)+{1,2,3,4,5,6,7}+{0;1;2;3;4;5}*7)=AL2,DATE($AL$3,AL2,1)-WEEKDAY(DATE($AL$3,AL2,1),2)+{1,2,3,4,5,6,7}+{0;1;2;3;4;5}*7,"")} | AF16: 45778 | AG16: 45779 | AH16: 45780 | AI16: 45781 | BJ16: =DATE(J$4,8,15) -> 45884
B17: =IF(A17<>"",VLOOKUP(A17,$A$39:$B$42,2,FALSE),"") | G17: =SUM(D17:F17) -> 0 | AC17: 45782 | AD17: 45783 | AE17: 45784 | AF17: 45785 | AG17: 45786 | AH17: 45787 | AI17: 45788 | BJ17: =DATE(J$4,11,1) -> 45962
B18: =IF(A18<>"",VLOOKUP(A18,$A$39:$B$42,2,FALSE),"") | G18: =SUM(D18:F18) -> 0 | AC18: 45789 | AD18: 45790 | AE18: 45791 | AF18: 45792 | AG18: 45793 | AH18: 45794 | AI18: 45795 | BJ18: =DATE(J$4,11,11) -> 45972
B19: =IF(A19<>"",VLOOKUP(A19,$A$39:$B$42,2,FALSE),"") | G19: =SUM(D19:F19) -> 0 | AC19: 45796 | AD19: 45797 | AE19: 45798 | AF19: 45799 | AG19: 45800 | AH19: 45801 | AI19: 45802 | BJ19: =DATE(J$4,12,25) -> 46016
B20: =IF(A20<>"",VLOOKUP(A20,$A$39:$B$42,2,FALSE),"") | G20: =SUM(D20:F20) -> 0 | AC20: 45803 | AD20: 45804 | AE20: 45805 | AF20: 45806 | AG20: 45807 | AH20: 45808 | BJ20: =BJ10+1 -> 45768
B21: =IF(A21<>"",VLOOKUP(A21,$A$39:$B$42,2,FALSE),"") | G21: =SUM(D21:F21) -> 0 | BJ21: =BJ10+39 -> 45806
B22: =IF(A22<>"",VLOOKUP(A22,$A$39:$B$42,2,FALSE),"") | G22: =SUM(D22:F22) -> 0 | BJ22: =BJ10+50 -> 45817
B23: =IF(A23<>"",VLOOKUP(A23,$A$39:$B$42,2,FALSE),"") | G23: =SUM(D23:F23) -> 0
B24: =IF(A24<>"",VLOOKUP(A24,$A$39:$B$42,2,FALSE),"") | G24: =SUM(D24:F24) -> 0 | AB24: 25 | AC24: = Jour(s) férié(s)
B25: =IF(A25<>"",VLOOKUP(A25,$A$39:$B$42,2,FALSE),"") | G25: =SUM(D25:F25) -> 0 | AB25: 12 | AC25: = Date du jour
B26: =IF(A26<>"",VLOOKUP(A26,$A$39:$B$42,2,FALSE),"") | G26: =SUM(D26:F26) -> 0
B27: =IF(A27<>"",VLOOKUP(A27,$A$39:$B$42,2,FALSE),"") | G27: =SUM(D27:F27) -> 0
B28: =IF(A28<>"",VLOOKUP(A28,$A$39:$B$42,2,FALSE),"") | G28: =SUM(D28:F28) -> 0 | V28: total de :
B29: =IF(A29<>"",VLOOKUP(A29,$A$39:$B$42,2,FALSE),"") | G29: =SUM(D29:F29) -> 0 | Q29: NOR | S29: DIM | U29: NUIT
C30: TOTAL | D30: =SUM(D10:D29) -> 0 | E30: =SUM(E10:E29) -> 0 | F30: =SUM(F10:F29) -> 0 | G30: =SUM(G10:G29) -> 0 | H30: Soit Récup de : | I30: =W30 -> 0 | J30: =Y30 -> 0 jour(s) et 00:00 | M30: 0.010416667 | N30: =D30*24 -> 0 | O30: =LEFT(N30, 2) -> 0 | P30: =SUM(O30*M30) -> 0 | Q30: =SUM(D30+P30) -> 0 | S30: =SUM(E30*2) -> 0 | U30: =SUM(F30*AB1+F30) -> 0 | V30: =SUM(Q30+S30+U30) -> 0 | W30: =MROUND(V30, "0:15") -> 0 | Y30: =INT(W30/AB2)&" jour(s) et "&TEXT(AB2*((W30/AB2)-INT(W30/AB2)),"[hh]:mm") -> 0 jour(s) et 00:00
A32: Chef de service : Directeur du Comité de Jumelage | E32: Prénom : | F32: Romain | H32: Nom : | I32: Guimber | W32: 0.5 | Y32: =INT(W32/AB2)&" jours et "&TEXT(AB2*((W32/AB2)-INT(W32/AB2)),"[hh]:mm") -> 1 jours et 04:30
W33: =MROUND(V33, "0:15") -> 0
A34: Signature :
A39: BERTHOLOM | B39: JULIE | C39: JANVIER | D39: 2024 | E39: -
A40: GUIMBER | B40: ROMAIN | C40: FÉVRIER | D40: 2025
C41: MARS | D41: 2026
C42: AVRIL | D42: 2027
C43: MAI | D43: 2028
C44: JUIN | D44: 2029
C45: JUILLET | D45: 2030
C46: AOÛT | D46: 2031
C47: SEPTEMBRE | D47: 2032
C48: OCTOBRE | D48: 2033
C49: NOVEMBRE | D49: 2034
C50: DÉCEMBRE | D50: 2035
D51: 2036
D52: 2037
D53: 2038
D54: 2039
D55: 2040
D56: 2041
D57: 2042
D58: 2043
D59: 2044
D60: 2045
D61: 2046
D62: 2047
... D95: 2080

Sheet JANV (2)
A1: ÉTAT DES HEURES SUPPLÉMENTAIRES | U1: 1.65 | V1: 0.3125
AL2: =AL5 -> 12
AL3: =M4 -> 2023
A4: Ville de CRÉTEIL : | J4: MOIS : | K4: DÉCEMBRE | M4: 2023
A5: Direction : Cabinet | AI5: =SUM(K4) -> 0 | AL5: =MONTH(DATEVALUE(K4&"1")) -> 12
A6: Service : Comité de Jumelage de Créteil
A7: Sous-Service :
L8: =TODAY() -> 45382
A10: NOM | B10: PRÉNOM | C10: DATE | D10: JOURS OUVRÉS | G10: Dimanche | H10: NUIT | I10: TOTAL | J10: MOTIF | BJ10: =ROUND(DATE(M4,4,MOD(234-11*MOD(M4,19),30))/7,0)*7-6 -> 45025
G11: Jours fériés
A12: GUIMBER | B12: =IF(A12<>"",VLOOKUP(A12,$A$41:$B$44,2,FALSE),"") -> ROMAIN | C12: 45249 | G12: 0.083333333 | I12: =SUM(E12:H12) -> 0.083333333 | AB12: Visualisation du mois en cours | BJ12: =DATE(M$4,1,1) -> 44927
C13: 45250 | D13: 0.13541667 | H13: 0.041666667 | I13: =SUM(E13:H13) -> 0.041666667 | BJ13: =DATE(M$4,5,1) -> 45047
C14: 45251 | D14: 0.22916667 | H14: 0.0625 | I14: =SUM(E14:H14) -> 0.0625 | AC14: =PROPER(TEXT(DATE($AL$3,AL2,1),"mmmm aa")) -> Décembre 23 | BJ14: =DATE(M$4,5,8) -> 45054
C15: 45252 | D15: 0.22916667 | H15: 0.041666667 | I15: =SUM(E15:H15) -> 0.041666667 | AC15: L | AD15: M | AE15: M | AF15: J | AG15: V | AH15: S | AI15: D | BJ15: =DATE(M$4,7,14) -> 45121
C16: 45253 | D16: 0.1875 | H16: 0.020833333 | I16: =SUM(E16:H16) -> 0.020833333 | AC16: {=IF(MONTH(DATE($AL$3,AL2,1)-WEEKDAY(DATE($AL$3,AL2,1),2)+{1,2,3,4,5,6,7}+{0;1;2;3;4;5}*7)=AL2,DATE($AL$3,AL2,1)-WEEKDAY(DATE($AL$3,AL2,1),2)+{1,2,3,4,5,6,7}+{0;1;2;3;4;5}*7,"")} | AG16: 45261 | AH16: 45262 | AI16: 45263 | BJ16: =DATE(M$4,8,15) -> 45153
C17: 45254 | D17: 0.14583333 | H17: 0.020833333 | I17: =SUM(E17:H17) -> 0.020833333 | AC17: 45264 | AD17: 45265 | AE17: 45266 | AF17: 45267 | AG17: 45268 | AH17: 45269 | AI17: 45270 | BJ17: =DATE(M$4,11,1) -> 45231
C18: 45256 | G18: 0.0625 | I18: =SUM(E18:H18) -> 0.0625 | AC18: 45271 | AD18: 45272 | AE18: 45273 | AF18: 45274 | AG18: 45275 | AH18: 45276 | AI18: 45277 | BJ18: =DATE(M$4,11,11) -> 45241
C19: 45285 | I19: =SUM(E19:H19) -> 0 | AC19: 45278 | AD19: 45279 | AE19: 45280 | AF19: 45281 | AG19: 45282 | AH19: 45283 | AI19: 45284 | BJ19: =DATE(M$4,12,25) -> 45285
B20: =IF(A20<>"",VLOOKUP(A20,$A$41:$B$44,2,FALSE),"") | C20: 45248 | I20: =SUM(E20:H20) -> 0 | AC20: 45285 | AD20: 45286 | AE20: 45287 | AF20: 45288 | AG20: 45289 | AH20: 45290 | AI20: 45291 | BJ20: =BJ10+1 -> 45026
B21: =IF(A21<>"",VLOOKUP(A21,$A$41:$B$44,2,FALSE),"") | C21: - | I21: =SUM(E21:H21) -> 0 | BJ21: =BJ10+39 -> 45064
B22: =IF(A22<>"",VLOOKUP(A22,$A$41:$B$44,2,FALSE),"") | C22: - | I22: =SUM(E22:H22) -> 0 | BJ22: =BJ10+50 -> 45075
C23: -
C24: - | AB24: 25 | AC24: = Jour(s) férié(s)
B25: =IF(A25<>"",VLOOKUP(A25,$A$41:$B$44,2,FALSE),"") | C25: - | I25: =SUM(E25:H25) -> 0 | AB25: 12 | AC25: = Date du jour
B26: =IF(A26<>"",VLOOKUP(A26,$A$41:$B$44,2,FALSE),"") | C26: - | I26: =SUM(E26:H26) -> 0
B27: =IF(A27<>"",VLOOKUP(A27,$A$41:$B$44,2,FALSE),"") | C27: - | I27: =SUM(E27:H27) -> 0
B28: =IF(A28<>"",VLOOKUP(A28,$A$41:$B$44,2,FALSE),"") | C28: - | I28: =SUM(E28:H28) -> 0
B29: =IF(A29<>"",VLOOKUP(A29,$A$41:$B$44,2,FALSE),"") | C29: - | I29: =SUM(E29:H29) -> 0
B30: =IF(A30<>"",VLOOKUP(A30,$A$41:$B$44,2,FALSE),"") | C30: - | I30: =SUM(E30:H30) -> 0 | X30: total de :
A31: TOTAL | D31: =SUM(D12:F30) -> 0.92708333 | E31: -14 | F31: + 14 | G31: =SUM(G12:G30) -> 0.14583333 | H31: =SUM(H12:H30) -> 0.1875 | J31: Soit : | K31: =SUM(D31,G31,H31) -> 1.2604167 | L31: =K4 & " " & M4 -> DÉCEMBRE 2023 | S31: NOR | U31: DIM | W31: NUIT
E32: =IF(D31>=M100,D31-F32,D31) -> 0.58333333 | F32: =IF(D31>$M$100,D31-$M$100,0) -> 0.34375 | I32: =SUM(I12:I31) -> 0.33333333 | O32: 0.010416667 | P32: =F99*24 -> 8.25 | Q32: =LEFT(P32, 2) -> 8, | R32: =SUM(Q32*O32) -> 0.083333333 | S32: =SUM(F99+R32) -> 0.42708333 | U32: =SUM(G31*2) -> 0.29166667 | W32: =SUM(H31*U1+H31) -> 0.496875 | X32: =SUM(S32+U32+W32) -> 1.215625 | Y32: =MROUND(X32, "0:15") -> 1.21875 | AA32: =INT(Y32/V1)&" jours et "&TEXT(V1*((Y32/V1)-INT(Y32/V1)),"[hh]:mm") -> 3 jours et 06:45
A34: Chef de service : Directeur du Comité de Jumelage | G34: Prénom : | H34: Romain | J34: Nom : | K34: Guimber
A36: Signature :
A41: BERTHOLOM | B41: JULIE | C41: JANVIER | E41: 2024 | G41: -
A42: GUIMBER | B42: ROMAIN | C42: FÉVRIER | E42: 2025
C43: MARS | E43: 2026
C44: AVRIL | E44: 2027
C45: MAI | E45: 2028
C46: JUIN | E46: 2029
C47: JUILLET | E47: 2030
C48: AOÛT | E48: 2031
C49: SEPTEMBRE | E49: 2032
C50: OCTOBRE | E50: 2033
C51: NOVEMBRE | E51: 2034
C52: DÉCEMBRE | E52: 2035
E53: 2036
E54: 2037
E55: 2038
E56: 2039
E57: 2040
E58: 2041
E59: 2042
E60: 2043
E61: 2044
E62: 2045
E63: 2046
E64: 2047
... E97: 2080
E99: =IF(D31>=M100,D31-F99,D31) -> 0.58333333 | F99: =IF(D31>$M$100,D31-$M$100,0) -> 0.34375
M100: 0.58333333

Sheet Décimal en hrs
A1: 22.75 | B1: =A1/24 -> 0.94791667
