Workbook

Sheet RÉCAP 
A1: BON DE COMMANDES | F1: FACTURES
A2: DATE | B2: N°ENGAGEMENT | C2: DESTINATION | D2: MONTANT | F2: DATE | G2: N°ENGAGEMENT | H2: DESTINATION | I2: MONTANT | M2: Annulé | N2: Annulé
A3: =BDC!B5 -> 22.01.2019 | B3: =BDC!C5 -> 123 | C3: =BDC!E5 -> Secteur 1 | D3: =BDC!G5 -> 150 | F3: =FACTURES!B5 -> 22.01.2019 | G3: =FACTURES!C5 -> 456 | H3: =FACTURES!G5 -> Secteur 3 | I3: =FACTURES!H5 -> 499 | L3: GYMNASE DE MAROLLES | M3: =BDC!I5 -> 0 | N3: =FACTURES!J5 -> 0 | T3: ALFORVILLE
A4: =BDC!B6 -> 06.02.2019 | B4: =BDC!C6 -> 456 | C4: =BDC!E6 -> Secteur 3 | D4: =BDC!G6 -> 320 | F4: =FACTURES!B6 -> 0 | G4: =FACTURES!C6 -> 0 | H4: =FACTURES!G6 -> 0 | I4: =FACTURES!H6 -> 0 | L4: STADE DE MAROLLES | M4: =BDC!I6 -> 0 | N4: =FACTURES!J6 -> 0
A5: =BDC!B7 -> 13.02.2019 | B5: =BDC!C7 -> 789 | C5: =BDC!E7 -> Secteur 2 | D5: =BDC!G7 -> 1500 | F5: =FACTURES!B7 -> 0 | G5: =FACTURES!C7 -> 0 | H5: =FACTURES!G7 -> 0 | I5: =FACTURES!H7 -> 0 | L5: PARC DES SPORTS | M5: =BDC!I7 -> 0 | N5: =FACTURES!J7 -> 0
A6: =BDC!B8 -> 0 | B6: =BDC!C8 -> 0 | C6: =BDC!E8 -> 0 | D6: =BDC!G8 -> 0 | F6: =FACTURES!B8 -> 0 | G6: =FACTURES!C8 -> 0 | H6: =FACTURES!G8 -> 0 | I6: =FACTURES!H8 -> 0 | L6: COMPLEXE DU BELVEDERE | M6: =BDC!I8 -> 0 | N6: =FACTURES!J8 -> 0
A7: =BDC!B9 -> 0 | B7: =BDC!C9 -> 0 | C7: =BDC!E9 -> 0 | D7: =BDC!G9 -> 0 | F7: =FACTURES!B9 -> 0 | G7: =FACTURES!C9 -> 0 | H7: =FACTURES!G9 -> 0 | I7: =FACTURES!H9 -> 0 | L7: ALFORVILLE | M7: =BDC!I9 -> 0 | N7: =FACTURES!J9 -> 0
A8: =BDC!B10 -> 0 | B8: =BDC!C10 -> 0 | C8: =BDC!E10 -> 0 | D8: =BDC!G10 -> 0 | F8: =FACTURES!B10 -> 0 | G8: =FACTURES!C10 -> 0 | H8: =FACTURES!G10 -> 0 | I8: =FACTURES!H10 -> 0 | M8: =BDC!I10 -> 0 | N8: =FACTURES!J10 -> 0
A9: =BDC!B11 -> 0 | B9: =BDC!C11 -> 0 | C9: =BDC!E11 -> 0 | D9: =BDC!G11 -> 0 | F9: =FACTURES!B11 -> 0 | G9: =FACTURES!C11 -> 0 | H9: =FACTURES!G11 -> 0 | I9: =FACTURES!H11 -> 0 | M9: =BDC!I11 -> 0 | N9: =FACTURES!J11 -> 0
A10: =BDC!B12 -> 0 | B10: =BDC!C12 -> 0 | C10: =BDC!E12 -> 0 | D10: =BDC!G12 -> 0 | F10: =FACTURES!B12 -> 0 | G10: =FACTURES!C12 -> 0 | H10: =FACTURES!G12 -> 0 | I10: =FACTURES!H12 -> 0 | M10: =BDC!I12 -> 0 | N10: =FACTURES!J12 -> 0
A11: =BDC!B13 -> 0 | B11: =BDC!C13 -> 0 | C11: =BDC!E13 -> 0 | D11: =BDC!G13 -> 0 | F11: =FACTURES!B13 -> 0 | G11: =FACTURES!C13 -> 0 | H11: =FACTURES!G13 -> 0 | I11: =FACTURES!H13 -> 0 | M11: =BDC!I13 -> 0 | N11: =FACTURES!J13 -> 0
A12: =BDC!B14 -> 0 | B12: =BDC!C14 -> 0 | C12: =BDC!E14 -> 0 | D12: =BDC!G14 -> 0 | F12: =FACTURES!B14 -> 0 | G12: =FACTURES!C14 -> 0 | H12: =FACTURES!G14 -> 0 | I12: =FACTURES!H14 -> 0 | M12: =BDC!I14 -> 0 | N12: =FACTURES!J14 -> 0
A13: =BDC!B15 -> 0 | B13: =BDC!C15 -> 0 | C13: =BDC!E15 -> 0 | D13: =BDC!G15 -> 0 | F13: =FACTURES!B15 -> 0 | G13: =FACTURES!C15 -> 0 | H13: =FACTURES!G15 -> 0 | I13: =FACTURES!H15 -> 0 | M13: =BDC!I15 -> 0 | N13: =FACTURES!J15 -> 0
A14: =BDC!B16 -> 0 | B14: =BDC!C16 -> 0 | C14: =BDC!E16 -> 0 | D14: =BDC!G16 -> 0 | F14: =FACTURES!B16 -> 0 | G14: =FACTURES!C16 -> 0 | H14: =FACTURES!G16 -> 0 | I14: =FACTURES!H16 -> 0 | M14: =BDC!I16 -> 0 | N14: =FACTURES!J16 -> 0
A15: =BDC!B17 -> 0 | B15: =BDC!C17 -> 0 | C15: =BDC!E17 -> 0 | D15: =BDC!G17 -> 0 | F15: =FACTURES!B17 -> 0 | G15: =FACTURES!C17 -> 0 | H15: =FACTURES!G17 -> 0 | I15: =FACTURES!H17 -> 0 | M15: =BDC!I17 -> 0 | N15: =FACTURES!J17 -> 0
A16: =BDC!B18 -> 0 | B16: =BDC!C18 -> 0 | C16: =BDC!E18 -> 0 | D16: =BDC!G18 -> 0 | F16: =FACTURES!B18 -> 0 | G16: =FACTURES!C18 -> 0 | H16: =FACTURES!G18 -> 0 | I16: =FACTURES!H18 -> 0 | M16: =BDC!I18 -> 0 | N16: =FACTURES!J18 -> 0
A17: =BDC!B19 -> 0 | B17: =BDC!C19 -> 0 | C17: =BDC!E19 -> 0 | D17: =BDC!G19 -> 0 | F17: =FACTURES!B19 -> 0 | G17: =FACTURES!C19 -> 0 | H17: =FACTURES!G19 -> 0 | I17: =FACTURES!H19 -> 0 | M17: =BDC!I19 -> A | N17: =FACTURES!J19 -> 0
A18: =BDC!B20 -> 0 | B18: =BDC!C20 -> 0 | C18: =BDC!E20 -> 0 | D18: =BDC!G20 -> 0 | F18: =FACTURES!B20 -> 0 | G18: =FACTURES!C20 -> 0 | H18: =FACTURES!G20 -> 0 | I18: =FACTURES!H20 -> 0 | M18: =BDC!I20 -> 0 | N18: =FACTURES!J20 -> 0
A19: =BDC!B21 -> 0 | B19: =BDC!C21 -> 0 | C19: =BDC!E21 -> 0 | D19: =BDC!G21 -> 0 | F19: =FACTURES!B21 -> 0 | G19: =FACTURES!C21 -> 0 | H19: =FACTURES!G21 -> 0 | I19: =FACTURES!H21 -> 0 | M19: =BDC!I21 -> 0 | N19: =FACTURES!J21 -> 0
... A500: =BDC!B502 -> 0 | B500: =BDC!C502 -> 0 | C500: =BDC!E502 -> 0 | D500: =BDC!G502 -> 0 | F500: =FACTURES!B502 -> 0 | G500: =FACTURES!C502 -> 0 | H500: =FACTURES!G502 -> 0 | I500: =FACTURES!H502 -> 0 | M500: =BDC!I502 -> 0 | N500: =FACTURES!J502 -> 0
A501: =BDC!B503 -> 0 | B501: =BDC!C503 -> 0 | C501: =BDC!E503 -> 0 | D501: =BDC!G503 -> 0 | F501: =FACTURES!B503 -> 0 | G501: =FACTURES!C503 -> 0 | I501: =FACTURES!H503 -> 0 | J501: =FACTURES!G503 -> 0
A502: =BDC!B504 -> 0 | B502: =BDC!C504 -> 0 | C502: =BDC!E504 -> 0 | D502: =BDC!G504 -> 0 | F502: =FACTURES!B504 -> 0 | G502: =FACTURES!C504 -> 0 | I502: =FACTURES!H504 -> 0 | J502: =FACTURES!G504 -> 0
A503: =BDC!B505 -> 0 | B503: =BDC!C505 -> 0 | C503: =BDC!E505 -> 0 | D503: =BDC!G505 -> 0 | F503: =FACTURES!B505 -> 0 | G503: =FACTURES!C505 -> 0 | I503: =FACTURES!H505 -> 0 | J503: =FACTURES!G505 -> 0
A504: =BDC!B506 -> 0 | B504: =BDC!C506 -> 0 | C504: =BDC!E506 -> 0 | D504: =BDC!G506 -> 0 | F504: =FACTURES!B506 -> 0 | G504: =FACTURES!C506 -> 0 | I504: =FACTURES!H506 -> 0 | J504: =FACTURES!G506 -> 0
A505: =BDC!B507 -> 0 | B505: =BDC!C507 -> 0 | C505: =BDC!E507 -> 0 | D505: =BDC!G507 -> 0 | F505: =FACTURES!B507 -> 0 | G505: =FACTURES!C507 -> 0 | I505: =FACTURES!H507 -> 0 | J505: =FACTURES!G507 -> 0
A506: =BDC!B508 -> 0 | B506: =BDC!C508 -> 0 | C506: =BDC!E508 -> 0 | D506: =BDC!G508 -> 0 | F506: =FACTURES!B508 -> 0 | G506: =FACTURES!C508 -> 0 | I506: =FACTURES!H508 -> 0 | J506: =FACTURES!G508 -> 0
A507: =BDC!B509 -> 0 | B507: =BDC!C509 -> 0 | C507: =BDC!E509 -> 0 | D507: =BDC!G509 -> 0 | F507: =FACTURES!B509 -> 0 | G507: =FACTURES!C509 -> 0 | I507: =FACTURES!H509 -> 0 | J507: =FACTURES!G509 -> 0
A508: =BDC!B510 -> 0 | B508: =BDC!C510 -> 0 | C508: =BDC!E510 -> 0 | D508: =BDC!G510 -> 0 | F508: =FACTURES!B510 -> 0 | G508: =FACTURES!C510 -> 0 | I508: =FACTURES!H510 -> 0 | J508: =FACTURES!G510 -> 0
A509: =BDC!B511 -> 0 | B509: =BDC!C511 -> 0 | C509: =BDC!E511 -> 0 | D509: =BDC!G511 -> 0 | F509: =FACTURES!B511 -> 0 | G509: =FACTURES!C511 -> 0 | I509: =FACTURES!H511 -> 0 | J509: =FACTURES!G511 -> 0
A510: =BDC!B512 -> 0 | B510: =BDC!C512 -> 0 | C510: =BDC!E512 -> 0 | D510: =BDC!G512 -> 0 | F510: =FACTURES!B512 -> 0 | G510: =FACTURES!C512 -> 0 | I510: =FACTURES!H512 -> 0 | J510: =FACTURES!G512 -> 0
A511: =BDC!B513 -> 0 | B511: =BDC!C513 -> 0 | C511: =BDC!E513 -> 0 | D511: =BDC!G513 -> 0 | F511: =FACTURES!B513 -> 0 | G511: =FACTURES!C513 -> 0 | I511: =FACTURES!H513 -> 0 | J511: =FACTURES!G513 -> 0
A512: =BDC!B514 -> 0 | B512: =BDC!C514 -> 0 | C512: =BDC!E514 -> 0 | D512: =BDC!G514 -> 0 | F512: =FACTURES!B514 -> 0 | G512: =FACTURES!C514 -> 0 | I512: =FACTURES!H514 -> 0 | J512: =FACTURES!G514 -> 0
... A636: =BDC!B638 -> 0 | B636: =BDC!C638 -> 0 | C636: =BDC!E638 -> 0 | D636: =BDC!G638 -> 0 | F636: =FACTURES!B638 -> 0 | G636: =FACTURES!C638 -> 0 | I636: =FACTURES!H638 -> 0 | J636: =FACTURES!G638 -> 0
A637: =BDC!B639 -> 0 | B637: =BDC!C639 -> 0 | D637: =BDC!G639 -> 0 | F637: =FACTURES!B639 -> 0 | G637: =FACTURES!C639 -> 0 | I637: =FACTURES!H639 -> 0 | J637: =FACTURES!G639 -> 0
A638: =BDC!B640 -> 0 | B638: =BDC!C640 -> 0 | D638: =BDC!G640 -> 0 | F638: =FACTURES!B640 -> 0 | G638: =FACTURES!C640 -> 0 | I638: =FACTURES!H640 -> 0 | J638: =FACTURES!G640 -> 0
A639: =BDC!B641 -> 0 | B639: =BDC!C641 -> 0 | D639: =BDC!G641 -> 0 | F639: =FACTURES!B641 -> 0 | G639: =FACTURES!C641 -> 0 | I639: =FACTURES!H641 -> 0 | J639: =FACTURES!G641 -> 0
A640: =BDC!B642 -> 0 | B640: =BDC!C642 -> 0 | D640: =BDC!G642 -> 0 | F640: =FACTURES!B642 -> 0 | G640: =FACTURES!C642 -> 0 | I640: =FACTURES!H642 -> 0 | J640: =FACTURES!G642 -> 0
A641: =BDC!B643 -> 0 | B641: =BDC!C643 -> 0 | D641: =BDC!G643 -> 0 | F641: =FACTURES!B643 -> 0 | G641: =FACTURES!C643 -> 0 | I641: =FACTURES!H643 -> 0 | J641: =FACTURES!G643 -> 0
A642: =BDC!B644 -> 0 | B642: =BDC!C644 -> 0 | D642: =BDC!G644 -> 0 | F642: =FACTURES!B644 -> 0 | G642: =FACTURES!C644 -> 0 | I642: =FACTURES!H644 -> 0 | J642: =FACTURES!G644 -> 0
A643: =BDC!B645 -> 0 | B643: =BDC!C645 -> 0 | D643: =BDC!G645 -> 0 | F643: =FACTURES!B645 -> 0 | G643: =FACTURES!C645 -> 0 | I643: =FACTURES!H645 -> 0 | J643: =FACTURES!G645 -> 0
...

Sheet BDC
B2: SUIVI BUDGET 2019 - BONS DE COMMANDE - ÉQUIPEMENTS TERRESTRES | I2: A | J2: £
B3: Auteur : Esposito Didier | H3: =TODAY() -> 43735 | J3: MODE DE RECHERCHE
B4: DATE | C4: N°ENGAGEMENT | D4: SOCIETÉ | E4: DESTINATION | F4: IMPUTATION | G4: MONTANT | H4: LIBELLÉS | N4: N° onglet factures | O4: Secteur 1 | Q4: Numero engagement BDC
B5: 22.01.2019 | C5: 123 | D5: darty | E5: Secteur 1 | F5: 2188 | G5: 150 | H5: HP | L5: total des sommes en cours | N5: =FACTURES!C5 -> 456 | O5: Secteur 2 | Q5: =VLOOKUP(C5,$N$5:$N$500,1,0) -> #N/A | R5: =IF(T5<>$R$2,$R$3,G5) -> #N/A | S5: =IF(Q5<>$R$2,$R$3,G5) -> #N/A | T5: =Q5 -> #N/A
B6: 06.02.2019 | C6: 456 | D6: fnac | E6: Secteur 3 | F6: 61558 | G6: 320 | H6: Écouteurs | L6: =SUM(G5:G550) -> 1970 | N6: =FACTURES!C6 -> 0 | O6: Secteur 3 | Q6: =VLOOKUP(C6,$N$5:$N$500,1,0) -> 456 | R6: =IF(T6<>$R$2,$R$3,G6) -> 0 | S6: =IF(Q6<>$R$2,$R$3,G6) -> 0 | T6: =Q6 -> 456
B7: 13.02.2019 | C7: 789 | D7: boulanger | E7: Secteur 2 | F7: 61588 | G7: 1500 | H7: TV | N7: =FACTURES!C7 -> 0 | O7: Secteur 4 | Q7: =VLOOKUP(C7,$N$5:$N$500,1,0) -> #N/A | R7: =IF(T7<>$R$2,$R$3,G7) -> #N/A | S7: =IF(Q7<>$R$2,$R$3,G7) -> #N/A | T7: =Q7 -> #N/A
L8: il me faudrai le solde des | N8: =FACTURES!C8 -> 0 | Q8: =VLOOKUP(C8,$N$5:$N$500,1,0) -> 0 | R8: =IF(Q8<>$R$2,$R$3,G8) -> 0 | S8: =IF(Q8<>$R$2,$R$3,G8) -> 0 | T8: =Q8 -> 0
L9: sommes ou les numeros de | N9: =FACTURES!C9 -> 0 | Q9: =VLOOKUP(C9,$N$5:$N$500,1,0) -> 0 | R9: =IF(Q9<>$R$2,$R$3,G9) -> 0 | S9: =IF(Q9<>$R$2,$R$3,G9) -> 0 | T9: =Q9 -> 0
L10: facture ne sont pas encore editées | N10: =FACTURES!C10 -> 0 | Q10: =VLOOKUP(C10,$N$5:$N$500,1,FALSE) -> 0 | R10: =IF(Q10<>$R$2,$R$3,G10) -> 0 | S10: =IF(Q10<>$R$2,$R$3,G10) -> 0 | T10: =Q10 -> 0
L11: soit pour EX 123 et 789 | N11: =FACTURES!C11 -> 0 | Q11: =VLOOKUP(C11,$N$5:$N$500,1,FALSE) -> 0 | R11: =IF(Q11<>$R$2,$R$3,G11) -> 0 | S11: =IF(Q11<>$R$2,$R$3,G11) -> 0 | T11: =Q11 -> 0
N12: =FACTURES!C12 -> 0 | Q12: =VLOOKUP(C12,$N$5:$N$500,1,FALSE) -> 0 | R12: =IF(Q12<>$R$2,$R$3,G12) -> 0 | S12: =IF(Q12<>$R$2,$R$3,G12) -> 0 | T12: =Q12 -> 0
L13: j'ai essayé des fromules de Q à T | N13: =FACTURES!C13 -> 0 | Q13: =VLOOKUP(C13,$N$5:$N$500,1,FALSE) -> 0 | R13: =IF(Q13<>$R$2,$R$3,G13) -> 0 | S13: =IF(Q13<>$R$2,$R$3,G13) -> 0 | T13: =Q13 -> 0
L14: mais je ne parviens pas à trouver | N14: =FACTURES!C14 -> 0 | Q14: =VLOOKUP(C14,$N$5:$N$500,1,FALSE) -> 0 | R14: =IF(Q14<>$R$2,$R$3,G14) -> 0 | S14: =IF(Q14<>$R$2,$R$3,G14) -> 0 | T14: =Q14 -> 0
N15: =FACTURES!C15 -> 0 | Q15: =VLOOKUP(C15,$N$5:$N$500,1,FALSE) -> 0 | R15: =IF(Q15<>$R$2,$R$3,G15) -> 0 | S15: =IF(Q15<>$R$2,$R$3,G15) -> 0 | T15: =Q15 -> 0
N16: =FACTURES!C16 -> 0 | Q16: =VLOOKUP(C16,$N$5:$N$500,1,FALSE) -> 0 | R16: =IF(Q16<>$R$2,$R$3,G16) -> 0 | S16: =IF(Q16<>$R$2,$R$3,G16) -> 0 | T16: =Q16 -> 0
N17: =FACTURES!C17 -> 0 | Q17: =VLOOKUP(C17,$N$5:$N$500,1,FALSE) -> 0 | R17: =IF(Q17<>$R$2,$R$3,G17) -> 0 | S17: =IF(Q17<>$R$2,$R$3,G17) -> 0 | T17: =Q17 -> 0
N18: =FACTURES!C18 -> 0 | Q18: =VLOOKUP(C18,$N$5:$N$500,1,FALSE) -> 0 | R18: =IF(Q18<>$R$2,$R$3,G18) -> 0 | S18: =IF(Q18<>$R$2,$R$3,G18) -> 0 | T18: =Q18 -> 0
I19: A | N19: =FACTURES!C19 -> 0 | Q19: =VLOOKUP(C19,$N$5:$N$500,1,FALSE) -> 0 | R19: =IF(Q19<>$R$2,$R$3,G19) -> 0 | S19: =IF(Q19<>$R$2,$R$3,G19) -> 0 | T19: =Q19 -> 0
N20: =FACTURES!C20 -> 0 | Q20: =VLOOKUP(C20,$N$5:$N$500,1,FALSE) -> 0 | R20: =IF(Q20<>$R$2,$R$3,G20) -> 0 | S20: =IF(Q20<>$R$2,$R$3,G20) -> 0 | T20: =Q20 -> 0
N21: =FACTURES!C21 -> 0 | Q21: =VLOOKUP(C21,$N$5:$N$500,1,FALSE) -> 0 | R21: =IF(Q21<>$R$2,$R$3,G21) -> 0 | S21: =IF(Q21<>$R$2,$R$3,G21) -> 0 | T21: =Q21 -> 0
N22: =FACTURES!C22 -> 0 | Q22: =VLOOKUP(C22,$N$5:$N$500,1,FALSE) -> 0 | R22: =IF(Q22<>$R$2,$R$3,G22) -> 0 | S22: =IF(Q22<>$R$2,$R$3,G22) -> 0 | T22: =Q22 -> 0
N23: =FACTURES!C23 -> 0 | Q23: =VLOOKUP(C23,$N$5:$N$500,1,FALSE) -> 0 | R23: =IF(Q23<>$R$2,$R$3,G23) -> 0 | S23: =IF(Q23<>$R$2,$R$3,G23) -> 0 | T23: =Q23 -> 0
N24: =FACTURES!C24 -> 0 | Q24: =VLOOKUP(C24,$N$5:$N$500,1,FALSE) -> 0 | R24: =IF(Q24<>$R$2,$R$3,G24) -> 0 | S24: =IF(Q24<>$R$2,$R$3,G24) -> 0 | T24: =Q24 -> 0
N25: =FACTURES!C25 -> 0 | Q25: =VLOOKUP(C25,$N$5:$N$500,1,FALSE) -> 0 | R25: =IF(Q25<>$R$2,$R$3,G25) -> 0 | S25: =IF(Q25<>$R$2,$R$3,G25) -> 0 | T25: =Q25 -> 0
N26: =FACTURES!C26 -> 0 | Q26: =VLOOKUP(C26,$N$5:$N$500,1,FALSE) -> 0 | R26: =IF(Q26<>$R$2,$R$3,G26) -> 0 | S26: =IF(Q26<>$R$2,$R$3,G26) -> 0 | T26: =Q26 -> 0
N27: =FACTURES!C27 -> 0 | Q27: =VLOOKUP(C27,$N$5:$N$500,1,FALSE) -> 0 | R27: =IF(Q27<>$R$2,$R$3,G27) -> 0 | S27: =IF(Q27<>$R$2,$R$3,G27) -> 0 | T27: =Q27 -> 0
I28: A | N28: =FACTURES!C28 -> 0 | Q28: =VLOOKUP(C28,$N$5:$N$500,1,FALSE) -> 0 | R28: =IF(Q28<>$R$2,$R$3,G28) -> 0 | S28: =IF(Q28<>$R$2,$R$3,G28) -> 0 | T28: =Q28 -> 0
N29: =FACTURES!C29 -> 0 | Q29: =VLOOKUP(C29,$N$5:$N$500,1,FALSE) -> 0 | R29: =IF(Q29<>$R$2,$R$3,G29) -> 0 | S29: =IF(Q29<>$R$2,$R$3,G29) -> 0 | T29: =Q29 -> 0
N30: =FACTURES!C30 -> 0 | Q30: =VLOOKUP(C30,$N$5:$N$500,1,FALSE) -> 0 | R30: =IF(Q30<>$R$2,$R$3,G30) -> 0 | S30: =IF(Q30<>$R$2,$R$3,G30) -> 0 | T30: =Q30 -> 0
N31: =FACTURES!C31 -> 0 | Q31: =VLOOKUP(C31,$N$5:$N$500,1,FALSE) -> 0 | R31: =IF(Q31<>$R$2,$R$3,G31) -> 0 | S31: =IF(Q31<>$R$2,$R$3,G31) -> 0 | T31: =Q31 -> 0
N32: =FACTURES!C32 -> 0 | Q32: =VLOOKUP(C32,$N$5:$N$500,1,FALSE) -> 0 | R32: =IF(Q32<>$R$2,$R$3,G32) -> 0 | S32: =IF(Q32<>$R$2,$R$3,G32) -> 0 | T32: =Q32 -> 0
N33: =FACTURES!C33 -> 0 | Q33: =VLOOKUP(C33,$N$5:$N$500,1,FALSE) -> 0 | R33: =IF(Q33<>$R$2,$R$3,G33) -> 0 | S33: =IF(Q33<>$R$2,$R$3,G33) -> 0 | T33: =Q33 -> 0
N34: =FACTURES!C34 -> 0 | Q34: =VLOOKUP(C34,$N$5:$N$500,1,FALSE) -> 0 | R34: =IF(Q34<>$R$2,$R$3,G34) -> 0 | S34: =IF(Q34<>$R$2,$R$3,G34) -> 0 | T34: =Q34 -> 0
N35: =FACTURES!C35 -> 0 | Q35: =VLOOKUP(C35,$N$5:$N$500,1,FALSE) -> 0 | R35: =IF(Q35<>$R$2,$R$3,G35) -> 0 | S35: =IF(Q35<>$R$2,$R$3,G35) -> 0 | T35: =Q35 -> 0
N36: =FACTURES!C36 -> 0 | Q36: =VLOOKUP(C36,$N$5:$N$500,1,FALSE) -> 0 | R36: =IF(Q36<>$R$2,$R$3,G36) -> 0 | S36: =IF(Q36<>$R$2,$R$3,G36) -> 0 | T36: =Q36 -> 0
N37: =FACTURES!C37 -> 0 | Q37: =VLOOKUP(C37,$N$5:$N$500,1,FALSE) -> 0 | R37: =IF(Q37<>$R$2,$R$3,G37) -> 0 | S37: =IF(Q37<>$R$2,$R$3,G37) -> 0 | T37: =Q37 -> 0
N38: =FACTURES!C38 -> 0 | Q38: =VLOOKUP(C38,$N$5:$N$500,1,FALSE) -> 0 | R38: =IF(Q38<>$R$2,$R$3,G38) -> 0 | S38: =IF(Q38<>$R$2,$R$3,G38) -> 0 | T38: =Q38 -> 0
N39: =FACTURES!C39 -> 0 | Q39: =VLOOKUP(C39,$N$5:$N$500,1,FALSE) -> 0 | R39: =IF(Q39<>$R$2,$R$3,G39) -> 0 | S39: =IF(Q39<>$R$2,$R$3,G39) -> 0 | T39: =Q39 -> 0
N40: =FACTURES!C40 -> 0 | Q40: =VLOOKUP(C40,$N$5:$N$500,1,FALSE) -> 0 | R40: =IF(Q40<>$R$2,$R$3,G40) -> 0 | S40: =IF(Q40<>$R$2,$R$3,G40) -> 0 | T40: =Q40 -> 0
... N42: =FACTURES!C42 -> 0 | Q42: =VLOOKUP(C42,$N$5:$N$500,1,FALSE) -> 0 | R42: =IF(Q42<>$R$2,$R$3,G42) -> 0 | S42: =IF(Q42<>$R$2,$R$3,G42) -> 0 | T42: =Q42 -> 0
...

Sheet FACTURES
B2: SUIVI BUDGET 2019 - FACTURES - ÉQUIPEMENTS TERRESTRES | J2: A | K2: $ | N2: LIQUIDÉE
B3: Auteur : Esposito Didier | I3: =TODAY() -> 43735 | K3: MODE DE RECHERCHE
B4: DATE | C4: N°ENGAGEMENT | D4: N°FACTURE | E4: SOCIETÉ | F4: IMPUTATION | G4: DESTINATION | H4: MONTANT | I4: ÉTAT | O4: Secteur 1 | Q4: EN ATTENTE
B5: 22.01.2019 | C5: 456 | D5: 201900686 | E5: darty | F5: 2188 | G5: Secteur 3 | H5: 499 | I5: =IF(R5<>$L$2,$N$2,$N$3) -> LIQUIDÉE | L5: 2188 | M5: Investissement | O5: Secteur 2 | R5: =VLOOKUP(C5,$N$5:$N$500,1,FALSE) -> 456
N6: =BDC!C5 -> 123 | O6: Secteur 3 | Q6: LIQUIDÉE | R6: =VLOOKUP(C6,$N$6:$N$500,1,FALSE) -> 0
N7: =BDC!C6 -> 456 | O7: Secteur 4 | R7: =VLOOKUP(C7,$N$6:$N$500,1,FALSE) -> 0
N8: =BDC!C7 -> 789 | O8: Secteur 5 | R8: =VLOOKUP(C8,$N$6:$N$500,1,FALSE) -> 0
N9: =BDC!C8 -> 0 | R9: =VLOOKUP(C9,$N$6:$N$500,1,FALSE) -> 0
N10: =BDC!C9 -> 0 | R10: =VLOOKUP(C10,$N$6:$N$500,1,FALSE) -> 0
N11: =BDC!C10 -> 0 | R11: =VLOOKUP(C11,$N$6:$N$500,1,FALSE) -> 0
N12: =BDC!C11 -> 0 | R12: =VLOOKUP(C12,$N$6:$N$500,1,FALSE) -> 0
N13: =BDC!C12 -> 0 | R13: =VLOOKUP(C13,$N$6:$N$500,1,FALSE) -> 0
N14: =BDC!C13 -> 0 | R14: =VLOOKUP(C14,$N$6:$N$500,1,FALSE) -> 0
N15: =BDC!C14 -> 0 | R15: =VLOOKUP(C15,$N$6:$N$500,1,FALSE) -> 0
N16: =BDC!C15 -> 0 | R16: =VLOOKUP(C16,$N$6:$N$500,1,FALSE) -> 0
N17: =BDC!C16 -> 0 | R17: =VLOOKUP(C17,$N$6:$N$500,1,FALSE) -> 0
N18: =BDC!C17 -> 0 | R18: =VLOOKUP(C18,$N$6:$N$500,1,FALSE) -> 0
N19: =BDC!C18 -> 0 | R19: =VLOOKUP(C19,$N$6:$N$500,1,FALSE) -> 0
N20: =BDC!C19 -> 0 | R20: =VLOOKUP(C20,$N$6:$N$500,1,FALSE) -> 0
... N124: =BDC!C123 -> 0 | R124: =VLOOKUP(C124,$N$6:$N$500,1,FALSE) -> 0
R125: =VLOOKUP(C125,$N$6:$N$500,1,FALSE) -> 0
R126: =VLOOKUP(C126,$N$6:$N$500,1,FALSE) -> 0
R127: =VLOOKUP(C127,$N$6:$N$500,1,FALSE) -> 0
R128: =VLOOKUP(C128,$N$6:$N$500,1,FALSE) -> 0
R129: =VLOOKUP(C129,$N$6:$N$500,1,FALSE) -> 0
R130: =VLOOKUP(C130,$N$6:$N$500,1,FALSE) -> 0
R131: =VLOOKUP(C131,$N$6:$N$500,1,FALSE) -> 0
R132: =VLOOKUP(C132,$N$6:$N$500,1,FALSE) -> 0
R133: =VLOOKUP(C133,$N$6:$N$500,1,FALSE) -> 0
R134: =VLOOKUP(C134,$N$6:$N$500,1,FALSE) -> 0
R135: =VLOOKUP(C135,$N$6:$N$500,1,FALSE) -> 0
R136: =VLOOKUP(C136,$N$6:$N$500,1,FALSE) -> 0
... R259: =VLOOKUP(C259,$N$6:$N$500,1,FALSE) -> 0
I260: =IF(R260<>$L$2,$N$2,$N$3) -> 0 | R260: =VLOOKUP(C260,$N$6:$N$500,1,FALSE) -> 0
I261: =IF(R261<>$L$2,$N$2,$N$3) -> 0 | R261: =VLOOKUP(C261,$N$6:$N$500,1,FALSE) -> 0
I262: =IF(R262<>$L$2,$N$2,$N$3) -> 0 | R262: =VLOOKUP(C262,$N$6:$N$500,1,FALSE) -> 0
I263: =IF(R263<>$L$2,$N$2,$N$3) -> 0 | R263: =VLOOKUP(C263,$N$6:$N$500,1,FALSE) -> 0
I264: =IF(R264<>$L$2,$N$2,$N$3) -> 0 | R264: =VLOOKUP(C264,$N$6:$N$500,1,FALSE) -> 0
I265: =IF(R265<>$L$2,$N$2,$N$3) -> 0 | R265: =VLOOKUP(C265,$N$6:$N$500,1,FALSE) -> 0
I266: =IF(R266<>$L$2,$N$2,$N$3) -> 0 | R266: =VLOOKUP(C266,$N$6:$N$500,1,FALSE) -> 0
...
