Workbook
Name imp: 'QCM automatique'!$A$1:$D$96

Sheet Les questions
A1: LE QUESTIONNAIRE
A3: Question 1 | B3: Que signifie ERP ?
A4: Question 2 | B4: Qu'est ce que la conduction dans un feu ?
A5: Question 3 | B5: Que risque l'employeur qui est lié par un contrat de travail avec un agent de sécurité non titulaire de la carte professionnelle ?
A6: Question 4 | B6: Les agents qui exercent des activités de protection physique des personnes
A7: Question 5 | B7: Vous devez effectuer une palpation de sécurité. Quelles sont les conditions à respecter ?
A8: Question 6 | B8: Un agent de sécurité privée, pendant son service, ne doit pas faire preuve de :
A9: Question 7 | B9: Qu'est ce qu'une arme de catégorie A1 ?
A10: Question 8 | B10: A quoi sert le plan vigipirate ?
A11: Question 9 | B11: Qu'appelle-t-on « conflit » dans la sécurité privée?
A12: Question 10 | B12: Question 10
A13: Question 11 | B13: Question 11
A14: Question 12 | B14: Question 12
... A22: Question 20 | B22: Question 20
A24: THÈME
A25: LES CONSIGNES DE SÉCURITÉS

Sheet QCM automatique
A1: Questionnaire à choix multiple
A3: ='Les questions'!A25:B25 -> LES CONSIGNES DE SÉCURITÉS
A8: Question 1 | C8: ='Les questions'!B3 -> Que signifie ERP ?
D10: Cocher la case | L10: Bonne réponse :
A11: Réponses possibles : | C11: =Reponses!B4 -> Ecologie, region et propreté | L11: =IF(ISERROR(VLOOKUP(1,D11:E14,2,0)),"",VLOOKUP(1,D11:E14,2,0))
C12: =Reponses!B5 -> Etablissement, réseau et prévoyance
C13: =Reponses!B6 -> Energie renouvelable et propre
C14: =Reponses!B7 -> Etablissement recevant du public
A17: Question 2 | C17: ='Les questions'!B4 -> Qu'est ce que la conduction dans un feu ?
D19: Cocher la case | L19: Bonne réponse :
A20: Réponses possibles : | C20: =Reponses!B11 -> C'est la transmission de la chaleur par l'intermédiaire de l'air | L20: =IF(ISERROR(VLOOKUP(1,D20:E23,2,0)),"",VLOOKUP(1,D20:E23,2,0))
C21: =Reponses!B12 -> C'est la transmission de la chaleur par l'intermédiaire de particules incandescentes
C22: =Reponses!B13 -> C'est la transmission de la chaleur par l'intermédiaire d'ondes électromagnétiques
C23: =Reponses!B14 -> C'est la transmission de la chaleur par la masse même du matériau
A26: Question 3 | C26: ='Les questions'!B5 -> Que risque l'employeur qui est lié par un contrat de travail avec un agent de sécurité non titulaire de la carte professionnelle ?
D28: Cocher la case | L28: Bonne réponse :
A29: Réponses possibles : | C29: =Reponses!B17 -> 1 an d'emprisonnement et 15000 € d'ammende | L29: =IF(ISERROR(VLOOKUP(1,D29:E32,2,0)),"",VLOOKUP(1,D29:E32,2,0))
C30: =Reponses!B18 -> 1 an d'emprisonnement et 2000 € d'amende
C31: =Reponses!B19 -> Rien du tout. L'employeur est couvert, c'est à l'agent d'encourire la sanction
C32: =Reponses!B20 -> 2 ans d'emprisonnement et 30000 € d'ammende
A35: Question 4 | C35: ='Les questions'!B6 -> Les agents qui exercent des activités de protection physique des personnes
D37: Cocher la case | L37: Bonne réponse :
A38: Réponses possibles : | C38: =Reponses!B23 -> Peuvent être armés avec des armes de catégorie B conformément à l'aticle L613-12 du CSI | L38: =IF(ISERROR(VLOOKUP(1,D38:E41,2,0)),"",VLOOKUP(1,D38:E41,2,0))
C39: =Reponses!B24 -> Ne peuvent pas être armés conformement à l'article L613-12 du CSI
C40: =Reponses!B25 -> 0
C41: =Reponses!B26 -> Peuvent être armés lorsqu'ils sont en tenue conformément à l'article L611,1 du CSI
A44: Question 5 | C44: ='Les questions'!B7 -> Vous devez effectuer une palpation de sécurité. Quelles sont les conditions à respecter ?
D46: Cocher la case | L46: Bonne réponse :
A47: Réponses possibles : | C47: =Reponses!B29 -> Détenir l'agrément du préfet et l'habilitation de l'employeur | L47: =IF(ISERROR(VLOOKUP(1,D47:E50,2,0)),"",VLOOKUP(1,D47:E50,2,0))
C48: =Reponses!B30 -> Détenir l'agrément du préfet, l'habilitation de l'employeur et effectuer la palpation sur une personne du même sexe
C49: =Reponses!B31 -> Détenir l'agrément du préfet, l'habilitation de l'employeur et effectuer la palpation sur une personne du même sexe avec son accord
C50: =Reponses!B32 -> saisir
A53: Question 6 | C53: ='Les questions'!B8 -> Un agent de sécurité privée, pendant son service, ne doit pas faire preuve de :
D55: Cocher la case | L55: Bonne réponse :
A56: Réponses possibles : | C56: =Reponses!B35 -> Discernement | L56: =IF(ISERROR(VLOOKUP(1,D56:E59,2,0)),"",VLOOKUP(1,D56:E59,2,0))
C57: =Reponses!B36 -> Discrétion
C58: =Reponses!B37 -> Tact
C59: =Reponses!B38 -> Familiarité
A62: Question 7 | C62: ='Les questions'!B9 -> Qu'est ce qu'une arme de catégorie A1 ?
D64: Cocher la case | L64: Bonne réponse :
...

Sheet Reponses
A3: 1 | B3: ='Les questions'!B3 -> Que signifie ERP ?
B4: Ecologie, region et propreté | C4: =RAND() -> 0.39162892
B5: Etablissement, réseau et prévoyance | C5: =RAND() -> 0.93331225
B6: Energie renouvelable et propre | C6: =RAND() -> 0.81181428
B7: Etablissement recevant du public | C7: =RAND() -> 0.44330667
A10: 2 | B10: ='Les questions'!B4 -> Qu'est ce que la conduction dans un feu ?
B11: C'est la transmission de la chaleur par l'intermédiaire de l'air | C11: =RAND() -> 0.70298321
B12: C'est la transmission de la chaleur par l'intermédiaire de particules incandescentes | C12: =RAND() -> 0.25580278
B13: C'est la transmission de la chaleur par l'intermédiaire d'ondes électromagnétiques | C13: =RAND() -> 0.019945943
B14: C'est la transmission de la chaleur par la masse même du matériau | C14: =RAND() -> 0.40193526
A16: 3 | B16: ='Les questions'!B5 -> Que risque l'employeur qui est lié par un contrat de travail avec un agent de sécurité non titulaire de la carte professionnelle ?
B17: 1 an d'emprisonnement et 15000 € d'ammende | C17: =RAND() -> 0.36898981
B18: 1 an d'emprisonnement et 2000 € d'amende | C18: =RAND() -> 0.85608031
B19: Rien du tout. L'employeur est couvert, c'est à l'agent d'encourire la sanction | C19: =RAND() -> 0.85706257
B20: 2 ans d'emprisonnement et 30000 € d'ammende | C20: =RAND() -> 0.93607434
A22: 4 | B22: ='Les questions'!B6 -> Les agents qui exercent des activités de protection physique des personnes
B23: Peuvent être armés avec des armes de catégorie B conformément à l'aticle L613-12 du CSI | C23: =RAND() -> 0.079962218
B24: Ne peuvent pas être armés conformement à l'article L613-12 du CSI | C24: =RAND() -> 0.0605462
C25: =RAND() -> 0.36922118
B26: Peuvent être armés lorsqu'ils sont en tenue conformément à l'article L611,1 du CSI | C26: =RAND() -> 0.32638507
A28: 5 | B28: ='Les questions'!B7 -> Vous devez effectuer une palpation de sécurité. Quelles sont les conditions à respecter ?
B29: Détenir l'agrément du préfet et l'habilitation de l'employeur | C29: =RAND() -> 0.84889729
B30: Détenir l'agrément du préfet, l'habilitation de l'employeur et effectuer la palpation sur une personne du même sexe | C30: =RAND() -> 0.51181421
B31: Détenir l'agrément du préfet, l'habilitation de l'employeur et effectuer la palpation sur une personne du même sexe avec son accord | C31: =RAND() -> 0.038868096
B32: saisir | C32: =RAND() -> 0.10614421
A34: 6 | B34: ='Les questions'!B8 -> Un agent de sécurité privée, pendant son service, ne doit pas faire preuve de :
B35: Discernement | C35: =RAND() -> 0.58805899
B36: Discrétion | C36: =RAND() -> 0.66468267
B37: Tact | C37: =RAND() -> 0.40354737
B38: Familiarité | C38: =RAND() -> 0.31135843
A40: 7 | B40: ='Les questions'!B9 -> Qu'est ce qu'une arme de catégorie A1 ?
B41: Arme interdire à l'acquisition et à la détention | C41: =RAND() -> 0.48908308
B42: Arme soumise à déclaration | C42: =RAND() -> 0.097068875
B43: Arme soumise à enregistrement | C43: =RAND() -> 0.28678661
B44: Arme soumise a autorisation | C44: =RAND() -> 0.432214
A46: 8 | B46: ='Les questions'!B10 -> A quoi sert le plan vigipirate ?
B47: S'orienter sur un site | C47: =RAND() -> 0.94464398
B48: Prévenir la menace terroriste | C48: =RAND() -> 0.95258451
B49: Prévenir les accidents techniques | C49: =RAND() -> 0.84637438
B50: prévenir les incendies | C50: =RAND() -> 0.40863512
...
