Workbook
Name imp: 'QCM automatique'!$A$1:$D$96

Sheet Les questions
A1: LE QUESTIONNAIRE
A3: Question 1 | B3: Que signifie ERP ?
A4: Question 2 | B4: Qu'est ce que la conduction dans un feu ?
A5: Question 3 | B5: Que risque l'employeur qui est lié par un contrat de travail avec un agent de sécurité non titulaire de la carte professionnelle ?
A6: Question 4 | B6: Les agents qui exercent des activités de protection physique des personnes
A7: Question 5 | B7: Vous devez effectuer une palpation de sécurité. Quelles sont les conditions à respecter ?
A8: Question 6 | B8: Un agent de sécurité privée, pendant son service, ne doit pas faire preuve de :
A9: Question 7 | B9: Qu'est ce qu'une arme de catégorie A1 ?
A10: Question 8 | B10: A quoi sert le plan vigipirate ?
A11: Question 9 | B11: Qu'appelle-t-on « conflit » dans la sécurité privée?
A12: Question 10 | B12: Question 10
A13: Question 11 | B13: Question 11
A14: Question 12 | B14: Question 12
... A22: Question 20 | B22: Question 20
A24: THÈME
A25: LES CONSIGNES DE SÉCURITÉS

Sheet QCM automatique
A1: Questionnaire à choix multiple
A3: ='Les questions'!A25:B25 -> LES CONSIGNES DE SÉCURITÉS
A8: Question 1 | C8: ='Les questions'!B3 -> Que signifie ERP ?
D10: Cocher la case | L10: Bonne réponse :
A11: Réponses possibles : | C11: =Reponses!B4 -> Ecologie, region et propreté | L11: =IF(ISERROR(VLOOKUP(1,D11:E14,2,0)),"",VLOOKUP(1,D11:E14,2,0))
C12: =Reponses!B5 -> Etablissement, réseau et prévoyance
C13: =Reponses!B6 -> Energie renouvelable et propre
C14: =Reponses!B7 -> Etablissement recevant du public
A17: Question 2 | C17: ='Les questions'!B4 -> Qu'est ce que la conduction dans un feu ?
D19: Cocher la case | L19: Bonne réponse :
A20: Réponses possibles : | C20: =Reponses!B11 -> C'est la transmission de la chaleur par l'intermédiaire de l'air | L20: =IF(ISERROR(VLOOKUP(1,D20:E23,2,0)),"",VLOOKUP(1,D20:E23,2,0))
C21: =Reponses!B12 -> C'est la transmission de la chaleur par l'intermédiaire de particules incandescentes
C22: =Reponses!B13 -> C'est la transmission de la chaleur par l'intermédiaire d'ondes électromagnétiques
C23: =Reponses!B14 -> C'est la transmission de la chaleur par la masse même du matériau
A26: Question 3 | C26: ='Les questions'!B5 -> Que risque l'employeur qui est lié par un contrat de travail avec un agent de sécurité non titulaire de la carte professionnelle ?
D28: Cocher la case | L28: Bonne réponse :
A29: Réponses possibles : | C29: =Reponses!B17 -> 1 an d'emprisonnement et 15000 € d'ammende | L29: =IF(ISERROR(VLOOKUP(1,D29:E32,2,0)),"",VLOOKUP(1,D29:E32,2,0))
C30: =Reponses!B18 -> 1 an d'emprisonnement et 2000 € d'amende
C31: =Reponses!B19 -> Rien du tout. L'employeur est couvert, c'est à l'agent d'encourire la sanction
C32: =Reponses!B20 -> 2 ans d'emprisonnement et 30000 € d'ammende
A35: Question 4 | C35: ='Les questions'!B6 -> Les agents qui exercent des activités de protection physique des personnes
D37: Cocher la case | L37: Bonne réponse :
A38: Réponses possibles : | C38: =Reponses!B23 -> Peuvent être armés avec des armes de catégorie B conformément à l'aticle L613-12 du CSI | L38: =IF(ISERROR(VLOOKUP(1,D38:E41,2,0)),"",VLOOKUP(1,D38:E41,2,0))
C39: =Reponses!B24 -> Ne peuvent pas être armés conformement à l'article L613-12 du CSI
C40: =Reponses!B25 -> 0
C41: =Reponses!B26 -> Peuvent être armés lorsqu'ils sont en tenue conformément à l'article L611,1 du CSI
A44: Question 5 | C44: ='Les questions'!B7 -> Vous devez effectuer une palpation de sécurité. Quelles sont les conditions à respecter ?
D46: Cocher la case | L46: Bonne réponse :
A47: Réponses possibles : | C47: =Reponses!B29 -> Détenir l'agrément du préfet et l'habilitation de l'employeur | L47: =IF(ISERROR(VLOOKUP(1,D47:E50,2,0)),"",VLOOKUP(1,D47:E50,2,0))
C48: =Reponses!B30 -> Détenir l'agrément du préfet, l'habilitation de l'employeur et effectuer la palpation sur une personne du même sexe
C49: =Reponses!B31 -> Détenir l'agrément du préfet, l'habilitation de l'employeur et effectuer la palpation sur une personne du même sexe avec son accord
C50: =Reponses!B32 -> saisir
A53: Question 6 | C53: ='Les questions'!B8 -> Un agent de sécurité privée, pendant son service, ne doit pas faire preuve de :
D55: Cocher la case | L55: Bonne réponse :
A56: Réponses possibles : | C56: =Reponses!B35 -> Discernement | L56: =IF(ISERROR(VLOOKUP(1,D56:E59,2,0)),"",VLOOKUP(1,D56:E59,2,0))
C57: =Reponses!B36 -> Discrétion
C58: =Reponses!B37 -> Tact
C59: =Reponses!B38 -> Familiarité
A62: Question 7 | C62: ='Les questions'!B9 -> Qu'est ce qu'une arme de catégorie A1 ?
D64: Cocher la case | L64: Bonne réponse :
A65: Réponses possibles : | C65: =Reponses!B41 -> Arme interdire à l'acquisition et à la détention | L65: =IF(ISERROR(VLOOKUP(1,D65:E68,2,0)),"",VLOOKUP(1,D65:E68,2,0))
C66: =Reponses!B42 -> Arme soumise à déclaration
C67: =Reponses!B43 -> Arme soumise à enregistrement
C68: =Reponses!B44 -> Arme soumise a autorisation
A71: Question 8 | C71: ='Les questions'!B10 -> A quoi sert le plan vigipirate ?
D73: Cocher la case | L73: Bonne réponse :
A74: Réponses possibles : | C74: =Reponses!B47 -> S'orienter sur un site | L74: =IF(ISERROR(VLOOKUP(1,D74:E77,2,0)),"",VLOOKUP(1,D74:E77,2,0))
C75: =Reponses!B48 -> Prévenir la menace terroriste
C76: =Reponses!B49 -> Prévenir les accidents techniques
C77: =Reponses!B50 -> prévenir les incendies
A80: Question 9 | C80: ='Les questions'!B11 -> Qu'appelle-t-on « conflit » dans la sécurité privée?
D82: Cocher la case | L82: Bonne réponse :
A83: Réponses possibles : | C83: =Reponses!B53 -> Un refus d'optempérer | L83: =IF(ISERROR(VLOOKUP(1,D83:E86,2,0)),"",VLOOKUP(1,D83:E86,2,0))
C84: =Reponses!B54 -> Un simple désacod susceptible de générer un incident
C85: =Reponses!B55 -> une lutte armée
C86: =Reponses!B56 -> 0
A89: Question 10 | C89: ='Les questions'!B12 -> Question 10
D91: Cocher la case | L91: Bonne réponse :
A92: Réponses possibles : | C92: =Reponses!B59 -> 10a | L92: =IF(ISERROR(VLOOKUP(1,D92:E95,2,0)),"",VLOOKUP(1,D92:E95,2,0))
C93: =Reponses!B60 -> 10b
C94: =Reponses!B61 -> 10c
C95: =Reponses!B62 -> 10d
A98: Question 11 | C98: ='Les questions'!B13 -> Question 11
D100: Cocher la case | L100: Bonne réponse :
A101: Réponses possibles : | C101: =Reponses!B65 -> 11b | L101: =IF(ISERROR(VLOOKUP(1,D101:E104,2,0)),"",VLOOKUP(1,D101:E104,2,0))
C102: =Reponses!B66 -> 11a
C103: =Reponses!B67 -> 11c
C104: =Reponses!B68 -> 11d
A107: Question 12 | C107: ='Les questions'!B14 -> Question 12
D109: Cocher la case | L109: Bonne réponse :
A110: Réponses possibles : | C110: =Reponses!B71 -> 12a | L110: =IF(ISERROR(VLOOKUP(1,D110:E113,2,0)),"",VLOOKUP(1,D110:E113,2,0))
C111: =Reponses!B72 -> 12b
C112: =Reponses!B73 -> 12c
C113: =Reponses!B74 -> 12d
A116: Question 13 | C116: ='Les questions'!B15 -> Question 13
D118: Cocher la case | L118: Bonne réponse :
A119: Réponses possibles : | C119: =Reponses!B77 -> 13a | L119: =IF(ISERROR(VLOOKUP(1,D119:E122,2,0)),"",VLOOKUP(1,D119:E122,2,0))
C120: =Reponses!B78 -> 13b
C121: =Reponses!B79 -> 13c
C122: =Reponses!B80 -> 13d
A125: Question 14 | C125: ='Les questions'!B16 -> Question 14
D127: Cocher la case | L127: Bonne réponse :
A128: Réponses possibles : | C128: =Reponses!B83 -> 14a | L128: =IF(ISERROR(VLOOKUP(1,D128:E131,2,0)),"",VLOOKUP(1,D128:E131,2,0))
C129: =Reponses!B84 -> 14b
C130: =Reponses!B85 -> 14c
C131: =Reponses!B86 -> 14d
A134: Question 15 | C134: ='Les questions'!B17 -> Question 15
D136: Cocher la case | L136: Bonne réponse :
A137: Réponses possibles : | C137: =Reponses!B89 -> 15a | L137: =IF(ISERROR(VLOOKUP(1,D137:E140,2,0)),"",VLOOKUP(1,D137:E140,2,0))
C138: =Reponses!B90 -> 15b
C139: =Reponses!B91 -> 15c
C140: =Reponses!B92 -> 15d
A143: Question 16 | C143: ='Les questions'!B18 -> Question 16
D145: Cocher la case | L145: Bonne réponse :
A146: Réponses possibles : | C146: =Reponses!B95 -> 16a | L146: =IF(ISERROR(VLOOKUP(1,D146:E149,2,0)),"",VLOOKUP(1,D146:E149,2,0))
C147: =Reponses!B96 -> 16b
C148: =Reponses!B97 -> 16c
C149: =Reponses!B98 -> 16d
A152: Question 17 | C152: ='Les questions'!B19 -> Question 17
D154: Cocher la case | L154: Bonne réponse :
...

Sheet Reponses
A3: 1 | B3: ='Les questions'!B3 -> Que signifie ERP ?
B4: Ecologie, region et propreté | C4: =RAND() -> 0.39162892
B5: Etablissement, réseau et prévoyance | C5: =RAND() -> 0.93331225
B6: Energie renouvelable et propre | C6: =RAND() -> 0.81181428
B7: Etablissement recevant du public | C7: =RAND() -> 0.44330667
A10: 2 | B10: ='Les questions'!B4 -> Qu'est ce que la conduction dans un feu ?
B11: C'est la transmission de la chaleur par l'intermédiaire de l'air | C11: =RAND() -> 0.70298321
B12: C'est la transmission de la chaleur par l'intermédiaire de particules incandescentes | C12: =RAND() -> 0.25580278
B13: C'est la transmission de la chaleur par l'intermédiaire d'ondes électromagnétiques | C13: =RAND() -> 0.019945943
B14: C'est la transmission de la chaleur par la masse même du matériau | C14: =RAND() -> 0.40193526
A16: 3 | B16: ='Les questions'!B5 -> Que risque l'employeur qui est lié par un contrat de travail avec un agent de sécurité non titulaire de la carte professionnelle ?
B17: 1 an d'emprisonnement et 15000 € d'ammende | C17: =RAND() -> 0.36898981
B18: 1 an d'emprisonnement et 2000 € d'amende | C18: =RAND() -> 0.85608031
B19: Rien du tout. L'employeur est couvert, c'est à l'agent d'encourire la sanction | C19: =RAND() -> 0.85706257
B20: 2 ans d'emprisonnement et 30000 € d'ammende | C20: =RAND() -> 0.93607434
A22: 4 | B22: ='Les questions'!B6 -> Les agents qui exercent des activités de protection physique des personnes
B23: Peuvent être armés avec des armes de catégorie B conformément à l'aticle L613-12 du CSI | C23: =RAND() -> 0.079962218
B24: Ne peuvent pas être armés conformement à l'article L613-12 du CSI | C24: =RAND() -> 0.0605462
C25: =RAND() -> 0.36922118
B26: Peuvent être armés lorsqu'ils sont en tenue conformément à l'article L611,1 du CSI | C26: =RAND() -> 0.32638507
A28: 5 | B28: ='Les questions'!B7 -> Vous devez effectuer une palpation de sécurité. Quelles sont les conditions à respecter ?
B29: Détenir l'agrément du préfet et l'habilitation de l'employeur | C29: =RAND() -> 0.84889729
B30: Détenir l'agrément du préfet, l'habilitation de l'employeur et effectuer la palpation sur une personne du même sexe | C30: =RAND() -> 0.51181421
B31: Détenir l'agrément du préfet, l'habilitation de l'employeur et effectuer la palpation sur une personne du même sexe avec son accord | C31: =RAND() -> 0.038868096
B32: saisir | C32: =RAND() -> 0.10614421
A34: 6 | B34: ='Les questions'!B8 -> Un agent de sécurité privée, pendant son service, ne doit pas faire preuve de :
B35: Discernement | C35: =RAND() -> 0.58805899
B36: Discrétion | C36: =RAND() -> 0.66468267
B37: Tact | C37: =RAND() -> 0.40354737
B38: Familiarité | C38: =RAND() -> 0.31135843
A40: 7 | B40: ='Les questions'!B9 -> Qu'est ce qu'une arme de catégorie A1 ?
B41: Arme interdire à l'acquisition et à la détention | C41: =RAND() -> 0.48908308
B42: Arme soumise à déclaration | C42: =RAND() -> 0.097068875
B43: Arme soumise à enregistrement | C43: =RAND() -> 0.28678661
B44: Arme soumise a autorisation | C44: =RAND() -> 0.432214
A46: 8 | B46: ='Les questions'!B10 -> A quoi sert le plan vigipirate ?
B47: S'orienter sur un site | C47: =RAND() -> 0.94464398
B48: Prévenir la menace terroriste | C48: =RAND() -> 0.95258451
B49: Prévenir les accidents techniques | C49: =RAND() -> 0.84637438
B50: prévenir les incendies | C50: =RAND() -> 0.40863512
A52: 9 | B52: ='Les questions'!B11 -> Qu'appelle-t-on « conflit » dans la sécurité privée?
B53: Un refus d'optempérer | C53: =RAND() -> 0.69824662
B54: Un simple désacod susceptible de générer un incident | C54: =RAND() -> 0.23114262
B55: une lutte armée | C55: =RAND() -> 0.020801076
C56: =RAND() -> 0.14480038
A58: 10 | B58: ='Les questions'!B12 -> Question 10
B59: 10a | C59: =RAND() -> 0.54725638
B60: 10b | C60: =RAND() -> 0.84081153
B61: 10c | C61: =RAND() -> 0.22815667
B62: 10d | C62: =RAND() -> 0.10726621
A64: 11 | B64: ='Les questions'!B13 -> Question 11
B65: 11b | C65: =RAND() -> 0.61667744
B66: 11a | C66: =RAND() -> 0.19161981
B67: 11c | C67: =RAND() -> 0.77244649
B68: 11d | C68: =RAND() -> 0.4329538
A70: 12 | B70: ='Les questions'!B14 -> Question 12
B71: 12a | C71: =RAND() -> 0.25985245
B72: 12b | C72: =RAND() -> 0.73317141
B73: 12c | C73: =RAND() -> 0.72710006
B74: 12d | C74: =RAND() -> 0.15172552
A76: 13 | B76: ='Les questions'!B15 -> Question 13
B77: 13a | C77: =RAND() -> 0.29176161
B78: 13b | C78: =RAND() -> 0.011139955
B79: 13c | C79: =RAND() -> 0.67156432
B80: 13d | C80: =RAND() -> 0.49761263
A82: 14 | B82: ='Les questions'!B16 -> Question 14
B83: 14a | C83: =RAND() -> 0.45234121
B84: 14b | C84: =RAND() -> 0.43235401
B85: 14c | C85: =RAND() -> 0.57270055
B86: 14d | C86: =RAND() -> 0.064565254
A88: 15 | B88: ='Les questions'!B17 -> Question 15
B89: 15a | C89: =RAND() -> 0.2112523
B90: 15b | C90: =RAND() -> 0.43785669
B91: 15c | C91: =RAND() -> 0.79575252
B92: 15d | C92: =RAND() -> 0.97985678
A94: 16 | B94: ='Les questions'!B18 -> Question 16
B95: 16a | C95: =RAND() -> 0.91477387
B96: 16b | C96: =RAND() -> 0.12368971
B97: 16c | C97: =RAND() -> 0.1021386
B98: 16d | C98: =RAND() -> 0.21182015
A100: 17 | B100: ='Les questions'!B19 -> Question 17
B101: 17a | C101: =RAND() -> 0.10018553
B102: 17b | C102: =RAND() -> 0.0026315738
B103: 17c | C103: =RAND() -> 0.28355948
B104: 17d | C104: =RAND() -> 0.099985686
A106: 18 | B106: ='Les questions'!B20 -> Question 18
B107: 18a | C107: =RAND() -> 0.97381961
B108: 18b | C108: =RAND() -> 0.72008297
B109: 18c | C109: =RAND() -> 0.88662366
B110: 18d | C110: =RAND() -> 0.97314349
A112: 19 | B112: ='Les questions'!B21 -> Question 19
B113: 19A | C113: =RAND() -> 0.1501482
B114: 19B | C114: =RAND() -> 0.33438922
B115: 19C | C115: =RAND() -> 0.26206045
B116: 19D | C116: =RAND() -> 0.9111852
A118: 20 | B118: ='Les questions'!B22 -> Question 20
B119: 20A | C119: =RAND() -> 0.53575713
B120: 20B | C120: =RAND() -> 0.17499688
B121: 20C | C121: =RAND() -> 0.30988694
B122: 20D | C122: =RAND() -> 0.18515585
