Workbook
Name code: #REF!
Name code2: #REF!,#REF!

Sheet Agents
A1: Alain
A2: Laurent
A3: Didier
A4: Stephane
A5: Patrick
A6: Christophe
A7: Pierre
A8: Henri
A9: Martin
A10: Louis
A14: ANDRÉ
A15: SÉVERINE
A16: XXXX

Sheet MASTER
A2: PLACEMENT DES AGENTS POUR LES MATCHES SAISON | J2: 2017/2018
B3: =Agents!A1 -> Alain | C3: =Agents!A2 -> Laurent | D3: =Agents!A3 -> Didier | E3: =Agents!A4 -> Stephane | F3: =Agents!A5 -> Patrick | G3: =Agents!A6 -> Christophe | H3: =Agents!A7 -> Pierre | I3: =Agents!A8 -> Henri | J3: =Agents!A9 -> Martin | K3: =Agents!A10 -> Louis | L3: =TODAY() -> 42764
A4: ENTREE PRINCIPALE : | B4: =SUM(T!F39) -> 0 | C4: =SUM(T!F40) -> 0 | D4: =SUM(T!F41) -> 0 | E4: =SUM(T!F42) -> 0 | F4: =SUM(T!F43) -> 0 | G4: =SUM(T!F44) -> 0 | H4: =SUM(T!F45) -> 1 | I4: =SUM(T!F46) -> 0 | J4: =SUM(T!F47) -> 0 | K4: =SUM(T!F48) -> 1 | L4: ENTREE PRINCIPALE :
A5: ACCES VIP | B5: =SUM(T!F50) -> 0 | C5: =SUM(T!F51) -> 1 | D5: =SUM(T!F52) -> 0 | E5: =SUM(T!F53) -> 0 | F5: =SUM(T!F54) -> 0 | G5: =SUM(T!F55) -> 0 | H5: =SUM(T!F56) -> 0 | I5: =SUM(T!F57) -> 0 | J5: =SUM(T!F58) -> 0 | K5: =SUM(T!F59) -> 0 | L5: PATE D’OIE :
A6: VISITEURS : | B6: =SUM(T!F61) -> 0 | C6: =SUM(T!F62) -> 0 | D6: =SUM(T!F63) -> 1 | E6: =SUM(T!F64) -> 0 | F6: =SUM(T!F65) -> 0 | G6: =SUM(T!F66) -> 0 | H6: =SUM(T!F67) -> 0 | I6: =SUM(T!F68) -> 0 | J6: =SUM(T!F69) -> 0 | K6: =SUM(T!F70) -> 0 | L6: VISITEURS :
A7: HALL 1 | B7: =SUM(T!F72) -> 0 | C7: =SUM(T!F73) -> 0 | D7: =SUM(T!F74) -> 0 | E7: =SUM(T!F75) -> 0 | F7: =SUM(T!F76) -> 1 | G7: =SUM(T!F77) -> 0 | H7: =SUM(T!F78) -> 0 | I7: =SUM(T!F79) -> 0 | J7: =SUM(T!F80) -> 0 | K7: =SUM(T!F81) -> 0 | L7: PISTE EST :
A8: HALL 2 | B8: =SUM(T!F83) -> 0 | C8: =SUM(T!F84) -> 0 | D8: =SUM(T!F85) -> 0 | E8: =SUM(T!F86) -> 0 | F8: =SUM(T!F87) -> 1 | G8: =SUM(T!F88) -> 0 | H8: =SUM(T!F89) -> 0 | I8: =SUM(T!F90) -> 0 | J8: =SUM(T!F91) -> 0 | K8: =SUM(T!F92) -> 0 | L8: PISTE SUD :
A9: HALL 3 | B9: =SUM(T!F94) -> 0 | C9: =SUM(T!F95) -> 0 | D9: =SUM(T!F96) -> 0 | E9: =SUM(T!F97) -> 0 | F9: =SUM(T!F98) -> 0 | G9: =SUM(T!F99) -> 0 | H9: =SUM(T!F100) -> 0 | I9: =SUM(T!F101) -> 0 | J9: =SUM(T!F102) -> 1 | K9: =SUM(T!F103) -> 0 | L9: PISTE NORD :
A10: HALL 4 | B10: =SUM(T!F105) -> 0 | C10: =SUM(T!F106) -> 0 | D10: =SUM(T!F107) -> 0 | E10: =SUM(T!F108) -> 0 | F10: =SUM(T!F109) -> 0 | G10: =SUM(T!F110) -> 0 | H10: =SUM(T!F111) -> 0 | I10: =SUM(T!F112) -> 0 | J10: =SUM(T!F113) -> 1 | K10: =SUM(T!F114) -> 0 | L10: CAR :
A11: MAINTENANCE : | B11: =SUM(T!F116) -> 0 | C11: =SUM(T!F117) -> 0 | D11: =SUM(T!F118) -> 0 | E11: =SUM(T!F119) -> 0 | F11: =SUM(T!F120) -> 0 | G11: =SUM(T!F121) -> 0 | H11: =SUM(T!F122) -> 0 | I11: =SUM(T!F123) -> 1 | J11: =SUM(T!F124) -> 0 | K11: =SUM(T!F125) -> 0 | L11: MAINTENANCE :
A12: =TODAY() -> 42764 | B12: =SUM(B4:B11) -> 0 | C12: =SUM(C4:C11) -> 1 | D12: =SUM(D4:D11) -> 1 | E12: =SUM(E4:E11) -> 0 | F12: =SUM(F4:F11) -> 2 | G12: =SUM(G4:G11) -> 0 | H12: =SUM(H4:H11) -> 1 | I12: =SUM(I4:I11) -> 1 | ... K12: =SUM(K4:K11) -> 1
A13: ÉQUIPE DE JOURNÉE : | B13: =SUM(T!F127) -> 0 | C13: =SUM(T!F128) -> 0 | D13: =SUM(T!F129) -> 1 | E13: =SUM(T!F130) -> 1 | F13: =SUM(T!F131) -> 0 | G13: =SUM(T!F132) -> 0 | H13: =SUM(T!F133) -> 0 | I13: =SUM(T!F134) -> 0 | J13: =SUM(T!F135) -> 0 | K13: =SUM(T!F136) -> 0 | L13: ÉQUIPE DE JOURNÉE :
D15: 2016/2017
D16: 2017/2018
D17: 2018/2019
D18: 2019/2020
D19: 2020/2021
D20: 2021/2022
D21: 2022/2023
D22: 2023/2024
D23: 2024/2025
D24: 2025/2026
D25: 2026/2027
D26: 2027/2028
... D48: 2049/2050
A51: PARTICIPATION DES AGENTS
B53: =Agents!A1 -> Alain | C53: =Agents!A2 -> Laurent | D53: =Agents!A3 -> Didier | E53: =Agents!A4 -> Stephane | F53: =Agents!A5 -> Patrick | G53: =Agents!A6 -> Christophe | H53: =Agents!A7 -> Pierre | I53: =Agents!A8 -> Henri | J53: =Agents!A9 -> Martin | K53: =Agents!A10 -> Louis
C54: 1 | D54: 1 | E54: 1 | F54: 1 | H54: 1 | I54: 1 | J54: 1 | K54: 1

Sheet T
B2: PLACEMENT DU PERSONNEL | O2: SAISON 2014/2015
O3: SAISON 2015/2016
O4: SAISON 2017/2018
O5: SAISON 2018/2019
O6: SAISON 2019/2020
O7: SAISON 2020/2021
B8: SAISON 2017/2018 | O8: SAISON 2021/2022
O9: SAISON 2022/2023
O10: SAISON 2023/2024
O11: SAISON 2024/2025
O12: SAISON 2025/2026
H13: =TODAY() -> 42764 | O13: SAISON 2026/2027
O14: SAISON 2027/2028
B15: PLACEMENT DU PERSONNEL | O15: SAISON 2028/2029
O16: SAISON 2029/2030
B17: RESPONSABLES : | F17: ANDRÉ | K17: =Agents!A1 -> Alain | O17: SAISON 2030/2031 | S17: =SIERREUR(DECALER(F$18;EQUIV(0;NB.SI(R$17:R17;$F$19:$F$26);0););"")
K18: =Agents!A2 -> Laurent | O18: SAISON 2031/2032 | R18: {=IFERROR(OFFSET(F$18,MATCH(0,COUNTIF(R$17:R17,$F$19:$F$26),0),),"")} -> Louis
B19: ENTREE PRINCIPALE : | F19: Louis | G19: / | H19: Pierre | K19: =Agents!A3 -> Didier | O19: SAISON 2032/2033 | R19: {=IFERROR(OFFSET(F$18,MATCH(0,COUNTIF(R$17:R18,$F$19:$F$26),0),),"")} -> Laurent | T19: en jaune j'ai reporter votre formule mais ce n'ai pas ce que je cherche
B20: ACCES VIP : | F20: Laurent | K20: =Agents!A4 -> Stephane | L20: / | R20: {=IFERROR(OFFSET(F$18,MATCH(0,COUNTIF(R$17:R19,$F$19:$F$26),0),),"")} -> Didier | T20: cela fonction mais j'aimerai dans la feuille que le calcule se face autrement soit
B21: VISITEURS : | F21: Didier | K21: =Agents!A5 -> Patrick | R21: {=IFERROR(OFFSET(F$18,MATCH(0,COUNTIF(R$17:R20,$F$19:$F$26),0),),"")} -> Patrick | T21: 1 pour louis ; 1 pour laurent etc ce qui me permetrai de compatablisé en fin d'année le nombre de participation et comme vous pouvez le voir les poste sont doublé et donc dans la feuille MASTER il sont compatbilisé 2 fois
B22: HALL 1 : | F22: Patrick | K22: =Agents!A6 -> Christophe | R22: {=IFERROR(OFFSET(F$18,MATCH(0,COUNTIF(R$17:R21,$F$19:$F$26),0),),"")} -> Martin
B23: HALL 2 : | F23: Patrick | K23: =Agents!A7 -> Pierre | R23: {=IFERROR(OFFSET(F$18,MATCH(0,COUNTIF(R$17:R22,$F$19:$F$26),0),),"")} -> Henri
B24: HALL 3 : | F24: Martin | K24: =Agents!A8 -> Henri | R24: {=IFERROR(OFFSET(F$18,MATCH(0,COUNTIF(R$17:R23,$F$19:$F$26),0),),"")} | T24: pour l'instant ce n'est pas fait mails il y aura un 20 onglets et le master prendra en compte les 20 onglets pour le calculs equitables par poste
B25: HALL 4: | F25: Martin | K25: =Agents!A9 -> Martin | R25: {=IFERROR(OFFSET(F$18,MATCH(0,COUNTIF(R$17:R24,$F$19:$F$26),0),),"")}
B26: MAINTENANCE : | F26: Henri | K26: =Agents!A10 -> Louis | R26: =IFERROR(OFFSET(F$18,MATCH(0,COUNTIF(R$17:R25,$F$19:$F$27),0),),"")
B27: ÉQUIPE DE JOURNÉE : | F27: Stephane | G27: / | H27: Didier | R27: =IFERROR(OFFSET(F$18,MATCH(0,COUNTIF(R$17:R26,$F$19:$F$27),0),),"")
B29: NOTES
K32: =Agents!A14 -> ANDRÉ
K33: =Agents!A15 -> SÉVERINE
K34: =Agents!A16 -> XXXX
B39: =$K$17 -> Alain | C39: =COUNTIF($F$19,K17) -> 0 | E39: =COUNTIF($H$19,K17) -> 0 | F39: =SUM(C39:E39) -> 0
B40: =$K$18 -> Laurent | C40: =COUNTIF($F$19,K18) -> 0 | E40: =COUNTIF($H$19,K18) -> 0 | F40: =SUM(C40:E40) -> 0
B41: =$K$19 -> Didier | C41: =COUNTIF($F$19,K19) -> 0 | E41: =COUNTIF($H$19,K19) -> 0 | F41: =SUM(C41:E41) -> 0
B42: =$K$20 -> Stephane | C42: =COUNTIF($F$19,K20) -> 0 | E42: =COUNTIF($H$19,K20) -> 0 | F42: =SUM(C42:E42) -> 0
B43: =$K$21 -> Patrick | C43: =COUNTIF($F$19,K21) -> 0 | E43: =COUNTIF($H$19,K21) -> 0 | F43: =SUM(C43:E43) -> 0 | H43: ENTREE PRINCIPALE :
B44: =$K$22 -> Christophe | C44: =COUNTIF($F$19,K22) -> 0 | E44: =COUNTIF($H$19,K22) -> 0 | F44: =SUM(C44:E44) -> 0
B45: =$K$23 -> Pierre | C45: =COUNTIF($F$19,K23) -> 0 | E45: =COUNTIF($H$19,K23) -> 1 | F45: =SUM(C45:E45) -> 1
B46: =$K$24 -> Henri | C46: =COUNTIF($F$19,K24) -> 0 | E46: =COUNTIF($H$19,K24) -> 0 | F46: =SUM(C46:E46) -> 0
B47: =$K$25 -> Martin | C47: =COUNTIF($F$19,K25) -> 0 | E47: =COUNTIF($H$19,K25) -> 0 | F47: =SUM(C47:E47) -> 0
B48: =$K$26 -> Louis | C48: =COUNTIF($F$19,K26) -> 1 | E48: =COUNTIF($H$19,K26) -> 0 | F48: =SUM(C48:E48) -> 1
...

Sheet T (2)
B2: PLACEMENT DU PERSONNEL | O2: SAISON 2014/2015
O3: SAISON 2015/2016
O4: SAISON 2017/2018
O5: SAISON 2018/2019
O6: SAISON 2019/2020
O7: SAISON 2020/2021
O8: SAISON 2021/2022
O9: SAISON 2022/2023
O10: SAISON 2023/2024
O11: SAISON 2024/2025
O12: SAISON 2025/2026
H13: =TODAY() -> 42764 | O13: SAISON 2026/2027
O14: SAISON 2027/2028
B15: PLACEMENT DU PERSONNEL | O15: SAISON 2028/2029
O16: SAISON 2029/2030
B17: RESPONSABLES : | F17: ANDRÉ | K17: =Agents!A1 -> Alain | O17: SAISON 2030/2031 | S17: =SIERREUR(DECALER(F$18;EQUIV(0;NB.SI(R$17:R17;$F$19:$F$26);0););"")
K18: =Agents!A2 -> Laurent | O18: SAISON 2031/2032 | R18: {=IFERROR(OFFSET(F$18,MATCH(0,COUNTIF(R$17:R17,$F$19:$F$26),0),),"")} -> Louis
B19: ENTREE PRINCIPALE : | F19: Louis | G19: / | H19: Pierre | K19: =Agents!A3 -> Didier | O19: SAISON 2032/2033 | R19: {=IFERROR(OFFSET(F$18,MATCH(0,COUNTIF(R$17:R18,$F$19:$F$26),0),),"")} -> Laurent | T19: en jaune j'ai reporter votre formule mais ce n'ai pas ce que je cherche :-)
B20: ACCES VIP : | F20: Laurent | K20: =Agents!A4 -> Stephane | L20: / | R20: {=IFERROR(OFFSET(F$18,MATCH(0,COUNTIF(R$17:R19,$F$19:$F$26),0),),"")} -> Didier | T20: cela fonction mais j'aimerai dans la feuille que le calcule se face autrement soit
B21: VISITEURS : | F21: Didier | K21: =Agents!A5 -> Patrick | R21: {=IFERROR(OFFSET(F$18,MATCH(0,COUNTIF(R$17:R20,$F$19:$F$26),0),),"")} -> Patrick | T21: compatbilisé 1 pour louis ; 1 pour laurent ; 1 pour Didier etc.... ce qui me permetrai de compatablisé en fin d'année le nombre de participation et comme vous pouvez le voir les postes sont doublés et donc dans la feuille MASTER il sont compatbilisé 2 fois
B22: HALL 1 : | F22: Patrick | K22: =Agents!A6 -> Christophe | R22: {=IFERROR(OFFSET(F$18,MATCH(0,COUNTIF(R$17:R21,$F$19:$F$26),0),),"")} -> Martin
B23: HALL 2 : | F23: Patrick | K23: =Agents!A7 -> Pierre | R23: {=IFERROR(OFFSET(F$18,MATCH(0,COUNTIF(R$17:R22,$F$19:$F$26),0),),"")} -> Henri | T23: j'aimerai qu'il y ai une formule par feuille qui compatbilise le nombre de participation par agent sans les doublon des poste et ensuite un report sur le master ,
B24: HALL 3 : | F24: Martin | K24: =Agents!A8 -> Henri | R24: {=IFERROR(OFFSET(F$18,MATCH(0,COUNTIF(R$17:R23,$F$19:$F$26),0),),"")}
B25: HALL 4: | F25: Martin | K25: =Agents!A9 -> Martin | R25: {=IFERROR(OFFSET(F$18,MATCH(0,COUNTIF(R$17:R24,$F$19:$F$26),0),),"")}
B26: MAINTENANCE : | F26: Henri | K26: =Agents!A10 -> Louis | R26: =IFERROR(OFFSET(F$18,MATCH(0,COUNTIF(R$17:R25,$F$19:$F$27),0),),"")
B27: ÉQUIPE DE JOURNÉE : | F27: Stephane | G27: / | H27: Didier | R27: =IFERROR(OFFSET(F$18,MATCH(0,COUNTIF(R$17:R26,$F$19:$F$27),0),),"") | T27: pour l'instant ce n'est pas fait mails il y aura un 20 onglets et le master prendra en compte les 20 onglets pour le calculs equitables par poste
B29: NOTES
K32: =Agents!A14 -> ANDRÉ
K33: =Agents!A15 -> SÉVERINE
K34: =Agents!A16 -> XXXX
B39: =$K$17 -> Alain | C39: =COUNTIF($F$19,K17) -> 0 | E39: =COUNTIF($H$19,K17) -> 0 | F39: =SUM(C39:E39) -> 0
B40: =$K$18 -> Laurent | C40: =COUNTIF($F$19,K18) -> 0 | E40: =COUNTIF($H$19,K18) -> 0 | F40: =SUM(C40:E40) -> 0
B41: =$K$19 -> Didier | C41: =COUNTIF($F$19,K19) -> 0 | E41: =COUNTIF($H$19,K19) -> 0 | F41: =SUM(C41:E41) -> 0
B42: =$K$20 -> Stephane | C42: =COUNTIF($F$19,K20) -> 0 | E42: =COUNTIF($H$19,K20) -> 0 | F42: =SUM(C42:E42) -> 0
B43: =$K$21 -> Patrick | C43: =COUNTIF($F$19,K21) -> 0 | E43: =COUNTIF($H$19,K21) -> 0 | F43: =SUM(C43:E43) -> 0 | H43: ENTREE PRINCIPALE :
B44: =$K$22 -> Christophe | C44: =COUNTIF($F$19,K22) -> 0 | E44: =COUNTIF($H$19,K22) -> 0 | F44: =SUM(C44:E44) -> 0
B45: =$K$23 -> Pierre | C45: =COUNTIF($F$19,K23) -> 0 | E45: =COUNTIF($H$19,K23) -> 1 | F45: =SUM(C45:E45) -> 1
B46: =$K$24 -> Henri | C46: =COUNTIF($F$19,K24) -> 0 | E46: =COUNTIF($H$19,K24) -> 0 | F46: =SUM(C46:E46) -> 0
B47: =$K$25 -> Martin | C47: =COUNTIF($F$19,K25) -> 0 | E47: =COUNTIF($H$19,K25) -> 0 | F47: =SUM(C47:E47) -> 0
B48: =$K$26 -> Louis | C48: =COUNTIF($F$19,K26) -> 1 | E48: =COUNTIF($H$19,K26) -> 0 | F48: =SUM(C48:E48) -> 1
...

Sheet Placement Du Perso MATCH COUPE
B2: CHAMPIONNAT NATIONAL | I2: 1 | K2: BARALLE | L2: 41859 | M2: US CRETEIL / Châteauroux | N2: Châteauroux | O2: SAISON 2014/2015
I3: 2 | K3: BENSALEM | L3: 41873 | M3: US CRETEIL / Chamois Niortais | N3: Chamois Niortais | O3: SAISON 2015/2016
B4: SAISON 2016/2017 | I4: 3 | K4: CADEILLAN | L4: 41901 | M4: US CRETEIL / Clermont Foot | N4: Clermont Foot | O4: SAISON 2016/2017
I5: 4 | K5: CRESPIN | L5: 41908 | M5: US CRETEIL / AC Ajaccio | N5: AC Ajaccio | O5: SAISON 2017/2018
I6: 5 | K6: DRIF | L6: 41929 | M6: US CRETEIL / ESTAC Troyes | N6: ESTAC Troyes | O6: SAISON 2018/2019
I7: 6 | K7: ESPOSITO | L7: 41943 | M7: US CRETEIL / FC Sochaux-Montbéliard | N7: FC Sochaux-Montbéliard | O7: SAISON 2019/2020
B8: Coupe de France | I8: 7 | K8: FINATEU | L8: 41964 | M8: US CRETEIL / Nîmes Olympique | N8: Nîmes Olympique | O8: SAISON 2020/2021
B9: 43039 | I9: 8 | K9: JOURNET | L9: 41985 | M9: US CRETEIL / AC Arles-Avignon | N9: AC Arles-Avignon | O9: SAISON 2021/2022
I10: 9 | K10: LAUDY | L10: 42013 | M10: US CRETEIL / AJ Auxerre | N10: AJ Auxerre | O10: SAISON 2022/2023
B11: US CRÉTEIL LUSITANOS | I11: 10 | K11: PROPOSE | L11: 42027 | M11: US CRETEIL / Stade Lavallois | N11: Stade Lavallois | O11: SAISON 2023/2024
B12: ……………………….. | I12: 11 | K12: SAEZ-GARCIA | L12: 42041 | M12: US CRETEIL / Havre AC | N12: Havre AC | O12: SAISON 2024/2025
B13: 0.83333333 | O13: SAISON 2025/2026
B14: Auteur : M. Esposito Didier | H14: =TODAY() -> 42764 | O14: SAISON 2026/2027
I15: 12 | L15: 42048 | M15: US CRETEIL / Valenciennes FC | N15: Valenciennes FC | O15: SAISON 2027/2028
I16: 13 | L16: 42062 | M16: US CRETEIL / Dijon FCO | N16: Dijon FCO | O16: SAISON 2028/2029
B17: PLACEMENT DU PERSONNEL | I17: 14 | K17: BOUDA Fadhi | L17: 42076 | M17: US CRETEIL / Angers SCO | N17: Angers SCO | O17: SAISON 2029/2030
I18: 15 | K18: LAMAND Sébastien | L18: 42097 | M18: US CRETEIL / US Orléans | N18: US Orléans | O18: SAISON 2030/2031
B19: RESPONSABLES : | F19: LAMAND / BOUDA | I19: 16 | K19: LAMAND / BOUDA | L19: 42111 | M19: US CRETEIL / AS Nancy-Lorraine | N19: AS Nancy-Lorraine | O19: SAISON 2031/2032
I20: 17 | L20: 42122 | M20: US CRETEIL / Stade Brestois 29 | N20: Stade Brestois 29 | O20: SAISON 2032/2033
B21: ENTREE PRINCIPALE : | G21: / | I21: 18 | L21: 42132 | M21: US CRETEIL / GFC Ajaccio | N21: GFC Ajaccio
I22: 19 | L22: 42146 | M22: US CRETEIL / Tours FC | N22: Tours FC
B23: PATE D’OIE : | I23: 20 | L23: /
I24: 21 | L24: Coupe de la Ligue
B25: VISITEURS : | I25: 22 | L25: Coupe de France
I26: 23
B27: PISTE EST : | I27: 24
I28: 25
B29: PISTE SUD : | I29: 26
I30: 27
B31: PISTE NORD : | I31: 28
I32: 29
B33: CAR : | I33: 30
I34: 31
B35: MAINTENANCE : | I35: 32
I36: 33
B37: NOTES | I37: 34
I38: 35
B39: Résultat du Match : | F39: Informations Complémentaires | I39: 36
I40: 37
B41: Nombre Spéctateurs : | I41: 38
...
