Workbook
Name C_1: 'vacances scolaires'!$B$1:$B$65536
Name C_2: 'vacances scolaires'!$C$1:$C$65536
Name choix_zone: 'vacances scolaires'!$F$1
Name d: 'vacances scolaires'!$E$1:$E$65536
Name Fériés: 'Jours Fériés'!$E$3:$E$15
Name liste_Zones: '[1]vacances scolaires'!$Q$4:$Q$8
Name période: 'vacances scolaires'!$A$12
Name V_1: 'vacances scolaires'!$A$4:$IN$4
Name V_2: 'vacances scolaires'!$A$5:$IN$5
Name V_3: 'vacances scolaires'!$A$6:$IN$6
Name V_4: 'vacances scolaires'!$A$7:$IN$7
Name V_5: 'vacances scolaires'!$A$8:$IN$8
Name V_6: 'vacances scolaires'!$A$9:$IN$9
Name Z: 'vacances scolaires'!$G$11:$G$440

Sheet ANNÉE
B2: 2017
B4: =SUM(B2+1) -> 2018

Sheet Juillet
A1: =(H21&"/ "&I21)
B2: SAISON 2017 - 2018 | S2: 0
B4: 42917 | S4: Synthé Ouest | T4: 0.75
A6: Synthé Ouest | M6: =NOW() -> 42926.797 | S6: CRÉTEIL
A7: Synthé Est | B7: DATES | C7: ENTRAINEMENT | G7: MATCH | H7: HEURES | I7: TERRAIN | L7: MATCH | M7: HEURES | N7: TERRAIN
A8: Honneur | C8: MATIN | D8: SOIR | G8: CHAMPIONNAT | L8: AMICAL | U8: =ANNÉE!B2 -> 2017 | V8: =SUM(U8+1) -> 2018 | W8: =(U8)&" - "&(V8) -> 2017 - 2018
A9: 42917 | B9: =$B$4 -> 42917 | F9: =B4 -> 42917 | K9: =B4 -> 42917 | L9: =CALENDRIER!C4 -> 0 | M9: =IF(MID(L9,1,7)=$S$6,$T$4,"") | N9: =IF(MID(L9,1,7)="CRÉTEIL",$S$4,"")
A10: 42948 | B10: =DATE(YEAR(B9),MONTH(B9),2) -> 42918 | F10: =DATE(YEAR(B9),MONTH(B9),2) -> 42918 | K10: =DATE(YEAR(B9),MONTH(B9),2) -> 42918 | L10: =CALENDRIER!C5 -> 0 | M10: =IF(MID(L10,1,7)=$S$6,$T$4,"") | N10: =IF(MID(L10,1,7)="CRÉTEIL",$S$4,"")
A11: 42979 | B11: =B10+1 -> 42919 | F11: =F10+1 -> 42919 | K11: =K10+1 -> 42919 | L11: =CALENDRIER!C6 -> 0 | M11: =IF(MID(L11,1,7)=$S$6,$T$4,"") | N11: =IF(MID(L11,1,7)="CRÉTEIL",$S$4,"")
A12: 43009 | B12: =B11+1 -> 42920 | F12: =F11+1 -> 42920 | K12: =K11+1 -> 42920 | L12: =CALENDRIER!C7 -> 0 | M12: =IF(MID(L12,1,7)=$S$6,$T$4,"") | N12: =IF(MID(L12,1,7)="CRÉTEIL",$S$4,"")
A13: 43040 | B13: =B12+1 -> 42921 | F13: =F12+1 -> 42921 | K13: =K12+1 -> 42921 | L13: =CALENDRIER!C8 -> 0 | M13: =IF(MID(L13,1,7)=$S$6,$T$4,"") | N13: =IF(MID(L13,1,7)="CRÉTEIL",$S$4,"")
A14: 43070 | B14: =B13+1 -> 42922 | F14: =F13+1 -> 42922 | K14: =K13+1 -> 42922 | L14: =CALENDRIER!C9 -> 0 | M14: =IF(MID(L14,1,7)=$S$6,$T$4,"") | N14: =IF(MID(L14,1,7)="CRÉTEIL",$S$4,"")
A15: 43101 | B15: =B14+1 -> 42923 | F15: =F14+1 -> 42923 | K15: =K14+1 -> 42923 | L15: =CALENDRIER!C10 -> 0 | M15: =IF(MID(L15,1,7)=$S$6,$T$4,"") | N15: =IF(MID(L15,1,7)="CRÉTEIL",$S$4,"")
A16: 43132 | B16: =B15+1 -> 42924 | F16: =F15+1 -> 42924 | K16: =K15+1 -> 42924 | L16: =CALENDRIER!C11 -> 0 | M16: =IF(MID(L16,1,7)=$S$6,$T$4,"") | N16: =IF(MID(L16,1,7)="CRÉTEIL",$S$4,"")
A17: 43160 | B17: =B16+1 -> 42925 | F17: =F16+1 -> 42925 | K17: =K16+1 -> 42925 | L17: =CALENDRIER!C12 -> 0 | M17: =IF(MID(L17,1,7)=$S$6,$T$4,"") | N17: =IF(MID(L17,1,7)="CRÉTEIL",$S$4,"")
A18: 43191 | B18: =B17+1 -> 42926 | F18: =F17+1 -> 42926 | K18: =K17+1 -> 42926 | L18: =CALENDRIER!C13 -> 0 | M18: =IF(MID(L18,1,7)=$S$6,$T$4,"") | N18: =IF(MID(L18,1,7)="CRÉTEIL",$S$4,"")
A19: 43221 | B19: =B18+1 -> 42927 | F19: =F18+1 -> 42927 | K19: =K18+1 -> 42927 | L19: =CALENDRIER!C14 -> 0 | M19: =IF(MID(L19,1,7)=$S$6,$T$4,"") | N19: =IF(MID(L19,1,7)="CRÉTEIL",$S$4,"")
A20: 43252 | B20: =B19+1 -> 42928 | F20: =F19+1 -> 42928 | K20: =K19+1 -> 42928 | L20: =CALENDRIER!C15 -> 0 | M20: =IF(MID(L20,1,7)=$S$6,$T$4,"") | N20: =IF(MID(L20,1,7)="CRÉTEIL",$S$4,"")
A21: 43282 | B21: =B20+1 -> 42929 | F21: =F20+1 -> 42929 | K21: =K20+1 -> 42929 | L21: =CALENDRIER!C16 -> 0 | M21: =IF(MID(L21,1,7)=$S$6,$T$4,"") | N21: =IF(MID(L21,1,7)="CRÉTEIL",$S$4,"")
A22: 43313 | B22: =B21+1 -> 42930 | F22: =F21+1 -> 42930 | K22: =K21+1 -> 42930 | L22: =CALENDRIER!C17 -> 0 | M22: =IF(MID(L22,1,7)=$S$6,$T$4,"") | N22: =IF(MID(L22,1,7)="CRÉTEIL",$S$4,"")
... A24: 43374 | B24: =B23+1 -> 42932 | F24: =F23+1 -> 42932 | K24: =K23+1 -> 42932 | L24: =CALENDRIER!C19 -> 0 | M24: =IF(MID(L24,1,7)=$S$6,$T$4,"") | N24: =IF(MID(L24,1,7)="CRÉTEIL",$S$4,"")
A25: 43405 | B25: =B24+1 -> 42933 | C25: 0.41666667 | D25: 0.75 | F25: =F24+1 -> 42933 | K25: =K24+1 -> 42933 | L25: =CALENDRIER!C20 -> 0 | M25: =IF(MID(L25,1,7)=$S$6,$T$4,"") | N25: =IF(MID(L25,1,7)="CRÉTEIL",$S$4,"")
A26: 43435 | B26: =B25+1 -> 42934 | C26: 0.41666667 | D26: 0.75 | F26: =F25+1 -> 42934 | K26: =K25+1 -> 42934 | L26: =CALENDRIER!C21 -> 0 | M26: =IF(MID(L26,1,7)=$S$6,$T$4,"") | N26: =IF(MID(L26,1,7)="CRÉTEIL",$S$4,"")
A27: 43466 | B27: =B26+1 -> 42935 | C27: 0.41666667 | D27: 0.75 | F27: =F26+1 -> 42935 | K27: =K26+1 -> 42935 | L27: =CALENDRIER!C22 -> 0 | M27: =IF(MID(L27,1,7)=$S$6,$T$4,"") | N27: =IF(MID(L27,1,7)="CRÉTEIL",$S$4,"")
A28: 43497 | B28: =B27+1 -> 42936 | C28: 0.41666667 | D28: 0.75 | F28: =F27+1 -> 42936 | K28: =K27+1 -> 42936 | L28: =CALENDRIER!C23 -> 0 | M28: =IF(MID(L28,1,7)=$S$6,$T$4,"") | N28: =IF(MID(L28,1,7)="CRÉTEIL",$S$4,"")
A29: 43525 | B29: =B28+1 -> 42937 | C29: 0.41666667 | D29: 0.75 | F29: =F28+1 -> 42937 | K29: =K28+1 -> 42937 | L29: =CALENDRIER!C24 -> 0 | M29: =IF(MID(L29,1,7)=$S$6,$T$4,"") | N29: =IF(MID(L29,1,7)="CRÉTEIL",$S$4,"")
A30: 43556 | B30: =B29+1 -> 42938 | C30: 0.41666667 | F30: =F29+1 -> 42938 | K30: =K29+1 -> 42938 | L30: =CALENDRIER!C25 -> MATCH OPPOSITION | M30: 0.41666667 | N30: =IF(MID(L30,1,7)="CRÉTEIL",$S$4,"")
A31: 43586 | B31: =B30+1 -> 42939 | F31: =F30+1 -> 42939 | K31: =K30+1 -> 42939 | L31: =CALENDRIER!C26 -> 0 | M31: =IF(MID(L31,1,7)=$S$6,$T$4,"") | N31: =IF(MID(L31,1,7)="CRÉTEIL",$S$4,"")
A32: 43617 | B32: =B31+1 -> 42940 | C32: 0.41666667 | D32: 0.75 | F32: =F31+1 -> 42940 | K32: =K31+1 -> 42940 | L32: =CALENDRIER!C27 -> 0 | M32: =IF(MID(L32,1,7)=$S$6,$T$4,"") | N32: =IF(MID(L32,1,7)="CRÉTEIL",$S$4,"")
A33: 43647 | B33: =B32+1 -> 42941 | C33: 0.41666667 | D33: 0.75 | F33: =F32+1 -> 42941 | K33: =K32+1 -> 42941 | L33: =CALENDRIER!C28 -> 0 | M33: =IF(MID(L33,1,7)=$S$6,$T$4,"") | N33: =IF(MID(L33,1,7)="CRÉTEIL",$S$4,"")
A34: 43678 | B34: =B33+1 -> 42942 | F34: =F33+1 -> 42942 | K34: =K33+1 -> 42942 | L34: =CALENDRIER!C29 -> 0 | M34: 0.77083333 | N34: =IF(MID(L34,1,7)="CRÉTEIL",$S$4,"")
A35: 43709 | B35: =B34+1 -> 42943 | C35: 0.41666667 | D35: 0.75 | F35: =F34+1 -> 42943 | K35: =K34+1 -> 42943 | L35: =CALENDRIER!C30 -> 0 | M35: =IF(MID(L35,1,7)=$S$6,$T$4,"") | N35: =IF(MID(L35,1,7)="CRÉTEIL",$S$4,"")
A36: 43739 | B36: =B35+1 -> 42944 | C36: 0.41666667 | D36: 0.75 | F36: =F35+1 -> 42944 | K36: =K35+1 -> 42944 | L36: =CALENDRIER!C31 -> 0 | M36: =IF(MID(L36,1,7)=$S$6,$T$4,"") | N36: =IF(MID(L36,1,7)="CRÉTEIL",$S$4,"")
A37: 43770 | B37: =IF(OR(MONTH(B36)<>MONTH(B36+1),$B$4=59),REPT("",100),B36+1) -> 42945 | F37: =IF(OR(MONTH(B36)<>MONTH(B36+1),B4=59),REPT("",100),B36+1) -> 42945 | K37: =IF(OR(MONTH(B36)<>MONTH(B36+1),B4=59),REPT("",100),B36+1) -> 42945 | L37: =CALENDRIER!C32 -> 0 | M37: 0.4375 | N37: =IF(MID(L37,1,7)="CRÉTEIL",$S$4,"")
A38: 43800 | B38: =IF(MONTH(B36)<>MONTH(B36+2),REPT("",100),B37+1) -> 42946 | F38: =IF(MONTH(B36)<>MONTH(B36+2),REPT("",100),B37+1) -> 42946 | K38: =IF(MONTH(B36)<>MONTH(B36+2),REPT("",100),B37+1) -> 42946 | L38: =CALENDRIER!C33 -> 0 | M38: =IF(MID(L38,1,7)=$S$6,$T$4,"") | N38: =IF(MID(L38,1,7)="CRÉTEIL",$S$4,"")
A39: 43831 | B39: =IF(MONTH(B36)<>MONTH(B36+3),REPT("",100),B38+1) -> 42947 | C39: 0.41666667 | D39: 0.75 | F39: =IF(MONTH(B36)<>MONTH(B36+3),REPT("",100),B38+1) -> 42947 | K39: =IF(MONTH(B36)<>MONTH(B36+3),REPT("",100),B38+1) -> 42947 | L39: =CALENDRIER!C34 -> 0 | M39: =IF(MID(L39,1,7)=$S$6,$T$4,"") | N39: =IF(MID(L39,1,7)="CRÉTEIL",$S$4,"")
A40: 43862
A41: 43891 | B41: NOTES :
A42: 43922
A43: 43952
A44: 43983
A45: 44013
A46: 44044
A47: 44075
A48: 44105
A49: 44136
A50: 44166
A51: 44197
A52: 44228
A53: 44256
... A386: 54393
A389: SAISON 2017 - 2018
A390: SAISON 2018 - 2019
A391: SAISON 2019 - 2020
A392: SAISON 2020 - 2021
A393: SAISON 2021 - 2022
A394: SAISON 2022 - 2023
A395: SAISON 2023 - 2024
A396: SAISON 2024 - 2025
A397: SAISON 2025 - 2026
A398: SAISON 2026 - 2027
A399: SAISON 2027 - 2028
A400: SAISON 2028 - 2029
A401: SAISON 2029 - 2030
A403: =#REF! -> #REF!
A404: =#REF! -> #REF!
A405: =#REF! -> #REF!
A406: =#REF! -> #REF!
A407: =#REF! -> #REF!
A408: =#REF! -> #REF!
A409: =#REF! -> #REF!
A410: =#REF! -> #REF!
A411: =#REF! -> #REF!
A412: =#REF! -> #REF!
A413: =#REF! -> #REF!
A414: =#REF! -> #REF!
... A422: =#REF! -> #REF!
A423: 0.33333333
A424: 0.35416667
A425: 0.375
A426: 0.39583333
A427: 0.41666667
A428: 0.4375
A429: 0.45833333
A430: 0.47916667
A431: 0.5
A432: 0.52083333
A433: 0.54166667
A434: 0.5625
... A484: 54970

Sheet Août
A1: =(H21&"/ "&I21)
B2: =Juillet!B2 -> SAISON 2017 - 2018 | S2: 0
B4: =DATE(YEAR(Juillet!B4),MONTH(Juillet!B4)+1,DAY(Juillet!B4)) -> 42948 | S4: Synthé Ouest | T4: 0.75
A6: Synthé Ouest | M6: =NOW() -> 42926.797 | S6: CRÉTEIL
A7: Synthé Est | B7: DATES | C7: ENTRAINEMENT | G7: MATCH | H7: HEURES | I7: TERRAIN | L7: MATCH | M7: HEURES | N7: TERRAIN
A8: Honneur | C8: MATIN | D8: SOIR | G8: CHAMPIONNAT / COUPE | L8: AMICAL
A9: 42917 | B9: =$B$4 -> 42948 | D9: 0.79166667 | F9: =$B$4 -> 42948 | G9: =(CALENDRIER!D4) -> 0 | H9: =IF(MID(G9,1,7)=$S$6,$T$4,"") | I9: =IF(MID(G9,1,7)=$S$6,$S$4,"") | K9: =$B$4 -> 42948 | L9: =(CALENDRIER!E4) -> 0
A10: 42948 | B10: =DATE(YEAR(B9),MONTH(B9),2) -> 42949 | F10: =DATE(YEAR(F9),MONTH(F9),2) -> 42949 | G10: =(CALENDRIER!D5) -> 0 | H10: =IF(MID(G10,1,7)=$S$6,$T$4,"") | I10: =IF(MID(G10,1,7)=$S$6,$S$4,"") | K10: =DATE(YEAR(K9),MONTH(K9),2) -> 42949 | L10: =(CALENDRIER!E5) -> 0 | M10: 0.75
A11: 42979 | B11: =B10+1 -> 42950 | D11: 0.79166667 | F11: =F10+1 -> 42950 | G11: =(CALENDRIER!D6) -> 0 | H11: =IF(MID(G11,1,7)=$S$6,$T$4,"") | I11: =IF(MID(G11,1,7)=$S$6,$S$4,"") | K11: =K10+1 -> 42950 | L11: =(CALENDRIER!E6) -> 0
A12: 43009 | B12: =B11+1 -> 42951 | D12: 0.79166667 | F12: =F11+1 -> 42951 | G12: =(CALENDRIER!D7) -> 0 | H12: =IF(MID(G12,1,7)=$S$6,$T$4,"") | I12: =IF(MID(G12,1,7)=$S$6,$S$4,"") | K12: =K11+1 -> 42951 | L12: =(CALENDRIER!E7) -> 0
A13: 43040 | B13: =B12+1 -> 42952 | F13: =F12+1 -> 42952 | G13: =(CALENDRIER!D8) -> 0 | H13: =IF(MID(G13,1,7)=$S$6,$T$4,"") | I13: =IF(MID(G13,1,7)=$S$6,$S$4,"") | K13: =K12+1 -> 42952 | L13: =(CALENDRIER!E8) -> 0
A14: 43070 | B14: =B13+1 -> 42953 | F14: =F13+1 -> 42953 | G14: =(CALENDRIER!D9) -> 0 | H14: =IF(MID(G14,1,7)=$S$6,$T$4,"") | I14: =IF(MID(G14,1,7)=$S$6,$S$4,"") | K14: =K13+1 -> 42953 | L14: =(CALENDRIER!E9) -> 0
A15: 43101 | B15: =B14+1 -> 42954 | D15: 0.79166667 | F15: =F14+1 -> 42954 | G15: =(CALENDRIER!D10) -> 0 | H15: =IF(MID(G15,1,7)=$S$6,$T$4,"") | I15: =IF(MID(G15,1,7)=$S$6,$S$4,"") | K15: =K14+1 -> 42954 | L15: =(CALENDRIER!E10) -> 0
A16: 43132 | B16: =B15+1 -> 42955 | D16: 0.79166667 | F16: =F15+1 -> 42955 | G16: =(CALENDRIER!D11) -> 0 | H16: =IF(MID(G16,1,7)=$S$6,$T$4,"") | I16: =IF(MID(G16,1,7)=$S$6,$S$4,"") | K16: =K15+1 -> 42955 | L16: =(CALENDRIER!E11) -> 0
A17: 43160 | B17: =B16+1 -> 42956 | D17: 0.79166667 | F17: =F16+1 -> 42956 | G17: =(CALENDRIER!D12) -> 0 | H17: =IF(MID(G17,1,7)=$S$6,$T$4,"") | I17: =IF(MID(G17,1,7)=$S$6,$S$4,"") | K17: =K16+1 -> 42956 | L17: =(CALENDRIER!E12) -> 0
A18: 43191 | B18: =B17+1 -> 42957 | F18: =F17+1 -> 42957 | G18: =(CALENDRIER!D13) -> 0 | H18: =IF(MID(G18,1,7)=$S$6,$T$4,"") | I18: =IF(MID(G18,1,7)=$S$6,$S$4,"") | K18: =K17+1 -> 42957 | L18: =(CALENDRIER!E13) -> 0
A19: 43221 | B19: =B18+1 -> 42958 | D19: 0.75 | F19: =F18+1 -> 42958 | G19: =(CALENDRIER!D14) -> 0 | H19: =IF(MID(G19,1,7)=$S$6,$T$4,"") | I19: =IF(MID(G19,1,7)=$S$6,$S$4,"") | K19: =K18+1 -> 42958 | L19: =(CALENDRIER!E14) -> 0
A20: 43252 | B20: =B19+1 -> 42959 | F20: =F19+1 -> 42959 | G20: =(CALENDRIER!D15) -> 0 | H20: =IF(MID(G20,1,7)=$S$6,$T$4,"") | I20: =IF(MID(G20,1,7)=$S$6,$S$4,"") | K20: =K19+1 -> 42959 | L20: =(CALENDRIER!E15) -> 0 | M20: 0.4375
A21: 43282 | B21: =B20+1 -> 42960 | F21: =F20+1 -> 42960 | G21: =(CALENDRIER!D16) -> 0 | H21: =IF(MID(G21,1,7)=$S$6,$T$4,"") | I21: =IF(MID(G21,1,7)=$S$6,$S$4,"") | K21: =K20+1 -> 42960 | L21: =(CALENDRIER!E16) -> 0
A22: 43313 | B22: =B21+1 -> 42961 | D22: 0.79166667 | F22: =F21+1 -> 42961 | G22: =(CALENDRIER!D17) -> 0 | H22: =IF(MID(G22,1,7)=$S$6,$T$4,"") | I22: =IF(MID(G22,1,7)=$S$6,$S$4,"") | K22: =K21+1 -> 42961 | L22: =(CALENDRIER!E17) -> 0
A23: 43344 | B23: =B22+1 -> 42962 | D23: 0.79166667 | F23: =F22+1 -> 42962 | G23: =(CALENDRIER!D18) -> 0 | H23: =IF(MID(G23,1,7)=$S$6,$T$4,"") | I23: =IF(MID(G23,1,7)=$S$6,$S$4,"") | K23: =K22+1 -> 42962 | L23: =(CALENDRIER!E18) -> 0
A24: 43374 | B24: =B23+1 -> 42963 | D24: 0.79166667 | F24: =F23+1 -> 42963 | G24: =(CALENDRIER!D19) -> 0 | H24: =IF(MID(G24,1,7)=$S$6,$T$4,"") | I24: =IF(MID(G24,1,7)=$S$6,$S$4,"") | K24: =K23+1 -> 42963 | L24: =(CALENDRIER!E19) -> 0
A25: 43405 | B25: =B24+1 -> 42964 | F25: =F24+1 -> 42964 | G25: =(CALENDRIER!D20) -> 0 | H25: =IF(MID(G25,1,7)=$S$6,$T$4,"") | I25: =IF(MID(G25,1,7)=$S$6,$S$4,"") | K25: =K24+1 -> 42964 | L25: =(CALENDRIER!E20) -> 0
A26: 43435 | B26: =B25+1 -> 42965 | D26: 0.75 | F26: =F25+1 -> 42965 | G26: =(CALENDRIER!D21) -> 0 | H26: =IF(MID(G26,1,7)=$S$6,$T$4,"") | I26: =IF(MID(G26,1,7)=$S$6,$S$4,"") | K26: =K25+1 -> 42965 | L26: =(CALENDRIER!E21) -> 0
A27: 43466 | B27: =B26+1 -> 42966 | F27: =F26+1 -> 42966 | G27: =(CALENDRIER!D22) -> MATCH | H27: =IF(MID(G27,1,7)=$S$6,$T$4,"") | I27: =IF(MID(G27,1,7)=$S$6,$S$4,"") | K27: =K26+1 -> 42966 | L27: =(CALENDRIER!E22) -> 0
A28: 43497 | B28: =B27+1 -> 42967 | F28: =F27+1 -> 42967 | G28: =(CALENDRIER!D23) -> 0 | H28: =IF(MID(G28,1,7)=$S$6,$T$4,"") | I28: =IF(MID(G28,1,7)=$S$6,$S$4,"") | K28: =K27+1 -> 42967 | L28: =(CALENDRIER!E23) -> 0
A29: 43525 | B29: =B28+1 -> 42968 | D29: 0.79166667 | F29: =F28+1 -> 42968 | G29: =(CALENDRIER!D24) -> 0 | H29: =IF(MID(G29,1,7)=$S$6,$T$4,"") | I29: =IF(MID(G29,1,7)=$S$6,$S$4,"") | K29: =K28+1 -> 42968 | L29: =(CALENDRIER!E24) -> 0
A30: 43556 | B30: =B29+1 -> 42969 | D30: 0.79166667 | F30: =F29+1 -> 42969 | G30: =(CALENDRIER!D25) -> 0 | H30: =IF(MID(G30,1,7)=$S$6,$T$4,"") | I30: =IF(MID(G30,1,7)=$S$6,$S$4,"") | K30: =K29+1 -> 42969 | L30: =(CALENDRIER!E25) -> 0
A31: 43586 | B31: =B30+1 -> 42970 | D31: 0.79166667 | F31: =F30+1 -> 42970 | G31: =(CALENDRIER!D26) -> 0 | H31: =IF(MID(G31,1,7)=$S$6,$T$4,"") | I31: =IF(MID(G31,1,7)=$S$6,$S$4,"") | K31: =K30+1 -> 42970 | L31: =(CALENDRIER!E26) -> 0
A32: 43617 | B32: =B31+1 -> 42971 | F32: =F31+1 -> 42971 | G32: =(CALENDRIER!D27) -> 0 | H32: =IF(MID(G32,1,7)=$S$6,$T$4,"") | I32: =IF(MID(G32,1,7)=$S$6,$S$4,"") | K32: =K31+1 -> 42971 | L32: =(CALENDRIER!E27) -> 0
A33: 43647 | B33: =B32+1 -> 42972 | D33: 0.75 | F33: =F32+1 -> 42972 | G33: =(CALENDRIER!D28) -> 0 | H33: =IF(MID(G33,1,7)=$S$6,$T$4,"") | I33: =IF(MID(G33,1,7)=$S$6,$S$4,"") | K33: =K32+1 -> 42972 | L33: =(CALENDRIER!E28) -> 0
A34: 43678 | B34: =B33+1 -> 42973 | F34: =F33+1 -> 42973 | G34: =(CALENDRIER!D29) -> MATCH | H34: =IF(MID(G34,1,7)=$S$6,$T$4,"") | I34: =IF(MID(G34,1,7)=$S$6,$S$4,"") | K34: =K33+1 -> 42973 | L34: =(CALENDRIER!E29) -> 0
A35: 43709 | B35: =B34+1 -> 42974 | F35: =F34+1 -> 42974 | G35: =(CALENDRIER!D30) -> 0 | H35: =IF(MID(G35,1,7)=$S$6,$T$4,"") | I35: =IF(MID(G35,1,7)=$S$6,$S$4,"") | K35: =K34+1 -> 42974 | L35: =(CALENDRIER!E30) -> 0
A36: 43739 | B36: =B35+1 -> 42975 | D36: 0.79166667 | F36: =F35+1 -> 42975 | G36: =(CALENDRIER!D31) -> 0 | H36: =IF(MID(G36,1,7)=$S$6,$T$4,"") | I36: =IF(MID(G36,1,7)=$S$6,$S$4,"") | K36: =K35+1 -> 42975 | L36: =(CALENDRIER!E31) -> 0
A37: 43770 | B37: =IF(OR(MONTH(B36)<>MONTH(B36+1),$B$4=59),REPT("",100),B36+1) -> 42976 | D37: 0.79166667 | F37: =IF(OR(MONTH(F36)<>MONTH(F36+1),$B$4=59),REPT("",100),F36+1) -> 42976 | G37: =(CALENDRIER!D32) -> 0 | H37: =IF(MID(G37,1,7)=$S$6,$T$4,"") | I37: =IF(MID(G37,1,7)=$S$6,$S$4,"") | K37: =IF(OR(MONTH(K36)<>MONTH(K36+1),$B$4=59),REPT("",100),K36+1) -> 42976 | L37: =(CALENDRIER!E32) -> 0
A38: 43800 | B38: =IF(MONTH(B36)<>MONTH(B36+2),REPT("",100),B37+1) -> 42977 | D38: 0.79166667 | F38: =IF(MONTH(F36)<>MONTH(F36+2),REPT("",100),F37+1) -> 42977 | G38: =(CALENDRIER!D33) -> 0 | H38: =IF(MID(G38,1,7)=$S$6,$T$4,"") | I38: =IF(MID(G38,1,7)=$S$6,$S$4,"") | K38: =IF(MONTH(K36)<>MONTH(K36+2),REPT("",100),K37+1) -> 42977 | L38: =(CALENDRIER!E33) -> 0
A39: 43831 | B39: =IF(MONTH(B36)<>MONTH(B36+3),REPT("",100),B38+1) -> 42978 | F39: =IF(MONTH(F36)<>MONTH(F36+3),REPT("",100),F38+1) -> 42978 | G39: =(CALENDRIER!D34) -> 0 | H39: =IF(MID(G39,1,7)=$S$6,$T$4,"") | I39: =IF(MID(G39,1,7)=$S$6,$S$4,"") | K39: =IF(MONTH(K36)<>MONTH(K36+3),REPT("",100),K38+1) -> 42978 | L39: =(CALENDRIER!E34) -> 0
A40: 43862
A41: 43891 | B41: NOTES :
A42: 43922
A43: 43952
A44: 43983
A45: 44013
A46: 44044
A47: 44075
A48: 44105
A49: 44136
A50: 44166
A51: 44197
A52: 44228
A53: 44256
... A386: 54393
A389: SAISON 2017 - 2018
A390: SAISON 2018 - 2019
A391: SAISON 2019 - 2020
A392: SAISON 2020 - 2021
A393: SAISON 2021 - 2022
A394: SAISON 2022 - 2023
A395: SAISON 2023 - 2024
A396: SAISON 2024 - 2025
A397: SAISON 2025 - 2026
A398: SAISON 2026 - 2027
A399: SAISON 2027 - 2028
A400: SAISON 2028 - 2029
A401: SAISON 2029 - 2030
A403: =#REF! -> #REF!
A404: =#REF! -> #REF!
A405: =#REF! -> #REF!
A406: =#REF! -> #REF!
A407: =#REF! -> #REF!
A408: =#REF! -> #REF!
A409: =#REF! -> #REF!
A410: =#REF! -> #REF!
A411: =#REF! -> #REF!
A412: =#REF! -> #REF!
A413: =#REF! -> #REF!
A414: =#REF! -> #REF!
... A422: =#REF! -> #REF!
A423: 0.33333333
A424: 0.35416667
A425: 0.375
A426: 0.39583333
A427: 0.41666667
A428: 0.4375
A429: 0.45833333
A430: 0.47916667
A431: 0.5
A432: 0.52083333
A433: 0.54166667
A434: 0.5625
... A449: 0.875

Sheet Septembre
A1: =(H21&"/ "&I21)
B2: =Août!B2 -> SAISON 2017 - 2018 | S2: 0
B4: =DATE(YEAR(Août!B4),MONTH(Août!B4)+1,DAY(Août!B4)) -> 42979 | S4: Synthé Ouest | T4: 0.75
A6: Synthé Ouest | M6: =NOW() -> 42926.797 | S6: CRÉTEIL
A7: Synthé Est | B7: DATES | C7: ENTRAINEMENT | G7: MATCH | H7: HEURES | I7: TERRAIN | L7: MATCH | M7: HEURES | N7: TERRAIN
A8: Honneur | C8: MATIN | D8: SOIR | G8: CHAMPIONNAT / COUPE | L8: AMICAL
A9: 42917 | B9: =$B$4 -> 42979 | D9: 0.77083333 | F9: =$B$4 -> 42979 | G9: =(CALENDRIER!F4) -> 0 | H9: =IF(MID(G9,1,7)=$S$6,$T$4,"") | I9: =IF(MID(G9,1,7)=$S$6,$S$4,"") | K9: =$B$4 -> 42979 | L9: =(CALENDRIER!G4) -> 0
A10: 42948 | B10: =DATE(YEAR(B9),MONTH(B9),2) -> 42980 | F10: =DATE(YEAR(F9),MONTH(F9),2) -> 42980 | G10: =(CALENDRIER!F5) -> MATCH | H10: =IF(MID(G10,1,7)=$S$6,$T$4,"") | I10: =IF(MID(G10,1,7)=$S$6,$S$4,"") | K10: =DATE(YEAR(K9),MONTH(K9),2) -> 42980 | L10: =(CALENDRIER!G5) -> 0
A11: 42979 | B11: =B10+1 -> 42981 | F11: =F10+1 -> 42981 | G11: =(CALENDRIER!F6) -> 0 | H11: =IF(MID(G11,1,7)=$S$6,$T$4,"") | I11: =IF(MID(G11,1,7)=$S$6,$S$4,"") | K11: =K10+1 -> 42981 | L11: =(CALENDRIER!G6) -> 0
A12: 43009 | B12: =B11+1 -> 42982 | D12: 0.8125 | F12: =F11+1 -> 42982 | G12: =(CALENDRIER!F7) -> 0 | H12: =IF(MID(G12,1,7)=$S$6,$T$4,"") | I12: =IF(MID(G12,1,7)=$S$6,$S$4,"") | K12: =K11+1 -> 42982 | L12: =(CALENDRIER!G7) -> 0
A13: 43040 | B13: =B12+1 -> 42983 | D13: 0.8125 | F13: =F12+1 -> 42983 | G13: =(CALENDRIER!F8) -> 0 | H13: =IF(MID(G13,1,7)=$S$6,$T$4,"") | I13: =IF(MID(G13,1,7)=$S$6,$S$4,"") | K13: =K12+1 -> 42983 | L13: =(CALENDRIER!G8) -> 0
A14: 43070 | B14: =B13+1 -> 42984 | D14: 0.85416667 | F14: =F13+1 -> 42984 | G14: =(CALENDRIER!F9) -> 0 | H14: =IF(MID(G14,1,7)=$S$6,$T$4,"") | I14: =IF(MID(G14,1,7)=$S$6,$S$4,"") | K14: =K13+1 -> 42984 | L14: =(CALENDRIER!G9) -> 0
A15: 43101 | B15: =B14+1 -> 42985 | F15: =F14+1 -> 42985 | G15: =(CALENDRIER!F10) -> 0 | H15: =IF(MID(G15,1,7)=$S$6,$T$4,"") | I15: =IF(MID(G15,1,7)=$S$6,$S$4,"") | K15: =K14+1 -> 42985 | L15: =(CALENDRIER!G10) -> 0
A16: 43132 | B16: =B15+1 -> 42986 | D16: 0.77083333 | F16: =F15+1 -> 42986 | G16: =(CALENDRIER!F11) -> 0 | H16: =IF(MID(G16,1,7)=$S$6,$T$4,"") | I16: =IF(MID(G16,1,7)=$S$6,$S$4,"") | K16: =K15+1 -> 42986 | L16: =(CALENDRIER!G11) -> 0
A17: 43160 | B17: =B16+1 -> 42987 | F17: =F16+1 -> 42987 | G17: =(CALENDRIER!F12) -> MATCH | H17: =IF(MID(G17,1,7)=$S$6,$T$4,"") | I17: =IF(MID(G17,1,7)=$S$6,$S$4,"") | K17: =K16+1 -> 42987 | L17: =(CALENDRIER!G12) -> 0
A18: 43191 | B18: =B17+1 -> 42988 | F18: =F17+1 -> 42988 | G18: =(CALENDRIER!F13) -> 0 | H18: =IF(MID(G18,1,7)=$S$6,$T$4,"") | I18: =IF(MID(G18,1,7)=$S$6,$S$4,"") | K18: =K17+1 -> 42988 | L18: =(CALENDRIER!G13) -> 0
A19: 43221 | B19: =B18+1 -> 42989 | D19: 0.8125 | F19: =F18+1 -> 42989 | G19: =(CALENDRIER!F14) -> 0 | H19: =IF(MID(G19,1,7)=$S$6,$T$4,"") | I19: =IF(MID(G19,1,7)=$S$6,$S$4,"") | K19: =K18+1 -> 42989 | L19: =(CALENDRIER!G14) -> 0
A20: 43252 | B20: =B19+1 -> 42990 | D20: 0.8125 | F20: =F19+1 -> 42990 | G20: =(CALENDRIER!F15) -> 0 | H20: =IF(MID(G20,1,7)=$S$6,$T$4,"") | I20: =IF(MID(G20,1,7)=$S$6,$S$4,"") | K20: =K19+1 -> 42990 | L20: =(CALENDRIER!G15) -> 0
A21: 43282 | B21: =B20+1 -> 42991 | D21: 0.85416667 | F21: =F20+1 -> 42991 | G21: =(CALENDRIER!F16) -> 0 | H21: =IF(MID(G21,1,7)=$S$6,$T$4,"") | I21: =IF(MID(G21,1,7)=$S$6,$S$4,"") | K21: =K20+1 -> 42991 | L21: =(CALENDRIER!G16) -> 0
A22: 43313 | B22: =B21+1 -> 42992 | F22: =F21+1 -> 42992 | G22: =(CALENDRIER!F17) -> 0 | H22: =IF(MID(G22,1,7)=$S$6,$T$4,"") | I22: =IF(MID(G22,1,7)=$S$6,$S$4,"") | K22: =K21+1 -> 42992 | L22: =(CALENDRIER!G17) -> 0
A23: 43344 | B23: =B22+1 -> 42993 | D23: 0.77083333 | F23: =F22+1 -> 42993 | G23: =(CALENDRIER!F18) -> 0 | H23: =IF(MID(G23,1,7)=$S$6,$T$4,"") | I23: =IF(MID(G23,1,7)=$S$6,$S$4,"") | K23: =K22+1 -> 42993 | L23: =(CALENDRIER!G18) -> 0
A24: 43374 | B24: =B23+1 -> 42994 | F24: =F23+1 -> 42994 | G24: =(CALENDRIER!F19) -> MATCH | H24: =IF(MID(G24,1,7)=$S$6,$T$4,"") | I24: =IF(MID(G24,1,7)=$S$6,$S$4,"") | K24: =K23+1 -> 42994 | L24: =(CALENDRIER!G19) -> 0
A25: 43405 | B25: =B24+1 -> 42995 | F25: =F24+1 -> 42995 | G25: =(CALENDRIER!F20) -> 0 | H25: =IF(MID(G25,1,7)=$S$6,$T$4,"") | I25: =IF(MID(G25,1,7)=$S$6,$S$4,"") | K25: =K24+1 -> 42995 | L25: =(CALENDRIER!G20) -> 0
A26: 43435 | B26: =B25+1 -> 42996 | D26: 0.8125 | F26: =F25+1 -> 42996 | G26: =(CALENDRIER!F21) -> 0 | H26: =IF(MID(G26,1,7)=$S$6,$T$4,"") | I26: =IF(MID(G26,1,7)=$S$6,$S$4,"") | K26: =K25+1 -> 42996 | L26: =(CALENDRIER!G21) -> 0
A27: 43466 | B27: =B26+1 -> 42997 | D27: 0.8125 | F27: =F26+1 -> 42997 | G27: =(CALENDRIER!F22) -> 0 | H27: =IF(MID(G27,1,7)=$S$6,$T$4,"") | I27: =IF(MID(G27,1,7)=$S$6,$S$4,"") | K27: =K26+1 -> 42997 | L27: =(CALENDRIER!G22) -> 0
A28: 43497 | B28: =B27+1 -> 42998 | D28: 0.85416667 | F28: =F27+1 -> 42998 | G28: =(CALENDRIER!F23) -> 0 | H28: =IF(MID(G28,1,7)=$S$6,$T$4,"") | I28: =IF(MID(G28,1,7)=$S$6,$S$4,"") | K28: =K27+1 -> 42998 | L28: =(CALENDRIER!G23) -> 0
A29: 43525 | B29: =B28+1 -> 42999 | F29: =F28+1 -> 42999 | G29: =(CALENDRIER!F24) -> 0 | H29: =IF(MID(G29,1,7)=$S$6,$T$4,"") | I29: =IF(MID(G29,1,7)=$S$6,$S$4,"") | K29: =K28+1 -> 42999 | L29: =(CALENDRIER!G24) -> 0
A30: 43556 | B30: =B29+1 -> 43000 | D30: 0.77083333 | F30: =F29+1 -> 43000 | G30: =(CALENDRIER!F25) -> 0 | H30: =IF(MID(G30,1,7)=$S$6,$T$4,"") | I30: =IF(MID(G30,1,7)=$S$6,$S$4,"") | K30: =K29+1 -> 43000 | L30: =(CALENDRIER!G25) -> 0
A31: 43586 | B31: =B30+1 -> 43001 | F31: =F30+1 -> 43001 | G31: =(CALENDRIER!F26) -> MATCH | H31: =IF(MID(G31,1,7)=$S$6,$T$4,"") | I31: =IF(MID(G31,1,7)=$S$6,$S$4,"") | K31: =K30+1 -> 43001 | L31: =(CALENDRIER!G26) -> 0
A32: 43617 | B32: =B31+1 -> 43002 | F32: =F31+1 -> 43002 | G32: =(CALENDRIER!F27) -> 0 | H32: =IF(MID(G32,1,7)=$S$6,$T$4,"") | I32: =IF(MID(G32,1,7)=$S$6,$S$4,"") | K32: =K31+1 -> 43002 | L32: =(CALENDRIER!G27) -> 0
A33: 43647 | B33: =B32+1 -> 43003 | D33: 0.8125 | F33: =F32+1 -> 43003 | G33: =(CALENDRIER!F28) -> 0 | H33: =IF(MID(G33,1,7)=$S$6,$T$4,"") | I33: =IF(MID(G33,1,7)=$S$6,$S$4,"") | K33: =K32+1 -> 43003 | L33: =(CALENDRIER!G28) -> 0
A34: 43678 | B34: =B33+1 -> 43004 | D34: 0.8125 | F34: =F33+1 -> 43004 | G34: =(CALENDRIER!F29) -> 0 | H34: =IF(MID(G34,1,7)=$S$6,$T$4,"") | I34: =IF(MID(G34,1,7)=$S$6,$S$4,"") | K34: =K33+1 -> 43004 | L34: =(CALENDRIER!G29) -> 0
A35: 43709 | B35: =B34+1 -> 43005 | D35: 0.85416667 | F35: =F34+1 -> 43005 | G35: =(CALENDRIER!F30) -> 0 | H35: =IF(MID(G35,1,7)=$S$6,$T$4,"") | I35: =IF(MID(G35,1,7)=$S$6,$S$4,"") | K35: =K34+1 -> 43005 | L35: =(CALENDRIER!G30) -> 0
A36: 43739 | B36: =B35+1 -> 43006 | F36: =F35+1 -> 43006 | G36: =(CALENDRIER!F31) -> 0 | H36: =IF(MID(G36,1,7)=$S$6,$T$4,"") | I36: =IF(MID(G36,1,7)=$S$6,$S$4,"") | K36: =K35+1 -> 43006 | L36: =(CALENDRIER!G31) -> 0
A37: 43770 | B37: =IF(OR(MONTH(B36)<>MONTH(B36+1),$B$4=59),REPT("",100),B36+1) -> 43007 | D37: 0.77083333 | F37: =IF(OR(MONTH(F36)<>MONTH(F36+1),$B$4=59),REPT("",100),F36+1) -> 43007 | G37: =(CALENDRIER!F32) -> 0 | H37: =IF(MID(G37,1,7)=$S$6,$T$4,"") | I37: =IF(MID(G37,1,7)=$S$6,$S$4,"") | K37: =IF(OR(MONTH(K36)<>MONTH(K36+1),$B$4=59),REPT("",100),K36+1) -> 43007 | L37: =(CALENDRIER!G32) -> 0
A38: 43800 | B38: =IF(MONTH(B36)<>MONTH(B36+2),REPT("",100),B37+1) -> 43008 | F38: =IF(MONTH(F36)<>MONTH(F36+2),REPT("",100),F37+1) -> 43008 | G38: =(CALENDRIER!F33) -> MATCH | H38: =IF(MID(G38,1,7)=$S$6,$T$4,"") | I38: =IF(MID(G38,1,7)=$S$6,$S$4,"") | K38: =IF(MONTH(K36)<>MONTH(K36+2),REPT("",100),K37+1) -> 43008 | L38: =(CALENDRIER!G33) -> 0
A39: 43831 | B39: =IF(MONTH(B36)<>MONTH(B36+3),REPT("",100),B38+1) | F39: =IF(MONTH(F36)<>MONTH(F36+3),REPT("",100),F38+1) | G39: =(CALENDRIER!F34) -> 0 | H39: =IF(MID(G39,1,7)=$S$6,$T$4,"") | I39: =IF(MID(G39,1,7)=$S$6,$S$4,"") | K39: =IF(MONTH(K36)<>MONTH(K36+3),REPT("",100),K38+1) | L39: =(CALENDRIER!G34) -> 0
A40: 43862
A41: 43891 | B41: NOTES :
A42: 43922
A43: 43952
A44: 43983
A45: 44013
A46: 44044
A47: 44075
A48: 44105
A49: 44136
A50: 44166
A51: 44197
A52: 44228
A53: 44256
... A386: 54393
A389: SAISON 2017 - 2018
A390: SAISON 2018 - 2019
A391: SAISON 2019 - 2020
A392: SAISON 2020 - 2021
A393: SAISON 2021 - 2022
A394: SAISON 2022 - 2023
A395: SAISON 2023 - 2024
A396: SAISON 2024 - 2025
A397: SAISON 2025 - 2026
A398: SAISON 2026 - 2027
A399: SAISON 2027 - 2028
A400: SAISON 2028 - 2029
A401: SAISON 2029 - 2030
A403: =#REF! -> #REF!
A404: =#REF! -> #REF!
A405: =#REF! -> #REF!
A406: =#REF! -> #REF!
A407: =#REF! -> #REF!
A408: =#REF! -> #REF!
A409: =#REF! -> #REF!
A410: =#REF! -> #REF!
A411: =#REF! -> #REF!
A412: =#REF! -> #REF!
A413: =#REF! -> #REF!
A414: =#REF! -> #REF!
... A422: =#REF! -> #REF!
A423: 0.33333333
A424: 0.35416667
A425: 0.375
A426: 0.39583333
A427: 0.41666667
A428: 0.4375
A429: 0.45833333
A430: 0.47916667
A431: 0.5
A432: 0.52083333
A433: 0.54166667
A434: 0.5625
... A449: 0.875

Sheet Octobre
A1: =(H21&"/ "&I21)
B2: =Août!B2 -> SAISON 2017 - 2018 | S2: 0
B4: =DATE(YEAR(Septembre!B4),MONTH(Septembre!B4)+1,DAY(Septembre!B4)) -> 43009 | S4: Synthé Ouest | T4: 0.75
A6: Synthé Ouest | M6: =NOW() -> 42926.797 | S6: CRÉTEIL
A7: Synthé Est | B7: DATES | C7: ENTRAINEMENT | G7: MATCH | H7: HEURES | I7: TERRAIN | L7: MATCH | M7: HEURES | N7: TERRAIN
A8: Honneur | C8: MATIN | D8: SOIR | G8: CHAMPIONNAT / COUPE | L8: AMICAL
A9: 42917 | B9: =$B$4 -> 43009 | F9: =$B$4 -> 43009 | G9: =(CALENDRIER!H4) -> 0 | H9: =IF(MID(G9,1,7)=$S$6,$T$4,"") | I9: =IF(MID(G9,1,7)=$S$6,$S$4,"") | K9: =$B$4 -> 43009 | L9: =(CALENDRIER!I4) -> 0
A10: 42948 | B10: =DATE(YEAR(B9),MONTH(B9),2) -> 43010 | D10: 0.8125 | F10: =DATE(YEAR(F9),MONTH(F9),2) -> 43010 | G10: =(CALENDRIER!H5) -> 0 | H10: =IF(MID(G10,1,7)=$S$6,$T$4,"") | I10: =IF(MID(G10,1,7)=$S$6,$S$4,"") | K10: =DATE(YEAR(K9),MONTH(K9),2) -> 43010 | L10: =(CALENDRIER!I5) -> 0
A11: 42979 | B11: =B10+1 -> 43011 | D11: 0.8125 | F11: =F10+1 -> 43011 | G11: =(CALENDRIER!H6) -> 0 | H11: =IF(MID(G11,1,7)=$S$6,$T$4,"") | I11: =IF(MID(G11,1,7)=$S$6,$S$4,"") | K11: =K10+1 -> 43011 | L11: =(CALENDRIER!I6) -> 0
A12: 43009 | B12: =B11+1 -> 43012 | D12: 0.85416667 | F12: =F11+1 -> 43012 | G12: =(CALENDRIER!H7) -> 0 | H12: =IF(MID(G12,1,7)=$S$6,$T$4,"") | I12: =IF(MID(G12,1,7)=$S$6,$S$4,"") | K12: =K11+1 -> 43012 | L12: =(CALENDRIER!I7) -> 0
A13: 43040 | B13: =B12+1 -> 43013 | F13: =F12+1 -> 43013 | G13: =(CALENDRIER!H8) -> 0 | H13: =IF(MID(G13,1,7)=$S$6,$T$4,"") | I13: =IF(MID(G13,1,7)=$S$6,$S$4,"") | K13: =K12+1 -> 43013 | L13: =(CALENDRIER!I8) -> 0
A14: 43070 | B14: =B13+1 -> 43014 | D14: 0.77083333 | F14: =F13+1 -> 43014 | G14: =(CALENDRIER!H9) -> 0 | H14: =IF(MID(G14,1,7)=$S$6,$T$4,"") | I14: =IF(MID(G14,1,7)=$S$6,$S$4,"") | K14: =K13+1 -> 43014 | L14: =(CALENDRIER!I9) -> 0
A15: 43101 | B15: =B14+1 -> 43015 | F15: =F14+1 -> 43015 | G15: =(CALENDRIER!H10) -> MATCH | H15: =IF(MID(G15,1,7)=$S$6,$T$4,"") | I15: =IF(MID(G15,1,7)=$S$6,$S$4,"") | K15: =K14+1 -> 43015 | L15: =(CALENDRIER!I10) -> 0
A16: 43132 | B16: =B15+1 -> 43016 | F16: =F15+1 -> 43016 | G16: =(CALENDRIER!H11) -> 0 | H16: =IF(MID(G16,1,7)=$S$6,$T$4,"") | I16: =IF(MID(G16,1,7)=$S$6,$S$4,"") | K16: =K15+1 -> 43016 | L16: =(CALENDRIER!I11) -> 0
A17: 43160 | B17: =B16+1 -> 43017 | D17: 0.8125 | F17: =F16+1 -> 43017 | G17: =(CALENDRIER!H12) -> 0 | H17: =IF(MID(G17,1,7)=$S$6,$T$4,"") | I17: =IF(MID(G17,1,7)=$S$6,$S$4,"") | K17: =K16+1 -> 43017 | L17: =(CALENDRIER!I12) -> 0
A18: 43191 | B18: =B17+1 -> 43018 | D18: 0.8125 | F18: =F17+1 -> 43018 | G18: =(CALENDRIER!H13) -> 0 | H18: =IF(MID(G18,1,7)=$S$6,$T$4,"") | I18: =IF(MID(G18,1,7)=$S$6,$S$4,"") | K18: =K17+1 -> 43018 | L18: =(CALENDRIER!I13) -> 0
A19: 43221 | B19: =B18+1 -> 43019 | D19: 0.85416667 | F19: =F18+1 -> 43019 | G19: =(CALENDRIER!H14) -> 0 | H19: =IF(MID(G19,1,7)=$S$6,$T$4,"") | I19: =IF(MID(G19,1,7)=$S$6,$S$4,"") | K19: =K18+1 -> 43019 | L19: =(CALENDRIER!I14) -> 0
A20: 43252 | B20: =B19+1 -> 43020 | F20: =F19+1 -> 43020 | G20: =(CALENDRIER!H15) -> 0 | H20: =IF(MID(G20,1,7)=$S$6,$T$4,"") | I20: =IF(MID(G20,1,7)=$S$6,$S$4,"") | K20: =K19+1 -> 43020 | L20: =(CALENDRIER!I15) -> 0
A21: 43282 | B21: =B20+1 -> 43021 | D21: 0.77083333 | F21: =F20+1 -> 43021 | G21: =(CALENDRIER!H16) -> 0 | H21: =IF(MID(G21,1,7)=$S$6,$T$4,"") | I21: =IF(MID(G21,1,7)=$S$6,$S$4,"") | K21: =K20+1 -> 43021 | L21: =(CALENDRIER!I16) -> 0
A22: 43313 | B22: =B21+1 -> 43022 | F22: =F21+1 -> 43022 | G22: =(CALENDRIER!H17) -> MATCH | H22: =IF(MID(G22,1,7)=$S$6,$T$4,"") | I22: =IF(MID(G22,1,7)=$S$6,$S$4,"") | K22: =K21+1 -> 43022 | L22: =(CALENDRIER!I17) -> 0
A23: 43344 | B23: =B22+1 -> 43023 | F23: =F22+1 -> 43023 | G23: =(CALENDRIER!H18) -> 0 | H23: =IF(MID(G23,1,7)=$S$6,$T$4,"") | I23: =IF(MID(G23,1,7)=$S$6,$S$4,"") | K23: =K22+1 -> 43023 | L23: =(CALENDRIER!I18) -> 0
A24: 43374 | B24: =B23+1 -> 43024 | D24: 0.8125 | F24: =F23+1 -> 43024 | G24: =(CALENDRIER!H19) -> 0 | H24: =IF(MID(G24,1,7)=$S$6,$T$4,"") | I24: =IF(MID(G24,1,7)=$S$6,$S$4,"") | K24: =K23+1 -> 43024 | L24: =(CALENDRIER!I19) -> 0
A25: 43405 | B25: =B24+1 -> 43025 | D25: 0.8125 | F25: =F24+1 -> 43025 | G25: =(CALENDRIER!H20) -> 0 | H25: =IF(MID(G25,1,7)=$S$6,$T$4,"") | I25: =IF(MID(G25,1,7)=$S$6,$S$4,"") | K25: =K24+1 -> 43025 | L25: =(CALENDRIER!I20) -> 0
A26: 43435 | B26: =B25+1 -> 43026 | D26: 0.85416667 | F26: =F25+1 -> 43026 | G26: =(CALENDRIER!H21) -> 0 | H26: =IF(MID(G26,1,7)=$S$6,$T$4,"") | I26: =IF(MID(G26,1,7)=$S$6,$S$4,"") | K26: =K25+1 -> 43026 | L26: =(CALENDRIER!I21) -> 0
A27: 43466 | B27: =B26+1 -> 43027 | F27: =F26+1 -> 43027 | G27: =(CALENDRIER!H22) -> 0 | H27: =IF(MID(G27,1,7)=$S$6,$T$4,"") | I27: =IF(MID(G27,1,7)=$S$6,$S$4,"") | K27: =K26+1 -> 43027 | L27: =(CALENDRIER!I22) -> 0
A28: 43497 | B28: =B27+1 -> 43028 | D28: 0.77083333 | F28: =F27+1 -> 43028 | G28: =(CALENDRIER!H23) -> 0 | H28: =IF(MID(G28,1,7)=$S$6,$T$4,"") | I28: =IF(MID(G28,1,7)=$S$6,$S$4,"") | K28: =K27+1 -> 43028 | L28: =(CALENDRIER!I23) -> 0
A29: 43525 | B29: =B28+1 -> 43029 | F29: =F28+1 -> 43029 | G29: =(CALENDRIER!H24) -> MATCH | H29: =IF(MID(G29,1,7)=$S$6,$T$4,"") | I29: =IF(MID(G29,1,7)=$S$6,$S$4,"") | K29: =K28+1 -> 43029 | L29: =(CALENDRIER!I24) -> 0
A30: 43556 | B30: =B29+1 -> 43030 | F30: =F29+1 -> 43030 | G30: =(CALENDRIER!H25) -> 0 | H30: =IF(MID(G30,1,7)=$S$6,$T$4,"") | I30: =IF(MID(G30,1,7)=$S$6,$S$4,"") | K30: =K29+1 -> 43030 | L30: =(CALENDRIER!I25) -> 0
A31: 43586 | B31: =B30+1 -> 43031 | D31: 0.8125 | F31: =F30+1 -> 43031 | G31: =(CALENDRIER!H26) -> 0 | H31: =IF(MID(G31,1,7)=$S$6,$T$4,"") | I31: =IF(MID(G31,1,7)=$S$6,$S$4,"") | K31: =K30+1 -> 43031 | L31: =(CALENDRIER!I26) -> 0
A32: 43617 | B32: =B31+1 -> 43032 | D32: 0.8125 | F32: =F31+1 -> 43032 | G32: =(CALENDRIER!H27) -> 0 | H32: =IF(MID(G32,1,7)=$S$6,$T$4,"") | I32: =IF(MID(G32,1,7)=$S$6,$S$4,"") | K32: =K31+1 -> 43032 | L32: =(CALENDRIER!I27) -> 0
A33: 43647 | B33: =B32+1 -> 43033 | D33: 0.85416667 | F33: =F32+1 -> 43033 | G33: =(CALENDRIER!H28) -> 0 | H33: =IF(MID(G33,1,7)=$S$6,$T$4,"") | I33: =IF(MID(G33,1,7)=$S$6,$S$4,"") | K33: =K32+1 -> 43033 | L33: =(CALENDRIER!I28) -> 0
A34: 43678 | B34: =B33+1 -> 43034 | F34: =F33+1 -> 43034 | G34: =(CALENDRIER!H29) -> 0 | H34: =IF(MID(G34,1,7)=$S$6,$T$4,"") | I34: =IF(MID(G34,1,7)=$S$6,$S$4,"") | K34: =K33+1 -> 43034 | L34: =(CALENDRIER!I29) -> 0
A35: 43709 | B35: =B34+1 -> 43035 | D35: 0.77083333 | F35: =F34+1 -> 43035 | G35: =(CALENDRIER!H30) -> 0 | H35: =IF(MID(G35,1,7)=$S$6,$T$4,"") | I35: =IF(MID(G35,1,7)=$S$6,$S$4,"") | K35: =K34+1 -> 43035 | L35: =(CALENDRIER!I30) -> 0
A36: 43739 | B36: =B35+1 -> 43036 | F36: =F35+1 -> 43036 | G36: =(CALENDRIER!H31) -> MATCH | H36: =IF(MID(G36,1,7)=$S$6,$T$4,"") | I36: =IF(MID(G36,1,7)=$S$6,$S$4,"") | K36: =K35+1 -> 43036 | L36: =(CALENDRIER!I31) -> 0
A37: 43770 | B37: =IF(OR(MONTH(B36)<>MONTH(B36+1),$B$4=59),REPT("",100),B36+1) -> 43037 | F37: =IF(OR(MONTH(F36)<>MONTH(F36+1),$B$4=59),REPT("",100),F36+1) -> 43037 | G37: =(CALENDRIER!H32) -> 0 | H37: =IF(MID(G37,1,7)=$S$6,$T$4,"") | I37: =IF(MID(G37,1,7)=$S$6,$S$4,"") | K37: =IF(OR(MONTH(K36)<>MONTH(K36+1),$B$4=59),REPT("",100),K36+1) -> 43037 | L37: =(CALENDRIER!I32) -> 0
A38: 43800 | B38: =IF(MONTH(B36)<>MONTH(B36+2),REPT("",100),B37+1) -> 43038 | D38: 0.8125 | F38: =IF(MONTH(F36)<>MONTH(F36+2),REPT("",100),F37+1) -> 43038 | G38: =(CALENDRIER!H33) -> 0 | H38: =IF(MID(G38,1,7)=$S$6,$T$4,"") | I38: =IF(MID(G38,1,7)=$S$6,$S$4,"") | K38: =IF(MONTH(K36)<>MONTH(K36+2),REPT("",100),K37+1) -> 43038 | L38: =(CALENDRIER!I33) -> 0
A39: 43831 | B39: =IF(MONTH(B36)<>MONTH(B36+3),REPT("",100),B38+1) -> 43039 | D39: 0.8125 | F39: =IF(MONTH(F36)<>MONTH(F36+3),REPT("",100),F38+1) -> 43039 | G39: =(CALENDRIER!H34) -> 0 | H39: =IF(MID(G39,1,7)=$S$6,$T$4,"") | I39: =IF(MID(G39,1,7)=$S$6,$S$4,"") | K39: =IF(MONTH(K36)<>MONTH(K36+3),REPT("",100),K38+1) -> 43039 | L39: =(CALENDRIER!I34) -> 0
A40: 43862
A41: 43891 | B41: NOTES :
A42: 43922
A43: 43952
A44: 43983
A45: 44013
A46: 44044
A47: 44075
A48: 44105
A49: 44136
A50: 44166
A51: 44197
A52: 44228
A53: 44256
... A386: 54393
A389: SAISON 2017 - 2018
A390: SAISON 2018 - 2019
A391: SAISON 2019 - 2020
A392: SAISON 2020 - 2021
A393: SAISON 2021 - 2022
A394: SAISON 2022 - 2023
A395: SAISON 2023 - 2024
A396: SAISON 2024 - 2025
A397: SAISON 2025 - 2026
A398: SAISON 2026 - 2027
A399: SAISON 2027 - 2028
A400: SAISON 2028 - 2029
A401: SAISON 2029 - 2030
A403: =#REF! -> #REF!
A404: =#REF! -> #REF!
A405: =#REF! -> #REF!
A406: =#REF! -> #REF!
A407: =#REF! -> #REF!
A408: =#REF! -> #REF!
A409: =#REF! -> #REF!
A410: =#REF! -> #REF!
A411: =#REF! -> #REF!
A412: =#REF! -> #REF!
A413: =#REF! -> #REF!
A414: =#REF! -> #REF!
... A422: =#REF! -> #REF!
A423: 0.33333333
A424: 0.35416667
A425: 0.375
A426: 0.39583333
A427: 0.41666667
A428: 0.4375
A429: 0.45833333
A430: 0.47916667
A431: 0.5
A432: 0.52083333
A433: 0.54166667
A434: 0.5625
... A449: 0.875

Sheet Novembre
A1: =(H21&"/ "&I21)
B2: =Août!B2 -> SAISON 2017 - 2018 | S2: 0
B4: =DATE(YEAR(Octobre!B4),MONTH(Octobre!B4)+1,DAY(Octobre!B4)) -> 43040 | S4: Synthé Ouest | T4: 0.75
A6: Synthé Ouest | M6: =NOW() -> 42926.797 | S6: CRÉTEIL
A7: Synthé Est | B7: DATES | C7: ENTRAINEMENT | G7: MATCH | H7: HEURES | I7: TERRAIN | L7: MATCH | M7: HEURES | N7: TERRAIN
A8: Honneur | C8: MATIN | D8: SOIR | G8: CHAMPIONNAT / COUPE | L8: AMICAL
A9: 42917 | B9: =$B$4 -> 43040 | D9: 0.8125 | F9: =$B$4 -> 43040 | G9: =(CALENDRIER!J4) -> 0 | H9: =IF(MID(G9,1,7)=$S$6,$T$4,"") | I9: =IF(MID(G9,1,7)=$S$6,$S$4,"") | K9: =$B$4 -> 43040 | L9: =(CALENDRIER!K4) -> 0
A10: 42948 | B10: =DATE(YEAR(B9),MONTH(B9),2) -> 43041 | D10: 0.85416667 | F10: =DATE(YEAR(F9),MONTH(F9),2) -> 43041 | G10: =(CALENDRIER!J5) -> 0 | H10: =IF(MID(G10,1,7)=$S$6,$T$4,"") | I10: =IF(MID(G10,1,7)=$S$6,$S$4,"") | K10: =DATE(YEAR(K9),MONTH(K9),2) -> 43041 | L10: =(CALENDRIER!K5) -> 0
A11: 42979 | B11: =B10+1 -> 43042 | F11: =F10+1 -> 43042 | G11: =(CALENDRIER!J6) -> 0 | H11: =IF(MID(G11,1,7)=$S$6,$T$4,"") | I11: =IF(MID(G11,1,7)=$S$6,$S$4,"") | K11: =K10+1 -> 43042 | L11: =(CALENDRIER!K6) -> 0
A12: 43009 | B12: =B11+1 -> 43043 | D12: 0.77083333 | F12: =F11+1 -> 43043 | G12: =(CALENDRIER!J7) -> MATCH | H12: =IF(MID(G12,1,7)=$S$6,$T$4,"") | I12: =IF(MID(G12,1,7)=$S$6,$S$4,"") | K12: =K11+1 -> 43043 | L12: =(CALENDRIER!K7) -> 0
A13: 43040 | B13: =B12+1 -> 43044 | F13: =F12+1 -> 43044 | G13: =(CALENDRIER!J8) -> 0 | H13: =IF(MID(G13,1,7)=$S$6,$T$4,"") | I13: =IF(MID(G13,1,7)=$S$6,$S$4,"") | K13: =K12+1 -> 43044 | L13: =(CALENDRIER!K8) -> 0
A14: 43070 | B14: =B13+1 -> 43045 | D14: 0.8125 | F14: =F13+1 -> 43045 | G14: =(CALENDRIER!J9) -> 0 | H14: =IF(MID(G14,1,7)=$S$6,$T$4,"") | I14: =IF(MID(G14,1,7)=$S$6,$S$4,"") | K14: =K13+1 -> 43045 | L14: =(CALENDRIER!K9) -> 0
A15: 43101 | B15: =B14+1 -> 43046 | D15: 0.8125 | F15: =F14+1 -> 43046 | G15: =(CALENDRIER!J10) -> 0 | H15: =IF(MID(G15,1,7)=$S$6,$T$4,"") | I15: =IF(MID(G15,1,7)=$S$6,$S$4,"") | K15: =K14+1 -> 43046 | L15: =(CALENDRIER!K10) -> 0
A16: 43132 | B16: =B15+1 -> 43047 | D16: 0.85416667 | F16: =F15+1 -> 43047 | G16: =(CALENDRIER!J11) -> 0 | H16: =IF(MID(G16,1,7)=$S$6,$T$4,"") | I16: =IF(MID(G16,1,7)=$S$6,$S$4,"") | K16: =K15+1 -> 43047 | L16: =(CALENDRIER!K11) -> 0
A17: 43160 | B17: =B16+1 -> 43048 | F17: =F16+1 -> 43048 | G17: =(CALENDRIER!J12) -> 0 | H17: =IF(MID(G17,1,7)=$S$6,$T$4,"") | I17: =IF(MID(G17,1,7)=$S$6,$S$4,"") | K17: =K16+1 -> 43048 | L17: =(CALENDRIER!K12) -> 0
A18: 43191 | B18: =B17+1 -> 43049 | D18: 0.77083333 | F18: =F17+1 -> 43049 | G18: =(CALENDRIER!J13) -> 0 | H18: =IF(MID(G18,1,7)=$S$6,$T$4,"") | I18: =IF(MID(G18,1,7)=$S$6,$S$4,"") | K18: =K17+1 -> 43049 | L18: =(CALENDRIER!K13) -> 0
A19: 43221 | B19: =B18+1 -> 43050 | F19: =F18+1 -> 43050 | G19: =(CALENDRIER!J14) -> MATCH | H19: =IF(MID(G19,1,7)=$S$6,$T$4,"") | I19: =IF(MID(G19,1,7)=$S$6,$S$4,"") | K19: =K18+1 -> 43050 | L19: =(CALENDRIER!K14) -> 0
A20: 43252 | B20: =B19+1 -> 43051 | F20: =F19+1 -> 43051 | G20: =(CALENDRIER!J15) -> 0 | H20: =IF(MID(G20,1,7)=$S$6,$T$4,"") | I20: =IF(MID(G20,1,7)=$S$6,$S$4,"") | K20: =K19+1 -> 43051 | L20: =(CALENDRIER!K15) -> 0
A21: 43282 | B21: =B20+1 -> 43052 | D21: 0.8125 | F21: =F20+1 -> 43052 | G21: =(CALENDRIER!J16) -> 0 | H21: =IF(MID(G21,1,7)=$S$6,$T$4,"") | I21: =IF(MID(G21,1,7)=$S$6,$S$4,"") | K21: =K20+1 -> 43052 | L21: =(CALENDRIER!K16) -> 0
A22: 43313 | B22: =B21+1 -> 43053 | D22: 0.8125 | F22: =F21+1 -> 43053 | G22: =(CALENDRIER!J17) -> 0 | H22: =IF(MID(G22,1,7)=$S$6,$T$4,"") | I22: =IF(MID(G22,1,7)=$S$6,$S$4,"") | K22: =K21+1 -> 43053 | L22: =(CALENDRIER!K17) -> 0
A23: 43344 | B23: =B22+1 -> 43054 | D23: 0.85416667 | F23: =F22+1 -> 43054 | G23: =(CALENDRIER!J18) -> 0 | H23: =IF(MID(G23,1,7)=$S$6,$T$4,"") | I23: =IF(MID(G23,1,7)=$S$6,$S$4,"") | K23: =K22+1 -> 43054 | L23: =(CALENDRIER!K18) -> 0
A24: 43374 | B24: =B23+1 -> 43055 | F24: =F23+1 -> 43055 | G24: =(CALENDRIER!J19) -> 0 | H24: =IF(MID(G24,1,7)=$S$6,$T$4,"") | I24: =IF(MID(G24,1,7)=$S$6,$S$4,"") | K24: =K23+1 -> 43055 | L24: =(CALENDRIER!K19) -> 0
A25: 43405 | B25: =B24+1 -> 43056 | D25: 0.77083333 | F25: =F24+1 -> 43056 | G25: =(CALENDRIER!J20) -> 0 | H25: =IF(MID(G25,1,7)=$S$6,$T$4,"") | I25: =IF(MID(G25,1,7)=$S$6,$S$4,"") | K25: =K24+1 -> 43056 | L25: =(CALENDRIER!K20) -> 0
A26: 43435 | B26: =B25+1 -> 43057 | F26: =F25+1 -> 43057 | G26: =(CALENDRIER!J21) -> MATCH | H26: =IF(MID(G26,1,7)=$S$6,$T$4,"") | I26: =IF(MID(G26,1,7)=$S$6,$S$4,"") | K26: =K25+1 -> 43057 | L26: =(CALENDRIER!K21) -> 0
A27: 43466 | B27: =B26+1 -> 43058 | F27: =F26+1 -> 43058 | G27: =(CALENDRIER!J22) -> 0 | H27: =IF(MID(G27,1,7)=$S$6,$T$4,"") | I27: =IF(MID(G27,1,7)=$S$6,$S$4,"") | K27: =K26+1 -> 43058 | L27: =(CALENDRIER!K22) -> 0
A28: 43497 | B28: =B27+1 -> 43059 | D28: 0.8125 | F28: =F27+1 -> 43059 | G28: =(CALENDRIER!J23) -> 0 | H28: =IF(MID(G28,1,7)=$S$6,$T$4,"") | I28: =IF(MID(G28,1,7)=$S$6,$S$4,"") | K28: =K27+1 -> 43059 | L28: =(CALENDRIER!K23) -> 0
A29: 43525 | B29: =B28+1 -> 43060 | D29: 0.8125 | F29: =F28+1 -> 43060 | G29: =(CALENDRIER!J24) -> 0 | H29: =IF(MID(G29,1,7)=$S$6,$T$4,"") | I29: =IF(MID(G29,1,7)=$S$6,$S$4,"") | K29: =K28+1 -> 43060 | L29: =(CALENDRIER!K24) -> 0
A30: 43556 | B30: =B29+1 -> 43061 | D30: 0.85416667 | F30: =F29+1 -> 43061 | G30: =(CALENDRIER!J25) -> 0 | H30: =IF(MID(G30,1,7)=$S$6,$T$4,"") | I30: =IF(MID(G30,1,7)=$S$6,$S$4,"") | K30: =K29+1 -> 43061 | L30: =(CALENDRIER!K25) -> 0
A31: 43586 | B31: =B30+1 -> 43062 | F31: =F30+1 -> 43062 | G31: =(CALENDRIER!J26) -> 0 | H31: =IF(MID(G31,1,7)=$S$6,$T$4,"") | I31: =IF(MID(G31,1,7)=$S$6,$S$4,"") | K31: =K30+1 -> 43062 | L31: =(CALENDRIER!K26) -> 0
A32: 43617 | B32: =B31+1 -> 43063 | D32: 0.77083333 | F32: =F31+1 -> 43063 | G32: =(CALENDRIER!J27) -> 0 | H32: =IF(MID(G32,1,7)=$S$6,$T$4,"") | I32: =IF(MID(G32,1,7)=$S$6,$S$4,"") | K32: =K31+1 -> 43063 | L32: =(CALENDRIER!K27) -> 0
A33: 43647 | B33: =B32+1 -> 43064 | F33: =F32+1 -> 43064 | G33: =(CALENDRIER!J28) -> MATCH | H33: =IF(MID(G33,1,7)=$S$6,$T$4,"") | I33: =IF(MID(G33,1,7)=$S$6,$S$4,"") | K33: =K32+1 -> 43064 | L33: =(CALENDRIER!K28) -> 0
A34: 43678 | B34: =B33+1 -> 43065 | F34: =F33+1 -> 43065 | G34: =(CALENDRIER!J29) -> 0 | H34: =IF(MID(G34,1,7)=$S$6,$T$4,"") | I34: =IF(MID(G34,1,7)=$S$6,$S$4,"") | K34: =K33+1 -> 43065 | L34: =(CALENDRIER!K29) -> 0
A35: 43709 | B35: =B34+1 -> 43066 | D35: 0.8125 | F35: =F34+1 -> 43066 | G35: =(CALENDRIER!J30) -> 0 | H35: =IF(MID(G35,1,7)=$S$6,$T$4,"") | I35: =IF(MID(G35,1,7)=$S$6,$S$4,"") | K35: =K34+1 -> 43066 | L35: =(CALENDRIER!K30) -> 0
A36: 43739 | B36: =B35+1 -> 43067 | D36: 0.8125 | F36: =F35+1 -> 43067 | G36: =(CALENDRIER!J31) -> 0 | H36: =IF(MID(G36,1,7)=$S$6,$T$4,"") | I36: =IF(MID(G36,1,7)=$S$6,$S$4,"") | K36: =K35+1 -> 43067 | L36: =(CALENDRIER!K31) -> 0
A37: 43770 | B37: =IF(OR(MONTH(B36)<>MONTH(B36+1),$B$4=59),REPT("",100),B36+1) -> 43068 | D37: 0.85416667 | F37: =IF(OR(MONTH(F36)<>MONTH(F36+1),$B$4=59),REPT("",100),F36+1) -> 43068 | G37: =(CALENDRIER!J32) -> 0 | H37: =IF(MID(G37,1,7)=$S$6,$T$4,"") | I37: =IF(MID(G37,1,7)=$S$6,$S$4,"") | K37: =IF(OR(MONTH(K36)<>MONTH(K36+1),$B$4=59),REPT("",100),K36+1) -> 43068 | L37: =(CALENDRIER!K32) -> 0
A38: 43800 | B38: =IF(MONTH(B36)<>MONTH(B36+2),REPT("",100),B37+1) -> 43069 | F38: =IF(MONTH(F36)<>MONTH(F36+2),REPT("",100),F37+1) -> 43069 | G38: =(CALENDRIER!J33) -> 0 | H38: =IF(MID(G38,1,7)=$S$6,$T$4,"") | I38: =IF(MID(G38,1,7)=$S$6,$S$4,"") | K38: =IF(MONTH(K36)<>MONTH(K36+2),REPT("",100),K37+1) -> 43069 | L38: =(CALENDRIER!K33) -> 0
A39: 43831 | B39: =IF(MONTH(B36)<>MONTH(B36+3),REPT("",100),B38+1) | F39: =IF(MONTH(F36)<>MONTH(F36+3),REPT("",100),F38+1) | G39: =(CALENDRIER!J34) -> 0 | H39: =IF(MID(G39,1,7)=$S$6,$T$4,"") | I39: =IF(MID(G39,1,7)=$S$6,$S$4,"") | K39: =IF(MONTH(K36)<>MONTH(K36+3),REPT("",100),K38+1) | L39: =(CALENDRIER!K34) -> 0
A40: 43862
A41: 43891 | B41: NOTES :
A42: 43922
A43: 43952
A44: 43983
A45: 44013
A46: 44044
A47: 44075
A48: 44105
A49: 44136
A50: 44166
A51: 44197
A52: 44228
A53: 44256
... A386: 54393
A389: SAISON 2017 - 2018
A390: SAISON 2018 - 2019
A391: SAISON 2019 - 2020
A392: SAISON 2020 - 2021
A393: SAISON 2021 - 2022
A394: SAISON 2022 - 2023
A395: SAISON 2023 - 2024
A396: SAISON 2024 - 2025
A397: SAISON 2025 - 2026
A398: SAISON 2026 - 2027
A399: SAISON 2027 - 2028
A400: SAISON 2028 - 2029
A401: SAISON 2029 - 2030
A403: =#REF! -> #REF!
A404: =#REF! -> #REF!
A405: =#REF! -> #REF!
A406: =#REF! -> #REF!
A407: =#REF! -> #REF!
A408: =#REF! -> #REF!
A409: =#REF! -> #REF!
A410: =#REF! -> #REF!
A411: =#REF! -> #REF!
A412: =#REF! -> #REF!
A413: =#REF! -> #REF!
A414: =#REF! -> #REF!
... A422: =#REF! -> #REF!
A423: 0.33333333
A424: 0.35416667
A425: 0.375
A426: 0.39583333
A427: 0.41666667
A428: 0.4375
A429: 0.45833333
A430: 0.47916667
A431: 0.5
A432: 0.52083333
A433: 0.54166667
A434: 0.5625
... A449: 0.875

Sheet Décembre
A1: =(H21&"/ "&I21)
B2: =Août!B2 -> SAISON 2017 - 2018 | S2: 0
B4: =DATE(YEAR(Novembre!B4),MONTH(Novembre!B4)+1,DAY(Novembre!B4)) -> 43070 | S4: Synthé Ouest | T4: 0.75
A6: Synthé Ouest | M6: =NOW() -> 42926.797 | S6: CRÉTEIL
A7: Synthé Est | B7: DATES | C7: ENTRAINEMENT | G7: MATCH | H7: HEURES | I7: TERRAIN | L7: MATCH | M7: HEURES | N7: TERRAIN
A8: Honneur | C8: MATIN | D8: SOIR | G8: CHAMPIONNAT / COUPE | L8: AMICAL
A9: 42917 | B9: =$B$4 -> 43070 | D9: 0.77083333 | F9: =$B$4 -> 43070 | G9: =(CALENDRIER!L4) -> 0 | H9: =IF(MID(G9,1,7)=$S$6,$T$4,"") | I9: =IF(MID(G9,1,7)=$S$6,$S$4,"") | K9: =$B$4 -> 43070 | L9: =(CALENDRIER!M4) -> 0
A10: 42948 | B10: =DATE(YEAR(B9),MONTH(B9),2) -> 43071 | F10: =DATE(YEAR(F9),MONTH(F9),2) -> 43071 | G10: =(CALENDRIER!L5) -> MATCH | H10: =IF(MID(G10,1,7)=$S$6,$T$4,"") | I10: =IF(MID(G10,1,7)=$S$6,$S$4,"") | K10: =DATE(YEAR(K9),MONTH(K9),2) -> 43071 | L10: =(CALENDRIER!M4) -> 0
A11: 42979 | B11: =B10+1 -> 43072 | F11: =F10+1 -> 43072 | G11: =(CALENDRIER!L6) -> 0 | H11: =IF(MID(G11,1,7)=$S$6,$T$4,"") | I11: =IF(MID(G11,1,7)=$S$6,$S$4,"") | K11: =K10+1 -> 43072 | L11: =(CALENDRIER!M5) -> 0
A12: 43009 | B12: =B11+1 -> 43073 | D12: 0.8125 | F12: =F11+1 -> 43073 | G12: =(CALENDRIER!L7) -> 0 | H12: =IF(MID(G12,1,7)=$S$6,$T$4,"") | I12: =IF(MID(G12,1,7)=$S$6,$S$4,"") | K12: =K11+1 -> 43073 | L12: =(CALENDRIER!M6) -> 0
A13: 43040 | B13: =B12+1 -> 43074 | D13: 0.8125 | F13: =F12+1 -> 43074 | G13: =(CALENDRIER!L8) -> 0 | H13: =IF(MID(G13,1,7)=$S$6,$T$4,"") | I13: =IF(MID(G13,1,7)=$S$6,$S$4,"") | K13: =K12+1 -> 43074 | L13: =(CALENDRIER!M7) -> 0
A14: 43070 | B14: =B13+1 -> 43075 | D14: 0.85416667 | F14: =F13+1 -> 43075 | G14: =(CALENDRIER!L9) -> 0 | H14: =IF(MID(G14,1,7)=$S$6,$T$4,"") | I14: =IF(MID(G14,1,7)=$S$6,$S$4,"") | K14: =K13+1 -> 43075 | L14: =(CALENDRIER!M8) -> 0
A15: 43101 | B15: =B14+1 -> 43076 | F15: =F14+1 -> 43076 | G15: =(CALENDRIER!L10) -> 0 | H15: =IF(MID(G15,1,7)=$S$6,$T$4,"") | I15: =IF(MID(G15,1,7)=$S$6,$S$4,"") | K15: =K14+1 -> 43076 | L15: =(CALENDRIER!M9) -> 0
A16: 43132 | B16: =B15+1 -> 43077 | D16: 0.77083333 | F16: =F15+1 -> 43077 | G16: =(CALENDRIER!L11) -> 0 | H16: =IF(MID(G16,1,7)=$S$6,$T$4,"") | I16: =IF(MID(G16,1,7)=$S$6,$S$4,"") | K16: =K15+1 -> 43077 | L16: =(CALENDRIER!M10) -> 0
A17: 43160 | B17: =B16+1 -> 43078 | F17: =F16+1 -> 43078 | G17: =(CALENDRIER!L12) -> 0 | H17: =IF(MID(G17,1,7)=$S$6,$T$4,"") | I17: =IF(MID(G17,1,7)=$S$6,$S$4,"") | K17: =K16+1 -> 43078 | L17: =(CALENDRIER!M11) -> 0
A18: 43191 | B18: =B17+1 -> 43079 | F18: =F17+1 -> 43079 | G18: =(CALENDRIER!L13) -> 0 | H18: =IF(MID(G18,1,7)=$S$6,$T$4,"") | I18: =IF(MID(G18,1,7)=$S$6,$S$4,"") | K18: =K17+1 -> 43079 | L18: =(CALENDRIER!M12) -> 0
A19: 43221 | B19: =B18+1 -> 43080 | D19: 0.8125 | F19: =F18+1 -> 43080 | G19: =(CALENDRIER!L14) -> 0 | H19: =IF(MID(G19,1,7)=$S$6,$T$4,"") | I19: =IF(MID(G19,1,7)=$S$6,$S$4,"") | K19: =K18+1 -> 43080 | L19: =(CALENDRIER!M13) -> 0
A20: 43252 | B20: =B19+1 -> 43081 | D20: 0.8125 | F20: =F19+1 -> 43081 | G20: =(CALENDRIER!L15) -> 0 | H20: =IF(MID(G20,1,7)=$S$6,$T$4,"") | I20: =IF(MID(G20,1,7)=$S$6,$S$4,"") | K20: =K19+1 -> 43081 | L20: =(CALENDRIER!M14) -> 0
A21: 43282 | B21: =B20+1 -> 43082 | D21: 0.85416667 | F21: =F20+1 -> 43082 | G21: =(CALENDRIER!L16) -> 0 | H21: =IF(MID(G21,1,7)=$S$6,$T$4,"") | I21: =IF(MID(G21,1,7)=$S$6,$S$4,"") | K21: =K20+1 -> 43082 | L21: =(CALENDRIER!M15) -> 0
A22: 43313 | B22: =B21+1 -> 43083 | F22: =F21+1 -> 43083 | G22: =(CALENDRIER!L17) -> 0 | H22: =IF(MID(G22,1,7)=$S$6,$T$4,"") | I22: =IF(MID(G22,1,7)=$S$6,$S$4,"") | K22: =K21+1 -> 43083 | L22: =(CALENDRIER!M16) -> 0
A23: 43344 | B23: =B22+1 -> 43084 | D23: 0.77083333 | F23: =F22+1 -> 43084 | G23: =(CALENDRIER!L18) -> 0 | H23: =IF(MID(G23,1,7)=$S$6,$T$4,"") | I23: =IF(MID(G23,1,7)=$S$6,$S$4,"") | K23: =K22+1 -> 43084 | L23: =(CALENDRIER!M17) -> 0
A24: 43374 | B24: =B23+1 -> 43085 | F24: =F23+1 -> 43085 | G24: =(CALENDRIER!L19) -> 0 | H24: =IF(MID(G24,1,7)=$S$6,$T$4,"") | I24: =IF(MID(G24,1,7)=$S$6,$S$4,"") | K24: =K23+1 -> 43085 | L24: =(CALENDRIER!M18) -> 0
A25: 43405 | B25: =B24+1 -> 43086 | F25: =F24+1 -> 43086 | G25: =(CALENDRIER!L20) -> 0 | H25: =IF(MID(G25,1,7)=$S$6,$T$4,"") | I25: =IF(MID(G25,1,7)=$S$6,$S$4,"") | K25: =K24+1 -> 43086 | L25: =(CALENDRIER!M19) -> 0
A26: 43435 | B26: =B25+1 -> 43087 | D26: 0.8125 | F26: =F25+1 -> 43087 | G26: =(CALENDRIER!L21) -> 0 | H26: =IF(MID(G26,1,7)=$S$6,$T$4,"") | I26: =IF(MID(G26,1,7)=$S$6,$S$4,"") | K26: =K25+1 -> 43087 | L26: =(CALENDRIER!M20) -> 0
A27: 43466 | B27: =B26+1 -> 43088 | D27: 0.8125 | F27: =F26+1 -> 43088 | G27: =(CALENDRIER!L22) -> 0 | H27: =IF(MID(G27,1,7)=$S$6,$T$4,"") | I27: =IF(MID(G27,1,7)=$S$6,$S$4,"") | K27: =K26+1 -> 43088 | L27: =(CALENDRIER!M21) -> 0
A28: 43497 | B28: =B27+1 -> 43089 | D28: 0.85416667 | F28: =F27+1 -> 43089 | G28: =(CALENDRIER!L23) -> 0 | H28: =IF(MID(G28,1,7)=$S$6,$T$4,"") | I28: =IF(MID(G28,1,7)=$S$6,$S$4,"") | K28: =K27+1 -> 43089 | L28: =(CALENDRIER!M22) -> 0
A29: 43525 | B29: =B28+1 -> 43090 | F29: =F28+1 -> 43090 | G29: =(CALENDRIER!L24) -> 0 | H29: =IF(MID(G29,1,7)=$S$6,$T$4,"") | I29: =IF(MID(G29,1,7)=$S$6,$S$4,"") | K29: =K28+1 -> 43090 | L29: =(CALENDRIER!M23) -> 0
A30: 43556 | B30: =B29+1 -> 43091 | D30: 0.77083333 | F30: =F29+1 -> 43091 | G30: =(CALENDRIER!L25) -> 0 | H30: =IF(MID(G30,1,7)=$S$6,$T$4,"") | I30: =IF(MID(G30,1,7)=$S$6,$S$4,"") | K30: =K29+1 -> 43091 | L30: =(CALENDRIER!M24) -> 0
A31: 43586 | B31: =B30+1 -> 43092 | F31: =F30+1 -> 43092 | G31: =(CALENDRIER!L26) -> 0 | H31: =IF(MID(G31,1,7)=$S$6,$T$4,"") | I31: =IF(MID(G31,1,7)=$S$6,$S$4,"") | K31: =K30+1 -> 43092 | L31: =(CALENDRIER!M25) -> 0
A32: 43617 | B32: =B31+1 -> 43093 | F32: =F31+1 -> 43093 | G32: =(CALENDRIER!L27) -> 0 | H32: =IF(MID(G32,1,7)=$S$6,$T$4,"") | I32: =IF(MID(G32,1,7)=$S$6,$S$4,"") | K32: =K31+1 -> 43093 | L32: =(CALENDRIER!M26) -> 0
A33: 43647 | B33: =B32+1 -> 43094 | F33: =F32+1 -> 43094 | G33: =(CALENDRIER!L28) -> 0 | H33: =IF(MID(G33,1,7)=$S$6,$T$4,"") | I33: =IF(MID(G33,1,7)=$S$6,$S$4,"") | K33: =K32+1 -> 43094 | L33: =(CALENDRIER!M27) -> 0
A34: 43678 | B34: =B33+1 -> 43095 | F34: =F33+1 -> 43095 | G34: =(CALENDRIER!L29) -> 0 | H34: =IF(MID(G34,1,7)=$S$6,$T$4,"") | I34: =IF(MID(G34,1,7)=$S$6,$S$4,"") | K34: =K33+1 -> 43095 | L34: =(CALENDRIER!M28) -> 0
A35: 43709 | B35: =B34+1 -> 43096 | F35: =F34+1 -> 43096 | G35: =(CALENDRIER!L30) -> 0 | H35: =IF(MID(G35,1,7)=$S$6,$T$4,"") | I35: =IF(MID(G35,1,7)=$S$6,$S$4,"") | K35: =K34+1 -> 43096 | L35: =(CALENDRIER!M29) -> 0
A36: 43739 | B36: =B35+1 -> 43097 | F36: =F35+1 -> 43097 | G36: =(CALENDRIER!L31) -> 0 | H36: =IF(MID(G36,1,7)=$S$6,$T$4,"") | I36: =IF(MID(G36,1,7)=$S$6,$S$4,"") | K36: =K35+1 -> 43097 | L36: =(CALENDRIER!M30) -> 0
A37: 43770 | B37: =IF(OR(MONTH(B36)<>MONTH(B36+1),$B$4=59),REPT("",100),B36+1) -> 43098 | F37: =IF(OR(MONTH(F36)<>MONTH(F36+1),$B$4=59),REPT("",100),F36+1) -> 43098 | G37: =(CALENDRIER!L32) -> 0 | H37: =IF(MID(G37,1,7)=$S$6,$T$4,"") | I37: =IF(MID(G37,1,7)=$S$6,$S$4,"") | K37: =IF(OR(MONTH(K36)<>MONTH(K36+1),$B$4=59),REPT("",100),K36+1) -> 43098 | L37: =(CALENDRIER!M31) -> 0
A38: 43800 | B38: =IF(MONTH(B36)<>MONTH(B36+2),REPT("",100),B37+1) -> 43099 | F38: =IF(MONTH(F36)<>MONTH(F36+2),REPT("",100),F37+1) -> 43099 | G38: =(CALENDRIER!L33) -> 0 | H38: =IF(MID(G38,1,7)=$S$6,$T$4,"") | I38: =IF(MID(G38,1,7)=$S$6,$S$4,"") | K38: =IF(MONTH(K36)<>MONTH(K36+2),REPT("",100),K37+1) -> 43099 | L38: =(CALENDRIER!M32) -> 0
A39: 43831 | B39: =IF(MONTH(B36)<>MONTH(B36+3),REPT("",100),B38+1) -> 43100 | F39: =IF(MONTH(F36)<>MONTH(F36+3),REPT("",100),F38+1) -> 43100 | G39: =(CALENDRIER!L34) -> 0 | H39: =IF(MID(G39,1,7)=$S$6,$T$4,"") | I39: =IF(MID(G39,1,7)=$S$6,$S$4,"") | K39: =IF(MONTH(K36)<>MONTH(K36+3),REPT("",100),K38+1) -> 43100 | L39: =(CALENDRIER!M33) -> 0
A40: 43862
A41: 43891 | B41: NOTES :
A42: 43922
A43: 43952
A44: 43983
A45: 44013
A46: 44044
A47: 44075
A48: 44105
A49: 44136
A50: 44166
A51: 44197
A52: 44228
A53: 44256
... A386: 54393
A389: SAISON 2017 - 2018
A390: SAISON 2018 - 2019
A391: SAISON 2019 - 2020
A392: SAISON 2020 - 2021
A393: SAISON 2021 - 2022
A394: SAISON 2022 - 2023
A395: SAISON 2023 - 2024
A396: SAISON 2024 - 2025
A397: SAISON 2025 - 2026
A398: SAISON 2026 - 2027
A399: SAISON 2027 - 2028
A400: SAISON 2028 - 2029
A401: SAISON 2029 - 2030
A403: =#REF! -> #REF!
A404: =#REF! -> #REF!
A405: =#REF! -> #REF!
A406: =#REF! -> #REF!
A407: =#REF! -> #REF!
A408: =#REF! -> #REF!
A409: =#REF! -> #REF!
A410: =#REF! -> #REF!
A411: =#REF! -> #REF!
A412: =#REF! -> #REF!
A413: =#REF! -> #REF!
A414: =#REF! -> #REF!
... A422: =#REF! -> #REF!
A423: 0.33333333
A424: 0.35416667
A425: 0.375
A426: 0.39583333
A427: 0.41666667
A428: 0.4375
A429: 0.45833333
A430: 0.47916667
A431: 0.5
A432: 0.52083333
A433: 0.54166667
A434: 0.5625
... A449: 0.875

Sheet Janvier
A1: =(H21&"/ "&I21)
B2: =Août!B2 -> SAISON 2017 - 2018 | S2: 0
B4: =DATE(YEAR(Décembre!B4),MONTH(Décembre!B4)+1,DAY(Décembre!B4)) -> 43101 | S4: Synthé Ouest | T4: 0.75
A6: Synthé Ouest | M6: =NOW() -> 42926.797 | S6: CRÉTEIL
A7: Synthé Est | B7: DATES | C7: ENTRAINEMENT | G7: MATCH | H7: HEURES | I7: TERRAIN | L7: MATCH | M7: HEURES | N7: TERRAIN
A8: Honneur | C8: MATIN | D8: SOIR | G8: CHAMPIONNAT / COUPE | L8: AMICAL
A9: 42917 | B9: =$B$4 -> 43101 | F9: =$B$4 -> 43101 | G9: =(CALENDRIER!N4) -> 0 | H9: =IF(MID(G9,1,7)=$S$6,$T$4,"") | I9: =IF(MID(G9,1,7)=$S$6,$S$4,"") | K9: =$B$4 -> 43101 | L9: =(CALENDRIER!O4) -> 0
A10: 42948 | B10: =DATE(YEAR(B9),MONTH(B9),2) -> 43102 | F10: =DATE(YEAR(F9),MONTH(F9),2) -> 43102 | G10: =(CALENDRIER!N5) -> 0 | H10: =IF(MID(G10,1,7)=$S$6,$T$4,"") | I10: =IF(MID(G10,1,7)=$S$6,$S$4,"") | K10: =DATE(YEAR(K9),MONTH(K9),2) -> 43102 | L10: =(CALENDRIER!O5) -> 0
A11: 42979 | B11: =B10+1 -> 43103 | F11: =F10+1 -> 43103 | G11: =(CALENDRIER!N6) -> 0 | H11: =IF(MID(G11,1,7)=$S$6,$T$4,"") | I11: =IF(MID(G11,1,7)=$S$6,$S$4,"") | K11: =K10+1 -> 43103 | L11: =(CALENDRIER!O6) -> 0
A12: 43009 | B12: =B11+1 -> 43104 | F12: =F11+1 -> 43104 | G12: =(CALENDRIER!N7) -> 0 | H12: =IF(MID(G12,1,7)=$S$6,$T$4,"") | I12: =IF(MID(G12,1,7)=$S$6,$S$4,"") | K12: =K11+1 -> 43104 | L12: =(CALENDRIER!O7) -> 0
A13: 43040 | B13: =B12+1 -> 43105 | F13: =F12+1 -> 43105 | G13: =(CALENDRIER!N8) -> 0 | H13: =IF(MID(G13,1,7)=$S$6,$T$4,"") | I13: =IF(MID(G13,1,7)=$S$6,$S$4,"") | K13: =K12+1 -> 43105 | L13: =(CALENDRIER!O8) -> 0
A14: 43070 | B14: =B13+1 -> 43106 | F14: =F13+1 -> 43106 | G14: =(CALENDRIER!N9) -> 0 | H14: =IF(MID(G14,1,7)=$S$6,$T$4,"") | I14: =IF(MID(G14,1,7)=$S$6,$S$4,"") | K14: =K13+1 -> 43106 | L14: =(CALENDRIER!O9) -> 0
A15: 43101 | B15: =B14+1 -> 43107 | F15: =F14+1 -> 43107 | G15: =(CALENDRIER!N10) -> 0 | H15: =IF(MID(G15,1,7)=$S$6,$T$4,"") | I15: =IF(MID(G15,1,7)=$S$6,$S$4,"") | K15: =K14+1 -> 43107 | L15: =(CALENDRIER!O10) -> 0
A16: 43132 | B16: =B15+1 -> 43108 | D16: 0.8125 | F16: =F15+1 -> 43108 | G16: =(CALENDRIER!N11) -> 0 | H16: =IF(MID(G16,1,7)=$S$6,$T$4,"") | I16: =IF(MID(G16,1,7)=$S$6,$S$4,"") | K16: =K15+1 -> 43108 | L16: =(CALENDRIER!O11) -> 0
A17: 43160 | B17: =B16+1 -> 43109 | D17: 0.8125 | F17: =F16+1 -> 43109 | G17: =(CALENDRIER!N12) -> 0 | H17: =IF(MID(G17,1,7)=$S$6,$T$4,"") | I17: =IF(MID(G17,1,7)=$S$6,$S$4,"") | K17: =K16+1 -> 43109 | L17: =(CALENDRIER!O12) -> 0
A18: 43191 | B18: =B17+1 -> 43110 | D18: 0.85416667 | F18: =F17+1 -> 43110 | G18: =(CALENDRIER!N13) -> 0 | H18: =IF(MID(G18,1,7)=$S$6,$T$4,"") | I18: =IF(MID(G18,1,7)=$S$6,$S$4,"") | K18: =K17+1 -> 43110 | L18: =(CALENDRIER!O13) -> 0
A19: 43221 | B19: =B18+1 -> 43111 | F19: =F18+1 -> 43111 | G19: =(CALENDRIER!N14) -> 0 | H19: =IF(MID(G19,1,7)=$S$6,$T$4,"") | I19: =IF(MID(G19,1,7)=$S$6,$S$4,"") | K19: =K18+1 -> 43111 | L19: =(CALENDRIER!O14) -> 0
A20: 43252 | B20: =B19+1 -> 43112 | D20: 0.77083333 | F20: =F19+1 -> 43112 | G20: =(CALENDRIER!N15) -> 0 | H20: =IF(MID(G20,1,7)=$S$6,$T$4,"") | I20: =IF(MID(G20,1,7)=$S$6,$S$4,"") | K20: =K19+1 -> 43112 | L20: =(CALENDRIER!O15) -> 0
A21: 43282 | B21: =B20+1 -> 43113 | F21: =F20+1 -> 43113 | G21: =(CALENDRIER!N16) -> 0 | H21: =IF(MID(G21,1,7)=$S$6,$T$4,"") | I21: =IF(MID(G21,1,7)=$S$6,$S$4,"") | K21: =K20+1 -> 43113 | L21: =(CALENDRIER!O16) -> 0
A22: 43313 | B22: =B21+1 -> 43114 | F22: =F21+1 -> 43114 | G22: =(CALENDRIER!N17) -> 0 | H22: =IF(MID(G22,1,7)=$S$6,$T$4,"") | I22: =IF(MID(G22,1,7)=$S$6,$S$4,"") | K22: =K21+1 -> 43114 | L22: =(CALENDRIER!O17) -> 0
A23: 43344 | B23: =B22+1 -> 43115 | D23: 0.8125 | F23: =F22+1 -> 43115 | G23: =(CALENDRIER!N18) -> 0 | H23: =IF(MID(G23,1,7)=$S$6,$T$4,"") | I23: =IF(MID(G23,1,7)=$S$6,$S$4,"") | K23: =K22+1 -> 43115 | L23: =(CALENDRIER!O18) -> 0
A24: 43374 | B24: =B23+1 -> 43116 | D24: 0.8125 | F24: =F23+1 -> 43116 | G24: =(CALENDRIER!N19) -> 0 | H24: =IF(MID(G24,1,7)=$S$6,$T$4,"") | I24: =IF(MID(G24,1,7)=$S$6,$S$4,"") | K24: =K23+1 -> 43116 | L24: =(CALENDRIER!O19) -> 0
A25: 43405 | B25: =B24+1 -> 43117 | D25: 0.85416667 | F25: =F24+1 -> 43117 | G25: =(CALENDRIER!N20) -> 0 | H25: =IF(MID(G25,1,7)=$S$6,$T$4,"") | I25: =IF(MID(G25,1,7)=$S$6,$S$4,"") | K25: =K24+1 -> 43117 | L25: =(CALENDRIER!O20) -> 0
A26: 43435 | B26: =B25+1 -> 43118 | F26: =F25+1 -> 43118 | G26: =(CALENDRIER!N21) -> 0 | H26: =IF(MID(G26,1,7)=$S$6,$T$4,"") | I26: =IF(MID(G26,1,7)=$S$6,$S$4,"") | K26: =K25+1 -> 43118 | L26: =(CALENDRIER!O21) -> 0
A27: 43466 | B27: =B26+1 -> 43119 | D27: 0.77083333 | F27: =F26+1 -> 43119 | G27: =(CALENDRIER!N22) -> 0 | H27: =IF(MID(G27,1,7)=$S$6,$T$4,"") | I27: =IF(MID(G27,1,7)=$S$6,$S$4,"") | K27: =K26+1 -> 43119 | L27: =(CALENDRIER!O22) -> 0
A28: 43497 | B28: =B27+1 -> 43120 | F28: =F27+1 -> 43120 | G28: =(CALENDRIER!N23) -> 0 | H28: =IF(MID(G28,1,7)=$S$6,$T$4,"") | I28: =IF(MID(G28,1,7)=$S$6,$S$4,"") | K28: =K27+1 -> 43120 | L28: =(CALENDRIER!O23) -> 0
A29: 43525 | B29: =B28+1 -> 43121 | F29: =F28+1 -> 43121 | G29: =(CALENDRIER!N24) -> 0 | H29: =IF(MID(G29,1,7)=$S$6,$T$4,"") | I29: =IF(MID(G29,1,7)=$S$6,$S$4,"") | K29: =K28+1 -> 43121 | L29: =(CALENDRIER!O24) -> 0
A30: 43556 | B30: =B29+1 -> 43122 | D30: 0.8125 | F30: =F29+1 -> 43122 | G30: =(CALENDRIER!N25) -> 0 | H30: =IF(MID(G30,1,7)=$S$6,$T$4,"") | I30: =IF(MID(G30,1,7)=$S$6,$S$4,"") | K30: =K29+1 -> 43122 | L30: =(CALENDRIER!O25) -> 0
A31: 43586 | B31: =B30+1 -> 43123 | D31: 0.8125 | F31: =F30+1 -> 43123 | G31: =(CALENDRIER!N26) -> 0 | H31: =IF(MID(G31,1,7)=$S$6,$T$4,"") | I31: =IF(MID(G31,1,7)=$S$6,$S$4,"") | K31: =K30+1 -> 43123 | L31: =(CALENDRIER!O26) -> 0
A32: 43617 | B32: =B31+1 -> 43124 | D32: 0.85416667 | F32: =F31+1 -> 43124 | G32: =(CALENDRIER!N27) -> 0 | H32: =IF(MID(G32,1,7)=$S$6,$T$4,"") | I32: =IF(MID(G32,1,7)=$S$6,$S$4,"") | K32: =K31+1 -> 43124 | L32: =(CALENDRIER!O27) -> 0
A33: 43647 | B33: =B32+1 -> 43125 | F33: =F32+1 -> 43125 | G33: =(CALENDRIER!N28) -> 0 | H33: =IF(MID(G33,1,7)=$S$6,$T$4,"") | I33: =IF(MID(G33,1,7)=$S$6,$S$4,"") | K33: =K32+1 -> 43125 | L33: =(CALENDRIER!O28) -> 0
A34: 43678 | B34: =B33+1 -> 43126 | D34: 0.77083333 | F34: =F33+1 -> 43126 | G34: =(CALENDRIER!N29) -> 0 | H34: =IF(MID(G34,1,7)=$S$6,$T$4,"") | I34: =IF(MID(G34,1,7)=$S$6,$S$4,"") | K34: =K33+1 -> 43126 | L34: =(CALENDRIER!O29) -> 0
A35: 43709 | B35: =B34+1 -> 43127 | F35: =F34+1 -> 43127 | G35: =(CALENDRIER!N30) -> 0 | H35: =IF(MID(G35,1,7)=$S$6,$T$4,"") | I35: =IF(MID(G35,1,7)=$S$6,$S$4,"") | K35: =K34+1 -> 43127 | L35: =(CALENDRIER!O30) -> 0
A36: 43739 | B36: =B35+1 -> 43128 | F36: =F35+1 -> 43128 | G36: =(CALENDRIER!N31) -> 0 | H36: =IF(MID(G36,1,7)=$S$6,$T$4,"") | I36: =IF(MID(G36,1,7)=$S$6,$S$4,"") | K36: =K35+1 -> 43128 | L36: =(CALENDRIER!O31) -> 0
A37: 43770 | B37: =IF(OR(MONTH(B36)<>MONTH(B36+1),$B$4=59),REPT("",100),B36+1) -> 43129 | D37: 0.8125 | F37: =IF(OR(MONTH(F36)<>MONTH(F36+1),$B$4=59),REPT("",100),F36+1) -> 43129 | G37: =(CALENDRIER!N32) -> 0 | H37: =IF(MID(G37,1,7)=$S$6,$T$4,"") | I37: =IF(MID(G37,1,7)=$S$6,$S$4,"") | K37: =IF(OR(MONTH(K36)<>MONTH(K36+1),$B$4=59),REPT("",100),K36+1) -> 43129 | L37: =(CALENDRIER!O32) -> 0
A38: 43800 | B38: =IF(MONTH(B36)<>MONTH(B36+2),REPT("",100),B37+1) -> 43130 | D38: 0.8125 | F38: =IF(MONTH(F36)<>MONTH(F36+2),REPT("",100),F37+1) -> 43130 | G38: =(CALENDRIER!N33) -> 0 | H38: =IF(MID(G38,1,7)=$S$6,$T$4,"") | I38: =IF(MID(G38,1,7)=$S$6,$S$4,"") | K38: =IF(MONTH(K36)<>MONTH(K36+2),REPT("",100),K37+1) -> 43130 | L38: =(CALENDRIER!O33) -> 0
A39: 43831 | B39: =IF(MONTH(B36)<>MONTH(B36+3),REPT("",100),B38+1) -> 43131 | D39: 0.85416667 | F39: =IF(MONTH(F36)<>MONTH(F36+3),REPT("",100),F38+1) -> 43131 | G39: =(CALENDRIER!N34) -> 0 | H39: =IF(MID(G39,1,7)=$S$6,$T$4,"") | I39: =IF(MID(G39,1,7)=$S$6,$S$4,"") | K39: =IF(MONTH(K36)<>MONTH(K36+3),REPT("",100),K38+1) -> 43131 | L39: =(CALENDRIER!O34) -> 0
A40: 43862
A41: 43891 | B41: NOTES :
A42: 43922
A43: 43952
A44: 43983
A45: 44013
A46: 44044
A47: 44075
A48: 44105
A49: 44136
A50: 44166
A51: 44197
A52: 44228
A53: 44256
... A386: 54393
A389: SAISON 2017 - 2018
A390: SAISON 2018 - 2019
A391: SAISON 2019 - 2020
A392: SAISON 2020 - 2021
A393: SAISON 2021 - 2022
A394: SAISON 2022 - 2023
A395: SAISON 2023 - 2024
A396: SAISON 2024 - 2025
A397: SAISON 2025 - 2026
A398: SAISON 2026 - 2027
A399: SAISON 2027 - 2028
A400: SAISON 2028 - 2029
A401: SAISON 2029 - 2030
A403: =#REF! -> #REF!
A404: =#REF! -> #REF!
A405: =#REF! -> #REF!
A406: =#REF! -> #REF!
A407: =#REF! -> #REF!
A408: =#REF! -> #REF!
A409: =#REF! -> #REF!
A410: =#REF! -> #REF!
A411: =#REF! -> #REF!
A412: =#REF! -> #REF!
A413: =#REF! -> #REF!
A414: =#REF! -> #REF!
... A422: =#REF! -> #REF!
A423: 0.33333333
A424: 0.35416667
A425: 0.375
A426: 0.39583333
A427: 0.41666667
A428: 0.4375
A429: 0.45833333
A430: 0.47916667
A431: 0.5
A432: 0.52083333
A433: 0.54166667
A434: 0.5625
... A449: 0.875

Sheet Février
A1: =(H21&"/ "&I21)
B2: =Août!B2 -> SAISON 2017 - 2018 | P2: =B5 -> 0 | S2: 0
B4: =DATE(YEAR(Janvier!B4),MONTH(Janvier!B4)+1,DAY(Janvier!B4)) -> 43132 | S4: Synthé Ouest | T4: 0.75
A6: Synthé Ouest | M6: =NOW() -> 42926.797 | S6: CRÉTEIL
A7: Synthé Est | B7: DATES | C7: ENTRAINEMENT | G7: MATCH | H7: HEURES | I7: TERRAIN | L7: MATCH | M7: HEURES | N7: TERRAIN
A8: Honneur | C8: MATIN | D8: SOIR | G8: CHAMPIONNAT / COUPE | L8: AMICAL
A9: 42917 | B9: =$B$4 -> 43132 | F9: =$B$4 -> 43132 | G9: =(CALENDRIER!P4) -> 0 | H9: =IF(MID(G9,1,7)=$S$6,$T$4,"") | I9: =IF(MID(G9,1,7)=$S$6,$S$4,"") | K9: =$B$4 -> 43132 | L9: =(CALENDRIER!Q4) -> 0
A10: 42948 | B10: =DATE(YEAR(B9),MONTH(B9),2) -> 43133 | D10: 0.77083333 | F10: =DATE(YEAR(F9),MONTH(F9),2) -> 43133 | G10: =(CALENDRIER!P5) -> 0 | H10: =IF(MID(G10,1,7)=$S$6,$T$4,"") | I10: =IF(MID(G10,1,7)=$S$6,$S$4,"") | K10: =DATE(YEAR(K9),MONTH(K9),2) -> 43133 | L10: =(CALENDRIER!Q5) -> 0
A11: 42979 | B11: =B10+1 -> 43134 | F11: =F10+1 -> 43134 | G11: =(CALENDRIER!P6) -> 0 | H11: =IF(MID(G11,1,7)=$S$6,$T$4,"") | I11: =IF(MID(G11,1,7)=$S$6,$S$4,"") | K11: =K10+1 -> 43134 | L11: =(CALENDRIER!Q6) -> 0
A12: 43009 | B12: =B11+1 -> 43135 | F12: =F11+1 -> 43135 | G12: =(CALENDRIER!P7) -> 0 | H12: =IF(MID(G12,1,7)=$S$6,$T$4,"") | I12: =IF(MID(G12,1,7)=$S$6,$S$4,"") | K12: =K11+1 -> 43135 | L12: =(CALENDRIER!Q7) -> 0
A13: 43040 | B13: =B12+1 -> 43136 | D13: 0.8125 | F13: =F12+1 -> 43136 | G13: =(CALENDRIER!P8) -> 0 | H13: =IF(MID(G13,1,7)=$S$6,$T$4,"") | I13: =IF(MID(G13,1,7)=$S$6,$S$4,"") | K13: =K12+1 -> 43136 | L13: =(CALENDRIER!Q8) -> 0
A14: 43070 | B14: =B13+1 -> 43137 | D14: 0.8125 | F14: =F13+1 -> 43137 | G14: =(CALENDRIER!P9) -> 0 | H14: =IF(MID(G14,1,7)=$S$6,$T$4,"") | I14: =IF(MID(G14,1,7)=$S$6,$S$4,"") | K14: =K13+1 -> 43137 | L14: =(CALENDRIER!Q9) -> 0
A15: 43101 | B15: =B14+1 -> 43138 | D15: 0.85416667 | F15: =F14+1 -> 43138 | G15: =(CALENDRIER!P10) -> 0 | H15: =IF(MID(G15,1,7)=$S$6,$T$4,"") | I15: =IF(MID(G15,1,7)=$S$6,$S$4,"") | K15: =K14+1 -> 43138 | L15: =(CALENDRIER!Q10) -> 0
A16: 43132 | B16: =B15+1 -> 43139 | F16: =F15+1 -> 43139 | G16: =(CALENDRIER!P11) -> 0 | H16: =IF(MID(G16,1,7)=$S$6,$T$4,"") | I16: =IF(MID(G16,1,7)=$S$6,$S$4,"") | K16: =K15+1 -> 43139 | L16: =(CALENDRIER!Q11) -> 0
A17: 43160 | B17: =B16+1 -> 43140 | D17: 0.77083333 | F17: =F16+1 -> 43140 | G17: =(CALENDRIER!P12) -> 0 | H17: =IF(MID(G17,1,7)=$S$6,$T$4,"") | I17: =IF(MID(G17,1,7)=$S$6,$S$4,"") | K17: =K16+1 -> 43140 | L17: =(CALENDRIER!Q12) -> 0
A18: 43191 | B18: =B17+1 -> 43141 | F18: =F17+1 -> 43141 | G18: =(CALENDRIER!P13) -> 0 | H18: =IF(MID(G18,1,7)=$S$6,$T$4,"") | I18: =IF(MID(G18,1,7)=$S$6,$S$4,"") | K18: =K17+1 -> 43141 | L18: =(CALENDRIER!Q13) -> 0
A19: 43221 | B19: =B18+1 -> 43142 | F19: =F18+1 -> 43142 | G19: =(CALENDRIER!P14) -> 0 | H19: =IF(MID(G19,1,7)=$S$6,$T$4,"") | I19: =IF(MID(G19,1,7)=$S$6,$S$4,"") | K19: =K18+1 -> 43142 | L19: =(CALENDRIER!Q14) -> 0
A20: 43252 | B20: =B19+1 -> 43143 | D20: 0.8125 | F20: =F19+1 -> 43143 | G20: =(CALENDRIER!P15) -> 0 | H20: =IF(MID(G20,1,7)=$S$6,$T$4,"") | I20: =IF(MID(G20,1,7)=$S$6,$S$4,"") | K20: =K19+1 -> 43143 | L20: =(CALENDRIER!Q15) -> 0
A21: 43282 | B21: =B20+1 -> 43144 | D21: 0.8125 | F21: =F20+1 -> 43144 | G21: =(CALENDRIER!P16) -> 0 | H21: =IF(MID(G21,1,7)=$S$6,$T$4,"") | I21: =IF(MID(G21,1,7)=$S$6,$S$4,"") | K21: =K20+1 -> 43144 | L21: =(CALENDRIER!Q16) -> 0
A22: 43313 | B22: =B21+1 -> 43145 | D22: 0.85416667 | F22: =F21+1 -> 43145 | G22: =(CALENDRIER!P17) -> 0 | H22: =IF(MID(G22,1,7)=$S$6,$T$4,"") | I22: =IF(MID(G22,1,7)=$S$6,$S$4,"") | K22: =K21+1 -> 43145 | L22: =(CALENDRIER!Q17) -> 0
A23: 43344 | B23: =B22+1 -> 43146 | F23: =F22+1 -> 43146 | G23: =(CALENDRIER!P18) -> 0 | H23: =IF(MID(G23,1,7)=$S$6,$T$4,"") | I23: =IF(MID(G23,1,7)=$S$6,$S$4,"") | K23: =K22+1 -> 43146 | L23: =(CALENDRIER!Q18) -> 0
A24: 43374 | B24: =B23+1 -> 43147 | D24: 0.77083333 | F24: =F23+1 -> 43147 | G24: =(CALENDRIER!P19) -> 0 | H24: =IF(MID(G24,1,7)=$S$6,$T$4,"") | I24: =IF(MID(G24,1,7)=$S$6,$S$4,"") | K24: =K23+1 -> 43147 | L24: =(CALENDRIER!Q19) -> 0
A25: 43405 | B25: =B24+1 -> 43148 | F25: =F24+1 -> 43148 | G25: =(CALENDRIER!P20) -> 0 | H25: =IF(MID(G25,1,7)=$S$6,$T$4,"") | I25: =IF(MID(G25,1,7)=$S$6,$S$4,"") | K25: =K24+1 -> 43148 | L25: =(CALENDRIER!Q20) -> 0
A26: 43435 | B26: =B25+1 -> 43149 | F26: =F25+1 -> 43149 | G26: =(CALENDRIER!P21) -> 0 | H26: =IF(MID(G26,1,7)=$S$6,$T$4,"") | I26: =IF(MID(G26,1,7)=$S$6,$S$4,"") | K26: =K25+1 -> 43149 | L26: =(CALENDRIER!Q21) -> 0
A27: 43466 | B27: =B26+1 -> 43150 | D27: 0.8125 | F27: =F26+1 -> 43150 | G27: =(CALENDRIER!P22) -> 0 | H27: =IF(MID(G27,1,7)=$S$6,$T$4,"") | I27: =IF(MID(G27,1,7)=$S$6,$S$4,"") | K27: =K26+1 -> 43150 | L27: =(CALENDRIER!Q22) -> 0
A28: 43497 | B28: =B27+1 -> 43151 | D28: 0.8125 | F28: =F27+1 -> 43151 | G28: =(CALENDRIER!P23) -> 0 | H28: =IF(MID(G28,1,7)=$S$6,$T$4,"") | I28: =IF(MID(G28,1,7)=$S$6,$S$4,"") | K28: =K27+1 -> 43151 | L28: =(CALENDRIER!Q23) -> 0
A29: 43525 | B29: =B28+1 -> 43152 | D29: 0.85416667 | F29: =F28+1 -> 43152 | G29: =(CALENDRIER!P24) -> 0 | H29: =IF(MID(G29,1,7)=$S$6,$T$4,"") | I29: =IF(MID(G29,1,7)=$S$6,$S$4,"") | K29: =K28+1 -> 43152 | L29: =(CALENDRIER!Q24) -> 0
A30: 43556 | B30: =B29+1 -> 43153 | F30: =F29+1 -> 43153 | G30: =(CALENDRIER!P25) -> 0 | H30: =IF(MID(G30,1,7)=$S$6,$T$4,"") | I30: =IF(MID(G30,1,7)=$S$6,$S$4,"") | K30: =K29+1 -> 43153 | L30: =(CALENDRIER!Q25) -> 0
A31: 43586 | B31: =B30+1 -> 43154 | D31: 0.77083333 | F31: =F30+1 -> 43154 | G31: =(CALENDRIER!P26) -> 0 | H31: =IF(MID(G31,1,7)=$S$6,$T$4,"") | I31: =IF(MID(G31,1,7)=$S$6,$S$4,"") | K31: =K30+1 -> 43154 | L31: =(CALENDRIER!Q26) -> 0
A32: 43617 | B32: =B31+1 -> 43155 | F32: =F31+1 -> 43155 | G32: =(CALENDRIER!P27) -> 0 | H32: =IF(MID(G32,1,7)=$S$6,$T$4,"") | I32: =IF(MID(G32,1,7)=$S$6,$S$4,"") | K32: =K31+1 -> 43155 | L32: =(CALENDRIER!Q27) -> 0
A33: 43647 | B33: =B32+1 -> 43156 | F33: =F32+1 -> 43156 | G33: =(CALENDRIER!P28) -> 0 | H33: =IF(MID(G33,1,7)=$S$6,$T$4,"") | I33: =IF(MID(G33,1,7)=$S$6,$S$4,"") | K33: =K32+1 -> 43156 | L33: =(CALENDRIER!Q28) -> 0
A34: 43678 | B34: =B33+1 -> 43157 | D34: 0.8125 | F34: =F33+1 -> 43157 | G34: =(CALENDRIER!P29) -> 0 | H34: =IF(MID(G34,1,7)=$S$6,$T$4,"") | I34: =IF(MID(G34,1,7)=$S$6,$S$4,"") | K34: =K33+1 -> 43157 | L34: =(CALENDRIER!Q29) -> 0
A35: 43709 | B35: =B34+1 -> 43158 | D35: 0.8125 | F35: =F34+1 -> 43158 | G35: =(CALENDRIER!P30) -> 0 | H35: =IF(MID(G35,1,7)=$S$6,$T$4,"") | I35: =IF(MID(G35,1,7)=$S$6,$S$4,"") | K35: =K34+1 -> 43158 | L35: =(CALENDRIER!Q30) -> 0
A36: 43739 | B36: =B35+1 -> 43159 | D36: 0.85416667 | F36: =F35+1 -> 43159 | G36: =(CALENDRIER!P31) -> 0 | H36: =IF(MID(G36,1,7)=$S$6,$T$4,"") | I36: =IF(MID(G36,1,7)=$S$6,$S$4,"") | K36: =K35+1 -> 43159 | L36: =(CALENDRIER!Q31) -> 0
A37: 43770 | B37: =IF(OR(MONTH(B36)<>MONTH(B36+1),$B$4=59),REPT("",100),B36+1) | F37: =IF(OR(MONTH(F36)<>MONTH(F36+1),$B$4=59),REPT("",100),F36+1) | G37: =(CALENDRIER!P32) -> 0 | H37: =IF(MID(G37,1,7)=$S$6,$T$4,"") | I37: =IF(MID(G37,1,7)=$S$6,$S$4,"") | K37: =IF(OR(MONTH(K36)<>MONTH(K36+1),$B$4=59),REPT("",100),K36+1) | L37: =(CALENDRIER!Q32) -> 0
A38: 43800 | B38: =IF(MONTH(B36)<>MONTH(B36+2),REPT("",100),B37+1) | F38: =IF(MONTH(F36)<>MONTH(F36+2),REPT("",100),F37+1) | G38: =(CALENDRIER!D33) -> 0 | H38: =IF(MID(G38,1,7)=$S$6,$T$4,"") | I38: =IF(MID(G38,1,7)=$S$6,$S$4,"") | K38: =IF(MONTH(K36)<>MONTH(K36+2),REPT("",100),K37+1)
A39: 43831 | B39: =IF(MONTH(B36)<>MONTH(B36+3),REPT("",100),B38+1) | F39: =IF(MONTH(F36)<>MONTH(F36+3),REPT("",100),F38+1) | G39: =(CALENDRIER!D34) -> 0 | H39: =IF(MID(G39,1,7)=$S$6,$T$4,"") | I39: =IF(MID(G39,1,7)=$S$6,$S$4,"") | K39: =IF(MONTH(K36)<>MONTH(K36+3),REPT("",100),K38+1)
A40: 43862
A41: 43891 | B41: NOTES :
A42: 43922
A43: 43952
A44: 43983
A45: 44013
A46: 44044
A47: 44075
A48: 44105
A49: 44136
A50: 44166
A51: 44197
A52: 44228
A53: 44256
... A386: 54393
A389: SAISON 2017 - 2018
A390: SAISON 2018 - 2019
A391: SAISON 2019 - 2020
A392: SAISON 2020 - 2021
A393: SAISON 2021 - 2022
A394: SAISON 2022 - 2023
A395: SAISON 2023 - 2024
A396: SAISON 2024 - 2025
A397: SAISON 2025 - 2026
A398: SAISON 2026 - 2027
A399: SAISON 2027 - 2028
A400: SAISON 2028 - 2029
A401: SAISON 2029 - 2030
A403: =#REF! -> #REF!
A404: =#REF! -> #REF!
A405: =#REF! -> #REF!
A406: =#REF! -> #REF!
A407: =#REF! -> #REF!
A408: =#REF! -> #REF!
A409: =#REF! -> #REF!
A410: =#REF! -> #REF!
A411: =#REF! -> #REF!
A412: =#REF! -> #REF!
A413: =#REF! -> #REF!
A414: =#REF! -> #REF!
... A422: =#REF! -> #REF!
A423: 0.33333333
A424: 0.35416667
A425: 0.375
A426: 0.39583333
A427: 0.41666667
A428: 0.4375
A429: 0.45833333
A430: 0.47916667
A431: 0.5
A432: 0.52083333
A433: 0.54166667
A434: 0.5625
... A449: 0.875

Sheet Mars
A1: =(H21&"/ "&I21)
B2: =Août!B2 -> SAISON 2017 - 2018 | P2: =R2 -> 2018 | R2: =SUM(ANNÉE!B4) -> 2018 | S2: 0
B4: =DATE(YEAR(Février!B4),MONTH(Février!B4)+1,DAY(Février!B4)) -> 43160 | P4: =P7+1 -> 43192 | R4: =DATE($R$2,3,1) -> 43160 | S4: Synthé Ouest | T4: 0.75
P5: =P7+39 -> 43230
A6: Synthé Ouest | M6: =NOW() -> 42926.797 | P6: =P7+50 -> 43241 | S6: CRÉTEIL
A7: Synthé Est | B7: DATES | C7: ENTRAINEMENT | G7: MATCH | H7: HEURES | I7: TERRAIN | L7: MATCH | M7: HEURES | N7: TERRAIN | P7: =ROUND(DATE(R2,4,MOD(234-11*MOD(R2,19),30))/7,0)*7-6 -> 43191
A8: Honneur | C8: MATIN | D8: SOIR | G8: CHAMPIONNAT / COUPE | L8: AMICAL
A9: 42917 | B9: =$R$4 -> 43160 | F9: =$R$4 -> 43160 | G9: =(CALENDRIER!R4) -> 0 | H9: =IF(MID(G9,1,7)=$S$6,$T$4,"") | I9: =IF(MID(G9,1,7)=$S$6,$S$4,"") | K9: =$R$4 -> 43160 | L9: =(CALENDRIER!S4) -> 0
A10: 42948 | B10: =DATE(YEAR(B9),MONTH(B9),2) -> 43161 | D10: 0.77083333 | F10: =DATE(YEAR(F9),MONTH(F9),2) -> 43161 | G10: =(CALENDRIER!R5) -> 0 | H10: =IF(MID(G10,1,7)=$S$6,$T$4,"") | I10: =IF(MID(G10,1,7)=$S$6,$S$4,"") | K10: =DATE(YEAR(K9),MONTH(K9),2) -> 43161 | L10: =(CALENDRIER!S5) -> 0
A11: 42979 | B11: =B10+1 -> 43162 | F11: =F10+1 -> 43162 | G11: =(CALENDRIER!R6) -> 0 | H11: =IF(MID(G11,1,7)=$S$6,$T$4,"") | I11: =IF(MID(G11,1,7)=$S$6,$S$4,"") | K11: =K10+1 -> 43162 | L11: =(CALENDRIER!S6) -> 0
A12: 43009 | B12: =B11+1 -> 43163 | F12: =F11+1 -> 43163 | G12: =(CALENDRIER!R7) -> 0 | H12: =IF(MID(G12,1,7)=$S$6,$T$4,"") | I12: =IF(MID(G12,1,7)=$S$6,$S$4,"") | K12: =K11+1 -> 43163 | L12: =(CALENDRIER!S7) -> 0
A13: 43040 | B13: =B12+1 -> 43164 | D13: 0.8125 | F13: =F12+1 -> 43164 | G13: =(CALENDRIER!R8) -> 0 | H13: =IF(MID(G13,1,7)=$S$6,$T$4,"") | I13: =IF(MID(G13,1,7)=$S$6,$S$4,"") | K13: =K12+1 -> 43164 | L13: =(CALENDRIER!S8) -> 0
A14: 43070 | B14: =B13+1 -> 43165 | D14: 0.8125 | F14: =F13+1 -> 43165 | G14: =(CALENDRIER!R9) -> 0 | H14: =IF(MID(G14,1,7)=$S$6,$T$4,"") | I14: =IF(MID(G14,1,7)=$S$6,$S$4,"") | K14: =K13+1 -> 43165 | L14: =(CALENDRIER!S9) -> 0
A15: 43101 | B15: =B14+1 -> 43166 | D15: 0.85416667 | F15: =F14+1 -> 43166 | G15: =(CALENDRIER!R10) -> 0 | H15: =IF(MID(G15,1,7)=$S$6,$T$4,"") | I15: =IF(MID(G15,1,7)=$S$6,$S$4,"") | K15: =K14+1 -> 43166 | L15: =(CALENDRIER!S10) -> 0
A16: 43132 | B16: =B15+1 -> 43167 | F16: =F15+1 -> 43167 | G16: =(CALENDRIER!R11) -> 0 | H16: =IF(MID(G16,1,7)=$S$6,$T$4,"") | I16: =IF(MID(G16,1,7)=$S$6,$S$4,"") | K16: =K15+1 -> 43167 | L16: =(CALENDRIER!S11) -> 0
A17: 43160 | B17: =B16+1 -> 43168 | D17: 0.77083333 | F17: =F16+1 -> 43168 | G17: =(CALENDRIER!R12) -> 0 | H17: =IF(MID(G17,1,7)=$S$6,$T$4,"") | I17: =IF(MID(G17,1,7)=$S$6,$S$4,"") | K17: =K16+1 -> 43168 | L17: =(CALENDRIER!S12) -> 0
A18: 43191 | B18: =B17+1 -> 43169 | F18: =F17+1 -> 43169 | G18: =(CALENDRIER!R13) -> 0 | H18: =IF(MID(G18,1,7)=$S$6,$T$4,"") | I18: =IF(MID(G18,1,7)=$S$6,$S$4,"") | K18: =K17+1 -> 43169 | L18: =(CALENDRIER!S13) -> 0
A19: 43221 | B19: =B18+1 -> 43170 | F19: =F18+1 -> 43170 | G19: =(CALENDRIER!R14) -> 0 | H19: =IF(MID(G19,1,7)=$S$6,$T$4,"") | I19: =IF(MID(G19,1,7)=$S$6,$S$4,"") | K19: =K18+1 -> 43170 | L19: =(CALENDRIER!S14) -> 0
A20: 43252 | B20: =B19+1 -> 43171 | D20: 0.8125 | F20: =F19+1 -> 43171 | G20: =(CALENDRIER!R15) -> 0 | H20: =IF(MID(G20,1,7)=$S$6,$T$4,"") | I20: =IF(MID(G20,1,7)=$S$6,$S$4,"") | K20: =K19+1 -> 43171 | L20: =(CALENDRIER!S15) -> 0
A21: 43282 | B21: =B20+1 -> 43172 | D21: 0.8125 | F21: =F20+1 -> 43172 | G21: =(CALENDRIER!R16) -> 0 | H21: =IF(MID(G21,1,7)=$S$6,$T$4,"") | I21: =IF(MID(G21,1,7)=$S$6,$S$4,"") | K21: =K20+1 -> 43172 | L21: =(CALENDRIER!S16) -> 0
A22: 43313 | B22: =B21+1 -> 43173 | D22: 0.85416667 | F22: =F21+1 -> 43173 | G22: =(CALENDRIER!R17) -> 0 | H22: =IF(MID(G22,1,7)=$S$6,$T$4,"") | I22: =IF(MID(G22,1,7)=$S$6,$S$4,"") | K22: =K21+1 -> 43173 | L22: =(CALENDRIER!S17) -> 0
A23: 43344 | B23: =B22+1 -> 43174 | F23: =F22+1 -> 43174 | G23: =(CALENDRIER!R18) -> 0 | H23: =IF(MID(G23,1,7)=$S$6,$T$4,"") | I23: =IF(MID(G23,1,7)=$S$6,$S$4,"") | K23: =K22+1 -> 43174 | L23: =(CALENDRIER!S18) -> 0
A24: 43374 | B24: =B23+1 -> 43175 | D24: 0.77083333 | F24: =F23+1 -> 43175 | G24: =(CALENDRIER!R19) -> 0 | H24: =IF(MID(G24,1,7)=$S$6,$T$4,"") | I24: =IF(MID(G24,1,7)=$S$6,$S$4,"") | K24: =K23+1 -> 43175 | L24: =(CALENDRIER!S19) -> 0
A25: 43405 | B25: =B24+1 -> 43176 | F25: =F24+1 -> 43176 | G25: =(CALENDRIER!R20) -> 0 | H25: =IF(MID(G25,1,7)=$S$6,$T$4,"") | I25: =IF(MID(G25,1,7)=$S$6,$S$4,"") | K25: =K24+1 -> 43176 | L25: =(CALENDRIER!S20) -> 0
A26: 43435 | B26: =B25+1 -> 43177 | F26: =F25+1 -> 43177 | G26: =(CALENDRIER!R21) -> 0 | H26: =IF(MID(G26,1,7)=$S$6,$T$4,"") | I26: =IF(MID(G26,1,7)=$S$6,$S$4,"") | K26: =K25+1 -> 43177 | L26: =(CALENDRIER!S21) -> 0
A27: 43466 | B27: =B26+1 -> 43178 | D27: 0.8125 | F27: =F26+1 -> 43178 | G27: =(CALENDRIER!R22) -> 0 | H27: =IF(MID(G27,1,7)=$S$6,$T$4,"") | I27: =IF(MID(G27,1,7)=$S$6,$S$4,"") | K27: =K26+1 -> 43178 | L27: =(CALENDRIER!S22) -> 0
A28: 43497 | B28: =B27+1 -> 43179 | D28: 0.8125 | F28: =F27+1 -> 43179 | G28: =(CALENDRIER!R23) -> 0 | H28: =IF(MID(G28,1,7)=$S$6,$T$4,"") | I28: =IF(MID(G28,1,7)=$S$6,$S$4,"") | K28: =K27+1 -> 43179 | L28: =(CALENDRIER!S23) -> 0
A29: 43525 | B29: =B28+1 -> 43180 | D29: 0.85416667 | F29: =F28+1 -> 43180 | G29: =(CALENDRIER!R24) -> 0 | H29: =IF(MID(G29,1,7)=$S$6,$T$4,"") | I29: =IF(MID(G29,1,7)=$S$6,$S$4,"") | K29: =K28+1 -> 43180 | L29: =(CALENDRIER!S24) -> 0
A30: 43556 | B30: =B29+1 -> 43181 | F30: =F29+1 -> 43181 | G30: =(CALENDRIER!R25) -> 0 | H30: =IF(MID(G30,1,7)=$S$6,$T$4,"") | I30: =IF(MID(G30,1,7)=$S$6,$S$4,"") | K30: =K29+1 -> 43181 | L30: =(CALENDRIER!S25) -> 0
A31: 43586 | B31: =B30+1 -> 43182 | D31: 0.77083333 | F31: =F30+1 -> 43182 | G31: =(CALENDRIER!R26) -> 0 | H31: =IF(MID(G31,1,7)=$S$6,$T$4,"") | I31: =IF(MID(G31,1,7)=$S$6,$S$4,"") | K31: =K30+1 -> 43182 | L31: =(CALENDRIER!S26) -> 0
A32: 43617 | B32: =B31+1 -> 43183 | F32: =F31+1 -> 43183 | G32: =(CALENDRIER!R27) -> 0 | H32: =IF(MID(G32,1,7)=$S$6,$T$4,"") | I32: =IF(MID(G32,1,7)=$S$6,$S$4,"") | K32: =K31+1 -> 43183 | L32: =(CALENDRIER!S27) -> 0
A33: 43647 | B33: =B32+1 -> 43184 | F33: =F32+1 -> 43184 | G33: =(CALENDRIER!R28) -> 0 | H33: =IF(MID(G33,1,7)=$S$6,$T$4,"") | I33: =IF(MID(G33,1,7)=$S$6,$S$4,"") | K33: =K32+1 -> 43184 | L33: =(CALENDRIER!S28) -> 0
A34: 43678 | B34: =B33+1 -> 43185 | D34: 0.8125 | F34: =F33+1 -> 43185 | G34: =(CALENDRIER!R29) -> 0 | H34: =IF(MID(G34,1,7)=$S$6,$T$4,"") | I34: =IF(MID(G34,1,7)=$S$6,$S$4,"") | K34: =K33+1 -> 43185 | L34: =(CALENDRIER!S29) -> 0
A35: 43709 | B35: =B34+1 -> 43186 | D35: 0.8125 | F35: =F34+1 -> 43186 | G35: =(CALENDRIER!R30) -> 0 | H35: =IF(MID(G35,1,7)=$S$6,$T$4,"") | I35: =IF(MID(G35,1,7)=$S$6,$S$4,"") | K35: =K34+1 -> 43186 | L35: =(CALENDRIER!S30) -> 0
A36: 43739 | B36: =B35+1 -> 43187 | D36: 0.85416667 | F36: =F35+1 -> 43187 | G36: =(CALENDRIER!R31) -> 0 | H36: =IF(MID(G36,1,7)=$S$6,$T$4,"") | I36: =IF(MID(G36,1,7)=$S$6,$S$4,"") | K36: =K35+1 -> 43187 | L36: =(CALENDRIER!S31) -> 0
A37: 43770 | B37: =IF(OR(MONTH(B36)<>MONTH(B36+1),$B$4=59),REPT("",100),B36+1) -> 43188 | F37: =IF(OR(MONTH(F36)<>MONTH(F36+1),$B$4=59),REPT("",100),F36+1) -> 43188 | G37: =(CALENDRIER!R32) -> 0 | H37: =IF(MID(G37,1,7)=$S$6,$T$4,"") | I37: =IF(MID(G37,1,7)=$S$6,$S$4,"") | K37: =IF(OR(MONTH(K36)<>MONTH(K36+1),$B$4=59),REPT("",100),K36+1) -> 43188 | L37: =(CALENDRIER!S32) -> 0
A38: 43800 | B38: =IF(MONTH(B36)<>MONTH(B36+2),REPT("",100),B37+1) -> 43189 | D38: 0.77083333 | F38: =IF(MONTH(F36)<>MONTH(F36+2),REPT("",100),F37+1) -> 43189 | G38: =(CALENDRIER!R33) -> 0 | H38: =IF(MID(G38,1,7)=$S$6,$T$4,"") | I38: =IF(MID(G38,1,7)=$S$6,$S$4,"") | K38: =IF(MONTH(K36)<>MONTH(K36+2),REPT("",100),K37+1) -> 43189 | L38: =(CALENDRIER!S33) -> 0
A39: 43831 | B39: =IF(MONTH(B36)<>MONTH(B36+3),REPT("",100),B38+1) -> 43190 | F39: =IF(MONTH(F36)<>MONTH(F36+3),REPT("",100),F38+1) -> 43190 | G39: =(CALENDRIER!R34) -> 0 | H39: =IF(MID(G39,1,7)=$S$6,$T$4,"") | I39: =IF(MID(G39,1,7)=$S$6,$S$4,"") | K39: =IF(MONTH(K36)<>MONTH(K36+3),REPT("",100),K38+1) -> 43190 | L39: =(CALENDRIER!S34) -> 0
A40: 43862
A41: 43891 | B41: NOTES :
A42: 43922
A43: 43952
A44: 43983
A45: 44013
A46: 44044
A47: 44075
A48: 44105
A49: 44136
A50: 44166
A51: 44197
A52: 44228
A53: 44256
... A386: 54393
A389: SAISON 2017 - 2018
A390: SAISON 2018 - 2019
A391: SAISON 2019 - 2020
A392: SAISON 2020 - 2021
A393: SAISON 2021 - 2022
A394: SAISON 2022 - 2023
A395: SAISON 2023 - 2024
A396: SAISON 2024 - 2025
A397: SAISON 2025 - 2026
A398: SAISON 2026 - 2027
A399: SAISON 2027 - 2028
A400: SAISON 2028 - 2029
A401: SAISON 2029 - 2030
A403: =#REF! -> #REF!
A404: =#REF! -> #REF!
A405: =#REF! -> #REF!
A406: =#REF! -> #REF!
A407: =#REF! -> #REF!
A408: =#REF! -> #REF!
A409: =#REF! -> #REF!
A410: =#REF! -> #REF!
A411: =#REF! -> #REF!
A412: =#REF! -> #REF!
A413: =#REF! -> #REF!
A414: =#REF! -> #REF!
... A422: =#REF! -> #REF!
A423: 0.33333333
A424: 0.35416667
A425: 0.375
A426: 0.39583333
A427: 0.41666667
A428: 0.4375
A429: 0.45833333
A430: 0.47916667
A431: 0.5
A432: 0.52083333
A433: 0.54166667
A434: 0.5625
... A449: 0.875

Sheet Avril
A1: =(H21&"/ "&I21)
B2: =Août!B2 -> SAISON 2017 - 2018 | R2: =SUM(ANNÉE!B4) -> 2018 | S2: 0
B4: =DATE(YEAR(Mars!B4),MONTH(Mars!B4)+1,DAY(Mars!B4)) -> 43191 | R4: =DATE($R$2,4,1) -> 43191 | S4: Synthé Ouest | T4: 0.75
A6: Synthé Ouest | M6: =NOW() -> 42926.797 | S6: CRÉTEIL
A7: Synthé Est | B7: DATES | C7: ENTRAINEMENT | G7: MATCH | H7: HEURES | I7: TERRAIN | L7: MATCH | M7: HEURES | N7: TERRAIN
A8: Honneur | C8: MATIN | D8: SOIR | G8: CHAMPIONNAT / COUPE | L8: AMICAL
A9: 42917 | B9: =R4 -> 43191 | F9: =R4 -> 43191 | G9: =(CALENDRIER!T4) -> 0 | H9: =IF(MID(G9,1,7)=$S$6,$T$4,"") | I9: =IF(MID(G9,1,7)=$S$6,$S$4,"") | K9: =R4 -> 43191 | L9: =(CALENDRIER!U4) -> 0
A10: 42948 | B10: =DATE(YEAR(B9),MONTH(B9),2) -> 43192 | D10: 0.8125 | F10: =DATE(YEAR(F9),MONTH(F9),2) -> 43192 | G10: =(CALENDRIER!T5) -> 0 | H10: =IF(MID(G10,1,7)=$S$6,$T$4,"") | I10: =IF(MID(G10,1,7)=$S$6,$S$4,"") | K10: =DATE(YEAR(K9),MONTH(K9),2) -> 43192 | L10: =(CALENDRIER!U5) -> 0
A11: 42979 | B11: =B10+1 -> 43193 | D11: 0.8125 | F11: =F10+1 -> 43193 | G11: =(CALENDRIER!T6) -> 0 | H11: =IF(MID(G11,1,7)=$S$6,$T$4,"") | I11: =IF(MID(G11,1,7)=$S$6,$S$4,"") | K11: =K10+1 -> 43193 | L11: =(CALENDRIER!U6) -> 0
A12: 43009 | B12: =B11+1 -> 43194 | D12: 0.85416667 | F12: =F11+1 -> 43194 | G12: =(CALENDRIER!T7) -> 0 | H12: =IF(MID(G12,1,7)=$S$6,$T$4,"") | I12: =IF(MID(G12,1,7)=$S$6,$S$4,"") | K12: =K11+1 -> 43194 | L12: =(CALENDRIER!U7) -> 0
A13: 43040 | B13: =B12+1 -> 43195 | F13: =F12+1 -> 43195 | G13: =(CALENDRIER!T8) -> 0 | H13: =IF(MID(G13,1,7)=$S$6,$T$4,"") | I13: =IF(MID(G13,1,7)=$S$6,$S$4,"") | K13: =K12+1 -> 43195 | L13: =(CALENDRIER!U8) -> 0
A14: 43070 | B14: =B13+1 -> 43196 | D14: 0.77083333 | F14: =F13+1 -> 43196 | G14: =(CALENDRIER!T9) -> 0 | H14: =IF(MID(G14,1,7)=$S$6,$T$4,"") | I14: =IF(MID(G14,1,7)=$S$6,$S$4,"") | K14: =K13+1 -> 43196 | L14: =(CALENDRIER!U9) -> 0
A15: 43101 | B15: =B14+1 -> 43197 | F15: =F14+1 -> 43197 | G15: =(CALENDRIER!T10) -> 0 | H15: =IF(MID(G15,1,7)=$S$6,$T$4,"") | I15: =IF(MID(G15,1,7)=$S$6,$S$4,"") | K15: =K14+1 -> 43197 | L15: =(CALENDRIER!U10) -> 0
A16: 43132 | B16: =B15+1 -> 43198 | F16: =F15+1 -> 43198 | G16: =(CALENDRIER!T11) -> 0 | H16: =IF(MID(G16,1,7)=$S$6,$T$4,"") | I16: =IF(MID(G16,1,7)=$S$6,$S$4,"") | K16: =K15+1 -> 43198 | L16: =(CALENDRIER!U11) -> 0
A17: 43160 | B17: =B16+1 -> 43199 | D17: 0.8125 | F17: =F16+1 -> 43199 | G17: =(CALENDRIER!T12) -> 0 | H17: =IF(MID(G17,1,7)=$S$6,$T$4,"") | I17: =IF(MID(G17,1,7)=$S$6,$S$4,"") | K17: =K16+1 -> 43199 | L17: =(CALENDRIER!U12) -> 0
A18: 43191 | B18: =B17+1 -> 43200 | D18: 0.8125 | F18: =F17+1 -> 43200 | G18: =(CALENDRIER!T13) -> 0 | H18: =IF(MID(G18,1,7)=$S$6,$T$4,"") | I18: =IF(MID(G18,1,7)=$S$6,$S$4,"") | K18: =K17+1 -> 43200 | L18: =(CALENDRIER!U13) -> 0
A19: 43221 | B19: =B18+1 -> 43201 | D19: 0.85416667 | F19: =F18+1 -> 43201 | G19: =(CALENDRIER!T14) -> 0 | H19: =IF(MID(G19,1,7)=$S$6,$T$4,"") | I19: =IF(MID(G19,1,7)=$S$6,$S$4,"") | K19: =K18+1 -> 43201 | L19: =(CALENDRIER!U14) -> 0
A20: 43252 | B20: =B19+1 -> 43202 | F20: =F19+1 -> 43202 | G20: =(CALENDRIER!T15) -> 0 | H20: =IF(MID(G20,1,7)=$S$6,$T$4,"") | I20: =IF(MID(G20,1,7)=$S$6,$S$4,"") | K20: =K19+1 -> 43202 | L20: =(CALENDRIER!U15) -> 0
A21: 43282 | B21: =B20+1 -> 43203 | D21: 0.77083333 | F21: =F20+1 -> 43203 | G21: =(CALENDRIER!T16) -> 0 | H21: =IF(MID(G21,1,7)=$S$6,$T$4,"") | I21: =IF(MID(G21,1,7)=$S$6,$S$4,"") | K21: =K20+1 -> 43203 | L21: =(CALENDRIER!U16) -> 0
A22: 43313 | B22: =B21+1 -> 43204 | F22: =F21+1 -> 43204 | G22: =(CALENDRIER!T17) -> 0 | H22: =IF(MID(G22,1,7)=$S$6,$T$4,"") | I22: =IF(MID(G22,1,7)=$S$6,$S$4,"") | K22: =K21+1 -> 43204 | L22: =(CALENDRIER!U17) -> 0
A23: 43344 | B23: =B22+1 -> 43205 | F23: =F22+1 -> 43205 | G23: =(CALENDRIER!T18) -> 0 | H23: =IF(MID(G23,1,7)=$S$6,$T$4,"") | I23: =IF(MID(G23,1,7)=$S$6,$S$4,"") | K23: =K22+1 -> 43205 | L23: =(CALENDRIER!U18) -> 0
A24: 43374 | B24: =B23+1 -> 43206 | D24: 0.8125 | F24: =F23+1 -> 43206 | G24: =(CALENDRIER!T19) -> 0 | H24: =IF(MID(G24,1,7)=$S$6,$T$4,"") | I24: =IF(MID(G24,1,7)=$S$6,$S$4,"") | K24: =K23+1 -> 43206 | L24: =(CALENDRIER!U19) -> 0
A25: 43405 | B25: =B24+1 -> 43207 | D25: 0.8125 | F25: =F24+1 -> 43207 | G25: =(CALENDRIER!T20) -> 0 | H25: =IF(MID(G25,1,7)=$S$6,$T$4,"") | I25: =IF(MID(G25,1,7)=$S$6,$S$4,"") | K25: =K24+1 -> 43207 | L25: =(CALENDRIER!U20) -> 0
A26: 43435 | B26: =B25+1 -> 43208 | D26: 0.85416667 | F26: =F25+1 -> 43208 | G26: =(CALENDRIER!T21) -> 0 | H26: =IF(MID(G26,1,7)=$S$6,$T$4,"") | I26: =IF(MID(G26,1,7)=$S$6,$S$4,"") | K26: =K25+1 -> 43208 | L26: =(CALENDRIER!U21) -> 0
A27: 43466 | B27: =B26+1 -> 43209 | F27: =F26+1 -> 43209 | G27: =(CALENDRIER!T22) -> 0 | H27: =IF(MID(G27,1,7)=$S$6,$T$4,"") | I27: =IF(MID(G27,1,7)=$S$6,$S$4,"") | K27: =K26+1 -> 43209 | L27: =(CALENDRIER!U22) -> 0
A28: 43497 | B28: =B27+1 -> 43210 | D28: 0.77083333 | F28: =F27+1 -> 43210 | G28: =(CALENDRIER!T23) -> 0 | H28: =IF(MID(G28,1,7)=$S$6,$T$4,"") | I28: =IF(MID(G28,1,7)=$S$6,$S$4,"") | K28: =K27+1 -> 43210 | L28: =(CALENDRIER!U23) -> 0
A29: 43525 | B29: =B28+1 -> 43211 | F29: =F28+1 -> 43211 | G29: =(CALENDRIER!T24) -> 0 | H29: =IF(MID(G29,1,7)=$S$6,$T$4,"") | I29: =IF(MID(G29,1,7)=$S$6,$S$4,"") | K29: =K28+1 -> 43211 | L29: =(CALENDRIER!U24) -> 0
A30: 43556 | B30: =B29+1 -> 43212 | F30: =F29+1 -> 43212 | G30: =(CALENDRIER!T25) -> 0 | H30: =IF(MID(G30,1,7)=$S$6,$T$4,"") | I30: =IF(MID(G30,1,7)=$S$6,$S$4,"") | K30: =K29+1 -> 43212 | L30: =(CALENDRIER!U25) -> 0
A31: 43586 | B31: =B30+1 -> 43213 | D31: 0.8125 | F31: =F30+1 -> 43213 | G31: =(CALENDRIER!T26) -> 0 | H31: =IF(MID(G31,1,7)=$S$6,$T$4,"") | I31: =IF(MID(G31,1,7)=$S$6,$S$4,"") | K31: =K30+1 -> 43213 | L31: =(CALENDRIER!U26) -> 0
A32: 43617 | B32: =B31+1 -> 43214 | D32: 0.8125 | F32: =F31+1 -> 43214 | G32: =(CALENDRIER!T27) -> 0 | H32: =IF(MID(G32,1,7)=$S$6,$T$4,"") | I32: =IF(MID(G32,1,7)=$S$6,$S$4,"") | K32: =K31+1 -> 43214 | L32: =(CALENDRIER!U27) -> 0
A33: 43647 | B33: =B32+1 -> 43215 | D33: 0.85416667 | F33: =F32+1 -> 43215 | G33: =(CALENDRIER!T28) -> 0 | H33: =IF(MID(G33,1,7)=$S$6,$T$4,"") | I33: =IF(MID(G33,1,7)=$S$6,$S$4,"") | K33: =K32+1 -> 43215 | L33: =(CALENDRIER!U28) -> 0
A34: 43678 | B34: =B33+1 -> 43216 | F34: =F33+1 -> 43216 | G34: =(CALENDRIER!T29) -> 0 | H34: =IF(MID(G34,1,7)=$S$6,$T$4,"") | I34: =IF(MID(G34,1,7)=$S$6,$S$4,"") | K34: =K33+1 -> 43216 | L34: =(CALENDRIER!U29) -> 0
A35: 43709 | B35: =B34+1 -> 43217 | D35: 0.77083333 | F35: =F34+1 -> 43217 | G35: =(CALENDRIER!T30) -> 0 | H35: =IF(MID(G35,1,7)=$S$6,$T$4,"") | I35: =IF(MID(G35,1,7)=$S$6,$S$4,"") | K35: =K34+1 -> 43217 | L35: =(CALENDRIER!U30) -> 0
A36: 43739 | B36: =B35+1 -> 43218 | F36: =F35+1 -> 43218 | G36: =(CALENDRIER!T31) -> 0 | H36: =IF(MID(G36,1,7)=$S$6,$T$4,"") | I36: =IF(MID(G36,1,7)=$S$6,$S$4,"") | K36: =K35+1 -> 43218 | L36: =(CALENDRIER!U31) -> 0
A37: 43770 | B37: =IF(OR(MONTH(B36)<>MONTH(B36+1),$B$4=59),REPT("",100),B36+1) -> 43219 | F37: =IF(OR(MONTH(F36)<>MONTH(F36+1),$B$4=59),REPT("",100),F36+1) -> 43219 | G37: =(CALENDRIER!T32) -> 0 | H37: =IF(MID(G37,1,7)=$S$6,$T$4,"") | I37: =IF(MID(G37,1,7)=$S$6,$S$4,"") | K37: =IF(OR(MONTH(K36)<>MONTH(K36+1),$B$4=59),REPT("",100),K36+1) -> 43219 | L37: =(CALENDRIER!U32) -> 0
A38: 43800 | B38: =IF(MONTH(B36)<>MONTH(B36+2),REPT("",100),B37+1) -> 43220 | D38: 0.8125 | F38: =IF(MONTH(F36)<>MONTH(F36+2),REPT("",100),F37+1) -> 43220 | G38: =(CALENDRIER!T33) -> 0 | H38: =IF(MID(G38,1,7)=$S$6,$T$4,"") | I38: =IF(MID(G38,1,7)=$S$6,$S$4,"") | K38: =IF(MONTH(K36)<>MONTH(K36+2),REPT("",100),K37+1) -> 43220 | L38: =(CALENDRIER!U33) -> 0
A39: 43831 | B39: =IF(MONTH(B36)<>MONTH(B36+3),REPT("",100),B38+1) | F39: =IF(MONTH(F36)<>MONTH(F36+3),REPT("",100),F38+1) | G39: =(CALENDRIER!T34) -> 0 | H39: =IF(MID(G39,1,7)=$S$6,$T$4,"") | I39: =IF(MID(G39,1,7)=$S$6,$S$4,"") | K39: =IF(MONTH(K36)<>MONTH(K36+3),REPT("",100),K38+1) | L39: =(CALENDRIER!U34) -> 0
A40: 43862
A41: 43891 | B41: NOTES :
A42: 43922
A43: 43952
A44: 43983
A45: 44013
A46: 44044
A47: 44075
A48: 44105
A49: 44136
A50: 44166
A51: 44197
A52: 44228
A53: 44256
... A386: 54393
A389: SAISON 2017 - 2018
A390: SAISON 2018 - 2019
A391: SAISON 2019 - 2020
A392: SAISON 2020 - 2021
A393: SAISON 2021 - 2022
A394: SAISON 2022 - 2023
A395: SAISON 2023 - 2024
A396: SAISON 2024 - 2025
A397: SAISON 2025 - 2026
A398: SAISON 2026 - 2027
A399: SAISON 2027 - 2028
A400: SAISON 2028 - 2029
A401: SAISON 2029 - 2030
A403: =#REF! -> #REF!
A404: =#REF! -> #REF!
A405: =#REF! -> #REF!
A406: =#REF! -> #REF!
A407: =#REF! -> #REF!
A408: =#REF! -> #REF!
A409: =#REF! -> #REF!
A410: =#REF! -> #REF!
A411: =#REF! -> #REF!
A412: =#REF! -> #REF!
A413: =#REF! -> #REF!
A414: =#REF! -> #REF!
... A422: =#REF! -> #REF!
A423: 0.33333333
A424: 0.35416667
A425: 0.375
A426: 0.39583333
A427: 0.41666667
A428: 0.4375
A429: 0.45833333
A430: 0.47916667
A431: 0.5
A432: 0.52083333
A433: 0.54166667
A434: 0.5625
... A449: 0.875

Sheet Mai
A1: =(H21&"/ "&I21)
B2: =Août!B2 -> SAISON 2017 - 2018 | Q2: =(R2) -> 2018 | R2: =SUM(ANNÉE!B4) -> 2018 | S2: 0
B4: =DATE(YEAR(Avril!B4),MONTH(Avril!B4)+1,DAY(Avril!B4)) -> 43221 | R4: =DATE($R$2,5,1) -> 43221 | S4: Synthé Ouest | T4: 0.75
A6: Synthé Ouest | M6: =NOW() -> 42926.797 | S6: CRÉTEIL
A7: Synthé Est | B7: DATES | C7: ENTRAINEMENT | G7: MATCH | H7: HEURES | I7: TERRAIN | L7: MATCH | M7: HEURES | N7: TERRAIN
A8: Honneur | C8: MATIN | D8: SOIR | G8: CHAMPIONNAT / COUPE | L8: AMICAL
A9: 42917 | B9: =$R$4 -> 43221 | F9: =$B$4 -> 43221 | G9: =(CALENDRIER!V4) -> 0 | H9: =IF(MID(G9,1,7)=$S$6,$T$4,"") | I9: =IF(MID(G9,1,7)=$S$6,$S$4,"") | K9: =$B$4 -> 43221 | L9: =(CALENDRIER!W4) -> 0
A10: 42948 | B10: =DATE(YEAR(B9),MONTH(B9),2) -> 43222 | D10: 0.85416667 | F10: =DATE(YEAR(F9),MONTH(F9),2) -> 43222 | G10: =(CALENDRIER!V5) -> 0 | H10: =IF(MID(G10,1,7)=$S$6,$T$4,"") | I10: =IF(MID(G10,1,7)=$S$6,$S$4,"") | K10: =DATE(YEAR(K9),MONTH(K9),2) -> 43222 | L10: =(CALENDRIER!W5) -> 0
A11: 42979 | B11: =B10+1 -> 43223 | F11: =F10+1 -> 43223 | G11: =(CALENDRIER!V6) -> 0 | H11: =IF(MID(G11,1,7)=$S$6,$T$4,"") | I11: =IF(MID(G11,1,7)=$S$6,$S$4,"") | K11: =K10+1 -> 43223 | L11: =(CALENDRIER!W6) -> 0
A12: 43009 | B12: =B11+1 -> 43224 | D12: 0.77083333 | F12: =F11+1 -> 43224 | G12: =(CALENDRIER!V7) -> 0 | H12: =IF(MID(G12,1,7)=$S$6,$T$4,"") | I12: =IF(MID(G12,1,7)=$S$6,$S$4,"") | K12: =K11+1 -> 43224 | L12: =(CALENDRIER!W7) -> 0
A13: 43040 | B13: =B12+1 -> 43225 | F13: =F12+1 -> 43225 | G13: =(CALENDRIER!V8) -> 0 | H13: =IF(MID(G13,1,7)=$S$6,$T$4,"") | I13: =IF(MID(G13,1,7)=$S$6,$S$4,"") | K13: =K12+1 -> 43225 | L13: =(CALENDRIER!W8) -> 0
A14: 43070 | B14: =B13+1 -> 43226 | F14: =F13+1 -> 43226 | G14: =(CALENDRIER!V9) -> 0 | H14: =IF(MID(G14,1,7)=$S$6,$T$4,"") | I14: =IF(MID(G14,1,7)=$S$6,$S$4,"") | K14: =K13+1 -> 43226 | L14: =(CALENDRIER!W9) -> 0
A15: 43101 | B15: =B14+1 -> 43227 | D15: 0.8125 | F15: =F14+1 -> 43227 | G15: =(CALENDRIER!V10) -> 0 | H15: =IF(MID(G15,1,7)=$S$6,$T$4,"") | I15: =IF(MID(G15,1,7)=$S$6,$S$4,"") | K15: =K14+1 -> 43227 | L15: =(CALENDRIER!W10) -> 0
A16: 43132 | B16: =B15+1 -> 43228 | F16: =F15+1 -> 43228 | G16: =(CALENDRIER!V11) -> 0 | H16: =IF(MID(G16,1,7)=$S$6,$T$4,"") | I16: =IF(MID(G16,1,7)=$S$6,$S$4,"") | K16: =K15+1 -> 43228 | L16: =(CALENDRIER!W11) -> 0
A17: 43160 | B17: =B16+1 -> 43229 | D17: 0.85416667 | F17: =F16+1 -> 43229 | G17: =(CALENDRIER!V12) -> 0 | H17: =IF(MID(G17,1,7)=$S$6,$T$4,"") | I17: =IF(MID(G17,1,7)=$S$6,$S$4,"") | K17: =K16+1 -> 43229 | L17: =(CALENDRIER!W12) -> 0
A18: 43191 | B18: =B17+1 -> 43230 | F18: =F17+1 -> 43230 | G18: =(CALENDRIER!V13) -> 0 | H18: =IF(MID(G18,1,7)=$S$6,$T$4,"") | I18: =IF(MID(G18,1,7)=$S$6,$S$4,"") | K18: =K17+1 -> 43230 | L18: =(CALENDRIER!W13) -> 0
A19: 43221 | B19: =B18+1 -> 43231 | D19: 0.77083333 | F19: =F18+1 -> 43231 | G19: =(CALENDRIER!V14) -> 0 | H19: =IF(MID(G19,1,7)=$S$6,$T$4,"") | I19: =IF(MID(G19,1,7)=$S$6,$S$4,"") | K19: =K18+1 -> 43231 | L19: =(CALENDRIER!W14) -> 0
A20: 43252 | B20: =B19+1 -> 43232 | F20: =F19+1 -> 43232 | G20: =(CALENDRIER!V15) -> 0 | H20: =IF(MID(G20,1,7)=$S$6,$T$4,"") | I20: =IF(MID(G20,1,7)=$S$6,$S$4,"") | K20: =K19+1 -> 43232 | L20: =(CALENDRIER!W15) -> 0
A21: 43282 | B21: =B20+1 -> 43233 | F21: =F20+1 -> 43233 | G21: =(CALENDRIER!V16) -> 0 | H21: =IF(MID(G21,1,7)=$S$6,$T$4,"") | I21: =IF(MID(G21,1,7)=$S$6,$S$4,"") | K21: =K20+1 -> 43233 | L21: =(CALENDRIER!W16) -> 0
A22: 43313 | B22: =B21+1 -> 43234 | D22: 0.8125 | F22: =F21+1 -> 43234 | G22: =(CALENDRIER!V17) -> 0 | H22: =IF(MID(G22,1,7)=$S$6,$T$4,"") | I22: =IF(MID(G22,1,7)=$S$6,$S$4,"") | K22: =K21+1 -> 43234 | L22: =(CALENDRIER!W17) -> 0
A23: 43344 | B23: =B22+1 -> 43235 | D23: 0.8125 | F23: =F22+1 -> 43235 | G23: =(CALENDRIER!V18) -> 0 | H23: =IF(MID(G23,1,7)=$S$6,$T$4,"") | I23: =IF(MID(G23,1,7)=$S$6,$S$4,"") | K23: =K22+1 -> 43235 | L23: =(CALENDRIER!W18) -> 0
A24: 43374 | B24: =B23+1 -> 43236 | D24: 0.85416667 | F24: =F23+1 -> 43236 | G24: =(CALENDRIER!V19) -> 0 | H24: =IF(MID(G24,1,7)=$S$6,$T$4,"") | I24: =IF(MID(G24,1,7)=$S$6,$S$4,"") | K24: =K23+1 -> 43236 | L24: =(CALENDRIER!W19) -> 0
A25: 43405 | B25: =B24+1 -> 43237 | F25: =F24+1 -> 43237 | G25: =(CALENDRIER!V20) -> 0 | H25: =IF(MID(G25,1,7)=$S$6,$T$4,"") | I25: =IF(MID(G25,1,7)=$S$6,$S$4,"") | K25: =K24+1 -> 43237 | L25: =(CALENDRIER!W20) -> 0
A26: 43435 | B26: =B25+1 -> 43238 | D26: 0.77083333 | F26: =F25+1 -> 43238 | G26: =(CALENDRIER!V21) -> 0 | H26: =IF(MID(G26,1,7)=$S$6,$T$4,"") | I26: =IF(MID(G26,1,7)=$S$6,$S$4,"") | K26: =K25+1 -> 43238 | L26: =(CALENDRIER!W21) -> 0
A27: 43466 | B27: =B26+1 -> 43239 | F27: =F26+1 -> 43239 | G27: =(CALENDRIER!V22) -> 0 | H27: =IF(MID(G27,1,7)=$S$6,$T$4,"") | I27: =IF(MID(G27,1,7)=$S$6,$S$4,"") | K27: =K26+1 -> 43239 | L27: =(CALENDRIER!W22) -> 0
A28: 43497 | B28: =B27+1 -> 43240 | F28: =F27+1 -> 43240 | G28: =(CALENDRIER!V23) -> 0 | H28: =IF(MID(G28,1,7)=$S$6,$T$4,"") | I28: =IF(MID(G28,1,7)=$S$6,$S$4,"") | K28: =K27+1 -> 43240 | L28: =(CALENDRIER!W23) -> 0
A29: 43525 | B29: =B28+1 -> 43241 | F29: =F28+1 -> 43241 | G29: =(CALENDRIER!V24) -> 0 | H29: =IF(MID(G29,1,7)=$S$6,$T$4,"") | I29: =IF(MID(G29,1,7)=$S$6,$S$4,"") | K29: =K28+1 -> 43241 | L29: =(CALENDRIER!W24) -> 0
A30: 43556 | B30: =B29+1 -> 43242 | D30: 0.8125 | F30: =F29+1 -> 43242 | G30: =(CALENDRIER!V25) -> 0 | H30: =IF(MID(G30,1,7)=$S$6,$T$4,"") | I30: =IF(MID(G30,1,7)=$S$6,$S$4,"") | K30: =K29+1 -> 43242 | L30: =(CALENDRIER!W25) -> 0
A31: 43586 | B31: =B30+1 -> 43243 | D31: 0.85416667 | F31: =F30+1 -> 43243 | G31: =(CALENDRIER!V26) -> 0 | H31: =IF(MID(G31,1,7)=$S$6,$T$4,"") | I31: =IF(MID(G31,1,7)=$S$6,$S$4,"") | K31: =K30+1 -> 43243 | L31: =(CALENDRIER!W26) -> 0
A32: 43617 | B32: =B31+1 -> 43244 | F32: =F31+1 -> 43244 | G32: =(CALENDRIER!V27) -> 0 | H32: =IF(MID(G32,1,7)=$S$6,$T$4,"") | I32: =IF(MID(G32,1,7)=$S$6,$S$4,"") | K32: =K31+1 -> 43244 | L32: =(CALENDRIER!W27) -> 0
A33: 43647 | B33: =B32+1 -> 43245 | D33: 0.77083333 | F33: =F32+1 -> 43245 | G33: =(CALENDRIER!V28) -> 0 | H33: =IF(MID(G33,1,7)=$S$6,$T$4,"") | I33: =IF(MID(G33,1,7)=$S$6,$S$4,"") | K33: =K32+1 -> 43245 | L33: =(CALENDRIER!W28) -> 0
A34: 43678 | B34: =B33+1 -> 43246 | F34: =F33+1 -> 43246 | G34: =(CALENDRIER!V29) -> 0 | H34: =IF(MID(G34,1,7)=$S$6,$T$4,"") | I34: =IF(MID(G34,1,7)=$S$6,$S$4,"") | K34: =K33+1 -> 43246 | L34: =(CALENDRIER!W29) -> 0
A35: 43709 | B35: =B34+1 -> 43247 | F35: =F34+1 -> 43247 | G35: =(CALENDRIER!V30) -> 0 | H35: =IF(MID(G35,1,7)=$S$6,$T$4,"") | I35: =IF(MID(G35,1,7)=$S$6,$S$4,"") | K35: =K34+1 -> 43247 | L35: =(CALENDRIER!W30) -> 0
A36: 43739 | B36: =B35+1 -> 43248 | D36: 0.8125 | F36: =F35+1 -> 43248 | G36: =(CALENDRIER!V31) -> 0 | H36: =IF(MID(G36,1,7)=$S$6,$T$4,"") | I36: =IF(MID(G36,1,7)=$S$6,$S$4,"") | K36: =K35+1 -> 43248 | L36: =(CALENDRIER!W31) -> 0
A37: 43770 | B37: =IF(OR(MONTH(B36)<>MONTH(B36+1),$B$4=59),REPT("",100),B36+1) -> 43249 | D37: 0.8125 | F37: =IF(OR(MONTH(F36)<>MONTH(F36+1),$B$4=59),REPT("",100),F36+1) -> 43249 | G37: =(CALENDRIER!V32) -> 0 | H37: =IF(MID(G37,1,7)=$S$6,$T$4,"") | I37: =IF(MID(G37,1,7)=$S$6,$S$4,"") | K37: =IF(OR(MONTH(K36)<>MONTH(K36+1),$B$4=59),REPT("",100),K36+1) -> 43249 | L37: =(CALENDRIER!W32) -> 0
A38: 43800 | B38: =IF(MONTH(B36)<>MONTH(B36+2),REPT("",100),B37+1) -> 43250 | D38: 0.85416667 | F38: =IF(MONTH(F36)<>MONTH(F36+2),REPT("",100),F37+1) -> 43250 | G38: =(CALENDRIER!V33) -> 0 | H38: =IF(MID(G38,1,7)=$S$6,$T$4,"") | I38: =IF(MID(G38,1,7)=$S$6,$S$4,"") | K38: =IF(MONTH(K36)<>MONTH(K36+2),REPT("",100),K37+1) -> 43250 | L38: =(CALENDRIER!W33) -> 0
A39: 43831 | B39: =IF(MONTH(B36)<>MONTH(B36+3),REPT("",100),B38+1) -> 43251 | F39: =IF(MONTH(F36)<>MONTH(F36+3),REPT("",100),F38+1) -> 43251 | G39: =(CALENDRIER!V34) -> 0 | H39: =IF(MID(G39,1,7)=$S$6,$T$4,"") | I39: =IF(MID(G39,1,7)=$S$6,$S$4,"") | K39: =IF(MONTH(K36)<>MONTH(K36+3),REPT("",100),K38+1) -> 43251 | L39: =(CALENDRIER!W34) -> 0
A40: 43862
A41: 43891 | B41: NOTES :
A42: 43922
A43: 43952
A44: 43983
A45: 44013
A46: 44044
A47: 44075
A48: 44105
A49: 44136
A50: 44166
A51: 44197
A52: 44228
A53: 44256
... A386: 54393
A389: SAISON 2017 - 2018
A390: SAISON 2018 - 2019
A391: SAISON 2019 - 2020
A392: SAISON 2020 - 2021
A393: SAISON 2021 - 2022
A394: SAISON 2022 - 2023
A395: SAISON 2023 - 2024
A396: SAISON 2024 - 2025
A397: SAISON 2025 - 2026
A398: SAISON 2026 - 2027
A399: SAISON 2027 - 2028
A400: SAISON 2028 - 2029
A401: SAISON 2029 - 2030
A403: =#REF! -> #REF!
A404: =#REF! -> #REF!
A405: =#REF! -> #REF!
A406: =#REF! -> #REF!
A407: =#REF! -> #REF!
A408: =#REF! -> #REF!
A409: =#REF! -> #REF!
A410: =#REF! -> #REF!
A411: =#REF! -> #REF!
A412: =#REF! -> #REF!
A413: =#REF! -> #REF!
A414: =#REF! -> #REF!
... A422: =#REF! -> #REF!
A423: 0.33333333
A424: 0.35416667
A425: 0.375
A426: 0.39583333
A427: 0.41666667
A428: 0.4375
A429: 0.45833333
A430: 0.47916667
A431: 0.5
A432: 0.52083333
A433: 0.54166667
A434: 0.5625
... A449: 0.875

Sheet Juin
A1: =(H21&"/ "&I21)
B2: =Août!B2 -> SAISON 2017 - 2018 | Q2: =(R2) -> 2018 | R2: =SUM(ANNÉE!B4) -> 2018 | S2: 0
B4: =DATE(YEAR(Mai!B4),MONTH(Mai!B4)+1,DAY(Mai!B4)) -> 43252 | R4: =DATE($R$2,6,1) -> 43252 | S4: Synthé Ouest | T4: 0.75
A6: Synthé Ouest | M6: =NOW() -> 42926.797 | S6: CRÉTEIL
A7: Synthé Est | B7: DATES | C7: ENTRAINEMENT | G7: MATCH | H7: HEURES | I7: TERRAIN | L7: MATCH | M7: HEURES | N7: TERRAIN
A8: Honneur | C8: MATIN | D8: SOIR | G8: CHAMPIONNAT / COUPE | L8: AMICAL
A9: 42917 | B9: =$R$4 -> 43252 | D9: 0.77083333 | F9: =$R$4 -> 43252 | G9: =(CALENDRIER!X4) -> 0 | H9: =IF(MID(G9,1,7)=$S$6,$T$4,"") | I9: =IF(MID(G9,1,7)=$S$6,$S$4,"") | K9: =$R$4 -> 43252 | L9: =(CALENDRIER!Y4) -> 0
A10: 42948 | B10: =DATE(YEAR(B9),MONTH(B9),2) -> 43253 | F10: =DATE(YEAR(F9),MONTH(F9),2) -> 43253 | G10: =(CALENDRIER!X5) -> 0 | H10: =IF(MID(G10,1,7)=$S$6,$T$4,"") | I10: =IF(MID(G10,1,7)=$S$6,$S$4,"") | K10: =DATE(YEAR(K9),MONTH(K9),2) -> 43253 | L10: =(CALENDRIER!Y5) -> 0
A11: 42979 | B11: =B10+1 -> 43254 | F11: =F10+1 -> 43254 | G11: =(CALENDRIER!X6) -> 0 | H11: =IF(MID(G11,1,7)=$S$6,$T$4,"") | I11: =IF(MID(G11,1,7)=$S$6,$S$4,"") | K11: =K10+1 -> 43254 | L11: =(CALENDRIER!Y6) -> 0
A12: 43009 | B12: =B11+1 -> 43255 | D12: 0.8125 | F12: =F11+1 -> 43255 | G12: =(CALENDRIER!X7) -> 0 | H12: =IF(MID(G12,1,7)=$S$6,$T$4,"") | I12: =IF(MID(G12,1,7)=$S$6,$S$4,"") | K12: =K11+1 -> 43255 | L12: =(CALENDRIER!Y7) -> 0
A13: 43040 | B13: =B12+1 -> 43256 | D13: 0.8125 | F13: =F12+1 -> 43256 | G13: =(CALENDRIER!X8) -> 0 | H13: =IF(MID(G13,1,7)=$S$6,$T$4,"") | I13: =IF(MID(G13,1,7)=$S$6,$S$4,"") | K13: =K12+1 -> 43256 | L13: =(CALENDRIER!Y8) -> 0
A14: 43070 | B14: =B13+1 -> 43257 | D14: 0.85416667 | F14: =F13+1 -> 43257 | G14: =(CALENDRIER!X9) -> 0 | H14: =IF(MID(G14,1,7)=$S$6,$T$4,"") | I14: =IF(MID(G14,1,7)=$S$6,$S$4,"") | K14: =K13+1 -> 43257 | L14: =(CALENDRIER!Y9) -> 0
A15: 43101 | B15: =B14+1 -> 43258 | F15: =F14+1 -> 43258 | G15: =(CALENDRIER!X10) -> 0 | H15: =IF(MID(G15,1,7)=$S$6,$T$4,"") | I15: =IF(MID(G15,1,7)=$S$6,$S$4,"") | K15: =K14+1 -> 43258 | L15: =(CALENDRIER!Y10) -> 0
A16: 43132 | B16: =B15+1 -> 43259 | D16: 0.77083333 | F16: =F15+1 -> 43259 | G16: =(CALENDRIER!X11) -> 0 | H16: =IF(MID(G16,1,7)=$S$6,$T$4,"") | I16: =IF(MID(G16,1,7)=$S$6,$S$4,"") | K16: =K15+1 -> 43259 | L16: =(CALENDRIER!Y11) -> 0
A17: 43160 | B17: =B16+1 -> 43260 | F17: =F16+1 -> 43260 | G17: =(CALENDRIER!X12) -> 0 | H17: =IF(MID(G17,1,7)=$S$6,$T$4,"") | I17: =IF(MID(G17,1,7)=$S$6,$S$4,"") | K17: =K16+1 -> 43260 | L17: =(CALENDRIER!Y12) -> 0
A18: 43191 | B18: =B17+1 -> 43261 | F18: =F17+1 -> 43261 | G18: =(CALENDRIER!X13) -> 0 | H18: =IF(MID(G18,1,7)=$S$6,$T$4,"") | I18: =IF(MID(G18,1,7)=$S$6,$S$4,"") | K18: =K17+1 -> 43261 | L18: =(CALENDRIER!Y13) -> 0
A19: 43221 | B19: =B18+1 -> 43262 | D19: 0.8125 | F19: =F18+1 -> 43262 | G19: =(CALENDRIER!X14) -> 0 | H19: =IF(MID(G19,1,7)=$S$6,$T$4,"") | I19: =IF(MID(G19,1,7)=$S$6,$S$4,"") | K19: =K18+1 -> 43262 | L19: =(CALENDRIER!Y14) -> 0
A20: 43252 | B20: =B19+1 -> 43263 | D20: 0.8125 | F20: =F19+1 -> 43263 | G20: =(CALENDRIER!X15) -> 0 | H20: =IF(MID(G20,1,7)=$S$6,$T$4,"") | I20: =IF(MID(G20,1,7)=$S$6,$S$4,"") | K20: =K19+1 -> 43263 | L20: =(CALENDRIER!Y15) -> 0
A21: 43282 | B21: =B20+1 -> 43264 | D21: 0.85416667 | F21: =F20+1 -> 43264 | G21: =(CALENDRIER!X16) -> 0 | H21: =IF(MID(G21,1,7)=$S$6,$T$4,"") | I21: =IF(MID(G21,1,7)=$S$6,$S$4,"") | K21: =K20+1 -> 43264 | L21: =(CALENDRIER!Y16) -> 0
A22: 43313 | B22: =B21+1 -> 43265 | F22: =F21+1 -> 43265 | G22: =(CALENDRIER!X17) -> 0 | H22: =IF(MID(G22,1,7)=$S$6,$T$4,"") | I22: =IF(MID(G22,1,7)=$S$6,$S$4,"") | K22: =K21+1 -> 43265 | L22: =(CALENDRIER!Y17) -> 0
A23: 43344 | B23: =B22+1 -> 43266 | D23: 0.77083333 | F23: =F22+1 -> 43266 | G23: =(CALENDRIER!X18) -> 0 | H23: =IF(MID(G23,1,7)=$S$6,$T$4,"") | I23: =IF(MID(G23,1,7)=$S$6,$S$4,"") | K23: =K22+1 -> 43266 | L23: =(CALENDRIER!Y18) -> 0
A24: 43374 | B24: =B23+1 -> 43267 | F24: =F23+1 -> 43267 | G24: =(CALENDRIER!X19) -> 0 | H24: =IF(MID(G24,1,7)=$S$6,$T$4,"") | I24: =IF(MID(G24,1,7)=$S$6,$S$4,"") | K24: =K23+1 -> 43267 | L24: =(CALENDRIER!Y19) -> 0
A25: 43405 | B25: =B24+1 -> 43268 | F25: =F24+1 -> 43268 | G25: =(CALENDRIER!X20) -> 0 | H25: =IF(MID(G25,1,7)=$S$6,$T$4,"") | I25: =IF(MID(G25,1,7)=$S$6,$S$4,"") | K25: =K24+1 -> 43268 | L25: =(CALENDRIER!Y20) -> 0
A26: 43435 | B26: =B25+1 -> 43269 | F26: =F25+1 -> 43269 | G26: =(CALENDRIER!X21) -> 0 | H26: =IF(MID(G26,1,7)=$S$6,$T$4,"") | I26: =IF(MID(G26,1,7)=$S$6,$S$4,"") | K26: =K25+1 -> 43269 | L26: =(CALENDRIER!Y21) -> 0
A27: 43466 | B27: =B26+1 -> 43270 | F27: =F26+1 -> 43270 | G27: =(CALENDRIER!X22) -> 0 | H27: =IF(MID(G27,1,7)=$S$6,$T$4,"") | I27: =IF(MID(G27,1,7)=$S$6,$S$4,"") | K27: =K26+1 -> 43270 | L27: =(CALENDRIER!Y22) -> 0
A28: 43497 | B28: =B27+1 -> 43271 | F28: =F27+1 -> 43271 | G28: =(CALENDRIER!X23) -> 0 | H28: =IF(MID(G28,1,7)=$S$6,$T$4,"") | I28: =IF(MID(G28,1,7)=$S$6,$S$4,"") | K28: =K27+1 -> 43271 | L28: =(CALENDRIER!Y23) -> 0
A29: 43525 | B29: =B28+1 -> 43272 | F29: =F28+1 -> 43272 | G29: =(CALENDRIER!X24) -> 0 | H29: =IF(MID(G29,1,7)=$S$6,$T$4,"") | I29: =IF(MID(G29,1,7)=$S$6,$S$4,"") | K29: =K28+1 -> 43272 | L29: =(CALENDRIER!Y24) -> 0
A30: 43556 | B30: =B29+1 -> 43273 | F30: =F29+1 -> 43273 | G30: =(CALENDRIER!X25) -> 0 | H30: =IF(MID(G30,1,7)=$S$6,$T$4,"") | I30: =IF(MID(G30,1,7)=$S$6,$S$4,"") | K30: =K29+1 -> 43273 | L30: =(CALENDRIER!Y25) -> 0
A31: 43586 | B31: =B30+1 -> 43274 | F31: =F30+1 -> 43274 | G31: =(CALENDRIER!X26) -> 0 | H31: =IF(MID(G31,1,7)=$S$6,$T$4,"") | I31: =IF(MID(G31,1,7)=$S$6,$S$4,"") | K31: =K30+1 -> 43274 | L31: =(CALENDRIER!Y26) -> 0
A32: 43617 | B32: =B31+1 -> 43275 | F32: =F31+1 -> 43275 | G32: =(CALENDRIER!X27) -> 0 | H32: =IF(MID(G32,1,7)=$S$6,$T$4,"") | I32: =IF(MID(G32,1,7)=$S$6,$S$4,"") | K32: =K31+1 -> 43275 | L32: =(CALENDRIER!Y27) -> 0
A33: 43647 | B33: =B32+1 -> 43276 | F33: =F32+1 -> 43276 | G33: =(CALENDRIER!X28) -> 0 | H33: =IF(MID(G33,1,7)=$S$6,$T$4,"") | I33: =IF(MID(G33,1,7)=$S$6,$S$4,"") | K33: =K32+1 -> 43276 | L33: =(CALENDRIER!Y28) -> 0
A34: 43678 | B34: =B33+1 -> 43277 | F34: =F33+1 -> 43277 | G34: =(CALENDRIER!X29) -> 0 | H34: =IF(MID(G34,1,7)=$S$6,$T$4,"") | I34: =IF(MID(G34,1,7)=$S$6,$S$4,"") | K34: =K33+1 -> 43277 | L34: =(CALENDRIER!Y29) -> 0
A35: 43709 | B35: =B34+1 -> 43278 | F35: =F34+1 -> 43278 | G35: =(CALENDRIER!X30) -> 0 | H35: =IF(MID(G35,1,7)=$S$6,$T$4,"") | I35: =IF(MID(G35,1,7)=$S$6,$S$4,"") | K35: =K34+1 -> 43278 | L35: =(CALENDRIER!Y30) -> 0
A36: 43739 | B36: =B35+1 -> 43279 | F36: =F35+1 -> 43279 | G36: =(CALENDRIER!X31) -> 0 | H36: =IF(MID(G36,1,7)=$S$6,$T$4,"") | I36: =IF(MID(G36,1,7)=$S$6,$S$4,"") | K36: =K35+1 -> 43279 | L36: =(CALENDRIER!Y31) -> 0
A37: 43770 | B37: =IF(OR(MONTH(B36)<>MONTH(B36+1),$B$4=59),REPT("",100),B36+1) -> 43280 | F37: =IF(OR(MONTH(F36)<>MONTH(F36+1),$B$4=59),REPT("",100),F36+1) -> 43280 | G37: =(CALENDRIER!X32) -> 0 | H37: =IF(MID(G37,1,7)=$S$6,$T$4,"") | I37: =IF(MID(G37,1,7)=$S$6,$S$4,"") | K37: =IF(OR(MONTH(K36)<>MONTH(K36+1),$B$4=59),REPT("",100),K36+1) -> 43280 | L37: =(CALENDRIER!Y32) -> 0
A38: 43800 | B38: =IF(MONTH(B36)<>MONTH(B36+2),REPT("",100),B37+1) -> 43281 | F38: =IF(MONTH(F36)<>MONTH(F36+2),REPT("",100),F37+1) -> 43281 | G38: =(CALENDRIER!X33) -> 0 | H38: =IF(MID(G38,1,7)=$S$6,$T$4,"") | I38: =IF(MID(G38,1,7)=$S$6,$S$4,"") | K38: =IF(MONTH(K36)<>MONTH(K36+2),REPT("",100),K37+1) -> 43281 | L38: =(CALENDRIER!Y33) -> 0
A39: 43831 | B39: =IF(MONTH(B36)<>MONTH(B36+3),REPT("",100),B38+1) | F39: =IF(MONTH(F36)<>MONTH(F36+3),REPT("",100),F38+1) | G39: =(CALENDRIER!D34) -> 0 | H39: =IF(MID(G39,1,7)=$S$6,$T$4,"") | I39: =IF(MID(G39,1,7)=$S$6,$S$4,"") | K39: =IF(MONTH(K36)<>MONTH(K36+3),REPT("",100),K38+1)
A40: 43862
A41: 43891 | B41: NOTES :
A42: 43922
A43: 43952
A44: 43983
A45: 44013
A46: 44044
A47: 44075
A48: 44105
A49: 44136
A50: 44166
A51: 44197
A52: 44228
A53: 44256
... A386: 54393
A389: SAISON 2017 - 2018
A390: SAISON 2018 - 2019
A391: SAISON 2019 - 2020
A392: SAISON 2020 - 2021
A393: SAISON 2021 - 2022
A394: SAISON 2022 - 2023
A395: SAISON 2023 - 2024
A396: SAISON 2024 - 2025
A397: SAISON 2025 - 2026
A398: SAISON 2026 - 2027
A399: SAISON 2027 - 2028
A400: SAISON 2028 - 2029
A401: SAISON 2029 - 2030
A403: =#REF! -> #REF!
A404: =#REF! -> #REF!
A405: =#REF! -> #REF!
A406: =#REF! -> #REF!
A407: =#REF! -> #REF!
A408: =#REF! -> #REF!
A409: =#REF! -> #REF!
A410: =#REF! -> #REF!
A411: =#REF! -> #REF!
A412: =#REF! -> #REF!
A413: =#REF! -> #REF!
A414: =#REF! -> #REF!
... A422: =#REF! -> #REF!
A423: 0.33333333
A424: 0.35416667
A425: 0.375
A426: 0.39583333
A427: 0.41666667
A428: 0.4375
A429: 0.45833333
A430: 0.47916667
A431: 0.5
A432: 0.52083333
A433: 0.54166667
A434: 0.5625
... A449: 0.875

Sheet CALENDRIER
B2: =Juillet!B4 -> 42917 | C2: =Juillet!B4 -> 42917 | D2: =DATE(YEAR(Juillet!B4),MONTH(Juillet!B4)+1,DAY(Juillet!B4)) -> 42948 | F2: =DATE(YEAR(Août!B4),MONTH(Août!B4)+1,DAY(Août!B4)) -> 42979 | H2: =EDATE($B$2,INT(COLUMN()/2)-1) -> 43009 | J2: =EDATE($B$2,INT(COLUMN()/2)-1) -> 43040 | L2: =EDATE($B$2,INT(COLUMN()/2)-1) -> 43070 | N2: =EDATE($B$2,INT(COLUMN()/2)-1) -> 43101 | P2: =EDATE($B$2,INT(COLUMN()/2)-1) -> 43132 | R2: =EDATE($B$2,INT(COLUMN()/2)-1) -> 43160 | T2: =EDATE($B$2,INT(COLUMN()/2)-1) -> 43191 | V2: =EDATE($B$2,INT(COLUMN()/2)-1) -> 43221 | X2: =EDATE($B$2,INT(COLUMN()/2)-1) -> 43252
B3: CHAMPIONNAT / COUPE | C3: MATCH AMICAL | D3: CHAMPIONNAT / COUPE | E3: MATCH AMICAL | F3: CHAMPIONNAT / COUPE | G3: MATCH AMICAL | H3: CHAMPIONNAT / COUPE | I3: MATCH AMICAL | J3: CHAMPIONNAT / COUPE | K3: MATCH AMICAL | L3: CHAMPIONNAT / COUPE | M3: MATCH AMICAL | N3: CHAMPIONNAT / COUPE | O3: MATCH AMICAL | P3: CHAMPIONNAT / COUPE | Q3: MATCH AMICAL | R3: CHAMPIONNAT / COUPE | S3: MATCH AMICAL | T3: CHAMPIONNAT / COUPE | U3: MATCH AMICAL | V3: CHAMPIONNAT / COUPE | W3: MATCH AMICAL | X3: CHAMPIONNAT / COUPE | Y3: MATCH AMICAL
A4: 1
A5: 2 | F5: MATCH | L5: MATCH
A6: 3
A7: 4 | J7: MATCH
A8: 5
A9: 6
A10: 7 | H10: MATCH
A11: 8
A12: 9 | F12: MATCH
A13: 10
A14: 11 | J14: MATCH
A15: 12
A16: 13
A17: 14 | H17: MATCH
A18: 15
A19: 16 | F19: MATCH
A20: 17
A21: 18 | J21: MATCH
A22: 19 | D22: MATCH
A23: 20
A24: 21 | H24: MATCH
A25: 22 | C25: MATCH OPPOSITION
A26: 23 | F26: MATCH
A27: 24
A28: 25 | J28: MATCH
A29: 26 | D29: MATCH
A30: 27
A31: 28 | H31: MATCH
A32: 29
A33: 30 | F33: MATCH
A34: 31

Sheet vacances scolaires
B1: ZONE C | G1: C
B2: =(ANNÉE!B2&" / "&ANNÉE!B4) -> 2017 / 2018
A3: Auteur M. Esposito Didier | B3: Début des Vacances | C3: Reprise des Cours | E3: V_min | F3: =MIN(B:C) -> 42923
A4: ="vacances d'été "&CHAR(10)&TEXT(B4+7,"""(""mmm aaaa""-""")&TEXT(C4+7,"mmm aaaa"")""") -> vacances d'été (juil 2017-sept 2017) | B4: 42923 | C4: =B4+58 -> 42981 | E4: V_Max | F4: =MAX(B:C) -> 43346 | H4: 1 | I4: AUCUNE
A5: ="Vacances de la Toussaint "&CHAR(10)&TEXT(B5,"""(""mmmm aaaa"")""") -> Vacances de la Toussaint (octobre 2017) | B5: 43029 | C5: =B5+16 -> 43045 | H5: 2
A6: ="Vacances de Noël "&CHAR(10)&TEXT(B6,"""(""mmmm aaaa"")""") -> Vacances de Noël (décembre 2017) | B6: 43092 | C6: =B6+16 -> 43108 | H6: 3
A7: ="Vacances d'hiver "&CHAR(10)&TEXT(B7,"""(""mmmm aaaa"")""") -> Vacances d'hiver (février 2018) | B7: 43148 | C7: =B7+16 -> 43164 | H7: 4 | I7: =C1 -> 0
A8: ="Vacances de printemps "&CHAR(10)&TEXT(B8,"""(""mmmm aaaa"")""") -> Vacances de printemps (avril 2018) | B8: 43204 | C8: =B8+16 -> 43220 | H8: 5 | I8: TOUTES ZONES
A9: ="vacances d'été "&CHAR(10)&TEXT(B9+7,"""(""mmm aaaa""-""")&TEXT(C9+7,"mmm aaaa"")""") -> vacances d'été (juil 2018-sept 2018) | B9: 43288 | C9: =B9+58 -> 43346
E10: =MIN(B4:C9) -> 42923 | G10: =IF(OR(AND(d>V_1 C_1,d<V_1 C_2),AND(d>V_2 C_1,d<V_2 C_2),AND(d>V_3 C_1,d<V_3 C_2),AND(d>V_4 C_1,d<V_4 C_2),AND(d>V_5 C_1,d<V_5 C_2),AND(d>V_6 C_1,d<V_6 C_2)),d,0) -> 0
E11: =E10+1 -> 42924 | G11: =IF(OR(AND(d>V_1 C_1,d<V_1 C_2),AND(d>V_2 C_1,d<V_2 C_2),AND(d>V_3 C_1,d<V_3 C_2),AND(d>V_4 C_1,d<V_4 C_2),AND(d>V_5 C_1,d<V_5 C_2),AND(d>V_6 C_1,d<V_6 C_2)),d,0) -> 42924
E12: =E11+1 -> 42925 | G12: =IF(OR(AND(d>V_1 C_1,d<V_1 C_2),AND(d>V_2 C_1,d<V_2 C_2),AND(d>V_3 C_1,d<V_3 C_2),AND(d>V_4 C_1,d<V_4 C_2),AND(d>V_5 C_1,d<V_5 C_2),AND(d>V_6 C_1,d<V_6 C_2)),d,0) -> 42925
A13: A | E13: =E12+1 -> 42926 | G13: =IF(OR(AND(d>V_1 C_1,d<V_1 C_2),AND(d>V_2 C_1,d<V_2 C_2),AND(d>V_3 C_1,d<V_3 C_2),AND(d>V_4 C_1,d<V_4 C_2),AND(d>V_5 C_1,d<V_5 C_2),AND(d>V_6 C_1,d<V_6 C_2)),d,0) -> 42926
A14: B | E14: =E13+1 -> 42927 | G14: =IF(OR(AND(d>V_1 C_1,d<V_1 C_2),AND(d>V_2 C_1,d<V_2 C_2),AND(d>V_3 C_1,d<V_3 C_2),AND(d>V_4 C_1,d<V_4 C_2),AND(d>V_5 C_1,d<V_5 C_2),AND(d>V_6 C_1,d<V_6 C_2)),d,0) -> 42927
A15: C | E15: =E14+1 -> 42928 | G15: =IF(OR(AND(d>V_1 C_1,d<V_1 C_2),AND(d>V_2 C_1,d<V_2 C_2),AND(d>V_3 C_1,d<V_3 C_2),AND(d>V_4 C_1,d<V_4 C_2),AND(d>V_5 C_1,d<V_5 C_2),AND(d>V_6 C_1,d<V_6 C_2)),d,0) -> 42928
A16: A.B.C | E16: =E15+1 -> 42929 | G16: =IF(OR(AND(d>V_1 C_1,d<V_1 C_2),AND(d>V_2 C_1,d<V_2 C_2),AND(d>V_3 C_1,d<V_3 C_2),AND(d>V_4 C_1,d<V_4 C_2),AND(d>V_5 C_1,d<V_5 C_2),AND(d>V_6 C_1,d<V_6 C_2)),d,0) -> 42929
A17: sans_vacances | E17: =E16+1 -> 42930 | G17: =IF(OR(AND(d>V_1 C_1,d<V_1 C_2),AND(d>V_2 C_1,d<V_2 C_2),AND(d>V_3 C_1,d<V_3 C_2),AND(d>V_4 C_1,d<V_4 C_2),AND(d>V_5 C_1,d<V_5 C_2),AND(d>V_6 C_1,d<V_6 C_2)),d,0) -> 42930
E18: =E17+1 -> 42931 | G18: =IF(OR(AND(d>V_1 C_1,d<V_1 C_2),AND(d>V_2 C_1,d<V_2 C_2),AND(d>V_3 C_1,d<V_3 C_2),AND(d>V_4 C_1,d<V_4 C_2),AND(d>V_5 C_1,d<V_5 C_2),AND(d>V_6 C_1,d<V_6 C_2)),d,0) -> 42931
E19: =E18+1 -> 42932 | G19: =IF(OR(AND(d>V_1 C_1,d<V_1 C_2),AND(d>V_2 C_1,d<V_2 C_2),AND(d>V_3 C_1,d<V_3 C_2),AND(d>V_4 C_1,d<V_4 C_2),AND(d>V_5 C_1,d<V_5 C_2),AND(d>V_6 C_1,d<V_6 C_2)),d,0) -> 42932
E20: =E19+1 -> 42933 | G20: =IF(OR(AND(d>V_1 C_1,d<V_1 C_2),AND(d>V_2 C_1,d<V_2 C_2),AND(d>V_3 C_1,d<V_3 C_2),AND(d>V_4 C_1,d<V_4 C_2),AND(d>V_5 C_1,d<V_5 C_2),AND(d>V_6 C_1,d<V_6 C_2)),d,0) -> 42933
E21: =E20+1 -> 42934 | G21: =IF(OR(AND(d>V_1 C_1,d<V_1 C_2),AND(d>V_2 C_1,d<V_2 C_2),AND(d>V_3 C_1,d<V_3 C_2),AND(d>V_4 C_1,d<V_4 C_2),AND(d>V_5 C_1,d<V_5 C_2),AND(d>V_6 C_1,d<V_6 C_2)),d,0) -> 42934
E22: =E21+1 -> 42935 | G22: =IF(OR(AND(d>V_1 C_1,d<V_1 C_2),AND(d>V_2 C_1,d<V_2 C_2),AND(d>V_3 C_1,d<V_3 C_2),AND(d>V_4 C_1,d<V_4 C_2),AND(d>V_5 C_1,d<V_5 C_2),AND(d>V_6 C_1,d<V_6 C_2)),d,0) -> 42935
E23: =E22+1 -> 42936 | G23: =IF(OR(AND(d>V_1 C_1,d<V_1 C_2),AND(d>V_2 C_1,d<V_2 C_2),AND(d>V_3 C_1,d<V_3 C_2),AND(d>V_4 C_1,d<V_4 C_2),AND(d>V_5 C_1,d<V_5 C_2),AND(d>V_6 C_1,d<V_6 C_2)),d,0) -> 42936
E24: =E23+1 -> 42937 | G24: =IF(OR(AND(d>V_1 C_1,d<V_1 C_2),AND(d>V_2 C_1,d<V_2 C_2),AND(d>V_3 C_1,d<V_3 C_2),AND(d>V_4 C_1,d<V_4 C_2),AND(d>V_5 C_1,d<V_5 C_2),AND(d>V_6 C_1,d<V_6 C_2)),d,0) -> 42937
E25: =E24+1 -> 42938 | G25: =IF(OR(AND(d>V_1 C_1,d<V_1 C_2),AND(d>V_2 C_1,d<V_2 C_2),AND(d>V_3 C_1,d<V_3 C_2),AND(d>V_4 C_1,d<V_4 C_2),AND(d>V_5 C_1,d<V_5 C_2),AND(d>V_6 C_1,d<V_6 C_2)),d,0) -> 42938
E26: =E25+1 -> 42939 | G26: =IF(OR(AND(d>V_1 C_1,d<V_1 C_2),AND(d>V_2 C_1,d<V_2 C_2),AND(d>V_3 C_1,d<V_3 C_2),AND(d>V_4 C_1,d<V_4 C_2),AND(d>V_5 C_1,d<V_5 C_2),AND(d>V_6 C_1,d<V_6 C_2)),d,0) -> 42939
E27: =E26+1 -> 42940 | G27: =IF(OR(AND(d>V_1 C_1,d<V_1 C_2),AND(d>V_2 C_1,d<V_2 C_2),AND(d>V_3 C_1,d<V_3 C_2),AND(d>V_4 C_1,d<V_4 C_2),AND(d>V_5 C_1,d<V_5 C_2),AND(d>V_6 C_1,d<V_6 C_2)),d,0) -> 42940
E28: =E27+1 -> 42941 | G28: =IF(OR(AND(d>V_1 C_1,d<V_1 C_2),AND(d>V_2 C_1,d<V_2 C_2),AND(d>V_3 C_1,d<V_3 C_2),AND(d>V_4 C_1,d<V_4 C_2),AND(d>V_5 C_1,d<V_5 C_2),AND(d>V_6 C_1,d<V_6 C_2)),d,0) -> 42941
E29: =E28+1 -> 42942 | G29: =IF(OR(AND(d>V_1 C_1,d<V_1 C_2),AND(d>V_2 C_1,d<V_2 C_2),AND(d>V_3 C_1,d<V_3 C_2),AND(d>V_4 C_1,d<V_4 C_2),AND(d>V_5 C_1,d<V_5 C_2),AND(d>V_6 C_1,d<V_6 C_2)),d,0) -> 42942
... E383: =E382+1 -> 43296 | G383: =IF(OR(AND(d>V_1 C_1,d<V_1 C_2),AND(d>V_2 C_1,d<V_2 C_2),AND(d>V_3 C_1,d<V_3 C_2),AND(d>V_4 C_1,d<V_4 C_2),AND(d>V_5 C_1,d<V_5 C_2),AND(d>V_6 C_1,d<V_6 C_2)),d,0) -> 43296
E384: =E383+1 -> 43297 | G384: =IF(OR(AND(d>V_1 C_1,d<V_1 C_2),AND(d>V_2 C_1,d<V_2 C_2),AND(d>V_3 C_1,d<V_3 C_2),AND(d>V_4 C_1,d<V_4 C_2),AND(d>V_5 C_1,d<V_5 C_2),AND(d>V_6 C_1,d<V_6 C_2)),d,0) -> 43297 | H384: <- à dupliquer ci-dessous
E385: =E384+1 -> 43298 | G385: =IF(OR(AND(d>V_1 C_1,d<V_1 C_2),AND(d>V_2 C_1,d<V_2 C_2),AND(d>V_3 C_1,d<V_3 C_2),AND(d>V_4 C_1,d<V_4 C_2),AND(d>V_5 C_1,d<V_5 C_2),AND(d>V_6 C_1,d<V_6 C_2)),d,0) -> 43298
E386: =E385+1 -> 43299 | G386: =IF(OR(AND(d>V_1 C_1,d<V_1 C_2),AND(d>V_2 C_1,d<V_2 C_2),AND(d>V_3 C_1,d<V_3 C_2),AND(d>V_4 C_1,d<V_4 C_2),AND(d>V_5 C_1,d<V_5 C_2),AND(d>V_6 C_1,d<V_6 C_2)),d,0) -> 43299
E387: =E386+1 -> 43300 | G387: =IF(OR(AND(d>V_1 C_1,d<V_1 C_2),AND(d>V_2 C_1,d<V_2 C_2),AND(d>V_3 C_1,d<V_3 C_2),AND(d>V_4 C_1,d<V_4 C_2),AND(d>V_5 C_1,d<V_5 C_2),AND(d>V_6 C_1,d<V_6 C_2)),d,0) -> 43300
E388: =E387+1 -> 43301 | G388: =IF(OR(AND(d>V_1 C_1,d<V_1 C_2),AND(d>V_2 C_1,d<V_2 C_2),AND(d>V_3 C_1,d<V_3 C_2),AND(d>V_4 C_1,d<V_4 C_2),AND(d>V_5 C_1,d<V_5 C_2),AND(d>V_6 C_1,d<V_6 C_2)),d,0) -> 43301
E389: =E388+1 -> 43302 | G389: =IF(OR(AND(d>V_1 C_1,d<V_1 C_2),AND(d>V_2 C_1,d<V_2 C_2),AND(d>V_3 C_1,d<V_3 C_2),AND(d>V_4 C_1,d<V_4 C_2),AND(d>V_5 C_1,d<V_5 C_2),AND(d>V_6 C_1,d<V_6 C_2)),d,0) -> 43302
E390: =E389+1 -> 43303 | G390: =IF(OR(AND(d>V_1 C_1,d<V_1 C_2),AND(d>V_2 C_1,d<V_2 C_2),AND(d>V_3 C_1,d<V_3 C_2),AND(d>V_4 C_1,d<V_4 C_2),AND(d>V_5 C_1,d<V_5 C_2),AND(d>V_6 C_1,d<V_6 C_2)),d,0) -> 43303
E391: =E390+1 -> 43304 | G391: =IF(OR(AND(d>V_1 C_1,d<V_1 C_2),AND(d>V_2 C_1,d<V_2 C_2),AND(d>V_3 C_1,d<V_3 C_2),AND(d>V_4 C_1,d<V_4 C_2),AND(d>V_5 C_1,d<V_5 C_2),AND(d>V_6 C_1,d<V_6 C_2)),d,0) -> 43304
E392: =E391+1 -> 43305 | G392: =IF(OR(AND(d>V_1 C_1,d<V_1 C_2),AND(d>V_2 C_1,d<V_2 C_2),AND(d>V_3 C_1,d<V_3 C_2),AND(d>V_4 C_1,d<V_4 C_2),AND(d>V_5 C_1,d<V_5 C_2),AND(d>V_6 C_1,d<V_6 C_2)),d,0) -> 43305
E393: =E392+1 -> 43306 | G393: =IF(OR(AND(d>V_1 C_1,d<V_1 C_2),AND(d>V_2 C_1,d<V_2 C_2),AND(d>V_3 C_1,d<V_3 C_2),AND(d>V_4 C_1,d<V_4 C_2),AND(d>V_5 C_1,d<V_5 C_2),AND(d>V_6 C_1,d<V_6 C_2)),d,0) -> 43306
E394: =E393+1 -> 43307 | G394: =IF(OR(AND(d>V_1 C_1,d<V_1 C_2),AND(d>V_2 C_1,d<V_2 C_2),AND(d>V_3 C_1,d<V_3 C_2),AND(d>V_4 C_1,d<V_4 C_2),AND(d>V_5 C_1,d<V_5 C_2),AND(d>V_6 C_1,d<V_6 C_2)),d,0) -> 43307
E395: =E394+1 -> 43308 | G395: =IF(OR(AND(d>V_1 C_1,d<V_1 C_2),AND(d>V_2 C_1,d<V_2 C_2),AND(d>V_3 C_1,d<V_3 C_2),AND(d>V_4 C_1,d<V_4 C_2),AND(d>V_5 C_1,d<V_5 C_2),AND(d>V_6 C_1,d<V_6 C_2)),d,0) -> 43308
E396: =E395+1 -> 43309 | G396: =IF(OR(AND(d>V_1 C_1,d<V_1 C_2),AND(d>V_2 C_1,d<V_2 C_2),AND(d>V_3 C_1,d<V_3 C_2),AND(d>V_4 C_1,d<V_4 C_2),AND(d>V_5 C_1,d<V_5 C_2),AND(d>V_6 C_1,d<V_6 C_2)),d,0) -> 43309
... E440: =E439+1 -> 43353 | G440: =IF(OR(AND(d>V_1 C_1,d<V_1 C_2),AND(d>V_2 C_1,d<V_2 C_2),AND(d>V_3 C_1,d<V_3 C_2),AND(d>V_4 C_1,d<V_4 C_2),AND(d>V_5 C_1,d<V_5 C_2),AND(d>V_6 C_1,d<V_6 C_2)),d,0) -> 0

Sheet Jours Fériés
B2: Janvier | D2: ANNÉE | E2: =(ANNÉE!B2&" / "&ANNÉE!B4) -> 2017 / 2018 | F2: =ANNÉE!B4 -> 2018
B3: Février | D3: Noël | E3: =DATE($F$2-1,12,25) -> 43094
B4: Mars | D4: Jour de l'an | E4: =DATE($F$2,1,1) -> 43101
B5: Avril | D5: Lundi de Pâques | E5: =DATE($F$2,3,29.56+0.979*MOD(204-11*MOD($F$2,19),30)- WEEKDAY(DATE($F$2,3,28.56+0.979*MOD(204-11*MOD($F$2,19),30))))+1 -> 43192
B6: Mai | D6: Fête du travail | E6: =DATE($F$2,5,1) -> 43221
B7: Juin | D7: Victoire 45 | E7: =DATE($F$2,5,8) -> 43228
B8: Juillet | D8: Ascension | E8: =$E$5+38 -> 43230
B9: Août | D9: Lundi de Pentecôte | E9: =$E$5+49 -> 43241
B10: Septembre | D10: Fête nationale | E10: =DATE($F$2,7,14) -> 43295
B11: Octobre | D11: Assomption | E11: =DATE($F$2,8,15) -> 43327
B12: Novembre | D12: Toussaint | E12: =DATE($F$2,11,1) -> 43405
B13: Décembre | D13: Armistice 14-18 | E13: =DATE($F$2,11,11) -> 43415
D14: Noël | E14: =DATE($F$2,12,25) -> 43459
D15: Jour de l'an | E15: =DATE($F$2+1,1,1) -> 43466
D18: https://www.calendrier-365.fr/jours-feries/2018.html

Sheet Feuil1
A2: AUBERVILLIERS
A3: BLANC MESNIL
A4: BOBIGNY
A5: GOBELINS
A6: IVRY
A7: LES LILAS
A8: LES MUREAUX
A9: LES ULIS
A10: NOISY
A11: PARIS FC
A12: RACING COLOMBES
A13: SÉNART-MOISSY
A14: VERSAILLES
