Workbook
Name C_1: 'vacances scolaires'!$B$1:$B$65536
Name C_2: 'vacances scolaires'!$C$1:$C$65536
Name choix_zone: 'vacances scolaires'!$F$1
Name d: 'vacances scolaires'!$E$1:$E$65536
Name Fériés: 'Jours Fériés'!$E$3:$E$15
Name liste_Zones: '[1]vacances scolaires'!$Q$4:$Q$8
Name période: 'vacances scolaires'!$A$12
Name V_1: 'vacances scolaires'!$A$4:$IN$4
Name V_2: 'vacances scolaires'!$A$5:$IN$5
Name V_3: 'vacances scolaires'!$A$6:$IN$6
Name V_4: 'vacances scolaires'!$A$7:$IN$7
Name V_5: 'vacances scolaires'!$A$8:$IN$8
Name V_6: 'vacances scolaires'!$A$9:$IN$9
Name Z: 'vacances scolaires'!$G$11:$G$440

Sheet ANNÉE
B2: 2017
B4: =SUM(B2+1) -> 2018

Sheet Juillet
A1: =(H21&"/ "&I21)
B2: SAISON 2017 - 2018 | S2: 0
B4: 42917 | S4: Synthé Ouest | T4: 0.75
A6: Synthé Ouest | M6: =NOW() -> 42926.797 | S6: CRÉTEIL
A7: Synthé Est | B7: DATES | C7: ENTRAINEMENT | G7: MATCH | H7: HEURES | I7: TERRAIN | L7: MATCH | M7: HEURES | N7: TERRAIN
A8: Honneur | C8: MATIN | D8: SOIR | G8: CHAMPIONNAT | L8: AMICAL | U8: =ANNÉE!B2 -> 2017 | V8: =SUM(U8+1) -> 2018 | W8: =(U8)&" - "&(V8) -> 2017 - 2018
A9: 42917 | B9: =$B$4 -> 42917 | F9: =B4 -> 42917 | K9: =B4 -> 42917 | L9: =CALENDRIER!C4 -> 0 | M9: =IF(MID(L9,1,7)=$S$6,$T$4,"") | N9: =IF(MID(L9,1,7)="CRÉTEIL",$S$4,"")
A10: 42948 | B10: =DATE(YEAR(B9),MONTH(B9),2) -> 42918 | F10: =DATE(YEAR(B9),MONTH(B9),2) -> 42918 | K10: =DATE(YEAR(B9),MONTH(B9),2) -> 42918 | L10: =CALENDRIER!C5 -> 0 | M10: =IF(MID(L10,1,7)=$S$6,$T$4,"") | N10: =IF(MID(L10,1,7)="CRÉTEIL",$S$4,"")
A11: 42979 | B11: =B10+1 -> 42919 | F11: =F10+1 -> 42919 | K11: =K10+1 -> 42919 | L11: =CALENDRIER!C6 -> 0 | M11: =IF(MID(L11,1,7)=$S$6,$T$4,"") | N11: =IF(MID(L11,1,7)="CRÉTEIL",$S$4,"")
A12: 43009 | B12: =B11+1 -> 42920 | F12: =F11+1 -> 42920 | K12: =K11+1 -> 42920 | L12: =CALENDRIER!C7 -> 0 | M12: =IF(MID(L12,1,7)=$S$6,$T$4,"") | N12: =IF(MID(L12,1,7)="CRÉTEIL",$S$4,"")
A13: 43040 | B13: =B12+1 -> 42921 | F13: =F12+1 -> 42921 | K13: =K12+1 -> 42921 | L13: =CALENDRIER!C8 -> 0 | M13: =IF(MID(L13,1,7)=$S$6,$T$4,"") | N13: =IF(MID(L13,1,7)="CRÉTEIL",$S$4,"")
A14: 43070 | B14: =B13+1 -> 42922 | F14: =F13+1 -> 42922 | K14: =K13+1 -> 42922 | L14: =CALENDRIER!C9 -> 0 | M14: =IF(MID(L14,1,7)=$S$6,$T$4,"") | N14: =IF(MID(L14,1,7)="CRÉTEIL",$S$4,"")
A15: 43101 | B15: =B14+1 -> 42923 | F15: =F14+1 -> 42923 | K15: =K14+1 -> 42923 | L15: =CALENDRIER!C10 -> 0 | M15: =IF(MID(L15,1,7)=$S$6,$T$4,"") | N15: =IF(MID(L15,1,7)="CRÉTEIL",$S$4,"")
A16: 43132 | B16: =B15+1 -> 42924 | F16: =F15+1 -> 42924 | K16: =K15+1 -> 42924 | L16: =CALENDRIER!C11 -> 0 | M16: =IF(MID(L16,1,7)=$S$6,$T$4,"") | N16: =IF(MID(L16,1,7)="CRÉTEIL",$S$4,"")
A17: 43160 | B17: =B16+1 -> 42925 | F17: =F16+1 -> 42925 | K17: =K16+1 -> 42925 | L17: =CALENDRIER!C12 -> 0 | M17: =IF(MID(L17,1,7)=$S$6,$T$4,"") | N17: =IF(MID(L17,1,7)="CRÉTEIL",$S$4,"")
A18: 43191 | B18: =B17+1 -> 42926 | F18: =F17+1 -> 42926 | K18: =K17+1 -> 42926 | L18: =CALENDRIER!C13 -> 0 | M18: =IF(MID(L18,1,7)=$S$6,$T$4,"") | N18: =IF(MID(L18,1,7)="CRÉTEIL",$S$4,"")
A19: 43221 | B19: =B18+1 -> 42927 | F19: =F18+1 -> 42927 | K19: =K18+1 -> 42927 | L19: =CALENDRIER!C14 -> 0 | M19: =IF(MID(L19,1,7)=$S$6,$T$4,"") | N19: =IF(MID(L19,1,7)="CRÉTEIL",$S$4,"")
A20: 43252 | B20: =B19+1 -> 42928 | F20: =F19+1 -> 42928 | K20: =K19+1 -> 42928 | L20: =CALENDRIER!C15 -> 0 | M20: =IF(MID(L20,1,7)=$S$6,$T$4,"") | N20: =IF(MID(L20,1,7)="CRÉTEIL",$S$4,"")
A21: 43282 | B21: =B20+1 -> 42929 | F21: =F20+1 -> 42929 | K21: =K20+1 -> 42929 | L21: =CALENDRIER!C16 -> 0 | M21: =IF(MID(L21,1,7)=$S$6,$T$4,"") | N21: =IF(MID(L21,1,7)="CRÉTEIL",$S$4,"")
A22: 43313 | B22: =B21+1 -> 42930 | F22: =F21+1 -> 42930 | K22: =K21+1 -> 42930 | L22: =CALENDRIER!C17 -> 0 | M22: =IF(MID(L22,1,7)=$S$6,$T$4,"") | N22: =IF(MID(L22,1,7)="CRÉTEIL",$S$4,"")
... A24: 43374 | B24: =B23+1 -> 42932 | F24: =F23+1 -> 42932 | K24: =K23+1 -> 42932 | L24: =CALENDRIER!C19 -> 0 | M24: =IF(MID(L24,1,7)=$S$6,$T$4,"") | N24: =IF(MID(L24,1,7)="CRÉTEIL",$S$4,"")
A25: 43405 | B25: =B24+1 -> 42933 | C25: 0.41666667 | D25: 0.75 | F25: =F24+1 -> 42933 | K25: =K24+1 -> 42933 | L25: =CALENDRIER!C20 -> 0 | M25: =IF(MID(L25,1,7)=$S$6,$T$4,"") | N25: =IF(MID(L25,1,7)="CRÉTEIL",$S$4,"")
A26: 43435 | B26: =B25+1 -> 42934 | C26: 0.41666667 | D26: 0.75 | F26: =F25+1 -> 42934 | K26: =K25+1 -> 42934 | L26: =CALENDRIER!C21 -> 0 | M26: =IF(MID(L26,1,7)=$S$6,$T$4,"") | N26: =IF(MID(L26,1,7)="CRÉTEIL",$S$4,"")
A27: 43466 | B27: =B26+1 -> 42935 | C27: 0.41666667 | D27: 0.75 | F27: =F26+1 -> 42935 | K27: =K26+1 -> 42935 | L27: =CALENDRIER!C22 -> 0 | M27: =IF(MID(L27,1,7)=$S$6,$T$4,"") | N27: =IF(MID(L27,1,7)="CRÉTEIL",$S$4,"")
A28: 43497 | B28: =B27+1 -> 42936 | C28: 0.41666667 | D28: 0.75 | F28: =F27+1 -> 42936 | K28: =K27+1 -> 42936 | L28: =CALENDRIER!C23 -> 0 | M28: =IF(MID(L28,1,7)=$S$6,$T$4,"") | N28: =IF(MID(L28,1,7)="CRÉTEIL",$S$4,"")
A29: 43525 | B29: =B28+1 -> 42937 | C29: 0.41666667 | D29: 0.75 | F29: =F28+1 -> 42937 | K29: =K28+1 -> 42937 | L29: =CALENDRIER!C24 -> 0 | M29: =IF(MID(L29,1,7)=$S$6,$T$4,"") | N29: =IF(MID(L29,1,7)="CRÉTEIL",$S$4,"")
A30: 43556 | B30: =B29+1 -> 42938 | C30: 0.41666667 | F30: =F29+1 -> 42938 | K30: =K29+1 -> 42938 | L30: =CALENDRIER!C25 -> MATCH OPPOSITION | M30: 0.41666667 | N30: =IF(MID(L30,1,7)="CRÉTEIL",$S$4,"")
A31: 43586 | B31: =B30+1 -> 42939 | F31: =F30+1 -> 42939 | K31: =K30+1 -> 42939 | L31: =CALENDRIER!C26 -> 0 | M31: =IF(MID(L31,1,7)=$S$6,$T$4,"") | N31: =IF(MID(L31,1,7)="CRÉTEIL",$S$4,"")
A32: 43617 | B32: =B31+1 -> 42940 | C32: 0.41666667 | D32: 0.75 | F32: =F31+1 -> 42940 | K32: =K31+1 -> 42940 | L32: =CALENDRIER!C27 -> 0 | M32: =IF(MID(L32,1,7)=$S$6,$T$4,"") | N32: =IF(MID(L32,1,7)="CRÉTEIL",$S$4,"")
A33: 43647 | B33: =B32+1 -> 42941 | C33: 0.41666667 | D33: 0.75 | F33: =F32+1 -> 42941 | K33: =K32+1 -> 42941 | L33: =CALENDRIER!C28 -> 0 | M33: =IF(MID(L33,1,7)=$S$6,$T$4,"") | N33: =IF(MID(L33,1,7)="CRÉTEIL",$S$4,"")
A34: 43678 | B34: =B33+1 -> 42942 | F34: =F33+1 -> 42942 | K34: =K33+1 -> 42942 | L34: =CALENDRIER!C29 -> 0 | M34: 0.77083333 | N34: =IF(MID(L34,1,7)="CRÉTEIL",$S$4,"")
A35: 43709 | B35: =B34+1 -> 42943 | C35: 0.41666667 | D35: 0.75 | F35: =F34+1 -> 42943 | K35: =K34+1 -> 42943 | L35: =CALENDRIER!C30 -> 0 | M35: =IF(MID(L35,1,7)=$S$6,$T$4,"") | N35: =IF(MID(L35,1,7)="CRÉTEIL",$S$4,"")
A36: 43739 | B36: =B35+1 -> 42944 | C36: 0.41666667 | D36: 0.75 | F36: =F35+1 -> 42944 | K36: =K35+1 -> 42944 | L36: =CALENDRIER!C31 -> 0 | M36: =IF(MID(L36,1,7)=$S$6,$T$4,"") | N36: =IF(MID(L36,1,7)="CRÉTEIL",$S$4,"")
A37: 43770 | B37: =IF(OR(MONTH(B36)<>MONTH(B36+1),$B$4=59),REPT("",100),B36+1) -> 42945 | F37: =IF(OR(MONTH(B36)<>MONTH(B36+1),B4=59),REPT("",100),B36+1) -> 42945 | K37: =IF(OR(MONTH(B36)<>MONTH(B36+1),B4=59),REPT("",100),B36+1) -> 42945 | L37: =CALENDRIER!C32 -> 0 | M37: 0.4375 | N37: =IF(MID(L37,1,7)="CRÉTEIL",$S$4,"")
A38: 43800 | B38: =IF(MONTH(B36)<>MONTH(B36+2),REPT("",100),B37+1) -> 42946 | F38: =IF(MONTH(B36)<>MONTH(B36+2),REPT("",100),B37+1) -> 42946 | K38: =IF(MONTH(B36)<>MONTH(B36+2),REPT("",100),B37+1) -> 42946 | L38: =CALENDRIER!C33 -> 0 | M38: =IF(MID(L38,1,7)=$S$6,$T$4,"") | N38: =IF(MID(L38,1,7)="CRÉTEIL",$S$4,"")
A39: 43831 | B39: =IF(MONTH(B36)<>MONTH(B36+3),REPT("",100),B38+1) -> 42947 | C39: 0.41666667 | D39: 0.75 | F39: =IF(MONTH(B36)<>MONTH(B36+3),REPT("",100),B38+1) -> 42947 | K39: =IF(MONTH(B36)<>MONTH(B36+3),REPT("",100),B38+1) -> 42947 | L39: =CALENDRIER!C34 -> 0 | M39: =IF(MID(L39,1,7)=$S$6,$T$4,"") | N39: =IF(MID(L39,1,7)="CRÉTEIL",$S$4,"")
A40: 43862
A41: 43891 | B41: NOTES :
A42: 43922
A43: 43952
...

Sheet Août
A1: =(H21&"/ "&I21)
B2: =Juillet!B2 -> SAISON 2017 - 2018 | S2: 0
B4: =DATE(YEAR(Juillet!B4),MONTH(Juillet!B4)+1,DAY(Juillet!B4)) -> 42948 | S4: Synthé Ouest | T4: 0.75
A6: Synthé Ouest | M6: =NOW() -> 42926.797 | S6: CRÉTEIL
A7: Synthé Est | B7: DATES | C7: ENTRAINEMENT | G7: MATCH | H7: HEURES | I7: TERRAIN | L7: MATCH | M7: HEURES | N7: TERRAIN
A8: Honneur | C8: MATIN | D8: SOIR | G8: CHAMPIONNAT / COUPE | L8: AMICAL
A9: 42917 | B9: =$B$4 -> 42948 | D9: 0.79166667 | F9: =$B$4 -> 42948 | G9: =(CALENDRIER!D4) -> 0 | H9: =IF(MID(G9,1,7)=$S$6,$T$4,"") | I9: =IF(MID(G9,1,7)=$S$6,$S$4,"") | K9: =$B$4 -> 42948 | L9: =(CALENDRIER!E4) -> 0
A10: 42948 | B10: =DATE(YEAR(B9),MONTH(B9),2) -> 42949 | F10: =DATE(YEAR(F9),MONTH(F9),2) -> 42949 | G10: =(CALENDRIER!D5) -> 0 | H10: =IF(MID(G10,1,7)=$S$6,$T$4,"") | I10: =IF(MID(G10,1,7)=$S$6,$S$4,"") | K10: =DATE(YEAR(K9),MONTH(K9),2) -> 42949 | L10: =(CALENDRIER!E5) -> 0 | M10: 0.75
A11: 42979 | B11: =B10+1 -> 42950 | D11: 0.79166667 | F11: =F10+1 -> 42950 | G11: =(CALENDRIER!D6) -> 0 | H11: =IF(MID(G11,1,7)=$S$6,$T$4,"") | I11: =IF(MID(G11,1,7)=$S$6,$S$4,"") | K11: =K10+1 -> 42950 | L11: =(CALENDRIER!E6) -> 0
A12: 43009 | B12: =B11+1 -> 42951 | D12: 0.79166667 | F12: =F11+1 -> 42951 | G12: =(CALENDRIER!D7) -> 0 | H12: =IF(MID(G12,1,7)=$S$6,$T$4,"") | I12: =IF(MID(G12,1,7)=$S$6,$S$4,"") | K12: =K11+1 -> 42951 | L12: =(CALENDRIER!E7) -> 0
A13: 43040 | B13: =B12+1 -> 42952 | F13: =F12+1 -> 42952 | G13: =(CALENDRIER!D8) -> 0 | H13: =IF(MID(G13,1,7)=$S$6,$T$4,"") | I13: =IF(MID(G13,1,7)=$S$6,$S$4,"") | K13: =K12+1 -> 42952 | L13: =(CALENDRIER!E8) -> 0
A14: 43070 | B14: =B13+1 -> 42953 | F14: =F13+1 -> 42953 | G14: =(CALENDRIER!D9) -> 0 | H14: =IF(MID(G14,1,7)=$S$6,$T$4,"") | I14: =IF(MID(G14,1,7)=$S$6,$S$4,"") | K14: =K13+1 -> 42953 | L14: =(CALENDRIER!E9) -> 0
A15: 43101 | B15: =B14+1 -> 42954 | D15: 0.79166667 | F15: =F14+1 -> 42954 | G15: =(CALENDRIER!D10) -> 0 | H15: =IF(MID(G15,1,7)=$S$6,$T$4,"") | I15: =IF(MID(G15,1,7)=$S$6,$S$4,"") | K15: =K14+1 -> 42954 | L15: =(CALENDRIER!E10) -> 0
A16: 43132 | B16: =B15+1 -> 42955 | D16: 0.79166667 | F16: =F15+1 -> 42955 | G16: =(CALENDRIER!D11) -> 0 | H16: =IF(MID(G16,1,7)=$S$6,$T$4,"") | I16: =IF(MID(G16,1,7)=$S$6,$S$4,"") | K16: =K15+1 -> 42955 | L16: =(CALENDRIER!E11) -> 0
A17: 43160 | B17: =B16+1 -> 42956 | D17: 0.79166667 | F17: =F16+1 -> 42956 | G17: =(CALENDRIER!D12) -> 0 | H17: =IF(MID(G17,1,7)=$S$6,$T$4,"") | I17: =IF(MID(G17,1,7)=$S$6,$S$4,"") | K17: =K16+1 -> 42956 | L17: =(CALENDRIER!E12) -> 0
A18: 43191 | B18: =B17+1 -> 42957 | F18: =F17+1 -> 42957 | G18: =(CALENDRIER!D13) -> 0 | H18: =IF(MID(G18,1,7)=$S$6,$T$4,"") | I18: =IF(MID(G18,1,7)=$S$6,$S$4,"") | K18: =K17+1 -> 42957 | L18: =(CALENDRIER!E13) -> 0
A19: 43221 | B19: =B18+1 -> 42958 | D19: 0.75 | F19: =F18+1 -> 42958 | G19: =(CALENDRIER!D14) -> 0 | H19: =IF(MID(G19,1,7)=$S$6,$T$4,"") | I19: =IF(MID(G19,1,7)=$S$6,$S$4,"") | K19: =K18+1 -> 42958 | L19: =(CALENDRIER!E14) -> 0
A20: 43252 | B20: =B19+1 -> 42959 | F20: =F19+1 -> 42959 | G20: =(CALENDRIER!D15) -> 0 | H20: =IF(MID(G20,1,7)=$S$6,$T$4,"") | I20: =IF(MID(G20,1,7)=$S$6,$S$4,"") | K20: =K19+1 -> 42959 | L20: =(CALENDRIER!E15) -> 0 | M20: 0.4375
A21: 43282 | B21: =B20+1 -> 42960 | F21: =F20+1 -> 42960 | G21: =(CALENDRIER!D16) -> 0 | H21: =IF(MID(G21,1,7)=$S$6,$T$4,"") | I21: =IF(MID(G21,1,7)=$S$6,$S$4,"") | K21: =K20+1 -> 42960 | L21: =(CALENDRIER!E16) -> 0
A22: 43313 | B22: =B21+1 -> 42961 | D22: 0.79166667 | F22: =F21+1 -> 42961 | G22: =(CALENDRIER!D17) -> 0 | H22: =IF(MID(G22,1,7)=$S$6,$T$4,"") | I22: =IF(MID(G22,1,7)=$S$6,$S$4,"") | K22: =K21+1 -> 42961 | L22: =(CALENDRIER!E17) -> 0
A23: 43344 | B23: =B22+1 -> 42962 | D23: 0.79166667 | F23: =F22+1 -> 42962 | G23: =(CALENDRIER!D18) -> 0 | H23: =IF(MID(G23,1,7)=$S$6,$T$4,"") | I23: =IF(MID(G23,1,7)=$S$6,$S$4,"") | K23: =K22+1 -> 42962 | L23: =(CALENDRIER!E18) -> 0
A24: 43374 | B24: =B23+1 -> 42963 | D24: 0.79166667 | F24: =F23+1 -> 42963 | G24: =(CALENDRIER!D19) -> 0 | H24: =IF(MID(G24,1,7)=$S$6,$T$4,"") | I24: =IF(MID(G24,1,7)=$S$6,$S$4,"") | K24: =K23+1 -> 42963 | L24: =(CALENDRIER!E19) -> 0
A25: 43405 | B25: =B24+1 -> 42964 | F25: =F24+1 -> 42964 | G25: =(CALENDRIER!D20) -> 0 | H25: =IF(MID(G25,1,7)=$S$6,$T$4,"") | I25: =IF(MID(G25,1,7)=$S$6,$S$4,"") | K25: =K24+1 -> 42964 | L25: =(CALENDRIER!E20) -> 0
A26: 43435 | B26: =B25+1 -> 42965 | D26: 0.75 | F26: =F25+1 -> 42965 | G26: =(CALENDRIER!D21) -> 0 | H26: =IF(MID(G26,1,7)=$S$6,$T$4,"") | I26: =IF(MID(G26,1,7)=$S$6,$S$4,"") | K26: =K25+1 -> 42965 | L26: =(CALENDRIER!E21) -> 0
A27: 43466 | B27: =B26+1 -> 42966 | F27: =F26+1 -> 42966 | G27: =(CALENDRIER!D22) -> MATCH | H27: =IF(MID(G27,1,7)=$S$6,$T$4,"") | I27: =IF(MID(G27,1,7)=$S$6,$S$4,"") | K27: =K26+1 -> 42966 | L27: =(CALENDRIER!E22) -> 0
A28: 43497 | B28: =B27+1 -> 42967 | F28: =F27+1 -> 42967 | G28: =(CALENDRIER!D23) -> 0 | H28: =IF(MID(G28,1,7)=$S$6,$T$4,"") | I28: =IF(MID(G28,1,7)=$S$6,$S$4,"") | K28: =K27+1 -> 42967 | L28: =(CALENDRIER!E23) -> 0
A29: 43525 | B29: =B28+1 -> 42968 | D29: 0.79166667 | F29: =F28+1 -> 42968 | G29: =(CALENDRIER!D24) -> 0 | H29: =IF(MID(G29,1,7)=$S$6,$T$4,"") | I29: =IF(MID(G29,1,7)=$S$6,$S$4,"") | K29: =K28+1 -> 42968 | L29: =(CALENDRIER!E24) -> 0
A30: 43556 | B30: =B29+1 -> 42969 | D30: 0.79166667 | F30: =F29+1 -> 42969 | G30: =(CALENDRIER!D25) -> 0 | H30: =IF(MID(G30,1,7)=$S$6,$T$4,"") | I30: =IF(MID(G30,1,7)=$S$6,$S$4,"") | K30: =K29+1 -> 42969 | L30: =(CALENDRIER!E25) -> 0
A31: 43586 | B31: =B30+1 -> 42970 | D31: 0.79166667 | F31: =F30+1 -> 42970 | G31: =(CALENDRIER!D26) -> 0 | H31: =IF(MID(G31,1,7)=$S$6,$T$4,"") | I31: =IF(MID(G31,1,7)=$S$6,$S$4,"") | K31: =K30+1 -> 42970 | L31: =(CALENDRIER!E26) -> 0
A32: 43617 | B32: =B31+1 -> 42971 | F32: =F31+1 -> 42971 | G32: =(CALENDRIER!D27) -> 0 | H32: =IF(MID(G32,1,7)=$S$6,$T$4,"") | I32: =IF(MID(G32,1,7)=$S$6,$S$4,"") | K32: =K31+1 -> 42971 | L32: =(CALENDRIER!E27) -> 0
A33: 43647 | B33: =B32+1 -> 42972 | D33: 0.75 | F33: =F32+1 -> 42972 | G33: =(CALENDRIER!D28) -> 0 | H33: =IF(MID(G33,1,7)=$S$6,$T$4,"") | I33: =IF(MID(G33,1,7)=$S$6,$S$4,"") | K33: =K32+1 -> 42972 | L33: =(CALENDRIER!E28) -> 0
A34: 43678 | B34: =B33+1 -> 42973 | F34: =F33+1 -> 42973 | G34: =(CALENDRIER!D29) -> MATCH | H34: =IF(MID(G34,1,7)=$S$6,$T$4,"") | I34: =IF(MID(G34,1,7)=$S$6,$S$4,"") | K34: =K33+1 -> 42973 | L34: =(CALENDRIER!E29) -> 0
A35: 43709 | B35: =B34+1 -> 42974 | F35: =F34+1 -> 42974 | G35: =(CALENDRIER!D30) -> 0 | H35: =IF(MID(G35,1,7)=$S$6,$T$4,"") | I35: =IF(MID(G35,1,7)=$S$6,$S$4,"") | K35: =K34+1 -> 42974 | L35: =(CALENDRIER!E30) -> 0
A36: 43739 | B36: =B35+1 -> 42975 | D36: 0.79166667 | F36: =F35+1 -> 42975 | G36: =(CALENDRIER!D31) -> 0 | H36: =IF(MID(G36,1,7)=$S$6,$T$4,"") | I36: =IF(MID(G36,1,7)=$S$6,$S$4,"") | K36: =K35+1 -> 42975 | L36: =(CALENDRIER!E31) -> 0
A37: 43770 | B37: =IF(OR(MONTH(B36)<>MONTH(B36+1),$B$4=59),REPT("",100),B36+1) -> 42976 | D37: 0.79166667 | F37: =IF(OR(MONTH(F36)<>MONTH(F36+1),$B$4=59),REPT("",100),F36+1) -> 42976 | G37: =(CALENDRIER!D32) -> 0 | H37: =IF(MID(G37,1,7)=$S$6,$T$4,"") | I37: =IF(MID(G37,1,7)=$S$6,$S$4,"") | K37: =IF(OR(MONTH(K36)<>MONTH(K36+1),$B$4=59),REPT("",100),K36+1) -> 42976 | L37: =(CALENDRIER!E32) -> 0
A38: 43800 | B38: =IF(MONTH(B36)<>MONTH(B36+2),REPT("",100),B37+1) -> 42977 | D38: 0.79166667 | F38: =IF(MONTH(F36)<>MONTH(F36+2),REPT("",100),F37+1) -> 42977 | G38: =(CALENDRIER!D33) -> 0 | H38: =IF(MID(G38,1,7)=$S$6,$T$4,"") | I38: =IF(MID(G38,1,7)=$S$6,$S$4,"") | K38: =IF(MONTH(K36)<>MONTH(K36+2),REPT("",100),K37+1) -> 42977 | L38: =(CALENDRIER!E33) -> 0
A39: 43831 | B39: =IF(MONTH(B36)<>MONTH(B36+3),REPT("",100),B38+1) -> 42978 | F39: =IF(MONTH(F36)<>MONTH(F36+3),REPT("",100),F38+1) -> 42978 | G39: =(CALENDRIER!D34) -> 0 | H39: =IF(MID(G39,1,7)=$S$6,$T$4,"") | I39: =IF(MID(G39,1,7)=$S$6,$S$4,"") | K39: =IF(MONTH(K36)<>MONTH(K36+3),REPT("",100),K38+1) -> 42978 | L39: =(CALENDRIER!E34) -> 0
A40: 43862
A41: 43891 | B41: NOTES :
A42: 43922
...

Sheet Septembre
A1: =(H21&"/ "&I21)
B2: =Août!B2 -> SAISON 2017 - 2018 | S2: 0
B4: =DATE(YEAR(Août!B4),MONTH(Août!B4)+1,DAY(Août!B4)) -> 42979 | S4: Synthé Ouest | T4: 0.75
A6: Synthé Ouest | M6: =NOW() -> 42926.797 | S6: CRÉTEIL
A7: Synthé Est | B7: DATES | C7: ENTRAINEMENT | G7: MATCH | H7: HEURES | I7: TERRAIN | L7: MATCH | M7: HEURES | N7: TERRAIN
A8: Honneur | C8: MATIN | D8: SOIR | G8: CHAMPIONNAT / COUPE | L8: AMICAL
A9: 42917 | B9: =$B$4 -> 42979 | D9: 0.77083333 | F9: =$B$4 -> 42979 | G9: =(CALENDRIER!F4) -> 0 | H9: =IF(MID(G9,1,7)=$S$6,$T$4,"") | I9: =IF(MID(G9,1,7)=$S$6,$S$4,"") | K9: =$B$4 -> 42979 | L9: =(CALENDRIER!G4) -> 0
A10: 42948 | B10: =DATE(YEAR(B9),MONTH(B9),2) -> 42980 | F10: =DATE(YEAR(F9),MONTH(F9),2) -> 42980 | G10: =(CALENDRIER!F5) -> MATCH | H10: =IF(MID(G10,1,7)=$S$6,$T$4,"") | I10: =IF(MID(G10,1,7)=$S$6,$S$4,"") | K10: =DATE(YEAR(K9),MONTH(K9),2) -> 42980 | L10: =(CALENDRIER!G5) -> 0
A11: 42979 | B11: =B10+1 -> 42981 | F11: =F10+1 -> 42981 | G11: =(CALENDRIER!F6) -> 0 | H11: =IF(MID(G11,1,7)=$S$6,$T$4,"") | I11: =IF(MID(G11,1,7)=$S$6,$S$4,"") | K11: =K10+1 -> 42981 | L11: =(CALENDRIER!G6) -> 0
A12: 43009 | B12: =B11+1 -> 42982 | D12: 0.8125 | F12: =F11+1 -> 42982 | G12: =(CALENDRIER!F7) -> 0 | H12: =IF(MID(G12,1,7)=$S$6,$T$4,"") | I12: =IF(MID(G12,1,7)=$S$6,$S$4,"") | K12: =K11+1 -> 42982 | L12: =(CALENDRIER!G7) -> 0
A13: 43040 | B13: =B12+1 -> 42983 | D13: 0.8125 | F13: =F12+1 -> 42983 | G13: =(CALENDRIER!F8) -> 0 | H13: =IF(MID(G13,1,7)=$S$6,$T$4,"") | I13: =IF(MID(G13,1,7)=$S$6,$S$4,"") | K13: =K12+1 -> 42983 | L13: =(CALENDRIER!G8) -> 0
A14: 43070 | B14: =B13+1 -> 42984 | D14: 0.85416667 | F14: =F13+1 -> 42984 | G14: =(CALENDRIER!F9) -> 0 | H14: =IF(MID(G14,1,7)=$S$6,$T$4,"") | I14: =IF(MID(G14,1,7)=$S$6,$S$4,"") | K14: =K13+1 -> 42984 | L14: =(CALENDRIER!G9) -> 0
A15: 43101 | B15: =B14+1 -> 42985 | F15: =F14+1 -> 42985 | G15: =(CALENDRIER!F10) -> 0 | H15: =IF(MID(G15,1,7)=$S$6,$T$4,"") | I15: =IF(MID(G15,1,7)=$S$6,$S$4,"") | K15: =K14+1 -> 42985 | L15: =(CALENDRIER!G10) -> 0
A16: 43132 | B16: =B15+1 -> 42986 | D16: 0.77083333 | F16: =F15+1 -> 42986 | G16: =(CALENDRIER!F11) -> 0 | H16: =IF(MID(G16,1,7)=$S$6,$T$4,"") | I16: =IF(MID(G16,1,7)=$S$6,$S$4,"") | K16: =K15+1 -> 42986 | L16: =(CALENDRIER!G11) -> 0
A17: 43160 | B17: =B16+1 -> 42987 | F17: =F16+1 -> 42987 | G17: =(CALENDRIER!F12) -> MATCH | H17: =IF(MID(G17,1,7)=$S$6,$T$4,"") | I17: =IF(MID(G17,1,7)=$S$6,$S$4,"") | K17: =K16+1 -> 42987 | L17: =(CALENDRIER!G12) -> 0
A18: 43191 | B18: =B17+1 -> 42988 | F18: =F17+1 -> 42988 | G18: =(CALENDRIER!F13) -> 0 | H18: =IF(MID(G18,1,7)=$S$6,$T$4,"") | I18: =IF(MID(G18,1,7)=$S$6,$S$4,"") | K18: =K17+1 -> 42988 | L18: =(CALENDRIER!G13) -> 0
A19: 43221 | B19: =B18+1 -> 42989 | D19: 0.8125 | F19: =F18+1 -> 42989 | G19: =(CALENDRIER!F14) -> 0 | H19: =IF(MID(G19,1,7)=$S$6,$T$4,"") | I19: =IF(MID(G19,1,7)=$S$6,$S$4,"") | K19: =K18+1 -> 42989 | L19: =(CALENDRIER!G14) -> 0
A20: 43252 | B20: =B19+1 -> 42990 | D20: 0.8125 | F20: =F19+1 -> 42990 | G20: =(CALENDRIER!F15) -> 0 | H20: =IF(MID(G20,1,7)=$S$6,$T$4,"") | I20: =IF(MID(G20,1,7)=$S$6,$S$4,"") | K20: =K19+1 -> 42990 | L20: =(CALENDRIER!G15) -> 0
A21: 43282 | B21: =B20+1 -> 42991 | D21: 0.85416667 | F21: =F20+1 -> 42991 | G21: =(CALENDRIER!F16) -> 0 | H21: =IF(MID(G21,1,7)=$S$6,$T$4,"") | I21: =IF(MID(G21,1,7)=$S$6,$S$4,"") | K21: =K20+1 -> 42991 | L21: =(CALENDRIER!G16) -> 0
A22: 43313 | B22: =B21+1 -> 42992 | F22: =F21+1 -> 42992 | G22: =(CALENDRIER!F17) -> 0 | H22: =IF(MID(G22,1,7)=$S$6,$T$4,"") | I22: =IF(MID(G22,1,7)=$S$6,$S$4,"") | K22: =K21+1 -> 42992 | L22: =(CALENDRIER!G17) -> 0
A23: 43344 | B23: =B22+1 -> 42993 | D23: 0.77083333 | F23: =F22+1 -> 42993 | G23: =(CALENDRIER!F18) -> 0 | H23: =IF(MID(G23,1,7)=$S$6,$T$4,"") | I23: =IF(MID(G23,1,7)=$S$6,$S$4,"") | K23: =K22+1 -> 42993 | L23: =(CALENDRIER!G18) -> 0
A24: 43374 | B24: =B23+1 -> 42994 | F24: =F23+1 -> 42994 | G24: =(CALENDRIER!F19) -> MATCH | H24: =IF(MID(G24,1,7)=$S$6,$T$4,"") | I24: =IF(MID(G24,1,7)=$S$6,$S$4,"") | K24: =K23+1 -> 42994 | L24: =(CALENDRIER!G19) -> 0
A25: 43405 | B25: =B24+1 -> 42995 | F25: =F24+1 -> 42995 | G25: =(CALENDRIER!F20) -> 0 | H25: =IF(MID(G25,1,7)=$S$6,$T$4,"") | I25: =IF(MID(G25,1,7)=$S$6,$S$4,"") | K25: =K24+1 -> 42995 | L25: =(CALENDRIER!G20) -> 0
A26: 43435 | B26: =B25+1 -> 42996 | D26: 0.8125 | F26: =F25+1 -> 42996 | G26: =(CALENDRIER!F21) -> 0 | H26: =IF(MID(G26,1,7)=$S$6,$T$4,"") | I26: =IF(MID(G26,1,7)=$S$6,$S$4,"") | K26: =K25+1 -> 42996 | L26: =(CALENDRIER!G21) -> 0
A27: 43466 | B27: =B26+1 -> 42997 | D27: 0.8125 | F27: =F26+1 -> 42997 | G27: =(CALENDRIER!F22) -> 0 | H27: =IF(MID(G27,1,7)=$S$6,$T$4,"") | I27: =IF(MID(G27,1,7)=$S$6,$S$4,"") | K27: =K26+1 -> 42997 | L27: =(CALENDRIER!G22) -> 0
A28: 43497 | B28: =B27+1 -> 42998 | D28: 0.85416667 | F28: =F27+1 -> 42998 | G28: =(CALENDRIER!F23) -> 0 | H28: =IF(MID(G28,1,7)=$S$6,$T$4,"") | I28: =IF(MID(G28,1,7)=$S$6,$S$4,"") | K28: =K27+1 -> 42998 | L28: =(CALENDRIER!G23) -> 0
A29: 43525 | B29: =B28+1 -> 42999 | F29: =F28+1 -> 42999 | G29: =(CALENDRIER!F24) -> 0 | H29: =IF(MID(G29,1,7)=$S$6,$T$4,"") | I29: =IF(MID(G29,1,7)=$S$6,$S$4,"") | K29: =K28+1 -> 42999 | L29: =(CALENDRIER!G24) -> 0
A30: 43556 | B30: =B29+1 -> 43000 | D30: 0.77083333 | F30: =F29+1 -> 43000 | G30: =(CALENDRIER!F25) -> 0 | H30: =IF(MID(G30,1,7)=$S$6,$T$4,"") | I30: =IF(MID(G30,1,7)=$S$6,$S$4,"") | K30: =K29+1 -> 43000 | L30: =(CALENDRIER!G25) -> 0
A31: 43586 | B31: =B30+1 -> 43001 | F31: =F30+1 -> 43001 | G31: =(CALENDRIER!F26) -> MATCH | H31: =IF(MID(G31,1,7)=$S$6,$T$4,"") | I31: =IF(MID(G31,1,7)=$S$6,$S$4,"") | K31: =K30+1 -> 43001 | L31: =(CALENDRIER!G26) -> 0
A32: 43617 | B32: =B31+1 -> 43002 | F32: =F31+1 -> 43002 | G32: =(CALENDRIER!F27) -> 0 | H32: =IF(MID(G32,1,7)=$S$6,$T$4,"") | I32: =IF(MID(G32,1,7)=$S$6,$S$4,"") | K32: =K31+1 -> 43002 | L32: =(CALENDRIER!G27) -> 0
A33: 43647 | B33: =B32+1 -> 43003 | D33: 0.8125 | F33: =F32+1 -> 43003 | G33: =(CALENDRIER!F28) -> 0 | H33: =IF(MID(G33,1,7)=$S$6,$T$4,"") | I33: =IF(MID(G33,1,7)=$S$6,$S$4,"") | K33: =K32+1 -> 43003 | L33: =(CALENDRIER!G28) -> 0
A34: 43678 | B34: =B33+1 -> 43004 | D34: 0.8125 | F34: =F33+1 -> 43004 | G34: =(CALENDRIER!F29) -> 0 | H34: =IF(MID(G34,1,7)=$S$6,$T$4,"") | I34: =IF(MID(G34,1,7)=$S$6,$S$4,"") | K34: =K33+1 -> 43004 | L34: =(CALENDRIER!G29) -> 0
A35: 43709 | B35: =B34+1 -> 43005 | D35: 0.85416667 | F35: =F34+1 -> 43005 | G35: =(CALENDRIER!F30) -> 0 | H35: =IF(MID(G35,1,7)=$S$6,$T$4,"") | I35: =IF(MID(G35,1,7)=$S$6,$S$4,"") | K35: =K34+1 -> 43005 | L35: =(CALENDRIER!G30) -> 0
A36: 43739 | B36: =B35+1 -> 43006 | F36: =F35+1 -> 43006 | G36: =(CALENDRIER!F31) -> 0 | H36: =IF(MID(G36,1,7)=$S$6,$T$4,"") | I36: =IF(MID(G36,1,7)=$S$6,$S$4,"") | K36: =K35+1 -> 43006 | L36: =(CALENDRIER!G31) -> 0
A37: 43770 | B37: =IF(OR(MONTH(B36)<>MONTH(B36+1),$B$4=59),REPT("",100),B36+1) -> 43007 | D37: 0.77083333 | F37: =IF(OR(MONTH(F36)<>MONTH(F36+1),$B$4=59),REPT("",100),F36+1) -> 43007 | G37: =(CALENDRIER!F32) -> 0 | H37: =IF(MID(G37,1,7)=$S$6,$T$4,"") | I37: =IF(MID(G37,1,7)=$S$6,$S$4,"") | K37: =IF(OR(MONTH(K36)<>MONTH(K36+1),$B$4=59),REPT("",100),K36+1) -> 43007 | L37: =(CALENDRIER!G32) -> 0
A38: 43800 | B38: =IF(MONTH(B36)<>MONTH(B36+2),REPT("",100),B37+1) -> 43008 | F38: =IF(MONTH(F36)<>MONTH(F36+2),REPT("",100),F37+1) -> 43008 | G38: =(CALENDRIER!F33) -> MATCH | H38: =IF(MID(G38,1,7)=$S$6,$T$4,"") | I38: =IF(MID(G38,1,7)=$S$6,$S$4,"") | K38: =IF(MONTH(K36)<>MONTH(K36+2),REPT("",100),K37+1) -> 43008 | L38: =(CALENDRIER!G33) -> 0
A39: 43831 | B39: =IF(MONTH(B36)<>MONTH(B36+3),REPT("",100),B38+1) | F39: =IF(MONTH(F36)<>MONTH(F36+3),REPT("",100),F38+1) | G39: =(CALENDRIER!F34) -> 0 | H39: =IF(MID(G39,1,7)=$S$6,$T$4,"") | I39: =IF(MID(G39,1,7)=$S$6,$S$4,"") | K39: =IF(MONTH(K36)<>MONTH(K36+3),REPT("",100),K38+1) | L39: =(CALENDRIER!G34) -> 0
A40: 43862
A41: 43891 | B41: NOTES :
A42: 43922
...

Sheet Octobre
A1: =(H21&"/ "&I21)
B2: =Août!B2 -> SAISON 2017 - 2018 | S2: 0
B4: =DATE(YEAR(Septembre!B4),MONTH(Septembre!B4)+1,DAY(Septembre!B4)) -> 43009 | S4: Synthé Ouest | T4: 0.75
A6: Synthé Ouest | M6: =NOW() -> 42926.797 | S6: CRÉTEIL
A7: Synthé Est | B7: DATES | C7: ENTRAINEMENT | G7: MATCH | H7: HEURES | I7: TERRAIN | L7: MATCH | M7: HEURES | N7: TERRAIN
A8: Honneur | C8: MATIN | D8: SOIR | G8: CHAMPIONNAT / COUPE | L8: AMICAL
A9: 42917 | B9: =$B$4 -> 43009 | F9: =$B$4 -> 43009 | G9: =(CALENDRIER!H4) -> 0 | H9: =IF(MID(G9,1,7)=$S$6,$T$4,"") | I9: =IF(MID(G9,1,7)=$S$6,$S$4,"") | K9: =$B$4 -> 43009 | L9: =(CALENDRIER!I4) -> 0
A10: 42948 | B10: =DATE(YEAR(B9),MONTH(B9),2) -> 43010 | D10: 0.8125 | F10: =DATE(YEAR(F9),MONTH(F9),2) -> 43010 | G10: =(CALENDRIER!H5) -> 0 | H10: =IF(MID(G10,1,7)=$S$6,$T$4,"") | I10: =IF(MID(G10,1,7)=$S$6,$S$4,"") | K10: =DATE(YEAR(K9),MONTH(K9),2) -> 43010 | L10: =(CALENDRIER!I5) -> 0
A11: 42979 | B11: =B10+1 -> 43011 | D11: 0.8125 | F11: =F10+1 -> 43011 | G11: =(CALENDRIER!H6) -> 0 | H11: =IF(MID(G11,1,7)=$S$6,$T$4,"") | I11: =IF(MID(G11,1,7)=$S$6,$S$4,"") | K11: =K10+1 -> 43011 | L11: =(CALENDRIER!I6) -> 0
A12: 43009 | B12: =B11+1 -> 43012 | D12: 0.85416667 | F12: =F11+1 -> 43012 | G12: =(CALENDRIER!H7) -> 0 | H12: =IF(MID(G12,1,7)=$S$6,$T$4,"") | I12: =IF(MID(G12,1,7)=$S$6,$S$4,"") | K12: =K11+1 -> 43012 | L12: =(CALENDRIER!I7) -> 0
A13: 43040 | B13: =B12+1 -> 43013 | F13: =F12+1 -> 43013 | G13: =(CALENDRIER!H8) -> 0 | H13: =IF(MID(G13,1,7)=$S$6,$T$4,"") | I13: =IF(MID(G13,1,7)=$S$6,$S$4,"") | K13: =K12+1 -> 43013 | L13: =(CALENDRIER!I8) -> 0
A14: 43070 | B14: =B13+1 -> 43014 | D14: 0.77083333 | F14: =F13+1 -> 43014 | G14: =(CALENDRIER!H9) -> 0 | H14: =IF(MID(G14,1,7)=$S$6,$T$4,"") | I14: =IF(MID(G14,1,7)=$S$6,$S$4,"") | K14: =K13+1 -> 43014 | L14: =(CALENDRIER!I9) -> 0
A15: 43101 | B15: =B14+1 -> 43015 | F15: =F14+1 -> 43015 | G15: =(CALENDRIER!H10) -> MATCH | H15: =IF(MID(G15,1,7)=$S$6,$T$4,"") | I15: =IF(MID(G15,1,7)=$S$6,$S$4,"") | K15: =K14+1 -> 43015 | L15: =(CALENDRIER!I10) -> 0
A16: 43132 | B16: =B15+1 -> 43016 | F16: =F15+1 -> 43016 | G16: =(CALENDRIER!H11) -> 0 | H16: =IF(MID(G16,1,7)=$S$6,$T$4,"") | I16: =IF(MID(G16,1,7)=$S$6,$S$4,"") | K16: =K15+1 -> 43016 | L16: =(CALENDRIER!I11) -> 0
A17: 43160 | B17: =B16+1 -> 43017 | D17: 0.8125 | F17: =F16+1 -> 43017 | G17: =(CALENDRIER!H12) -> 0 | H17: =IF(MID(G17,1,7)=$S$6,$T$4,"") | I17: =IF(MID(G17,1,7)=$S$6,$S$4,"") | K17: =K16+1 -> 43017 | L17: =(CALENDRIER!I12) -> 0
A18: 43191 | B18: =B17+1 -> 43018 | D18: 0.8125 | F18: =F17+1 -> 43018 | G18: =(CALENDRIER!H13) -> 0 | H18: =IF(MID(G18,1,7)=$S$6,$T$4,"") | I18: =IF(MID(G18,1,7)=$S$6,$S$4,"") | K18: =K17+1 -> 43018 | L18: =(CALENDRIER!I13) -> 0
A19: 43221 | B19: =B18+1 -> 43019 | D19: 0.85416667 | F19: =F18+1 -> 43019 | G19: =(CALENDRIER!H14) -> 0 | H19: =IF(MID(G19,1,7)=$S$6,$T$4,"") | I19: =IF(MID(G19,1,7)=$S$6,$S$4,"") | K19: =K18+1 -> 43019 | L19: =(CALENDRIER!I14) -> 0
A20: 43252 | B20: =B19+1 -> 43020 | F20: =F19+1 -> 43020 | G20: =(CALENDRIER!H15) -> 0 | H20: =IF(MID(G20,1,7)=$S$6,$T$4,"") | I20: =IF(MID(G20,1,7)=$S$6,$S$4,"") | K20: =K19+1 -> 43020 | L20: =(CALENDRIER!I15) -> 0
A21: 43282 | B21: =B20+1 -> 43021 | D21: 0.77083333 | F21: =F20+1 -> 43021 | G21: =(CALENDRIER!H16) -> 0 | H21: =IF(MID(G21,1,7)=$S$6,$T$4,"") | I21: =IF(MID(G21,1,7)=$S$6,$S$4,"") | K21: =K20+1 -> 43021 | L21: =(CALENDRIER!I16) -> 0
A22: 43313 | B22: =B21+1 -> 43022 | F22: =F21+1 -> 43022 | G22: =(CALENDRIER!H17) -> MATCH | H22: =IF(MID(G22,1,7)=$S$6,$T$4,"") | I22: =IF(MID(G22,1,7)=$S$6,$S$4,"") | K22: =K21+1 -> 43022 | L22: =(CALENDRIER!I17) -> 0
A23: 43344 | B23: =B22+1 -> 43023 | F23: =F22+1 -> 43023 | G23: =(CALENDRIER!H18) -> 0 | H23: =IF(MID(G23,1,7)=$S$6,$T$4,"") | I23: =IF(MID(G23,1,7)=$S$6,$S$4,"") | K23: =K22+1 -> 43023 | L23: =(CALENDRIER!I18) -> 0
A24: 43374 | B24: =B23+1 -> 43024 | D24: 0.8125 | F24: =F23+1 -> 43024 | G24: =(CALENDRIER!H19) -> 0 | H24: =IF(MID(G24,1,7)=$S$6,$T$4,"") | I24: =IF(MID(G24,1,7)=$S$6,$S$4,"") | K24: =K23+1 -> 43024 | L24: =(CALENDRIER!I19) -> 0
A25: 43405 | B25: =B24+1 -> 43025 | D25: 0.8125 | F25: =F24+1 -> 43025 | G25: =(CALENDRIER!H20) -> 0 | H25: =IF(MID(G25,1,7)=$S$6,$T$4,"") | I25: =IF(MID(G25,1,7)=$S$6,$S$4,"") | K25: =K24+1 -> 43025 | L25: =(CALENDRIER!I20) -> 0
A26: 43435 | B26: =B25+1 -> 43026 | D26: 0.85416667 | F26: =F25+1 -> 43026 | G26: =(CALENDRIER!H21) -> 0 | H26: =IF(MID(G26,1,7)=$S$6,$T$4,"") | I26: =IF(MID(G26,1,7)=$S$6,$S$4,"") | K26: =K25+1 -> 43026 | L26: =(CALENDRIER!I21) -> 0
A27: 43466 | B27: =B26+1 -> 43027 | F27: =F26+1 -> 43027 | G27: =(CALENDRIER!H22) -> 0 | H27: =IF(MID(G27,1,7)=$S$6,$T$4,"") | I27: =IF(MID(G27,1,7)=$S$6,$S$4,"") | K27: =K26+1 -> 43027 | L27: =(CALENDRIER!I22) -> 0
A28: 43497 | B28: =B27+1 -> 43028 | D28: 0.77083333 | F28: =F27+1 -> 43028 | G28: =(CALENDRIER!H23) -> 0 | H28: =IF(MID(G28,1,7)=$S$6,$T$4,"") | I28: =IF(MID(G28,1,7)=$S$6,$S$4,"") | K28: =K27+1 -> 43028 | L28: =(CALENDRIER!I23) -> 0
A29: 43525 | B29: =B28+1 -> 43029 | F29: =F28+1 -> 43029 | G29: =(CALENDRIER!H24) -> MATCH | H29: =IF(MID(G29,1,7)=$S$6,$T$4,"") | I29: =IF(MID(G29,1,7)=$S$6,$S$4,"") | K29: =K28+1 -> 43029 | L29: =(CALENDRIER!I24) -> 0
A30: 43556 | B30: =B29+1 -> 43030 | F30: =F29+1 -> 43030 | G30: =(CALENDRIER!H25) -> 0 | H30: =IF(MID(G30,1,7)=$S$6,$T$4,"") | I30: =IF(MID(G30,1,7)=$S$6,$S$4,"") | K30: =K29+1 -> 43030 | L30: =(CALENDRIER!I25) -> 0
A31: 43586 | B31: =B30+1 -> 43031 | D31: 0.8125 | F31: =F30+1 -> 43031 | G31: =(CALENDRIER!H26) -> 0 | H31: =IF(MID(G31,1,7)=$S$6,$T$4,"") | I31: =IF(MID(G31,1,7)=$S$6,$S$4,"") | K31: =K30+1 -> 43031 | L31: =(CALENDRIER!I26) -> 0
A32: 43617 | B32: =B31+1 -> 43032 | D32: 0.8125 | F32: =F31+1 -> 43032 | G32: =(CALENDRIER!H27) -> 0 | H32: =IF(MID(G32,1,7)=$S$6,$T$4,"") | I32: =IF(MID(G32,1,7)=$S$6,$S$4,"") | K32: =K31+1 -> 43032 | L32: =(CALENDRIER!I27) -> 0
A33: 43647 | B33: =B32+1 -> 43033 | D33: 0.85416667 | F33: =F32+1 -> 43033 | G33: =(CALENDRIER!H28) -> 0 | H33: =IF(MID(G33,1,7)=$S$6,$T$4,"") | I33: =IF(MID(G33,1,7)=$S$6,$S$4,"") | K33: =K32+1 -> 43033 | L33: =(CALENDRIER!I28) -> 0
A34: 43678 | B34: =B33+1 -> 43034 | F34: =F33+1 -> 43034 | G34: =(CALENDRIER!H29) -> 0 | H34: =IF(MID(G34,1,7)=$S$6,$T$4,"") | I34: =IF(MID(G34,1,7)=$S$6,$S$4,"") | K34: =K33+1 -> 43034 | L34: =(CALENDRIER!I29) -> 0
A35: 43709 | B35: =B34+1 -> 43035 | D35: 0.77083333 | F35: =F34+1 -> 43035 | G35: =(CALENDRIER!H30) -> 0 | H35: =IF(MID(G35,1,7)=$S$6,$T$4,"") | I35: =IF(MID(G35,1,7)=$S$6,$S$4,"") | K35: =K34+1 -> 43035 | L35: =(CALENDRIER!I30) -> 0
A36: 43739 | B36: =B35+1 -> 43036 | F36: =F35+1 -> 43036 | G36: =(CALENDRIER!H31) -> MATCH | H36: =IF(MID(G36,1,7)=$S$6,$T$4,"") | I36: =IF(MID(G36,1,7)=$S$6,$S$4,"") | K36: =K35+1 -> 43036 | L36: =(CALENDRIER!I31) -> 0
A37: 43770 | B37: =IF(OR(MONTH(B36)<>MONTH(B36+1),$B$4=59),REPT("",100),B36+1) -> 43037 | F37: =IF(OR(MONTH(F36)<>MONTH(F36+1),$B$4=59),REPT("",100),F36+1) -> 43037 | G37: =(CALENDRIER!H32) -> 0 | H37: =IF(MID(G37,1,7)=$S$6,$T$4,"") | I37: =IF(MID(G37,1,7)=$S$6,$S$4,"") | K37: =IF(OR(MONTH(K36)<>MONTH(K36+1),$B$4=59),REPT("",100),K36+1) -> 43037 | L37: =(CALENDRIER!I32) -> 0
A38: 43800 | B38: =IF(MONTH(B36)<>MONTH(B36+2),REPT("",100),B37+1) -> 43038 | D38: 0.8125 | F38: =IF(MONTH(F36)<>MONTH(F36+2),REPT("",100),F37+1) -> 43038 | G38: =(CALENDRIER!H33) -> 0 | H38: =IF(MID(G38,1,7)=$S$6,$T$4,"") | I38: =IF(MID(G38,1,7)=$S$6,$S$4,"") | K38: =IF(MONTH(K36)<>MONTH(K36+2),REPT("",100),K37+1) -> 43038 | L38: =(CALENDRIER!I33) -> 0
A39: 43831 | B39: =IF(MONTH(B36)<>MONTH(B36+3),REPT("",100),B38+1) -> 43039 | D39: 0.8125 | F39: =IF(MONTH(F36)<>MONTH(F36+3),REPT("",100),F38+1) -> 43039 | G39: =(CALENDRIER!H34) -> 0 | H39: =IF(MID(G39,1,7)=$S$6,$T$4,"") | I39: =IF(MID(G39,1,7)=$S$6,$S$4,"") | K39: =IF(MONTH(K36)<>MONTH(K36+3),REPT("",100),K38+1) -> 43039 | L39: =(CALENDRIER!I34) -> 0
A40: 43862
A41: 43891 | B41: NOTES :
A42: 43922
...

Sheet Novembre
A1: =(H21&"/ "&I21)
B2: =Août!B2 -> SAISON 2017 - 2018 | S2: 0
B4: =DATE(YEAR(Octobre!B4),MONTH(Octobre!B4)+1,DAY(Octobre!B4)) -> 43040 | S4: Synthé Ouest | T4: 0.75
A6: Synthé Ouest | M6: =NOW() -> 42926.797 | S6: CRÉTEIL
A7: Synthé Est | B7: DATES | C7: ENTRAINEMENT | G7: MATCH | H7: HEURES | I7: TERRAIN | L7: MATCH | M7: HEURES | N7: TERRAIN
A8: Honneur | C8: MATIN | D8: SOIR | G8: CHAMPIONNAT / COUPE | L8: AMICAL
A9: 42917 | B9: =$B$4 -> 43040 | D9: 0.8125 | F9: =$B$4 -> 43040 | G9: =(CALENDRIER!J4) -> 0 | H9: =IF(MID(G9,1,7)=$S$6,$T$4,"") | I9: =IF(MID(G9,1,7)=$S$6,$S$4,"") | K9: =$B$4 -> 43040 | L9: =(CALENDRIER!K4) -> 0
A10: 42948 | B10: =DATE(YEAR(B9),MONTH(B9),2) -> 43041 | D10: 0.85416667 | F10: =DATE(YEAR(F9),MONTH(F9),2) -> 43041 | G10: =(CALENDRIER!J5) -> 0 | H10: =IF(MID(G10,1,7)=$S$6,$T$4,"") | I10: =IF(MID(G10,1,7)=$S$6,$S$4,"") | K10: =DATE(YEAR(K9),MONTH(K9),2) -> 43041 | L10: =(CALENDRIER!K5) -> 0
A11: 42979 | B11: =B10+1 -> 43042 | F11: =F10+1 -> 43042 | G11: =(CALENDRIER!J6) -> 0 | H11: =IF(MID(G11,1,7)=$S$6,$T$4,"") | I11: =IF(MID(G11,1,7)=$S$6,$S$4,"") | K11: =K10+1 -> 43042 | L11: =(CALENDRIER!K6) -> 0
A12: 43009 | B12: =B11+1 -> 43043 | D12: 0.77083333 | F12: =F11+1 -> 43043 | G12: =(CALENDRIER!J7) -> MATCH | H12: =IF(MID(G12,1,7)=$S$6,$T$4,"") | I12: =IF(MID(G12,1,7)=$S$6,$S$4,"") | K12: =K11+1 -> 43043 | L12: =(CALENDRIER!K7) -> 0
A13: 43040 | B13: =B12+1 -> 43044 | F13: =F12+1 -> 43044 | G13: =(CALENDRIER!J8) -> 0 | H13: =IF(MID(G13,1,7)=$S$6,$T$4,"") | I13: =IF(MID(G13,1,7)=$S$6,$S$4,"") | K13: =K12+1 -> 43044 | L13: =(CALENDRIER!K8) -> 0
A14: 43070 | B14: =B13+1 -> 43045 | D14: 0.8125 | F14: =F13+1 -> 43045 | G14: =(CALENDRIER!J9) -> 0 | H14: =IF(MID(G14,1,7)=$S$6,$T$4,"") | I14: =IF(MID(G14,1,7)=$S$6,$S$4,"") | K14: =K13+1 -> 43045 | L14: =(CALENDRIER!K9) -> 0
A15: 43101 | B15: =B14+1 -> 43046 | D15: 0.8125 | F15: =F14+1 -> 43046 | G15: =(CALENDRIER!J10) -> 0 | H15: =IF(MID(G15,1,7)=$S$6,$T$4,"") | I15: =IF(MID(G15,1,7)=$S$6,$S$4,"") | K15: =K14+1 -> 43046 | L15: =(CALENDRIER!K10) -> 0
A16: 43132 | B16: =B15+1 -> 43047 | D16: 0.85416667 | F16: =F15+1 -> 43047 | G16: =(CALENDRIER!J11) -> 0 | H16: =IF(MID(G16,1,7)=$S$6,$T$4,"") | I16: =IF(MID(G16,1,7)=$S$6,$S$4,"") | K16: =K15+1 -> 43047 | L16: =(CALENDRIER!K11) -> 0
A17: 43160 | B17: =B16+1 -> 43048 | F17: =F16+1 -> 43048 | G17: =(CALENDRIER!J12) -> 0 | H17: =IF(MID(G17,1,7)=$S$6,$T$4,"") | I17: =IF(MID(G17,1,7)=$S$6,$S$4,"") | K17: =K16+1 -> 43048 | L17: =(CALENDRIER!K12) -> 0
A18: 43191 | B18: =B17+1 -> 43049 | D18: 0.77083333 | F18: =F17+1 -> 43049 | G18: =(CALENDRIER!J13) -> 0 | H18: =IF(MID(G18,1,7)=$S$6,$T$4,"") | I18: =IF(MID(G18,1,7)=$S$6,$S$4,"") | K18: =K17+1 -> 43049 | L18: =(CALENDRIER!K13) -> 0
A19: 43221 | B19: =B18+1 -> 43050 | F19: =F18+1 -> 43050 | G19: =(CALENDRIER!J14) -> MATCH | H19: =IF(MID(G19,1,7)=$S$6,$T$4,"") | I19: =IF(MID(G19,1,7)=$S$6,$S$4,"") | K19: =K18+1 -> 43050 | L19: =(CALENDRIER!K14) -> 0
A20: 43252 | B20: =B19+1 -> 43051 | F20: =F19+1 -> 43051 | G20: =(CALENDRIER!J15) -> 0 | H20: =IF(MID(G20,1,7)=$S$6,$T$4,"") | I20: =IF(MID(G20,1,7)=$S$6,$S$4,"") | K20: =K19+1 -> 43051 | L20: =(CALENDRIER!K15) -> 0
A21: 43282 | B21: =B20+1 -> 43052 | D21: 0.8125 | F21: =F20+1 -> 43052 | G21: =(CALENDRIER!J16) -> 0 | H21: =IF(MID(G21,1,7)=$S$6,$T$4,"") | I21: =IF(MID(G21,1,7)=$S$6,$S$4,"") | K21: =K20+1 -> 43052 | L21: =(CALENDRIER!K16) -> 0
A22: 43313 | B22: =B21+1 -> 43053 | D22: 0.8125 | F22: =F21+1 -> 43053 | G22: =(CALENDRIER!J17) -> 0 | H22: =IF(MID(G22,1,7)=$S$6,$T$4,"") | I22: =IF(MID(G22,1,7)=$S$6,$S$4,"") | K22: =K21+1 -> 43053 | L22: =(CALENDRIER!K17) -> 0
A23: 43344 | B23: =B22+1 -> 43054 | D23: 0.85416667 | F23: =F22+1 -> 43054 | G23: =(CALENDRIER!J18) -> 0 | H23: =IF(MID(G23,1,7)=$S$6,$T$4,"") | I23: =IF(MID(G23,1,7)=$S$6,$S$4,"") | K23: =K22+1 -> 43054 | L23: =(CALENDRIER!K18) -> 0
A24: 43374 | B24: =B23+1 -> 43055 | F24: =F23+1 -> 43055 | G24: =(CALENDRIER!J19) -> 0 | H24: =IF(MID(G24,1,7)=$S$6,$T$4,"") | I24: =IF(MID(G24,1,7)=$S$6,$S$4,"") | K24: =K23+1 -> 43055 | L24: =(CALENDRIER!K19) -> 0
A25: 43405 | B25: =B24+1 -> 43056 | D25: 0.77083333 | F25: =F24+1 -> 43056 | G25: =(CALENDRIER!J20) -> 0 | H25: =IF(MID(G25,1,7)=$S$6,$T$4,"") | I25: =IF(MID(G25,1,7)=$S$6,$S$4,"") | K25: =K24+1 -> 43056 | L25: =(CALENDRIER!K20) -> 0
A26: 43435 | B26: =B25+1 -> 43057 | F26: =F25+1 -> 43057 | G26: =(CALENDRIER!J21) -> MATCH | H26: =IF(MID(G26,1,7)=$S$6,$T$4,"") | I26: =IF(MID(G26,1,7)=$S$6,$S$4,"") | K26: =K25+1 -> 43057 | L26: =(CALENDRIER!K21) -> 0
A27: 43466 | B27: =B26+1 -> 43058 | F27: =F26+1 -> 43058 | G27: =(CALENDRIER!J22) -> 0 | H27: =IF(MID(G27,1,7)=$S$6,$T$4,"") | I27: =IF(MID(G27,1,7)=$S$6,$S$4,"") | K27: =K26+1 -> 43058 | L27: =(CALENDRIER!K22) -> 0
A28: 43497 | B28: =B27+1 -> 43059 | D28: 0.8125 | F28: =F27+1 -> 43059 | G28: =(CALENDRIER!J23) -> 0 | H28: =IF(MID(G28,1,7)=$S$6,$T$4,"") | I28: =IF(MID(G28,1,7)=$S$6,$S$4,"") | K28: =K27+1 -> 43059 | L28: =(CALENDRIER!K23) -> 0
A29: 43525 | B29: =B28+1 -> 43060 | D29: 0.8125 | F29: =F28+1 -> 43060 | G29: =(CALENDRIER!J24) -> 0 | H29: =IF(MID(G29,1,7)=$S$6,$T$4,"") | I29: =IF(MID(G29,1,7)=$S$6,$S$4,"") | K29: =K28+1 -> 43060 | L29: =(CALENDRIER!K24) -> 0
A30: 43556 | B30: =B29+1 -> 43061 | D30: 0.85416667 | F30: =F29+1 -> 43061 | G30: =(CALENDRIER!J25) -> 0 | H30: =IF(MID(G30,1,7)=$S$6,$T$4,"") | I30: =IF(MID(G30,1,7)=$S$6,$S$4,"") | K30: =K29+1 -> 43061 | L30: =(CALENDRIER!K25) -> 0
A31: 43586 | B31: =B30+1 -> 43062 | F31: =F30+1 -> 43062 | G31: =(CALENDRIER!J26) -> 0 | H31: =IF(MID(G31,1,7)=$S$6,$T$4,"") | I31: =IF(MID(G31,1,7)=$S$6,$S$4,"") | K31: =K30+1 -> 43062 | L31: =(CALENDRIER!K26) -> 0
A32: 43617 | B32: =B31+1 -> 43063 | D32: 0.77083333 | F32: =F31+1 -> 43063 | G32: =(CALENDRIER!J27) -> 0 | H32: =IF(MID(G32,1,7)=$S$6,$T$4,"") | I32: =IF(MID(G32,1,7)=$S$6,$S$4,"") | K32: =K31+1 -> 43063 | L32: =(CALENDRIER!K27) -> 0
A33: 43647 | B33: =B32+1 -> 43064 | F33: =F32+1 -> 43064 | G33: =(CALENDRIER!J28) -> MATCH | H33: =IF(MID(G33,1,7)=$S$6,$T$4,"") | I33: =IF(MID(G33,1,7)=$S$6,$S$4,"") | K33: =K32+1 -> 43064 | L33: =(CALENDRIER!K28) -> 0
A34: 43678 | B34: =B33+1 -> 43065 | F34: =F33+1 -> 43065 | G34: =(CALENDRIER!J29) -> 0 | H34: =IF(MID(G34,1,7)=$S$6,$T$4,"") | I34: =IF(MID(G34,1,7)=$S$6,$S$4,"") | K34: =K33+1 -> 43065 | L34: =(CALENDRIER!K29) -> 0
A35: 43709 | B35: =B34+1 -> 43066 | D35: 0.8125 | F35: =F34+1 -> 43066 | G35: =(CALENDRIER!J30) -> 0 | H35: =IF(MID(G35,1,7)=$S$6,$T$4,"") | I35: =IF(MID(G35,1,7)=$S$6,$S$4,"") | K35: =K34+1 -> 43066 | L35: =(CALENDRIER!K30) -> 0
A36: 43739 | B36: =B35+1 -> 43067 | D36: 0.8125 | F36: =F35+1 -> 43067 | G36: =(CALENDRIER!J31) -> 0 | H36: =IF(MID(G36,1,7)=$S$6,$T$4,"") | I36: =IF(MID(G36,1,7)=$S$6,$S$4,"") | K36: =K35+1 -> 43067 | L36: =(CALENDRIER!K31) -> 0
A37: 43770 | B37: =IF(OR(MONTH(B36)<>MONTH(B36+1),$B$4=59),REPT("",100),B36+1) -> 43068 | D37: 0.85416667 | F37: =IF(OR(MONTH(F36)<>MONTH(F36+1),$B$4=59),REPT("",100),F36+1) -> 43068 | G37: =(CALENDRIER!J32) -> 0 | H37: =IF(MID(G37,1,7)=$S$6,$T$4,"") | I37: =IF(MID(G37,1,7)=$S$6,$S$4,"") | K37: =IF(OR(MONTH(K36)<>MONTH(K36+1),$B$4=59),REPT("",100),K36+1) -> 43068 | L37: =(CALENDRIER!K32) -> 0
A38: 43800 | B38: =IF(MONTH(B36)<>MONTH(B36+2),REPT("",100),B37+1) -> 43069 | F38: =IF(MONTH(F36)<>MONTH(F36+2),REPT("",100),F37+1) -> 43069 | G38: =(CALENDRIER!J33) -> 0 | H38: =IF(MID(G38,1,7)=$S$6,$T$4,"") | I38: =IF(MID(G38,1,7)=$S$6,$S$4,"") | K38: =IF(MONTH(K36)<>MONTH(K36+2),REPT("",100),K37+1) -> 43069 | L38: =(CALENDRIER!K33) -> 0
A39: 43831 | B39: =IF(MONTH(B36)<>MONTH(B36+3),REPT("",100),B38+1) | F39: =IF(MONTH(F36)<>MONTH(F36+3),REPT("",100),F38+1) | G39: =(CALENDRIER!J34) -> 0 | H39: =IF(MID(G39,1,7)=$S$6,$T$4,"") | I39: =IF(MID(G39,1,7)=$S$6,$S$4,"") | K39: =IF(MONTH(K36)<>MONTH(K36+3),REPT("",100),K38+1) | L39: =(CALENDRIER!K34) -> 0
A40: 43862
A41: 43891 | B41: NOTES :
A42: 43922
...

Sheet Décembre
A1: =(H21&"/ "&I21)
B2: =Août!B2 -> SAISON 2017 - 2018 | S2: 0
B4: =DATE(YEAR(Novembre!B4),MONTH(Novembre!B4)+1,DAY(Novembre!B4)) -> 43070 | S4: Synthé Ouest | T4: 0.75
A6: Synthé Ouest | M6: =NOW() -> 42926.797 | S6: CRÉTEIL
A7: Synthé Est | B7: DATES | C7: ENTRAINEMENT | G7: MATCH | H7: HEURES | I7: TERRAIN | L7: MATCH | M7: HEURES | N7: TERRAIN
A8: Honneur | C8: MATIN | D8: SOIR | G8: CHAMPIONNAT / COUPE | L8: AMICAL
A9: 42917 | B9: =$B$4 -> 43070 | D9: 0.77083333 | F9: =$B$4 -> 43070 | G9: =(CALENDRIER!L4) -> 0 | H9: =IF(MID(G9,1,7)=$S$6,$T$4,"") | I9: =IF(MID(G9,1,7)=$S$6,$S$4,"") | K9: =$B$4 -> 43070 | L9: =(CALENDRIER!M4) -> 0
A10: 42948 | B10: =DATE(YEAR(B9),MONTH(B9),2) -> 43071 | F10: =DATE(YEAR(F9),MONTH(F9),2) -> 43071 | G10: =(CALENDRIER!L5) -> MATCH | H10: =IF(MID(G10,1,7)=$S$6,$T$4,"") | I10: =IF(MID(G10,1,7)=$S$6,$S$4,"") | K10: =DATE(YEAR(K9),MONTH(K9),2) -> 43071 | L10: =(CALENDRIER!M4) -> 0
A11: 42979 | B11: =B10+1 -> 43072 | F11: =F10+1 -> 43072 | G11: =(CALENDRIER!L6) -> 0 | H11: =IF(MID(G11,1,7)=$S$6,$T$4,"") | I11: =IF(MID(G11,1,7)=$S$6,$S$4,"") | K11: =K10+1 -> 43072 | L11: =(CALENDRIER!M5) -> 0
A12: 43009 | B12: =B11+1 -> 43073 | D12: 0.8125 | F12: =F11+1 -> 43073 | G12: =(CALENDRIER!L7) -> 0 | H12: =IF(MID(G12,1,7)=$S$6,$T$4,"") | I12: =IF(MID(G12,1,7)=$S$6,$S$4,"") | K12: =K11+1 -> 43073 | L12: =(CALENDRIER!M6) -> 0
A13: 43040 | B13: =B12+1 -> 43074 | D13: 0.8125 | F13: =F12+1 -> 43074 | G13: =(CALENDRIER!L8) -> 0 | H13: =IF(MID(G13,1,7)=$S$6,$T$4,"") | I13: =IF(MID(G13,1,7)=$S$6,$S$4,"") | K13: =K12+1 -> 43074 | L13: =(CALENDRIER!M7) -> 0
A14: 43070 | B14: =B13+1 -> 43075 | D14: 0.85416667 | F14: =F13+1 -> 43075 | G14: =(CALENDRIER!L9) -> 0 | H14: =IF(MID(G14,1,7)=$S$6,$T$4,"") | I14: =IF(MID(G14,1,7)=$S$6,$S$4,"") | K14: =K13+1 -> 43075 | L14: =(CALENDRIER!M8) -> 0
A15: 43101 | B15: =B14+1 -> 43076 | F15: =F14+1 -> 43076 | G15: =(CALENDRIER!L10) -> 0 | H15: =IF(MID(G15,1,7)=$S$6,$T$4,"") | I15: =IF(MID(G15,1,7)=$S$6,$S$4,"") | K15: =K14+1 -> 43076 | L15: =(CALENDRIER!M9) -> 0
A16: 43132 | B16: =B15+1 -> 43077 | D16: 0.77083333 | F16: =F15+1 -> 43077 | G16: =(CALENDRIER!L11) -> 0 | H16: =IF(MID(G16,1,7)=$S$6,$T$4,"") | I16: =IF(MID(G16,1,7)=$S$6,$S$4,"") | K16: =K15+1 -> 43077 | L16: =(CALENDRIER!M10) -> 0
A17: 43160 | B17: =B16+1 -> 43078 | F17: =F16+1 -> 43078 | G17: =(CALENDRIER!L12) -> 0 | H17: =IF(MID(G17,1,7)=$S$6,$T$4,"") | I17: =IF(MID(G17,1,7)=$S$6,$S$4,"") | K17: =K16+1 -> 43078 | L17: =(CALENDRIER!M11) -> 0
A18: 43191 | B18: =B17+1 -> 43079 | F18: =F17+1 -> 43079 | G18: =(CALENDRIER!L13) -> 0 | H18: =IF(MID(G18,1,7)=$S$6,$T$4,"") | I18: =IF(MID(G18,1,7)=$S$6,$S$4,"") | K18: =K17+1 -> 43079 | L18: =(CALENDRIER!M12) -> 0
A19: 43221 | B19: =B18+1 -> 43080 | D19: 0.8125 | F19: =F18+1 -> 43080 | G19: =(CALENDRIER!L14) -> 0 | H19: =IF(MID(G19,1,7)=$S$6,$T$4,"") | I19: =IF(MID(G19,1,7)=$S$6,$S$4,"") | K19: =K18+1 -> 43080 | L19: =(CALENDRIER!M13) -> 0
A20: 43252 | B20: =B19+1 -> 43081 | D20: 0.8125 | F20: =F19+1 -> 43081 | G20: =(CALENDRIER!L15) -> 0 | H20: =IF(MID(G20,1,7)=$S$6,$T$4,"") | I20: =IF(MID(G20,1,7)=$S$6,$S$4,"") | K20: =K19+1 -> 43081 | L20: =(CALENDRIER!M14) -> 0
A21: 43282 | B21: =B20+1 -> 43082 | D21: 0.85416667 | F21: =F20+1 -> 43082 | G21: =(CALENDRIER!L16) -> 0 | H21: =IF(MID(G21,1,7)=$S$6,$T$4,"") | I21: =IF(MID(G21,1,7)=$S$6,$S$4,"") | K21: =K20+1 -> 43082 | L21: =(CALENDRIER!M15) -> 0
A22: 43313 | B22: =B21+1 -> 43083 | F22: =F21+1 -> 43083 | G22: =(CALENDRIER!L17) -> 0 | H22: =IF(MID(G22,1,7)=$S$6,$T$4,"") | I22: =IF(MID(G22,1,7)=$S$6,$S$4,"") | K22: =K21+1 -> 43083 | L22: =(CALENDRIER!M16) -> 0
A23: 43344 | B23: =B22+1 -> 43084 | D23: 0.77083333 | F23: =F22+1 -> 43084 | G23: =(CALENDRIER!L18) -> 0 | H23: =IF(MID(G23,1,7)=$S$6,$T$4,"") | I23: =IF(MID(G23,1,7)=$S$6,$S$4,"") | K23: =K22+1 -> 43084 | L23: =(CALENDRIER!M17) -> 0
A24: 43374 | B24: =B23+1 -> 43085 | F24: =F23+1 -> 43085 | G24: =(CALENDRIER!L19) -> 0 | H24: =IF(MID(G24,1,7)=$S$6,$T$4,"") | I24: =IF(MID(G24,1,7)=$S$6,$S$4,"") | K24: =K23+1 -> 43085 | L24: =(CALENDRIER!M18) -> 0
A25: 43405 | B25: =B24+1 -> 43086 | F25: =F24+1 -> 43086 | G25: =(CALENDRIER!L20) -> 0 | H25: =IF(MID(G25,1,7)=$S$6,$T$4,"") | I25: =IF(MID(G25,1,7)=$S$6,$S$4,"") | K25: =K24+1 -> 43086 | L25: =(CALENDRIER!M19) -> 0
A26: 43435 | B26: =B25+1 -> 43087 | D26: 0.8125 | F26: =F25+1 -> 43087 | G26: =(CALENDRIER!L21) -> 0 | H26: =IF(MID(G26,1,7)=$S$6,$T$4,"") | I26: =IF(MID(G26,1,7)=$S$6,$S$4,"") | K26: =K25+1 -> 43087 | L26: =(CALENDRIER!M20) -> 0
A27: 43466 | B27: =B26+1 -> 43088 | D27: 0.8125 | F27: =F26+1 -> 43088 | G27: =(CALENDRIER!L22) -> 0 | H27: =IF(MID(G27,1,7)=$S$6,$T$4,"") | I27: =IF(MID(G27,1,7)=$S$6,$S$4,"") | K27: =K26+1 -> 43088 | L27: =(CALENDRIER!M21) -> 0
A28: 43497 | B28: =B27+1 -> 43089 | D28: 0.85416667 | F28: =F27+1 -> 43089 | G28: =(CALENDRIER!L23) -> 0 | H28: =IF(MID(G28,1,7)=$S$6,$T$4,"") | I28: =IF(MID(G28,1,7)=$S$6,$S$4,"") | K28: =K27+1 -> 43089 | L28: =(CALENDRIER!M22) -> 0
A29: 43525 | B29: =B28+1 -> 43090 | F29: =F28+1 -> 43090 | G29: =(CALENDRIER!L24) -> 0 | H29: =IF(MID(G29,1,7)=$S$6,$T$4,"") | I29: =IF(MID(G29,1,7)=$S$6,$S$4,"") | K29: =K28+1 -> 43090 | L29: =(CALENDRIER!M23) -> 0
A30: 43556 | B30: =B29+1 -> 43091 | D30: 0.77083333 | F30: =F29+1 -> 43091 | G30: =(CALENDRIER!L25) -> 0 | H30: =IF(MID(G30,1,7)=$S$6,$T$4,"") | I30: =IF(MID(G30,1,7)=$S$6,$S$4,"") | K30: =K29+1 -> 43091 | L30: =(CALENDRIER!M24) -> 0
A31: 43586 | B31: =B30+1 -> 43092 | F31: =F30+1 -> 43092 | G31: =(CALENDRIER!L26) -> 0 | H31: =IF(MID(G31,1,7)=$S$6,$T$4,"") | I31: =IF(MID(G31,1,7)=$S$6,$S$4,"") | K31: =K30+1 -> 43092 | L31: =(CALENDRIER!M25) -> 0
A32: 43617 | B32: =B31+1 -> 43093 | F32: =F31+1 -> 43093 | G32: =(CALENDRIER!L27) -> 0 | H32: =IF(MID(G32,1,7)=$S$6,$T$4,"") | I32: =IF(MID(G32,1,7)=$S$6,$S$4,"") | K32: =K31+1 -> 43093 | L32: =(CALENDRIER!M26) -> 0
A33: 43647 | B33: =B32+1 -> 43094 | F33: =F32+1 -> 43094 | G33: =(CALENDRIER!L28) -> 0 | H33: =IF(MID(G33,1,7)=$S$6,$T$4,"") | I33: =IF(MID(G33,1,7)=$S$6,$S$4,"") | K33: =K32+1 -> 43094 | L33: =(CALENDRIER!M27) -> 0
A34: 43678 | B34: =B33+1 -> 43095 | F34: =F33+1 -> 43095 | G34: =(CALENDRIER!L29) -> 0 | H34: =IF(MID(G34,1,7)=$S$6,$T$4,"") | I34: =IF(MID(G34,1,7)=$S$6,$S$4,"") | K34: =K33+1 -> 43095 | L34: =(CALENDRIER!M28) -> 0
A35: 43709 | B35: =B34+1 -> 43096 | F35: =F34+1 -> 43096 | G35: =(CALENDRIER!L30) -> 0 | H35: =IF(MID(G35,1,7)=$S$6,$T$4,"") | I35: =IF(MID(G35,1,7)=$S$6,$S$4,"") | K35: =K34+1 -> 43096 | L35: =(CALENDRIER!M29) -> 0
A36: 43739 | B36: =B35+1 -> 43097 | F36: =F35+1 -> 43097 | G36: =(CALENDRIER!L31) -> 0 | H36: =IF(MID(G36,1,7)=$S$6,$T$4,"") | I36: =IF(MID(G36,1,7)=$S$6,$S$4,"") | K36: =K35+1 -> 43097 | L36: =(CALENDRIER!M30) -> 0
A37: 43770 | B37: =IF(OR(MONTH(B36)<>MONTH(B36+1),$B$4=59),REPT("",100),B36+1) -> 43098 | F37: =IF(OR(MONTH(F36)<>MONTH(F36+1),$B$4=59),REPT("",100),F36+1) -> 43098 | G37: =(CALENDRIER!L32) -> 0 | H37: =IF(MID(G37,1,7)=$S$6,$T$4,"") | I37: =IF(MID(G37,1,7)=$S$6,$S$4,"") | K37: =IF(OR(MONTH(K36)<>MONTH(K36+1),$B$4=59),REPT("",100),K36+1) -> 43098 | L37: =(CALENDRIER!M31) -> 0
A38: 43800 | B38: =IF(MONTH(B36)<>MONTH(B36+2),REPT("",100),B37+1) -> 43099 | F38: =IF(MONTH(F36)<>MONTH(F36+2),REPT("",100),F37+1) -> 43099 | G38: =(CALENDRIER!L33) -> 0 | H38: =IF(MID(G38,1,7)=$S$6,$T$4,"") | I38: =IF(MID(G38,1,7)=$S$6,$S$4,"") | K38: =IF(MONTH(K36)<>MONTH(K36+2),REPT("",100),K37+1) -> 43099 | L38: =(CALENDRIER!M32) -> 0
A39: 43831 | B39: =IF(MONTH(B36)<>MONTH(B36+3),REPT("",100),B38+1) -> 43100 | F39: =IF(MONTH(F36)<>MONTH(F36+3),REPT("",100),F38+1) -> 43100 | G39: =(CALENDRIER!L34) -> 0 | H39: =IF(MID(G39,1,7)=$S$6,$T$4,"") | I39: =IF(MID(G39,1,7)=$S$6,$S$4,"") | K39: =IF(MONTH(K36)<>MONTH(K36+3),REPT("",100),K38+1) -> 43100 | L39: =(CALENDRIER!M33) -> 0
A40: 43862
A41: 43891 | B41: NOTES :
A42: 43922
...

Sheet Janvier
A1: =(H21&"/ "&I21)
B2: =Août!B2 -> SAISON 2017 - 2018 | S2: 0
B4: =DATE(YEAR(Décembre!B4),MONTH(Décembre!B4)+1,DAY(Décembre!B4)) -> 43101 | S4: Synthé Ouest | T4: 0.75
A6: Synthé Ouest | M6: =NOW() -> 42926.797 | S6: CRÉTEIL
A7: Synthé Est | B7: DATES | C7: ENTRAINEMENT | G7: MATCH | H7: HEURES | I7: TERRAIN | L7: MATCH | M7: HEURES | N7: TERRAIN
A8: Honneur | C8: MATIN | D8: SOIR | G8: CHAMPIONNAT / COUPE | L8: AMICAL
A9: 42917 | B9: =$B$4 -> 43101 | F9: =$B$4 -> 43101 | G9: =(CALENDRIER!N4) -> 0 | H9: =IF(MID(G9,1,7)=$S$6,$T$4,"") | I9: =IF(MID(G9,1,7)=$S$6,$S$4,"") | K9: =$B$4 -> 43101 | L9: =(CALENDRIER!O4) -> 0
A10: 42948 | B10: =DATE(YEAR(B9),MONTH(B9),2) -> 43102 | F10: =DATE(YEAR(F9),MONTH(F9),2) -> 43102 | G10: =(CALENDRIER!N5) -> 0 | H10: =IF(MID(G10,1,7)=$S$6,$T$4,"") | I10: =IF(MID(G10,1,7)=$S$6,$S$4,"") | K10: =DATE(YEAR(K9),MONTH(K9),2) -> 43102 | L10: =(CALENDRIER!O5) -> 0
A11: 42979 | B11: =B10+1 -> 43103 | F11: =F10+1 -> 43103 | G11: =(CALENDRIER!N6) -> 0 | H11: =IF(MID(G11,1,7)=$S$6,$T$4,"") | I11: =IF(MID(G11,1,7)=$S$6,$S$4,"") | K11: =K10+1 -> 43103 | L11: =(CALENDRIER!O6) -> 0
A12: 43009 | B12: =B11+1 -> 43104 | F12: =F11+1 -> 43104 | G12: =(CALENDRIER!N7) -> 0 | H12: =IF(MID(G12,1,7)=$S$6,$T$4,"") | I12: =IF(MID(G12,1,7)=$S$6,$S$4,"") | K12: =K11+1 -> 43104 | L12: =(CALENDRIER!O7) -> 0
A13: 43040 | B13: =B12+1 -> 43105 | F13: =F12+1 -> 43105 | G13: =(CALENDRIER!N8) -> 0 | H13: =IF(MID(G13,1,7)=$S$6,$T$4,"") | I13: =IF(MID(G13,1,7)=$S$6,$S$4,"") | K13: =K12+1 -> 43105 | L13: =(CALENDRIER!O8) -> 0
A14: 43070 | B14: =B13+1 -> 43106 | F14: =F13+1 -> 43106 | G14: =(CALENDRIER!N9) -> 0 | H14: =IF(MID(G14,1,7)=$S$6,$T$4,"") | I14: =IF(MID(G14,1,7)=$S$6,$S$4,"") | K14: =K13+1 -> 43106 | L14: =(CALENDRIER!O9) -> 0
A15: 43101 | B15: =B14+1 -> 43107 | F15: =F14+1 -> 43107 | G15: =(CALENDRIER!N10) -> 0 | H15: =IF(MID(G15,1,7)=$S$6,$T$4,"") | I15: =IF(MID(G15,1,7)=$S$6,$S$4,"") | K15: =K14+1 -> 43107 | L15: =(CALENDRIER!O10) -> 0
A16: 43132 | B16: =B15+1 -> 43108 | D16: 0.8125 | F16: =F15+1 -> 43108 | G16: =(CALENDRIER!N11) -> 0 | H16: =IF(MID(G16,1,7)=$S$6,$T$4,"") | I16: =IF(MID(G16,1,7)=$S$6,$S$4,"") | K16: =K15+1 -> 43108 | L16: =(CALENDRIER!O11) -> 0
A17: 43160 | B17: =B16+1 -> 43109 | D17: 0.8125 | F17: =F16+1 -> 43109 | G17: =(CALENDRIER!N12) -> 0 | H17: =IF(MID(G17,1,7)=$S$6,$T$4,"") | I17: =IF(MID(G17,1,7)=$S$6,$S$4,"") | K17: =K16+1 -> 43109 | L17: =(CALENDRIER!O12) -> 0
A18: 43191 | B18: =B17+1 -> 43110 | D18: 0.85416667 | F18: =F17+1 -> 43110 | G18: =(CALENDRIER!N13) -> 0 | H18: =IF(MID(G18,1,7)=$S$6,$T$4,"") | I18: =IF(MID(G18,1,7)=$S$6,$S$4,"") | K18: =K17+1 -> 43110 | L18: =(CALENDRIER!O13) -> 0
A19: 43221 | B19: =B18+1 -> 43111 | F19: =F18+1 -> 43111 | G19: =(CALENDRIER!N14) -> 0 | H19: =IF(MID(G19,1,7)=$S$6,$T$4,"") | I19: =IF(MID(G19,1,7)=$S$6,$S$4,"") | K19: =K18+1 -> 43111 | L19: =(CALENDRIER!O14) -> 0
A20: 43252 | B20: =B19+1 -> 43112 | D20: 0.77083333 | F20: =F19+1 -> 43112 | G20: =(CALENDRIER!N15) -> 0 | H20: =IF(MID(G20,1,7)=$S$6,$T$4,"") | I20: =IF(MID(G20,1,7)=$S$6,$S$4,"") | K20: =K19+1 -> 43112 | L20: =(CALENDRIER!O15) -> 0
A21: 43282 | B21: =B20+1 -> 43113 | F21: =F20+1 -> 43113 | G21: =(CALENDRIER!N16) -> 0 | H21: =IF(MID(G21,1,7)=$S$6,$T$4,"") | I21: =IF(MID(G21,1,7)=$S$6,$S$4,"") | K21: =K20+1 -> 43113 | L21: =(CALENDRIER!O16) -> 0
A22: 43313 | B22: =B21+1 -> 43114 | F22: =F21+1 -> 43114 | G22: =(CALENDRIER!N17) -> 0 | H22: =IF(MID(G22,1,7)=$S$6,$T$4,"") | I22: =IF(MID(G22,1,7)=$S$6,$S$4,"") | K22: =K21+1 -> 43114 | L22: =(CALENDRIER!O17) -> 0
A23: 43344 | B23: =B22+1 -> 43115 | D23: 0.8125 | F23: =F22+1 -> 43115 | G23: =(CALENDRIER!N18) -> 0 | H23: =IF(MID(G23,1,7)=$S$6,$T$4,"") | I23: =IF(MID(G23,1,7)=$S$6,$S$4,"") | K23: =K22+1 -> 43115 | L23: =(CALENDRIER!O18) -> 0
A24: 43374 | B24: =B23+1 -> 43116 | D24: 0.8125 | F24: =F23+1 -> 43116 | G24: =(CALENDRIER!N19) -> 0 | H24: =IF(MID(G24,1,7)=$S$6,$T$4,"") | I24: =IF(MID(G24,1,7)=$S$6,$S$4,"") | K24: =K23+1 -> 43116 | L24: =(CALENDRIER!O19) -> 0
A25: 43405 | B25: =B24+1 -> 43117 | D25: 0.85416667 | F25: =F24+1 -> 43117 | G25: =(CALENDRIER!N20) -> 0 | H25: =IF(MID(G25,1,7)=$S$6,$T$4,"") | I25: =IF(MID(G25,1,7)=$S$6,$S$4,"") | K25: =K24+1 -> 43117 | L25: =(CALENDRIER!O20) -> 0
A26: 43435 | B26: =B25+1 -> 43118 | F26: =F25+1 -> 43118 | G26: =(CALENDRIER!N21) -> 0 | H26: =IF(MID(G26,1,7)=$S$6,$T$4,"") | I26: =IF(MID(G26,1,7)=$S$6,$S$4,"") | K26: =K25+1 -> 43118 | L26: =(CALENDRIER!O21) -> 0
A27: 43466 | B27: =B26+1 -> 43119 | D27: 0.77083333 | F27: =F26+1 -> 43119 | G27: =(CALENDRIER!N22) -> 0 | H27: =IF(MID(G27,1,7)=$S$6,$T$4,"") | I27: =IF(MID(G27,1,7)=$S$6,$S$4,"") | K27: =K26+1 -> 43119 | L27: =(CALENDRIER!O22) -> 0
A28: 43497 | B28: =B27+1 -> 43120 | F28: =F27+1 -> 43120 | G28: =(CALENDRIER!N23) -> 0 | H28: =IF(MID(G28,1,7)=$S$6,$T$4,"") | I28: =IF(MID(G28,1,7)=$S$6,$S$4,"") | K28: =K27+1 -> 43120 | L28: =(CALENDRIER!O23) -> 0
A29: 43525 | B29: =B28+1 -> 43121 | F29: =F28+1 -> 43121 | G29: =(CALENDRIER!N24) -> 0 | H29: =IF(MID(G29,1,7)=$S$6,$T$4,"") | I29: =IF(MID(G29,1,7)=$S$6,$S$4,"") | K29: =K28+1 -> 43121 | L29: =(CALENDRIER!O24) -> 0
A30: 43556 | B30: =B29+1 -> 43122 | D30: 0.8125 | F30: =F29+1 -> 43122 | G30: =(CALENDRIER!N25) -> 0 | H30: =IF(MID(G30,1,7)=$S$6,$T$4,"") | I30: =IF(MID(G30,1,7)=$S$6,$S$4,"") | K30: =K29+1 -> 43122 | L30: =(CALENDRIER!O25) -> 0
A31: 43586 | B31: =B30+1 -> 43123 | D31: 0.8125 | F31: =F30+1 -> 43123 | G31: =(CALENDRIER!N26) -> 0 | H31: =IF(MID(G31,1,7)=$S$6,$T$4,"") | I31: =IF(MID(G31,1,7)=$S$6,$S$4,"") | K31: =K30+1 -> 43123 | L31: =(CALENDRIER!O26) -> 0
A32: 43617 | B32: =B31+1 -> 43124 | D32: 0.85416667 | F32: =F31+1 -> 43124 | G32: =(CALENDRIER!N27) -> 0 | H32: =IF(MID(G32,1,7)=$S$6,$T$4,"") | I32: =IF(MID(G32,1,7)=$S$6,$S$4,"") | K32: =K31+1 -> 43124 | L32: =(CALENDRIER!O27) -> 0
A33: 43647 | B33: =B32+1 -> 43125 | F33: =F32+1 -> 43125 | G33: =(CALENDRIER!N28) -> 0 | H33: =IF(MID(G33,1,7)=$S$6,$T$4,"") | I33: =IF(MID(G33,1,7)=$S$6,$S$4,"") | K33: =K32+1 -> 43125 | L33: =(CALENDRIER!O28) -> 0
A34: 43678 | B34: =B33+1 -> 43126 | D34: 0.77083333 | F34: =F33+1 -> 43126 | G34: =(CALENDRIER!N29) -> 0 | H34: =IF(MID(G34,1,7)=$S$6,$T$4,"") | I34: =IF(MID(G34,1,7)=$S$6,$S$4,"") | K34: =K33+1 -> 43126 | L34: =(CALENDRIER!O29) -> 0
A35: 43709 | B35: =B34+1 -> 43127 | F35: =F34+1 -> 43127 | G35: =(CALENDRIER!N30) -> 0 | H35: =IF(MID(G35,1,7)=$S$6,$T$4,"") | I35: =IF(MID(G35,1,7)=$S$6,$S$4,"") | K35: =K34+1 -> 43127 | L35: =(CALENDRIER!O30) -> 0
A36: 43739 | B36: =B35+1 -> 43128 | F36: =F35+1 -> 43128 | G36: =(CALENDRIER!N31) -> 0 | H36: =IF(MID(G36,1,7)=$S$6,$T$4,"") | I36: =IF(MID(G36,1,7)=$S$6,$S$4,"") | K36: =K35+1 -> 43128 | L36: =(CALENDRIER!O31) -> 0
A37: 43770 | B37: =IF(OR(MONTH(B36)<>MONTH(B36+1),$B$4=59),REPT("",100),B36+1) -> 43129 | D37: 0.8125 | F37: =IF(OR(MONTH(F36)<>MONTH(F36+1),$B$4=59),REPT("",100),F36+1) -> 43129 | G37: =(CALENDRIER!N32) -> 0 | H37: =IF(MID(G37,1,7)=$S$6,$T$4,"") | I37: =IF(MID(G37,1,7)=$S$6,$S$4,"") | K37: =IF(OR(MONTH(K36)<>MONTH(K36+1),$B$4=59),REPT("",100),K36+1) -> 43129 | L37: =(CALENDRIER!O32) -> 0
A38: 43800 | B38: =IF(MONTH(B36)<>MONTH(B36+2),REPT("",100),B37+1) -> 43130 | D38: 0.8125 | F38: =IF(MONTH(F36)<>MONTH(F36+2),REPT("",100),F37+1) -> 43130 | G38: =(CALENDRIER!N33) -> 0 | H38: =IF(MID(G38,1,7)=$S$6,$T$4,"") | I38: =IF(MID(G38,1,7)=$S$6,$S$4,"") | K38: =IF(MONTH(K36)<>MONTH(K36+2),REPT("",100),K37+1) -> 43130 | L38: =(CALENDRIER!O33) -> 0
A39: 43831 | B39: =IF(MONTH(B36)<>MONTH(B36+3),REPT("",100),B38+1) -> 43131 | D39: 0.85416667 | F39: =IF(MONTH(F36)<>MONTH(F36+3),REPT("",100),F38+1) -> 43131 | G39: =(CALENDRIER!N34) -> 0 | H39: =IF(MID(G39,1,7)=$S$6,$T$4,"") | I39: =IF(MID(G39,1,7)=$S$6,$S$4,"") | K39: =IF(MONTH(K36)<>MONTH(K36+3),REPT("",100),K38+1) -> 43131 | L39: =(CALENDRIER!O34) -> 0
A40: 43862
A41: 43891 | B41: NOTES :
A42: 43922
...

Sheet Février
A1: =(H21&"/ "&I21)
B2: =Août!B2 -> SAISON 2017 - 2018 | P2: =B5 -> 0 | S2: 0
B4: =DATE(YEAR(Janvier!B4),MONTH(Janvier!B4)+1,DAY(Janvier!B4)) -> 43132 | S4: Synthé Ouest | T4: 0.75
A6: Synthé Ouest | M6: =NOW() -> 42926.797 | S6: CRÉTEIL
A7: Synthé Est | B7: DATES | C7: ENTRAINEMENT | G7: MATCH | H7: HEURES | I7: TERRAIN | L7: MATCH | M7: HEURES | N7: TERRAIN
A8: Honneur | C8: MATIN | D8: SOIR | G8: CHAMPIONNAT / COUPE | L8: AMICAL
A9: 42917 | B9: =$B$4 -> 43132 | F9: =$B$4 -> 43132 | G9: =(CALENDRIER!P4) -> 0 | H9: =IF(MID(G9,1,7)=$S$6,$T$4,"") | I9: =IF(MID(G9,1,7)=$S$6,$S$4,"") | K9: =$B$4 -> 43132 | L9: =(CALENDRIER!Q4) -> 0
A10: 42948 | B10: =DATE(YEAR(B9),MONTH(B9),2) -> 43133 | D10: 0.77083333 | F10: =DATE(YEAR(F9),MONTH(F9),2) -> 43133 | G10: =(CALENDRIER!P5) -> 0 | H10: =IF(MID(G10,1,7)=$S$6,$T$4,"") | I10: =IF(MID(G10,1,7)=$S$6,$S$4,"") | K10: =DATE(YEAR(K9),MONTH(K9),2) -> 43133 | L10: =(CALENDRIER!Q5) -> 0
A11: 42979 | B11: =B10+1 -> 43134 | F11: =F10+1 -> 43134 | G11: =(CALENDRIER!P6) -> 0 | H11: =IF(MID(G11,1,7)=$S$6,$T$4,"") | I11: =IF(MID(G11,1,7)=$S$6,$S$4,"") | K11: =K10+1 -> 43134 | L11: =(CALENDRIER!Q6) -> 0
A12: 43009 | B12: =B11+1 -> 43135 | F12: =F11+1 -> 43135 | G12: =(CALENDRIER!P7) -> 0 | H12: =IF(MID(G12,1,7)=$S$6,$T$4,"") | I12: =IF(MID(G12,1,7)=$S$6,$S$4,"") | K12: =K11+1 -> 43135 | L12: =(CALENDRIER!Q7) -> 0
A13: 43040 | B13: =B12+1 -> 43136 | D13: 0.8125 | F13: =F12+1 -> 43136 | G13: =(CALENDRIER!P8) -> 0 | H13: =IF(MID(G13,1,7)=$S$6,$T$4,"") | I13: =IF(MID(G13,1,7)=$S$6,$S$4,"") | K13: =K12+1 -> 43136 | L13: =(CALENDRIER!Q8) -> 0
A14: 43070 | B14: =B13+1 -> 43137 | D14: 0.8125 | F14: =F13+1 -> 43137 | G14: =(CALENDRIER!P9) -> 0 | H14: =IF(MID(G14,1,7)=$S$6,$T$4,"") | I14: =IF(MID(G14,1,7)=$S$6,$S$4,"") | K14: =K13+1 -> 43137 | L14: =(CALENDRIER!Q9) -> 0
A15: 43101 | B15: =B14+1 -> 43138 | D15: 0.85416667 | F15: =F14+1 -> 43138 | G15: =(CALENDRIER!P10) -> 0 | H15: =IF(MID(G15,1,7)=$S$6,$T$4,"") | I15: =IF(MID(G15,1,7)=$S$6,$S$4,"") | K15: =K14+1 -> 43138 | L15: =(CALENDRIER!Q10) -> 0
A16: 43132 | B16: =B15+1 -> 43139 | F16: =F15+1 -> 43139 | G16: =(CALENDRIER!P11) -> 0 | H16: =IF(MID(G16,1,7)=$S$6,$T$4,"") | I16: =IF(MID(G16,1,7)=$S$6,$S$4,"") | K16: =K15+1 -> 43139 | L16: =(CALENDRIER!Q11) -> 0
A17: 43160 | B17: =B16+1 -> 43140 | D17: 0.77083333 | F17: =F16+1 -> 43140 | G17: =(CALENDRIER!P12) -> 0 | H17: =IF(MID(G17,1,7)=$S$6,$T$4,"") | I17: =IF(MID(G17,1,7)=$S$6,$S$4,"") | K17: =K16+1 -> 43140 | L17: =(CALENDRIER!Q12) -> 0
A18: 43191 | B18: =B17+1 -> 43141 | F18: =F17+1 -> 43141 | G18: =(CALENDRIER!P13) -> 0 | H18: =IF(MID(G18,1,7)=$S$6,$T$4,"") | I18: =IF(MID(G18,1,7)=$S$6,$S$4,"") | K18: =K17+1 -> 43141 | L18: =(CALENDRIER!Q13) -> 0
A19: 43221 | B19: =B18+1 -> 43142 | F19: =F18+1 -> 43142 | G19: =(CALENDRIER!P14) -> 0 | H19: =IF(MID(G19,1,7)=$S$6,$T$4,"") | I19: =IF(MID(G19,1,7)=$S$6,$S$4,"") | K19: =K18+1 -> 43142 | L19: =(CALENDRIER!Q14) -> 0
A20: 43252 | B20: =B19+1 -> 43143 | D20: 0.8125 | F20: =F19+1 -> 43143 | G20: =(CALENDRIER!P15) -> 0 | H20: =IF(MID(G20,1,7)=$S$6,$T$4,"") | I20: =IF(MID(G20,1,7)=$S$6,$S$4,"") | K20: =K19+1 -> 43143 | L20: =(CALENDRIER!Q15) -> 0
A21: 43282 | B21: =B20+1 -> 43144 | D21: 0.8125 | F21: =F20+1 -> 43144 | G21: =(CALENDRIER!P16) -> 0 | H21: =IF(MID(G21,1,7)=$S$6,$T$4,"") | I21: =IF(MID(G21,1,7)=$S$6,$S$4,"") | K21: =K20+1 -> 43144 | L21: =(CALENDRIER!Q16) -> 0
A22: 43313 | B22: =B21+1 -> 43145 | D22: 0.85416667 | F22: =F21+1 -> 43145 | G22: =(CALENDRIER!P17) -> 0 | H22: =IF(MID(G22,1,7)=$S$6,$T$4,"") | I22: =IF(MID(G22,1,7)=$S$6,$S$4,"") | K22: =K21+1 -> 43145 | L22: =(CALENDRIER!Q17) -> 0
A23: 43344 | B23: =B22+1 -> 43146 | F23: =F22+1 -> 43146 | G23: =(CALENDRIER!P18) -> 0 | H23: =IF(MID(G23,1,7)=$S$6,$T$4,"") | I23: =IF(MID(G23,1,7)=$S$6,$S$4,"") | K23: =K22+1 -> 43146 | L23: =(CALENDRIER!Q18) -> 0
A24: 43374 | B24: =B23+1 -> 43147 | D24: 0.77083333 | F24: =F23+1 -> 43147 | G24: =(CALENDRIER!P19) -> 0 | H24: =IF(MID(G24,1,7)=$S$6,$T$4,"") | I24: =IF(MID(G24,1,7)=$S$6,$S$4,"") | K24: =K23+1 -> 43147 | L24: =(CALENDRIER!Q19) -> 0
A25: 43405 | B25: =B24+1 -> 43148 | F25: =F24+1 -> 43148 | G25: =(CALENDRIER!P20) -> 0 | H25: =IF(MID(G25,1,7)=$S$6,$T$4,"") | I25: =IF(MID(G25,1,7)=$S$6,$S$4,"") | K25: =K24+1 -> 43148 | L25: =(CALENDRIER!Q20) -> 0
A26: 43435 | B26: =B25+1 -> 43149 | F26: =F25+1 -> 43149 | G26: =(CALENDRIER!P21) -> 0 | H26: =IF(MID(G26,1,7)=$S$6,$T$4,"") | I26: =IF(MID(G26,1,7)=$S$6,$S$4,"") | K26: =K25+1 -> 43149 | L26: =(CALENDRIER!Q21) -> 0
A27: 43466 | B27: =B26+1 -> 43150 | D27: 0.8125 | F27: =F26+1 -> 43150 | G27: =(CALENDRIER!P22) -> 0 | H27: =IF(MID(G27,1,7)=$S$6,$T$4,"") | I27: =IF(MID(G27,1,7)=$S$6,$S$4,"") | K27: =K26+1 -> 43150 | L27: =(CALENDRIER!Q22) -> 0
A28: 43497 | B28: =B27+1 -> 43151 | D28: 0.8125 | F28: =F27+1 -> 43151 | G28: =(CALENDRIER!P23) -> 0 | H28: =IF(MID(G28,1,7)=$S$6,$T$4,"") | I28: =IF(MID(G28,1,7)=$S$6,$S$4,"") | K28: =K27+1 -> 43151 | L28: =(CALENDRIER!Q23) -> 0
