Workbook
Name code: #REF!
Name code: #REF!
Name code: #REF!
Name code: #REF!
Name code: #REF!
Name code: #REF!
Name code: #REF!
Name code: #REF!
Name code: #REF!
Name code: #REF!
Name code: #REF!
Name code: #REF!
Name code: #REF!
Name code: #REF!
Name code: #REF!
Name code2: #REF!,#REF!
Name code2: #REF!,#REF!
Name code2: #REF!,#REF!
Name code2: #REF!,#REF!
Name code2: #REF!,#REF!
Name code2: #REF!,#REF!
Name code2: #REF!,#REF!
Name code2: #REF!,#REF!
Name code2: #REF!,#REF!
Name code2: #REF!,#REF!
Name code2: #REF!,#REF!
Name code2: #REF!,#REF!
Name code2: #REF!,#REF!
Name code2: #REF!,#REF!
Name code2: #REF!,#REF!

Sheet MASTER
A2: 2018 | L2: =TODAY() -> 43085
A3: =#REF! -> #REF! | B3: =#REF! -> #REF! | C3: AGENT 1 | D3: AGENT 2 | E3: AGENT 3 | F3: AGENT 4 | G3: AGENT 5 | H3: AGENT 6 | L3: =TODAY() -> 43085
B4: =SUM('1:15'!$I$185) -> 0 | N4: 43101 | O4: =N8+7 -> 43136 | P4: =O7+7 -> 43164 | Q4: =P7+7 -> 43192 | R4: =Q8+7 -> 43227 | S4: =N25+7 -> 43255 | T4: =S7+7 -> 43283 | U4: =T8+7 -> 43318 | V4: =U7+7 -> 43346 | W4: =V7+7 -> 43374 | X4: =W8+7 -> 43409 | Y4: =X7+7 -> 43437
B5: =SUM('1:15'!$I$196) -> 0 | N5: =N4+7 -> 43108 | O5: =O4+7 -> 43143 | P5: =P4+7 -> 43171 | Q5: =Q4+7 -> 43199 | R5: =R4+7 -> 43234 | S5: =S4+7 -> 43262 | T5: =T4+7 -> 43290 | U5: =U4+7 -> 43325 | ... Y5: =Y4+7 -> 43444
B6: =SUM('1:15'!$I$130) -> 0 | N6: =N5+7 -> 43115 | O6: =O5+7 -> 43150 | P6: =P5+7 -> 43178 | Q6: =Q5+7 -> 43206 | R6: =R5+7 -> 43241 | S6: =S5+7 -> 43269 | T6: =T5+7 -> 43297 | U6: =U5+7 -> 43332 | ... Y6: =Y5+7 -> 43451
B7: =SUM('1:15'!$I$75) -> 0 | N7: =N6+7 -> 43122 | O7: =O6+7 -> 43157 | P7: =P6+7 -> 43185 | Q7: =Q6+7 -> 43213 | R7: =R6+7 -> 43248 | S7: =S6+7 -> 43276 | T7: =T6+7 -> 43304 | U7: =U6+7 -> 43339 | ... Y7: =Y6+7 -> 43458
B8: =SUM('1:15'!$I$64) -> 0 | N8: =N7+7 -> 43129 | Q8: =Q7+7 -> 43220 | T8: =T7+7 -> 43311 | W8: =W7+7 -> 43402 | Y8: =Y7+7 -> 43465
B9: =SUM('1:15'!$I$174) -> 0
B10: =SUM('1:15'!$I$53) -> 0
B11: =SUM('1:15'!$I$97) -> 0
B12: =SUM('1:15'!$I$119) -> 0
B13: =SUM('1:15'!$I$141) -> 0
B14: =SUM('1:15'!$I$152) -> 0
B15: =SUM('1:15'!$I$251) -> 0
B16: =SUM('1:15'!$I$207) -> 0
B17: =SUM('1:15'!$I$163) -> 0
B18: =SUM('1:15'!$I$229) -> 0
B23: =SUM('1:15'!$I$86) -> 0
B24: =SUM('1:15'!$I$108) -> 0
B25: =SUM('1:15'!$I$262) -> 0 | N25: =R6+7 -> 43248
B26: =SUM('1:15'!$I$218) -> 0
A32: =#REF! -> #REF!
B33: =SUM('1:15'!$I$273) -> 0
B34: =SUM('1:15'!$I$284) -> 0
B35: =SUM('1:15'!$I$295) -> 0
B36: =SUM('1:15'!$I$306) -> 0
B37: =SUM('1:15'!$I$317) -> 0
B38: =SUM('1:15'!$I$328) -> 0
B39: =SUM('1:15'!$I$339) -> 0
B40: =SUM('1:15'!$I$350) -> 0
B41: =SUM('1:15'!$I$361) -> 0
B42: =SUM('1:15'!$I$372) -> 0
B43: =SUM('1:15'!$I$383) -> 0
B44: =SUM('1:15'!$I$394) -> 0
A54: INFORMATIONS DIVERSES :

Sheet 1
C1: 1 | K1: =MASTER!A2 -> 2018 | L1: =(#REF!) -> #REF!
B2: Répartition des Tâches
D3: =DATE(K1,1,3)-WEEKDAY(DATE(K1,1,3))+7*$C$1-5 -> 43101 | E3: =DATE(K1,1,3)-WEEKDAY(DATE(K1,1,3))+7*$C$1-5 -> 43101 | G3: au | I3: =DATE(K1,1,3)-WEEKDAY(DATE(K1,1,3))+7*$C$1-1 -> 43105
J4: =NOW() -> 43085.529
A5: FALSE | B5: =IF(A5=TRUE,$N$34,"")
R14: Lundi
N15: =IF(AND(I12<>""),(A+1)) -> FALSE | R15: Mardi
R16: Mercredi
N17: =#REF! -> #REF! | P17: =#REF! -> #REF! | R17: Jeudi
N18: =#REF! -> #REF! | P18: =#REF! -> #REF! | R18: Vendredi | U18: {=IFERROR(OFFSET(#REF!,MATCH(0,COUNTIF(U$17:U17,$I$11:$I$21),0),),"")} | V18: {=IFERROR(OFFSET(#REF!,MATCH(0,COUNTIF(V$17:V17,$K$11:$K$21),0),),"")}
N19: =#REF! -> #REF! | P19: =#REF! -> #REF! | U19: {=IFERROR(OFFSET(#REF!,MATCH(0,COUNTIF(U$17:U18,$I$11:$I$21),0),),"")} | V19: {=IFERROR(OFFSET(#REF!,MATCH(0,COUNTIF(V$17:V18,$K$11:$K$21),0),),"")}
N20: =#REF! -> #REF! | O20: / | P20: =#REF! -> #REF! | R20: * | U20: {=IFERROR(OFFSET(#REF!,MATCH(0,COUNTIF(U$17:U19,$I$11:$I$21),0),),"")} | V20: {=IFERROR(OFFSET(#REF!,MATCH(0,COUNTIF(V$17:V19,$K$11:$K$21),0),),"")}
N21: =#REF! -> #REF! | O21: X | U21: {=IFERROR(OFFSET(#REF!,MATCH(0,COUNTIF(U$17:U20,$I$11:$I$21),0),),"")} | V21: {=IFERROR(OFFSET(#REF!,MATCH(0,COUNTIF(V$17:V20,$K$11:$K$21),0),),"")}
N22: =#REF! -> #REF! | U22: {=IFERROR(OFFSET(#REF!,MATCH(0,COUNTIF(U$17:U21,$I$11:$I$21),0),),"")} | V22: {=IFERROR(OFFSET(#REF!,MATCH(0,COUNTIF(V$17:V21,$K$11:$K$21),0),),"")}
N23: =#REF! -> #REF! | U23: {=IFERROR(OFFSET(#REF!,MATCH(0,COUNTIF(U$17:U22,$I$11:$I$21),0),),"")} | V23: {=IFERROR(OFFSET(#REF!,MATCH(0,COUNTIF(V$17:V22,$K$11:$K$21),0),),"")}
N24: =#REF! -> #REF! | P24: =#REF! -> #REF! | U24: {=IFERROR(OFFSET(#REF!,MATCH(0,COUNTIF(U$17:U23,$I$11:$I$21),0),),"")} | V24: {=IFERROR(OFFSET(#REF!,MATCH(0,COUNTIF(V$17:V23,$K$11:$K$21),0),),"")}
A25: FALSE | N25: =#REF! -> #REF! | P25: =#REF! -> #REF! | U25: {=IFERROR(OFFSET(#REF!,MATCH(0,COUNTIF(U$17:U24,$I$11:$I$21),0),),"")} | V25: {=IFERROR(OFFSET(#REF!,MATCH(0,COUNTIF(V$17:V24,$K$11:$K$21),0),),"")}
N26: =#REF! -> #REF! | P26: =#REF! -> #REF! | U26: {=IFERROR(OFFSET(#REF!,MATCH(0,COUNTIF(U$17:U25,$I$11:$I$21),0),),"")} | V26: {=IFERROR(OFFSET(#REF!,MATCH(0,COUNTIF(V$17:V25,$K$11:$K$21),0),),"")}
P27: =#REF! -> #REF! | U27: {=IFERROR(OFFSET(#REF!,MATCH(0,COUNTIF(U$17:U26,$I$11:$I$18),0),),"")} | V27: {=IFERROR(OFFSET(#REF!,MATCH(0,COUNTIF(V$17:V26,$K$11:$K$18),0),),"")}
N28: =#REF! -> #REF! | P28: =#REF! -> #REF!
N29: =#REF! -> #REF! | P29: =#REF! -> #REF!
N30: =#REF! -> #REF! | P30: =#REF! -> #REF!
P31: =#REF! -> #REF!
P32: =#REF! -> #REF!
N33: SEMAINE APRÈS MATCH | P33: =#REF! -> #REF!
N34: SEMAINE MATCH | P34: =#REF! -> #REF!
P35: =#REF! -> #REF!
A53: 1 | B53: =$N$17 -> #REF! | F53: =COUNTIF($I$17,N17) -> 0 | G53: =COUNTIF($J$17,N17) -> 0 | H53: =COUNTIF($K$17,N17) -> 0 | I53: =SUM(D53:H53) -> 0
A54: 2 | B54: =$N$18 -> #REF! | F54: =COUNTIF($I$17,N18) -> 0 | G54: =COUNTIF($J$17,N18) -> 0 | H54: =COUNTIF($K$17,N18) -> 0 | I54: =SUM(D54:H54) -> 0
A55: 3 | B55: =$N$19 -> #REF! | F55: =COUNTIF($I$17,N19) -> 0 | G55: =COUNTIF($J$17,N19) -> 0 | H55: =COUNTIF($K$17,N19) -> 0 | I55: =SUM(D55:H55) -> 0
A56: 4 | B56: =$N$20 -> #REF! | F56: =COUNTIF($I$17,N20) -> 0 | G56: =COUNTIF($J$17,N20) -> 0 | H56: =COUNTIF($K$17,N20) -> 0 | I56: =SUM(D56:H56) -> 0
A57: 5 | B57: =$N$21 -> #REF! | F57: =COUNTIF($I$17,N21) -> 0 | G57: =COUNTIF($J$17,N21) -> 0 | H57: =COUNTIF($K$17,N21) -> 0 | I57: =SUM(D57:H57) -> 0 | K57: =#REF! -> #REF!
A58: 6 | B58: =$N$22 -> #REF! | F58: =COUNTIF($I$17,N22) -> 0 | G58: =COUNTIF($J$17,N22) -> 0 | H58: =COUNTIF($K$17,N22) -> 0 | I58: =SUM(D58:H58) -> 0
A59: 7 | B59: =$N$23 -> #REF! | F59: =COUNTIF($I$17,N23) -> 0 | G59: =COUNTIF($J$17,N23) -> 0 | H59: =COUNTIF($K$17,N23) -> 0 | I59: =SUM(D59:H59) -> 0
A60: 8 | B60: =$N$24 -> #REF! | F60: =COUNTIF($I$17,N24) -> 0 | G60: =COUNTIF($J$17,N24) -> 0 | H60: =COUNTIF($K$17,N24) -> 0 | I60: =SUM(D60:H60) -> 0
A61: 9 | B61: =$N$25 -> #REF! | F61: =COUNTIF($I$17,N25) -> 0 | G61: =COUNTIF($J$17,N25) -> 0 | H61: =COUNTIF($K$17,N25) -> 0 | I61: =SUM(D61:H61) -> 0
A62: 10 | B62: =$N$26 -> #REF! | F62: =COUNTIF($I$17,N26) -> 0 | G62: =COUNTIF($J$17,N26) -> 0 | H62: =COUNTIF($K$17,N26) -> 0 | I62: =SUM(D62:H62) -> 0
A63: 11
A64: 12 | B64: =$N$17 -> #REF! | F64: =COUNTIF($I$13,N17) -> 0 | G64: =COUNTIF($J$13,N17) -> 0 | H64: =COUNTIF($K$13,N17) -> 0 | I64: =SUM(D64:H64) -> 0
A65: 13 | B65: =$N$18 -> #REF! | F65: =COUNTIF($I$13,N18) -> 0 | G65: =COUNTIF($J$13,N18) -> 0 | H65: =COUNTIF($K$13,N18) -> 0 | I65: =SUM(D65:H65) -> 0
...

Sheet 2
B1: =#REF! -> #REF! | C1: =SUM('1'!C1+1) -> 2 | K1: =MASTER!A2 -> 2018 | L1: =(#REF!) -> #REF!
B2: Répartition des Tâches
D3: =DATE(K1,1,3)-WEEKDAY(DATE(K1,1,3))+7*$C$1-5 -> 43108 | E3: =DATE(K1,1,3)-WEEKDAY(DATE(K1,1,3))+7*$C$1-5 -> 43108 | G3: au | I3: =DATE(K1,1,3)-WEEKDAY(DATE(K1,1,3))+7*$C$1-1 -> 43112
J4: =NOW() -> 43085.529
A5: FALSE | B5: =IF(A5=TRUE,$N$34,"")
R14: Lundi
N15: =IF(AND(I12<>""),(A+1)) -> FALSE | R15: Mardi
R16: Mercredi
N17: =#REF! -> #REF! | P17: =#REF! -> #REF! | R17: Jeudi
N18: =#REF! -> #REF! | P18: =#REF! -> #REF! | R18: Vendredi | U18: {=IFERROR(OFFSET(#REF!,MATCH(0,COUNTIF(U$17:U17,$I$11:$I$21),0),),"")} | V18: {=IFERROR(OFFSET(#REF!,MATCH(0,COUNTIF(V$17:V17,$K$11:$K$21),0),),"")}
N19: =#REF! -> #REF! | P19: =#REF! -> #REF! | U19: {=IFERROR(OFFSET(#REF!,MATCH(0,COUNTIF(U$17:U18,$I$11:$I$21),0),),"")} | V19: {=IFERROR(OFFSET(#REF!,MATCH(0,COUNTIF(V$17:V18,$K$11:$K$21),0),),"")}
N20: =#REF! -> #REF! | O20: / | P20: =#REF! -> #REF! | R20: * | U20: {=IFERROR(OFFSET(#REF!,MATCH(0,COUNTIF(U$17:U19,$I$11:$I$21),0),),"")} | V20: {=IFERROR(OFFSET(#REF!,MATCH(0,COUNTIF(V$17:V19,$K$11:$K$21),0),),"")}
N21: =#REF! -> #REF! | O21: X | U21: {=IFERROR(OFFSET(#REF!,MATCH(0,COUNTIF(U$17:U20,$I$11:$I$21),0),),"")} | V21: {=IFERROR(OFFSET(#REF!,MATCH(0,COUNTIF(V$17:V20,$K$11:$K$21),0),),"")}
N22: =#REF! -> #REF! | U22: {=IFERROR(OFFSET(#REF!,MATCH(0,COUNTIF(U$17:U21,$I$11:$I$21),0),),"")} | V22: {=IFERROR(OFFSET(#REF!,MATCH(0,COUNTIF(V$17:V21,$K$11:$K$21),0),),"")}
N23: =#REF! -> #REF! | U23: {=IFERROR(OFFSET(#REF!,MATCH(0,COUNTIF(U$17:U22,$I$11:$I$21),0),),"")} | V23: {=IFERROR(OFFSET(#REF!,MATCH(0,COUNTIF(V$17:V22,$K$11:$K$21),0),),"")}
N24: =#REF! -> #REF! | P24: =#REF! -> #REF! | U24: {=IFERROR(OFFSET(#REF!,MATCH(0,COUNTIF(U$17:U23,$I$11:$I$21),0),),"")} | V24: {=IFERROR(OFFSET(#REF!,MATCH(0,COUNTIF(V$17:V23,$K$11:$K$21),0),),"")}
N25: =#REF! -> #REF! | P25: =#REF! -> #REF! | U25: {=IFERROR(OFFSET(#REF!,MATCH(0,COUNTIF(U$17:U24,$I$11:$I$21),0),),"")} | V25: {=IFERROR(OFFSET(#REF!,MATCH(0,COUNTIF(V$17:V24,$K$11:$K$21),0),),"")}
N26: =#REF! -> #REF! | P26: =#REF! -> #REF! | U26: {=IFERROR(OFFSET(#REF!,MATCH(0,COUNTIF(U$17:U25,$I$11:$I$21),0),),"")} | V26: {=IFERROR(OFFSET(#REF!,MATCH(0,COUNTIF(V$17:V25,$K$11:$K$21),0),),"")}
P27: =#REF! -> #REF! | U27: {=IFERROR(OFFSET(#REF!,MATCH(0,COUNTIF(U$17:U26,$I$11:$I$18),0),),"")} | V27: {=IFERROR(OFFSET(#REF!,MATCH(0,COUNTIF(V$17:V26,$K$11:$K$18),0),),"")}
N28: =#REF! -> #REF! | P28: =#REF! -> #REF!
N29: =#REF! -> #REF! | P29: =#REF! -> #REF!
N30: =#REF! -> #REF! | P30: =#REF! -> #REF!
P31: =#REF! -> #REF!
P32: =#REF! -> #REF!
N33: SEMAINE APRÈS MATCH | P33: =#REF! -> #REF!
N34: SEMAINE MATCH | P34: =#REF! -> #REF!
P35: =#REF! -> #REF!
A53: 1 | B53: =$N$17 -> #REF! | F53: =COUNTIF($I$17,N17) -> 0 | G53: =COUNTIF($J$17,N17) -> 0 | H53: =COUNTIF($K$17,N17) -> 0 | I53: =SUM(D53:H53) -> 0
A54: 2 | B54: =$N$18 -> #REF! | F54: =COUNTIF($I$17,N18) -> 0 | G54: =COUNTIF($J$17,N18) -> 0 | H54: =COUNTIF($K$17,N18) -> 0 | I54: =SUM(D54:H54) -> 0
A55: 3 | B55: =$N$19 -> #REF! | F55: =COUNTIF($I$17,N19) -> 0 | G55: =COUNTIF($J$17,N19) -> 0 | H55: =COUNTIF($K$17,N19) -> 0 | I55: =SUM(D55:H55) -> 0
A56: 4 | B56: =$N$20 -> #REF! | F56: =COUNTIF($I$17,N20) -> 0 | G56: =COUNTIF($J$17,N20) -> 0 | H56: =COUNTIF($K$17,N20) -> 0 | I56: =SUM(D56:H56) -> 0
A57: 5 | B57: =$N$21 -> #REF! | F57: =COUNTIF($I$17,N21) -> 0 | G57: =COUNTIF($J$17,N21) -> 0 | H57: =COUNTIF($K$17,N21) -> 0 | I57: =SUM(D57:H57) -> 0 | K57: =#REF! -> #REF!
A58: 6 | B58: =$N$22 -> #REF! | F58: =COUNTIF($I$17,N22) -> 0 | G58: =COUNTIF($J$17,N22) -> 0 | H58: =COUNTIF($K$17,N22) -> 0 | I58: =SUM(D58:H58) -> 0
A59: 7 | B59: =$N$23 -> #REF! | F59: =COUNTIF($I$17,N23) -> 0 | G59: =COUNTIF($J$17,N23) -> 0 | H59: =COUNTIF($K$17,N23) -> 0 | I59: =SUM(D59:H59) -> 0
A60: 8 | B60: =$N$24 -> #REF! | F60: =COUNTIF($I$17,N24) -> 0 | G60: =COUNTIF($J$17,N24) -> 0 | H60: =COUNTIF($K$17,N24) -> 0 | I60: =SUM(D60:H60) -> 0
A61: 9 | B61: =$N$25 -> #REF! | F61: =COUNTIF($I$17,N25) -> 0 | G61: =COUNTIF($J$17,N25) -> 0 | H61: =COUNTIF($K$17,N25) -> 0 | I61: =SUM(D61:H61) -> 0
A62: 10 | B62: =$N$26 -> #REF! | F62: =COUNTIF($I$17,N26) -> 0 | G62: =COUNTIF($J$17,N26) -> 0 | H62: =COUNTIF($K$17,N26) -> 0 | I62: =SUM(D62:H62) -> 0
A63: 11
A64: 12 | B64: =$N$17 -> #REF! | F64: =COUNTIF($I$13,N17) -> 0 | G64: =COUNTIF($J$13,N17) -> 0 | H64: =COUNTIF($K$13,N17) -> 0 | I64: =SUM(D64:H64) -> 0
A65: 13 | B65: =$N$18 -> #REF! | F65: =COUNTIF($I$13,N18) -> 0 | G65: =COUNTIF($J$13,N18) -> 0 | H65: =COUNTIF($K$13,N18) -> 0 | I65: =SUM(D65:H65) -> 0
...

Sheet 3
B1: =#REF! -> #REF! | C1: =SUM('2'!C1+1) -> 3 | K1: =MASTER!A2 -> 2018 | L1: =(#REF!) -> #REF!
B2: Répartition des Tâches
D3: =DATE(K1,1,3)-WEEKDAY(DATE(K1,1,3))+7*$C$1-5 -> 43115 | E3: =DATE(K1,1,3)-WEEKDAY(DATE(K1,1,3))+7*$C$1-5 -> 43115 | G3: au | I3: =DATE(K1,1,3)-WEEKDAY(DATE(K1,1,3))+7*$C$1-1 -> 43119
J4: =NOW() -> 43085.529
B5: =IF(A5=TRUE,$N$34,"")
R14: Lundi
N15: =IF(AND(I12<>""),(A+1)) -> FALSE | R15: Mardi
R16: Mercredi
N17: =#REF! -> #REF! | P17: =#REF! -> #REF! | R17: Jeudi
N18: =#REF! -> #REF! | P18: =#REF! -> #REF! | R18: Vendredi | U18: {=IFERROR(OFFSET(#REF!,MATCH(0,COUNTIF(U$17:U17,$I$11:$I$21),0),),"")} | V18: {=IFERROR(OFFSET(#REF!,MATCH(0,COUNTIF(V$17:V17,$K$11:$K$21),0),),"")}
N19: =#REF! -> #REF! | P19: =#REF! -> #REF! | U19: {=IFERROR(OFFSET(#REF!,MATCH(0,COUNTIF(U$17:U18,$I$11:$I$21),0),),"")} | V19: {=IFERROR(OFFSET(#REF!,MATCH(0,COUNTIF(V$17:V18,$K$11:$K$21),0),),"")}
N20: =#REF! -> #REF! | O20: / | P20: =#REF! -> #REF! | R20: * | U20: {=IFERROR(OFFSET(#REF!,MATCH(0,COUNTIF(U$17:U19,$I$11:$I$21),0),),"")} | V20: {=IFERROR(OFFSET(#REF!,MATCH(0,COUNTIF(V$17:V19,$K$11:$K$21),0),),"")}
N21: =#REF! -> #REF! | O21: X | U21: {=IFERROR(OFFSET(#REF!,MATCH(0,COUNTIF(U$17:U20,$I$11:$I$21),0),),"")} | V21: {=IFERROR(OFFSET(#REF!,MATCH(0,COUNTIF(V$17:V20,$K$11:$K$21),0),),"")}
N22: =#REF! -> #REF! | U22: {=IFERROR(OFFSET(#REF!,MATCH(0,COUNTIF(U$17:U21,$I$11:$I$21),0),),"")} | V22: {=IFERROR(OFFSET(#REF!,MATCH(0,COUNTIF(V$17:V21,$K$11:$K$21),0),),"")}
N23: =#REF! -> #REF! | U23: {=IFERROR(OFFSET(#REF!,MATCH(0,COUNTIF(U$17:U22,$I$11:$I$21),0),),"")} | V23: {=IFERROR(OFFSET(#REF!,MATCH(0,COUNTIF(V$17:V22,$K$11:$K$21),0),),"")}
N24: =#REF! -> #REF! | P24: =#REF! -> #REF! | U24: {=IFERROR(OFFSET(#REF!,MATCH(0,COUNTIF(U$17:U23,$I$11:$I$21),0),),"")} | V24: {=IFERROR(OFFSET(#REF!,MATCH(0,COUNTIF(V$17:V23,$K$11:$K$21),0),),"")}
A25: TRUE | N25: =#REF! -> #REF! | P25: =#REF! -> #REF! | U25: {=IFERROR(OFFSET(#REF!,MATCH(0,COUNTIF(U$17:U24,$I$11:$I$21),0),),"")} | V25: {=IFERROR(OFFSET(#REF!,MATCH(0,COUNTIF(V$17:V24,$K$11:$K$21),0),),"")}
N26: =#REF! -> #REF! | P26: =#REF! -> #REF! | U26: {=IFERROR(OFFSET(#REF!,MATCH(0,COUNTIF(U$17:U25,$I$11:$I$21),0),),"")} | V26: {=IFERROR(OFFSET(#REF!,MATCH(0,COUNTIF(V$17:V25,$K$11:$K$21),0),),"")}
P27: =#REF! -> #REF! | U27: {=IFERROR(OFFSET(#REF!,MATCH(0,COUNTIF(U$17:U26,$I$11:$I$18),0),),"")} | V27: {=IFERROR(OFFSET(#REF!,MATCH(0,COUNTIF(V$17:V26,$K$11:$K$18),0),),"")}
N28: =#REF! -> #REF! | P28: =#REF! -> #REF!
N29: =#REF! -> #REF! | P29: =#REF! -> #REF!
N30: =#REF! -> #REF! | P30: =#REF! -> #REF!
P31: =#REF! -> #REF!
P32: =#REF! -> #REF!
N33: SEMAINE APRÈS MATCH | P33: =#REF! -> #REF!
N34: SEMAINE MATCH | P34: =#REF! -> #REF!
P35: =#REF! -> #REF!
A53: 1 | B53: =$N$17 -> #REF! | F53: =COUNTIF($I$17,N17) -> 0 | G53: =COUNTIF($J$17,N17) -> 0 | H53: =COUNTIF($K$17,N17) -> 0 | I53: =SUM(D53:H53) -> 0
A54: 2 | B54: =$N$18 -> #REF! | F54: =COUNTIF($I$17,N18) -> 0 | G54: =COUNTIF($J$17,N18) -> 0 | H54: =COUNTIF($K$17,N18) -> 0 | I54: =SUM(D54:H54) -> 0
A55: 3 | B55: =$N$19 -> #REF! | F55: =COUNTIF($I$17,N19) -> 0 | G55: =COUNTIF($J$17,N19) -> 0 | H55: =COUNTIF($K$17,N19) -> 0 | I55: =SUM(D55:H55) -> 0
A56: 4 | B56: =$N$20 -> #REF! | F56: =COUNTIF($I$17,N20) -> 0 | G56: =COUNTIF($J$17,N20) -> 0 | H56: =COUNTIF($K$17,N20) -> 0 | I56: =SUM(D56:H56) -> 0
A57: 5 | B57: =$N$21 -> #REF! | F57: =COUNTIF($I$17,N21) -> 0 | G57: =COUNTIF($J$17,N21) -> 0 | H57: =COUNTIF($K$17,N21) -> 0 | I57: =SUM(D57:H57) -> 0 | K57: =#REF! -> #REF!
A58: 6 | B58: =$N$22 -> #REF! | F58: =COUNTIF($I$17,N22) -> 0 | G58: =COUNTIF($J$17,N22) -> 0 | H58: =COUNTIF($K$17,N22) -> 0 | I58: =SUM(D58:H58) -> 0
A59: 7 | B59: =$N$23 -> #REF! | F59: =COUNTIF($I$17,N23) -> 0 | G59: =COUNTIF($J$17,N23) -> 0 | H59: =COUNTIF($K$17,N23) -> 0 | I59: =SUM(D59:H59) -> 0
A60: 8 | B60: =$N$24 -> #REF! | F60: =COUNTIF($I$17,N24) -> 0 | G60: =COUNTIF($J$17,N24) -> 0 | H60: =COUNTIF($K$17,N24) -> 0 | I60: =SUM(D60:H60) -> 0
A61: 9 | B61: =$N$25 -> #REF! | F61: =COUNTIF($I$17,N25) -> 0 | G61: =COUNTIF($J$17,N25) -> 0 | H61: =COUNTIF($K$17,N25) -> 0 | I61: =SUM(D61:H61) -> 0
A62: 10 | B62: =$N$26 -> #REF! | F62: =COUNTIF($I$17,N26) -> 0 | G62: =COUNTIF($J$17,N26) -> 0 | H62: =COUNTIF($K$17,N26) -> 0 | I62: =SUM(D62:H62) -> 0
A63: 11
A64: 12 | B64: =$N$17 -> #REF! | F64: =COUNTIF($I$13,N17) -> 0 | G64: =COUNTIF($J$13,N17) -> 0 | H64: =COUNTIF($K$13,N17) -> 0 | I64: =SUM(D64:H64) -> 0
A65: 13 | B65: =$N$18 -> #REF! | F65: =COUNTIF($I$13,N18) -> 0 | G65: =COUNTIF($J$13,N18) -> 0 | H65: =COUNTIF($K$13,N18) -> 0 | I65: =SUM(D65:H65) -> 0
...

Sheet 4
B1: =#REF! -> #REF! | C1: =SUM('3'!C1+1) -> 4 | K1: =MASTER!A2 -> 2018 | L1: =(#REF!) -> #REF!
B2: Répartition des Tâches
D3: =DATE(K1,1,3)-WEEKDAY(DATE(K1,1,3))+7*$C$1-5 -> 43122 | E3: =DATE(K1,1,3)-WEEKDAY(DATE(K1,1,3))+7*$C$1-5 -> 43122 | G3: au | I3: =DATE(K1,1,3)-WEEKDAY(DATE(K1,1,3))+7*$C$1-1 -> 43126
J4: =NOW() -> 43085.529
B5: =IF(A5=TRUE,$N$34,"")
R14: Lundi
N15: =IF(AND(I12<>""),(A+1)) -> FALSE | R15: Mardi
R16: Mercredi
N17: =#REF! -> #REF! | P17: =#REF! -> #REF! | R17: Jeudi
N18: =#REF! -> #REF! | P18: =#REF! -> #REF! | R18: Vendredi | U18: {=IFERROR(OFFSET(#REF!,MATCH(0,COUNTIF(U$17:U17,$I$11:$I$21),0),),"")} | V18: {=IFERROR(OFFSET(#REF!,MATCH(0,COUNTIF(V$17:V17,$K$11:$K$21),0),),"")}
N19: =#REF! -> #REF! | P19: =#REF! -> #REF! | U19: {=IFERROR(OFFSET(#REF!,MATCH(0,COUNTIF(U$17:U18,$I$11:$I$21),0),),"")} | V19: {=IFERROR(OFFSET(#REF!,MATCH(0,COUNTIF(V$17:V18,$K$11:$K$21),0),),"")}
N20: =#REF! -> #REF! | O20: / | P20: =#REF! -> #REF! | R20: * | U20: {=IFERROR(OFFSET(#REF!,MATCH(0,COUNTIF(U$17:U19,$I$11:$I$21),0),),"")} | V20: {=IFERROR(OFFSET(#REF!,MATCH(0,COUNTIF(V$17:V19,$K$11:$K$21),0),),"")}
N21: =#REF! -> #REF! | O21: X | U21: {=IFERROR(OFFSET(#REF!,MATCH(0,COUNTIF(U$17:U20,$I$11:$I$21),0),),"")} | V21: {=IFERROR(OFFSET(#REF!,MATCH(0,COUNTIF(V$17:V20,$K$11:$K$21),0),),"")}
N22: =#REF! -> #REF! | U22: {=IFERROR(OFFSET(#REF!,MATCH(0,COUNTIF(U$17:U21,$I$11:$I$21),0),),"")} | V22: {=IFERROR(OFFSET(#REF!,MATCH(0,COUNTIF(V$17:V21,$K$11:$K$21),0),),"")}
N23: =#REF! -> #REF! | U23: {=IFERROR(OFFSET(#REF!,MATCH(0,COUNTIF(U$17:U22,$I$11:$I$21),0),),"")} | V23: {=IFERROR(OFFSET(#REF!,MATCH(0,COUNTIF(V$17:V22,$K$11:$K$21),0),),"")}
N24: =#REF! -> #REF! | P24: =#REF! -> #REF! | U24: {=IFERROR(OFFSET(#REF!,MATCH(0,COUNTIF(U$17:U23,$I$11:$I$21),0),),"")} | V24: {=IFERROR(OFFSET(#REF!,MATCH(0,COUNTIF(V$17:V23,$K$11:$K$21),0),),"")}
N25: =#REF! -> #REF! | P25: =#REF! -> #REF! | U25: {=IFERROR(OFFSET(#REF!,MATCH(0,COUNTIF(U$17:U24,$I$11:$I$21),0),),"")} | V25: {=IFERROR(OFFSET(#REF!,MATCH(0,COUNTIF(V$17:V24,$K$11:$K$21),0),),"")}
N26: =#REF! -> #REF! | P26: =#REF! -> #REF! | U26: {=IFERROR(OFFSET(#REF!,MATCH(0,COUNTIF(U$17:U25,$I$11:$I$21),0),),"")} | V26: {=IFERROR(OFFSET(#REF!,MATCH(0,COUNTIF(V$17:V25,$K$11:$K$21),0),),"")}
P27: =#REF! -> #REF! | U27: {=IFERROR(OFFSET(#REF!,MATCH(0,COUNTIF(U$17:U26,$I$11:$I$18),0),),"")} | V27: {=IFERROR(OFFSET(#REF!,MATCH(0,COUNTIF(V$17:V26,$K$11:$K$18),0),),"")}
N28: =#REF! -> #REF! | P28: =#REF! -> #REF!
N29: =#REF! -> #REF! | P29: =#REF! -> #REF!
N30: =#REF! -> #REF! | P30: =#REF! -> #REF!
P31: =#REF! -> #REF!
P32: =#REF! -> #REF!
N33: SEMAINE APRÈS MATCH | P33: =#REF! -> #REF!
N34: SEMAINE MATCH | P34: =#REF! -> #REF!
P35: =#REF! -> #REF!
A53: 1 | B53: =$N$17 -> #REF! | F53: =COUNTIF($I$17,N17) -> 0 | G53: =COUNTIF($J$17,N17) -> 0 | H53: =COUNTIF($K$17,N17) -> 0 | I53: =SUM(D53:H53) -> 0
A54: 2 | B54: =$N$18 -> #REF! | F54: =COUNTIF($I$17,N18) -> 0 | G54: =COUNTIF($J$17,N18) -> 0 | H54: =COUNTIF($K$17,N18) -> 0 | I54: =SUM(D54:H54) -> 0
A55: 3 | B55: =$N$19 -> #REF! | F55: =COUNTIF($I$17,N19) -> 0 | G55: =COUNTIF($J$17,N19) -> 0 | H55: =COUNTIF($K$17,N19) -> 0 | I55: =SUM(D55:H55) -> 0
A56: 4 | B56: =$N$20 -> #REF! | F56: =COUNTIF($I$17,N20) -> 0 | G56: =COUNTIF($J$17,N20) -> 0 | H56: =COUNTIF($K$17,N20) -> 0 | I56: =SUM(D56:H56) -> 0
A57: 5 | B57: =$N$21 -> #REF! | F57: =COUNTIF($I$17,N21) -> 0 | G57: =COUNTIF($J$17,N21) -> 0 | H57: =COUNTIF($K$17,N21) -> 0 | I57: =SUM(D57:H57) -> 0 | K57: =#REF! -> #REF!
A58: 6 | B58: =$N$22 -> #REF! | F58: =COUNTIF($I$17,N22) -> 0 | G58: =COUNTIF($J$17,N22) -> 0 | H58: =COUNTIF($K$17,N22) -> 0 | I58: =SUM(D58:H58) -> 0
A59: 7 | B59: =$N$23 -> #REF! | F59: =COUNTIF($I$17,N23) -> 0 | G59: =COUNTIF($J$17,N23) -> 0 | H59: =COUNTIF($K$17,N23) -> 0 | I59: =SUM(D59:H59) -> 0
A60: 8 | B60: =$N$24 -> #REF! | F60: =COUNTIF($I$17,N24) -> 0 | G60: =COUNTIF($J$17,N24) -> 0 | H60: =COUNTIF($K$17,N24) -> 0 | I60: =SUM(D60:H60) -> 0
A61: 9 | B61: =$N$25 -> #REF! | F61: =COUNTIF($I$17,N25) -> 0 | G61: =COUNTIF($J$17,N25) -> 0 | H61: =COUNTIF($K$17,N25) -> 0 | I61: =SUM(D61:H61) -> 0
A62: 10 | B62: =$N$26 -> #REF! | F62: =COUNTIF($I$17,N26) -> 0 | G62: =COUNTIF($J$17,N26) -> 0 | H62: =COUNTIF($K$17,N26) -> 0 | I62: =SUM(D62:H62) -> 0
A63: 11
A64: 12 | B64: =$N$17 -> #REF! | F64: =COUNTIF($I$13,N17) -> 0 | G64: =COUNTIF($J$13,N17) -> 0 | H64: =COUNTIF($K$13,N17) -> 0 | I64: =SUM(D64:H64) -> 0
A65: 13 | B65: =$N$18 -> #REF! | F65: =COUNTIF($I$13,N18) -> 0 | G65: =COUNTIF($J$13,N18) -> 0 | H65: =COUNTIF($K$13,N18) -> 0 | I65: =SUM(D65:H65) -> 0
...

Sheet 5
B1: =#REF! -> #REF! | C1: =SUM('4'!C1+1) -> 5 | K1: =MASTER!A2 -> 2018 | L1: =(#REF!) -> #REF!
B2: Répartition des Tâches
D3: =DATE(K1,1,3)-WEEKDAY(DATE(K1,1,3))+7*$C$1-5 -> 43129 | E3: =DATE(K1,1,3)-WEEKDAY(DATE(K1,1,3))+7*$C$1-5 -> 43129 | G3: au | I3: =DATE(K1,1,3)-WEEKDAY(DATE(K1,1,3))+7*$C$1-1 -> 43133
J4: =NOW() -> 43085.529
A5: FALSE | B5: =IF(A5=TRUE,$N$34,"")
R14: Lundi
N15: =IF(AND(I12<>""),(A+1)) -> FALSE | R15: Mardi
R16: Mercredi
N17: =#REF! -> #REF! | P17: =#REF! -> #REF! | R17: Jeudi
N18: =#REF! -> #REF! | P18: =#REF! -> #REF! | R18: Vendredi | U18: {=IFERROR(OFFSET(#REF!,MATCH(0,COUNTIF(U$17:U17,$I$11:$I$21),0),),"")} | V18: {=IFERROR(OFFSET(#REF!,MATCH(0,COUNTIF(V$17:V17,$K$11:$K$21),0),),"")}
N19: =#REF! -> #REF! | P19: =#REF! -> #REF! | U19: {=IFERROR(OFFSET(#REF!,MATCH(0,COUNTIF(U$17:U18,$I$11:$I$21),0),),"")} | V19: {=IFERROR(OFFSET(#REF!,MATCH(0,COUNTIF(V$17:V18,$K$11:$K$21),0),),"")}
N20: =#REF! -> #REF! | O20: / | P20: =#REF! -> #REF! | R20: * | U20: {=IFERROR(OFFSET(#REF!,MATCH(0,COUNTIF(U$17:U19,$I$11:$I$21),0),),"")} | V20: {=IFERROR(OFFSET(#REF!,MATCH(0,COUNTIF(V$17:V19,$K$11:$K$21),0),),"")}
N21: =#REF! -> #REF! | O21: X | U21: {=IFERROR(OFFSET(#REF!,MATCH(0,COUNTIF(U$17:U20,$I$11:$I$21),0),),"")} | V21: {=IFERROR(OFFSET(#REF!,MATCH(0,COUNTIF(V$17:V20,$K$11:$K$21),0),),"")}
N22: =#REF! -> #REF! | U22: {=IFERROR(OFFSET(#REF!,MATCH(0,COUNTIF(U$17:U21,$I$11:$I$21),0),),"")} | V22: {=IFERROR(OFFSET(#REF!,MATCH(0,COUNTIF(V$17:V21,$K$11:$K$21),0),),"")}
N23: =#REF! -> #REF! | U23: {=IFERROR(OFFSET(#REF!,MATCH(0,COUNTIF(U$17:U22,$I$11:$I$21),0),),"")} | V23: {=IFERROR(OFFSET(#REF!,MATCH(0,COUNTIF(V$17:V22,$K$11:$K$21),0),),"")}
N24: =#REF! -> #REF! | P24: =#REF! -> #REF! | U24: {=IFERROR(OFFSET(#REF!,MATCH(0,COUNTIF(U$17:U23,$I$11:$I$21),0),),"")} | V24: {=IFERROR(OFFSET(#REF!,MATCH(0,COUNTIF(V$17:V23,$K$11:$K$21),0),),"")}
N25: =#REF! -> #REF! | P25: =#REF! -> #REF! | U25: {=IFERROR(OFFSET(#REF!,MATCH(0,COUNTIF(U$17:U24,$I$11:$I$21),0),),"")} | V25: {=IFERROR(OFFSET(#REF!,MATCH(0,COUNTIF(V$17:V24,$K$11:$K$21),0),),"")}
N26: =#REF! -> #REF! | P26: =#REF! -> #REF! | U26: {=IFERROR(OFFSET(#REF!,MATCH(0,COUNTIF(U$17:U25,$I$11:$I$21),0),),"")} | V26: {=IFERROR(OFFSET(#REF!,MATCH(0,COUNTIF(V$17:V25,$K$11:$K$21),0),),"")}
P27: =#REF! -> #REF! | U27: {=IFERROR(OFFSET(#REF!,MATCH(0,COUNTIF(U$17:U26,$I$11:$I$18),0),),"")} | V27: {=IFERROR(OFFSET(#REF!,MATCH(0,COUNTIF(V$17:V26,$K$11:$K$18),0),),"")}
N28: =#REF! -> #REF! | P28: =#REF! -> #REF!
N29: =#REF! -> #REF! | P29: =#REF! -> #REF!
N30: =#REF! -> #REF! | P30: =#REF! -> #REF!
P31: =#REF! -> #REF!
P32: =#REF! -> #REF!
N33: SEMAINE APRÈS MATCH | P33: =#REF! -> #REF!
N34: SEMAINE MATCH | P34: =#REF! -> #REF!
P35: =#REF! -> #REF!
A53: 1
A54: 2
A55: 3
A56: 4
A57: 5
A58: 6
A59: 7
A60: 8
A61: 9
A62: 10
A63: 11
A64: 12
... A106: 54
...

Sheet 6
B1: =#REF! -> #REF! | C1: =SUM('5'!C1+1) -> 6 | K1: =MASTER!A2 -> 2018 | L1: =(#REF!) -> #REF!
B2: Répartition des Tâches
D3: =DATE(K1,1,3)-WEEKDAY(DATE(K1,1,3))+7*$C$1-5 -> 43136 | E3: =DATE(K1,1,3)-WEEKDAY(DATE(K1,1,3))+7*$C$1-5 -> 43136 | G3: au | I3: =DATE(K1,1,3)-WEEKDAY(DATE(K1,1,3))+7*$C$1-1 -> 43140
J4: =NOW() -> 43085.529
B5: =IF(A5=TRUE,$N$34,"")
R14: Lundi
N15: =IF(AND(I12<>""),(A+1)) -> FALSE | R15: Mardi
R16: Mercredi
N17: =#REF! -> #REF! | P17: =#REF! -> #REF! | R17: Jeudi
N18: =#REF! -> #REF! | P18: =#REF! -> #REF! | R18: Vendredi | U18: {=IFERROR(OFFSET(#REF!,MATCH(0,COUNTIF(U$17:U17,$I$11:$I$21),0),),"")} | V18: {=IFERROR(OFFSET(#REF!,MATCH(0,COUNTIF(V$17:V17,$K$11:$K$21),0),),"")}
N19: =#REF! -> #REF! | P19: =#REF! -> #REF! | U19: {=IFERROR(OFFSET(#REF!,MATCH(0,COUNTIF(U$17:U18,$I$11:$I$21),0),),"")} | V19: {=IFERROR(OFFSET(#REF!,MATCH(0,COUNTIF(V$17:V18,$K$11:$K$21),0),),"")}
N20: =#REF! -> #REF! | O20: / | P20: =#REF! -> #REF! | R20: * | U20: {=IFERROR(OFFSET(#REF!,MATCH(0,COUNTIF(U$17:U19,$I$11:$I$21),0),),"")} | V20: {=IFERROR(OFFSET(#REF!,MATCH(0,COUNTIF(V$17:V19,$K$11:$K$21),0),),"")}
N21: =#REF! -> #REF! | O21: X | U21: {=IFERROR(OFFSET(#REF!,MATCH(0,COUNTIF(U$17:U20,$I$11:$I$21),0),),"")} | V21: {=IFERROR(OFFSET(#REF!,MATCH(0,COUNTIF(V$17:V20,$K$11:$K$21),0),),"")}
N22: =#REF! -> #REF! | U22: {=IFERROR(OFFSET(#REF!,MATCH(0,COUNTIF(U$17:U21,$I$11:$I$21),0),),"")} | V22: {=IFERROR(OFFSET(#REF!,MATCH(0,COUNTIF(V$17:V21,$K$11:$K$21),0),),"")}
N23: =#REF! -> #REF! | U23: {=IFERROR(OFFSET(#REF!,MATCH(0,COUNTIF(U$17:U22,$I$11:$I$21),0),),"")} | V23: {=IFERROR(OFFSET(#REF!,MATCH(0,COUNTIF(V$17:V22,$K$11:$K$21),0),),"")}
N24: =#REF! -> #REF! | P24: =#REF! -> #REF! | U24: {=IFERROR(OFFSET(#REF!,MATCH(0,COUNTIF(U$17:U23,$I$11:$I$21),0),),"")} | V24: {=IFERROR(OFFSET(#REF!,MATCH(0,COUNTIF(V$17:V23,$K$11:$K$21),0),),"")}
A25: FALSE | N25: =#REF! -> #REF! | P25: =#REF! -> #REF! | U25: {=IFERROR(OFFSET(#REF!,MATCH(0,COUNTIF(U$17:U24,$I$11:$I$21),0),),"")} | V25: {=IFERROR(OFFSET(#REF!,MATCH(0,COUNTIF(V$17:V24,$K$11:$K$21),0),),"")}
N26: =#REF! -> #REF! | P26: =#REF! -> #REF! | U26: {=IFERROR(OFFSET(#REF!,MATCH(0,COUNTIF(U$17:U25,$I$11:$I$21),0),),"")} | V26: {=IFERROR(OFFSET(#REF!,MATCH(0,COUNTIF(V$17:V25,$K$11:$K$21),0),),"")}
P27: =#REF! -> #REF! | U27: {=IFERROR(OFFSET(#REF!,MATCH(0,COUNTIF(U$17:U26,$I$11:$I$18),0),),"")} | V27: {=IFERROR(OFFSET(#REF!,MATCH(0,COUNTIF(V$17:V26,$K$11:$K$18),0),),"")}
N28: =#REF! -> #REF! | P28: =#REF! -> #REF!
N29: =#REF! -> #REF! | P29: =#REF! -> #REF!
N30: =#REF! -> #REF! | P30: =#REF! -> #REF!
P31: =#REF! -> #REF!
P32: =#REF! -> #REF!
N33: SEMAINE APRÈS MATCH | P33: =#REF! -> #REF!
N34: SEMAINE MATCH | P34: =#REF! -> #REF!
P35: =#REF! -> #REF!
A53: 1
A54: 2
A55: 3
A56: 4
A57: 5
A58: 6
A59: 7
A60: 8
A61: 9
A62: 10
A63: 11
A64: 12
... A106: 54
...

Sheet 7
B1: =#REF! -> #REF! | C1: =SUM('6'!C1+1) -> 7 | K1: =MASTER!A2 -> 2018 | L1: =(#REF!) -> #REF!
B2: Répartition des Tâches
D3: =DATE(K1,1,3)-WEEKDAY(DATE(K1,1,3))+7*$C$1-5 -> 43143 | E3: =DATE(K1,1,3)-WEEKDAY(DATE(K1,1,3))+7*$C$1-5 -> 43143 | G3: au | I3: =DATE(K1,1,3)-WEEKDAY(DATE(K1,1,3))+7*$C$1-1 -> 43147
J4: =NOW() -> 43085.529
A5: FALSE | B5: =IF(A5=TRUE,$N$34,"")
A11: =('4'!W11) -> 0
R14: Lundi
N15: =IF(AND(I12<>""),(A+1)) -> FALSE | R15: Mardi
R16: Mercredi
N17: =#REF! -> #REF! | P17: =#REF! -> #REF! | R17: Jeudi
N18: =#REF! -> #REF! | P18: =#REF! -> #REF! | R18: Vendredi | U18: {=IFERROR(OFFSET(#REF!,MATCH(0,COUNTIF(U$17:U17,$I$11:$I$21),0),),"")} | V18: {=IFERROR(OFFSET(#REF!,MATCH(0,COUNTIF(V$17:V17,$K$11:$K$21),0),),"")}
N19: =#REF! -> #REF! | P19: =#REF! -> #REF! | U19: {=IFERROR(OFFSET(#REF!,MATCH(0,COUNTIF(U$17:U18,$I$11:$I$21),0),),"")} | V19: {=IFERROR(OFFSET(#REF!,MATCH(0,COUNTIF(V$17:V18,$K$11:$K$21),0),),"")}
N20: =#REF! -> #REF! | O20: / | P20: =#REF! -> #REF! | R20: * | U20: {=IFERROR(OFFSET(#REF!,MATCH(0,COUNTIF(U$17:U19,$I$11:$I$21),0),),"")} | V20: {=IFERROR(OFFSET(#REF!,MATCH(0,COUNTIF(V$17:V19,$K$11:$K$21),0),),"")}
N21: =#REF! -> #REF! | O21: X | U21: {=IFERROR(OFFSET(#REF!,MATCH(0,COUNTIF(U$17:U20,$I$11:$I$21),0),),"")} | V21: {=IFERROR(OFFSET(#REF!,MATCH(0,COUNTIF(V$17:V20,$K$11:$K$21),0),),"")}
N22: =#REF! -> #REF! | U22: {=IFERROR(OFFSET(#REF!,MATCH(0,COUNTIF(U$17:U21,$I$11:$I$21),0),),"")} | V22: {=IFERROR(OFFSET(#REF!,MATCH(0,COUNTIF(V$17:V21,$K$11:$K$21),0),),"")}
N23: =#REF! -> #REF! | U23: {=IFERROR(OFFSET(#REF!,MATCH(0,COUNTIF(U$17:U22,$I$11:$I$21),0),),"")} | V23: {=IFERROR(OFFSET(#REF!,MATCH(0,COUNTIF(V$17:V22,$K$11:$K$21),0),),"")}
N24: =#REF! -> #REF! | P24: =#REF! -> #REF! | U24: {=IFERROR(OFFSET(#REF!,MATCH(0,COUNTIF(U$17:U23,$I$11:$I$21),0),),"")} | V24: {=IFERROR(OFFSET(#REF!,MATCH(0,COUNTIF(V$17:V23,$K$11:$K$21),0),),"")}
N25: =#REF! -> #REF! | P25: =#REF! -> #REF! | U25: {=IFERROR(OFFSET(#REF!,MATCH(0,COUNTIF(U$17:U24,$I$11:$I$21),0),),"")} | V25: {=IFERROR(OFFSET(#REF!,MATCH(0,COUNTIF(V$17:V24,$K$11:$K$21),0),),"")}
N26: =#REF! -> #REF! | P26: =#REF! -> #REF! | U26: {=IFERROR(OFFSET(#REF!,MATCH(0,COUNTIF(U$17:U25,$I$11:$I$21),0),),"")} | V26: {=IFERROR(OFFSET(#REF!,MATCH(0,COUNTIF(V$17:V25,$K$11:$K$21),0),),"")}
P27: =#REF! -> #REF! | U27: {=IFERROR(OFFSET(#REF!,MATCH(0,COUNTIF(U$17:U26,$I$11:$I$18),0),),"")} | V27: {=IFERROR(OFFSET(#REF!,MATCH(0,COUNTIF(V$17:V26,$K$11:$K$18),0),),"")}
N28: =#REF! -> #REF! | P28: =#REF! -> #REF!
N29: =#REF! -> #REF! | P29: =#REF! -> #REF!
N30: =#REF! -> #REF! | P30: =#REF! -> #REF!
P31: =#REF! -> #REF!
P32: =#REF! -> #REF!
N33: SEMAINE APRÈS MATCH | P33: =#REF! -> #REF!
N34: SEMAINE MATCH | P34: =#REF! -> #REF!
P35: =#REF! -> #REF!
A53: 1
A54: 2
A55: 3
A56: 4
A57: 5
A58: 6
A59: 7
A60: 8
A61: 9
A62: 10
A63: 11
A64: 12
...

Sheet 8
B1: =#REF! -> #REF! | C1: =SUM('7'!C1+1) -> 8 | K1: =MASTER!A2 -> 2018 | L1: =(#REF!) -> #REF!
B2: Répartition des Tâches
D3: =DATE(K1,1,3)-WEEKDAY(DATE(K1,1,3))+7*$C$1-5 -> 43150 | E3: =DATE(K1,1,3)-WEEKDAY(DATE(K1,1,3))+7*$C$1-5 -> 43150 | G3: au | I3: =DATE(K1,1,3)-WEEKDAY(DATE(K1,1,3))+7*$C$1-1 -> 43154
J4: =NOW() -> 43085.529
B5: =IF(A5=TRUE,$N$34,"")
A11: =('5'!W10) -> 0
R14: Lundi
N15: =IF(AND(I12<>""),(A+1)) -> FALSE | R15: Mardi
R16: Mercredi
N17: =#REF! -> #REF! | P17: =#REF! -> #REF! | R17: Jeudi
N18: =#REF! -> #REF! | P18: =#REF! -> #REF! | R18: Vendredi | U18: {=IFERROR(OFFSET(#REF!,MATCH(0,COUNTIF(U$17:U17,$I$11:$I$21),0),),"")} | V18: {=IFERROR(OFFSET(#REF!,MATCH(0,COUNTIF(V$17:V17,$K$11:$K$21),0),),"")}
N19: =#REF! -> #REF! | P19: =#REF! -> #REF! | U19: {=IFERROR(OFFSET(#REF!,MATCH(0,COUNTIF(U$17:U18,$I$11:$I$21),0),),"")} | V19: {=IFERROR(OFFSET(#REF!,MATCH(0,COUNTIF(V$17:V18,$K$11:$K$21),0),),"")}
N20: =#REF! -> #REF! | O20: / | P20: =#REF! -> #REF! | R20: * | U20: {=IFERROR(OFFSET(#REF!,MATCH(0,COUNTIF(U$17:U19,$I$11:$I$21),0),),"")} | V20: {=IFERROR(OFFSET(#REF!,MATCH(0,COUNTIF(V$17:V19,$K$11:$K$21),0),),"")}
N21: =#REF! -> #REF! | O21: X | U21: {=IFERROR(OFFSET(#REF!,MATCH(0,COUNTIF(U$17:U20,$I$11:$I$21),0),),"")} | V21: {=IFERROR(OFFSET(#REF!,MATCH(0,COUNTIF(V$17:V20,$K$11:$K$21),0),),"")}
N22: =#REF! -> #REF! | U22: {=IFERROR(OFFSET(#REF!,MATCH(0,COUNTIF(U$17:U21,$I$11:$I$21),0),),"")} | V22: {=IFERROR(OFFSET(#REF!,MATCH(0,COUNTIF(V$17:V21,$K$11:$K$21),0),),"")}
N23: =#REF! -> #REF! | U23: {=IFERROR(OFFSET(#REF!,MATCH(0,COUNTIF(U$17:U22,$I$11:$I$21),0),),"")} | V23: {=IFERROR(OFFSET(#REF!,MATCH(0,COUNTIF(V$17:V22,$K$11:$K$21),0),),"")}
N24: =#REF! -> #REF! | P24: =#REF! -> #REF! | U24: {=IFERROR(OFFSET(#REF!,MATCH(0,COUNTIF(U$17:U23,$I$11:$I$21),0),),"")} | V24: {=IFERROR(OFFSET(#REF!,MATCH(0,COUNTIF(V$17:V23,$K$11:$K$21),0),),"")}
A25: FALSE | N25: =#REF! -> #REF! | P25: =#REF! -> #REF! | U25: {=IFERROR(OFFSET(#REF!,MATCH(0,COUNTIF(U$17:U24,$I$11:$I$21),0),),"")} | V25: {=IFERROR(OFFSET(#REF!,MATCH(0,COUNTIF(V$17:V24,$K$11:$K$21),0),),"")}
N26: =#REF! -> #REF! | P26: =#REF! -> #REF! | U26: {=IFERROR(OFFSET(#REF!,MATCH(0,COUNTIF(U$17:U25,$I$11:$I$21),0),),"")} | V26: {=IFERROR(OFFSET(#REF!,MATCH(0,COUNTIF(V$17:V25,$K$11:$K$21),0),),"")}
P27: =#REF! -> #REF! | U27: {=IFERROR(OFFSET(#REF!,MATCH(0,COUNTIF(U$17:U26,$I$11:$I$18),0),),"")} | V27: {=IFERROR(OFFSET(#REF!,MATCH(0,COUNTIF(V$17:V26,$K$11:$K$18),0),),"")}
N28: =#REF! -> #REF! | P28: =#REF! -> #REF!
N29: =#REF! -> #REF! | P29: =#REF! -> #REF!
N30: =#REF! -> #REF! | P30: =#REF! -> #REF!
P31: =#REF! -> #REF!
P32: =#REF! -> #REF!
N33: SEMAINE APRÈS MATCH | P33: =#REF! -> #REF!
N34: SEMAINE MATCH | P34: =#REF! -> #REF!
P35: =#REF! -> #REF!
A53: 1
A54: 2
A55: 3
A56: 4
A57: 5
A58: 6
A59: 7
A60: 8
A61: 9
A62: 10
A63: 11
A64: 12
...

Sheet 9
B1: =#REF! -> #REF! | C1: =SUM('8'!C1+1) -> 9 | K1: =MASTER!A2 -> 2018 | L1: =(#REF!) -> #REF!
B2: Répartition des Tâches
D3: =DATE(K1,1,3)-WEEKDAY(DATE(K1,1,3))+7*$C$1-5 -> 43157 | E3: =DATE(K1,1,3)-WEEKDAY(DATE(K1,1,3))+7*$C$1-5 -> 43157 | G3: au | I3: =DATE(K1,1,3)-WEEKDAY(DATE(K1,1,3))+7*$C$1-1 -> 43161
J4: =NOW() -> 43085.529
A5: FALSE | B5: =IF(A5=TRUE,$N$34,"")
R14: Lundi
N15: =IF(AND(I12<>""),(A+1)) -> FALSE | R15: Mardi
R16: Mercredi
N17: =#REF! -> #REF! | P17: =#REF! -> #REF! | R17: Jeudi
N18: =#REF! -> #REF! | P18: =#REF! -> #REF! | R18: Vendredi | U18: {=IFERROR(OFFSET(#REF!,MATCH(0,COUNTIF(U$17:U17,$I$11:$I$21),0),),"")} | V18: {=IFERROR(OFFSET(#REF!,MATCH(0,COUNTIF(V$17:V17,$K$11:$K$21),0),),"")}
N19: =#REF! -> #REF! | P19: =#REF! -> #REF! | U19: {=IFERROR(OFFSET(#REF!,MATCH(0,COUNTIF(U$17:U18,$I$11:$I$21),0),),"")} | V19: {=IFERROR(OFFSET(#REF!,MATCH(0,COUNTIF(V$17:V18,$K$11:$K$21),0),),"")}
N20: =#REF! -> #REF! | O20: / | P20: =#REF! -> #REF! | R20: * | U20: {=IFERROR(OFFSET(#REF!,MATCH(0,COUNTIF(U$17:U19,$I$11:$I$21),0),),"")} | V20: {=IFERROR(OFFSET(#REF!,MATCH(0,COUNTIF(V$17:V19,$K$11:$K$21),0),),"")}
N21: =#REF! -> #REF! | O21: X | U21: {=IFERROR(OFFSET(#REF!,MATCH(0,COUNTIF(U$17:U20,$I$11:$I$21),0),),"")} | V21: {=IFERROR(OFFSET(#REF!,MATCH(0,COUNTIF(V$17:V20,$K$11:$K$21),0),),"")}
N22: =#REF! -> #REF! | U22: {=IFERROR(OFFSET(#REF!,MATCH(0,COUNTIF(U$17:U21,$I$11:$I$21),0),),"")} | V22: {=IFERROR(OFFSET(#REF!,MATCH(0,COUNTIF(V$17:V21,$K$11:$K$21),0),),"")}
N23: =#REF! -> #REF! | U23: {=IFERROR(OFFSET(#REF!,MATCH(0,COUNTIF(U$17:U22,$I$11:$I$21),0),),"")} | V23: {=IFERROR(OFFSET(#REF!,MATCH(0,COUNTIF(V$17:V22,$K$11:$K$21),0),),"")}
N24: =#REF! -> #REF! | P24: =#REF! -> #REF! | U24: {=IFERROR(OFFSET(#REF!,MATCH(0,COUNTIF(U$17:U23,$I$11:$I$21),0),),"")} | V24: {=IFERROR(OFFSET(#REF!,MATCH(0,COUNTIF(V$17:V23,$K$11:$K$21),0),),"")}
N25: =#REF! -> #REF! | P25: =#REF! -> #REF! | U25: {=IFERROR(OFFSET(#REF!,MATCH(0,COUNTIF(U$17:U24,$I$11:$I$21),0),),"")} | V25: {=IFERROR(OFFSET(#REF!,MATCH(0,COUNTIF(V$17:V24,$K$11:$K$21),0),),"")}
N26: =#REF! -> #REF! | P26: =#REF! -> #REF! | U26: {=IFERROR(OFFSET(#REF!,MATCH(0,COUNTIF(U$17:U25,$I$11:$I$21),0),),"")} | V26: {=IFERROR(OFFSET(#REF!,MATCH(0,COUNTIF(V$17:V25,$K$11:$K$21),0),),"")}
P27: =#REF! -> #REF! | U27: {=IFERROR(OFFSET(#REF!,MATCH(0,COUNTIF(U$17:U26,$I$11:$I$18),0),),"")} | V27: {=IFERROR(OFFSET(#REF!,MATCH(0,COUNTIF(V$17:V26,$K$11:$K$18),0),),"")}
N28: =#REF! -> #REF! | P28: =#REF! -> #REF!
N29: =#REF! -> #REF! | P29: =#REF! -> #REF!
N30: =#REF! -> #REF! | P30: =#REF! -> #REF!
P31: =#REF! -> #REF!
P32: =#REF! -> #REF!
N33: SEMAINE APRÈS MATCH | P33: =#REF! -> #REF!
N34: SEMAINE MATCH | P34: =#REF! -> #REF!
P35: =#REF! -> #REF!
A53: 1
A54: 2
A55: 3
A56: 4
A57: 5
A58: 6
A59: 7
A60: 8
A61: 9
A62: 10
A63: 11
A64: 12
... A106: 54
...

Sheet 10
B1: =#REF! -> #REF! | C1: =SUM('9'!C1+1) -> 10 | K1: =MASTER!A2 -> 2018 | L1: =(#REF!) -> #REF!
B2: Répartition des Tâches
D3: =DATE(K1,1,3)-WEEKDAY(DATE(K1,1,3))+7*$C$1-5 -> 43164 | E3: =DATE(K1,1,3)-WEEKDAY(DATE(K1,1,3))+7*$C$1-5 -> 43164 | G3: au | I3: =DATE(K1,1,3)-WEEKDAY(DATE(K1,1,3))+7*$C$1-1 -> 43168
J4: =NOW() -> 43085.529
B5: =IF(A5=TRUE,$N$34,"")
R14: Lundi
N15: =IF(AND(I12<>""),(A+1)) -> FALSE | R15: Mardi
R16: Mercredi
N17: =#REF! -> #REF! | P17: =#REF! -> #REF! | R17: Jeudi
N18: =#REF! -> #REF! | P18: =#REF! -> #REF! | R18: Vendredi | U18: {=IFERROR(OFFSET(#REF!,MATCH(0,COUNTIF(U$17:U17,$I$11:$I$21),0),),"")} | V18: {=IFERROR(OFFSET(#REF!,MATCH(0,COUNTIF(V$17:V17,$K$11:$K$21),0),),"")}
N19: =#REF! -> #REF! | P19: =#REF! -> #REF! | U19: {=IFERROR(OFFSET(#REF!,MATCH(0,COUNTIF(U$17:U18,$I$11:$I$21),0),),"")} | V19: {=IFERROR(OFFSET(#REF!,MATCH(0,COUNTIF(V$17:V18,$K$11:$K$21),0),),"")}
N20: =#REF! -> #REF! | O20: / | P20: =#REF! -> #REF! | R20: * | U20: {=IFERROR(OFFSET(#REF!,MATCH(0,COUNTIF(U$17:U19,$I$11:$I$21),0),),"")} | V20: {=IFERROR(OFFSET(#REF!,MATCH(0,COUNTIF(V$17:V19,$K$11:$K$21),0),),"")}
N21: =#REF! -> #REF! | O21: X | U21: {=IFERROR(OFFSET(#REF!,MATCH(0,COUNTIF(U$17:U20,$I$11:$I$21),0),),"")} | V21: {=IFERROR(OFFSET(#REF!,MATCH(0,COUNTIF(V$17:V20,$K$11:$K$21),0),),"")}
N22: =#REF! -> #REF! | U22: {=IFERROR(OFFSET(#REF!,MATCH(0,COUNTIF(U$17:U21,$I$11:$I$21),0),),"")} | V22: {=IFERROR(OFFSET(#REF!,MATCH(0,COUNTIF(V$17:V21,$K$11:$K$21),0),),"")}
N23: =#REF! -> #REF! | U23: {=IFERROR(OFFSET(#REF!,MATCH(0,COUNTIF(U$17:U22,$I$11:$I$21),0),),"")} | V23: {=IFERROR(OFFSET(#REF!,MATCH(0,COUNTIF(V$17:V22,$K$11:$K$21),0),),"")}
N24: =#REF! -> #REF! | P24: =#REF! -> #REF! | U24: {=IFERROR(OFFSET(#REF!,MATCH(0,COUNTIF(U$17:U23,$I$11:$I$21),0),),"")} | V24: {=IFERROR(OFFSET(#REF!,MATCH(0,COUNTIF(V$17:V23,$K$11:$K$21),0),),"")}
A25: FALSE | N25: =#REF! -> #REF! | P25: =#REF! -> #REF! | U25: {=IFERROR(OFFSET(#REF!,MATCH(0,COUNTIF(U$17:U24,$I$11:$I$21),0),),"")} | V25: {=IFERROR(OFFSET(#REF!,MATCH(0,COUNTIF(V$17:V24,$K$11:$K$21),0),),"")}
N26: =#REF! -> #REF! | P26: =#REF! -> #REF! | U26: {=IFERROR(OFFSET(#REF!,MATCH(0,COUNTIF(U$17:U25,$I$11:$I$21),0),),"")} | V26: {=IFERROR(OFFSET(#REF!,MATCH(0,COUNTIF(V$17:V25,$K$11:$K$21),0),),"")}
P27: =#REF! -> #REF! | U27: {=IFERROR(OFFSET(#REF!,MATCH(0,COUNTIF(U$17:U26,$I$11:$I$18),0),),"")} | V27: {=IFERROR(OFFSET(#REF!,MATCH(0,COUNTIF(V$17:V26,$K$11:$K$18),0),),"")}
N28: =#REF! -> #REF! | P28: =#REF! -> #REF!
N29: =#REF! -> #REF! | P29: =#REF! -> #REF!
N30: =#REF! -> #REF! | P30: =#REF! -> #REF!
P31: =#REF! -> #REF!
P32: =#REF! -> #REF!
N33: SEMAINE APRÈS MATCH | P33: =#REF! -> #REF!
N34: SEMAINE MATCH | P34: =#REF! -> #REF!
P35: =#REF! -> #REF!
A53: 1
A54: 2
A55: 3
A56: 4
A57: 5
A58: 6
A59: 7
A60: 8
A61: 9
A62: 10
A63: 11
A64: 12
... A106: 54
...

Sheet 11
B1: =#REF! -> #REF! | C1: =SUM('10'!C1+1) -> 11 | K1: =MASTER!A2 -> 2018 | L1: =(#REF!) -> #REF!
B2: Répartition des Tâches
D3: =DATE(K1,1,3)-WEEKDAY(DATE(K1,1,3))+7*$C$1-5 -> 43171 | E3: =DATE(K1,1,3)-WEEKDAY(DATE(K1,1,3))+7*$C$1-5 -> 43171 | G3: au | I3: =DATE(K1,1,3)-WEEKDAY(DATE(K1,1,3))+7*$C$1-1 -> 43175
J4: =NOW() -> 43085.529
A5: FALSE | B5: =IF(A5=TRUE,$N$34,"")
R14: Lundi
N15: =IF(AND(I12<>""),(A+1)) -> FALSE | R15: Mardi
R16: Mercredi
N17: =#REF! -> #REF! | P17: =#REF! -> #REF! | R17: Jeudi
N18: =#REF! -> #REF! | P18: =#REF! -> #REF! | R18: Vendredi | U18: {=IFERROR(OFFSET(#REF!,MATCH(0,COUNTIF(U$17:U17,$I$11:$I$21),0),),"")} | V18: {=IFERROR(OFFSET(#REF!,MATCH(0,COUNTIF(V$17:V17,$K$11:$K$21),0),),"")}
N19: =#REF! -> #REF! | P19: =#REF! -> #REF! | U19: {=IFERROR(OFFSET(#REF!,MATCH(0,COUNTIF(U$17:U18,$I$11:$I$21),0),),"")} | V19: {=IFERROR(OFFSET(#REF!,MATCH(0,COUNTIF(V$17:V18,$K$11:$K$21),0),),"")}
N20: =#REF! -> #REF! | O20: / | P20: =#REF! -> #REF! | R20: * | U20: {=IFERROR(OFFSET(#REF!,MATCH(0,COUNTIF(U$17:U19,$I$11:$I$21),0),),"")} | V20: {=IFERROR(OFFSET(#REF!,MATCH(0,COUNTIF(V$17:V19,$K$11:$K$21),0),),"")}
N21: =#REF! -> #REF! | O21: X | U21: {=IFERROR(OFFSET(#REF!,MATCH(0,COUNTIF(U$17:U20,$I$11:$I$21),0),),"")} | V21: {=IFERROR(OFFSET(#REF!,MATCH(0,COUNTIF(V$17:V20,$K$11:$K$21),0),),"")}
N22: =#REF! -> #REF! | U22: {=IFERROR(OFFSET(#REF!,MATCH(0,COUNTIF(U$17:U21,$I$11:$I$21),0),),"")} | V22: {=IFERROR(OFFSET(#REF!,MATCH(0,COUNTIF(V$17:V21,$K$11:$K$21),0),),"")}
N23: =#REF! -> #REF! | U23: {=IFERROR(OFFSET(#REF!,MATCH(0,COUNTIF(U$17:U22,$I$11:$I$21),0),),"")} | V23: {=IFERROR(OFFSET(#REF!,MATCH(0,COUNTIF(V$17:V22,$K$11:$K$21),0),),"")}
N24: =#REF! -> #REF! | P24: =#REF! -> #REF! | U24: {=IFERROR(OFFSET(#REF!,MATCH(0,COUNTIF(U$17:U23,$I$11:$I$21),0),),"")} | V24: {=IFERROR(OFFSET(#REF!,MATCH(0,COUNTIF(V$17:V23,$K$11:$K$21),0),),"")}
N25: =#REF! -> #REF! | P25: =#REF! -> #REF! | U25: {=IFERROR(OFFSET(#REF!,MATCH(0,COUNTIF(U$17:U24,$I$11:$I$21),0),),"")} | V25: {=IFERROR(OFFSET(#REF!,MATCH(0,COUNTIF(V$17:V24,$K$11:$K$21),0),),"")}
N26: =#REF! -> #REF! | P26: =#REF! -> #REF! | U26: {=IFERROR(OFFSET(#REF!,MATCH(0,COUNTIF(U$17:U25,$I$11:$I$21),0),),"")} | V26: {=IFERROR(OFFSET(#REF!,MATCH(0,COUNTIF(V$17:V25,$K$11:$K$21),0),),"")}
P27: =#REF! -> #REF! | U27: {=IFERROR(OFFSET(#REF!,MATCH(0,COUNTIF(U$17:U26,$I$11:$I$18),0),),"")} | V27: {=IFERROR(OFFSET(#REF!,MATCH(0,COUNTIF(V$17:V26,$K$11:$K$18),0),),"")}
N28: =#REF! -> #REF! | P28: =#REF! -> #REF!
N29: =#REF! -> #REF! | P29: =#REF! -> #REF!
N30: =#REF! -> #REF! | P30: =#REF! -> #REF!
P31: =#REF! -> #REF!
P32: =#REF! -> #REF!
N33: SEMAINE APRÈS MATCH | P33: =#REF! -> #REF!
N34: SEMAINE MATCH | P34: =#REF! -> #REF!
P35: =#REF! -> #REF!
A53: 1
A54: 2
A55: 3
A56: 4
A57: 5
A58: 6
A59: 7
A60: 8
A61: 9
A62: 10
A63: 11
A64: 12
... A106: 54
...

Sheet 12
B1: =#REF! -> #REF! | C1: =SUM('11'!C1+1) -> 12 | K1: =MASTER!A2 -> 2018 | L1: =(#REF!) -> #REF!
B2: Répartition des Tâches
D3: =DATE(K1,1,3)-WEEKDAY(DATE(K1,1,3))+7*$C$1-5 -> 43178 | E3: =DATE(K1,1,3)-WEEKDAY(DATE(K1,1,3))+7*$C$1-5 -> 43178 | G3: au | I3: =DATE(K1,1,3)-WEEKDAY(DATE(K1,1,3))+7*$C$1-1 -> 43182
J4: =NOW() -> 43085.529
B5: =IF(A5=TRUE,$N$34,"")
R14: Lundi
N15: =IF(AND(I12<>""),(A+1)) -> FALSE | R15: Mardi
R16: Mercredi
N17: =#REF! -> #REF! | P17: =#REF! -> #REF! | R17: Jeudi
N18: =#REF! -> #REF! | P18: =#REF! -> #REF! | R18: Vendredi | U18: {=IFERROR(OFFSET(#REF!,MATCH(0,COUNTIF(U$17:U17,$I$11:$I$21),0),),"")} | V18: {=IFERROR(OFFSET(#REF!,MATCH(0,COUNTIF(V$17:V17,$K$11:$K$21),0),),"")}
N19: =#REF! -> #REF! | P19: =#REF! -> #REF! | U19: {=IFERROR(OFFSET(#REF!,MATCH(0,COUNTIF(U$17:U18,$I$11:$I$21),0),),"")} | V19: {=IFERROR(OFFSET(#REF!,MATCH(0,COUNTIF(V$17:V18,$K$11:$K$21),0),),"")}
N20: =#REF! -> #REF! | O20: / | P20: =#REF! -> #REF! | R20: * | U20: {=IFERROR(OFFSET(#REF!,MATCH(0,COUNTIF(U$17:U19,$I$11:$I$21),0),),"")} | V20: {=IFERROR(OFFSET(#REF!,MATCH(0,COUNTIF(V$17:V19,$K$11:$K$21),0),),"")}
N21: =#REF! -> #REF! | O21: X | U21: {=IFERROR(OFFSET(#REF!,MATCH(0,COUNTIF(U$17:U20,$I$11:$I$21),0),),"")} | V21: {=IFERROR(OFFSET(#REF!,MATCH(0,COUNTIF(V$17:V20,$K$11:$K$21),0),),"")}
N22: =#REF! -> #REF! | U22: {=IFERROR(OFFSET(#REF!,MATCH(0,COUNTIF(U$17:U21,$I$11:$I$21),0),),"")} | V22: {=IFERROR(OFFSET(#REF!,MATCH(0,COUNTIF(V$17:V21,$K$11:$K$21),0),),"")}
N23: =#REF! -> #REF! | U23: {=IFERROR(OFFSET(#REF!,MATCH(0,COUNTIF(U$17:U22,$I$11:$I$21),0),),"")} | V23: {=IFERROR(OFFSET(#REF!,MATCH(0,COUNTIF(V$17:V22,$K$11:$K$21),0),),"")}
N24: =#REF! -> #REF! | P24: =#REF! -> #REF! | U24: {=IFERROR(OFFSET(#REF!,MATCH(0,COUNTIF(U$17:U23,$I$11:$I$21),0),),"")} | V24: {=IFERROR(OFFSET(#REF!,MATCH(0,COUNTIF(V$17:V23,$K$11:$K$21),0),),"")}
A25: FALSE | N25: =#REF! -> #REF! | P25: =#REF! -> #REF! | U25: {=IFERROR(OFFSET(#REF!,MATCH(0,COUNTIF(U$17:U24,$I$11:$I$21),0),),"")} | V25: {=IFERROR(OFFSET(#REF!,MATCH(0,COUNTIF(V$17:V24,$K$11:$K$21),0),),"")}
N26: =#REF! -> #REF! | P26: =#REF! -> #REF! | U26: {=IFERROR(OFFSET(#REF!,MATCH(0,COUNTIF(U$17:U25,$I$11:$I$21),0),),"")} | V26: {=IFERROR(OFFSET(#REF!,MATCH(0,COUNTIF(V$17:V25,$K$11:$K$21),0),),"")}
P27: =#REF! -> #REF! | U27: {=IFERROR(OFFSET(#REF!,MATCH(0,COUNTIF(U$17:U26,$I$11:$I$18),0),),"")} | V27: {=IFERROR(OFFSET(#REF!,MATCH(0,COUNTIF(V$17:V26,$K$11:$K$18),0),),"")}
N28: =#REF! -> #REF! | P28: =#REF! -> #REF!
N29: =#REF! -> #REF! | P29: =#REF! -> #REF!
N30: =#REF! -> #REF! | P30: =#REF! -> #REF!
P31: =#REF! -> #REF!
P32: =#REF! -> #REF!
N33: SEMAINE APRÈS MATCH | P33: =#REF! -> #REF!
N34: SEMAINE MATCH | P34: =#REF! -> #REF!
P35: =#REF! -> #REF!
A53: 1
A54: 2
A55: 3
A56: 4
A57: 5
A58: 6
A59: 7
A60: 8
A61: 9
A62: 10
A63: 11
A64: 12
... A106: 54
...

Sheet 13
B1: =#REF! -> #REF! | C1: =SUM('12'!C1+1) -> 13 | K1: =MASTER!A2 -> 2018 | L1: =(#REF!) -> #REF!
B2: Répartition des Tâches
D3: =DATE(K1,1,3)-WEEKDAY(DATE(K1,1,3))+7*$C$1-5 -> 43185 | E3: =DATE(K1,1,3)-WEEKDAY(DATE(K1,1,3))+7*$C$1-5 -> 43185 | G3: au | I3: =DATE(K1,1,3)-WEEKDAY(DATE(K1,1,3))+7*$C$1-1 -> 43189
J4: =NOW() -> 43085.529
A5: FALSE | B5: =IF(A5=TRUE,$N$34,"")
R14: Lundi
N15: =IF(AND(I12<>""),(A+1)) -> FALSE | R15: Mardi
R16: Mercredi
N17: =#REF! -> #REF! | P17: =#REF! -> #REF! | R17: Jeudi
N18: =#REF! -> #REF! | P18: =#REF! -> #REF! | R18: Vendredi | U18: {=IFERROR(OFFSET(#REF!,MATCH(0,COUNTIF(U$17:U17,$I$11:$I$21),0),),"")} | V18: {=IFERROR(OFFSET(#REF!,MATCH(0,COUNTIF(V$17:V17,$K$11:$K$21),0),),"")}
N19: =#REF! -> #REF! | P19: =#REF! -> #REF! | U19: {=IFERROR(OFFSET(#REF!,MATCH(0,COUNTIF(U$17:U18,$I$11:$I$21),0),),"")} | V19: {=IFERROR(OFFSET(#REF!,MATCH(0,COUNTIF(V$17:V18,$K$11:$K$21),0),),"")}
N20: =#REF! -> #REF! | O20: / | P20: =#REF! -> #REF! | R20: * | U20: {=IFERROR(OFFSET(#REF!,MATCH(0,COUNTIF(U$17:U19,$I$11:$I$21),0),),"")} | V20: {=IFERROR(OFFSET(#REF!,MATCH(0,COUNTIF(V$17:V19,$K$11:$K$21),0),),"")}
N21: =#REF! -> #REF! | O21: X | U21: {=IFERROR(OFFSET(#REF!,MATCH(0,COUNTIF(U$17:U20,$I$11:$I$21),0),),"")} | V21: {=IFERROR(OFFSET(#REF!,MATCH(0,COUNTIF(V$17:V20,$K$11:$K$21),0),),"")}
N22: =#REF! -> #REF! | U22: {=IFERROR(OFFSET(#REF!,MATCH(0,COUNTIF(U$17:U21,$I$11:$I$21),0),),"")} | V22: {=IFERROR(OFFSET(#REF!,MATCH(0,COUNTIF(V$17:V21,$K$11:$K$21),0),),"")}
N23: =#REF! -> #REF! | U23: {=IFERROR(OFFSET(#REF!,MATCH(0,COUNTIF(U$17:U22,$I$11:$I$21),0),),"")} | V23: {=IFERROR(OFFSET(#REF!,MATCH(0,COUNTIF(V$17:V22,$K$11:$K$21),0),),"")}
N24: =#REF! -> #REF! | P24: =#REF! -> #REF! | U24: {=IFERROR(OFFSET(#REF!,MATCH(0,COUNTIF(U$17:U23,$I$11:$I$21),0),),"")} | V24: {=IFERROR(OFFSET(#REF!,MATCH(0,COUNTIF(V$17:V23,$K$11:$K$21),0),),"")}
N25: =#REF! -> #REF! | P25: =#REF! -> #REF! | U25: {=IFERROR(OFFSET(#REF!,MATCH(0,COUNTIF(U$17:U24,$I$11:$I$21),0),),"")} | V25: {=IFERROR(OFFSET(#REF!,MATCH(0,COUNTIF(V$17:V24,$K$11:$K$21),0),),"")}
N26: =#REF! -> #REF! | P26: =#REF! -> #REF! | U26: {=IFERROR(OFFSET(#REF!,MATCH(0,COUNTIF(U$17:U25,$I$11:$I$21),0),),"")} | V26: {=IFERROR(OFFSET(#REF!,MATCH(0,COUNTIF(V$17:V25,$K$11:$K$21),0),),"")}
P27: =#REF! -> #REF! | U27: {=IFERROR(OFFSET(#REF!,MATCH(0,COUNTIF(U$17:U26,$I$11:$I$18),0),),"")} | V27: {=IFERROR(OFFSET(#REF!,MATCH(0,COUNTIF(V$17:V26,$K$11:$K$18),0),),"")}
N28: =#REF! -> #REF! | P28: =#REF! -> #REF!
N29: =#REF! -> #REF! | P29: =#REF! -> #REF!
N30: =#REF! -> #REF! | P30: =#REF! -> #REF!
P31: =#REF! -> #REF!
P32: =#REF! -> #REF!
N33: SEMAINE APRÈS MATCH | P33: =#REF! -> #REF!
N34: SEMAINE MATCH | P34: =#REF! -> #REF!
P35: =#REF! -> #REF!
A53: 1
A54: 2
A55: 3
A56: 4
A57: 5
A58: 6
A59: 7
A60: 8
A61: 9
A62: 10
A63: 11
A64: 12
... A106: 54
...

Sheet 14
B1: =#REF! -> #REF! | C1: =SUM('13'!C1+1) -> 14 | K1: =MASTER!A2 -> 2018 | L1: =(#REF!) -> #REF!
B2: Répartition des Tâches
D3: =DATE(K1,1,3)-WEEKDAY(DATE(K1,1,3))+7*$C$1-5 -> 43192 | E3: =DATE(K1,1,3)-WEEKDAY(DATE(K1,1,3))+7*$C$1-5 -> 43192 | G3: au | I3: =DATE(K1,1,3)-WEEKDAY(DATE(K1,1,3))+7*$C$1-1 -> 43196
J4: =NOW() -> 43085.529
B5: =IF(A5=TRUE,$N$34,"")
R14: Lundi
N15: =IF(AND(I12<>""),(A+1)) -> FALSE | R15: Mardi
R16: Mercredi
N17: =#REF! -> #REF! | P17: =#REF! -> #REF! | R17: Jeudi
N18: =#REF! -> #REF! | P18: =#REF! -> #REF! | R18: Vendredi | U18: {=IFERROR(OFFSET(#REF!,MATCH(0,COUNTIF(U$17:U17,$I$11:$I$21),0),),"")} | V18: {=IFERROR(OFFSET(#REF!,MATCH(0,COUNTIF(V$17:V17,$K$11:$K$21),0),),"")}
N19: =#REF! -> #REF! | P19: =#REF! -> #REF! | U19: {=IFERROR(OFFSET(#REF!,MATCH(0,COUNTIF(U$17:U18,$I$11:$I$21),0),),"")} | V19: {=IFERROR(OFFSET(#REF!,MATCH(0,COUNTIF(V$17:V18,$K$11:$K$21),0),),"")}
N20: =#REF! -> #REF! | O20: / | P20: =#REF! -> #REF! | R20: * | U20: {=IFERROR(OFFSET(#REF!,MATCH(0,COUNTIF(U$17:U19,$I$11:$I$21),0),),"")} | V20: {=IFERROR(OFFSET(#REF!,MATCH(0,COUNTIF(V$17:V19,$K$11:$K$21),0),),"")}
N21: =#REF! -> #REF! | O21: X | U21: {=IFERROR(OFFSET(#REF!,MATCH(0,COUNTIF(U$17:U20,$I$11:$I$21),0),),"")} | V21: {=IFERROR(OFFSET(#REF!,MATCH(0,COUNTIF(V$17:V20,$K$11:$K$21),0),),"")}
N22: =#REF! -> #REF! | U22: {=IFERROR(OFFSET(#REF!,MATCH(0,COUNTIF(U$17:U21,$I$11:$I$21),0),),"")} | V22: {=IFERROR(OFFSET(#REF!,MATCH(0,COUNTIF(V$17:V21,$K$11:$K$21),0),),"")}
N23: =#REF! -> #REF! | U23: {=IFERROR(OFFSET(#REF!,MATCH(0,COUNTIF(U$17:U22,$I$11:$I$21),0),),"")} | V23: {=IFERROR(OFFSET(#REF!,MATCH(0,COUNTIF(V$17:V22,$K$11:$K$21),0),),"")}
N24: =#REF! -> #REF! | P24: =#REF! -> #REF! | U24: {=IFERROR(OFFSET(#REF!,MATCH(0,COUNTIF(U$17:U23,$I$11:$I$21),0),),"")} | V24: {=IFERROR(OFFSET(#REF!,MATCH(0,COUNTIF(V$17:V23,$K$11:$K$21),0),),"")}
A25: FALSE | N25: =#REF! -> #REF! | P25: =#REF! -> #REF! | U25: {=IFERROR(OFFSET(#REF!,MATCH(0,COUNTIF(U$17:U24,$I$11:$I$21),0),),"")} | V25: {=IFERROR(OFFSET(#REF!,MATCH(0,COUNTIF(V$17:V24,$K$11:$K$21),0),),"")}
N26: =#REF! -> #REF! | P26: =#REF! -> #REF! | U26: {=IFERROR(OFFSET(#REF!,MATCH(0,COUNTIF(U$17:U25,$I$11:$I$21),0),),"")} | V26: {=IFERROR(OFFSET(#REF!,MATCH(0,COUNTIF(V$17:V25,$K$11:$K$21),0),),"")}
P27: =#REF! -> #REF! | U27: {=IFERROR(OFFSET(#REF!,MATCH(0,COUNTIF(U$17:U26,$I$11:$I$18),0),),"")} | V27: {=IFERROR(OFFSET(#REF!,MATCH(0,COUNTIF(V$17:V26,$K$11:$K$18),0),),"")}
N28: =#REF! -> #REF! | P28: =#REF! -> #REF!
N29: =#REF! -> #REF! | P29: =#REF! -> #REF!
N30: =#REF! -> #REF! | P30: =#REF! -> #REF!
P31: =#REF! -> #REF!
P32: =#REF! -> #REF!
N33: SEMAINE APRÈS MATCH | P33: =#REF! -> #REF!
N34: SEMAINE MATCH | P34: =#REF! -> #REF!
P35: =#REF! -> #REF!
A53: 1
A54: 2
A55: 3
A56: 4
A57: 5
A58: 6
A59: 7
A60: 8
A61: 9
A62: 10
A63: 11
A64: 12
... A106: 54
...

Sheet 15
B1: =#REF! -> #REF! | C1: =SUM('14'!C1+1) -> 15 | K1: =MASTER!A2 -> 2018 | L1: =(#REF!) -> #REF!
B2: Répartition des Tâches
D3: =DATE(K1,1,3)-WEEKDAY(DATE(K1,1,3))+7*$C$1-5 -> 43199 | E3: =DATE(K1,1,3)-WEEKDAY(DATE(K1,1,3))+7*$C$1-5 -> 43199 | G3: au | I3: =DATE(K1,1,3)-WEEKDAY(DATE(K1,1,3))+7*$C$1-1 -> 43203
J4: =NOW() -> 43085.529
A5: FALSE | B5: =IF(A5=TRUE,$N$34,"")
R14: Lundi
N15: =IF(AND(I12<>""),(A+1)) -> FALSE | R15: Mardi
R16: Mercredi
N17: =#REF! -> #REF! | P17: =#REF! -> #REF! | R17: Jeudi
N18: =#REF! -> #REF! | P18: =#REF! -> #REF! | R18: Vendredi | U18: {=IFERROR(OFFSET(#REF!,MATCH(0,COUNTIF(U$17:U17,$I$11:$I$21),0),),"")} | V18: {=IFERROR(OFFSET(#REF!,MATCH(0,COUNTIF(V$17:V17,$K$11:$K$21),0),),"")}
N19: =#REF! -> #REF! | P19: =#REF! -> #REF! | U19: {=IFERROR(OFFSET(#REF!,MATCH(0,COUNTIF(U$17:U18,$I$11:$I$21),0),),"")} | V19: {=IFERROR(OFFSET(#REF!,MATCH(0,COUNTIF(V$17:V18,$K$11:$K$21),0),),"")}
N20: =#REF! -> #REF! | O20: / | P20: =#REF! -> #REF! | R20: * | U20: {=IFERROR(OFFSET(#REF!,MATCH(0,COUNTIF(U$17:U19,$I$11:$I$21),0),),"")} | V20: {=IFERROR(OFFSET(#REF!,MATCH(0,COUNTIF(V$17:V19,$K$11:$K$21),0),),"")}
N21: =#REF! -> #REF! | O21: X | U21: {=IFERROR(OFFSET(#REF!,MATCH(0,COUNTIF(U$17:U20,$I$11:$I$21),0),),"")} | V21: {=IFERROR(OFFSET(#REF!,MATCH(0,COUNTIF(V$17:V20,$K$11:$K$21),0),),"")}
N22: =#REF! -> #REF! | U22: {=IFERROR(OFFSET(#REF!,MATCH(0,COUNTIF(U$17:U21,$I$11:$I$21),0),),"")} | V22: {=IFERROR(OFFSET(#REF!,MATCH(0,COUNTIF(V$17:V21,$K$11:$K$21),0),),"")}
N23: =#REF! -> #REF! | U23: {=IFERROR(OFFSET(#REF!,MATCH(0,COUNTIF(U$17:U22,$I$11:$I$21),0),),"")} | V23: {=IFERROR(OFFSET(#REF!,MATCH(0,COUNTIF(V$17:V22,$K$11:$K$21),0),),"")}
N24: =#REF! -> #REF! | P24: =#REF! -> #REF! | U24: {=IFERROR(OFFSET(#REF!,MATCH(0,COUNTIF(U$17:U23,$I$11:$I$21),0),),"")} | V24: {=IFERROR(OFFSET(#REF!,MATCH(0,COUNTIF(V$17:V23,$K$11:$K$21),0),),"")}
N25: =#REF! -> #REF! | P25: =#REF! -> #REF! | U25: {=IFERROR(OFFSET(#REF!,MATCH(0,COUNTIF(U$17:U24,$I$11:$I$21),0),),"")} | V25: {=IFERROR(OFFSET(#REF!,MATCH(0,COUNTIF(V$17:V24,$K$11:$K$21),0),),"")}
N26: =#REF! -> #REF! | P26: =#REF! -> #REF! | U26: {=IFERROR(OFFSET(#REF!,MATCH(0,COUNTIF(U$17:U25,$I$11:$I$21),0),),"")} | V26: {=IFERROR(OFFSET(#REF!,MATCH(0,COUNTIF(V$17:V25,$K$11:$K$21),0),),"")}
P27: =#REF! -> #REF! | U27: {=IFERROR(OFFSET(#REF!,MATCH(0,COUNTIF(U$17:U26,$I$11:$I$18),0),),"")} | V27: {=IFERROR(OFFSET(#REF!,MATCH(0,COUNTIF(V$17:V26,$K$11:$K$18),0),),"")}
N28: =#REF! -> #REF! | P28: =#REF! -> #REF!
N29: =#REF! -> #REF! | P29: =#REF! -> #REF!
N30: =#REF! -> #REF! | P30: =#REF! -> #REF!
P31: =#REF! -> #REF!
P32: =#REF! -> #REF!
N33: SEMAINE APRÈS MATCH | P33: =#REF! -> #REF!
N34: SEMAINE MATCH | P34: =#REF! -> #REF!
P35: =#REF! -> #REF!
A53: 1
A54: 2
A55: 3
A56: 4
A57: 5
A58: 6
A59: 7
A60: 8
A61: 9
A62: 10
A63: 11
A64: 12
... A106: 54
...
