Workbook
Name code: #REF!
Name code: #REF!
Name code: #REF!
Name code: #REF!
Name code: #REF!
Name code: #REF!
Name code: #REF!
Name code: #REF!
Name code: #REF!
Name code: #REF!
Name code: #REF!
Name code: #REF!
Name code: #REF!
Name code: #REF!
Name code: #REF!
Name code2: #REF!,#REF!
Name code2: #REF!,#REF!
Name code2: #REF!,#REF!
Name code2: #REF!,#REF!
Name code2: #REF!,#REF!
Name code2: #REF!,#REF!
Name code2: #REF!,#REF!
Name code2: #REF!,#REF!
Name code2: #REF!,#REF!
Name code2: #REF!,#REF!
Name code2: #REF!,#REF!
Name code2: #REF!,#REF!
Name code2: #REF!,#REF!
Name code2: #REF!,#REF!
Name code2: #REF!,#REF!

Sheet MASTER
A2: 2018 | L2: =TODAY() -> 43085
A3: =#REF! -> #REF! | B3: =#REF! -> #REF! | C3: AGENT 1 | D3: AGENT 2 | E3: AGENT 3 | F3: AGENT 4 | G3: AGENT 5 | H3: AGENT 6 | L3: =TODAY() -> 43085
B4: =SUM('1:15'!$I$185) -> 0 | N4: 43101 | O4: =N8+7 -> 43136 | P4: =O7+7 -> 43164 | Q4: =P7+7 -> 43192 | R4: =Q8+7 -> 43227 | S4: =N25+7 -> 43255 | T4: =S7+7 -> 43283 | U4: =T8+7 -> 43318 | V4: =U7+7 -> 43346 | W4: =V7+7 -> 43374 | X4: =W8+7 -> 43409 | Y4: =X7+7 -> 43437
B5: =SUM('1:15'!$I$196) -> 0 | N5: =N4+7 -> 43108 | O5: =O4+7 -> 43143 | P5: =P4+7 -> 43171 | Q5: =Q4+7 -> 43199 | R5: =R4+7 -> 43234 | S5: =S4+7 -> 43262 | T5: =T4+7 -> 43290 | U5: =U4+7 -> 43325 | ... Y5: =Y4+7 -> 43444
B6: =SUM('1:15'!$I$130) -> 0 | N6: =N5+7 -> 43115 | O6: =O5+7 -> 43150 | P6: =P5+7 -> 43178 | Q6: =Q5+7 -> 43206 | R6: =R5+7 -> 43241 | S6: =S5+7 -> 43269 | T6: =T5+7 -> 43297 | U6: =U5+7 -> 43332 | ... Y6: =Y5+7 -> 43451
B7: =SUM('1:15'!$I$75) -> 0 | N7: =N6+7 -> 43122 | O7: =O6+7 -> 43157 | P7: =P6+7 -> 43185 | Q7: =Q6+7 -> 43213 | R7: =R6+7 -> 43248 | S7: =S6+7 -> 43276 | T7: =T6+7 -> 43304 | U7: =U6+7 -> 43339 | ... Y7: =Y6+7 -> 43458
B8: =SUM('1:15'!$I$64) -> 0 | N8: =N7+7 -> 43129 | Q8: =Q7+7 -> 43220 | T8: =T7+7 -> 43311 | W8: =W7+7 -> 43402 | Y8: =Y7+7 -> 43465
B9: =SUM('1:15'!$I$174) -> 0
B10: =SUM('1:15'!$I$53) -> 0
B11: =SUM('1:15'!$I$97) -> 0
B12: =SUM('1:15'!$I$119) -> 0
B13: =SUM('1:15'!$I$141) -> 0
B14: =SUM('1:15'!$I$152) -> 0
B15: =SUM('1:15'!$I$251) -> 0
B16: =SUM('1:15'!$I$207) -> 0
B17: =SUM('1:15'!$I$163) -> 0
B18: =SUM('1:15'!$I$229) -> 0
B23: =SUM('1:15'!$I$86) -> 0
B24: =SUM('1:15'!$I$108) -> 0
B25: =SUM('1:15'!$I$262) -> 0 | N25: =R6+7 -> 43248
B26: =SUM('1:15'!$I$218) -> 0
A32: =#REF! -> #REF!
B33: =SUM('1:15'!$I$273) -> 0
B34: =SUM('1:15'!$I$284) -> 0
B35: =SUM('1:15'!$I$295) -> 0
B36: =SUM('1:15'!$I$306) -> 0
B37: =SUM('1:15'!$I$317) -> 0
B38: =SUM('1:15'!$I$328) -> 0
B39: =SUM('1:15'!$I$339) -> 0
B40: =SUM('1:15'!$I$350) -> 0
B41: =SUM('1:15'!$I$361) -> 0
B42: =SUM('1:15'!$I$372) -> 0
B43: =SUM('1:15'!$I$383) -> 0
B44: =SUM('1:15'!$I$394) -> 0
A54: INFORMATIONS DIVERSES :

Sheet 1
C1: 1 | K1: =MASTER!A2 -> 2018 | L1: =(#REF!) -> #REF!
B2: Répartition des Tâches
D3: =DATE(K1,1,3)-WEEKDAY(DATE(K1,1,3))+7*$C$1-5 -> 43101 | E3: =DATE(K1,1,3)-WEEKDAY(DATE(K1,1,3))+7*$C$1-5 -> 43101 | G3: au | I3: =DATE(K1,1,3)-WEEKDAY(DATE(K1,1,3))+7*$C$1-1 -> 43105
J4: =NOW() -> 43085.529
A5: FALSE | B5: =IF(A5=TRUE,$N$34,"")
R14: Lundi
N15: =IF(AND(I12<>""),(A+1)) -> FALSE | R15: Mardi
R16: Mercredi
N17: =#REF! -> #REF! | P17: =#REF! -> #REF! | R17: Jeudi
N18: =#REF! -> #REF! | P18: =#REF! -> #REF! | R18: Vendredi | U18: {=IFERROR(OFFSET(#REF!,MATCH(0,COUNTIF(U$17:U17,$I$11:$I$21),0),),"")} | V18: {=IFERROR(OFFSET(#REF!,MATCH(0,COUNTIF(V$17:V17,$K$11:$K$21),0),),"")}
N19: =#REF! -> #REF! | P19: =#REF! -> #REF! | U19: {=IFERROR(OFFSET(#REF!,MATCH(0,COUNTIF(U$17:U18,$I$11:$I$21),0),),"")} | V19: {=IFERROR(OFFSET(#REF!,MATCH(0,COUNTIF(V$17:V18,$K$11:$K$21),0),),"")}
N20: =#REF! -> #REF! | O20: / | P20: =#REF! -> #REF! | R20: * | U20: {=IFERROR(OFFSET(#REF!,MATCH(0,COUNTIF(U$17:U19,$I$11:$I$21),0),),"")} | V20: {=IFERROR(OFFSET(#REF!,MATCH(0,COUNTIF(V$17:V19,$K$11:$K$21),0),),"")}
N21: =#REF! -> #REF! | O21: X | U21: {=IFERROR(OFFSET(#REF!,MATCH(0,COUNTIF(U$17:U20,$I$11:$I$21),0),),"")} | V21: {=IFERROR(OFFSET(#REF!,MATCH(0,COUNTIF(V$17:V20,$K$11:$K$21),0),),"")}
N22: =#REF! -> #REF! | U22: {=IFERROR(OFFSET(#REF!,MATCH(0,COUNTIF(U$17:U21,$I$11:$I$21),0),),"")} | V22: {=IFERROR(OFFSET(#REF!,MATCH(0,COUNTIF(V$17:V21,$K$11:$K$21),0),),"")}
N23: =#REF! -> #REF! | U23: {=IFERROR(OFFSET(#REF!,MATCH(0,COUNTIF(U$17:U22,$I$11:$I$21),0),),"")} | V23: {=IFERROR(OFFSET(#REF!,MATCH(0,COUNTIF(V$17:V22,$K$11:$K$21),0),),"")}
N24: =#REF! -> #REF! | P24: =#REF! -> #REF! | U24: {=IFERROR(OFFSET(#REF!,MATCH(0,COUNTIF(U$17:U23,$I$11:$I$21),0),),"")} | V24: {=IFERROR(OFFSET(#REF!,MATCH(0,COUNTIF(V$17:V23,$K$11:$K$21),0),),"")}
A25: FALSE | N25: =#REF! -> #REF! | P25: =#REF! -> #REF! | U25: {=IFERROR(OFFSET(#REF!,MATCH(0,COUNTIF(U$17:U24,$I$11:$I$21),0),),"")} | V25: {=IFERROR(OFFSET(#REF!,MATCH(0,COUNTIF(V$17:V24,$K$11:$K$21),0),),"")}
N26: =#REF! -> #REF! | P26: =#REF! -> #REF! | U26: {=IFERROR(OFFSET(#REF!,MATCH(0,COUNTIF(U$17:U25,$I$11:$I$21),0),),"")} | V26: {=IFERROR(OFFSET(#REF!,MATCH(0,COUNTIF(V$17:V25,$K$11:$K$21),0),),"")}
P27: =#REF! -> #REF! | U27: {=IFERROR(OFFSET(#REF!,MATCH(0,COUNTIF(U$17:U26,$I$11:$I$18),0),),"")} | V27: {=IFERROR(OFFSET(#REF!,MATCH(0,COUNTIF(V$17:V26,$K$11:$K$18),0),),"")}
N28: =#REF! -> #REF! | P28: =#REF! -> #REF!
N29: =#REF! -> #REF! | P29: =#REF! -> #REF!
N30: =#REF! -> #REF! | P30: =#REF! -> #REF!
P31: =#REF! -> #REF!
P32: =#REF! -> #REF!
N33: SEMAINE APRÈS MATCH | P33: =#REF! -> #REF!
N34: SEMAINE MATCH | P34: =#REF! -> #REF!
P35: =#REF! -> #REF!
A53: 1 | B53: =$N$17 -> #REF! | F53: =COUNTIF($I$17,N17) -> 0 | G53: =COUNTIF($J$17,N17) -> 0 | H53: =COUNTIF($K$17,N17) -> 0 | I53: =SUM(D53:H53) -> 0
A54: 2 | B54: =$N$18 -> #REF! | F54: =COUNTIF($I$17,N18) -> 0 | G54: =COUNTIF($J$17,N18) -> 0 | H54: =COUNTIF($K$17,N18) -> 0 | I54: =SUM(D54:H54) -> 0
A55: 3 | B55: =$N$19 -> #REF! | F55: =COUNTIF($I$17,N19) -> 0 | G55: =COUNTIF($J$17,N19) -> 0 | H55: =COUNTIF($K$17,N19) -> 0 | I55: =SUM(D55:H55) -> 0
A56: 4 | B56: =$N$20 -> #REF! | F56: =COUNTIF($I$17,N20) -> 0 | G56: =COUNTIF($J$17,N20) -> 0 | H56: =COUNTIF($K$17,N20) -> 0 | I56: =SUM(D56:H56) -> 0
A57: 5 | B57: =$N$21 -> #REF! | F57: =COUNTIF($I$17,N21) -> 0 | G57: =COUNTIF($J$17,N21) -> 0 | H57: =COUNTIF($K$17,N21) -> 0 | I57: =SUM(D57:H57) -> 0 | K57: =#REF! -> #REF!
A58: 6 | B58: =$N$22 -> #REF! | F58: =COUNTIF($I$17,N22) -> 0 | G58: =COUNTIF($J$17,N22) -> 0 | H58: =COUNTIF($K$17,N22) -> 0 | I58: =SUM(D58:H58) -> 0
A59: 7 | B59: =$N$23 -> #REF! | F59: =COUNTIF($I$17,N23) -> 0 | G59: =COUNTIF($J$17,N23) -> 0 | H59: =COUNTIF($K$17,N23) -> 0 | I59: =SUM(D59:H59) -> 0
A60: 8 | B60: =$N$24 -> #REF! | F60: =COUNTIF($I$17,N24) -> 0 | G60: =COUNTIF($J$17,N24) -> 0 | H60: =COUNTIF($K$17,N24) -> 0 | I60: =SUM(D60:H60) -> 0
A61: 9 | B61: =$N$25 -> #REF! | F61: =COUNTIF($I$17,N25) -> 0 | G61: =COUNTIF($J$17,N25) -> 0 | H61: =COUNTIF($K$17,N25) -> 0 | I61: =SUM(D61:H61) -> 0
A62: 10 | B62: =$N$26 -> #REF! | F62: =COUNTIF($I$17,N26) -> 0 | G62: =COUNTIF($J$17,N26) -> 0 | H62: =COUNTIF($K$17,N26) -> 0 | I62: =SUM(D62:H62) -> 0
A63: 11
A64: 12 | B64: =$N$17 -> #REF! | F64: =COUNTIF($I$13,N17) -> 0 | G64: =COUNTIF($J$13,N17) -> 0 | H64: =COUNTIF($K$13,N17) -> 0 | I64: =SUM(D64:H64) -> 0
A65: 13 | B65: =$N$18 -> #REF! | F65: =COUNTIF($I$13,N18) -> 0 | G65: =COUNTIF($J$13,N18) -> 0 | H65: =COUNTIF($K$13,N18) -> 0 | I65: =SUM(D65:H65) -> 0
A66: 14 | B66: =$N$19 -> #REF! | F66: =COUNTIF($I$13,N19) -> 0 | G66: =COUNTIF($J$13,N19) -> 0 | H66: =COUNTIF($K$13,N19) -> 0 | I66: =SUM(D66:H66) -> 0
A67: 15 | B67: =$N$20 -> #REF! | F67: =COUNTIF($I$13,N20) -> 0 | G67: =COUNTIF($J$13,N20) -> 0 | H67: =COUNTIF($K$13,N20) -> 0 | I67: =SUM(D67:H67) -> 0 | K67: =#REF! -> #REF!
A68: 16 | B68: =$N$21 -> #REF! | F68: =COUNTIF($I$13,N21) -> 0 | G68: =COUNTIF($J$13,N21) -> 0 | H68: =COUNTIF($K$13,N21) -> 0 | I68: =SUM(D68:H68) -> 0
A69: 17 | B69: =$N$22 -> #REF! | F69: =COUNTIF($I$13,N22) -> 0 | G69: =COUNTIF($J$13,N22) -> 0 | H69: =COUNTIF($K$13,N22) -> 0 | I69: =SUM(D69:H69) -> 0
A70: 18 | B70: =$N$23 -> #REF! | F70: =COUNTIF($I$13,N23) -> 0 | G70: =COUNTIF($J$13,N23) -> 0 | H70: =COUNTIF($K$13,N23) -> 0 | I70: =SUM(D70:H70) -> 0
A71: 19 | B71: =$N$24 -> #REF! | F71: =COUNTIF($I$13,N24) -> 0 | G71: =COUNTIF($J$13,N24) -> 0 | H71: =COUNTIF($K$13,N24) -> 0 | I71: =SUM(D71:H71) -> 0
A72: 20 | B72: =$N$25 -> #REF! | F72: =COUNTIF($I$13,N25) -> 0 | G72: =COUNTIF($J$13,N25) -> 0 | H72: =COUNTIF($K$13,N25) -> 0 | I72: =SUM(D72:H72) -> 0
A73: 21 | B73: =$N$26 -> #REF! | F73: =COUNTIF($I$13,N26) -> 0 | G73: =COUNTIF($J$13,N26) -> 0 | H73: =COUNTIF($K$13,N26) -> 0 | I73: =SUM(D73:H73) -> 0
A74: 22
A75: 23 | B75: =$N$17 -> #REF! | F75: =COUNTIF($I$14,N17) -> 0 | G75: =COUNTIF($J$14,N17) -> 0 | H75: =COUNTIF($K$14,N17) -> 0 | I75: =SUM(D75:H75) -> 0
A76: 24 | B76: =$N$18 -> #REF! | F76: =COUNTIF($I$14,N18) -> 0 | G76: =COUNTIF($J$14,N18) -> 0 | H76: =COUNTIF($K$14,N18) -> 0 | I76: =SUM(D76:H76) -> 0
A77: 25 | B77: =$N$19 -> #REF! | F77: =COUNTIF($I$14,N19) -> 0 | G77: =COUNTIF($J$14,N19) -> 0 | H77: =COUNTIF($K$14,N19) -> 0 | I77: =SUM(D77:H77) -> 0
A78: 26 | B78: =$N$20 -> #REF! | F78: =COUNTIF($I$14,N20) -> 0 | G78: =COUNTIF($J$14,N20) -> 0 | H78: =COUNTIF($K$14,N20) -> 0 | I78: =SUM(D78:H78) -> 0
A79: 27 | B79: =$N$21 -> #REF! | F79: =COUNTIF($I$14,N21) -> 0 | G79: =COUNTIF($J$14,N21) -> 0 | H79: =COUNTIF($K$14,N21) -> 0 | I79: =SUM(D79:H79) -> 0 | K79: =#REF! -> #REF!
A80: 28 | B80: =$N$22 -> #REF! | F80: =COUNTIF($I$14,N22) -> 0 | G80: =COUNTIF($J$14,N22) -> 0 | H80: =COUNTIF($K$14,N22) -> 0 | I80: =SUM(D80:H80) -> 0
A81: 29 | B81: =$N$23 -> #REF! | F81: =COUNTIF($I$14,N23) -> 0 | G81: =COUNTIF($J$14,N23) -> 0 | H81: =COUNTIF($K$14,N23) -> 0 | I81: =SUM(D81:H81) -> 0
A82: 30 | B82: =$N$24 -> #REF! | F82: =COUNTIF($I$14,N24) -> 0 | G82: =COUNTIF($J$14,N24) -> 0 | H82: =COUNTIF($K$14,N24) -> 0 | I82: =SUM(D82:H82) -> 0
A83: 31 | B83: =$N$25 -> #REF! | F83: =COUNTIF($I$14,N25) -> 0 | G83: =COUNTIF($J$14,N25) -> 0 | H83: =COUNTIF($K$14,N25) -> 0 | I83: =SUM(D83:H83) -> 0
A84: 32 | B84: =$N$26 -> #REF! | F84: =COUNTIF($I$14,N26) -> 0 | G84: =COUNTIF($J$14,N26) -> 0 | H84: =COUNTIF($K$14,N26) -> 0 | I84: =SUM(D84:H84) -> 0
A85: 33
A86: 34 | B86: =$N$17 -> #REF! | F86: =COUNTIF($I$8,N17) -> 0 | G86: =COUNTIF($J$8,N17) -> 0 | H86: =COUNTIF($K$8,N17) -> 0 | I86: =SUM(D86:H86) -> 0
A87: 35 | B87: =$N$18 -> #REF! | F87: =COUNTIF($I$8,N18) -> 0 | G87: =COUNTIF($J$8,N18) -> 0 | H87: =COUNTIF($K$8,N18) -> 0 | I87: =SUM(D87:H87) -> 0
A88: 36 | B88: =$N$19 -> #REF! | F88: =COUNTIF($I$8,N19) -> 0 | G88: =COUNTIF($J$8,N19) -> 0 | H88: =COUNTIF($K$8,N19) -> 0 | I88: =SUM(D88:H88) -> 0
A89: 37 | B89: =$N$20 -> #REF! | F89: =COUNTIF($I$8,N20) -> 0 | G89: =COUNTIF($J$8,N20) -> 0 | H89: =COUNTIF($K$8,N20) -> 0 | I89: =SUM(D89:H89) -> 0
A90: 38 | B90: =$N$21 -> #REF! | F90: =COUNTIF($I$8,N21) -> 0 | G90: =COUNTIF($J$8,N21) -> 0 | H90: =COUNTIF($K$8,N21) -> 0 | I90: =SUM(D90:H90) -> 0 | K90: =#REF! -> #REF!
A91: 39 | B91: =$N$22 -> #REF! | F91: =COUNTIF($I$8,N22) -> 0 | G91: =COUNTIF($J$8,N22) -> 0 | H91: =COUNTIF($K$8,N22) -> 0 | I91: =SUM(D91:H91) -> 0
A92: 40 | B92: =$N$23 -> #REF! | F92: =COUNTIF($I$8,N23) -> 0 | G92: =COUNTIF($J$8,N23) -> 0 | H92: =COUNTIF($K$8,N23) -> 0 | I92: =SUM(D92:H92) -> 0
A93: 41 | B93: =$N$24 -> #REF! | F93: =COUNTIF($I$8,N24) -> 0 | G93: =COUNTIF($J$8,N24) -> 0 | H93: =COUNTIF($K$8,N24) -> 0 | I93: =SUM(D93:H93) -> 0
A94: 42 | B94: =$N$25 -> #REF! | F94: =COUNTIF($I$8,N25) -> 0 | G94: =COUNTIF($J$8,N25) -> 0 | H94: =COUNTIF($K$8,N25) -> 0 | I94: =SUM(D94:H94) -> 0
A95: 43 | B95: =$N$26 -> #REF! | F95: =COUNTIF($I$8,N26) -> 0 | G95: =COUNTIF($J$8,N26) -> 0 | H95: =COUNTIF($K$8,N26) -> 0 | I95: =SUM(D95:H95) -> 0
A96: 44
A97: 45 | B97: =$N$17 -> #REF! | F97: =COUNTIF($I$16,N17) -> 0 | G97: =COUNTIF($J$16,N17) -> 0 | H97: =COUNTIF($K$16,N17) -> 0 | I97: =SUM(D97:H97) -> 0
A98: 46 | B98: =$N$18 -> #REF! | F98: =COUNTIF($I$16,N18) -> 0 | G98: =COUNTIF($J$16,N18) -> 0 | H98: =COUNTIF($K$16,N18) -> 0 | I98: =SUM(D98:H98) -> 0
A99: 47 | B99: =$N$19 -> #REF! | F99: =COUNTIF($I$16,N19) -> 0 | G99: =COUNTIF($J$16,N19) -> 0 | H99: =COUNTIF($K$16,N19) -> 0 | I99: =SUM(D99:H99) -> 0
A100: 48 | B100: =$N$20 -> #REF! | F100: =COUNTIF($I$16,N20) -> 0 | G100: =COUNTIF($J$16,N20) -> 0 | H100: =COUNTIF($K$16,N20) -> 0 | I100: =SUM(D100:H100) -> 0
A101: 49 | B101: =$N$21 -> #REF! | F101: =COUNTIF($I$16,N21) -> 0 | G101: =COUNTIF($J$16,N21) -> 0 | H101: =COUNTIF($K$16,N21) -> 0 | I101: =SUM(D101:H101) -> 0 | K101: =#REF! -> #REF!
A102: 50 | B102: =$N$22 -> #REF! | F102: =COUNTIF($I$16,N22) -> 0 | G102: =COUNTIF($J$16,N22) -> 0 | H102: =COUNTIF($K$16,N22) -> 0 | I102: =SUM(D102:H102) -> 0
A103: 51 | B103: =$N$23 -> #REF! | F103: =COUNTIF($I$16,N23) -> 0 | G103: =COUNTIF($J$16,N23) -> 0 | H103: =COUNTIF($K$16,N23) -> 0 | I103: =SUM(D103:H103) -> 0
A104: 52 | B104: =$N$24 -> #REF! | F104: =COUNTIF($I$16,N24) -> 0 | G104: =COUNTIF($J$16,N24) -> 0 | H104: =COUNTIF($K$16,N24) -> 0 | I104: =SUM(D104:H104) -> 0
A105: 53 | B105: =$N$25 -> #REF! | F105: =COUNTIF($I$16,N25) -> 0 | G105: =COUNTIF($J$16,N25) -> 0 | H105: =COUNTIF($K$16,N25) -> 0 | I105: =SUM(D105:H105) -> 0
A106: 54 | B106: =$N$26 -> #REF! | F106: =COUNTIF($I$16,N26) -> 0 | G106: =COUNTIF($J$16,N26) -> 0 | H106: =COUNTIF($K$16,N26) -> 0 | I106: =SUM(D106:H106) -> 0
B108: =$N$17 -> #REF! | F108: =COUNTIF($I$7,N17) -> 0 | G108: =COUNTIF($J$7,N17) -> 0 | H108: =COUNTIF($K$7,N17) -> 0 | I108: =SUM(D108:H108) -> 0
B109: =$N$18 -> #REF! | F109: =COUNTIF($I$7,N18) -> 0 | G109: =COUNTIF($J$7,N18) -> 0 | H109: =COUNTIF($K$7,N18) -> 0 | I109: =SUM(D109:H109) -> 0
B110: =$N$19 -> #REF! | F110: =COUNTIF($I$7,N19) -> 0 | G110: =COUNTIF($J$7,N19) -> 0 | H110: =COUNTIF($K$7,N19) -> 0 | I110: =SUM(D110:H110) -> 0
B111: =$N$20 -> #REF! | F111: =COUNTIF($I$7,N20) -> 0 | G111: =COUNTIF($J$7,N20) -> 0 | H111: =COUNTIF($K$7,N20) -> 0 | I111: =SUM(D111:H111) -> 0
B112: =$N$21 -> #REF! | F112: =COUNTIF($I$7,N21) -> 0 | G112: =COUNTIF($J$7,N21) -> 0 | H112: =COUNTIF($K$7,N21) -> 0 | I112: =SUM(D112:H112) -> 0 | K112: =#REF! -> #REF!
B113: =$N$22 -> #REF! | F113: =COUNTIF($I$7,N22) -> 0 | G113: =COUNTIF($J$7,N22) -> 0 | H113: =COUNTIF($K$7,N22) -> 0 | I113: =SUM(D113:H113) -> 0
B114: =$N$23 -> #REF! | F114: =COUNTIF($I$7,N23) -> 0 | G114: =COUNTIF($J$7,N23) -> 0 | H114: =COUNTIF($K$7,N23) -> 0 | I114: =SUM(D114:H114) -> 0
B115: =$N$24 -> #REF! | F115: =COUNTIF($I$7,N24) -> 0 | G115: =COUNTIF($J$7,N24) -> 0 | H115: =COUNTIF($K$7,N24) -> 0 | I115: =SUM(D115:H115) -> 0
B116: =$N$25 -> #REF! | F116: =COUNTIF($I$7,N25) -> 0 | G116: =COUNTIF($J$7,N25) -> 0 | H116: =COUNTIF($K$7,N25) -> 0 | I116: =SUM(D116:H116) -> 0
B117: =$N$26 -> #REF! | F117: =COUNTIF($I$7,N26) -> 0 | G117: =COUNTIF($J$7,N26) -> 0 | H117: =COUNTIF($K$7,N26) -> 0 | I117: =SUM(D117:H117) -> 0
B119: =$N$17 -> #REF! | F119: =COUNTIF($I$21,N17) -> 0 | G119: =COUNTIF($J$21,N17) -> 0 | H119: =COUNTIF($K$21,N17) -> 0 | I119: =SUM(D119:H119) -> 0
B120: =$N$18 -> #REF! | F120: =COUNTIF($I$21,N18) -> 0 | G120: =COUNTIF($J$21,N18) -> 0 | H120: =COUNTIF($K$21,N18) -> 0 | I120: =SUM(D120:H120) -> 0
B121: =$N$19 -> #REF! | F121: =COUNTIF($I$21,N19) -> 0 | G121: =COUNTIF($J$21,N19) -> 0 | H121: =COUNTIF($K$21,N19) -> 0 | I121: =SUM(D121:H121) -> 0
B122: =$N$20 -> #REF! | F122: =COUNTIF($I$21,N20) -> 0 | G122: =COUNTIF($J$21,N20) -> 0 | H122: =COUNTIF($K$21,N20) -> 0 | I122: =SUM(D122:H122) -> 0
B123: =$N$21 -> #REF! | F123: =COUNTIF($I$21,N21) -> 0 | G123: =COUNTIF($J$21,N21) -> 0 | H123: =COUNTIF($K$21,N21) -> 0 | I123: =SUM(D123:H123) -> 0
B124: =$N$22 -> #REF! | F124: =COUNTIF($I$21,N22) -> 0 | G124: =COUNTIF($J$21,N22) -> 0 | H124: =COUNTIF($K$21,N22) -> 0 | I124: =SUM(D124:H124) -> 0 | K124: =#REF! -> #REF!
B125: =$N$23 -> #REF! | F125: =COUNTIF($I$21,N23) -> 0 | G125: =COUNTIF($J$21,N23) -> 0 | H125: =COUNTIF($K$21,N23) -> 0 | I125: =SUM(D125:H125) -> 0
B126: =$N$24 -> #REF! | F126: =COUNTIF($I$21,N24) -> 0 | G126: =COUNTIF($J$21,N24) -> 0 | H126: =COUNTIF($K$21,N24) -> 0 | I126: =SUM(D126:H126) -> 0
B127: =$N$25 -> #REF! | F127: =COUNTIF($I$21,N25) -> 0 | G127: =COUNTIF($J$21,N25) -> 0 | H127: =COUNTIF($K$21,N25) -> 0 | I127: =SUM(D127:H127) -> 0
...

Sheet 2
B1: =#REF! -> #REF! | C1: =SUM('1'!C1+1) -> 2 | K1: =MASTER!A2 -> 2018 | L1: =(#REF!) -> #REF!
B2: Répartition des Tâches
D3: =DATE(K1,1,3)-WEEKDAY(DATE(K1,1,3))+7*$C$1-5 -> 43108 | E3: =DATE(K1,1,3)-WEEKDAY(DATE(K1,1,3))+7*$C$1-5 -> 43108 | G3: au | I3: =DATE(K1,1,3)-WEEKDAY(DATE(K1,1,3))+7*$C$1-1 -> 43112
J4: =NOW() -> 43085.529
A5: FALSE | B5: =IF(A5=TRUE,$N$34,"")
R14: Lundi
N15: =IF(AND(I12<>""),(A+1)) -> FALSE | R15: Mardi
R16: Mercredi
N17: =#REF! -> #REF! | P17: =#REF! -> #REF! | R17: Jeudi
N18: =#REF! -> #REF! | P18: =#REF! -> #REF! | R18: Vendredi | U18: {=IFERROR(OFFSET(#REF!,MATCH(0,COUNTIF(U$17:U17,$I$11:$I$21),0),),"")} | V18: {=IFERROR(OFFSET(#REF!,MATCH(0,COUNTIF(V$17:V17,$K$11:$K$21),0),),"")}
N19: =#REF! -> #REF! | P19: =#REF! -> #REF! | U19: {=IFERROR(OFFSET(#REF!,MATCH(0,COUNTIF(U$17:U18,$I$11:$I$21),0),),"")} | V19: {=IFERROR(OFFSET(#REF!,MATCH(0,COUNTIF(V$17:V18,$K$11:$K$21),0),),"")}
N20: =#REF! -> #REF! | O20: / | P20: =#REF! -> #REF! | R20: * | U20: {=IFERROR(OFFSET(#REF!,MATCH(0,COUNTIF(U$17:U19,$I$11:$I$21),0),),"")} | V20: {=IFERROR(OFFSET(#REF!,MATCH(0,COUNTIF(V$17:V19,$K$11:$K$21),0),),"")}
N21: =#REF! -> #REF! | O21: X | U21: {=IFERROR(OFFSET(#REF!,MATCH(0,COUNTIF(U$17:U20,$I$11:$I$21),0),),"")} | V21: {=IFERROR(OFFSET(#REF!,MATCH(0,COUNTIF(V$17:V20,$K$11:$K$21),0),),"")}
N22: =#REF! -> #REF! | U22: {=IFERROR(OFFSET(#REF!,MATCH(0,COUNTIF(U$17:U21,$I$11:$I$21),0),),"")} | V22: {=IFERROR(OFFSET(#REF!,MATCH(0,COUNTIF(V$17:V21,$K$11:$K$21),0),),"")}
N23: =#REF! -> #REF! | U23: {=IFERROR(OFFSET(#REF!,MATCH(0,COUNTIF(U$17:U22,$I$11:$I$21),0),),"")} | V23: {=IFERROR(OFFSET(#REF!,MATCH(0,COUNTIF(V$17:V22,$K$11:$K$21),0),),"")}
N24: =#REF! -> #REF! | P24: =#REF! -> #REF! | U24: {=IFERROR(OFFSET(#REF!,MATCH(0,COUNTIF(U$17:U23,$I$11:$I$21),0),),"")} | V24: {=IFERROR(OFFSET(#REF!,MATCH(0,COUNTIF(V$17:V23,$K$11:$K$21),0),),"")}
N25: =#REF! -> #REF! | P25: =#REF! -> #REF! | U25: {=IFERROR(OFFSET(#REF!,MATCH(0,COUNTIF(U$17:U24,$I$11:$I$21),0),),"")} | V25: {=IFERROR(OFFSET(#REF!,MATCH(0,COUNTIF(V$17:V24,$K$11:$K$21),0),),"")}
N26: =#REF! -> #REF! | P26: =#REF! -> #REF! | U26: {=IFERROR(OFFSET(#REF!,MATCH(0,COUNTIF(U$17:U25,$I$11:$I$21),0),),"")} | V26: {=IFERROR(OFFSET(#REF!,MATCH(0,COUNTIF(V$17:V25,$K$11:$K$21),0),),"")}
P27: =#REF! -> #REF! | U27: {=IFERROR(OFFSET(#REF!,MATCH(0,COUNTIF(U$17:U26,$I$11:$I$18),0),),"")} | V27: {=IFERROR(OFFSET(#REF!,MATCH(0,COUNTIF(V$17:V26,$K$11:$K$18),0),),"")}
N28: =#REF! -> #REF! | P28: =#REF! -> #REF!
N29: =#REF! -> #REF! | P29: =#REF! -> #REF!
N30: =#REF! -> #REF! | P30: =#REF! -> #REF!
P31: =#REF! -> #REF!
P32: =#REF! -> #REF!
N33: SEMAINE APRÈS MATCH | P33: =#REF! -> #REF!
N34: SEMAINE MATCH | P34: =#REF! -> #REF!
P35: =#REF! -> #REF!
A53: 1 | B53: =$N$17 -> #REF! | F53: =COUNTIF($I$17,N17) -> 0 | G53: =COUNTIF($J$17,N17) -> 0 | H53: =COUNTIF($K$17,N17) -> 0 | I53: =SUM(D53:H53) -> 0
A54: 2 | B54: =$N$18 -> #REF! | F54: =COUNTIF($I$17,N18) -> 0 | G54: =COUNTIF($J$17,N18) -> 0 | H54: =COUNTIF($K$17,N18) -> 0 | I54: =SUM(D54:H54) -> 0
A55: 3 | B55: =$N$19 -> #REF! | F55: =COUNTIF($I$17,N19) -> 0 | G55: =COUNTIF($J$17,N19) -> 0 | H55: =COUNTIF($K$17,N19) -> 0 | I55: =SUM(D55:H55) -> 0
A56: 4 | B56: =$N$20 -> #REF! | F56: =COUNTIF($I$17,N20) -> 0 | G56: =COUNTIF($J$17,N20) -> 0 | H56: =COUNTIF($K$17,N20) -> 0 | I56: =SUM(D56:H56) -> 0
A57: 5 | B57: =$N$21 -> #REF! | F57: =COUNTIF($I$17,N21) -> 0 | G57: =COUNTIF($J$17,N21) -> 0 | H57: =COUNTIF($K$17,N21) -> 0 | I57: =SUM(D57:H57) -> 0 | K57: =#REF! -> #REF!
A58: 6 | B58: =$N$22 -> #REF! | F58: =COUNTIF($I$17,N22) -> 0 | G58: =COUNTIF($J$17,N22) -> 0 | H58: =COUNTIF($K$17,N22) -> 0 | I58: =SUM(D58:H58) -> 0
A59: 7 | B59: =$N$23 -> #REF! | F59: =COUNTIF($I$17,N23) -> 0 | G59: =COUNTIF($J$17,N23) -> 0 | H59: =COUNTIF($K$17,N23) -> 0 | I59: =SUM(D59:H59) -> 0
A60: 8 | B60: =$N$24 -> #REF! | F60: =COUNTIF($I$17,N24) -> 0 | G60: =COUNTIF($J$17,N24) -> 0 | H60: =COUNTIF($K$17,N24) -> 0 | I60: =SUM(D60:H60) -> 0
A61: 9 | B61: =$N$25 -> #REF! | F61: =COUNTIF($I$17,N25) -> 0 | G61: =COUNTIF($J$17,N25) -> 0 | H61: =COUNTIF($K$17,N25) -> 0 | I61: =SUM(D61:H61) -> 0
A62: 10 | B62: =$N$26 -> #REF! | F62: =COUNTIF($I$17,N26) -> 0 | G62: =COUNTIF($J$17,N26) -> 0 | H62: =COUNTIF($K$17,N26) -> 0 | I62: =SUM(D62:H62) -> 0
A63: 11
A64: 12 | B64: =$N$17 -> #REF! | F64: =COUNTIF($I$13,N17) -> 0 | G64: =COUNTIF($J$13,N17) -> 0 | H64: =COUNTIF($K$13,N17) -> 0 | I64: =SUM(D64:H64) -> 0
A65: 13 | B65: =$N$18 -> #REF! | F65: =COUNTIF($I$13,N18) -> 0 | G65: =COUNTIF($J$13,N18) -> 0 | H65: =COUNTIF($K$13,N18) -> 0 | I65: =SUM(D65:H65) -> 0
A66: 14 | B66: =$N$19 -> #REF! | F66: =COUNTIF($I$13,N19) -> 0 | G66: =COUNTIF($J$13,N19) -> 0 | H66: =COUNTIF($K$13,N19) -> 0 | I66: =SUM(D66:H66) -> 0
A67: 15 | B67: =$N$20 -> #REF! | F67: =COUNTIF($I$13,N20) -> 0 | G67: =COUNTIF($J$13,N20) -> 0 | H67: =COUNTIF($K$13,N20) -> 0 | I67: =SUM(D67:H67) -> 0 | K67: =#REF! -> #REF!
A68: 16 | B68: =$N$21 -> #REF! | F68: =COUNTIF($I$13,N21) -> 0 | G68: =COUNTIF($J$13,N21) -> 0 | H68: =COUNTIF($K$13,N21) -> 0 | I68: =SUM(D68:H68) -> 0
A69: 17 | B69: =$N$22 -> #REF! | F69: =COUNTIF($I$13,N22) -> 0 | G69: =COUNTIF($J$13,N22) -> 0 | H69: =COUNTIF($K$13,N22) -> 0 | I69: =SUM(D69:H69) -> 0
A70: 18 | B70: =$N$23 -> #REF! | F70: =COUNTIF($I$13,N23) -> 0 | G70: =COUNTIF($J$13,N23) -> 0 | H70: =COUNTIF($K$13,N23) -> 0 | I70: =SUM(D70:H70) -> 0
A71: 19 | B71: =$N$24 -> #REF! | F71: =COUNTIF($I$13,N24) -> 0 | G71: =COUNTIF($J$13,N24) -> 0 | H71: =COUNTIF($K$13,N24) -> 0 | I71: =SUM(D71:H71) -> 0
A72: 20 | B72: =$N$25 -> #REF! | F72: =COUNTIF($I$13,N25) -> 0 | G72: =COUNTIF($J$13,N25) -> 0 | H72: =COUNTIF($K$13,N25) -> 0 | I72: =SUM(D72:H72) -> 0
A73: 21 | B73: =$N$26 -> #REF! | F73: =COUNTIF($I$13,N26) -> 0 | G73: =COUNTIF($J$13,N26) -> 0 | H73: =COUNTIF($K$13,N26) -> 0 | I73: =SUM(D73:H73) -> 0
A74: 22
A75: 23 | B75: =$N$17 -> #REF! | F75: =COUNTIF($I$14,N17) -> 0 | G75: =COUNTIF($J$14,N17) -> 0 | H75: =COUNTIF($K$14,N17) -> 0 | I75: =SUM(D75:H75) -> 0
A76: 24 | B76: =$N$18 -> #REF! | F76: =COUNTIF($I$14,N18) -> 0 | G76: =COUNTIF($J$14,N18) -> 0 | H76: =COUNTIF($K$14,N18) -> 0 | I76: =SUM(D76:H76) -> 0
A77: 25 | B77: =$N$19 -> #REF! | F77: =COUNTIF($I$14,N19) -> 0 | G77: =COUNTIF($J$14,N19) -> 0 | H77: =COUNTIF($K$14,N19) -> 0 | I77: =SUM(D77:H77) -> 0
A78: 26 | B78: =$N$20 -> #REF! | F78: =COUNTIF($I$14,N20) -> 0 | G78: =COUNTIF($J$14,N20) -> 0 | H78: =COUNTIF($K$14,N20) -> 0 | I78: =SUM(D78:H78) -> 0
A79: 27 | B79: =$N$21 -> #REF! | F79: =COUNTIF($I$14,N21) -> 0 | G79: =COUNTIF($J$14,N21) -> 0 | H79: =COUNTIF($K$14,N21) -> 0 | I79: =SUM(D79:H79) -> 0 | K79: =#REF! -> #REF!
A80: 28 | B80: =$N$22 -> #REF! | F80: =COUNTIF($I$14,N22) -> 0 | G80: =COUNTIF($J$14,N22) -> 0 | H80: =COUNTIF($K$14,N22) -> 0 | I80: =SUM(D80:H80) -> 0
A81: 29 | B81: =$N$23 -> #REF! | F81: =COUNTIF($I$14,N23) -> 0 | G81: =COUNTIF($J$14,N23) -> 0 | H81: =COUNTIF($K$14,N23) -> 0 | I81: =SUM(D81:H81) -> 0
A82: 30 | B82: =$N$24 -> #REF! | F82: =COUNTIF($I$14,N24) -> 0 | G82: =COUNTIF($J$14,N24) -> 0 | H82: =COUNTIF($K$14,N24) -> 0 | I82: =SUM(D82:H82) -> 0
A83: 31 | B83: =$N$25 -> #REF! | F83: =COUNTIF($I$14,N25) -> 0 | G83: =COUNTIF($J$14,N25) -> 0 | H83: =COUNTIF($K$14,N25) -> 0 | I83: =SUM(D83:H83) -> 0
A84: 32 | B84: =$N$26 -> #REF! | F84: =COUNTIF($I$14,N26) -> 0 | G84: =COUNTIF($J$14,N26) -> 0 | H84: =COUNTIF($K$14,N26) -> 0 | I84: =SUM(D84:H84) -> 0
A85: 33
A86: 34 | B86: =$N$17 -> #REF! | F86: =COUNTIF($I$8,N17) -> 0 | G86: =COUNTIF($J$8,N17) -> 0 | H86: =COUNTIF($K$8,N17) -> 0 | I86: =SUM(D86:H86) -> 0
A87: 35 | B87: =$N$18 -> #REF! | F87: =COUNTIF($I$8,N18) -> 0 | G87: =COUNTIF($J$8,N18) -> 0 | H87: =COUNTIF($K$8,N18) -> 0 | I87: =SUM(D87:H87) -> 0
A88: 36 | B88: =$N$19 -> #REF! | F88: =COUNTIF($I$8,N19) -> 0 | G88: =COUNTIF($J$8,N19) -> 0 | H88: =COUNTIF($K$8,N19) -> 0 | I88: =SUM(D88:H88) -> 0
A89: 37 | B89: =$N$20 -> #REF! | F89: =COUNTIF($I$8,N20) -> 0 | G89: =COUNTIF($J$8,N20) -> 0 | H89: =COUNTIF($K$8,N20) -> 0 | I89: =SUM(D89:H89) -> 0
A90: 38 | B90: =$N$21 -> #REF! | F90: =COUNTIF($I$8,N21) -> 0 | G90: =COUNTIF($J$8,N21) -> 0 | H90: =COUNTIF($K$8,N21) -> 0 | I90: =SUM(D90:H90) -> 0 | K90: =#REF! -> #REF!
A91: 39 | B91: =$N$22 -> #REF! | F91: =COUNTIF($I$8,N22) -> 0 | G91: =COUNTIF($J$8,N22) -> 0 | H91: =COUNTIF($K$8,N22) -> 0 | I91: =SUM(D91:H91) -> 0
A92: 40 | B92: =$N$23 -> #REF! | F92: =COUNTIF($I$8,N23) -> 0 | G92: =COUNTIF($J$8,N23) -> 0 | H92: =COUNTIF($K$8,N23) -> 0 | I92: =SUM(D92:H92) -> 0
A93: 41 | B93: =$N$24 -> #REF! | F93: =COUNTIF($I$8,N24) -> 0 | G93: =COUNTIF($J$8,N24) -> 0 | H93: =COUNTIF($K$8,N24) -> 0 | I93: =SUM(D93:H93) -> 0
A94: 42 | B94: =$N$25 -> #REF! | F94: =COUNTIF($I$8,N25) -> 0 | G94: =COUNTIF($J$8,N25) -> 0 | H94: =COUNTIF($K$8,N25) -> 0 | I94: =SUM(D94:H94) -> 0
A95: 43 | B95: =$N$26 -> #REF! | F95: =COUNTIF($I$8,N26) -> 0 | G95: =COUNTIF($J$8,N26) -> 0 | H95: =COUNTIF($K$8,N26) -> 0 | I95: =SUM(D95:H95) -> 0
A96: 44
A97: 45 | B97: =$N$17 -> #REF! | F97: =COUNTIF($I$16,N17) -> 0 | G97: =COUNTIF($J$16,N17) -> 0 | H97: =COUNTIF($K$16,N17) -> 0 | I97: =SUM(D97:H97) -> 0
A98: 46 | B98: =$N$18 -> #REF! | F98: =COUNTIF($I$16,N18) -> 0 | G98: =COUNTIF($J$16,N18) -> 0 | H98: =COUNTIF($K$16,N18) -> 0 | I98: =SUM(D98:H98) -> 0
A99: 47 | B99: =$N$19 -> #REF! | F99: =COUNTIF($I$16,N19) -> 0 | G99: =COUNTIF($J$16,N19) -> 0 | H99: =COUNTIF($K$16,N19) -> 0 | I99: =SUM(D99:H99) -> 0
A100: 48 | B100: =$N$20 -> #REF! | F100: =COUNTIF($I$16,N20) -> 0 | G100: =COUNTIF($J$16,N20) -> 0 | H100: =COUNTIF($K$16,N20) -> 0 | I100: =SUM(D100:H100) -> 0
A101: 49 | B101: =$N$21 -> #REF! | F101: =COUNTIF($I$16,N21) -> 0 | G101: =COUNTIF($J$16,N21) -> 0 | H101: =COUNTIF($K$16,N21) -> 0 | I101: =SUM(D101:H101) -> 0 | K101: =#REF! -> #REF!
A102: 50 | B102: =$N$22 -> #REF! | F102: =COUNTIF($I$16,N22) -> 0 | G102: =COUNTIF($J$16,N22) -> 0 | H102: =COUNTIF($K$16,N22) -> 0 | I102: =SUM(D102:H102) -> 0
A103: 51 | B103: =$N$23 -> #REF! | F103: =COUNTIF($I$16,N23) -> 0 | G103: =COUNTIF($J$16,N23) -> 0 | H103: =COUNTIF($K$16,N23) -> 0 | I103: =SUM(D103:H103) -> 0
A104: 52 | B104: =$N$24 -> #REF! | F104: =COUNTIF($I$16,N24) -> 0 | G104: =COUNTIF($J$16,N24) -> 0 | H104: =COUNTIF($K$16,N24) -> 0 | I104: =SUM(D104:H104) -> 0
A105: 53 | B105: =$N$25 -> #REF! | F105: =COUNTIF($I$16,N25) -> 0 | G105: =COUNTIF($J$16,N25) -> 0 | H105: =COUNTIF($K$16,N25) -> 0 | I105: =SUM(D105:H105) -> 0
A106: 54 | B106: =$N$26 -> #REF! | F106: =COUNTIF($I$16,N26) -> 0 | G106: =COUNTIF($J$16,N26) -> 0 | H106: =COUNTIF($K$16,N26) -> 0 | I106: =SUM(D106:H106) -> 0
B108: =$N$17 -> #REF! | F108: =COUNTIF($I$7,N17) -> 0 | G108: =COUNTIF($J$7,N17) -> 0 | H108: =COUNTIF($K$7,N17) -> 0 | I108: =SUM(D108:H108) -> 0
B109: =$N$18 -> #REF! | F109: =COUNTIF($I$7,N18) -> 0 | G109: =COUNTIF($J$7,N18) -> 0 | H109: =COUNTIF($K$7,N18) -> 0 | I109: =SUM(D109:H109) -> 0
B110: =$N$19 -> #REF! | F110: =COUNTIF($I$7,N19) -> 0 | G110: =COUNTIF($J$7,N19) -> 0 | H110: =COUNTIF($K$7,N19) -> 0 | I110: =SUM(D110:H110) -> 0
B111: =$N$20 -> #REF! | F111: =COUNTIF($I$7,N20) -> 0 | G111: =COUNTIF($J$7,N20) -> 0 | H111: =COUNTIF($K$7,N20) -> 0 | I111: =SUM(D111:H111) -> 0
B112: =$N$21 -> #REF! | F112: =COUNTIF($I$7,N21) -> 0 | G112: =COUNTIF($J$7,N21) -> 0 | H112: =COUNTIF($K$7,N21) -> 0 | I112: =SUM(D112:H112) -> 0 | K112: =#REF! -> #REF!
B113: =$N$22 -> #REF! | F113: =COUNTIF($I$7,N22) -> 0 | G113: =COUNTIF($J$7,N22) -> 0 | H113: =COUNTIF($K$7,N22) -> 0 | I113: =SUM(D113:H113) -> 0
B114: =$N$23 -> #REF! | F114: =COUNTIF($I$7,N23) -> 0 | G114: =COUNTIF($J$7,N23) -> 0 | H114: =COUNTIF($K$7,N23) -> 0 | I114: =SUM(D114:H114) -> 0
B115: =$N$24 -> #REF! | F115: =COUNTIF($I$7,N24) -> 0 | G115: =COUNTIF($J$7,N24) -> 0 | H115: =COUNTIF($K$7,N24) -> 0 | I115: =SUM(D115:H115) -> 0
B116: =$N$25 -> #REF! | F116: =COUNTIF($I$7,N25) -> 0 | G116: =COUNTIF($J$7,N25) -> 0 | H116: =COUNTIF($K$7,N25) -> 0 | I116: =SUM(D116:H116) -> 0
B117: =$N$26 -> #REF! | F117: =COUNTIF($I$7,N26) -> 0 | G117: =COUNTIF($J$7,N26) -> 0 | H117: =COUNTIF($K$7,N26) -> 0 | I117: =SUM(D117:H117) -> 0
B119: =$N$17 -> #REF! | F119: =COUNTIF($I$21,N17) -> 0 | G119: =COUNTIF($J$21,N17) -> 0 | H119: =COUNTIF($K$21,N17) -> 0 | I119: =SUM(D119:H119) -> 0
B120: =$N$18 -> #REF! | F120: =COUNTIF($I$21,N18) -> 0 | G120: =COUNTIF($J$21,N18) -> 0 | H120: =COUNTIF($K$21,N18) -> 0 | I120: =SUM(D120:H120) -> 0
B121: =$N$19 -> #REF! | F121: =COUNTIF($I$21,N19) -> 0 | G121: =COUNTIF($J$21,N19) -> 0 | H121: =COUNTIF($K$21,N19) -> 0 | I121: =SUM(D121:H121) -> 0
B122: =$N$20 -> #REF! | F122: =COUNTIF($I$21,N20) -> 0 | G122: =COUNTIF($J$21,N20) -> 0 | H122: =COUNTIF($K$21,N20) -> 0 | I122: =SUM(D122:H122) -> 0
B123: =$N$21 -> #REF! | F123: =COUNTIF($I$21,N21) -> 0 | G123: =COUNTIF($J$21,N21) -> 0 | H123: =COUNTIF($K$21,N21) -> 0 | I123: =SUM(D123:H123) -> 0
B124: =$N$22 -> #REF! | F124: =COUNTIF($I$21,N22) -> 0 | G124: =COUNTIF($J$21,N22) -> 0 | H124: =COUNTIF($K$21,N22) -> 0 | I124: =SUM(D124:H124) -> 0 | K124: =#REF! -> #REF!
B125: =$N$23 -> #REF! | F125: =COUNTIF($I$21,N23) -> 0 | G125: =COUNTIF($J$21,N23) -> 0 | H125: =COUNTIF($K$21,N23) -> 0 | I125: =SUM(D125:H125) -> 0
B126: =$N$24 -> #REF! | F126: =COUNTIF($I$21,N24) -> 0 | G126: =COUNTIF($J$21,N24) -> 0 | H126: =COUNTIF($K$21,N24) -> 0 | I126: =SUM(D126:H126) -> 0
B127: =$N$25 -> #REF! | F127: =COUNTIF($I$21,N25) -> 0 | G127: =COUNTIF($J$21,N25) -> 0 | H127: =COUNTIF($K$21,N25) -> 0 | I127: =SUM(D127:H127) -> 0
...

Sheet 3
B1: =#REF! -> #REF! | C1: =SUM('2'!C1+1) -> 3 | K1: =MASTER!A2 -> 2018 | L1: =(#REF!) -> #REF!
B2: Répartition des Tâches
D3: =DATE(K1,1,3)-WEEKDAY(DATE(K1,1,3))+7*$C$1-5 -> 43115 | E3: =DATE(K1,1,3)-WEEKDAY(DATE(K1,1,3))+7*$C$1-5 -> 43115 | G3: au | I3: =DATE(K1,1,3)-WEEKDAY(DATE(K1,1,3))+7*$C$1-1 -> 43119
J4: =NOW() -> 43085.529
B5: =IF(A5=TRUE,$N$34,"")
R14: Lundi
N15: =IF(AND(I12<>""),(A+1)) -> FALSE | R15: Mardi
R16: Mercredi
N17: =#REF! -> #REF! | P17: =#REF! -> #REF! | R17: Jeudi
N18: =#REF! -> #REF! | P18: =#REF! -> #REF! | R18: Vendredi | U18: {=IFERROR(OFFSET(#REF!,MATCH(0,COUNTIF(U$17:U17,$I$11:$I$21),0),),"")} | V18: {=IFERROR(OFFSET(#REF!,MATCH(0,COUNTIF(V$17:V17,$K$11:$K$21),0),),"")}
N19: =#REF! -> #REF! | P19: =#REF! -> #REF! | U19: {=IFERROR(OFFSET(#REF!,MATCH(0,COUNTIF(U$17:U18,$I$11:$I$21),0),),"")} | V19: {=IFERROR(OFFSET(#REF!,MATCH(0,COUNTIF(V$17:V18,$K$11:$K$21),0),),"")}
N20: =#REF! -> #REF! | O20: / | P20: =#REF! -> #REF! | R20: * | U20: {=IFERROR(OFFSET(#REF!,MATCH(0,COUNTIF(U$17:U19,$I$11:$I$21),0),),"")} | V20: {=IFERROR(OFFSET(#REF!,MATCH(0,COUNTIF(V$17:V19,$K$11:$K$21),0),),"")}
N21: =#REF! -> #REF! | O21: X | U21: {=IFERROR(OFFSET(#REF!,MATCH(0,COUNTIF(U$17:U20,$I$11:$I$21),0),),"")} | V21: {=IFERROR(OFFSET(#REF!,MATCH(0,COUNTIF(V$17:V20,$K$11:$K$21),0),),"")}
N22: =#REF! -> #REF! | U22: {=IFERROR(OFFSET(#REF!,MATCH(0,COUNTIF(U$17:U21,$I$11:$I$21),0),),"")} | V22: {=IFERROR(OFFSET(#REF!,MATCH(0,COUNTIF(V$17:V21,$K$11:$K$21),0),),"")}
N23: =#REF! -> #REF! | U23: {=IFERROR(OFFSET(#REF!,MATCH(0,COUNTIF(U$17:U22,$I$11:$I$21),0),),"")} | V23: {=IFERROR(OFFSET(#REF!,MATCH(0,COUNTIF(V$17:V22,$K$11:$K$21),0),),"")}
N24: =#REF! -> #REF! | P24: =#REF! -> #REF! | U24: {=IFERROR(OFFSET(#REF!,MATCH(0,COUNTIF(U$17:U23,$I$11:$I$21),0),),"")} | V24: {=IFERROR(OFFSET(#REF!,MATCH(0,COUNTIF(V$17:V23,$K$11:$K$21),0),),"")}
A25: TRUE | N25: =#REF! -> #REF! | P25: =#REF! -> #REF! | U25: {=IFERROR(OFFSET(#REF!,MATCH(0,COUNTIF(U$17:U24,$I$11:$I$21),0),),"")} | V25: {=IFERROR(OFFSET(#REF!,MATCH(0,COUNTIF(V$17:V24,$K$11:$K$21),0),),"")}
N26: =#REF! -> #REF! | P26: =#REF! -> #REF! | U26: {=IFERROR(OFFSET(#REF!,MATCH(0,COUNTIF(U$17:U25,$I$11:$I$21),0),),"")} | V26: {=IFERROR(OFFSET(#REF!,MATCH(0,COUNTIF(V$17:V25,$K$11:$K$21),0),),"")}
P27: =#REF! -> #REF! | U27: {=IFERROR(OFFSET(#REF!,MATCH(0,COUNTIF(U$17:U26,$I$11:$I$18),0),),"")} | V27: {=IFERROR(OFFSET(#REF!,MATCH(0,COUNTIF(V$17:V26,$K$11:$K$18),0),),"")}
N28: =#REF! -> #REF! | P28: =#REF! -> #REF!
N29: =#REF! -> #REF! | P29: =#REF! -> #REF!
N30: =#REF! -> #REF! | P30: =#REF! -> #REF!
P31: =#REF! -> #REF!
P32: =#REF! -> #REF!
N33: SEMAINE APRÈS MATCH | P33: =#REF! -> #REF!
N34: SEMAINE MATCH | P34: =#REF! -> #REF!
P35: =#REF! -> #REF!
A53: 1 | B53: =$N$17 -> #REF! | F53: =COUNTIF($I$17,N17) -> 0 | G53: =COUNTIF($J$17,N17) -> 0 | H53: =COUNTIF($K$17,N17) -> 0 | I53: =SUM(D53:H53) -> 0
A54: 2 | B54: =$N$18 -> #REF! | F54: =COUNTIF($I$17,N18) -> 0 | G54: =COUNTIF($J$17,N18) -> 0 | H54: =COUNTIF($K$17,N18) -> 0 | I54: =SUM(D54:H54) -> 0
A55: 3 | B55: =$N$19 -> #REF! | F55: =COUNTIF($I$17,N19) -> 0 | G55: =COUNTIF($J$17,N19) -> 0 | H55: =COUNTIF($K$17,N19) -> 0 | I55: =SUM(D55:H55) -> 0
A56: 4 | B56: =$N$20 -> #REF! | F56: =COUNTIF($I$17,N20) -> 0 | G56: =COUNTIF($J$17,N20) -> 0 | H56: =COUNTIF($K$17,N20) -> 0 | I56: =SUM(D56:H56) -> 0
A57: 5 | B57: =$N$21 -> #REF! | F57: =COUNTIF($I$17,N21) -> 0 | G57: =COUNTIF($J$17,N21) -> 0 | H57: =COUNTIF($K$17,N21) -> 0 | I57: =SUM(D57:H57) -> 0 | K57: =#REF! -> #REF!
A58: 6 | B58: =$N$22 -> #REF! | F58: =COUNTIF($I$17,N22) -> 0 | G58: =COUNTIF($J$17,N22) -> 0 | H58: =COUNTIF($K$17,N22) -> 0 | I58: =SUM(D58:H58) -> 0
A59: 7 | B59: =$N$23 -> #REF! | F59: =COUNTIF($I$17,N23) -> 0 | G59: =COUNTIF($J$17,N23) -> 0 | H59: =COUNTIF($K$17,N23) -> 0 | I59: =SUM(D59:H59) -> 0
A60: 8 | B60: =$N$24 -> #REF! | F60: =COUNTIF($I$17,N24) -> 0 | G60: =COUNTIF($J$17,N24) -> 0 | H60: =COUNTIF($K$17,N24) -> 0 | I60: =SUM(D60:H60) -> 0
A61: 9 | B61: =$N$25 -> #REF! | F61: =COUNTIF($I$17,N25) -> 0 | G61: =COUNTIF($J$17,N25) -> 0 | H61: =COUNTIF($K$17,N25) -> 0 | I61: =SUM(D61:H61) -> 0
A62: 10 | B62: =$N$26 -> #REF! | F62: =COUNTIF($I$17,N26) -> 0 | G62: =COUNTIF($J$17,N26) -> 0 | H62: =COUNTIF($K$17,N26) -> 0 | I62: =SUM(D62:H62) -> 0
A63: 11
A64: 12 | B64: =$N$17 -> #REF! | F64: =COUNTIF($I$13,N17) -> 0 | G64: =COUNTIF($J$13,N17) -> 0 | H64: =COUNTIF($K$13,N17) -> 0 | I64: =SUM(D64:H64) -> 0
A65: 13 | B65: =$N$18 -> #REF! | F65: =COUNTIF($I$13,N18) -> 0 | G65: =COUNTIF($J$13,N18) -> 0 | H65: =COUNTIF($K$13,N18) -> 0 | I65: =SUM(D65:H65) -> 0
A66: 14 | B66: =$N$19 -> #REF! | F66: =COUNTIF($I$13,N19) -> 0 | G66: =COUNTIF($J$13,N19) -> 0 | H66: =COUNTIF($K$13,N19) -> 0 | I66: =SUM(D66:H66) -> 0
A67: 15 | B67: =$N$20 -> #REF! | F67: =COUNTIF($I$13,N20) -> 0 | G67: =COUNTIF($J$13,N20) -> 0 | H67: =COUNTIF($K$13,N20) -> 0 | I67: =SUM(D67:H67) -> 0 | K67: =#REF! -> #REF!
A68: 16 | B68: =$N$21 -> #REF! | F68: =COUNTIF($I$13,N21) -> 0 | G68: =COUNTIF($J$13,N21) -> 0 | H68: =COUNTIF($K$13,N21) -> 0 | I68: =SUM(D68:H68) -> 0
A69: 17 | B69: =$N$22 -> #REF! | F69: =COUNTIF($I$13,N22) -> 0 | G69: =COUNTIF($J$13,N22) -> 0 | H69: =COUNTIF($K$13,N22) -> 0 | I69: =SUM(D69:H69) -> 0
A70: 18 | B70: =$N$23 -> #REF! | F70: =COUNTIF($I$13,N23) -> 0 | G70: =COUNTIF($J$13,N23) -> 0 | H70: =COUNTIF($K$13,N23) -> 0 | I70: =SUM(D70:H70) -> 0
A71: 19 | B71: =$N$24 -> #REF! | F71: =COUNTIF($I$13,N24) -> 0 | G71: =COUNTIF($J$13,N24) -> 0 | H71: =COUNTIF($K$13,N24) -> 0 | I71: =SUM(D71:H71) -> 0
A72: 20 | B72: =$N$25 -> #REF! | F72: =COUNTIF($I$13,N25) -> 0 | G72: =COUNTIF($J$13,N25) -> 0 | H72: =COUNTIF($K$13,N25) -> 0 | I72: =SUM(D72:H72) -> 0
A73: 21 | B73: =$N$26 -> #REF! | F73: =COUNTIF($I$13,N26) -> 0 | G73: =COUNTIF($J$13,N26) -> 0 | H73: =COUNTIF($K$13,N26) -> 0 | I73: =SUM(D73:H73) -> 0
A74: 22
A75: 23 | B75: =$N$17 -> #REF! | F75: =COUNTIF($I$14,N17) -> 0 | G75: =COUNTIF($J$14,N17) -> 0 | H75: =COUNTIF($K$14,N17) -> 0 | I75: =SUM(D75:H75) -> 0
A76: 24 | B76: =$N$18 -> #REF! | F76: =COUNTIF($I$14,N18) -> 0 | G76: =COUNTIF($J$14,N18) -> 0 | H76: =COUNTIF($K$14,N18) -> 0 | I76: =SUM(D76:H76) -> 0
A77: 25 | B77: =$N$19 -> #REF! | F77: =COUNTIF($I$14,N19) -> 0 | G77: =COUNTIF($J$14,N19) -> 0 | H77: =COUNTIF($K$14,N19) -> 0 | I77: =SUM(D77:H77) -> 0
A78: 26 | B78: =$N$20 -> #REF! | F78: =COUNTIF($I$14,N20) -> 0 | G78: =COUNTIF($J$14,N20) -> 0 | H78: =COUNTIF($K$14,N20) -> 0 | I78: =SUM(D78:H78) -> 0
A79: 27 | B79: =$N$21 -> #REF! | F79: =COUNTIF($I$14,N21) -> 0 | G79: =COUNTIF($J$14,N21) -> 0 | H79: =COUNTIF($K$14,N21) -> 0 | I79: =SUM(D79:H79) -> 0 | K79: =#REF! -> #REF!
A80: 28 | B80: =$N$22 -> #REF! | F80: =COUNTIF($I$14,N22) -> 0 | G80: =COUNTIF($J$14,N22) -> 0 | H80: =COUNTIF($K$14,N22) -> 0 | I80: =SUM(D80:H80) -> 0
A81: 29 | B81: =$N$23 -> #REF! | F81: =COUNTIF($I$14,N23) -> 0 | G81: =COUNTIF($J$14,N23) -> 0 | H81: =COUNTIF($K$14,N23) -> 0 | I81: =SUM(D81:H81) -> 0
A82: 30 | B82: =$N$24 -> #REF! | F82: =COUNTIF($I$14,N24) -> 0 | G82: =COUNTIF($J$14,N24) -> 0 | H82: =COUNTIF($K$14,N24) -> 0 | I82: =SUM(D82:H82) -> 0
A83: 31 | B83: =$N$25 -> #REF! | F83: =COUNTIF($I$14,N25) -> 0 | G83: =COUNTIF($J$14,N25) -> 0 | H83: =COUNTIF($K$14,N25) -> 0 | I83: =SUM(D83:H83) -> 0
A84: 32 | B84: =$N$26 -> #REF! | F84: =COUNTIF($I$14,N26) -> 0 | G84: =COUNTIF($J$14,N26) -> 0 | H84: =COUNTIF($K$14,N26) -> 0 | I84: =SUM(D84:H84) -> 0
A85: 33
A86: 34 | B86: =$N$17 -> #REF! | F86: =COUNTIF($I$8,N17) -> 0 | G86: =COUNTIF($J$8,N17) -> 0 | H86: =COUNTIF($K$8,N17) -> 0 | I86: =SUM(D86:H86) -> 0
A87: 35 | B87: =$N$18 -> #REF! | F87: =COUNTIF($I$8,N18) -> 0 | G87: =COUNTIF($J$8,N18) -> 0 | H87: =COUNTIF($K$8,N18) -> 0 | I87: =SUM(D87:H87) -> 0
A88: 36 | B88: =$N$19 -> #REF! | F88: =COUNTIF($I$8,N19) -> 0 | G88: =COUNTIF($J$8,N19) -> 0 | H88: =COUNTIF($K$8,N19) -> 0 | I88: =SUM(D88:H88) -> 0
A89: 37 | B89: =$N$20 -> #REF! | F89: =COUNTIF($I$8,N20) -> 0 | G89: =COUNTIF($J$8,N20) -> 0 | H89: =COUNTIF($K$8,N20) -> 0 | I89: =SUM(D89:H89) -> 0
A90: 38 | B90: =$N$21 -> #REF! | F90: =COUNTIF($I$8,N21) -> 0 | G90: =COUNTIF($J$8,N21) -> 0 | H90: =COUNTIF($K$8,N21) -> 0 | I90: =SUM(D90:H90) -> 0 | K90: =#REF! -> #REF!
A91: 39 | B91: =$N$22 -> #REF! | F91: =COUNTIF($I$8,N22) -> 0 | G91: =COUNTIF($J$8,N22) -> 0 | H91: =COUNTIF($K$8,N22) -> 0 | I91: =SUM(D91:H91) -> 0
A92: 40 | B92: =$N$23 -> #REF! | F92: =COUNTIF($I$8,N23) -> 0 | G92: =COUNTIF($J$8,N23) -> 0 | H92: =COUNTIF($K$8,N23) -> 0 | I92: =SUM(D92:H92) -> 0
A93: 41 | B93: =$N$24 -> #REF! | F93: =COUNTIF($I$8,N24) -> 0 | G93: =COUNTIF($J$8,N24) -> 0 | H93: =COUNTIF($K$8,N24) -> 0 | I93: =SUM(D93:H93) -> 0
A94: 42 | B94: =$N$25 -> #REF! | F94: =COUNTIF($I$8,N25) -> 0 | G94: =COUNTIF($J$8,N25) -> 0 | H94: =COUNTIF($K$8,N25) -> 0 | I94: =SUM(D94:H94) -> 0
A95: 43 | B95: =$N$26 -> #REF! | F95: =COUNTIF($I$8,N26) -> 0 | G95: =COUNTIF($J$8,N26) -> 0 | H95: =COUNTIF($K$8,N26) -> 0 | I95: =SUM(D95:H95) -> 0
A96: 44
A97: 45 | B97: =$N$17 -> #REF! | F97: =COUNTIF($I$16,N17) -> 0 | G97: =COUNTIF($J$16,N17) -> 0 | H97: =COUNTIF($K$16,N17) -> 0 | I97: =SUM(D97:H97) -> 0
A98: 46 | B98: =$N$18 -> #REF! | F98: =COUNTIF($I$16,N18) -> 0 | G98: =COUNTIF($J$16,N18) -> 0 | H98: =COUNTIF($K$16,N18) -> 0 | I98: =SUM(D98:H98) -> 0
A99: 47 | B99: =$N$19 -> #REF! | F99: =COUNTIF($I$16,N19) -> 0 | G99: =COUNTIF($J$16,N19) -> 0 | H99: =COUNTIF($K$16,N19) -> 0 | I99: =SUM(D99:H99) -> 0
A100: 48 | B100: =$N$20 -> #REF! | F100: =COUNTIF($I$16,N20) -> 0 | G100: =COUNTIF($J$16,N20) -> 0 | H100: =COUNTIF($K$16,N20) -> 0 | I100: =SUM(D100:H100) -> 0
A101: 49 | B101: =$N$21 -> #REF! | F101: =COUNTIF($I$16,N21) -> 0 | G101: =COUNTIF($J$16,N21) -> 0 | H101: =COUNTIF($K$16,N21) -> 0 | I101: =SUM(D101:H101) -> 0 | K101: =#REF! -> #REF!
A102: 50 | B102: =$N$22 -> #REF! | F102: =COUNTIF($I$16,N22) -> 0 | G102: =COUNTIF($J$16,N22) -> 0 | H102: =COUNTIF($K$16,N22) -> 0 | I102: =SUM(D102:H102) -> 0
A103: 51 | B103: =$N$23 -> #REF! | F103: =COUNTIF($I$16,N23) -> 0 | G103: =COUNTIF($J$16,N23) -> 0 | H103: =COUNTIF($K$16,N23) -> 0 | I103: =SUM(D103:H103) -> 0
A104: 52 | B104: =$N$24 -> #REF! | F104: =COUNTIF($I$16,N24) -> 0 | G104: =COUNTIF($J$16,N24) -> 0 | H104: =COUNTIF($K$16,N24) -> 0 | I104: =SUM(D104:H104) -> 0
A105: 53 | B105: =$N$25 -> #REF! | F105: =COUNTIF($I$16,N25) -> 0 | G105: =COUNTIF($J$16,N25) -> 0 | H105: =COUNTIF($K$16,N25) -> 0 | I105: =SUM(D105:H105) -> 0
A106: 54 | B106: =$N$26 -> #REF! | F106: =COUNTIF($I$16,N26) -> 0 | G106: =COUNTIF($J$16,N26) -> 0 | H106: =COUNTIF($K$16,N26) -> 0 | I106: =SUM(D106:H106) -> 0
B108: =$N$17 -> #REF! | F108: =COUNTIF($I$7,N17) -> 0 | G108: =COUNTIF($J$7,N17) -> 0 | H108: =COUNTIF($K$7,N17) -> 0 | I108: =SUM(D108:H108) -> 0
B109: =$N$18 -> #REF! | F109: =COUNTIF($I$7,N18) -> 0 | G109: =COUNTIF($J$7,N18) -> 0 | H109: =COUNTIF($K$7,N18) -> 0 | I109: =SUM(D109:H109) -> 0
B110: =$N$19 -> #REF! | F110: =COUNTIF($I$7,N19) -> 0 | G110: =COUNTIF($J$7,N19) -> 0 | H110: =COUNTIF($K$7,N19) -> 0 | I110: =SUM(D110:H110) -> 0
B111: =$N$20 -> #REF! | F111: =COUNTIF($I$7,N20) -> 0 | G111: =COUNTIF($J$7,N20) -> 0 | H111: =COUNTIF($K$7,N20) -> 0 | I111: =SUM(D111:H111) -> 0
B112: =$N$21 -> #REF! | F112: =COUNTIF($I$7,N21) -> 0 | G112: =COUNTIF($J$7,N21) -> 0 | H112: =COUNTIF($K$7,N21) -> 0 | I112: =SUM(D112:H112) -> 0 | K112: =#REF! -> #REF!
B113: =$N$22 -> #REF! | F113: =COUNTIF($I$7,N22) -> 0 | G113: =COUNTIF($J$7,N22) -> 0 | H113: =COUNTIF($K$7,N22) -> 0 | I113: =SUM(D113:H113) -> 0
B114: =$N$23 -> #REF! | F114: =COUNTIF($I$7,N23) -> 0 | G114: =COUNTIF($J$7,N23) -> 0 | H114: =COUNTIF($K$7,N23) -> 0 | I114: =SUM(D114:H114) -> 0
B115: =$N$24 -> #REF! | F115: =COUNTIF($I$7,N24) -> 0 | G115: =COUNTIF($J$7,N24) -> 0 | H115: =COUNTIF($K$7,N24) -> 0 | I115: =SUM(D115:H115) -> 0
B116: =$N$25 -> #REF! | F116: =COUNTIF($I$7,N25) -> 0 | G116: =COUNTIF($J$7,N25) -> 0 | H116: =COUNTIF($K$7,N25) -> 0 | I116: =SUM(D116:H116) -> 0
B117: =$N$26 -> #REF! | F117: =COUNTIF($I$7,N26) -> 0 | G117: =COUNTIF($J$7,N26) -> 0 | H117: =COUNTIF($K$7,N26) -> 0 | I117: =SUM(D117:H117) -> 0
B119: =$N$17 -> #REF! | F119: =COUNTIF($I$21,N17) -> 0 | G119: =COUNTIF($J$21,N17) -> 0 | H119: =COUNTIF($K$21,N17) -> 0 | I119: =SUM(D119:H119) -> 0
B120: =$N$18 -> #REF! | F120: =COUNTIF($I$21,N18) -> 0 | G120: =COUNTIF($J$21,N18) -> 0 | H120: =COUNTIF($K$21,N18) -> 0 | I120: =SUM(D120:H120) -> 0
B121: =$N$19 -> #REF! | F121: =COUNTIF($I$21,N19) -> 0 | G121: =COUNTIF($J$21,N19) -> 0 | H121: =COUNTIF($K$21,N19) -> 0 | I121: =SUM(D121:H121) -> 0
B122: =$N$20 -> #REF! | F122: =COUNTIF($I$21,N20) -> 0 | G122: =COUNTIF($J$21,N20) -> 0 | H122: =COUNTIF($K$21,N20) -> 0 | I122: =SUM(D122:H122) -> 0
B123: =$N$21 -> #REF! | F123: =COUNTIF($I$21,N21) -> 0 | G123: =COUNTIF($J$21,N21) -> 0 | H123: =COUNTIF($K$21,N21) -> 0 | I123: =SUM(D123:H123) -> 0
B124: =$N$22 -> #REF! | F124: =COUNTIF($I$21,N22) -> 0 | G124: =COUNTIF($J$21,N22) -> 0 | H124: =COUNTIF($K$21,N22) -> 0 | I124: =SUM(D124:H124) -> 0 | K124: =#REF! -> #REF!
B125: =$N$23 -> #REF! | F125: =COUNTIF($I$21,N23) -> 0 | G125: =COUNTIF($J$21,N23) -> 0 | H125: =COUNTIF($K$21,N23) -> 0 | I125: =SUM(D125:H125) -> 0
B126: =$N$24 -> #REF! | F126: =COUNTIF($I$21,N24) -> 0 | G126: =COUNTIF($J$21,N24) -> 0 | H126: =COUNTIF($K$21,N24) -> 0 | I126: =SUM(D126:H126) -> 0
B127: =$N$25 -> #REF! | F127: =COUNTIF($I$21,N25) -> 0 | G127: =COUNTIF($J$21,N25) -> 0 | H127: =COUNTIF($K$21,N25) -> 0 | I127: =SUM(D127:H127) -> 0
...

Sheet 4
B1: =#REF! -> #REF! | C1: =SUM('3'!C1+1) -> 4 | K1: =MASTER!A2 -> 2018 | L1: =(#REF!) -> #REF!
B2: Répartition des Tâches
D3: =DATE(K1,1,3)-WEEKDAY(DATE(K1,1,3))+7*$C$1-5 -> 43122 | E3: =DATE(K1,1,3)-WEEKDAY(DATE(K1,1,3))+7*$C$1-5 -> 43122 | G3: au | I3: =DATE(K1,1,3)-WEEKDAY(DATE(K1,1,3))+7*$C$1-1 -> 43126
J4: =NOW() -> 43085.529
B5: =IF(A5=TRUE,$N$34,"")
R14: Lundi
N15: =IF(AND(I12<>""),(A+1)) -> FALSE | R15: Mardi
R16: Mercredi
N17: =#REF! -> #REF! | P17: =#REF! -> #REF! | R17: Jeudi
N18: =#REF! -> #REF! | P18: =#REF! -> #REF! | R18: Vendredi | U18: {=IFERROR(OFFSET(#REF!,MATCH(0,COUNTIF(U$17:U17,$I$11:$I$21),0),),"")} | V18: {=IFERROR(OFFSET(#REF!,MATCH(0,COUNTIF(V$17:V17,$K$11:$K$21),0),),"")}
N19: =#REF! -> #REF! | P19: =#REF! -> #REF! | U19: {=IFERROR(OFFSET(#REF!,MATCH(0,COUNTIF(U$17:U18,$I$11:$I$21),0),),"")} | V19: {=IFERROR(OFFSET(#REF!,MATCH(0,COUNTIF(V$17:V18,$K$11:$K$21),0),),"")}
N20: =#REF! -> #REF! | O20: / | P20: =#REF! -> #REF! | R20: * | U20: {=IFERROR(OFFSET(#REF!,MATCH(0,COUNTIF(U$17:U19,$I$11:$I$21),0),),"")} | V20: {=IFERROR(OFFSET(#REF!,MATCH(0,COUNTIF(V$17:V19,$K$11:$K$21),0),),"")}
N21: =#REF! -> #REF! | O21: X | U21: {=IFERROR(OFFSET(#REF!,MATCH(0,COUNTIF(U$17:U20,$I$11:$I$21),0),),"")} | V21: {=IFERROR(OFFSET(#REF!,MATCH(0,COUNTIF(V$17:V20,$K$11:$K$21),0),),"")}
N22: =#REF! -> #REF! | U22: {=IFERROR(OFFSET(#REF!,MATCH(0,COUNTIF(U$17:U21,$I$11:$I$21),0),),"")} | V22: {=IFERROR(OFFSET(#REF!,MATCH(0,COUNTIF(V$17:V21,$K$11:$K$21),0),),"")}
N23: =#REF! -> #REF! | U23: {=IFERROR(OFFSET(#REF!,MATCH(0,COUNTIF(U$17:U22,$I$11:$I$21),0),),"")} | V23: {=IFERROR(OFFSET(#REF!,MATCH(0,COUNTIF(V$17:V22,$K$11:$K$21),0),),"")}
N24: =#REF! -> #REF! | P24: =#REF! -> #REF! | U24: {=IFERROR(OFFSET(#REF!,MATCH(0,COUNTIF(U$17:U23,$I$11:$I$21),0),),"")} | V24: {=IFERROR(OFFSET(#REF!,MATCH(0,COUNTIF(V$17:V23,$K$11:$K$21),0),),"")}
N25: =#REF! -> #REF! | P25: =#REF! -> #REF! | U25: {=IFERROR(OFFSET(#REF!,MATCH(0,COUNTIF(U$17:U24,$I$11:$I$21),0),),"")} | V25: {=IFERROR(OFFSET(#REF!,MATCH(0,COUNTIF(V$17:V24,$K$11:$K$21),0),),"")}
N26: =#REF! -> #REF! | P26: =#REF! -> #REF! | U26: {=IFERROR(OFFSET(#REF!,MATCH(0,COUNTIF(U$17:U25,$I$11:$I$21),0),),"")} | V26: {=IFERROR(OFFSET(#REF!,MATCH(0,COUNTIF(V$17:V25,$K$11:$K$21),0),),"")}
P27: =#REF! -> #REF! | U27: {=IFERROR(OFFSET(#REF!,MATCH(0,COUNTIF(U$17:U26,$I$11:$I$18),0),),"")} | V27: {=IFERROR(OFFSET(#REF!,MATCH(0,COUNTIF(V$17:V26,$K$11:$K$18),0),),"")}
N28: =#REF! -> #REF! | P28: =#REF! -> #REF!
N29: =#REF! -> #REF! | P29: =#REF! -> #REF!
N30: =#REF! -> #REF! | P30: =#REF! -> #REF!
P31: =#REF! -> #REF!
P32: =#REF! -> #REF!
N33: SEMAINE APRÈS MATCH | P33: =#REF! -> #REF!
N34: SEMAINE MATCH | P34: =#REF! -> #REF!
P35: =#REF! -> #REF!
A53: 1 | B53: =$N$17 -> #REF! | F53: =COUNTIF($I$17,N17) -> 0 | G53: =COUNTIF($J$17,N17) -> 0 | H53: =COUNTIF($K$17,N17) -> 0 | I53: =SUM(D53:H53) -> 0
A54: 2 | B54: =$N$18 -> #REF! | F54: =COUNTIF($I$17,N18) -> 0 | G54: =COUNTIF($J$17,N18) -> 0 | H54: =COUNTIF($K$17,N18) -> 0 | I54: =SUM(D54:H54) -> 0
A55: 3 | B55: =$N$19 -> #REF! | F55: =COUNTIF($I$17,N19) -> 0 | G55: =COUNTIF($J$17,N19) -> 0 | H55: =COUNTIF($K$17,N19) -> 0 | I55: =SUM(D55:H55) -> 0
A56: 4 | B56: =$N$20 -> #REF! | F56: =COUNTIF($I$17,N20) -> 0 | G56: =COUNTIF($J$17,N20) -> 0 | H56: =COUNTIF($K$17,N20) -> 0 | I56: =SUM(D56:H56) -> 0
A57: 5 | B57: =$N$21 -> #REF! | F57: =COUNTIF($I$17,N21) -> 0 | G57: =COUNTIF($J$17,N21) -> 0 | H57: =COUNTIF($K$17,N21) -> 0 | I57: =SUM(D57:H57) -> 0 | K57: =#REF! -> #REF!
A58: 6 | B58: =$N$22 -> #REF! | F58: =COUNTIF($I$17,N22) -> 0 | G58: =COUNTIF($J$17,N22) -> 0 | H58: =COUNTIF($K$17,N22) -> 0 | I58: =SUM(D58:H58) -> 0
A59: 7 | B59: =$N$23 -> #REF! | F59: =COUNTIF($I$17,N23) -> 0 | G59: =COUNTIF($J$17,N23) -> 0 | H59: =COUNTIF($K$17,N23) -> 0 | I59: =SUM(D59:H59) -> 0
A60: 8 | B60: =$N$24 -> #REF! | F60: =COUNTIF($I$17,N24) -> 0 | G60: =COUNTIF($J$17,N24) -> 0 | H60: =COUNTIF($K$17,N24) -> 0 | I60: =SUM(D60:H60) -> 0
A61: 9 | B61: =$N$25 -> #REF! | F61: =COUNTIF($I$17,N25) -> 0 | G61: =COUNTIF($J$17,N25) -> 0 | H61: =COUNTIF($K$17,N25) -> 0 | I61: =SUM(D61:H61) -> 0
A62: 10 | B62: =$N$26 -> #REF! | F62: =COUNTIF($I$17,N26) -> 0 | G62: =COUNTIF($J$17,N26) -> 0 | H62: =COUNTIF($K$17,N26) -> 0 | I62: =SUM(D62:H62) -> 0
A63: 11
A64: 12 | B64: =$N$17 -> #REF! | F64: =COUNTIF($I$13,N17) -> 0 | G64: =COUNTIF($J$13,N17) -> 0 | H64: =COUNTIF($K$13,N17) -> 0 | I64: =SUM(D64:H64) -> 0
A65: 13 | B65: =$N$18 -> #REF! | F65: =COUNTIF($I$13,N18) -> 0 | G65: =COUNTIF($J$13,N18) -> 0 | H65: =COUNTIF($K$13,N18) -> 0 | I65: =SUM(D65:H65) -> 0
A66: 14 | B66: =$N$19 -> #REF! | F66: =COUNTIF($I$13,N19) -> 0 | G66: =COUNTIF($J$13,N19) -> 0 | H66: =COUNTIF($K$13,N19) -> 0 | I66: =SUM(D66:H66) -> 0
A67: 15 | B67: =$N$20 -> #REF! | F67: =COUNTIF($I$13,N20) -> 0 | G67: =COUNTIF($J$13,N20) -> 0 | H67: =COUNTIF($K$13,N20) -> 0 | I67: =SUM(D67:H67) -> 0 | K67: =#REF! -> #REF!
A68: 16 | B68: =$N$21 -> #REF! | F68: =COUNTIF($I$13,N21) -> 0 | G68: =COUNTIF($J$13,N21) -> 0 | H68: =COUNTIF($K$13,N21) -> 0 | I68: =SUM(D68:H68) -> 0
A69: 17 | B69: =$N$22 -> #REF! | F69: =COUNTIF($I$13,N22) -> 0 | G69: =COUNTIF($J$13,N22) -> 0 | H69: =COUNTIF($K$13,N22) -> 0 | I69: =SUM(D69:H69) -> 0
A70: 18 | B70: =$N$23 -> #REF! | F70: =COUNTIF($I$13,N23) -> 0 | G70: =COUNTIF($J$13,N23) -> 0 | H70: =COUNTIF($K$13,N23) -> 0 | I70: =SUM(D70:H70) -> 0
A71: 19 | B71: =$N$24 -> #REF! | F71: =COUNTIF($I$13,N24) -> 0 | G71: =COUNTIF($J$13,N24) -> 0 | H71: =COUNTIF($K$13,N24) -> 0 | I71: =SUM(D71:H71) -> 0
A72: 20 | B72: =$N$25 -> #REF! | F72: =COUNTIF($I$13,N25) -> 0 | G72: =COUNTIF($J$13,N25) -> 0 | H72: =COUNTIF($K$13,N25) -> 0 | I72: =SUM(D72:H72) -> 0
A73: 21 | B73: =$N$26 -> #REF! | F73: =COUNTIF($I$13,N26) -> 0 | G73: =COUNTIF($J$13,N26) -> 0 | H73: =COUNTIF($K$13,N26) -> 0 | I73: =SUM(D73:H73) -> 0
A74: 22
A75: 23 | B75: =$N$17 -> #REF! | F75: =COUNTIF($I$14,N17) -> 0 | G75: =COUNTIF($J$14,N17) -> 0 | H75: =COUNTIF($K$14,N17) -> 0 | I75: =SUM(D75:H75) -> 0
A76: 24 | B76: =$N$18 -> #REF! | F76: =COUNTIF($I$14,N18) -> 0 | G76: =COUNTIF($J$14,N18) -> 0 | H76: =COUNTIF($K$14,N18) -> 0 | I76: =SUM(D76:H76) -> 0
A77: 25 | B77: =$N$19 -> #REF! | F77: =COUNTIF($I$14,N19) -> 0 | G77: =COUNTIF($J$14,N19) -> 0 | H77: =COUNTIF($K$14,N19) -> 0 | I77: =SUM(D77:H77) -> 0
A78: 26 | B78: =$N$20 -> #REF! | F78: =COUNTIF($I$14,N20) -> 0 | G78: =COUNTIF($J$14,N20) -> 0 | H78: =COUNTIF($K$14,N20) -> 0 | I78: =SUM(D78:H78) -> 0
A79: 27 | B79: =$N$21 -> #REF! | F79: =COUNTIF($I$14,N21) -> 0 | G79: =COUNTIF($J$14,N21) -> 0 | H79: =COUNTIF($K$14,N21) -> 0 | I79: =SUM(D79:H79) -> 0 | K79: =#REF! -> #REF!
A80: 28 | B80: =$N$22 -> #REF! | F80: =COUNTIF($I$14,N22) -> 0 | G80: =COUNTIF($J$14,N22) -> 0 | H80: =COUNTIF($K$14,N22) -> 0 | I80: =SUM(D80:H80) -> 0
A81: 29 | B81: =$N$23 -> #REF! | F81: =COUNTIF($I$14,N23) -> 0 | G81: =COUNTIF($J$14,N23) -> 0 | H81: =COUNTIF($K$14,N23) -> 0 | I81: =SUM(D81:H81) -> 0
A82: 30 | B82: =$N$24 -> #REF! | F82: =COUNTIF($I$14,N24) -> 0 | G82: =COUNTIF($J$14,N24) -> 0 | H82: =COUNTIF($K$14,N24) -> 0 | I82: =SUM(D82:H82) -> 0
A83: 31 | B83: =$N$25 -> #REF! | F83: =COUNTIF($I$14,N25) -> 0 | G83: =COUNTIF($J$14,N25) -> 0 | H83: =COUNTIF($K$14,N25) -> 0 | I83: =SUM(D83:H83) -> 0
A84: 32 | B84: =$N$26 -> #REF! | F84: =COUNTIF($I$14,N26) -> 0 | G84: =COUNTIF($J$14,N26) -> 0 | H84: =COUNTIF($K$14,N26) -> 0 | I84: =SUM(D84:H84) -> 0
A85: 33
A86: 34 | B86: =$N$17 -> #REF! | F86: =COUNTIF($I$8,N17) -> 0 | G86: =COUNTIF($J$8,N17) -> 0 | H86: =COUNTIF($K$8,N17) -> 0 | I86: =SUM(D86:H86) -> 0
A87: 35 | B87: =$N$18 -> #REF! | F87: =COUNTIF($I$8,N18) -> 0 | G87: =COUNTIF($J$8,N18) -> 0 | H87: =COUNTIF($K$8,N18) -> 0 | I87: =SUM(D87:H87) -> 0
A88: 36 | B88: =$N$19 -> #REF! | F88: =COUNTIF($I$8,N19) -> 0 | G88: =COUNTIF($J$8,N19) -> 0 | H88: =COUNTIF($K$8,N19) -> 0 | I88: =SUM(D88:H88) -> 0
A89: 37 | B89: =$N$20 -> #REF! | F89: =COUNTIF($I$8,N20) -> 0 | G89: =COUNTIF($J$8,N20) -> 0 | H89: =COUNTIF($K$8,N20) -> 0 | I89: =SUM(D89:H89) -> 0
A90: 38 | B90: =$N$21 -> #REF! | F90: =COUNTIF($I$8,N21) -> 0 | G90: =COUNTIF($J$8,N21) -> 0 | H90: =COUNTIF($K$8,N21) -> 0 | I90: =SUM(D90:H90) -> 0 | K90: =#REF! -> #REF!
A91: 39 | B91: =$N$22 -> #REF! | F91: =COUNTIF($I$8,N22) -> 0 | G91: =COUNTIF($J$8,N22) -> 0 | H91: =COUNTIF($K$8,N22) -> 0 | I91: =SUM(D91:H91) -> 0
A92: 40 | B92: =$N$23 -> #REF! | F92: =COUNTIF($I$8,N23) -> 0 | G92: =COUNTIF($J$8,N23) -> 0 | H92: =COUNTIF($K$8,N23) -> 0 | I92: =SUM(D92:H92) -> 0
A93: 41 | B93: =$N$24 -> #REF! | F93: =COUNTIF($I$8,N24) -> 0 | G93: =COUNTIF($J$8,N24) -> 0 | H93: =COUNTIF($K$8,N24) -> 0 | I93: =SUM(D93:H93) -> 0
A94: 42 | B94: =$N$25 -> #REF! | F94: =COUNTIF($I$8,N25) -> 0 | G94: =COUNTIF($J$8,N25) -> 0 | H94: =COUNTIF($K$8,N25) -> 0 | I94: =SUM(D94:H94) -> 0
A95: 43 | B95: =$N$26 -> #REF! | F95: =COUNTIF($I$8,N26) -> 0 | G95: =COUNTIF($J$8,N26) -> 0 | H95: =COUNTIF($K$8,N26) -> 0 | I95: =SUM(D95:H95) -> 0
A96: 44
A97: 45 | B97: =$N$17 -> #REF! | F97: =COUNTIF($I$16,N17) -> 0 | G97: =COUNTIF($J$16,N17) -> 0 | H97: =COUNTIF($K$16,N17) -> 0 | I97: =SUM(D97:H97) -> 0
A98: 46 | B98: =$N$18 -> #REF! | F98: =COUNTIF($I$16,N18) -> 0 | G98: =COUNTIF($J$16,N18) -> 0 | H98: =COUNTIF($K$16,N18) -> 0 | I98: =SUM(D98:H98) -> 0
A99: 47 | B99: =$N$19 -> #REF! | F99: =COUNTIF($I$16,N19) -> 0 | G99: =COUNTIF($J$16,N19) -> 0 | H99: =COUNTIF($K$16,N19) -> 0 | I99: =SUM(D99:H99) -> 0
A100: 48 | B100: =$N$20 -> #REF! | F100: =COUNTIF($I$16,N20) -> 0 | G100: =COUNTIF($J$16,N20) -> 0 | H100: =COUNTIF($K$16,N20) -> 0 | I100: =SUM(D100:H100) -> 0
A101: 49 | B101: =$N$21 -> #REF! | F101: =COUNTIF($I$16,N21) -> 0 | G101: =COUNTIF($J$16,N21) -> 0 | H101: =COUNTIF($K$16,N21) -> 0 | I101: =SUM(D101:H101) -> 0 | K101: =#REF! -> #REF!
A102: 50 | B102: =$N$22 -> #REF! | F102: =COUNTIF($I$16,N22) -> 0 | G102: =COUNTIF($J$16,N22) -> 0 | H102: =COUNTIF($K$16,N22) -> 0 | I102: =SUM(D102:H102) -> 0
A103: 51 | B103: =$N$23 -> #REF! | F103: =COUNTIF($I$16,N23) -> 0 | G103: =COUNTIF($J$16,N23) -> 0 | H103: =COUNTIF($K$16,N23) -> 0 | I103: =SUM(D103:H103) -> 0
A104: 52 | B104: =$N$24 -> #REF! | F104: =COUNTIF($I$16,N24) -> 0 | G104: =COUNTIF($J$16,N24) -> 0 | H104: =COUNTIF($K$16,N24) -> 0 | I104: =SUM(D104:H104) -> 0
A105: 53 | B105: =$N$25 -> #REF! | F105: =COUNTIF($I$16,N25) -> 0 | G105: =COUNTIF($J$16,N25) -> 0 | H105: =COUNTIF($K$16,N25) -> 0 | I105: =SUM(D105:H105) -> 0
A106: 54 | B106: =$N$26 -> #REF! | F106: =COUNTIF($I$16,N26) -> 0 | G106: =COUNTIF($J$16,N26) -> 0 | H106: =COUNTIF($K$16,N26) -> 0 | I106: =SUM(D106:H106) -> 0
B108: =$N$17 -> #REF! | F108: =COUNTIF($I$7,N17) -> 0 | G108: =COUNTIF($J$7,N17) -> 0 | H108: =COUNTIF($K$7,N17) -> 0 | I108: =SUM(D108:H108) -> 0
B109: =$N$18 -> #REF! | F109: =COUNTIF($I$7,N18) -> 0 | G109: =COUNTIF($J$7,N18) -> 0 | H109: =COUNTIF($K$7,N18) -> 0 | I109: =SUM(D109:H109) -> 0
B110: =$N$19 -> #REF! | F110: =COUNTIF($I$7,N19) -> 0 | G110: =COUNTIF($J$7,N19) -> 0 | H110: =COUNTIF($K$7,N19) -> 0 | I110: =SUM(D110:H110) -> 0
B111: =$N$20 -> #REF! | F111: =COUNTIF($I$7,N20) -> 0 | G111: =COUNTIF($J$7,N20) -> 0 | H111: =COUNTIF($K$7,N20) -> 0 | I111: =SUM(D111:H111) -> 0
B112: =$N$21 -> #REF! | F112: =COUNTIF($I$7,N21) -> 0 | G112: =COUNTIF($J$7,N21) -> 0 | H112: =COUNTIF($K$7,N21) -> 0 | I112: =SUM(D112:H112) -> 0 | K112: =#REF! -> #REF!
B113: =$N$22 -> #REF! | F113: =COUNTIF($I$7,N22) -> 0 | G113: =COUNTIF($J$7,N22) -> 0 | H113: =COUNTIF($K$7,N22) -> 0 | I113: =SUM(D113:H113) -> 0
B114: =$N$23 -> #REF! | F114: =COUNTIF($I$7,N23) -> 0 | G114: =COUNTIF($J$7,N23) -> 0 | H114: =COUNTIF($K$7,N23) -> 0 | I114: =SUM(D114:H114) -> 0
B115: =$N$24 -> #REF! | F115: =COUNTIF($I$7,N24) -> 0 | G115: =COUNTIF($J$7,N24) -> 0 | H115: =COUNTIF($K$7,N24) -> 0 | I115: =SUM(D115:H115) -> 0
B116: =$N$25 -> #REF! | F116: =COUNTIF($I$7,N25) -> 0 | G116: =COUNTIF($J$7,N25) -> 0 | H116: =COUNTIF($K$7,N25) -> 0 | I116: =SUM(D116:H116) -> 0
B117: =$N$26 -> #REF! | F117: =COUNTIF($I$7,N26) -> 0 | G117: =COUNTIF($J$7,N26) -> 0 | H117: =COUNTIF($K$7,N26) -> 0 | I117: =SUM(D117:H117) -> 0
B119: =$N$17 -> #REF! | F119: =COUNTIF($I$21,N17) -> 0 | G119: =COUNTIF($J$21,N17) -> 0 | H119: =COUNTIF($K$21,N17) -> 0 | I119: =SUM(D119:H119) -> 0
B120: =$N$18 -> #REF! | F120: =COUNTIF($I$21,N18) -> 0 | G120: =COUNTIF($J$21,N18) -> 0 | H120: =COUNTIF($K$21,N18) -> 0 | I120: =SUM(D120:H120) -> 0
B121: =$N$19 -> #REF! | F121: =COUNTIF($I$21,N19) -> 0 | G121: =COUNTIF($J$21,N19) -> 0 | H121: =COUNTIF($K$21,N19) -> 0 | I121: =SUM(D121:H121) -> 0
B122: =$N$20 -> #REF! | F122: =COUNTIF($I$21,N20) -> 0 | G122: =COUNTIF($J$21,N20) -> 0 | H122: =COUNTIF($K$21,N20) -> 0 | I122: =SUM(D122:H122) -> 0
B123: =$N$21 -> #REF! | F123: =COUNTIF($I$21,N21) -> 0 | G123: =COUNTIF($J$21,N21) -> 0 | H123: =COUNTIF($K$21,N21) -> 0 | I123: =SUM(D123:H123) -> 0
B124: =$N$22 -> #REF! | F124: =COUNTIF($I$21,N22) -> 0 | G124: =COUNTIF($J$21,N22) -> 0 | H124: =COUNTIF($K$21,N22) -> 0 | I124: =SUM(D124:H124) -> 0 | K124: =#REF! -> #REF!
B125: =$N$23 -> #REF! | F125: =COUNTIF($I$21,N23) -> 0 | G125: =COUNTIF($J$21,N23) -> 0 | H125: =COUNTIF($K$21,N23) -> 0 | I125: =SUM(D125:H125) -> 0
B126: =$N$24 -> #REF! | F126: =COUNTIF($I$21,N24) -> 0 | G126: =COUNTIF($J$21,N24) -> 0 | H126: =COUNTIF($K$21,N24) -> 0 | I126: =SUM(D126:H126) -> 0
B127: =$N$25 -> #REF! | F127: =COUNTIF($I$21,N25) -> 0 | G127: =COUNTIF($J$21,N25) -> 0 | H127: =COUNTIF($K$21,N25) -> 0 | I127: =SUM(D127:H127) -> 0
...

Sheet 5
B1: =#REF! -> #REF! | C1: =SUM('4'!C1+1) -> 5 | K1: =MASTER!A2 -> 2018 | L1: =(#REF!) -> #REF!
B2: Répartition des Tâches
D3: =DATE(K1,1,3)-WEEKDAY(DATE(K1,1,3))+7*$C$1-5 -> 43129 | E3: =DATE(K1,1,3)-WEEKDAY(DATE(K1,1,3))+7*$C$1-5 -> 43129 | G3: au | I3: =DATE(K1,1,3)-WEEKDAY(DATE(K1,1,3))+7*$C$1-1 -> 43133
J4: =NOW() -> 43085.529
A5: FALSE | B5: =IF(A5=TRUE,$N$34,"")
R14: Lundi
N15: =IF(AND(I12<>""),(A+1)) -> FALSE | R15: Mardi
R16: Mercredi
N17: =#REF! -> #REF! | P17: =#REF! -> #REF! | R17: Jeudi
N18: =#REF! -> #REF! | P18: =#REF! -> #REF! | R18: Vendredi | U18: {=IFERROR(OFFSET(#REF!,MATCH(0,COUNTIF(U$17:U17,$I$11:$I$21),0),),"")} | V18: {=IFERROR(OFFSET(#REF!,MATCH(0,COUNTIF(V$17:V17,$K$11:$K$21),0),),"")}
N19: =#REF! -> #REF! | P19: =#REF! -> #REF! | U19: {=IFERROR(OFFSET(#REF!,MATCH(0,COUNTIF(U$17:U18,$I$11:$I$21),0),),"")} | V19: {=IFERROR(OFFSET(#REF!,MATCH(0,COUNTIF(V$17:V18,$K$11:$K$21),0),),"")}
N20: =#REF! -> #REF! | O20: / | P20: =#REF! -> #REF! | R20: * | U20: {=IFERROR(OFFSET(#REF!,MATCH(0,COUNTIF(U$17:U19,$I$11:$I$21),0),),"")} | V20: {=IFERROR(OFFSET(#REF!,MATCH(0,COUNTIF(V$17:V19,$K$11:$K$21),0),),"")}
N21: =#REF! -> #REF! | O21: X | U21: {=IFERROR(OFFSET(#REF!,MATCH(0,COUNTIF(U$17:U20,$I$11:$I$21),0),),"")} | V21: {=IFERROR(OFFSET(#REF!,MATCH(0,COUNTIF(V$17:V20,$K$11:$K$21),0),),"")}
N22: =#REF! -> #REF! | U22: {=IFERROR(OFFSET(#REF!,MATCH(0,COUNTIF(U$17:U21,$I$11:$I$21),0),),"")} | V22: {=IFERROR(OFFSET(#REF!,MATCH(0,COUNTIF(V$17:V21,$K$11:$K$21),0),),"")}
N23: =#REF! -> #REF! | U23: {=IFERROR(OFFSET(#REF!,MATCH(0,COUNTIF(U$17:U22,$I$11:$I$21),0),),"")} | V23: {=IFERROR(OFFSET(#REF!,MATCH(0,COUNTIF(V$17:V22,$K$11:$K$21),0),),"")}
N24: =#REF! -> #REF! | P24: =#REF! -> #REF! | U24: {=IFERROR(OFFSET(#REF!,MATCH(0,COUNTIF(U$17:U23,$I$11:$I$21),0),),"")} | V24: {=IFERROR(OFFSET(#REF!,MATCH(0,COUNTIF(V$17:V23,$K$11:$K$21),0),),"")}
N25: =#REF! -> #REF! | P25: =#REF! -> #REF! | U25: {=IFERROR(OFFSET(#REF!,MATCH(0,COUNTIF(U$17:U24,$I$11:$I$21),0),),"")} | V25: {=IFERROR(OFFSET(#REF!,MATCH(0,COUNTIF(V$17:V24,$K$11:$K$21),0),),"")}
N26: =#REF! -> #REF! | P26: =#REF! -> #REF! | U26: {=IFERROR(OFFSET(#REF!,MATCH(0,COUNTIF(U$17:U25,$I$11:$I$21),0),),"")} | V26: {=IFERROR(OFFSET(#REF!,MATCH(0,COUNTIF(V$17:V25,$K$11:$K$21),0),),"")}
P27: =#REF! -> #REF! | U27: {=IFERROR(OFFSET(#REF!,MATCH(0,COUNTIF(U$17:U26,$I$11:$I$18),0),),"")} | V27: {=IFERROR(OFFSET(#REF!,MATCH(0,COUNTIF(V$17:V26,$K$11:$K$18),0),),"")}
N28: =#REF! -> #REF! | P28: =#REF! -> #REF!
N29: =#REF! -> #REF! | P29: =#REF! -> #REF!
N30: =#REF! -> #REF! | P30: =#REF! -> #REF!
P31: =#REF! -> #REF!
P32: =#REF! -> #REF!
N33: SEMAINE APRÈS MATCH | P33: =#REF! -> #REF!
N34: SEMAINE MATCH | P34: =#REF! -> #REF!
P35: =#REF! -> #REF!
A53: 1
A54: 2
A55: 3
A56: 4
A57: 5
A58: 6
A59: 7
A60: 8
A61: 9
A62: 10
A63: 11
A64: 12
... A106: 54
B459: Équipe de Week-end :
B460: Relève du matin 14h30 :
B461: =$N$17 -> #REF!
B462: =$N$18 -> #REF!
B463: =$N$19 -> #REF!
B464: =$N$20 -> #REF!
B465: =$N$21 -> #REF!
B466: =$N$22 -> #REF!
B467: =$N$23 -> #REF!
B468: =$N$24 -> #REF!
B469: =$N$25 -> #REF!
B470: =$N$26 -> #REF!
B471: En Repos : | C471: Lundi | H471: * | I471: Mercredi / Jeudi
B472: En Congés :
B473: Informations :

Sheet 6
B1: =#REF! -> #REF! | C1: =SUM('5'!C1+1) -> 6 | K1: =MASTER!A2 -> 2018 | L1: =(#REF!) -> #REF!
B2: Répartition des Tâches
D3: =DATE(K1,1,3)-WEEKDAY(DATE(K1,1,3))+7*$C$1-5 -> 43136 | E3: =DATE(K1,1,3)-WEEKDAY(DATE(K1,1,3))+7*$C$1-5 -> 43136 | G3: au | I3: =DATE(K1,1,3)-WEEKDAY(DATE(K1,1,3))+7*$C$1-1 -> 43140
J4: =NOW() -> 43085.529
B5: =IF(A5=TRUE,$N$34,"")
R14: Lundi
N15: =IF(AND(I12<>""),(A+1)) -> FALSE | R15: Mardi
R16: Mercredi
N17: =#REF! -> #REF! | P17: =#REF! -> #REF! | R17: Jeudi
N18: =#REF! -> #REF! | P18: =#REF! -> #REF! | R18: Vendredi | U18: {=IFERROR(OFFSET(#REF!,MATCH(0,COUNTIF(U$17:U17,$I$11:$I$21),0),),"")} | V18: {=IFERROR(OFFSET(#REF!,MATCH(0,COUNTIF(V$17:V17,$K$11:$K$21),0),),"")}
N19: =#REF! -> #REF! | P19: =#REF! -> #REF! | U19: {=IFERROR(OFFSET(#REF!,MATCH(0,COUNTIF(U$17:U18,$I$11:$I$21),0),),"")} | V19: {=IFERROR(OFFSET(#REF!,MATCH(0,COUNTIF(V$17:V18,$K$11:$K$21),0),),"")}
N20: =#REF! -> #REF! | O20: / | P20: =#REF! -> #REF! | R20: * | U20: {=IFERROR(OFFSET(#REF!,MATCH(0,COUNTIF(U$17:U19,$I$11:$I$21),0),),"")} | V20: {=IFERROR(OFFSET(#REF!,MATCH(0,COUNTIF(V$17:V19,$K$11:$K$21),0),),"")}
N21: =#REF! -> #REF! | O21: X | U21: {=IFERROR(OFFSET(#REF!,MATCH(0,COUNTIF(U$17:U20,$I$11:$I$21),0),),"")} | V21: {=IFERROR(OFFSET(#REF!,MATCH(0,COUNTIF(V$17:V20,$K$11:$K$21),0),),"")}
N22: =#REF! -> #REF! | U22: {=IFERROR(OFFSET(#REF!,MATCH(0,COUNTIF(U$17:U21,$I$11:$I$21),0),),"")} | V22: {=IFERROR(OFFSET(#REF!,MATCH(0,COUNTIF(V$17:V21,$K$11:$K$21),0),),"")}
N23: =#REF! -> #REF! | U23: {=IFERROR(OFFSET(#REF!,MATCH(0,COUNTIF(U$17:U22,$I$11:$I$21),0),),"")} | V23: {=IFERROR(OFFSET(#REF!,MATCH(0,COUNTIF(V$17:V22,$K$11:$K$21),0),),"")}
N24: =#REF! -> #REF! | P24: =#REF! -> #REF! | U24: {=IFERROR(OFFSET(#REF!,MATCH(0,COUNTIF(U$17:U23,$I$11:$I$21),0),),"")} | V24: {=IFERROR(OFFSET(#REF!,MATCH(0,COUNTIF(V$17:V23,$K$11:$K$21),0),),"")}
A25: FALSE | N25: =#REF! -> #REF! | P25: =#REF! -> #REF! | U25: {=IFERROR(OFFSET(#REF!,MATCH(0,COUNTIF(U$17:U24,$I$11:$I$21),0),),"")} | V25: {=IFERROR(OFFSET(#REF!,MATCH(0,COUNTIF(V$17:V24,$K$11:$K$21),0),),"")}
N26: =#REF! -> #REF! | P26: =#REF! -> #REF! | U26: {=IFERROR(OFFSET(#REF!,MATCH(0,COUNTIF(U$17:U25,$I$11:$I$21),0),),"")} | V26: {=IFERROR(OFFSET(#REF!,MATCH(0,COUNTIF(V$17:V25,$K$11:$K$21),0),),"")}
P27: =#REF! -> #REF! | U27: {=IFERROR(OFFSET(#REF!,MATCH(0,COUNTIF(U$17:U26,$I$11:$I$18),0),),"")} | V27: {=IFERROR(OFFSET(#REF!,MATCH(0,COUNTIF(V$17:V26,$K$11:$K$18),0),),"")}
N28: =#REF! -> #REF! | P28: =#REF! -> #REF!
N29: =#REF! -> #REF! | P29: =#REF! -> #REF!
N30: =#REF! -> #REF! | P30: =#REF! -> #REF!
P31: =#REF! -> #REF!
P32: =#REF! -> #REF!
N33: SEMAINE APRÈS MATCH | P33: =#REF! -> #REF!
N34: SEMAINE MATCH | P34: =#REF! -> #REF!
P35: =#REF! -> #REF!
A53: 1
A54: 2
A55: 3
A56: 4
A57: 5
A58: 6
A59: 7
A60: 8
A61: 9
A62: 10
A63: 11
A64: 12
... A106: 54
B459: Équipe de Week-end :
B460: Relève du matin 14h30 :
B461: =$N$17 -> #REF!
B462: =$N$18 -> #REF!
B463: =$N$19 -> #REF!
B464: =$N$20 -> #REF!
B465: =$N$21 -> #REF!
B466: =$N$22 -> #REF!
B467: =$N$23 -> #REF!
B468: =$N$24 -> #REF!
B469: =$N$25 -> #REF!
B470: =$N$26 -> #REF!
B471: En Repos : | C471: Lundi | H471: * | I471: Mercredi / Jeudi
B472: En Congés :
B473: Informations :

Sheet 7
B1: =#REF! -> #REF! | C1: =SUM('6'!C1+1) -> 7 | K1: =MASTER!A2 -> 2018 | L1: =(#REF!) -> #REF!
B2: Répartition des Tâches
D3: =DATE(K1,1,3)-WEEKDAY(DATE(K1,1,3))+7*$C$1-5 -> 43143 | E3: =DATE(K1,1,3)-WEEKDAY(DATE(K1,1,3))+7*$C$1-5 -> 43143 | G3: au | I3: =DATE(K1,1,3)-WEEKDAY(DATE(K1,1,3))+7*$C$1-1 -> 43147
J4: =NOW() -> 43085.529
A5: FALSE | B5: =IF(A5=TRUE,$N$34,"")
A11: =('4'!W11) -> 0
R14: Lundi
N15: =IF(AND(I12<>""),(A+1)) -> FALSE | R15: Mardi
R16: Mercredi
N17: =#REF! -> #REF! | P17: =#REF! -> #REF! | R17: Jeudi
N18: =#REF! -> #REF! | P18: =#REF! -> #REF! | R18: Vendredi | U18: {=IFERROR(OFFSET(#REF!,MATCH(0,COUNTIF(U$17:U17,$I$11:$I$21),0),),"")} | V18: {=IFERROR(OFFSET(#REF!,MATCH(0,COUNTIF(V$17:V17,$K$11:$K$21),0),),"")}
N19: =#REF! -> #REF! | P19: =#REF! -> #REF! | U19: {=IFERROR(OFFSET(#REF!,MATCH(0,COUNTIF(U$17:U18,$I$11:$I$21),0),),"")} | V19: {=IFERROR(OFFSET(#REF!,MATCH(0,COUNTIF(V$17:V18,$K$11:$K$21),0),),"")}
N20: =#REF! -> #REF! | O20: / | P20: =#REF! -> #REF! | R20: * | U20: {=IFERROR(OFFSET(#REF!,MATCH(0,COUNTIF(U$17:U19,$I$11:$I$21),0),),"")} | V20: {=IFERROR(OFFSET(#REF!,MATCH(0,COUNTIF(V$17:V19,$K$11:$K$21),0),),"")}
N21: =#REF! -> #REF! | O21: X | U21: {=IFERROR(OFFSET(#REF!,MATCH(0,COUNTIF(U$17:U20,$I$11:$I$21),0),),"")} | V21: {=IFERROR(OFFSET(#REF!,MATCH(0,COUNTIF(V$17:V20,$K$11:$K$21),0),),"")}
N22: =#REF! -> #REF! | U22: {=IFERROR(OFFSET(#REF!,MATCH(0,COUNTIF(U$17:U21,$I$11:$I$21),0),),"")} | V22: {=IFERROR(OFFSET(#REF!,MATCH(0,COUNTIF(V$17:V21,$K$11:$K$21),0),),"")}
N23: =#REF! -> #REF! | U23: {=IFERROR(OFFSET(#REF!,MATCH(0,COUNTIF(U$17:U22,$I$11:$I$21),0),),"")} | V23: {=IFERROR(OFFSET(#REF!,MATCH(0,COUNTIF(V$17:V22,$K$11:$K$21),0),),"")}
N24: =#REF! -> #REF! | P24: =#REF! -> #REF! | U24: {=IFERROR(OFFSET(#REF!,MATCH(0,COUNTIF(U$17:U23,$I$11:$I$21),0),),"")} | V24: {=IFERROR(OFFSET(#REF!,MATCH(0,COUNTIF(V$17:V23,$K$11:$K$21),0),),"")}
N25: =#REF! -> #REF! | P25: =#REF! -> #REF! | U25: {=IFERROR(OFFSET(#REF!,MATCH(0,COUNTIF(U$17:U24,$I$11:$I$21),0),),"")} | V25: {=IFERROR(OFFSET(#REF!,MATCH(0,COUNTIF(V$17:V24,$K$11:$K$21),0),),"")}
N26: =#REF! -> #REF! | P26: =#REF! -> #REF! | U26: {=IFERROR(OFFSET(#REF!,MATCH(0,COUNTIF(U$17:U25,$I$11:$I$21),0),),"")} | V26: {=IFERROR(OFFSET(#REF!,MATCH(0,COUNTIF(V$17:V25,$K$11:$K$21),0),),"")}
P27: =#REF! -> #REF! | U27: {=IFERROR(OFFSET(#REF!,MATCH(0,COUNTIF(U$17:U26,$I$11:$I$18),0),),"")} | V27: {=IFERROR(OFFSET(#REF!,MATCH(0,COUNTIF(V$17:V26,$K$11:$K$18),0),),"")}
N28: =#REF! -> #REF! | P28: =#REF! -> #REF!
N29: =#REF! -> #REF! | P29: =#REF! -> #REF!
N30: =#REF! -> #REF! | P30: =#REF! -> #REF!
P31: =#REF! -> #REF!
P32: =#REF! -> #REF!
N33: SEMAINE APRÈS MATCH | P33: =#REF! -> #REF!
N34: SEMAINE MATCH | P34: =#REF! -> #REF!
P35: =#REF! -> #REF!
A53: 1
A54: 2
A55: 3
A56: 4
A57: 5
A58: 6
A59: 7
A60: 8
A61: 9
A62: 10
A63: 11
A64: 12
... A106: 54
B459: Équipe de Week-end :
B460: Relève du matin 14h30 :
B461: =$N$17 -> #REF!
B462: =$N$18 -> #REF!
B463: =$N$19 -> #REF!
B464: =$N$20 -> #REF!
B465: =$N$21 -> #REF!
B466: =$N$22 -> #REF!
B467: =$N$23 -> #REF!
B468: =$N$24 -> #REF!
B469: =$N$25 -> #REF!
B470: =$N$26 -> #REF!
B471: En Repos : | C471: Lundi | H471: * | I471: Mercredi / Jeudi
B472: En Congés :
B473: Informations :

Sheet 8
B1: =#REF! -> #REF! | C1: =SUM('7'!C1+1) -> 8 | K1: =MASTER!A2 -> 2018 | L1: =(#REF!) -> #REF!
B2: Répartition des Tâches
D3: =DATE(K1,1,3)-WEEKDAY(DATE(K1,1,3))+7*$C$1-5 -> 43150 | E3: =DATE(K1,1,3)-WEEKDAY(DATE(K1,1,3))+7*$C$1-5 -> 43150 | G3: au | I3: =DATE(K1,1,3)-WEEKDAY(DATE(K1,1,3))+7*$C$1-1 -> 43154
J4: =NOW() -> 43085.529
B5: =IF(A5=TRUE,$N$34,"")
A11: =('5'!W10) -> 0
R14: Lundi
N15: =IF(AND(I12<>""),(A+1)) -> FALSE | R15: Mardi
R16: Mercredi
N17: =#REF! -> #REF! | P17: =#REF! -> #REF! | R17: Jeudi
N18: =#REF! -> #REF! | P18: =#REF! -> #REF! | R18: Vendredi | U18: {=IFERROR(OFFSET(#REF!,MATCH(0,COUNTIF(U$17:U17,$I$11:$I$21),0),),"")} | V18: {=IFERROR(OFFSET(#REF!,MATCH(0,COUNTIF(V$17:V17,$K$11:$K$21),0),),"")}
N19: =#REF! -> #REF! | P19: =#REF! -> #REF! | U19: {=IFERROR(OFFSET(#REF!,MATCH(0,COUNTIF(U$17:U18,$I$11:$I$21),0),),"")} | V19: {=IFERROR(OFFSET(#REF!,MATCH(0,COUNTIF(V$17:V18,$K$11:$K$21),0),),"")}
N20: =#REF! -> #REF! | O20: / | P20: =#REF! -> #REF! | R20: * | U20: {=IFERROR(OFFSET(#REF!,MATCH(0,COUNTIF(U$17:U19,$I$11:$I$21),0),),"")} | V20: {=IFERROR(OFFSET(#REF!,MATCH(0,COUNTIF(V$17:V19,$K$11:$K$21),0),),"")}
N21: =#REF! -> #REF! | O21: X | U21: {=IFERROR(OFFSET(#REF!,MATCH(0,COUNTIF(U$17:U20,$I$11:$I$21),0),),"")} | V21: {=IFERROR(OFFSET(#REF!,MATCH(0,COUNTIF(V$17:V20,$K$11:$K$21),0),),"")}
N22: =#REF! -> #REF! | U22: {=IFERROR(OFFSET(#REF!,MATCH(0,COUNTIF(U$17:U21,$I$11:$I$21),0),),"")} | V22: {=IFERROR(OFFSET(#REF!,MATCH(0,COUNTIF(V$17:V21,$K$11:$K$21),0),),"")}
N23: =#REF! -> #REF! | U23: {=IFERROR(OFFSET(#REF!,MATCH(0,COUNTIF(U$17:U22,$I$11:$I$21),0),),"")} | V23: {=IFERROR(OFFSET(#REF!,MATCH(0,COUNTIF(V$17:V22,$K$11:$K$21),0),),"")}
N24: =#REF! -> #REF! | P24: =#REF! -> #REF! | U24: {=IFERROR(OFFSET(#REF!,MATCH(0,COUNTIF(U$17:U23,$I$11:$I$21),0),),"")} | V24: {=IFERROR(OFFSET(#REF!,MATCH(0,COUNTIF(V$17:V23,$K$11:$K$21),0),),"")}
A25: FALSE | N25: =#REF! -> #REF! | P25: =#REF! -> #REF! | U25: {=IFERROR(OFFSET(#REF!,MATCH(0,COUNTIF(U$17:U24,$I$11:$I$21),0),),"")} | V25: {=IFERROR(OFFSET(#REF!,MATCH(0,COUNTIF(V$17:V24,$K$11:$K$21),0),),"")}
N26: =#REF! -> #REF! | P26: =#REF! -> #REF! | U26: {=IFERROR(OFFSET(#REF!,MATCH(0,COUNTIF(U$17:U25,$I$11:$I$21),0),),"")} | V26: {=IFERROR(OFFSET(#REF!,MATCH(0,COUNTIF(V$17:V25,$K$11:$K$21),0),),"")}
P27: =#REF! -> #REF! | U27: {=IFERROR(OFFSET(#REF!,MATCH(0,COUNTIF(U$17:U26,$I$11:$I$18),0),),"")} | V27: {=IFERROR(OFFSET(#REF!,MATCH(0,COUNTIF(V$17:V26,$K$11:$K$18),0),),"")}
N28: =#REF! -> #REF! | P28: =#REF! -> #REF!
N29: =#REF! -> #REF! | P29: =#REF! -> #REF!
N30: =#REF! -> #REF! | P30: =#REF! -> #REF!
P31: =#REF! -> #REF!
P32: =#REF! -> #REF!
N33: SEMAINE APRÈS MATCH | P33: =#REF! -> #REF!
N34: SEMAINE MATCH | P34: =#REF! -> #REF!
P35: =#REF! -> #REF!
A53: 1
A54: 2
A55: 3
A56: 4
A57: 5
A58: 6
A59: 7
A60: 8
A61: 9
A62: 10
A63: 11
A64: 12
... A106: 54
B459: Équipe de Week-end :
B460: Relève du matin 14h30 :
B461: =$N$17 -> #REF!
B462: =$N$18 -> #REF!
B463: =$N$19 -> #REF!
B464: =$N$20 -> #REF!
B465: =$N$21 -> #REF!
B466: =$N$22 -> #REF!
B467: =$N$23 -> #REF!
B468: =$N$24 -> #REF!
B469: =$N$25 -> #REF!
B470: =$N$26 -> #REF!
B471: En Repos : | C471: Lundi | H471: * | I471: Mercredi / Jeudi
B472: En Congés :
B473: Informations :

Sheet 9
B1: =#REF! -> #REF! | C1: =SUM('8'!C1+1) -> 9 | K1: =MASTER!A2 -> 2018 | L1: =(#REF!) -> #REF!
B2: Répartition des Tâches
D3: =DATE(K1,1,3)-WEEKDAY(DATE(K1,1,3))+7*$C$1-5 -> 43157 | E3: =DATE(K1,1,3)-WEEKDAY(DATE(K1,1,3))+7*$C$1-5 -> 43157 | G3: au | I3: =DATE(K1,1,3)-WEEKDAY(DATE(K1,1,3))+7*$C$1-1 -> 43161
J4: =NOW() -> 43085.529
A5: FALSE | B5: =IF(A5=TRUE,$N$34,"")
R14: Lundi
N15: =IF(AND(I12<>""),(A+1)) -> FALSE | R15: Mardi
R16: Mercredi
N17: =#REF! -> #REF! | P17: =#REF! -> #REF! | R17: Jeudi
N18: =#REF! -> #REF! | P18: =#REF! -> #REF! | R18: Vendredi | U18: {=IFERROR(OFFSET(#REF!,MATCH(0,COUNTIF(U$17:U17,$I$11:$I$21),0),),"")} | V18: {=IFERROR(OFFSET(#REF!,MATCH(0,COUNTIF(V$17:V17,$K$11:$K$21),0),),"")}
N19: =#REF! -> #REF! | P19: =#REF! -> #REF! | U19: {=IFERROR(OFFSET(#REF!,MATCH(0,COUNTIF(U$17:U18,$I$11:$I$21),0),),"")} | V19: {=IFERROR(OFFSET(#REF!,MATCH(0,COUNTIF(V$17:V18,$K$11:$K$21),0),),"")}
N20: =#REF! -> #REF! | O20: / | P20: =#REF! -> #REF! | R20: * | U20: {=IFERROR(OFFSET(#REF!,MATCH(0,COUNTIF(U$17:U19,$I$11:$I$21),0),),"")} | V20: {=IFERROR(OFFSET(#REF!,MATCH(0,COUNTIF(V$17:V19,$K$11:$K$21),0),),"")}
N21: =#REF! -> #REF! | O21: X | U21: {=IFERROR(OFFSET(#REF!,MATCH(0,COUNTIF(U$17:U20,$I$11:$I$21),0),),"")} | V21: {=IFERROR(OFFSET(#REF!,MATCH(0,COUNTIF(V$17:V20,$K$11:$K$21),0),),"")}
N22: =#REF! -> #REF! | U22: {=IFERROR(OFFSET(#REF!,MATCH(0,COUNTIF(U$17:U21,$I$11:$I$21),0),),"")} | V22: {=IFERROR(OFFSET(#REF!,MATCH(0,COUNTIF(V$17:V21,$K$11:$K$21),0),),"")}
N23: =#REF! -> #REF! | U23: {=IFERROR(OFFSET(#REF!,MATCH(0,COUNTIF(U$17:U22,$I$11:$I$21),0),),"")} | V23: {=IFERROR(OFFSET(#REF!,MATCH(0,COUNTIF(V$17:V22,$K$11:$K$21),0),),"")}
N24: =#REF! -> #REF! | P24: =#REF! -> #REF! | U24: {=IFERROR(OFFSET(#REF!,MATCH(0,COUNTIF(U$17:U23,$I$11:$I$21),0),),"")} | V24: {=IFERROR(OFFSET(#REF!,MATCH(0,COUNTIF(V$17:V23,$K$11:$K$21),0),),"")}
N25: =#REF! -> #REF! | P25: =#REF! -> #REF! | U25: {=IFERROR(OFFSET(#REF!,MATCH(0,COUNTIF(U$17:U24,$I$11:$I$21),0),),"")} | V25: {=IFERROR(OFFSET(#REF!,MATCH(0,COUNTIF(V$17:V24,$K$11:$K$21),0),),"")}
N26: =#REF! -> #REF! | P26: =#REF! -> #REF! | U26: {=IFERROR(OFFSET(#REF!,MATCH(0,COUNTIF(U$17:U25,$I$11:$I$21),0),),"")} | V26: {=IFERROR(OFFSET(#REF!,MATCH(0,COUNTIF(V$17:V25,$K$11:$K$21),0),),"")}
P27: =#REF! -> #REF! | U27: {=IFERROR(OFFSET(#REF!,MATCH(0,COUNTIF(U$17:U26,$I$11:$I$18),0),),"")} | V27: {=IFERROR(OFFSET(#REF!,MATCH(0,COUNTIF(V$17:V26,$K$11:$K$18),0),),"")}
N28: =#REF! -> #REF! | P28: =#REF! -> #REF!
N29: =#REF! -> #REF! | P29: =#REF! -> #REF!
N30: =#REF! -> #REF! | P30: =#REF! -> #REF!
P31: =#REF! -> #REF!
P32: =#REF! -> #REF!
N33: SEMAINE APRÈS MATCH | P33: =#REF! -> #REF!
N34: SEMAINE MATCH | P34: =#REF! -> #REF!
P35: =#REF! -> #REF!
A53: 1
A54: 2
A55: 3
A56: 4
A57: 5
A58: 6
A59: 7
A60: 8
A61: 9
A62: 10
A63: 11
A64: 12
... A106: 54
B459: Équipe de Week-end :
B460: Relève du matin 14h30 :
B461: =$N$17 -> #REF!
B462: =$N$18 -> #REF!
B463: =$N$19 -> #REF!
B464: =$N$20 -> #REF!
B465: =$N$21 -> #REF!
B466: =$N$22 -> #REF!
B467: =$N$23 -> #REF!
B468: =$N$24 -> #REF!
B469: =$N$25 -> #REF!
B470: =$N$26 -> #REF!
B471: En Repos : | C471: Lundi | H471: * | I471: Mercredi / Jeudi
B472: En Congés :
B473: Informations :

Sheet 10
B1: =#REF! -> #REF! | C1: =SUM('9'!C1+1) -> 10 | K1: =MASTER!A2 -> 2018 | L1: =(#REF!) -> #REF!
B2: Répartition des Tâches
D3: =DATE(K1,1,3)-WEEKDAY(DATE(K1,1,3))+7*$C$1-5 -> 43164 | E3: =DATE(K1,1,3)-WEEKDAY(DATE(K1,1,3))+7*$C$1-5 -> 43164 | G3: au | I3: =DATE(K1,1,3)-WEEKDAY(DATE(K1,1,3))+7*$C$1-1 -> 43168
J4: =NOW() -> 43085.529
B5: =IF(A5=TRUE,$N$34,"")
R14: Lundi
N15: =IF(AND(I12<>""),(A+1)) -> FALSE | R15: Mardi
R16: Mercredi
N17: =#REF! -> #REF! | P17: =#REF! -> #REF! | R17: Jeudi
N18: =#REF! -> #REF! | P18: =#REF! -> #REF! | R18: Vendredi | U18: {=IFERROR(OFFSET(#REF!,MATCH(0,COUNTIF(U$17:U17,$I$11:$I$21),0),),"")} | V18: {=IFERROR(OFFSET(#REF!,MATCH(0,COUNTIF(V$17:V17,$K$11:$K$21),0),),"")}
N19: =#REF! -> #REF! | P19: =#REF! -> #REF! | U19: {=IFERROR(OFFSET(#REF!,MATCH(0,COUNTIF(U$17:U18,$I$11:$I$21),0),),"")} | V19: {=IFERROR(OFFSET(#REF!,MATCH(0,COUNTIF(V$17:V18,$K$11:$K$21),0),),"")}
N20: =#REF! -> #REF! | O20: / | P20: =#REF! -> #REF! | R20: * | U20: {=IFERROR(OFFSET(#REF!,MATCH(0,COUNTIF(U$17:U19,$I$11:$I$21),0),),"")} | V20: {=IFERROR(OFFSET(#REF!,MATCH(0,COUNTIF(V$17:V19,$K$11:$K$21),0),),"")}
N21: =#REF! -> #REF! | O21: X | U21: {=IFERROR(OFFSET(#REF!,MATCH(0,COUNTIF(U$17:U20,$I$11:$I$21),0),),"")} | V21: {=IFERROR(OFFSET(#REF!,MATCH(0,COUNTIF(V$17:V20,$K$11:$K$21),0),),"")}
N22: =#REF! -> #REF! | U22: {=IFERROR(OFFSET(#REF!,MATCH(0,COUNTIF(U$17:U21,$I$11:$I$21),0),),"")} | V22: {=IFERROR(OFFSET(#REF!,MATCH(0,COUNTIF(V$17:V21,$K$11:$K$21),0),),"")}
N23: =#REF! -> #REF! | U23: {=IFERROR(OFFSET(#REF!,MATCH(0,COUNTIF(U$17:U22,$I$11:$I$21),0),),"")} | V23: {=IFERROR(OFFSET(#REF!,MATCH(0,COUNTIF(V$17:V22,$K$11:$K$21),0),),"")}
N24: =#REF! -> #REF! | P24: =#REF! -> #REF! | U24: {=IFERROR(OFFSET(#REF!,MATCH(0,COUNTIF(U$17:U23,$I$11:$I$21),0),),"")} | V24: {=IFERROR(OFFSET(#REF!,MATCH(0,COUNTIF(V$17:V23,$K$11:$K$21),0),),"")}
A25: FALSE | N25: =#REF! -> #REF! | P25: =#REF! -> #REF! | U25: {=IFERROR(OFFSET(#REF!,MATCH(0,COUNTIF(U$17:U24,$I$11:$I$21),0),),"")} | V25: {=IFERROR(OFFSET(#REF!,MATCH(0,COUNTIF(V$17:V24,$K$11:$K$21),0),),"")}
N26: =#REF! -> #REF! | P26: =#REF! -> #REF! | U26: {=IFERROR(OFFSET(#REF!,MATCH(0,COUNTIF(U$17:U25,$I$11:$I$21),0),),"")} | V26: {=IFERROR(OFFSET(#REF!,MATCH(0,COUNTIF(V$17:V25,$K$11:$K$21),0),),"")}
P27: =#REF! -> #REF! | U27: {=IFERROR(OFFSET(#REF!,MATCH(0,COUNTIF(U$17:U26,$I$11:$I$18),0),),"")} | V27: {=IFERROR(OFFSET(#REF!,MATCH(0,COUNTIF(V$17:V26,$K$11:$K$18),0),),"")}
N28: =#REF! -> #REF! | P28: =#REF! -> #REF!
N29: =#REF! -> #REF! | P29: =#REF! -> #REF!
N30: =#REF! -> #REF! | P30: =#REF! -> #REF!
P31: =#REF! -> #REF!
P32: =#REF! -> #REF!
N33: SEMAINE APRÈS MATCH | P33: =#REF! -> #REF!
N34: SEMAINE MATCH | P34: =#REF! -> #REF!
P35: =#REF! -> #REF!
A53: 1
A54: 2
A55: 3
A56: 4
A57: 5
A58: 6
A59: 7
A60: 8
A61: 9
A62: 10
A63: 11
A64: 12
... A106: 54
B459: Équipe de Week-end :
B460: Relève du matin 14h30 :
B461: =$N$17 -> #REF!
B462: =$N$18 -> #REF!
B463: =$N$19 -> #REF!
B464: =$N$20 -> #REF!
B465: =$N$21 -> #REF!
B466: =$N$22 -> #REF!
B467: =$N$23 -> #REF!
B468: =$N$24 -> #REF!
B469: =$N$25 -> #REF!
B470: =$N$26 -> #REF!
B471: En Repos : | C471: Lundi | H471: * | I471: Mercredi / Jeudi
B472: En Congés :
B473: Informations :

Sheet 11
B1: =#REF! -> #REF! | C1: =SUM('10'!C1+1) -> 11 | K1: =MASTER!A2 -> 2018 | L1: =(#REF!) -> #REF!
B2: Répartition des Tâches
D3: =DATE(K1,1,3)-WEEKDAY(DATE(K1,1,3))+7*$C$1-5 -> 43171 | E3: =DATE(K1,1,3)-WEEKDAY(DATE(K1,1,3))+7*$C$1-5 -> 43171 | G3: au | I3: =DATE(K1,1,3)-WEEKDAY(DATE(K1,1,3))+7*$C$1-1 -> 43175
J4: =NOW() -> 43085.529
A5: FALSE | B5: =IF(A5=TRUE,$N$34,"")
R14: Lundi
N15: =IF(AND(I12<>""),(A+1)) -> FALSE | R15: Mardi
R16: Mercredi
N17: =#REF! -> #REF! | P17: =#REF! -> #REF! | R17: Jeudi
N18: =#REF! -> #REF! | P18: =#REF! -> #REF! | R18: Vendredi | U18: {=IFERROR(OFFSET(#REF!,MATCH(0,COUNTIF(U$17:U17,$I$11:$I$21),0),),"")} | V18: {=IFERROR(OFFSET(#REF!,MATCH(0,COUNTIF(V$17:V17,$K$11:$K$21),0),),"")}
N19: =#REF! -> #REF! | P19: =#REF! -> #REF! | U19: {=IFERROR(OFFSET(#REF!,MATCH(0,COUNTIF(U$17:U18,$I$11:$I$21),0),),"")} | V19: {=IFERROR(OFFSET(#REF!,MATCH(0,COUNTIF(V$17:V18,$K$11:$K$21),0),),"")}
N20: =#REF! -> #REF! | O20: / | P20: =#REF! -> #REF! | R20: * | U20: {=IFERROR(OFFSET(#REF!,MATCH(0,COUNTIF(U$17:U19,$I$11:$I$21),0),),"")} | V20: {=IFERROR(OFFSET(#REF!,MATCH(0,COUNTIF(V$17:V19,$K$11:$K$21),0),),"")}
N21: =#REF! -> #REF! | O21: X | U21: {=IFERROR(OFFSET(#REF!,MATCH(0,COUNTIF(U$17:U20,$I$11:$I$21),0),),"")} | V21: {=IFERROR(OFFSET(#REF!,MATCH(0,COUNTIF(V$17:V20,$K$11:$K$21),0),),"")}
N22: =#REF! -> #REF! | U22: {=IFERROR(OFFSET(#REF!,MATCH(0,COUNTIF(U$17:U21,$I$11:$I$21),0),),"")} | V22: {=IFERROR(OFFSET(#REF!,MATCH(0,COUNTIF(V$17:V21,$K$11:$K$21),0),),"")}
N23: =#REF! -> #REF! | U23: {=IFERROR(OFFSET(#REF!,MATCH(0,COUNTIF(U$17:U22,$I$11:$I$21),0),),"")} | V23: {=IFERROR(OFFSET(#REF!,MATCH(0,COUNTIF(V$17:V22,$K$11:$K$21),0),),"")}
N24: =#REF! -> #REF! | P24: =#REF! -> #REF! | U24: {=IFERROR(OFFSET(#REF!,MATCH(0,COUNTIF(U$17:U23,$I$11:$I$21),0),),"")} | V24: {=IFERROR(OFFSET(#REF!,MATCH(0,COUNTIF(V$17:V23,$K$11:$K$21),0),),"")}
N25: =#REF! -> #REF! | P25: =#REF! -> #REF! | U25: {=IFERROR(OFFSET(#REF!,MATCH(0,COUNTIF(U$17:U24,$I$11:$I$21),0),),"")} | V25: {=IFERROR(OFFSET(#REF!,MATCH(0,COUNTIF(V$17:V24,$K$11:$K$21),0),),"")}
N26: =#REF! -> #REF! | P26: =#REF! -> #REF! | U26: {=IFERROR(OFFSET(#REF!,MATCH(0,COUNTIF(U$17:U25,$I$11:$I$21),0),),"")} | V26: {=IFERROR(OFFSET(#REF!,MATCH(0,COUNTIF(V$17:V25,$K$11:$K$21),0),),"")}
P27: =#REF! -> #REF! | U27: {=IFERROR(OFFSET(#REF!,MATCH(0,COUNTIF(U$17:U26,$I$11:$I$18),0),),"")} | V27: {=IFERROR(OFFSET(#REF!,MATCH(0,COUNTIF(V$17:V26,$K$11:$K$18),0),),"")}
N28: =#REF! -> #REF! | P28: =#REF! -> #REF!
N29: =#REF! -> #REF! | P29: =#REF! -> #REF!
N30: =#REF! -> #REF! | P30: =#REF! -> #REF!
P31: =#REF! -> #REF!
P32: =#REF! -> #REF!
N33: SEMAINE APRÈS MATCH | P33: =#REF! -> #REF!
N34: SEMAINE MATCH | P34: =#REF! -> #REF!
P35: =#REF! -> #REF!
A53: 1
A54: 2
A55: 3
A56: 4
A57: 5
A58: 6
A59: 7
A60: 8
A61: 9
A62: 10
A63: 11
A64: 12
... A106: 54
B459: Équipe de Week-end :
B460: Relève du matin 14h30 :
B461: =$N$17 -> #REF!
B462: =$N$18 -> #REF!
B463: =$N$19 -> #REF!
B464: =$N$20 -> #REF!
B465: =$N$21 -> #REF!
B466: =$N$22 -> #REF!
B467: =$N$23 -> #REF!
B468: =$N$24 -> #REF!
B469: =$N$25 -> #REF!
B470: =$N$26 -> #REF!
B471: En Repos : | C471: Lundi | H471: * | I471: Mercredi / Jeudi
B472: En Congés :
B473: Informations :

Sheet 12
B1: =#REF! -> #REF! | C1: =SUM('11'!C1+1) -> 12 | K1: =MASTER!A2 -> 2018 | L1: =(#REF!) -> #REF!
B2: Répartition des Tâches
D3: =DATE(K1,1,3)-WEEKDAY(DATE(K1,1,3))+7*$C$1-5 -> 43178 | E3: =DATE(K1,1,3)-WEEKDAY(DATE(K1,1,3))+7*$C$1-5 -> 43178 | G3: au | I3: =DATE(K1,1,3)-WEEKDAY(DATE(K1,1,3))+7*$C$1-1 -> 43182
J4: =NOW() -> 43085.529
B5: =IF(A5=TRUE,$N$34,"")
R14: Lundi
N15: =IF(AND(I12<>""),(A+1)) -> FALSE | R15: Mardi
R16: Mercredi
N17: =#REF! -> #REF! | P17: =#REF! -> #REF! | R17: Jeudi
N18: =#REF! -> #REF! | P18: =#REF! -> #REF! | R18: Vendredi | U18: {=IFERROR(OFFSET(#REF!,MATCH(0,COUNTIF(U$17:U17,$I$11:$I$21),0),),"")} | V18: {=IFERROR(OFFSET(#REF!,MATCH(0,COUNTIF(V$17:V17,$K$11:$K$21),0),),"")}
N19: =#REF! -> #REF! | P19: =#REF! -> #REF! | U19: {=IFERROR(OFFSET(#REF!,MATCH(0,COUNTIF(U$17:U18,$I$11:$I$21),0),),"")} | V19: {=IFERROR(OFFSET(#REF!,MATCH(0,COUNTIF(V$17:V18,$K$11:$K$21),0),),"")}
N20: =#REF! -> #REF! | O20: / | P20: =#REF! -> #REF! | R20: * | U20: {=IFERROR(OFFSET(#REF!,MATCH(0,COUNTIF(U$17:U19,$I$11:$I$21),0),),"")} | V20: {=IFERROR(OFFSET(#REF!,MATCH(0,COUNTIF(V$17:V19,$K$11:$K$21),0),),"")}
N21: =#REF! -> #REF! | O21: X | U21: {=IFERROR(OFFSET(#REF!,MATCH(0,COUNTIF(U$17:U20,$I$11:$I$21),0),),"")} | V21: {=IFERROR(OFFSET(#REF!,MATCH(0,COUNTIF(V$17:V20,$K$11:$K$21),0),),"")}
N22: =#REF! -> #REF! | U22: {=IFERROR(OFFSET(#REF!,MATCH(0,COUNTIF(U$17:U21,$I$11:$I$21),0),),"")} | V22: {=IFERROR(OFFSET(#REF!,MATCH(0,COUNTIF(V$17:V21,$K$11:$K$21),0),),"")}
N23: =#REF! -> #REF! | U23: {=IFERROR(OFFSET(#REF!,MATCH(0,COUNTIF(U$17:U22,$I$11:$I$21),0),),"")} | V23: {=IFERROR(OFFSET(#REF!,MATCH(0,COUNTIF(V$17:V22,$K$11:$K$21),0),),"")}
N24: =#REF! -> #REF! | P24: =#REF! -> #REF! | U24: {=IFERROR(OFFSET(#REF!,MATCH(0,COUNTIF(U$17:U23,$I$11:$I$21),0),),"")} | V24: {=IFERROR(OFFSET(#REF!,MATCH(0,COUNTIF(V$17:V23,$K$11:$K$21),0),),"")}
A25: FALSE | N25: =#REF! -> #REF! | P25: =#REF! -> #REF! | U25: {=IFERROR(OFFSET(#REF!,MATCH(0,COUNTIF(U$17:U24,$I$11:$I$21),0),),"")} | V25: {=IFERROR(OFFSET(#REF!,MATCH(0,COUNTIF(V$17:V24,$K$11:$K$21),0),),"")}
N26: =#REF! -> #REF! | P26: =#REF! -> #REF! | U26: {=IFERROR(OFFSET(#REF!,MATCH(0,COUNTIF(U$17:U25,$I$11:$I$21),0),),"")} | V26: {=IFERROR(OFFSET(#REF!,MATCH(0,COUNTIF(V$17:V25,$K$11:$K$21),0),),"")}
P27: =#REF! -> #REF! | U27: {=IFERROR(OFFSET(#REF!,MATCH(0,COUNTIF(U$17:U26,$I$11:$I$18),0),),"")} | V27: {=IFERROR(OFFSET(#REF!,MATCH(0,COUNTIF(V$17:V26,$K$11:$K$18),0),),"")}
N28: =#REF! -> #REF! | P28: =#REF! -> #REF!
N29: =#REF! -> #REF! | P29: =#REF! -> #REF!
N30: =#REF! -> #REF! | P30: =#REF! -> #REF!
P31: =#REF! -> #REF!
P32: =#REF! -> #REF!
N33: SEMAINE APRÈS MATCH | P33: =#REF! -> #REF!
N34: SEMAINE MATCH | P34: =#REF! -> #REF!
P35: =#REF! -> #REF!
A53: 1
A54: 2
A55: 3
A56: 4
A57: 5
A58: 6
A59: 7
A60: 8
A61: 9
A62: 10
A63: 11
A64: 12
... A106: 54
B459: Équipe de Week-end :
B460: Relève du matin 14h30 :
B461: =$N$17 -> #REF!
B462: =$N$18 -> #REF!
B463: =$N$19 -> #REF!
B464: =$N$20 -> #REF!
B465: =$N$21 -> #REF!
B466: =$N$22 -> #REF!
B467: =$N$23 -> #REF!
B468: =$N$24 -> #REF!
B469: =$N$25 -> #REF!
B470: =$N$26 -> #REF!
B471: En Repos : | C471: Lundi | H471: * | I471: Mercredi / Jeudi
B472: En Congés :
B473: Informations :

Sheet 13
B1: =#REF! -> #REF! | C1: =SUM('12'!C1+1) -> 13 | K1: =MASTER!A2 -> 2018 | L1: =(#REF!) -> #REF!
B2: Répartition des Tâches
D3: =DATE(K1,1,3)-WEEKDAY(DATE(K1,1,3))+7*$C$1-5 -> 43185 | E3: =DATE(K1,1,3)-WEEKDAY(DATE(K1,1,3))+7*$C$1-5 -> 43185 | G3: au | I3: =DATE(K1,1,3)-WEEKDAY(DATE(K1,1,3))+7*$C$1-1 -> 43189
J4: =NOW() -> 43085.529
A5: FALSE | B5: =IF(A5=TRUE,$N$34,"")
R14: Lundi
N15: =IF(AND(I12<>""),(A+1)) -> FALSE | R15: Mardi
R16: Mercredi
N17: =#REF! -> #REF! | P17: =#REF! -> #REF! | R17: Jeudi
N18: =#REF! -> #REF! | P18: =#REF! -> #REF! | R18: Vendredi | U18: {=IFERROR(OFFSET(#REF!,MATCH(0,COUNTIF(U$17:U17,$I$11:$I$21),0),),"")} | V18: {=IFERROR(OFFSET(#REF!,MATCH(0,COUNTIF(V$17:V17,$K$11:$K$21),0),),"")}
N19: =#REF! -> #REF! | P19: =#REF! -> #REF! | U19: {=IFERROR(OFFSET(#REF!,MATCH(0,COUNTIF(U$17:U18,$I$11:$I$21),0),),"")} | V19: {=IFERROR(OFFSET(#REF!,MATCH(0,COUNTIF(V$17:V18,$K$11:$K$21),0),),"")}
N20: =#REF! -> #REF! | O20: / | P20: =#REF! -> #REF! | R20: * | U20: {=IFERROR(OFFSET(#REF!,MATCH(0,COUNTIF(U$17:U19,$I$11:$I$21),0),),"")} | V20: {=IFERROR(OFFSET(#REF!,MATCH(0,COUNTIF(V$17:V19,$K$11:$K$21),0),),"")}
N21: =#REF! -> #REF! | O21: X | U21: {=IFERROR(OFFSET(#REF!,MATCH(0,COUNTIF(U$17:U20,$I$11:$I$21),0),),"")} | V21: {=IFERROR(OFFSET(#REF!,MATCH(0,COUNTIF(V$17:V20,$K$11:$K$21),0),),"")}
N22: =#REF! -> #REF! | U22: {=IFERROR(OFFSET(#REF!,MATCH(0,COUNTIF(U$17:U21,$I$11:$I$21),0),),"")} | V22: {=IFERROR(OFFSET(#REF!,MATCH(0,COUNTIF(V$17:V21,$K$11:$K$21),0),),"")}
N23: =#REF! -> #REF! | U23: {=IFERROR(OFFSET(#REF!,MATCH(0,COUNTIF(U$17:U22,$I$11:$I$21),0),),"")} | V23: {=IFERROR(OFFSET(#REF!,MATCH(0,COUNTIF(V$17:V22,$K$11:$K$21),0),),"")}
N24: =#REF! -> #REF! | P24: =#REF! -> #REF! | U24: {=IFERROR(OFFSET(#REF!,MATCH(0,COUNTIF(U$17:U23,$I$11:$I$21),0),),"")} | V24: {=IFERROR(OFFSET(#REF!,MATCH(0,COUNTIF(V$17:V23,$K$11:$K$21),0),),"")}
N25: =#REF! -> #REF! | P25: =#REF! -> #REF! | U25: {=IFERROR(OFFSET(#REF!,MATCH(0,COUNTIF(U$17:U24,$I$11:$I$21),0),),"")} | V25: {=IFERROR(OFFSET(#REF!,MATCH(0,COUNTIF(V$17:V24,$K$11:$K$21),0),),"")}
N26: =#REF! -> #REF! | P26: =#REF! -> #REF! | U26: {=IFERROR(OFFSET(#REF!,MATCH(0,COUNTIF(U$17:U25,$I$11:$I$21),0),),"")} | V26: {=IFERROR(OFFSET(#REF!,MATCH(0,COUNTIF(V$17:V25,$K$11:$K$21),0),),"")}
P27: =#REF! -> #REF! | U27: {=IFERROR(OFFSET(#REF!,MATCH(0,COUNTIF(U$17:U26,$I$11:$I$18),0),),"")} | V27: {=IFERROR(OFFSET(#REF!,MATCH(0,COUNTIF(V$17:V26,$K$11:$K$18),0),),"")}
N28: =#REF! -> #REF! | P28: =#REF! -> #REF!
N29: =#REF! -> #REF! | P29: =#REF! -> #REF!
N30: =#REF! -> #REF! | P30: =#REF! -> #REF!
P31: =#REF! -> #REF!
P32: =#REF! -> #REF!
N33: SEMAINE APRÈS MATCH | P33: =#REF! -> #REF!
N34: SEMAINE MATCH | P34: =#REF! -> #REF!
P35: =#REF! -> #REF!
A53: 1
A54: 2
A55: 3
A56: 4
A57: 5
A58: 6
A59: 7
A60: 8
A61: 9
A62: 10
A63: 11
A64: 12
... A106: 54
B459: Équipe de Week-end :
B460: Relève du matin 14h30 :
B461: =$N$17 -> #REF!
B462: =$N$18 -> #REF!
B463: =$N$19 -> #REF!
B464: =$N$20 -> #REF!
B465: =$N$21 -> #REF!
B466: =$N$22 -> #REF!
B467: =$N$23 -> #REF!
B468: =$N$24 -> #REF!
B469: =$N$25 -> #REF!
B470: =$N$26 -> #REF!
B471: En Repos : | C471: Lundi | H471: * | I471: Mercredi / Jeudi
B472: En Congés :
B473: Informations :

Sheet 14
B1: =#REF! -> #REF! | C1: =SUM('13'!C1+1) -> 14 | K1: =MASTER!A2 -> 2018 | L1: =(#REF!) -> #REF!
B2: Répartition des Tâches
D3: =DATE(K1,1,3)-WEEKDAY(DATE(K1,1,3))+7*$C$1-5 -> 43192 | E3: =DATE(K1,1,3)-WEEKDAY(DATE(K1,1,3))+7*$C$1-5 -> 43192 | G3: au | I3: =DATE(K1,1,3)-WEEKDAY(DATE(K1,1,3))+7*$C$1-1 -> 43196
J4: =NOW() -> 43085.529
B5: =IF(A5=TRUE,$N$34,"")
R14: Lundi
N15: =IF(AND(I12<>""),(A+1)) -> FALSE | R15: Mardi
R16: Mercredi
N17: =#REF! -> #REF! | P17: =#REF! -> #REF! | R17: Jeudi
N18: =#REF! -> #REF! | P18: =#REF! -> #REF! | R18: Vendredi | U18: {=IFERROR(OFFSET(#REF!,MATCH(0,COUNTIF(U$17:U17,$I$11:$I$21),0),),"")} | V18: {=IFERROR(OFFSET(#REF!,MATCH(0,COUNTIF(V$17:V17,$K$11:$K$21),0),),"")}
N19: =#REF! -> #REF! | P19: =#REF! -> #REF! | U19: {=IFERROR(OFFSET(#REF!,MATCH(0,COUNTIF(U$17:U18,$I$11:$I$21),0),),"")} | V19: {=IFERROR(OFFSET(#REF!,MATCH(0,COUNTIF(V$17:V18,$K$11:$K$21),0),),"")}
N20: =#REF! -> #REF! | O20: / | P20: =#REF! -> #REF! | R20: * | U20: {=IFERROR(OFFSET(#REF!,MATCH(0,COUNTIF(U$17:U19,$I$11:$I$21),0),),"")} | V20: {=IFERROR(OFFSET(#REF!,MATCH(0,COUNTIF(V$17:V19,$K$11:$K$21),0),),"")}
N21: =#REF! -> #REF! | O21: X | U21: {=IFERROR(OFFSET(#REF!,MATCH(0,COUNTIF(U$17:U20,$I$11:$I$21),0),),"")} | V21: {=IFERROR(OFFSET(#REF!,MATCH(0,COUNTIF(V$17:V20,$K$11:$K$21),0),),"")}
N22: =#REF! -> #REF! | U22: {=IFERROR(OFFSET(#REF!,MATCH(0,COUNTIF(U$17:U21,$I$11:$I$21),0),),"")} | V22: {=IFERROR(OFFSET(#REF!,MATCH(0,COUNTIF(V$17:V21,$K$11:$K$21),0),),"")}
N23: =#REF! -> #REF! | U23: {=IFERROR(OFFSET(#REF!,MATCH(0,COUNTIF(U$17:U22,$I$11:$I$21),0),),"")} | V23: {=IFERROR(OFFSET(#REF!,MATCH(0,COUNTIF(V$17:V22,$K$11:$K$21),0),),"")}
N24: =#REF! -> #REF! | P24: =#REF! -> #REF! | U24: {=IFERROR(OFFSET(#REF!,MATCH(0,COUNTIF(U$17:U23,$I$11:$I$21),0),),"")} | V24: {=IFERROR(OFFSET(#REF!,MATCH(0,COUNTIF(V$17:V23,$K$11:$K$21),0),),"")}
A25: FALSE | N25: =#REF! -> #REF! | P25: =#REF! -> #REF! | U25: {=IFERROR(OFFSET(#REF!,MATCH(0,COUNTIF(U$17:U24,$I$11:$I$21),0),),"")} | V25: {=IFERROR(OFFSET(#REF!,MATCH(0,COUNTIF(V$17:V24,$K$11:$K$21),0),),"")}
N26: =#REF! -> #REF! | P26: =#REF! -> #REF! | U26: {=IFERROR(OFFSET(#REF!,MATCH(0,COUNTIF(U$17:U25,$I$11:$I$21),0),),"")} | V26: {=IFERROR(OFFSET(#REF!,MATCH(0,COUNTIF(V$17:V25,$K$11:$K$21),0),),"")}
P27: =#REF! -> #REF! | U27: {=IFERROR(OFFSET(#REF!,MATCH(0,COUNTIF(U$17:U26,$I$11:$I$18),0),),"")} | V27: {=IFERROR(OFFSET(#REF!,MATCH(0,COUNTIF(V$17:V26,$K$11:$K$18),0),),"")}
N28: =#REF! -> #REF! | P28: =#REF! -> #REF!
N29: =#REF! -> #REF! | P29: =#REF! -> #REF!
N30: =#REF! -> #REF! | P30: =#REF! -> #REF!
P31: =#REF! -> #REF!
P32: =#REF! -> #REF!
N33: SEMAINE APRÈS MATCH | P33: =#REF! -> #REF!
N34: SEMAINE MATCH | P34: =#REF! -> #REF!
P35: =#REF! -> #REF!
A53: 1
A54: 2
A55: 3
A56: 4
A57: 5
A58: 6
A59: 7
A60: 8
A61: 9
A62: 10
A63: 11
A64: 12
... A106: 54
B459: Équipe de Week-end :
B460: Relève du matin 14h30 :
B461: =$N$17 -> #REF!
B462: =$N$18 -> #REF!
B463: =$N$19 -> #REF!
B464: =$N$20 -> #REF!
B465: =$N$21 -> #REF!
B466: =$N$22 -> #REF!
B467: =$N$23 -> #REF!
B468: =$N$24 -> #REF!
B469: =$N$25 -> #REF!
B470: =$N$26 -> #REF!
B471: En Repos : | C471: Lundi | H471: * | I471: Mercredi / Jeudi
B472: En Congés :
B473: Informations :

Sheet 15
B1: =#REF! -> #REF! | C1: =SUM('14'!C1+1) -> 15 | K1: =MASTER!A2 -> 2018 | L1: =(#REF!) -> #REF!
B2: Répartition des Tâches
D3: =DATE(K1,1,3)-WEEKDAY(DATE(K1,1,3))+7*$C$1-5 -> 43199 | E3: =DATE(K1,1,3)-WEEKDAY(DATE(K1,1,3))+7*$C$1-5 -> 43199 | G3: au | I3: =DATE(K1,1,3)-WEEKDAY(DATE(K1,1,3))+7*$C$1-1 -> 43203
J4: =NOW() -> 43085.529
A5: FALSE | B5: =IF(A5=TRUE,$N$34,"")
R14: Lundi
N15: =IF(AND(I12<>""),(A+1)) -> FALSE | R15: Mardi
R16: Mercredi
N17: =#REF! -> #REF! | P17: =#REF! -> #REF! | R17: Jeudi
N18: =#REF! -> #REF! | P18: =#REF! -> #REF! | R18: Vendredi | U18: {=IFERROR(OFFSET(#REF!,MATCH(0,COUNTIF(U$17:U17,$I$11:$I$21),0),),"")} | V18: {=IFERROR(OFFSET(#REF!,MATCH(0,COUNTIF(V$17:V17,$K$11:$K$21),0),),"")}
N19: =#REF! -> #REF! | P19: =#REF! -> #REF! | U19: {=IFERROR(OFFSET(#REF!,MATCH(0,COUNTIF(U$17:U18,$I$11:$I$21),0),),"")} | V19: {=IFERROR(OFFSET(#REF!,MATCH(0,COUNTIF(V$17:V18,$K$11:$K$21),0),),"")}
N20: =#REF! -> #REF! | O20: / | P20: =#REF! -> #REF! | R20: * | U20: {=IFERROR(OFFSET(#REF!,MATCH(0,COUNTIF(U$17:U19,$I$11:$I$21),0),),"")} | V20: {=IFERROR(OFFSET(#REF!,MATCH(0,COUNTIF(V$17:V19,$K$11:$K$21),0),),"")}
N21: =#REF! -> #REF! | O21: X | U21: {=IFERROR(OFFSET(#REF!,MATCH(0,COUNTIF(U$17:U20,$I$11:$I$21),0),),"")} | V21: {=IFERROR(OFFSET(#REF!,MATCH(0,COUNTIF(V$17:V20,$K$11:$K$21),0),),"")}
N22: =#REF! -> #REF! | U22: {=IFERROR(OFFSET(#REF!,MATCH(0,COUNTIF(U$17:U21,$I$11:$I$21),0),),"")} | V22: {=IFERROR(OFFSET(#REF!,MATCH(0,COUNTIF(V$17:V21,$K$11:$K$21),0),),"")}
N23: =#REF! -> #REF! | U23: {=IFERROR(OFFSET(#REF!,MATCH(0,COUNTIF(U$17:U22,$I$11:$I$21),0),),"")} | V23: {=IFERROR(OFFSET(#REF!,MATCH(0,COUNTIF(V$17:V22,$K$11:$K$21),0),),"")}
N24: =#REF! -> #REF! | P24: =#REF! -> #REF! | U24: {=IFERROR(OFFSET(#REF!,MATCH(0,COUNTIF(U$17:U23,$I$11:$I$21),0),),"")} | V24: {=IFERROR(OFFSET(#REF!,MATCH(0,COUNTIF(V$17:V23,$K$11:$K$21),0),),"")}
N25: =#REF! -> #REF! | P25: =#REF! -> #REF! | U25: {=IFERROR(OFFSET(#REF!,MATCH(0,COUNTIF(U$17:U24,$I$11:$I$21),0),),"")} | V25: {=IFERROR(OFFSET(#REF!,MATCH(0,COUNTIF(V$17:V24,$K$11:$K$21),0),),"")}
N26: =#REF! -> #REF! | P26: =#REF! -> #REF! | U26: {=IFERROR(OFFSET(#REF!,MATCH(0,COUNTIF(U$17:U25,$I$11:$I$21),0),),"")} | V26: {=IFERROR(OFFSET(#REF!,MATCH(0,COUNTIF(V$17:V25,$K$11:$K$21),0),),"")}
P27: =#REF! -> #REF! | U27: {=IFERROR(OFFSET(#REF!,MATCH(0,COUNTIF(U$17:U26,$I$11:$I$18),0),),"")} | V27: {=IFERROR(OFFSET(#REF!,MATCH(0,COUNTIF(V$17:V26,$K$11:$K$18),0),),"")}
N28: =#REF! -> #REF! | P28: =#REF! -> #REF!
N29: =#REF! -> #REF! | P29: =#REF! -> #REF!
N30: =#REF! -> #REF! | P30: =#REF! -> #REF!
P31: =#REF! -> #REF!
P32: =#REF! -> #REF!
N33: SEMAINE APRÈS MATCH | P33: =#REF! -> #REF!
N34: SEMAINE MATCH | P34: =#REF! -> #REF!
P35: =#REF! -> #REF!
A53: 1
A54: 2
A55: 3
A56: 4
A57: 5
A58: 6
A59: 7
A60: 8
A61: 9
A62: 10
A63: 11
A64: 12
... A106: 54
B459: Équipe de Week-end :
B460: Relève du matin 14h30 :
B461: =$N$17 -> #REF!
B462: =$N$18 -> #REF!
B463: =$N$19 -> #REF!
B464: =$N$20 -> #REF!
B465: =$N$21 -> #REF!
B466: =$N$22 -> #REF!
B467: =$N$23 -> #REF!
B468: =$N$24 -> #REF!
B469: =$N$25 -> #REF!
B470: =$N$26 -> #REF!
B471: En Repos : | C471: Lundi | H471: * | I471: Mercredi / Jeudi
B472: En Congés :
B473: Informations :
B478: =SI(ET(I10<>FAUX);('6'!I10))
B480: =SI(I10<>$A$2;A2;A3)
