Workbook

Sheet Listing
B2: Listing Dirigeants Manifestations - Saison 2016/2017
B4: Nom | C4: Prénom | D4: Portable | E4: Fixe | F4: Mail
B5: xx | C5: Loic Sofian | G5: ;
B6: xx | C6: Sébastien | G6: ;
B7: xx | C7: Olivier | G7: ;
B8: xx | C8: Patrick | G8: ;
B9: xx | C9: Marie-Helene | G9: ;
B10: xx | C10: Bénédicte | G10: ;
B11: xx | C11: Vincent | G11: ;
B12: xx | C12: Ali | G12: ;
B13: xx | C13: Catherine | G13: ;
B14: xx | C14: Bachir | G14: ;
B15: xx | C15: Marie-Laure | G15: ;
B16: xx | C16: Bernard | G16: ;
... B42: xx | C42: Emmanuel | G42: ;

Sheet Loto
E1: Oui | I1: Boulier
E2: Non | I2: Annonce Micro Salle 1 | N2: Répondu (O/N) | O2: Répondu (O/N) | P2: Distribution (O/N) | Q2: Distribution (O/N) | R2: Installation (O/N) | S2: Installation (O/N) | T2: Présence (O/N) | U2: Présence (O/N) | V2: Fonction | W2: Fonction | X2: Fonction | Y2: Fonction | Z2: Fonction | AA2: Fonction | AB2: Fonction | AC2: Rangement (O/N) | AD2: Rangement (O/N)
I3: Annonce Micro Salle 2 | N3: Oui | O3: Non | P3: Oui | Q3: Non | R3: Oui | S3: Non | T3: Oui | U3: Non | V3: Boulier | W3: Annonce Micro Salle 1 | X3: Annonce & Verification Cartons Salle 2 | Y3: Verification Cartons Salle 1 | Z3: Vente Buvette | AA3: Vente Carton | AB3: Autres | AC3: Oui | AD3: Non
I4: Verification Cartons Salle 1 | N4: =DCOUNTA($B$16:$K$56,1,N2:N3) -> 0 | O4: =DCOUNTA($B$16:$K$56,1,O2:O3) -> 0 | P4: =DCOUNTA($B$16:$K$56,1,P2:P3) -> 1 | Q4: =DCOUNTA($B$16:$K$56,1,Q2:Q3) -> 1 | R4: =DCOUNTA($B$16:$K$56,1,R2:R3) -> 1 | S4: =DCOUNTA($B$16:$K$56,1,S2:S3) -> 1 | T4: =DCOUNTA($B$16:$K$56,1,T2:T3) -> 1 | U4: =DCOUNTA($B$16:$K$56,1,U2:U3) -> 1 | ... AD4: =DCOUNTA($B$16:$K$56,1,AD2:AD3) -> 1
I5: Annonce & Verification Cartons Salle 2 | N5: =COUNTA($B$17:$B$56) -> 38 | P5: 10 | Q5: =N5-P5 -> 28 | R5: 15 | S5: =N5-R5 -> 23 | T5: =SUM(V5:AB5) -> 15 | U5: =N5-T5 -> 23 | V5: 1 | W5: 1 | X5: 1 | Y5: 1 | Z5: 4 | AA5: 4 | AB5: 3 | AC5: 15 | AD5: =N5-AC5 -> 23
I6: Vente Buvette | N6: =N4/N5 -> 0 | O6: =O4/N5 -> 0 | P6: =P4/P5 -> 0.1 | Q6: =Q4/Q5 -> 0.035714286 | R6: =R4/R5 -> 0.066666667 | S6: =S4/S5 -> 0.043478261 | T6: =T4/T5 -> 0.066666667 | U6: =U4/U5 -> 0.043478261 | V6: =V4/V5 -> 1 | W6: =W4/W5 -> 0 | ... AD6: =AD4/AD5 -> 0.043478261
I7: Vente Carton
I8: Autres | N8: 0.3 | O8: % PRESENCE
N9: 0.6 | O9: % PRESENCE
N10: 0.95 | O10: % PRESENCE
B14: Qui fait Quoi ?
B16: Nom | C16: Prénom | E16: Répondu (O/N) | F16: Distribution (O/N) | G16: Installation (O/N) | H16: Présence (O/N) | I16: Fonction | J16: Rangement (O/N) | K16: Commentaire(s)
B17: xxsdsq | C17: Loic Sofian | D17: =CONCATENATE(B17," ",C17) -> xxsdsq Loic Sofian | O17: =CONCATENATE(B17," ",C17) -> xxsdsq Loic Sofian
B18: xxsdsq | C18: Sébastien | D18: =CONCATENATE(B18," ",C18) -> xxsdsq Sébastien | O18: =CONCATENATE(B18," ",C18) -> xxsdsq Sébastien
B19: xxsdsq | C19: Olivier | D19: =CONCATENATE(B19," ",C19) -> xxsdsq Olivier | O19: =CONCATENATE(B19," ",C19) -> xxsdsq Olivier
B20: xxsdsq | C20: Patrick | D20: =CONCATENATE(B20," ",C20) -> xxsdsq Patrick | F20: Oui | G20: Oui | H20: Oui | I20: Boulier | J20: Oui | O20: =CONCATENATE(B20," ",C20) -> xxsdsq Patrick
B21: xxsdsq | C21: Marie-Helene | D21: =CONCATENATE(B21," ",C21) -> xxsdsq Marie-Helene | F21: Non | G21: Non | H21: Non | I21: Autres | J21: Non | K21: abs | O21: =CONCATENATE(B21," ",C21) -> xxsdsq Marie-Helene
B22: xxsdsq | C22: Bénédicte | D22: =CONCATENATE(B22," ",C22) -> xxsdsq Bénédicte | O22: =CONCATENATE(B22," ",C22) -> xxsdsq Bénédicte
B23: xxsdsq | C23: Vincent | D23: =CONCATENATE(B23," ",C23) -> xxsdsq Vincent | O23: =CONCATENATE(B23," ",C23) -> xxsdsq Vincent
B24: xxsdsq | C24: Ali | D24: =CONCATENATE(B24," ",C24) -> xxsdsq Ali | O24: =CONCATENATE(B24," ",C24) -> xxsdsq Ali
B25: xxsdsq | C25: Catherine | D25: =CONCATENATE(B25," ",C25) -> xxsdsq Catherine | O25: =CONCATENATE(B25," ",C25) -> xxsdsq Catherine
B26: xxsdsq | C26: Bachir | D26: =CONCATENATE(B26," ",C26) -> xxsdsq Bachir | O26: =CONCATENATE(B26," ",C26) -> xxsdsq Bachir
B27: xxsdsq | C27: Marie-Laure | D27: =CONCATENATE(B27," ",C27) -> xxsdsq Marie-Laure | O27: =CONCATENATE(B27," ",C27) -> xxsdsq Marie-Laure
B28: xxsdsq | C28: Bernard | D28: =CONCATENATE(B28," ",C28) -> xxsdsq Bernard | O28: =CONCATENATE(B28," ",C28) -> xxsdsq Bernard
B29: xxsdsq | C29: Bouabdellah | D29: =CONCATENATE(B29," ",C29) -> xxsdsq Bouabdellah | O29: =CONCATENATE(B29," ",C29) -> xxsdsq Bouabdellah
B30: xxsdsq | C30: Isabelle | D30: =CONCATENATE(B30," ",C30) -> xxsdsq Isabelle | O30: =CONCATENATE(B30," ",C30) -> xxsdsq Isabelle
B31: xxsdsq | C31: Ryad | D31: =CONCATENATE(B31," ",C31) -> xxsdsq Ryad | O31: =CONCATENATE(B31," ",C31) -> xxsdsq Ryad
B32: xxsdsq | C32: Romain | D32: =CONCATENATE(B32," ",C32) -> xxsdsq Romain | O32: =CONCATENATE(B32," ",C32) -> xxsdsq Romain
B33: xxsdsq | C33: Francis | D33: =CONCATENATE(B33," ",C33) -> xxsdsq Francis | O33: =CONCATENATE(B33," ",C33) -> xxsdsq Francis
... B54: xxsdsq | C54: Emmanuel | D54: =CONCATENATE(B54," ",C54) -> xxsdsq Emmanuel | O54: =CONCATENATE(B54," ",C54) -> xxsdsq Emmanuel
O55: =CONCATENATE(B55," ",C55)
O56: =CONCATENATE(B56," ",C56)

Sheet Récap Loto
B2: Listing Dirigeants Manifestations - Saison 2016/2017
B4: Nom | C4: Prénom | E4: Portable | F4: Fixe | G4: Mail | I4: Fonction
B5: xxsdsq | C5: Loic Sofian | D5: =CONCATENATE(B5," ",C5) -> xxsdsq Loic Sofian | E5: 782056157 | G5: sofianajouad@yahoo.fr | H5: ; | I5: =IF(ISBLANK(VLOOKUP(D5,Loto!$D$17:$K$56,6,FALSE)),"",VLOOKUP(D5,Loto!$D$17:$K$56,6,FALSE))
B6: xxsdsq | C6: Sébastien | D6: =CONCATENATE(B6," ",C6) -> xxsdsq Sébastien | E6: 659931589 | G6: sebastien.ale@gmail.com | H6: ; | I6: =IF(ISBLANK(VLOOKUP(D6,Loto!$D$17:$K$56,6,FALSE)),"",VLOOKUP(D6,Loto!$D$17:$K$56,6,FALSE))
B7: xxsdsq | C7: Olivier | D7: =CONCATENATE(B7," ",C7) -> xxsdsq Olivier | E7: 603511231 | F7: 561258570 | G7: aze.olivier@numericable.fr | H7: ; | I7: =IF(ISBLANK(VLOOKUP(D7,Loto!$D$17:$K$56,6,FALSE)),"",VLOOKUP(D7,Loto!$D$17:$K$56,6,FALSE))
B8: xxsdsq | C8: Patrick | D8: =CONCATENATE(B8," ",C8) -> xxsdsq Patrick | E8: 06 51 88 57 19 | F8: 561207419 | G8: patrick.balech@free.fr | H8: ; | I8: =IF(ISBLANK(VLOOKUP(D8,Loto!$D$17:$K$56,6,FALSE)),"",VLOOKUP(D8,Loto!$D$17:$K$56,6,FALSE)) -> Boulier
B9: xxsdsq | C9: Marie-Helene | D9: =CONCATENATE(B9," ",C9) -> xxsdsq Marie-Helene | F9: 561207419 | G9: patrick.balech@free.fr | H9: ; | I9: =IF(ISBLANK(VLOOKUP(D9,Loto!$D$17:$K$56,6,FALSE)),"",VLOOKUP(D9,Loto!$D$17:$K$56,6,FALSE)) -> Autres
B10: xxsdsq | C10: Bénédicte | D10: =CONCATENATE(B10," ",C10) -> xxsdsq Bénédicte | E10: 685861010 | F10: 562183124 | G10: balon.benedicte@gmail.com | H10: ; | I10: =IF(ISBLANK(VLOOKUP(D10,Loto!$D$17:$K$56,6,FALSE)),"",VLOOKUP(D10,Loto!$D$17:$K$56,6,FALSE))
B11: xxsdsq | C11: Vincent | D11: =CONCATENATE(B11," ",C11) -> xxsdsq Vincent | E11: 686910298 | G11: vincent.balon@gmail.com | H11: ; | I11: =IF(ISBLANK(VLOOKUP(D11,Loto!$D$17:$K$56,6,FALSE)),"",VLOOKUP(D11,Loto!$D$17:$K$56,6,FALSE))
B12: xxsdsq | C12: Ali | D12: =CONCATENATE(B12," ",C12) -> xxsdsq Ali | E12: 07 81 98 04 73 | G12: ali88830@gmail.com | H12: ; | I12: =IF(ISBLANK(VLOOKUP(D12,Loto!$D$17:$K$56,6,FALSE)),"",VLOOKUP(D12,Loto!$D$17:$K$56,6,FALSE))
B13: xxsdsq | C13: Catherine | D13: =CONCATENATE(B13," ",C13) -> xxsdsq Catherine | E13: 614128458 | G13: besmachadocatherine@gmail.com | H13: ; | I13: =IF(ISBLANK(VLOOKUP(D13,Loto!$D$17:$K$56,6,FALSE)),"",VLOOKUP(D13,Loto!$D$17:$K$56,6,FALSE))
B14: xxsdsq | C14: Bachir | D14: =CONCATENATE(B14," ",C14) -> xxsdsq Bachir | E14: 651249440 | F14: 05 61 80 78 71 | G14: bouhassoune.bachir@gmail.com | H14: ; | I14: =IF(ISBLANK(VLOOKUP(D14,Loto!$D$17:$K$56,6,FALSE)),"",VLOOKUP(D14,Loto!$D$17:$K$56,6,FALSE))
B15: xxsdsq | C15: Marie-Laure | D15: =CONCATENATE(B15," ",C15) -> xxsdsq Marie-Laure | E15: 680308128 | F15: 561204049 | G15: mlcannone1@gmail.com | H15: ; | I15: =IF(ISBLANK(VLOOKUP(D15,Loto!$D$17:$K$56,6,FALSE)),"",VLOOKUP(D15,Loto!$D$17:$K$56,6,FALSE))
B16: xxsdsq | C16: Bernard | D16: =CONCATENATE(B16," ",C16) -> xxsdsq Bernard | E16: 633879689 | F16: 05 61 54 56 44 | H16: ; | I16: =IF(ISBLANK(VLOOKUP(D16,Loto!$D$17:$K$56,6,FALSE)),"",VLOOKUP(D16,Loto!$D$17:$K$56,6,FALSE))
B17: xxsdsq | C17: Bouabdellah | D17: =CONCATENATE(B17," ",C17) -> xxsdsq Bouabdellah | H17: ; | I17: =IF(ISBLANK(VLOOKUP(D17,Loto!$D$17:$K$56,6,FALSE)),"",VLOOKUP(D17,Loto!$D$17:$K$56,6,FALSE))
B18: xxsdsq | C18: Isabelle | D18: =CONCATENATE(B18," ",C18) -> xxsdsq Isabelle | E18: 06 87 01 55 79 | F18: 09 52 96 36 79 | G18: cluchetisabelle@hotmail.fr | H18: ; | I18: =IF(ISBLANK(VLOOKUP(D18,Loto!$D$17:$K$56,6,FALSE)),"",VLOOKUP(D18,Loto!$D$17:$K$56,6,FALSE))
B19: xxsdsq | C19: Ryad | D19: =CONCATENATE(B19," ",C19) -> xxsdsq Ryad | E19: 613150343 | G19: ryad.daho@gmail.com | H19: ; | I19: =IF(ISBLANK(VLOOKUP(D19,Loto!$D$17:$K$56,6,FALSE)),"",VLOOKUP(D19,Loto!$D$17:$K$56,6,FALSE))
B20: xxsdsq | C20: Romain | D20: =CONCATENATE(B20," ",C20) -> xxsdsq Romain | E20: 642216723 | G20: romain.dealmeida@hotmail.fr | H20: ; | I20: =IF(ISBLANK(VLOOKUP(D20,Loto!$D$17:$K$56,6,FALSE)),"",VLOOKUP(D20,Loto!$D$17:$K$56,6,FALSE))
B21: xxsdsq | C21: Francis | D21: =CONCATENATE(B21," ",C21) -> xxsdsq Francis | E21: 619271531 | G21: francis.duponcy@gmail.com | H21: ; | I21: =IF(ISBLANK(VLOOKUP(D21,Loto!$D$17:$K$56,6,FALSE)),"",VLOOKUP(D21,Loto!$D$17:$K$56,6,FALSE))
B22: xxsdsq | C22: Guilhem | D22: =CONCATENATE(B22," ",C22) -> xxsdsq Guilhem | E22: 649327250 | G22: guilhem.franck@outlook.fr | H22: ; | I22: =IF(ISBLANK(VLOOKUP(D22,Loto!$D$17:$K$56,6,FALSE)),"",VLOOKUP(D22,Loto!$D$17:$K$56,6,FALSE))
B23: xxsdsq | C23: Christophe | D23: =CONCATENATE(B23," ",C23) -> xxsdsq Christophe | E23: 669690754 | G23: gallinaro.christophe@gmail.com | H23: ; | I23: =IF(ISBLANK(VLOOKUP(D23,Loto!$D$17:$K$56,6,FALSE)),"",VLOOKUP(D23,Loto!$D$17:$K$56,6,FALSE))
B24: xxsdsq | C24: Philippe | D24: =CONCATENATE(B24," ",C24) -> xxsdsq Philippe | E24: 676934506 | F24: 561200446 | G24: gerbaud.philippe@gmail.com | H24: ; | I24: =IF(ISBLANK(VLOOKUP(D24,Loto!$D$17:$K$56,6,FALSE)),"",VLOOKUP(D24,Loto!$D$17:$K$56,6,FALSE))
B25: xxsdsq | C25: Rémi | D25: =CONCATENATE(B25," ",C25) -> xxsdsq Rémi | E25: 668685668 | G25: remi.goryl@gmail.com | H25: ; | I25: =IF(ISBLANK(VLOOKUP(D25,Loto!$D$17:$K$56,6,FALSE)),"",VLOOKUP(D25,Loto!$D$17:$K$56,6,FALSE))
B26: xxsdsq | C26: François | D26: =CONCATENATE(B26," ",C26) -> xxsdsq François | E26: 627351270 | F26: 561346500 | G26: hetf.hoofd@free.fr | H26: ; | I26: =IF(ISBLANK(VLOOKUP(D26,Loto!$D$17:$K$56,6,FALSE)),"",VLOOKUP(D26,Loto!$D$17:$K$56,6,FALSE))
B27: xxsdsq | C27: Philippe | D27: =CONCATENATE(B27," ",C27) -> xxsdsq Philippe | E27: 662192503 | F27: 561341076 | G27: philippe.maury11@free.fr | H27: ; | I27: =IF(ISBLANK(VLOOKUP(D27,Loto!$D$17:$K$56,6,FALSE)),"",VLOOKUP(D27,Loto!$D$17:$K$56,6,FALSE))
B28: xxsdsq | C28: Vincent | D28: =CONCATENATE(B28," ",C28) -> xxsdsq Vincent | E28: 607894427 | G28: vincent.maury11@gmail.com | H28: ; | I28: =IF(ISBLANK(VLOOKUP(D28,Loto!$D$17:$K$56,6,FALSE)),"",VLOOKUP(D28,Loto!$D$17:$K$56,6,FALSE))
B29: xxsdsq | C29: Benoit | D29: =CONCATENATE(B29," ",C29) -> xxsdsq Benoit | E29: 630030416 | F29: 561341076 | G29: benoit.maury.5@free.fr | H29: ; | I29: =IF(ISBLANK(VLOOKUP(D29,Loto!$D$17:$K$56,6,FALSE)),"",VLOOKUP(D29,Loto!$D$17:$K$56,6,FALSE))
B30: xxsdsq | C30: Béatrice | D30: =CONCATENATE(B30," ",C30) -> xxsdsq Béatrice | E30: 675584602 | F30: 561341076 | G30: beatrice.maury11@free.fr | H30: ; | I30: =IF(ISBLANK(VLOOKUP(D30,Loto!$D$17:$K$56,6,FALSE)),"",VLOOKUP(D30,Loto!$D$17:$K$56,6,FALSE))
B31: xxsdsq | C31: Emmanuel | D31: =CONCATENATE(B31," ",C31) -> xxsdsq Emmanuel | E31: 622915313 | G31: emmanuel.guy@hotmail.fr | H31: ; | I31: =IF(ISBLANK(VLOOKUP(D31,Loto!$D$17:$K$56,6,FALSE)),"",VLOOKUP(D31,Loto!$D$17:$K$56,6,FALSE))
B32: xxsdsq | C32: Bastien | D32: =CONCATENATE(B32," ",C32) -> xxsdsq Bastien | E32: 637825743 | G32: bastien.tfc@laposte.net | H32: ; | I32: =IF(ISBLANK(VLOOKUP(D32,Loto!$D$17:$K$56,6,FALSE)),"",VLOOKUP(D32,Loto!$D$17:$K$56,6,FALSE))
B33: xxsdsq | C33: Christiane | D33: =CONCATENATE(B33," ",C33) -> xxsdsq Christiane | E33: 677111194 | F33: 561209094 | G33: christiane.mirepoix@laposte.net | H33: ; | I33: =IF(ISBLANK(VLOOKUP(D33,Loto!$D$17:$K$56,6,FALSE)),"",VLOOKUP(D33,Loto!$D$17:$K$56,6,FALSE))
B34: xxsdsq | C34: Hervé | D34: =CONCATENATE(B34," ",C34) -> xxsdsq Hervé | E34: 683982314 | F34: 561209094 | G34: francis.mirepoix@laposte.net | H34: ; | I34: =IF(ISBLANK(VLOOKUP(D34,Loto!$D$17:$K$56,6,FALSE)),"",VLOOKUP(D34,Loto!$D$17:$K$56,6,FALSE))
B35: xxsdsq | C35: Francis | D35: =CONCATENATE(B35," ",C35) -> xxsdsq Francis | E35: 615468845 | F35: 561209094 | G35: francis.mirepoix@laposte.net | H35: ; | I35: =IF(ISBLANK(VLOOKUP(D35,Loto!$D$17:$K$56,6,FALSE)),"",VLOOKUP(D35,Loto!$D$17:$K$56,6,FALSE))
B36: xxsdsq | C36: Sofyen | D36: =CONCATENATE(B36," ",C36) -> xxsdsq Sofyen | E36: 684735672 | G36: sofyen.nsiri@free.fr | H36: ; | I36: =IF(ISBLANK(VLOOKUP(D36,Loto!$D$17:$K$56,6,FALSE)),"",VLOOKUP(D36,Loto!$D$17:$K$56,6,FALSE))
B37: xxsdsq | C37: Romain | D37: =CONCATENATE(B37," ",C37) -> xxsdsq Romain | E37: 641942070 | F37: 561074119 | G37: romain.peybernes@live.fr | H37: ; | I37: =IF(ISBLANK(VLOOKUP(D37,Loto!$D$17:$K$56,6,FALSE)),"",VLOOKUP(D37,Loto!$D$17:$K$56,6,FALSE))
B38: xxsdsq | C38: Thibault | D38: =CONCATENATE(B38," ",C38) -> xxsdsq Thibault | E38: 633665706 | G38: thibaultp@educateur.ashersoise.fr
B39: xxsdsq | C39: Florian | D39: =CONCATENATE(B39," ",C39) -> xxsdsq Florian | E39: 648694078 | G39: florian.santos.31@gmail.com
B40: xxsdsq | C40: Jean-Michel | D40: =CONCATENATE(B40," ",C40) -> xxsdsq Jean-Michel | E40: 646645021 | F40: 05 61 80 20 62 | G40: jean-michel.trebuchon@wanadoo.fr
B41: xxsdsq | C41: Rosita | D41: =CONCATENATE(B41," ",C41) -> xxsdsq Rosita | G41: romain.dealmeida@hotmail.fr
B42: xxsdsq | C42: Emmanuel | D42: =CONCATENATE(B42," ",C42) -> xxsdsq Emmanuel | E42: 631044178 | F42: 561340354 | G42: ziesmanu@gmail.com | H42: ; | I42: =IF(ISBLANK(VLOOKUP(D42,Loto!$D$17:$K$56,6,FALSE)),"",VLOOKUP(D42,Loto!$D$17:$K$56,6,FALSE))
...

Sheet Récap Loto Pas touche SVP
B2: Rôle de Chacun
F4: Fonction
B5: Boulier | F5: =IF(ISBLANK(VLOOKUP(D5,Loto!$D$17:$K$56,6,FALSE)),"",VLOOKUP(D5,Loto!$D$17:$K$56,6,FALSE)) -> #N/A | I5: Boulier
B6: Personne 1 | C6: Personne 2 | D6: Personne 3 | E6: Personne 4 | I6: Annonce Micro Salle 1
B7: =VLOOKUP($I$5,Loto!$I$16:$O$56,7,FALSE) -> xxsdsq Patrick | C7: =VLOOKUP($I$5,Loto!$I$16:$O$56,7,FALSE) -> xxsdsq Patrick | D7: =VLOOKUP($I$5,Loto!$I$16:$O$56,7,FALSE) -> xxsdsq Patrick | E7: =VLOOKUP($I$5,Loto!$I$16:$O$56,7,FALSE) -> xxsdsq Patrick | I7: Annonce Micro Salle 2
F8: =IF(ISBLANK(VLOOKUP(D8,Loto!$D$17:$K$56,6,FALSE)),"",VLOOKUP(D8,Loto!$D$17:$K$56,6,FALSE)) -> #N/A | I8: Verification Cartons Salle 1
F9: =IF(ISBLANK(VLOOKUP(D9,Loto!$D$17:$K$56,6,FALSE)),"",VLOOKUP(D9,Loto!$D$17:$K$56,6,FALSE)) -> #N/A | I9: Annonce & Verification Cartons Salle 2
F10: =IF(ISBLANK(VLOOKUP(D10,Loto!$D$17:$K$56,6,FALSE)),"",VLOOKUP(D10,Loto!$D$17:$K$56,6,FALSE)) -> #N/A | I10: Vente Buvette
F11: =IF(ISBLANK(VLOOKUP(D11,Loto!$D$17:$K$56,6,FALSE)),"",VLOOKUP(D11,Loto!$D$17:$K$56,6,FALSE)) -> #N/A | I11: Vente Carton
F12: =IF(ISBLANK(VLOOKUP(D12,Loto!$D$17:$K$56,6,FALSE)),"",VLOOKUP(D12,Loto!$D$17:$K$56,6,FALSE)) -> #N/A | I12: Autres
F13: =IF(ISBLANK(VLOOKUP(D13,Loto!$D$17:$K$56,6,FALSE)),"",VLOOKUP(D13,Loto!$D$17:$K$56,6,FALSE)) -> #N/A
F14: =IF(ISBLANK(VLOOKUP(D14,Loto!$D$17:$K$56,6,FALSE)),"",VLOOKUP(D14,Loto!$D$17:$K$56,6,FALSE)) -> #N/A
F15: =IF(ISBLANK(VLOOKUP(D15,Loto!$D$17:$K$56,6,FALSE)),"",VLOOKUP(D15,Loto!$D$17:$K$56,6,FALSE)) -> #N/A
F16: =IF(ISBLANK(VLOOKUP(D16,Loto!$D$17:$K$56,6,FALSE)),"",VLOOKUP(D16,Loto!$D$17:$K$56,6,FALSE)) -> #N/A
F17: =IF(ISBLANK(VLOOKUP(D17,Loto!$D$17:$K$56,6,FALSE)),"",VLOOKUP(D17,Loto!$D$17:$K$56,6,FALSE)) -> #N/A
F18: =IF(ISBLANK(VLOOKUP(D18,Loto!$D$17:$K$56,6,FALSE)),"",VLOOKUP(D18,Loto!$D$17:$K$56,6,FALSE)) -> #N/A
F19: =IF(ISBLANK(VLOOKUP(D19,Loto!$D$17:$K$56,6,FALSE)),"",VLOOKUP(D19,Loto!$D$17:$K$56,6,FALSE)) -> #N/A
F20: =IF(ISBLANK(VLOOKUP(D20,Loto!$D$17:$K$56,6,FALSE)),"",VLOOKUP(D20,Loto!$D$17:$K$56,6,FALSE)) -> #N/A
F21: =IF(ISBLANK(VLOOKUP(D21,Loto!$D$17:$K$56,6,FALSE)),"",VLOOKUP(D21,Loto!$D$17:$K$56,6,FALSE)) -> #N/A
F22: =IF(ISBLANK(VLOOKUP(D22,Loto!$D$17:$K$56,6,FALSE)),"",VLOOKUP(D22,Loto!$D$17:$K$56,6,FALSE)) -> #N/A
F23: =IF(ISBLANK(VLOOKUP(D23,Loto!$D$17:$K$56,6,FALSE)),"",VLOOKUP(D23,Loto!$D$17:$K$56,6,FALSE)) -> #N/A
F24: =IF(ISBLANK(VLOOKUP(D24,Loto!$D$17:$K$56,6,FALSE)),"",VLOOKUP(D24,Loto!$D$17:$K$56,6,FALSE)) -> #N/A
... F42: =IF(ISBLANK(VLOOKUP(D42,Loto!$D$17:$K$56,6,FALSE)),"",VLOOKUP(D42,Loto!$D$17:$K$56,6,FALSE)) -> #N/A
D43: =CONCATENATE(B43," ",C43)
D44: =CONCATENATE(B44," ",C44)
D45: =CONCATENATE(B45," ",C45)
D46: =CONCATENATE(B46," ",C46)
D47: =CONCATENATE(B47," ",C47)
D48: =CONCATENATE(B48," ",C48)
D49: =CONCATENATE(B49," ",C49)
D50: =CONCATENATE(B50," ",C50)
D51: =CONCATENATE(B51," ",C51)
D52: =CONCATENATE(B52," ",C52)
D53: =CONCATENATE(B53," ",C53)
D54: =CONCATENATE(B54," ",C54)
... D81: =CONCATENATE(B81," ",C81)
