Workbook

Sheet Worksheet
A1: Teams | B1: Pilotes | C1: AUS | D1: BHR | E1: CHN | F1: RUS | G1: ESP | H1: MCO | I1: CAN | J1: EUR | K1: AUT | L1: GRB | M1: HON | N1: ALL | O1: BEL | P1: ITA | Q1: SGP | R1: MAL | S1: JPN | T1: USA | U1: MEX | V1: BRE | W1: ABU | X1: Points
A2: Team 1 | B2: Pilote 1 | C2: 2 | X2: =Feuil1!A1+Feuil1!B1+Feuil1!C1+Feuil1!D1+Feuil1!E1+Feuil1!F1+Feuil1!G1+Feuil1!H1+Feuil1!I1+Feuil1!J1+Feuil1!K1+Feuil1!L1+Feuil1!M1+Feuil1!N1+Feuil1!O1+Feuil1!P1+Feuil1!Q1+Feuil1!R1+Feuil1!S1+Feuil1!T1+Feuil1!U1 -> 18
A3: Team 1 | B3: Pilote 2 | C3: 6 | X3: =Feuil1!A2+Feuil1!B2+Feuil1!C2+Feuil1!D2+Feuil1!E2+Feuil1!F2+Feuil1!G2+Feuil1!H2+Feuil1!I2+Feuil1!J2+Feuil1!K2+Feuil1!L2+Feuil1!M2+Feuil1!N2+Feuil1!O2+Feuil1!P2+Feuil1!Q2+Feuil1!R2+Feuil1!S2+Feuil1!T2+Feuil1!U2 -> 8
A4: Team 2 | B4: Pilote 3 | C4: 8 | X4: =Feuil1!A3+Feuil1!B3+Feuil1!C3+Feuil1!D3+Feuil1!E3+Feuil1!F3+Feuil1!G3+Feuil1!H3+Feuil1!I3+Feuil1!J3+Feuil1!K3+Feuil1!L3+Feuil1!M3+Feuil1!N3+Feuil1!O3+Feuil1!P3+Feuil1!Q3+Feuil1!R3+Feuil1!S3+Feuil1!T3+Feuil1!U3 -> 4
A5: Team 2 | B5: Pilote 4 | C5: 3 | X5: =Feuil1!A4+Feuil1!B4+Feuil1!C4+Feuil1!D4+Feuil1!E4+Feuil1!F4+Feuil1!G4+Feuil1!H4+Feuil1!I4+Feuil1!J4+Feuil1!K4+Feuil1!L4+Feuil1!M4+Feuil1!N4+Feuil1!O4+Feuil1!P4+Feuil1!Q4+Feuil1!R4+Feuil1!S4+Feuil1!T4+Feuil1!U4 -> 15
A6: Team 3 | B6: Pilote 5 | C6: 10 | X6: =Feuil1!A5+Feuil1!B5+Feuil1!C5+Feuil1!D5+Feuil1!E5+Feuil1!F5+Feuil1!G5+Feuil1!H5+Feuil1!I5+Feuil1!J5+Feuil1!K5+Feuil1!L5+Feuil1!M5+Feuil1!N5+Feuil1!O5+Feuil1!P5+Feuil1!Q5+Feuil1!R5+Feuil1!S5+Feuil1!T5+Feuil1!U5 -> 1
A7: Team 3 | B7: Pilote 6 | C7: AB | X7: =Feuil1!A6+Feuil1!B6+Feuil1!C6+Feuil1!D6+Feuil1!E6+Feuil1!F6+Feuil1!G6+Feuil1!H6+Feuil1!I6+Feuil1!J6+Feuil1!K6+Feuil1!L6+Feuil1!M6+Feuil1!N6+Feuil1!O6+Feuil1!P6+Feuil1!Q6+Feuil1!R6+Feuil1!S6+Feuil1!T6+Feuil1!U6 -> 0
A8: Team 4 | B8: Pilote 7 | C8: 1 | X8: =Feuil1!A7+Feuil1!B7+Feuil1!C7+Feuil1!D7+Feuil1!E7+Feuil1!F7+Feuil1!G7+Feuil1!H7+Feuil1!I7+Feuil1!J7+Feuil1!K7+Feuil1!L7+Feuil1!M7+Feuil1!N7+Feuil1!O7+Feuil1!P7+Feuil1!Q7+Feuil1!R7+Feuil1!S7+Feuil1!T7+Feuil1!U7 -> 25
A9: Team 4 | B9: Pilote 8 | C9: 11 | X9: =Feuil1!A8+Feuil1!B8+Feuil1!C8+Feuil1!D8+Feuil1!E8+Feuil1!F8+Feuil1!G8+Feuil1!H8+Feuil1!I8+Feuil1!J8+Feuil1!K8+Feuil1!L8+Feuil1!M8+Feuil1!N8+Feuil1!O8+Feuil1!P8+Feuil1!Q8+Feuil1!R8+Feuil1!S8+Feuil1!T8+Feuil1!U8 -> 0
A10: Team 5 | B10: Pilote 9 | C10: 13 | X10: =Feuil1!A9+Feuil1!B9+Feuil1!C9+Feuil1!D9+Feuil1!E9+Feuil1!F9+Feuil1!G9+Feuil1!H9+Feuil1!I9+Feuil1!J9+Feuil1!K9+Feuil1!L9+Feuil1!M9+Feuil1!N9+Feuil1!O9+Feuil1!P9+Feuil1!Q9+Feuil1!R9+Feuil1!S9+Feuil1!T9+Feuil1!U9 -> 0
A11: Team 5 | B11: Pilote 10 | C11: 4 | X11: =Feuil1!A10+Feuil1!B10+Feuil1!C10+Feuil1!D10+Feuil1!E10+Feuil1!F10+Feuil1!G10+Feuil1!H10+Feuil1!I10+Feuil1!J10+Feuil1!K10+Feuil1!L10+Feuil1!M10+Feuil1!N10+Feuil1!O10+Feuil1!P10+Feuil1!Q10+Feuil1!R10+Feuil1!S10+Feuil1!T10+Feuil1!U10 -> 12
A12: Team 6 | B12: Pilote 11 | C12: 12 | X12: =Feuil1!A11+Feuil1!B11+Feuil1!C11+Feuil1!D11+Feuil1!E11+Feuil1!F11+Feuil1!G11+Feuil1!H11+Feuil1!I11+Feuil1!J11+Feuil1!K11+Feuil1!L11+Feuil1!M11+Feuil1!N11+Feuil1!O11+Feuil1!P11+Feuil1!Q11+Feuil1!R11+Feuil1!S11+Feuil1!T11+Feuil1!U11 -> 0
A13: Team 6 | B13: Pilote 12 | C13: 9 | X13: =Feuil1!A12+Feuil1!B12+Feuil1!C12+Feuil1!D12+Feuil1!E12+Feuil1!F12+Feuil1!G12+Feuil1!H12+Feuil1!I12+Feuil1!J12+Feuil1!K12+Feuil1!L12+Feuil1!M12+Feuil1!N12+Feuil1!O12+Feuil1!P12+Feuil1!Q12+Feuil1!R12+Feuil1!S12+Feuil1!T12+Feuil1!U12 -> 2
A14: Team 7 | B14: Pilote 13 | C14: 7 | X14: =Feuil1!A13+Feuil1!B13+Feuil1!C13+Feuil1!D13+Feuil1!E13+Feuil1!F13+Feuil1!G13+Feuil1!H13+Feuil1!I13+Feuil1!J13+Feuil1!K13+Feuil1!L13+Feuil1!M13+Feuil1!N13+Feuil1!O13+Feuil1!P13+Feuil1!Q13+Feuil1!R13+Feuil1!S13+Feuil1!T13+Feuil1!U13 -> 6
A15: Team 7 | B15: Pilote 14 | C15: 5 | X15: =Feuil1!A14+Feuil1!B14+Feuil1!C14+Feuil1!D14+Feuil1!E14+Feuil1!F14+Feuil1!G14+Feuil1!H14+Feuil1!I14+Feuil1!J14+Feuil1!K14+Feuil1!L14+Feuil1!M14+Feuil1!N14+Feuil1!O14+Feuil1!P14+Feuil1!Q14+Feuil1!R14+Feuil1!S14+Feuil1!T14+Feuil1!U14 -> 10

Sheet Feuil1
A1: =IF(Worksheet!C2=1,25,IF(Worksheet!C2=2,18,IF(Worksheet!C2=3,15,IF(Worksheet!C2=4,12,IF(Worksheet!C2=5,10,IF(Worksheet!C2=6,8,IF(Worksheet!C2=7,6,IF(Worksheet!C2=8,4,IF(Worksheet!C2=9,2,IF(Worksheet!C2=10,1,IF(Worksheet!C2=11,0,IF(Worksheet!C2=12,0,IF(Worksheet!C2=13,0,IF(Worksheet!C2=14,0,IF(Worksheet!C2="",0,IF(Worksheet!C2="AB",0)))))))))))))))) -> 18 | B1: =IF(Worksheet!D2=1,25,IF(Worksheet!D2=2,18,IF(Worksheet!D2=3,15,IF(Worksheet!D2=4,12,IF(Worksheet!D2=5,10,IF(Worksheet!D2=6,8,IF(Worksheet!D2=7,6,IF(Worksheet!D2=8,4,IF(Worksheet!D2=9,2,IF(Worksheet!D2=10,1,IF(Worksheet!D2=11,0,IF(Worksheet!D2=12,0,IF(Worksheet!D2=13,0,IF(Worksheet!D2=14,0,IF(Worksheet!D2="",0,IF(Worksheet!D2="AB",0)))))))))))))))) -> 0 | C1: =IF(Worksheet!E2=1,25,IF(Worksheet!E2=2,18,IF(Worksheet!E2=3,15,IF(Worksheet!E2=4,12,IF(Worksheet!E2=5,10,IF(Worksheet!E2=6,8,IF(Worksheet!E2=7,6,IF(Worksheet!E2=8,4,IF(Worksheet!E2=9,2,IF(Worksheet!E2=10,1,IF(Worksheet!E2=11,0,IF(Worksheet!E2=12,0,IF(Worksheet!E2=13,0,IF(Worksheet!E2=14,0,IF(Worksheet!E2="",0,IF(Worksheet!E2="AB",0)))))))))))))))) -> 0 | D1: =IF(Worksheet!F2=1,25,IF(Worksheet!F2=2,18,IF(Worksheet!F2=3,15,IF(Worksheet!F2=4,12,IF(Worksheet!F2=5,10,IF(Worksheet!F2=6,8,IF(Worksheet!F2=7,6,IF(Worksheet!F2=8,4,IF(Worksheet!F2=9,2,IF(Worksheet!F2=10,1,IF(Worksheet!F2=11,0,IF(Worksheet!F2=12,0,IF(Worksheet!F2=13,0,IF(Worksheet!F2=14,0,IF(Worksheet!F2="",0,IF(Worksheet!F2="AB",0)))))))))))))))) -> 0 | E1: =IF(Worksheet!G2=1,25,IF(Worksheet!G2=2,18,IF(Worksheet!G2=3,15,IF(Worksheet!G2=4,12,IF(Worksheet!G2=5,10,IF(Worksheet!G2=6,8,IF(Worksheet!G2=7,6,IF(Worksheet!G2=8,4,IF(Worksheet!G2=9,2,IF(Worksheet!G2=10,1,IF(Worksheet!G2=11,0,IF(Worksheet!G2=12,0,IF(Worksheet!G2=13,0,IF(Worksheet!G2=14,0,IF(Worksheet!G2="",0,IF(Worksheet!G2="AB",0)))))))))))))))) -> 0 | F1: =IF(Worksheet!H2=1,25,IF(Worksheet!H2=2,18,IF(Worksheet!H2=3,15,IF(Worksheet!H2=4,12,IF(Worksheet!H2=5,10,IF(Worksheet!H2=6,8,IF(Worksheet!H2=7,6,IF(Worksheet!H2=8,4,IF(Worksheet!H2=9,2,IF(Worksheet!H2=10,1,IF(Worksheet!H2=11,0,IF(Worksheet!H2=12,0,IF(Worksheet!H2=13,0,IF(Worksheet!H2=14,0,IF(Worksheet!H2="",0,IF(Worksheet!H2="AB",0)))))))))))))))) -> 0 | G1: =IF(Worksheet!I2=1,25,IF(Worksheet!I2=2,18,IF(Worksheet!I2=3,15,IF(Worksheet!I2=4,12,IF(Worksheet!I2=5,10,IF(Worksheet!I2=6,8,IF(Worksheet!I2=7,6,IF(Worksheet!I2=8,4,IF(Worksheet!I2=9,2,IF(Worksheet!I2=10,1,IF(Worksheet!I2=11,0,IF(Worksheet!I2=12,0,IF(Worksheet!I2=13,0,IF(Worksheet!I2=14,0,IF(Worksheet!I2="",0,IF(Worksheet!I2="AB",0)))))))))))))))) -> 0 | H1: =IF(Worksheet!J2=1,25,IF(Worksheet!J2=2,18,IF(Worksheet!J2=3,15,IF(Worksheet!J2=4,12,IF(Worksheet!J2=5,10,IF(Worksheet!J2=6,8,IF(Worksheet!J2=7,6,IF(Worksheet!J2=8,4,IF(Worksheet!J2=9,2,IF(Worksheet!J2=10,1,IF(Worksheet!J2=11,0,IF(Worksheet!J2=12,0,IF(Worksheet!J2=13,0,IF(Worksheet!J2=14,0,IF(Worksheet!J2="",0,IF(Worksheet!J2="AB",0)))))))))))))))) -> 0 | ... U1: =IF(Worksheet!W2=1,25,IF(Worksheet!W2=2,18,IF(Worksheet!W2=3,15,IF(Worksheet!W2=4,12,IF(Worksheet!W2=5,10,IF(Worksheet!W2=6,8,IF(Worksheet!W2=7,6,IF(Worksheet!W2=8,4,IF(Worksheet!W2=9,2,IF(Worksheet!W2=10,1,IF(Worksheet!W2=11,0,IF(Worksheet!W2=12,0,IF(Worksheet!W2=13,0,IF(Worksheet!W2=14,0,IF(Worksheet!W2="",0,IF(Worksheet!W2="AB",0)))))))))))))))) -> 0
A2: =IF(Worksheet!C3=1,25,IF(Worksheet!C3=2,18,IF(Worksheet!C3=3,15,IF(Worksheet!C3=4,12,IF(Worksheet!C3=5,10,IF(Worksheet!C3=6,8,IF(Worksheet!C3=7,6,IF(Worksheet!C3=8,4,IF(Worksheet!C3=9,2,IF(Worksheet!C3=10,1,IF(Worksheet!C3=11,0,IF(Worksheet!C3=12,0,IF(Worksheet!C3=13,0,IF(Worksheet!C3=14,0,IF(Worksheet!C3="",0,IF(Worksheet!C3="AB",0)))))))))))))))) -> 8 | B2: =IF(Worksheet!D3=1,25,IF(Worksheet!D3=2,18,IF(Worksheet!D3=3,15,IF(Worksheet!D3=4,12,IF(Worksheet!D3=5,10,IF(Worksheet!D3=6,8,IF(Worksheet!D3=7,6,IF(Worksheet!D3=8,4,IF(Worksheet!D3=9,2,IF(Worksheet!D3=10,1,IF(Worksheet!D3=11,0,IF(Worksheet!D3=12,0,IF(Worksheet!D3=13,0,IF(Worksheet!D3=14,0,IF(Worksheet!D3="",0,IF(Worksheet!D3="AB",0)))))))))))))))) -> 0 | C2: =IF(Worksheet!E3=1,25,IF(Worksheet!E3=2,18,IF(Worksheet!E3=3,15,IF(Worksheet!E3=4,12,IF(Worksheet!E3=5,10,IF(Worksheet!E3=6,8,IF(Worksheet!E3=7,6,IF(Worksheet!E3=8,4,IF(Worksheet!E3=9,2,IF(Worksheet!E3=10,1,IF(Worksheet!E3=11,0,IF(Worksheet!E3=12,0,IF(Worksheet!E3=13,0,IF(Worksheet!E3=14,0,IF(Worksheet!E3="",0,IF(Worksheet!E3="AB",0)))))))))))))))) -> 0 | D2: =IF(Worksheet!F3=1,25,IF(Worksheet!F3=2,18,IF(Worksheet!F3=3,15,IF(Worksheet!F3=4,12,IF(Worksheet!F3=5,10,IF(Worksheet!F3=6,8,IF(Worksheet!F3=7,6,IF(Worksheet!F3=8,4,IF(Worksheet!F3=9,2,IF(Worksheet!F3=10,1,IF(Worksheet!F3=11,0,IF(Worksheet!F3=12,0,IF(Worksheet!F3=13,0,IF(Worksheet!F3=14,0,IF(Worksheet!F3="",0,IF(Worksheet!F3="AB",0)))))))))))))))) -> 0 | E2: =IF(Worksheet!G3=1,25,IF(Worksheet!G3=2,18,IF(Worksheet!G3=3,15,IF(Worksheet!G3=4,12,IF(Worksheet!G3=5,10,IF(Worksheet!G3=6,8,IF(Worksheet!G3=7,6,IF(Worksheet!G3=8,4,IF(Worksheet!G3=9,2,IF(Worksheet!G3=10,1,IF(Worksheet!G3=11,0,IF(Worksheet!G3=12,0,IF(Worksheet!G3=13,0,IF(Worksheet!G3=14,0,IF(Worksheet!G3="",0,IF(Worksheet!G3="AB",0)))))))))))))))) -> 0 | F2: =IF(Worksheet!H3=1,25,IF(Worksheet!H3=2,18,IF(Worksheet!H3=3,15,IF(Worksheet!H3=4,12,IF(Worksheet!H3=5,10,IF(Worksheet!H3=6,8,IF(Worksheet!H3=7,6,IF(Worksheet!H3=8,4,IF(Worksheet!H3=9,2,IF(Worksheet!H3=10,1,IF(Worksheet!H3=11,0,IF(Worksheet!H3=12,0,IF(Worksheet!H3=13,0,IF(Worksheet!H3=14,0,IF(Worksheet!H3="",0,IF(Worksheet!H3="AB",0)))))))))))))))) -> 0 | G2: =IF(Worksheet!I3=1,25,IF(Worksheet!I3=2,18,IF(Worksheet!I3=3,15,IF(Worksheet!I3=4,12,IF(Worksheet!I3=5,10,IF(Worksheet!I3=6,8,IF(Worksheet!I3=7,6,IF(Worksheet!I3=8,4,IF(Worksheet!I3=9,2,IF(Worksheet!I3=10,1,IF(Worksheet!I3=11,0,IF(Worksheet!I3=12,0,IF(Worksheet!I3=13,0,IF(Worksheet!I3=14,0,IF(Worksheet!I3="",0,IF(Worksheet!I3="AB",0)))))))))))))))) -> 0 | H2: =IF(Worksheet!J3=1,25,IF(Worksheet!J3=2,18,IF(Worksheet!J3=3,15,IF(Worksheet!J3=4,12,IF(Worksheet!J3=5,10,IF(Worksheet!J3=6,8,IF(Worksheet!J3=7,6,IF(Worksheet!J3=8,4,IF(Worksheet!J3=9,2,IF(Worksheet!J3=10,1,IF(Worksheet!J3=11,0,IF(Worksheet!J3=12,0,IF(Worksheet!J3=13,0,IF(Worksheet!J3=14,0,IF(Worksheet!J3="",0,IF(Worksheet!J3="AB",0)))))))))))))))) -> 0 | ... U2: =IF(Worksheet!W3=1,25,IF(Worksheet!W3=2,18,IF(Worksheet!W3=3,15,IF(Worksheet!W3=4,12,IF(Worksheet!W3=5,10,IF(Worksheet!W3=6,8,IF(Worksheet!W3=7,6,IF(Worksheet!W3=8,4,IF(Worksheet!W3=9,2,IF(Worksheet!W3=10,1,IF(Worksheet!W3=11,0,IF(Worksheet!W3=12,0,IF(Worksheet!W3=13,0,IF(Worksheet!W3=14,0,IF(Worksheet!W3="",0,IF(Worksheet!W3="AB",0)))))))))))))))) -> 0
A3: =IF(Worksheet!C4=1,25,IF(Worksheet!C4=2,18,IF(Worksheet!C4=3,15,IF(Worksheet!C4=4,12,IF(Worksheet!C4=5,10,IF(Worksheet!C4=6,8,IF(Worksheet!C4=7,6,IF(Worksheet!C4=8,4,IF(Worksheet!C4=9,2,IF(Worksheet!C4=10,1,IF(Worksheet!C4=11,0,IF(Worksheet!C4=12,0,IF(Worksheet!C4=13,0,IF(Worksheet!C4=14,0,IF(Worksheet!C4="",0,IF(Worksheet!C4="AB",0)))))))))))))))) -> 4 | B3: =IF(Worksheet!D4=1,25,IF(Worksheet!D4=2,18,IF(Worksheet!D4=3,15,IF(Worksheet!D4=4,12,IF(Worksheet!D4=5,10,IF(Worksheet!D4=6,8,IF(Worksheet!D4=7,6,IF(Worksheet!D4=8,4,IF(Worksheet!D4=9,2,IF(Worksheet!D4=10,1,IF(Worksheet!D4=11,0,IF(Worksheet!D4=12,0,IF(Worksheet!D4=13,0,IF(Worksheet!D4=14,0,IF(Worksheet!D4="",0,IF(Worksheet!D4="AB",0)))))))))))))))) -> 0 | C3: =IF(Worksheet!E4=1,25,IF(Worksheet!E4=2,18,IF(Worksheet!E4=3,15,IF(Worksheet!E4=4,12,IF(Worksheet!E4=5,10,IF(Worksheet!E4=6,8,IF(Worksheet!E4=7,6,IF(Worksheet!E4=8,4,IF(Worksheet!E4=9,2,IF(Worksheet!E4=10,1,IF(Worksheet!E4=11,0,IF(Worksheet!E4=12,0,IF(Worksheet!E4=13,0,IF(Worksheet!E4=14,0,IF(Worksheet!E4="",0,IF(Worksheet!E4="AB",0)))))))))))))))) -> 0 | D3: =IF(Worksheet!F4=1,25,IF(Worksheet!F4=2,18,IF(Worksheet!F4=3,15,IF(Worksheet!F4=4,12,IF(Worksheet!F4=5,10,IF(Worksheet!F4=6,8,IF(Worksheet!F4=7,6,IF(Worksheet!F4=8,4,IF(Worksheet!F4=9,2,IF(Worksheet!F4=10,1,IF(Worksheet!F4=11,0,IF(Worksheet!F4=12,0,IF(Worksheet!F4=13,0,IF(Worksheet!F4=14,0,IF(Worksheet!F4="",0,IF(Worksheet!F4="AB",0)))))))))))))))) -> 0 | E3: =IF(Worksheet!G4=1,25,IF(Worksheet!G4=2,18,IF(Worksheet!G4=3,15,IF(Worksheet!G4=4,12,IF(Worksheet!G4=5,10,IF(Worksheet!G4=6,8,IF(Worksheet!G4=7,6,IF(Worksheet!G4=8,4,IF(Worksheet!G4=9,2,IF(Worksheet!G4=10,1,IF(Worksheet!G4=11,0,IF(Worksheet!G4=12,0,IF(Worksheet!G4=13,0,IF(Worksheet!G4=14,0,IF(Worksheet!G4="",0,IF(Worksheet!G4="AB",0)))))))))))))))) -> 0 | F3: =IF(Worksheet!H4=1,25,IF(Worksheet!H4=2,18,IF(Worksheet!H4=3,15,IF(Worksheet!H4=4,12,IF(Worksheet!H4=5,10,IF(Worksheet!H4=6,8,IF(Worksheet!H4=7,6,IF(Worksheet!H4=8,4,IF(Worksheet!H4=9,2,IF(Worksheet!H4=10,1,IF(Worksheet!H4=11,0,IF(Worksheet!H4=12,0,IF(Worksheet!H4=13,0,IF(Worksheet!H4=14,0,IF(Worksheet!H4="",0,IF(Worksheet!H4="AB",0)))))))))))))))) -> 0 | G3: =IF(Worksheet!I4=1,25,IF(Worksheet!I4=2,18,IF(Worksheet!I4=3,15,IF(Worksheet!I4=4,12,IF(Worksheet!I4=5,10,IF(Worksheet!I4=6,8,IF(Worksheet!I4=7,6,IF(Worksheet!I4=8,4,IF(Worksheet!I4=9,2,IF(Worksheet!I4=10,1,IF(Worksheet!I4=11,0,IF(Worksheet!I4=12,0,IF(Worksheet!I4=13,0,IF(Worksheet!I4=14,0,IF(Worksheet!I4="",0,IF(Worksheet!I4="AB",0)))))))))))))))) -> 0 | H3: =IF(Worksheet!J4=1,25,IF(Worksheet!J4=2,18,IF(Worksheet!J4=3,15,IF(Worksheet!J4=4,12,IF(Worksheet!J4=5,10,IF(Worksheet!J4=6,8,IF(Worksheet!J4=7,6,IF(Worksheet!J4=8,4,IF(Worksheet!J4=9,2,IF(Worksheet!J4=10,1,IF(Worksheet!J4=11,0,IF(Worksheet!J4=12,0,IF(Worksheet!J4=13,0,IF(Worksheet!J4=14,0,IF(Worksheet!J4="",0,IF(Worksheet!J4="AB",0)))))))))))))))) -> 0 | ... U3: =IF(Worksheet!W4=1,25,IF(Worksheet!W4=2,18,IF(Worksheet!W4=3,15,IF(Worksheet!W4=4,12,IF(Worksheet!W4=5,10,IF(Worksheet!W4=6,8,IF(Worksheet!W4=7,6,IF(Worksheet!W4=8,4,IF(Worksheet!W4=9,2,IF(Worksheet!W4=10,1,IF(Worksheet!W4=11,0,IF(Worksheet!W4=12,0,IF(Worksheet!W4=13,0,IF(Worksheet!W4=14,0,IF(Worksheet!W4="",0,IF(Worksheet!W4="AB",0)))))))))))))))) -> 0
A4: =IF(Worksheet!C5=1,25,IF(Worksheet!C5=2,18,IF(Worksheet!C5=3,15,IF(Worksheet!C5=4,12,IF(Worksheet!C5=5,10,IF(Worksheet!C5=6,8,IF(Worksheet!C5=7,6,IF(Worksheet!C5=8,4,IF(Worksheet!C5=9,2,IF(Worksheet!C5=10,1,IF(Worksheet!C5=11,0,IF(Worksheet!C5=12,0,IF(Worksheet!C5=13,0,IF(Worksheet!C5=14,0,IF(Worksheet!C5="",0,IF(Worksheet!C5="AB",0)))))))))))))))) -> 15 | B4: =IF(Worksheet!D5=1,25,IF(Worksheet!D5=2,18,IF(Worksheet!D5=3,15,IF(Worksheet!D5=4,12,IF(Worksheet!D5=5,10,IF(Worksheet!D5=6,8,IF(Worksheet!D5=7,6,IF(Worksheet!D5=8,4,IF(Worksheet!D5=9,2,IF(Worksheet!D5=10,1,IF(Worksheet!D5=11,0,IF(Worksheet!D5=12,0,IF(Worksheet!D5=13,0,IF(Worksheet!D5=14,0,IF(Worksheet!D5="",0,IF(Worksheet!D5="AB",0)))))))))))))))) -> 0 | C4: =IF(Worksheet!E5=1,25,IF(Worksheet!E5=2,18,IF(Worksheet!E5=3,15,IF(Worksheet!E5=4,12,IF(Worksheet!E5=5,10,IF(Worksheet!E5=6,8,IF(Worksheet!E5=7,6,IF(Worksheet!E5=8,4,IF(Worksheet!E5=9,2,IF(Worksheet!E5=10,1,IF(Worksheet!E5=11,0,IF(Worksheet!E5=12,0,IF(Worksheet!E5=13,0,IF(Worksheet!E5=14,0,IF(Worksheet!E5="",0,IF(Worksheet!E5="AB",0)))))))))))))))) -> 0 | D4: =IF(Worksheet!F5=1,25,IF(Worksheet!F5=2,18,IF(Worksheet!F5=3,15,IF(Worksheet!F5=4,12,IF(Worksheet!F5=5,10,IF(Worksheet!F5=6,8,IF(Worksheet!F5=7,6,IF(Worksheet!F5=8,4,IF(Worksheet!F5=9,2,IF(Worksheet!F5=10,1,IF(Worksheet!F5=11,0,IF(Worksheet!F5=12,0,IF(Worksheet!F5=13,0,IF(Worksheet!F5=14,0,IF(Worksheet!F5="",0,IF(Worksheet!F5="AB",0)))))))))))))))) -> 0 | E4: =IF(Worksheet!G5=1,25,IF(Worksheet!G5=2,18,IF(Worksheet!G5=3,15,IF(Worksheet!G5=4,12,IF(Worksheet!G5=5,10,IF(Worksheet!G5=6,8,IF(Worksheet!G5=7,6,IF(Worksheet!G5=8,4,IF(Worksheet!G5=9,2,IF(Worksheet!G5=10,1,IF(Worksheet!G5=11,0,IF(Worksheet!G5=12,0,IF(Worksheet!G5=13,0,IF(Worksheet!G5=14,0,IF(Worksheet!G5="",0,IF(Worksheet!G5="AB",0)))))))))))))))) -> 0 | F4: =IF(Worksheet!H5=1,25,IF(Worksheet!H5=2,18,IF(Worksheet!H5=3,15,IF(Worksheet!H5=4,12,IF(Worksheet!H5=5,10,IF(Worksheet!H5=6,8,IF(Worksheet!H5=7,6,IF(Worksheet!H5=8,4,IF(Worksheet!H5=9,2,IF(Worksheet!H5=10,1,IF(Worksheet!H5=11,0,IF(Worksheet!H5=12,0,IF(Worksheet!H5=13,0,IF(Worksheet!H5=14,0,IF(Worksheet!H5="",0,IF(Worksheet!H5="AB",0)))))))))))))))) -> 0 | G4: =IF(Worksheet!I5=1,25,IF(Worksheet!I5=2,18,IF(Worksheet!I5=3,15,IF(Worksheet!I5=4,12,IF(Worksheet!I5=5,10,IF(Worksheet!I5=6,8,IF(Worksheet!I5=7,6,IF(Worksheet!I5=8,4,IF(Worksheet!I5=9,2,IF(Worksheet!I5=10,1,IF(Worksheet!I5=11,0,IF(Worksheet!I5=12,0,IF(Worksheet!I5=13,0,IF(Worksheet!I5=14,0,IF(Worksheet!I5="",0,IF(Worksheet!I5="AB",0)))))))))))))))) -> 0 | H4: =IF(Worksheet!J5=1,25,IF(Worksheet!J5=2,18,IF(Worksheet!J5=3,15,IF(Worksheet!J5=4,12,IF(Worksheet!J5=5,10,IF(Worksheet!J5=6,8,IF(Worksheet!J5=7,6,IF(Worksheet!J5=8,4,IF(Worksheet!J5=9,2,IF(Worksheet!J5=10,1,IF(Worksheet!J5=11,0,IF(Worksheet!J5=12,0,IF(Worksheet!J5=13,0,IF(Worksheet!J5=14,0,IF(Worksheet!J5="",0,IF(Worksheet!J5="AB",0)))))))))))))))) -> 0 | ... U4: =IF(Worksheet!W5=1,25,IF(Worksheet!W5=2,18,IF(Worksheet!W5=3,15,IF(Worksheet!W5=4,12,IF(Worksheet!W5=5,10,IF(Worksheet!W5=6,8,IF(Worksheet!W5=7,6,IF(Worksheet!W5=8,4,IF(Worksheet!W5=9,2,IF(Worksheet!W5=10,1,IF(Worksheet!W5=11,0,IF(Worksheet!W5=12,0,IF(Worksheet!W5=13,0,IF(Worksheet!W5=14,0,IF(Worksheet!W5="",0,IF(Worksheet!W5="AB",0)))))))))))))))) -> 0
A5: =IF(Worksheet!C6=1,25,IF(Worksheet!C6=2,18,IF(Worksheet!C6=3,15,IF(Worksheet!C6=4,12,IF(Worksheet!C6=5,10,IF(Worksheet!C6=6,8,IF(Worksheet!C6=7,6,IF(Worksheet!C6=8,4,IF(Worksheet!C6=9,2,IF(Worksheet!C6=10,1,IF(Worksheet!C6=11,0,IF(Worksheet!C6=12,0,IF(Worksheet!C6=13,0,IF(Worksheet!C6=14,0,IF(Worksheet!C6="",0,IF(Worksheet!C6="AB",0)))))))))))))))) -> 1 | B5: =IF(Worksheet!D6=1,25,IF(Worksheet!D6=2,18,IF(Worksheet!D6=3,15,IF(Worksheet!D6=4,12,IF(Worksheet!D6=5,10,IF(Worksheet!D6=6,8,IF(Worksheet!D6=7,6,IF(Worksheet!D6=8,4,IF(Worksheet!D6=9,2,IF(Worksheet!D6=10,1,IF(Worksheet!D6=11,0,IF(Worksheet!D6=12,0,IF(Worksheet!D6=13,0,IF(Worksheet!D6=14,0,IF(Worksheet!D6="",0,IF(Worksheet!D6="AB",0)))))))))))))))) -> 0 | C5: =IF(Worksheet!E6=1,25,IF(Worksheet!E6=2,18,IF(Worksheet!E6=3,15,IF(Worksheet!E6=4,12,IF(Worksheet!E6=5,10,IF(Worksheet!E6=6,8,IF(Worksheet!E6=7,6,IF(Worksheet!E6=8,4,IF(Worksheet!E6=9,2,IF(Worksheet!E6=10,1,IF(Worksheet!E6=11,0,IF(Worksheet!E6=12,0,IF(Worksheet!E6=13,0,IF(Worksheet!E6=14,0,IF(Worksheet!E6="",0,IF(Worksheet!E6="AB",0)))))))))))))))) -> 0 | D5: =IF(Worksheet!F6=1,25,IF(Worksheet!F6=2,18,IF(Worksheet!F6=3,15,IF(Worksheet!F6=4,12,IF(Worksheet!F6=5,10,IF(Worksheet!F6=6,8,IF(Worksheet!F6=7,6,IF(Worksheet!F6=8,4,IF(Worksheet!F6=9,2,IF(Worksheet!F6=10,1,IF(Worksheet!F6=11,0,IF(Worksheet!F6=12,0,IF(Worksheet!F6=13,0,IF(Worksheet!F6=14,0,IF(Worksheet!F6="",0,IF(Worksheet!F6="AB",0)))))))))))))))) -> 0 | E5: =IF(Worksheet!G6=1,25,IF(Worksheet!G6=2,18,IF(Worksheet!G6=3,15,IF(Worksheet!G6=4,12,IF(Worksheet!G6=5,10,IF(Worksheet!G6=6,8,IF(Worksheet!G6=7,6,IF(Worksheet!G6=8,4,IF(Worksheet!G6=9,2,IF(Worksheet!G6=10,1,IF(Worksheet!G6=11,0,IF(Worksheet!G6=12,0,IF(Worksheet!G6=13,0,IF(Worksheet!G6=14,0,IF(Worksheet!G6="",0,IF(Worksheet!G6="AB",0)))))))))))))))) -> 0 | F5: =IF(Worksheet!H6=1,25,IF(Worksheet!H6=2,18,IF(Worksheet!H6=3,15,IF(Worksheet!H6=4,12,IF(Worksheet!H6=5,10,IF(Worksheet!H6=6,8,IF(Worksheet!H6=7,6,IF(Worksheet!H6=8,4,IF(Worksheet!H6=9,2,IF(Worksheet!H6=10,1,IF(Worksheet!H6=11,0,IF(Worksheet!H6=12,0,IF(Worksheet!H6=13,0,IF(Worksheet!H6=14,0,IF(Worksheet!H6="",0,IF(Worksheet!H6="AB",0)))))))))))))))) -> 0 | G5: =IF(Worksheet!I6=1,25,IF(Worksheet!I6=2,18,IF(Worksheet!I6=3,15,IF(Worksheet!I6=4,12,IF(Worksheet!I6=5,10,IF(Worksheet!I6=6,8,IF(Worksheet!I6=7,6,IF(Worksheet!I6=8,4,IF(Worksheet!I6=9,2,IF(Worksheet!I6=10,1,IF(Worksheet!I6=11,0,IF(Worksheet!I6=12,0,IF(Worksheet!I6=13,0,IF(Worksheet!I6=14,0,IF(Worksheet!I6="",0,IF(Worksheet!I6="AB",0)))))))))))))))) -> 0 | H5: =IF(Worksheet!J6=1,25,IF(Worksheet!J6=2,18,IF(Worksheet!J6=3,15,IF(Worksheet!J6=4,12,IF(Worksheet!J6=5,10,IF(Worksheet!J6=6,8,IF(Worksheet!J6=7,6,IF(Worksheet!J6=8,4,IF(Worksheet!J6=9,2,IF(Worksheet!J6=10,1,IF(Worksheet!J6=11,0,IF(Worksheet!J6=12,0,IF(Worksheet!J6=13,0,IF(Worksheet!J6=14,0,IF(Worksheet!J6="",0,IF(Worksheet!J6="AB",0)))))))))))))))) -> 0 | ... U5: =IF(Worksheet!W6=1,25,IF(Worksheet!W6=2,18,IF(Worksheet!W6=3,15,IF(Worksheet!W6=4,12,IF(Worksheet!W6=5,10,IF(Worksheet!W6=6,8,IF(Worksheet!W6=7,6,IF(Worksheet!W6=8,4,IF(Worksheet!W6=9,2,IF(Worksheet!W6=10,1,IF(Worksheet!W6=11,0,IF(Worksheet!W6=12,0,IF(Worksheet!W6=13,0,IF(Worksheet!W6=14,0,IF(Worksheet!W6="",0,IF(Worksheet!W6="AB",0)))))))))))))))) -> 0
A6: =IF(Worksheet!C7=1,25,IF(Worksheet!C7=2,18,IF(Worksheet!C7=3,15,IF(Worksheet!C7=4,12,IF(Worksheet!C7=5,10,IF(Worksheet!C7=6,8,IF(Worksheet!C7=7,6,IF(Worksheet!C7=8,4,IF(Worksheet!C7=9,2,IF(Worksheet!C7=10,1,IF(Worksheet!C7=11,0,IF(Worksheet!C7=12,0,IF(Worksheet!C7=13,0,IF(Worksheet!C7=14,0,IF(Worksheet!C7="",0,IF(Worksheet!C7="AB",0)))))))))))))))) -> 0 | B6: =IF(Worksheet!D7=1,25,IF(Worksheet!D7=2,18,IF(Worksheet!D7=3,15,IF(Worksheet!D7=4,12,IF(Worksheet!D7=5,10,IF(Worksheet!D7=6,8,IF(Worksheet!D7=7,6,IF(Worksheet!D7=8,4,IF(Worksheet!D7=9,2,IF(Worksheet!D7=10,1,IF(Worksheet!D7=11,0,IF(Worksheet!D7=12,0,IF(Worksheet!D7=13,0,IF(Worksheet!D7=14,0,IF(Worksheet!D7="",0,IF(Worksheet!D7="AB",0)))))))))))))))) -> 0 | C6: =IF(Worksheet!E7=1,25,IF(Worksheet!E7=2,18,IF(Worksheet!E7=3,15,IF(Worksheet!E7=4,12,IF(Worksheet!E7=5,10,IF(Worksheet!E7=6,8,IF(Worksheet!E7=7,6,IF(Worksheet!E7=8,4,IF(Worksheet!E7=9,2,IF(Worksheet!E7=10,1,IF(Worksheet!E7=11,0,IF(Worksheet!E7=12,0,IF(Worksheet!E7=13,0,IF(Worksheet!E7=14,0,IF(Worksheet!E7="",0,IF(Worksheet!E7="AB",0)))))))))))))))) -> 0 | D6: =IF(Worksheet!F7=1,25,IF(Worksheet!F7=2,18,IF(Worksheet!F7=3,15,IF(Worksheet!F7=4,12,IF(Worksheet!F7=5,10,IF(Worksheet!F7=6,8,IF(Worksheet!F7=7,6,IF(Worksheet!F7=8,4,IF(Worksheet!F7=9,2,IF(Worksheet!F7=10,1,IF(Worksheet!F7=11,0,IF(Worksheet!F7=12,0,IF(Worksheet!F7=13,0,IF(Worksheet!F7=14,0,IF(Worksheet!F7="",0,IF(Worksheet!F7="AB",0)))))))))))))))) -> 0 | E6: =IF(Worksheet!G7=1,25,IF(Worksheet!G7=2,18,IF(Worksheet!G7=3,15,IF(Worksheet!G7=4,12,IF(Worksheet!G7=5,10,IF(Worksheet!G7=6,8,IF(Worksheet!G7=7,6,IF(Worksheet!G7=8,4,IF(Worksheet!G7=9,2,IF(Worksheet!G7=10,1,IF(Worksheet!G7=11,0,IF(Worksheet!G7=12,0,IF(Worksheet!G7=13,0,IF(Worksheet!G7=14,0,IF(Worksheet!G7="",0,IF(Worksheet!G7="AB",0)))))))))))))))) -> 0 | F6: =IF(Worksheet!H7=1,25,IF(Worksheet!H7=2,18,IF(Worksheet!H7=3,15,IF(Worksheet!H7=4,12,IF(Worksheet!H7=5,10,IF(Worksheet!H7=6,8,IF(Worksheet!H7=7,6,IF(Worksheet!H7=8,4,IF(Worksheet!H7=9,2,IF(Worksheet!H7=10,1,IF(Worksheet!H7=11,0,IF(Worksheet!H7=12,0,IF(Worksheet!H7=13,0,IF(Worksheet!H7=14,0,IF(Worksheet!H7="",0,IF(Worksheet!H7="AB",0)))))))))))))))) -> 0 | G6: =IF(Worksheet!I7=1,25,IF(Worksheet!I7=2,18,IF(Worksheet!I7=3,15,IF(Worksheet!I7=4,12,IF(Worksheet!I7=5,10,IF(Worksheet!I7=6,8,IF(Worksheet!I7=7,6,IF(Worksheet!I7=8,4,IF(Worksheet!I7=9,2,IF(Worksheet!I7=10,1,IF(Worksheet!I7=11,0,IF(Worksheet!I7=12,0,IF(Worksheet!I7=13,0,IF(Worksheet!I7=14,0,IF(Worksheet!I7="",0,IF(Worksheet!I7="AB",0)))))))))))))))) -> 0 | H6: =IF(Worksheet!J7=1,25,IF(Worksheet!J7=2,18,IF(Worksheet!J7=3,15,IF(Worksheet!J7=4,12,IF(Worksheet!J7=5,10,IF(Worksheet!J7=6,8,IF(Worksheet!J7=7,6,IF(Worksheet!J7=8,4,IF(Worksheet!J7=9,2,IF(Worksheet!J7=10,1,IF(Worksheet!J7=11,0,IF(Worksheet!J7=12,0,IF(Worksheet!J7=13,0,IF(Worksheet!J7=14,0,IF(Worksheet!J7="",0,IF(Worksheet!J7="AB",0)))))))))))))))) -> 0 | ... U6: =IF(Worksheet!W7=1,25,IF(Worksheet!W7=2,18,IF(Worksheet!W7=3,15,IF(Worksheet!W7=4,12,IF(Worksheet!W7=5,10,IF(Worksheet!W7=6,8,IF(Worksheet!W7=7,6,IF(Worksheet!W7=8,4,IF(Worksheet!W7=9,2,IF(Worksheet!W7=10,1,IF(Worksheet!W7=11,0,IF(Worksheet!W7=12,0,IF(Worksheet!W7=13,0,IF(Worksheet!W7=14,0,IF(Worksheet!W7="",0,IF(Worksheet!W7="AB",0)))))))))))))))) -> 0
A7: =IF(Worksheet!C8=1,25,IF(Worksheet!C8=2,18,IF(Worksheet!C8=3,15,IF(Worksheet!C8=4,12,IF(Worksheet!C8=5,10,IF(Worksheet!C8=6,8,IF(Worksheet!C8=7,6,IF(Worksheet!C8=8,4,IF(Worksheet!C8=9,2,IF(Worksheet!C8=10,1,IF(Worksheet!C8=11,0,IF(Worksheet!C8=12,0,IF(Worksheet!C8=13,0,IF(Worksheet!C8=14,0,IF(Worksheet!C8="",0,IF(Worksheet!C8="AB",0)))))))))))))))) -> 25 | B7: =IF(Worksheet!D8=1,25,IF(Worksheet!D8=2,18,IF(Worksheet!D8=3,15,IF(Worksheet!D8=4,12,IF(Worksheet!D8=5,10,IF(Worksheet!D8=6,8,IF(Worksheet!D8=7,6,IF(Worksheet!D8=8,4,IF(Worksheet!D8=9,2,IF(Worksheet!D8=10,1,IF(Worksheet!D8=11,0,IF(Worksheet!D8=12,0,IF(Worksheet!D8=13,0,IF(Worksheet!D8=14,0,IF(Worksheet!D8="",0,IF(Worksheet!D8="AB",0)))))))))))))))) -> 0 | C7: =IF(Worksheet!E8=1,25,IF(Worksheet!E8=2,18,IF(Worksheet!E8=3,15,IF(Worksheet!E8=4,12,IF(Worksheet!E8=5,10,IF(Worksheet!E8=6,8,IF(Worksheet!E8=7,6,IF(Worksheet!E8=8,4,IF(Worksheet!E8=9,2,IF(Worksheet!E8=10,1,IF(Worksheet!E8=11,0,IF(Worksheet!E8=12,0,IF(Worksheet!E8=13,0,IF(Worksheet!E8=14,0,IF(Worksheet!E8="",0,IF(Worksheet!E8="AB",0)))))))))))))))) -> 0 | D7: =IF(Worksheet!F8=1,25,IF(Worksheet!F8=2,18,IF(Worksheet!F8=3,15,IF(Worksheet!F8=4,12,IF(Worksheet!F8=5,10,IF(Worksheet!F8=6,8,IF(Worksheet!F8=7,6,IF(Worksheet!F8=8,4,IF(Worksheet!F8=9,2,IF(Worksheet!F8=10,1,IF(Worksheet!F8=11,0,IF(Worksheet!F8=12,0,IF(Worksheet!F8=13,0,IF(Worksheet!F8=14,0,IF(Worksheet!F8="",0,IF(Worksheet!F8="AB",0)))))))))))))))) -> 0 | E7: =IF(Worksheet!G8=1,25,IF(Worksheet!G8=2,18,IF(Worksheet!G8=3,15,IF(Worksheet!G8=4,12,IF(Worksheet!G8=5,10,IF(Worksheet!G8=6,8,IF(Worksheet!G8=7,6,IF(Worksheet!G8=8,4,IF(Worksheet!G8=9,2,IF(Worksheet!G8=10,1,IF(Worksheet!G8=11,0,IF(Worksheet!G8=12,0,IF(Worksheet!G8=13,0,IF(Worksheet!G8=14,0,IF(Worksheet!G8="",0,IF(Worksheet!G8="AB",0)))))))))))))))) -> 0 | F7: =IF(Worksheet!H8=1,25,IF(Worksheet!H8=2,18,IF(Worksheet!H8=3,15,IF(Worksheet!H8=4,12,IF(Worksheet!H8=5,10,IF(Worksheet!H8=6,8,IF(Worksheet!H8=7,6,IF(Worksheet!H8=8,4,IF(Worksheet!H8=9,2,IF(Worksheet!H8=10,1,IF(Worksheet!H8=11,0,IF(Worksheet!H8=12,0,IF(Worksheet!H8=13,0,IF(Worksheet!H8=14,0,IF(Worksheet!H8="",0,IF(Worksheet!H8="AB",0)))))))))))))))) -> 0 | G7: =IF(Worksheet!I8=1,25,IF(Worksheet!I8=2,18,IF(Worksheet!I8=3,15,IF(Worksheet!I8=4,12,IF(Worksheet!I8=5,10,IF(Worksheet!I8=6,8,IF(Worksheet!I8=7,6,IF(Worksheet!I8=8,4,IF(Worksheet!I8=9,2,IF(Worksheet!I8=10,1,IF(Worksheet!I8=11,0,IF(Worksheet!I8=12,0,IF(Worksheet!I8=13,0,IF(Worksheet!I8=14,0,IF(Worksheet!I8="",0,IF(Worksheet!I8="AB",0)))))))))))))))) -> 0 | H7: =IF(Worksheet!J8=1,25,IF(Worksheet!J8=2,18,IF(Worksheet!J8=3,15,IF(Worksheet!J8=4,12,IF(Worksheet!J8=5,10,IF(Worksheet!J8=6,8,IF(Worksheet!J8=7,6,IF(Worksheet!J8=8,4,IF(Worksheet!J8=9,2,IF(Worksheet!J8=10,1,IF(Worksheet!J8=11,0,IF(Worksheet!J8=12,0,IF(Worksheet!J8=13,0,IF(Worksheet!J8=14,0,IF(Worksheet!J8="",0,IF(Worksheet!J8="AB",0)))))))))))))))) -> 0 | ... U7: =IF(Worksheet!W8=1,25,IF(Worksheet!W8=2,18,IF(Worksheet!W8=3,15,IF(Worksheet!W8=4,12,IF(Worksheet!W8=5,10,IF(Worksheet!W8=6,8,IF(Worksheet!W8=7,6,IF(Worksheet!W8=8,4,IF(Worksheet!W8=9,2,IF(Worksheet!W8=10,1,IF(Worksheet!W8=11,0,IF(Worksheet!W8=12,0,IF(Worksheet!W8=13,0,IF(Worksheet!W8=14,0,IF(Worksheet!W8="",0,IF(Worksheet!W8="AB",0)))))))))))))))) -> 0
A8: =IF(Worksheet!C9=1,25,IF(Worksheet!C9=2,18,IF(Worksheet!C9=3,15,IF(Worksheet!C9=4,12,IF(Worksheet!C9=5,10,IF(Worksheet!C9=6,8,IF(Worksheet!C9=7,6,IF(Worksheet!C9=8,4,IF(Worksheet!C9=9,2,IF(Worksheet!C9=10,1,IF(Worksheet!C9=11,0,IF(Worksheet!C9=12,0,IF(Worksheet!C9=13,0,IF(Worksheet!C9=14,0,IF(Worksheet!C9="",0,IF(Worksheet!C9="AB",0)))))))))))))))) -> 0 | B8: =IF(Worksheet!D9=1,25,IF(Worksheet!D9=2,18,IF(Worksheet!D9=3,15,IF(Worksheet!D9=4,12,IF(Worksheet!D9=5,10,IF(Worksheet!D9=6,8,IF(Worksheet!D9=7,6,IF(Worksheet!D9=8,4,IF(Worksheet!D9=9,2,IF(Worksheet!D9=10,1,IF(Worksheet!D9=11,0,IF(Worksheet!D9=12,0,IF(Worksheet!D9=13,0,IF(Worksheet!D9=14,0,IF(Worksheet!D9="",0,IF(Worksheet!D9="AB",0)))))))))))))))) -> 0 | C8: =IF(Worksheet!E9=1,25,IF(Worksheet!E9=2,18,IF(Worksheet!E9=3,15,IF(Worksheet!E9=4,12,IF(Worksheet!E9=5,10,IF(Worksheet!E9=6,8,IF(Worksheet!E9=7,6,IF(Worksheet!E9=8,4,IF(Worksheet!E9=9,2,IF(Worksheet!E9=10,1,IF(Worksheet!E9=11,0,IF(Worksheet!E9=12,0,IF(Worksheet!E9=13,0,IF(Worksheet!E9=14,0,IF(Worksheet!E9="",0,IF(Worksheet!E9="AB",0)))))))))))))))) -> 0 | D8: =IF(Worksheet!F9=1,25,IF(Worksheet!F9=2,18,IF(Worksheet!F9=3,15,IF(Worksheet!F9=4,12,IF(Worksheet!F9=5,10,IF(Worksheet!F9=6,8,IF(Worksheet!F9=7,6,IF(Worksheet!F9=8,4,IF(Worksheet!F9=9,2,IF(Worksheet!F9=10,1,IF(Worksheet!F9=11,0,IF(Worksheet!F9=12,0,IF(Worksheet!F9=13,0,IF(Worksheet!F9=14,0,IF(Worksheet!F9="",0,IF(Worksheet!F9="AB",0)))))))))))))))) -> 0 | E8: =IF(Worksheet!G9=1,25,IF(Worksheet!G9=2,18,IF(Worksheet!G9=3,15,IF(Worksheet!G9=4,12,IF(Worksheet!G9=5,10,IF(Worksheet!G9=6,8,IF(Worksheet!G9=7,6,IF(Worksheet!G9=8,4,IF(Worksheet!G9=9,2,IF(Worksheet!G9=10,1,IF(Worksheet!G9=11,0,IF(Worksheet!G9=12,0,IF(Worksheet!G9=13,0,IF(Worksheet!G9=14,0,IF(Worksheet!G9="",0,IF(Worksheet!G9="AB",0)))))))))))))))) -> 0 | F8: =IF(Worksheet!H9=1,25,IF(Worksheet!H9=2,18,IF(Worksheet!H9=3,15,IF(Worksheet!H9=4,12,IF(Worksheet!H9=5,10,IF(Worksheet!H9=6,8,IF(Worksheet!H9=7,6,IF(Worksheet!H9=8,4,IF(Worksheet!H9=9,2,IF(Worksheet!H9=10,1,IF(Worksheet!H9=11,0,IF(Worksheet!H9=12,0,IF(Worksheet!H9=13,0,IF(Worksheet!H9=14,0,IF(Worksheet!H9="",0,IF(Worksheet!H9="AB",0)))))))))))))))) -> 0 | G8: =IF(Worksheet!I9=1,25,IF(Worksheet!I9=2,18,IF(Worksheet!I9=3,15,IF(Worksheet!I9=4,12,IF(Worksheet!I9=5,10,IF(Worksheet!I9=6,8,IF(Worksheet!I9=7,6,IF(Worksheet!I9=8,4,IF(Worksheet!I9=9,2,IF(Worksheet!I9=10,1,IF(Worksheet!I9=11,0,IF(Worksheet!I9=12,0,IF(Worksheet!I9=13,0,IF(Worksheet!I9=14,0,IF(Worksheet!I9="",0,IF(Worksheet!I9="AB",0)))))))))))))))) -> 0 | H8: =IF(Worksheet!J9=1,25,IF(Worksheet!J9=2,18,IF(Worksheet!J9=3,15,IF(Worksheet!J9=4,12,IF(Worksheet!J9=5,10,IF(Worksheet!J9=6,8,IF(Worksheet!J9=7,6,IF(Worksheet!J9=8,4,IF(Worksheet!J9=9,2,IF(Worksheet!J9=10,1,IF(Worksheet!J9=11,0,IF(Worksheet!J9=12,0,IF(Worksheet!J9=13,0,IF(Worksheet!J9=14,0,IF(Worksheet!J9="",0,IF(Worksheet!J9="AB",0)))))))))))))))) -> 0 | ... U8: =IF(Worksheet!W9=1,25,IF(Worksheet!W9=2,18,IF(Worksheet!W9=3,15,IF(Worksheet!W9=4,12,IF(Worksheet!W9=5,10,IF(Worksheet!W9=6,8,IF(Worksheet!W9=7,6,IF(Worksheet!W9=8,4,IF(Worksheet!W9=9,2,IF(Worksheet!W9=10,1,IF(Worksheet!W9=11,0,IF(Worksheet!W9=12,0,IF(Worksheet!W9=13,0,IF(Worksheet!W9=14,0,IF(Worksheet!W9="",0,IF(Worksheet!W9="AB",0)))))))))))))))) -> 0
A9: =IF(Worksheet!C10=1,25,IF(Worksheet!C10=2,18,IF(Worksheet!C10=3,15,IF(Worksheet!C10=4,12,IF(Worksheet!C10=5,10,IF(Worksheet!C10=6,8,IF(Worksheet!C10=7,6,IF(Worksheet!C10=8,4,IF(Worksheet!C10=9,2,IF(Worksheet!C10=10,1,IF(Worksheet!C10=11,0,IF(Worksheet!C10=12,0,IF(Worksheet!C10=13,0,IF(Worksheet!C10=14,0,IF(Worksheet!C10="",0,IF(Worksheet!C10="AB",0)))))))))))))))) -> 0 | B9: =IF(Worksheet!D10=1,25,IF(Worksheet!D10=2,18,IF(Worksheet!D10=3,15,IF(Worksheet!D10=4,12,IF(Worksheet!D10=5,10,IF(Worksheet!D10=6,8,IF(Worksheet!D10=7,6,IF(Worksheet!D10=8,4,IF(Worksheet!D10=9,2,IF(Worksheet!D10=10,1,IF(Worksheet!D10=11,0,IF(Worksheet!D10=12,0,IF(Worksheet!D10=13,0,IF(Worksheet!D10=14,0,IF(Worksheet!D10="",0,IF(Worksheet!D10="AB",0)))))))))))))))) -> 0 | C9: =IF(Worksheet!E10=1,25,IF(Worksheet!E10=2,18,IF(Worksheet!E10=3,15,IF(Worksheet!E10=4,12,IF(Worksheet!E10=5,10,IF(Worksheet!E10=6,8,IF(Worksheet!E10=7,6,IF(Worksheet!E10=8,4,IF(Worksheet!E10=9,2,IF(Worksheet!E10=10,1,IF(Worksheet!E10=11,0,IF(Worksheet!E10=12,0,IF(Worksheet!E10=13,0,IF(Worksheet!E10=14,0,IF(Worksheet!E10="",0,IF(Worksheet!E10="AB",0)))))))))))))))) -> 0 | D9: =IF(Worksheet!F10=1,25,IF(Worksheet!F10=2,18,IF(Worksheet!F10=3,15,IF(Worksheet!F10=4,12,IF(Worksheet!F10=5,10,IF(Worksheet!F10=6,8,IF(Worksheet!F10=7,6,IF(Worksheet!F10=8,4,IF(Worksheet!F10=9,2,IF(Worksheet!F10=10,1,IF(Worksheet!F10=11,0,IF(Worksheet!F10=12,0,IF(Worksheet!F10=13,0,IF(Worksheet!F10=14,0,IF(Worksheet!F10="",0,IF(Worksheet!F10="AB",0)))))))))))))))) -> 0 | E9: =IF(Worksheet!G10=1,25,IF(Worksheet!G10=2,18,IF(Worksheet!G10=3,15,IF(Worksheet!G10=4,12,IF(Worksheet!G10=5,10,IF(Worksheet!G10=6,8,IF(Worksheet!G10=7,6,IF(Worksheet!G10=8,4,IF(Worksheet!G10=9,2,IF(Worksheet!G10=10,1,IF(Worksheet!G10=11,0,IF(Worksheet!G10=12,0,IF(Worksheet!G10=13,0,IF(Worksheet!G10=14,0,IF(Worksheet!G10="",0,IF(Worksheet!G10="AB",0)))))))))))))))) -> 0 | F9: =IF(Worksheet!H10=1,25,IF(Worksheet!H10=2,18,IF(Worksheet!H10=3,15,IF(Worksheet!H10=4,12,IF(Worksheet!H10=5,10,IF(Worksheet!H10=6,8,IF(Worksheet!H10=7,6,IF(Worksheet!H10=8,4,IF(Worksheet!H10=9,2,IF(Worksheet!H10=10,1,IF(Worksheet!H10=11,0,IF(Worksheet!H10=12,0,IF(Worksheet!H10=13,0,IF(Worksheet!H10=14,0,IF(Worksheet!H10="",0,IF(Worksheet!H10="AB",0)))))))))))))))) -> 0 | G9: =IF(Worksheet!I10=1,25,IF(Worksheet!I10=2,18,IF(Worksheet!I10=3,15,IF(Worksheet!I10=4,12,IF(Worksheet!I10=5,10,IF(Worksheet!I10=6,8,IF(Worksheet!I10=7,6,IF(Worksheet!I10=8,4,IF(Worksheet!I10=9,2,IF(Worksheet!I10=10,1,IF(Worksheet!I10=11,0,IF(Worksheet!I10=12,0,IF(Worksheet!I10=13,0,IF(Worksheet!I10=14,0,IF(Worksheet!I10="",0,IF(Worksheet!I10="AB",0)))))))))))))))) -> 0 | H9: =IF(Worksheet!J10=1,25,IF(Worksheet!J10=2,18,IF(Worksheet!J10=3,15,IF(Worksheet!J10=4,12,IF(Worksheet!J10=5,10,IF(Worksheet!J10=6,8,IF(Worksheet!J10=7,6,IF(Worksheet!J10=8,4,IF(Worksheet!J10=9,2,IF(Worksheet!J10=10,1,IF(Worksheet!J10=11,0,IF(Worksheet!J10=12,0,IF(Worksheet!J10=13,0,IF(Worksheet!J10=14,0,IF(Worksheet!J10="",0,IF(Worksheet!J10="AB",0)))))))))))))))) -> 0 | ... U9: =IF(Worksheet!W10=1,25,IF(Worksheet!W10=2,18,IF(Worksheet!W10=3,15,IF(Worksheet!W10=4,12,IF(Worksheet!W10=5,10,IF(Worksheet!W10=6,8,IF(Worksheet!W10=7,6,IF(Worksheet!W10=8,4,IF(Worksheet!W10=9,2,IF(Worksheet!W10=10,1,IF(Worksheet!W10=11,0,IF(Worksheet!W10=12,0,IF(Worksheet!W10=13,0,IF(Worksheet!W10=14,0,IF(Worksheet!W10="",0,IF(Worksheet!W10="AB",0)))))))))))))))) -> 0
A10: =IF(Worksheet!C11=1,25,IF(Worksheet!C11=2,18,IF(Worksheet!C11=3,15,IF(Worksheet!C11=4,12,IF(Worksheet!C11=5,10,IF(Worksheet!C11=6,8,IF(Worksheet!C11=7,6,IF(Worksheet!C11=8,4,IF(Worksheet!C11=9,2,IF(Worksheet!C11=10,1,IF(Worksheet!C11=11,0,IF(Worksheet!C11=12,0,IF(Worksheet!C11=13,0,IF(Worksheet!C11=14,0,IF(Worksheet!C11="",0,IF(Worksheet!C11="AB",0)))))))))))))))) -> 12 | B10: =IF(Worksheet!D11=1,25,IF(Worksheet!D11=2,18,IF(Worksheet!D11=3,15,IF(Worksheet!D11=4,12,IF(Worksheet!D11=5,10,IF(Worksheet!D11=6,8,IF(Worksheet!D11=7,6,IF(Worksheet!D11=8,4,IF(Worksheet!D11=9,2,IF(Worksheet!D11=10,1,IF(Worksheet!D11=11,0,IF(Worksheet!D11=12,0,IF(Worksheet!D11=13,0,IF(Worksheet!D11=14,0,IF(Worksheet!D11="",0,IF(Worksheet!D11="AB",0)))))))))))))))) -> 0 | C10: =IF(Worksheet!E11=1,25,IF(Worksheet!E11=2,18,IF(Worksheet!E11=3,15,IF(Worksheet!E11=4,12,IF(Worksheet!E11=5,10,IF(Worksheet!E11=6,8,IF(Worksheet!E11=7,6,IF(Worksheet!E11=8,4,IF(Worksheet!E11=9,2,IF(Worksheet!E11=10,1,IF(Worksheet!E11=11,0,IF(Worksheet!E11=12,0,IF(Worksheet!E11=13,0,IF(Worksheet!E11=14,0,IF(Worksheet!E11="",0,IF(Worksheet!E11="AB",0)))))))))))))))) -> 0 | D10: =IF(Worksheet!F11=1,25,IF(Worksheet!F11=2,18,IF(Worksheet!F11=3,15,IF(Worksheet!F11=4,12,IF(Worksheet!F11=5,10,IF(Worksheet!F11=6,8,IF(Worksheet!F11=7,6,IF(Worksheet!F11=8,4,IF(Worksheet!F11=9,2,IF(Worksheet!F11=10,1,IF(Worksheet!F11=11,0,IF(Worksheet!F11=12,0,IF(Worksheet!F11=13,0,IF(Worksheet!F11=14,0,IF(Worksheet!F11="",0,IF(Worksheet!F11="AB",0)))))))))))))))) -> 0 | E10: =IF(Worksheet!G11=1,25,IF(Worksheet!G11=2,18,IF(Worksheet!G11=3,15,IF(Worksheet!G11=4,12,IF(Worksheet!G11=5,10,IF(Worksheet!G11=6,8,IF(Worksheet!G11=7,6,IF(Worksheet!G11=8,4,IF(Worksheet!G11=9,2,IF(Worksheet!G11=10,1,IF(Worksheet!G11=11,0,IF(Worksheet!G11=12,0,IF(Worksheet!G11=13,0,IF(Worksheet!G11=14,0,IF(Worksheet!G11="",0,IF(Worksheet!G11="AB",0)))))))))))))))) -> 0 | F10: =IF(Worksheet!H11=1,25,IF(Worksheet!H11=2,18,IF(Worksheet!H11=3,15,IF(Worksheet!H11=4,12,IF(Worksheet!H11=5,10,IF(Worksheet!H11=6,8,IF(Worksheet!H11=7,6,IF(Worksheet!H11=8,4,IF(Worksheet!H11=9,2,IF(Worksheet!H11=10,1,IF(Worksheet!H11=11,0,IF(Worksheet!H11=12,0,IF(Worksheet!H11=13,0,IF(Worksheet!H11=14,0,IF(Worksheet!H11="",0,IF(Worksheet!H11="AB",0)))))))))))))))) -> 0 | G10: =IF(Worksheet!I11=1,25,IF(Worksheet!I11=2,18,IF(Worksheet!I11=3,15,IF(Worksheet!I11=4,12,IF(Worksheet!I11=5,10,IF(Worksheet!I11=6,8,IF(Worksheet!I11=7,6,IF(Worksheet!I11=8,4,IF(Worksheet!I11=9,2,IF(Worksheet!I11=10,1,IF(Worksheet!I11=11,0,IF(Worksheet!I11=12,0,IF(Worksheet!I11=13,0,IF(Worksheet!I11=14,0,IF(Worksheet!I11="",0,IF(Worksheet!I11="AB",0)))))))))))))))) -> 0 | H10: =IF(Worksheet!J11=1,25,IF(Worksheet!J11=2,18,IF(Worksheet!J11=3,15,IF(Worksheet!J11=4,12,IF(Worksheet!J11=5,10,IF(Worksheet!J11=6,8,IF(Worksheet!J11=7,6,IF(Worksheet!J11=8,4,IF(Worksheet!J11=9,2,IF(Worksheet!J11=10,1,IF(Worksheet!J11=11,0,IF(Worksheet!J11=12,0,IF(Worksheet!J11=13,0,IF(Worksheet!J11=14,0,IF(Worksheet!J11="",0,IF(Worksheet!J11="AB",0)))))))))))))))) -> 0 | ... U10: =IF(Worksheet!W11=1,25,IF(Worksheet!W11=2,18,IF(Worksheet!W11=3,15,IF(Worksheet!W11=4,12,IF(Worksheet!W11=5,10,IF(Worksheet!W11=6,8,IF(Worksheet!W11=7,6,IF(Worksheet!W11=8,4,IF(Worksheet!W11=9,2,IF(Worksheet!W11=10,1,IF(Worksheet!W11=11,0,IF(Worksheet!W11=12,0,IF(Worksheet!W11=13,0,IF(Worksheet!W11=14,0,IF(Worksheet!W11="",0,IF(Worksheet!W11="AB",0)))))))))))))))) -> 0
A11: =IF(Worksheet!C12=1,25,IF(Worksheet!C12=2,18,IF(Worksheet!C12=3,15,IF(Worksheet!C12=4,12,IF(Worksheet!C12=5,10,IF(Worksheet!C12=6,8,IF(Worksheet!C12=7,6,IF(Worksheet!C12=8,4,IF(Worksheet!C12=9,2,IF(Worksheet!C12=10,1,IF(Worksheet!C12=11,0,IF(Worksheet!C12=12,0,IF(Worksheet!C12=13,0,IF(Worksheet!C12=14,0,IF(Worksheet!C12="",0,IF(Worksheet!C12="AB",0)))))))))))))))) -> 0 | B11: =IF(Worksheet!D12=1,25,IF(Worksheet!D12=2,18,IF(Worksheet!D12=3,15,IF(Worksheet!D12=4,12,IF(Worksheet!D12=5,10,IF(Worksheet!D12=6,8,IF(Worksheet!D12=7,6,IF(Worksheet!D12=8,4,IF(Worksheet!D12=9,2,IF(Worksheet!D12=10,1,IF(Worksheet!D12=11,0,IF(Worksheet!D12=12,0,IF(Worksheet!D12=13,0,IF(Worksheet!D12=14,0,IF(Worksheet!D12="",0,IF(Worksheet!D12="AB",0)))))))))))))))) -> 0 | C11: =IF(Worksheet!E12=1,25,IF(Worksheet!E12=2,18,IF(Worksheet!E12=3,15,IF(Worksheet!E12=4,12,IF(Worksheet!E12=5,10,IF(Worksheet!E12=6,8,IF(Worksheet!E12=7,6,IF(Worksheet!E12=8,4,IF(Worksheet!E12=9,2,IF(Worksheet!E12=10,1,IF(Worksheet!E12=11,0,IF(Worksheet!E12=12,0,IF(Worksheet!E12=13,0,IF(Worksheet!E12=14,0,IF(Worksheet!E12="",0,IF(Worksheet!E12="AB",0)))))))))))))))) -> 0 | D11: =IF(Worksheet!F12=1,25,IF(Worksheet!F12=2,18,IF(Worksheet!F12=3,15,IF(Worksheet!F12=4,12,IF(Worksheet!F12=5,10,IF(Worksheet!F12=6,8,IF(Worksheet!F12=7,6,IF(Worksheet!F12=8,4,IF(Worksheet!F12=9,2,IF(Worksheet!F12=10,1,IF(Worksheet!F12=11,0,IF(Worksheet!F12=12,0,IF(Worksheet!F12=13,0,IF(Worksheet!F12=14,0,IF(Worksheet!F12="",0,IF(Worksheet!F12="AB",0)))))))))))))))) -> 0 | E11: =IF(Worksheet!G12=1,25,IF(Worksheet!G12=2,18,IF(Worksheet!G12=3,15,IF(Worksheet!G12=4,12,IF(Worksheet!G12=5,10,IF(Worksheet!G12=6,8,IF(Worksheet!G12=7,6,IF(Worksheet!G12=8,4,IF(Worksheet!G12=9,2,IF(Worksheet!G12=10,1,IF(Worksheet!G12=11,0,IF(Worksheet!G12=12,0,IF(Worksheet!G12=13,0,IF(Worksheet!G12=14,0,IF(Worksheet!G12="",0,IF(Worksheet!G12="AB",0)))))))))))))))) -> 0 | F11: =IF(Worksheet!H12=1,25,IF(Worksheet!H12=2,18,IF(Worksheet!H12=3,15,IF(Worksheet!H12=4,12,IF(Worksheet!H12=5,10,IF(Worksheet!H12=6,8,IF(Worksheet!H12=7,6,IF(Worksheet!H12=8,4,IF(Worksheet!H12=9,2,IF(Worksheet!H12=10,1,IF(Worksheet!H12=11,0,IF(Worksheet!H12=12,0,IF(Worksheet!H12=13,0,IF(Worksheet!H12=14,0,IF(Worksheet!H12="",0,IF(Worksheet!H12="AB",0)))))))))))))))) -> 0 | G11: =IF(Worksheet!I12=1,25,IF(Worksheet!I12=2,18,IF(Worksheet!I12=3,15,IF(Worksheet!I12=4,12,IF(Worksheet!I12=5,10,IF(Worksheet!I12=6,8,IF(Worksheet!I12=7,6,IF(Worksheet!I12=8,4,IF(Worksheet!I12=9,2,IF(Worksheet!I12=10,1,IF(Worksheet!I12=11,0,IF(Worksheet!I12=12,0,IF(Worksheet!I12=13,0,IF(Worksheet!I12=14,0,IF(Worksheet!I12="",0,IF(Worksheet!I12="AB",0)))))))))))))))) -> 0 | H11: =IF(Worksheet!J12=1,25,IF(Worksheet!J12=2,18,IF(Worksheet!J12=3,15,IF(Worksheet!J12=4,12,IF(Worksheet!J12=5,10,IF(Worksheet!J12=6,8,IF(Worksheet!J12=7,6,IF(Worksheet!J12=8,4,IF(Worksheet!J12=9,2,IF(Worksheet!J12=10,1,IF(Worksheet!J12=11,0,IF(Worksheet!J12=12,0,IF(Worksheet!J12=13,0,IF(Worksheet!J12=14,0,IF(Worksheet!J12="",0,IF(Worksheet!J12="AB",0)))))))))))))))) -> 0 | ... U11: =IF(Worksheet!W12=1,25,IF(Worksheet!W12=2,18,IF(Worksheet!W12=3,15,IF(Worksheet!W12=4,12,IF(Worksheet!W12=5,10,IF(Worksheet!W12=6,8,IF(Worksheet!W12=7,6,IF(Worksheet!W12=8,4,IF(Worksheet!W12=9,2,IF(Worksheet!W12=10,1,IF(Worksheet!W12=11,0,IF(Worksheet!W12=12,0,IF(Worksheet!W12=13,0,IF(Worksheet!W12=14,0,IF(Worksheet!W12="",0,IF(Worksheet!W12="AB",0)))))))))))))))) -> 0
A12: =IF(Worksheet!C13=1,25,IF(Worksheet!C13=2,18,IF(Worksheet!C13=3,15,IF(Worksheet!C13=4,12,IF(Worksheet!C13=5,10,IF(Worksheet!C13=6,8,IF(Worksheet!C13=7,6,IF(Worksheet!C13=8,4,IF(Worksheet!C13=9,2,IF(Worksheet!C13=10,1,IF(Worksheet!C13=11,0,IF(Worksheet!C13=12,0,IF(Worksheet!C13=13,0,IF(Worksheet!C13=14,0,IF(Worksheet!C13="",0,IF(Worksheet!C13="AB",0)))))))))))))))) -> 2 | B12: =IF(Worksheet!D13=1,25,IF(Worksheet!D13=2,18,IF(Worksheet!D13=3,15,IF(Worksheet!D13=4,12,IF(Worksheet!D13=5,10,IF(Worksheet!D13=6,8,IF(Worksheet!D13=7,6,IF(Worksheet!D13=8,4,IF(Worksheet!D13=9,2,IF(Worksheet!D13=10,1,IF(Worksheet!D13=11,0,IF(Worksheet!D13=12,0,IF(Worksheet!D13=13,0,IF(Worksheet!D13=14,0,IF(Worksheet!D13="",0,IF(Worksheet!D13="AB",0)))))))))))))))) -> 0 | C12: =IF(Worksheet!E13=1,25,IF(Worksheet!E13=2,18,IF(Worksheet!E13=3,15,IF(Worksheet!E13=4,12,IF(Worksheet!E13=5,10,IF(Worksheet!E13=6,8,IF(Worksheet!E13=7,6,IF(Worksheet!E13=8,4,IF(Worksheet!E13=9,2,IF(Worksheet!E13=10,1,IF(Worksheet!E13=11,0,IF(Worksheet!E13=12,0,IF(Worksheet!E13=13,0,IF(Worksheet!E13=14,0,IF(Worksheet!E13="",0,IF(Worksheet!E13="AB",0)))))))))))))))) -> 0 | D12: =IF(Worksheet!F13=1,25,IF(Worksheet!F13=2,18,IF(Worksheet!F13=3,15,IF(Worksheet!F13=4,12,IF(Worksheet!F13=5,10,IF(Worksheet!F13=6,8,IF(Worksheet!F13=7,6,IF(Worksheet!F13=8,4,IF(Worksheet!F13=9,2,IF(Worksheet!F13=10,1,IF(Worksheet!F13=11,0,IF(Worksheet!F13=12,0,IF(Worksheet!F13=13,0,IF(Worksheet!F13=14,0,IF(Worksheet!F13="",0,IF(Worksheet!F13="AB",0)))))))))))))))) -> 0 | E12: =IF(Worksheet!G13=1,25,IF(Worksheet!G13=2,18,IF(Worksheet!G13=3,15,IF(Worksheet!G13=4,12,IF(Worksheet!G13=5,10,IF(Worksheet!G13=6,8,IF(Worksheet!G13=7,6,IF(Worksheet!G13=8,4,IF(Worksheet!G13=9,2,IF(Worksheet!G13=10,1,IF(Worksheet!G13=11,0,IF(Worksheet!G13=12,0,IF(Worksheet!G13=13,0,IF(Worksheet!G13=14,0,IF(Worksheet!G13="",0,IF(Worksheet!G13="AB",0)))))))))))))))) -> 0 | F12: =IF(Worksheet!H13=1,25,IF(Worksheet!H13=2,18,IF(Worksheet!H13=3,15,IF(Worksheet!H13=4,12,IF(Worksheet!H13=5,10,IF(Worksheet!H13=6,8,IF(Worksheet!H13=7,6,IF(Worksheet!H13=8,4,IF(Worksheet!H13=9,2,IF(Worksheet!H13=10,1,IF(Worksheet!H13=11,0,IF(Worksheet!H13=12,0,IF(Worksheet!H13=13,0,IF(Worksheet!H13=14,0,IF(Worksheet!H13="",0,IF(Worksheet!H13="AB",0)))))))))))))))) -> 0 | G12: =IF(Worksheet!I13=1,25,IF(Worksheet!I13=2,18,IF(Worksheet!I13=3,15,IF(Worksheet!I13=4,12,IF(Worksheet!I13=5,10,IF(Worksheet!I13=6,8,IF(Worksheet!I13=7,6,IF(Worksheet!I13=8,4,IF(Worksheet!I13=9,2,IF(Worksheet!I13=10,1,IF(Worksheet!I13=11,0,IF(Worksheet!I13=12,0,IF(Worksheet!I13=13,0,IF(Worksheet!I13=14,0,IF(Worksheet!I13="",0,IF(Worksheet!I13="AB",0)))))))))))))))) -> 0 | H12: =IF(Worksheet!J13=1,25,IF(Worksheet!J13=2,18,IF(Worksheet!J13=3,15,IF(Worksheet!J13=4,12,IF(Worksheet!J13=5,10,IF(Worksheet!J13=6,8,IF(Worksheet!J13=7,6,IF(Worksheet!J13=8,4,IF(Worksheet!J13=9,2,IF(Worksheet!J13=10,1,IF(Worksheet!J13=11,0,IF(Worksheet!J13=12,0,IF(Worksheet!J13=13,0,IF(Worksheet!J13=14,0,IF(Worksheet!J13="",0,IF(Worksheet!J13="AB",0)))))))))))))))) -> 0 | ... U12: =IF(Worksheet!W13=1,25,IF(Worksheet!W13=2,18,IF(Worksheet!W13=3,15,IF(Worksheet!W13=4,12,IF(Worksheet!W13=5,10,IF(Worksheet!W13=6,8,IF(Worksheet!W13=7,6,IF(Worksheet!W13=8,4,IF(Worksheet!W13=9,2,IF(Worksheet!W13=10,1,IF(Worksheet!W13=11,0,IF(Worksheet!W13=12,0,IF(Worksheet!W13=13,0,IF(Worksheet!W13=14,0,IF(Worksheet!W13="",0,IF(Worksheet!W13="AB",0)))))))))))))))) -> 0
... A14: =IF(Worksheet!C15=1,25,IF(Worksheet!C15=2,18,IF(Worksheet!C15=3,15,IF(Worksheet!C15=4,12,IF(Worksheet!C15=5,10,IF(Worksheet!C15=6,8,IF(Worksheet!C15=7,6,IF(Worksheet!C15=8,4,IF(Worksheet!C15=9,2,IF(Worksheet!C15=10,1,IF(Worksheet!C15=11,0,IF(Worksheet!C15=12,0,IF(Worksheet!C15=13,0,IF(Worksheet!C15=14,0,IF(Worksheet!C15="",0,IF(Worksheet!C15="AB",0)))))))))))))))) -> 10 | B14: =IF(Worksheet!D15=1,25,IF(Worksheet!D15=2,18,IF(Worksheet!D15=3,15,IF(Worksheet!D15=4,12,IF(Worksheet!D15=5,10,IF(Worksheet!D15=6,8,IF(Worksheet!D15=7,6,IF(Worksheet!D15=8,4,IF(Worksheet!D15=9,2,IF(Worksheet!D15=10,1,IF(Worksheet!D15=11,0,IF(Worksheet!D15=12,0,IF(Worksheet!D15=13,0,IF(Worksheet!D15=14,0,IF(Worksheet!D15="",0,IF(Worksheet!D15="AB",0)))))))))))))))) -> 0 | C14: =IF(Worksheet!E15=1,25,IF(Worksheet!E15=2,18,IF(Worksheet!E15=3,15,IF(Worksheet!E15=4,12,IF(Worksheet!E15=5,10,IF(Worksheet!E15=6,8,IF(Worksheet!E15=7,6,IF(Worksheet!E15=8,4,IF(Worksheet!E15=9,2,IF(Worksheet!E15=10,1,IF(Worksheet!E15=11,0,IF(Worksheet!E15=12,0,IF(Worksheet!E15=13,0,IF(Worksheet!E15=14,0,IF(Worksheet!E15="",0,IF(Worksheet!E15="AB",0)))))))))))))))) -> 0 | D14: =IF(Worksheet!F15=1,25,IF(Worksheet!F15=2,18,IF(Worksheet!F15=3,15,IF(Worksheet!F15=4,12,IF(Worksheet!F15=5,10,IF(Worksheet!F15=6,8,IF(Worksheet!F15=7,6,IF(Worksheet!F15=8,4,IF(Worksheet!F15=9,2,IF(Worksheet!F15=10,1,IF(Worksheet!F15=11,0,IF(Worksheet!F15=12,0,IF(Worksheet!F15=13,0,IF(Worksheet!F15=14,0,IF(Worksheet!F15="",0,IF(Worksheet!F15="AB",0)))))))))))))))) -> 0 | E14: =IF(Worksheet!G15=1,25,IF(Worksheet!G15=2,18,IF(Worksheet!G15=3,15,IF(Worksheet!G15=4,12,IF(Worksheet!G15=5,10,IF(Worksheet!G15=6,8,IF(Worksheet!G15=7,6,IF(Worksheet!G15=8,4,IF(Worksheet!G15=9,2,IF(Worksheet!G15=10,1,IF(Worksheet!G15=11,0,IF(Worksheet!G15=12,0,IF(Worksheet!G15=13,0,IF(Worksheet!G15=14,0,IF(Worksheet!G15="",0,IF(Worksheet!G15="AB",0)))))))))))))))) -> 0 | F14: =IF(Worksheet!H15=1,25,IF(Worksheet!H15=2,18,IF(Worksheet!H15=3,15,IF(Worksheet!H15=4,12,IF(Worksheet!H15=5,10,IF(Worksheet!H15=6,8,IF(Worksheet!H15=7,6,IF(Worksheet!H15=8,4,IF(Worksheet!H15=9,2,IF(Worksheet!H15=10,1,IF(Worksheet!H15=11,0,IF(Worksheet!H15=12,0,IF(Worksheet!H15=13,0,IF(Worksheet!H15=14,0,IF(Worksheet!H15="",0,IF(Worksheet!H15="AB",0)))))))))))))))) -> 0 | G14: =IF(Worksheet!I15=1,25,IF(Worksheet!I15=2,18,IF(Worksheet!I15=3,15,IF(Worksheet!I15=4,12,IF(Worksheet!I15=5,10,IF(Worksheet!I15=6,8,IF(Worksheet!I15=7,6,IF(Worksheet!I15=8,4,IF(Worksheet!I15=9,2,IF(Worksheet!I15=10,1,IF(Worksheet!I15=11,0,IF(Worksheet!I15=12,0,IF(Worksheet!I15=13,0,IF(Worksheet!I15=14,0,IF(Worksheet!I15="",0,IF(Worksheet!I15="AB",0)))))))))))))))) -> 0 | H14: =IF(Worksheet!J15=1,25,IF(Worksheet!J15=2,18,IF(Worksheet!J15=3,15,IF(Worksheet!J15=4,12,IF(Worksheet!J15=5,10,IF(Worksheet!J15=6,8,IF(Worksheet!J15=7,6,IF(Worksheet!J15=8,4,IF(Worksheet!J15=9,2,IF(Worksheet!J15=10,1,IF(Worksheet!J15=11,0,IF(Worksheet!J15=12,0,IF(Worksheet!J15=13,0,IF(Worksheet!J15=14,0,IF(Worksheet!J15="",0,IF(Worksheet!J15="AB",0)))))))))))))))) -> 0 | ... U14: =IF(Worksheet!W15=1,25,IF(Worksheet!W15=2,18,IF(Worksheet!W15=3,15,IF(Worksheet!W15=4,12,IF(Worksheet!W15=5,10,IF(Worksheet!W15=6,8,IF(Worksheet!W15=7,6,IF(Worksheet!W15=8,4,IF(Worksheet!W15=9,2,IF(Worksheet!W15=10,1,IF(Worksheet!W15=11,0,IF(Worksheet!W15=12,0,IF(Worksheet!W15=13,0,IF(Worksheet!W15=14,0,IF(Worksheet!W15="",0,IF(Worksheet!W15="AB",0)))))))))))))))) -> 0
