Workbook

Sheet chart
N1: PRODUIT A | Q1: PRODUIT B
B2: CF ONGLET SOURCE | N2: COLD | Q2: HOT
N4: janvier | O4: février | Q4: janvier | R4: février
A5: numéro | B5: site | C5: directeur | D5: adresse | E5: type site | F5: cp | G5: ville | H5: région | I5: MACHINE | J5: code da | K5: TYPE | L5: fusion I | M5: FUSION II
A6: 1 | B6: AZ | C6: PAUL | D6: RUE PERLE | E6: GYMN | F6: 75001 | G6: paris | H6: IDF | I6: mac9056 | J6: A1234 | K6: hot | L6: =CONCATENATE(G6," ",J6) -> paris A1234 | M6: =CONCATENATE(L6, " ",I6) -> paris A1234 mac9056 | N6: =IF(K6="cold",SUMIFS(source!$I$2:$I$17,source!$J$2:$J$17,chart!L6,source!$K$2:$K$17,chart!$N$4),"") | O6: =IF(K6="cold",SUMIFS(source!$I$2:$I$17,source!$J$2:$J$17,chart!L6,source!$K$2:$K$17,chart!$O$4),"") | Q6: =IF(K6="HOT",SUMIFS(source!$I$2:$I$17,source!$J$2:$J$17,chart!L6,source!$K$2:$K$17,chart!$Q$4),"") -> 344 | R6: =IF(K6="HOT",SUMIFS(source!$I$2:$I$17,source!$J$2:$J$17,chart!L6,source!$K$2:$K$17,chart!$R$4),"") -> 213
A7: 2 | B7: ER | C7: PIERRE | D7: AVENUE MICHOT | E7: CLUB | F7: 59000 | G7: lille | H7: NORD | I7: MAC4567 | J7: Z2345 | K7: cold | L7: =CONCATENATE(G7," ",J7) -> lille Z2345 | M7: =CONCATENATE(L7, " ",I7) -> lille Z2345 MAC4567 | N7: =IF(K7="cold",SUMIFS(source!$I$2:$I$17,source!$J$2:$J$17,chart!L7,source!$K$2:$K$17,chart!$N$4),"") -> 66 | O7: =IF(K7="cold",SUMIFS(source!$I$2:$I$17,source!$J$2:$J$17,chart!L7,source!$K$2:$K$17,chart!$O$4),"") -> 612 | Q7: =IF(K7="HOT",SUMIFS(source!$I$2:$I$17,source!$J$2:$J$17,chart!L7,source!$K$2:$K$17,chart!$Q$4),"") | R7: =IF(K7="HOT",SUMIFS(source!$I$2:$I$17,source!$J$2:$J$17,chart!L7,source!$K$2:$K$17,chart!$R$4),"")
A8: 3 | B8: TG | C8: JACK | D8: RUE OBAMA | E8: MAGASIN | F8: 69000 | G8: lyon | H8: RA | I8: MAC7777 | J8: E4567 | K8: cold | L8: =CONCATENATE(G8," ",J8) -> lyon E4567 | M8: =CONCATENATE(L8, " ",I8) -> lyon E4567 MAC7777 | N8: =IF(K8="cold",SUMIFS(source!$I$2:$I$17,source!$J$2:$J$17,chart!L8,source!$K$2:$K$17,chart!$N$4),"") -> 280 | O8: =IF(K8="cold",SUMIFS(source!$I$2:$I$17,source!$J$2:$J$17,chart!L8,source!$K$2:$K$17,chart!$O$4),"") -> 3922 | Q8: =IF(K8="HOT",SUMIFS(source!$I$2:$I$17,source!$J$2:$J$17,chart!L8,source!$K$2:$K$17,chart!$Q$4),"") | R8: =IF(K8="HOT",SUMIFS(source!$I$2:$I$17,source!$J$2:$J$17,chart!L8,source!$K$2:$K$17,chart!$R$4),"")
A9: 4 | B9: HG | C9: GENRY | D9: RUE TUPAC | E9: MAGASIN | F9: 80000 | G9: amiens | H9: NORD | I9: KRAK8987 | J9: T5678 | K9: hot | L9: =CONCATENATE(G9," ",J9) -> amiens T5678 | M9: =CONCATENATE(L9, " ",I9) -> amiens T5678 KRAK8987 | N9: =IF(K9="cold",SUMIFS(source!$I$2:$I$17,source!$J$2:$J$17,chart!L9,source!$K$2:$K$17,chart!$N$4),"") | O9: =IF(K9="cold",SUMIFS(source!$I$2:$I$17,source!$J$2:$J$17,chart!L9,source!$K$2:$K$17,chart!$O$4),"") | Q9: =IF(K9="HOT",SUMIFS(source!$I$2:$I$17,source!$J$2:$J$17,chart!L9,source!$K$2:$K$17,chart!$Q$4),"") -> 145 | R9: =IF(K9="HOT",SUMIFS(source!$I$2:$I$17,source!$J$2:$J$17,chart!L9,source!$K$2:$K$17,chart!$R$4),"") -> 856
A10: 5 | B10: HG | C10: GENRY | D10: RUE TUPAC | E10: MAGASIN | F10: 80000 | G10: amiens | H10: NORD | I10: KRAK1234 | J10: B8736 | K10: cold | L10: =CONCATENATE(G10," ",J10) -> amiens B8736 | M10: =CONCATENATE(L10, " ",I10) -> amiens B8736 KRAK1234 | N10: =IF(K10="cold",SUMIFS(source!$I$2:$I$17,source!$J$2:$J$17,chart!L10,source!$K$2:$K$17,chart!$N$4),"") -> 192 | O10: =IF(K10="cold",SUMIFS(source!$I$2:$I$17,source!$J$2:$J$17,chart!L10,source!$K$2:$K$17,chart!$O$4),"") -> 44 | Q10: =IF(K10="HOT",SUMIFS(source!$I$2:$I$17,source!$J$2:$J$17,chart!L10,source!$K$2:$K$17,chart!$Q$4),"") | R10: =IF(K10="HOT",SUMIFS(source!$I$2:$I$17,source!$J$2:$J$17,chart!L10,source!$K$2:$K$17,chart!$R$4),"")
A11: 6 | B11: ER | C11: PIERRE | D11: AVENUE MICHOT | E11: CLUB | F11: 59000 | G11: lille | H11: NORD | I11: PMT1357 | J11: A8373 | K11: hot | L11: =CONCATENATE(G11," ",J11) -> lille A8373 | M11: =CONCATENATE(L11, " ",I11) -> lille A8373 PMT1357 | N11: =IF(K11="cold",SUMIFS(source!$I$2:$I$17,source!$J$2:$J$17,chart!L11,source!$K$2:$K$17,chart!$N$4),"") | O11: =IF(K11="cold",SUMIFS(source!$I$2:$I$17,source!$J$2:$J$17,chart!L11,source!$K$2:$K$17,chart!$O$4),"") | Q11: =IF(K11="HOT",SUMIFS(source!$I$2:$I$17,source!$J$2:$J$17,chart!L11,source!$K$2:$K$17,chart!$Q$4),"") -> 431 | R11: =IF(K11="HOT",SUMIFS(source!$I$2:$I$17,source!$J$2:$J$17,chart!L11,source!$K$2:$K$17,chart!$R$4),"") -> 33
A12: 7 | B12: TG | C12: JACK | D12: RUE OBAMA | E12: MAGASIN | F12: 69000 | G12: lyon | H12: RA | I12: PTM56 | J12: E4578 | K12: hot | L12: =CONCATENATE(G12," ",J12) -> lyon E4578 | M12: =CONCATENATE(L12, " ",I12) -> lyon E4578 PTM56 | N12: =IF(K12="cold",SUMIFS(source!$I$2:$I$17,source!$J$2:$J$17,chart!L12,source!$K$2:$K$17,chart!$N$4),"") | O12: =IF(K12="cold",SUMIFS(source!$I$2:$I$17,source!$J$2:$J$17,chart!L12,source!$K$2:$K$17,chart!$O$4),"") | Q12: =IF(K12="HOT",SUMIFS(source!$I$2:$I$17,source!$J$2:$J$17,chart!L12,source!$K$2:$K$17,chart!$Q$4),"") -> 278 | R12: =IF(K12="HOT",SUMIFS(source!$I$2:$I$17,source!$J$2:$J$17,chart!L12,source!$K$2:$K$17,chart!$R$4),"") -> 77
A13: 8 | B13: AZ | C13: PAUL | D13: RUE PERLE | E13: GYMN | F13: 75001 | G13: paris | H13: IDF | I13: PTM56 | J13: B4533 | K13: cold | L13: =CONCATENATE(G13," ",J13) -> paris B4533 | M13: =CONCATENATE(L13, " ",I13) -> paris B4533 PTM56 | N13: =IF(K13="cold",SUMIFS(source!$I$2:$I$17,source!$J$2:$J$17,chart!L13,source!$K$2:$K$17,chart!$N$4),"") -> 173 | O13: =IF(K13="cold",SUMIFS(source!$I$2:$I$17,source!$J$2:$J$17,chart!L13,source!$K$2:$K$17,chart!$O$4),"") -> 55 | Q13: =IF(K13="HOT",SUMIFS(source!$I$2:$I$17,source!$J$2:$J$17,chart!L13,source!$K$2:$K$17,chart!$Q$4),"") | R13: =IF(K13="HOT",SUMIFS(source!$I$2:$I$17,source!$J$2:$J$17,chart!L13,source!$K$2:$K$17,chart!$R$4),"")

Sheet janv
A1: reference | B1: ville | C1: code | D1: chiffre 1 | E1: chiffre 2 | F1: passe | G1: double passe | H1: chiffre 1 - passe
A2: paris mac9056 merco | B2: paris | C2: A1234 | D2: 500 | E2: 800 | F2: 456 | H2: =E2-F2 -> 344
A3: décaL mac4567 chine | B3: lille | C3: Z2345 | D3: 300 | E3: 600 | F3: 534 | H3: =E3-F3 -> 66
A4: décaLY mac7777 bobo | B4: lyon | C4: E4567 | D4: 450 | E4: 780 | F4: 500 | H4: =E4-F4 -> 280
A5: décaA krak8987 kiki | B5: amiens | C5: T5678 | D5: 230 | E5: 400 | F5: 255 | H5: =E5-F5 -> 145
A6: décaP mac9157 tira | B6: paris | C6: B4533 | D6: 449 | E6: 846 | F6: 673 | H6: =E6-F6 -> 173
A7: décaA krak 1234 cinq | B7: amiens | C7: B8736 | D7: 782 | E7: 859 | F7: 667 | H7: =E7-F7 -> 192
A8: décaL pmt1357 JAPY | B8: lille | C8: A8373 | D8: 559 | E8: 560 | F8: 129 | H8: =E8-F8 -> 431
A9: décaLY ptm56 CAS | B9: lyon | C9: E4578 | D9: 386 | E9: 616 | F9: 338 | H9: =E9-F9 -> 278

Sheet fev
A1: reference | B1: ville | C1: code da | D1: ca deca | E1: ca deca théo | F1: clé | G1: double clé | H1: thé-clé
A2: paris mac9056 merco | B2: paris | C2: A1234 | D2: 456 | E2: 567 | F2: 354 | H2: =E2-F2 -> 213
A3: décaL mac4567 chine | B3: lille | C3: Z2345 | D3: 764 | E3: 846 | F3: 234 | H3: =E3-F3 -> 612
A4: décaLY mac7777 bobo | B4: lyon | C4: E4567 | D4: 847 | E4: 9565 | F4: 5643 | H4: =E4-F4 -> 3922
A5: décaA krak8987 kiki | B5: amiens | C5: T5678 | D5: 987 | E5: 1534 | F5: 678 | H5: =E5-F5 -> 856
A6: décaP mac9157 tira | B6: amiens | C6: B8736 | D6: 324 | E6: 444 | F6: 400 | H6: =E6-F6 -> 44
A7: décaA krak 1234 cinq | B7: lille | C7: A8373 | D7: 232 | E7: 333 | F7: 300 | H7: =E7-F7 -> 33
A8: décaL pmt1357 JAPY | B8: lyon | C8: E4578 | D8: 653 | E8: 777 | F8: 700 | H8: =E8-F8 -> 77
A9: décaLY ptm56 CAS | B9: paris | C9: B4533 | D9: 421 | E9: 555 | F9: 500 | H9: =E9-F9 -> 55

Sheet source
A1: nom client | C1: ville | D1: code | E1: chiffre 1 | F1: chiffre 2 | G1: passe | H1: double passe | I1: chiffre 1 - passe | J1: fusion | K1: MOIS | L1: machine | M1: type | N1: concatenation
A2: décaP | B2: paris mac9056 merco | C2: paris | D2: A1234 | E2: 500 | F2: 800 | G2: 456 | I2: =F2-G2 -> 344 | J2: =CONCATENATE(C2," ",D2) -> paris A1234 | K2: janvier | L2: mac9056 | M2: HOT | N2: =CONCATENATE(J2," ",L2) -> paris A1234 mac9056
A3: décaL | B3: décaL mac4567 chine | C3: lille | D3: Z2345 | E3: 300 | F3: 600 | G3: 534 | I3: =F3-G3 -> 66 | J3: =CONCATENATE(C3," ",D3) -> lille Z2345 | K3: janvier | L3: MAC4567 | M3: COLD | N3: =CONCATENATE(J3," ",L3) -> lille Z2345 MAC4567
A4: décaLY | B4: décaLY mac7777 bobo | C4: lyon | D4: E4567 | E4: 450 | F4: 780 | G4: 500 | I4: =F4-G4 -> 280 | J4: =CONCATENATE(C4," ",D4) -> lyon E4567 | K4: janvier | L4: MAC7777 | M4: COLD | N4: =CONCATENATE(J4," ",L4) -> lyon E4567 MAC7777
A5: décaA | B5: décaA krak8987 kiki | C5: amiens | D5: T5678 | E5: 230 | F5: 400 | G5: 255 | I5: =F5-G5 -> 145 | J5: =CONCATENATE(C5," ",D5) -> amiens T5678 | K5: janvier | L5: KRAK8987 | M5: HOT | N5: =CONCATENATE(J5," ",L5) -> amiens T5678 KRAK8987
A6: décaP | B6: décaP mac9157 tira | C6: paris | D6: B4533 | E6: 449 | F6: 846 | G6: 673 | I6: =F6-G6 -> 173 | J6: =CONCATENATE(C6," ",D6) -> paris B4533 | K6: janvier | L6: MAC9157 | M6: COLD | N6: =CONCATENATE(J6," ",L6) -> paris B4533 MAC9157
A7: décaA | B7: décaA krak 1234 cinq | C7: amiens | D7: B8736 | E7: 782 | F7: 859 | G7: 667 | I7: =F7-G7 -> 192 | J7: =CONCATENATE(C7," ",D7) -> amiens B8736 | K7: janvier | L7: KRAK1234 | M7: COLD | N7: =CONCATENATE(J7," ",L7) -> amiens B8736 KRAK1234
A8: décaL | B8: décaL pmt1357 JAPY | C8: lille | D8: A8373 | E8: 559 | F8: 560 | G8: 129 | I8: =F8-G8 -> 431 | J8: =CONCATENATE(C8," ",D8) -> lille A8373 | K8: janvier | L8: PMT1357 | M8: HOT | N8: =CONCATENATE(J8," ",L8) -> lille A8373 PMT1357
A9: décaLY | B9: décaLY ptm56 CAS | C9: lyon | D9: E4578 | E9: 386 | F9: 616 | G9: 338 | I9: =F9-G9 -> 278 | J9: =CONCATENATE(C9," ",D9) -> lyon E4578 | K9: janvier | L9: PTM56 | M9: HOT | N9: =CONCATENATE(J9," ",L9) -> lyon E4578 PTM56
A10: décaP | B10: paris mac9056 merco | C10: paris | D10: A1234 | E10: 456 | F10: 567 | G10: 354 | I10: 213 | J10: paris A1234 | K10: février | L10: mac9056 | M10: HOT | N10: =CONCATENATE(J10," ",L10) -> paris A1234 mac9056
A11: décaL | B11: décaL mac4567 chine | C11: lille | D11: Z2345 | E11: 764 | F11: 846 | G11: 234 | I11: 612 | J11: lille Z2345 | K11: février | L11: MAC4567 | M11: COLD | N11: =CONCATENATE(J11," ",L11) -> lille Z2345 MAC4567
A12: décaLY | B12: décaLY mac7777 bobo | C12: lyon | D12: E4567 | E12: 847 | F12: 9565 | G12: 5643 | I12: 3922 | J12: lyon E4567 | K12: février | L12: MAC7777 | M12: COLD | N12: =CONCATENATE(J12," ",L12) -> lyon E4567 MAC7777
A13: décaA | B13: décaA krak8987 kiki | C13: amiens | D13: T5678 | E13: 987 | F13: 1534 | G13: 678 | I13: 856 | J13: amiens T5678 | K13: février | L13: KRAK8987 | M13: HOT | N13: =CONCATENATE(J13," ",L13) -> amiens T5678 KRAK8987
A14: décaA | B14: décaP mac9157 tira | C14: amiens | D14: B8736 | E14: 324 | F14: 444 | G14: 400 | I14: 44 | J14: amiens B8736 | K14: février | L14: MAC9157 | M14: COLD | N14: =CONCATENATE(J14," ",L14) -> amiens B8736 MAC9157
A15: décaL | B15: décaA krak 1234 cinq | C15: lille | D15: A8373 | E15: 232 | F15: 333 | G15: 300 | I15: 33 | J15: lille A8373 | K15: février | L15: KRAK1234 | M15: HOT | N15: =CONCATENATE(J15," ",L15) -> lille A8373 KRAK1234
A16: décaLY | B16: décaL pmt1357 JAPY | C16: lyon | D16: E4578 | E16: 653 | F16: 777 | G16: 700 | I16: 77 | J16: lyon E4578 | K16: février | L16: PMT1357 | M16: HOT | N16: =CONCATENATE(J16," ",L16) -> lyon E4578 PMT1357
A17: décaP | B17: décaLY ptm56 CAS | C17: paris | D17: B4533 | E17: 421 | F17: 555 | G17: 500 | I17: 55 | J17: paris B4533 | K17: février | L17: PTM56 | M17: COLD | N17: =CONCATENATE(J17," ",L17) -> paris B4533 PTM56
