Workbook

Sheet chart
N1: PRODUIT A | Q1: PRODUIT B
B2: CF ONGLET SOURCE
N4: janvier | O4: février | Q4: janvier | R4: février
A5: numéro | B5: site | C5: directeur | D5: adresse | E5: type site | F5: cp | G5: ville | H5: région | I5: équipement | J5: code da | K5: statut | L5: fusion
A6: 1 | B6: AZ | C6: PAUL | D6: RUE PERLE | E6: GYMN | F6: 75001 | G6: paris | H6: IDF | I6: EP9056 | J6: A1234 | K6: hot | L6: =CONCATENATE(G6," ",J6) -> paris A1234 | M6: =CONCATENATE(L6, " ",I6) -> paris A1234 EP9056 | N6: =IF(K6="cold",SUMIFS(source!$H$2:$H$17,source!$I$2:$I$17,chart!L6,source!$J$2:$J$17,chart!$N$4),"")
A7: 2 | B7: ER | C7: PIERRE | D7: AVENUE MICHOT | E7: CLUB | F7: 59000 | G7: lille | H7: NORD | I7: EP4567 | J7: Z2345 | K7: cold | L7: =CONCATENATE(G7," ",J7) -> lille Z2345 | M7: =CONCATENATE(L7, " ",I7) -> lille Z2345 EP4567 | N7: =IF(K7="cold",SUMIFS(source!$H$2:$H$17,source!$I$2:$I$17,chart!L7,source!$J$2:$J$17,chart!$N$4),"") -> 66
A8: 3 | B8: TG | C8: JACK | D8: RUE OBAMA | E8: MAGASIN | F8: 69000 | G8: lyon | H8: RA | I8: EP9762 | J8: E4567 | K8: hot | L8: =CONCATENATE(G8," ",J8) -> lyon E4567 | M8: =CONCATENATE(L8, " ",I8) -> lyon E4567 EP9762 | N8: =IF(K8="cold",SUMIFS(source!$H$2:$H$17,source!$I$2:$I$17,chart!L8,source!$J$2:$J$17,chart!$N$4),"")
A9: 4 | B9: HG | C9: GENRY | D9: RUE TUPAC | E9: MAGASIN | F9: 80000 | G9: amiens | H9: NORD | I9: EP2963 | J9: T5678 | K9: cold | L9: =CONCATENATE(G9," ",J9) -> amiens T5678 | M9: =CONCATENATE(L9, " ",I9) -> amiens T5678 EP2963 | N9: =IF(K9="cold",SUMIFS(source!$H$2:$H$17,source!$I$2:$I$17,chart!L9,source!$J$2:$J$17,chart!$N$4),"") -> 145
A10: 5 | B10: HG | C10: GENRY | D10: RUE TUPAC | E10: MAGASIN | F10: 80000 | G10: amiens | H10: NORD | I10: GT785 | J10: B8736 | K10: cold | L10: =CONCATENATE(G10," ",J10) -> amiens B8736 | M10: =CONCATENATE(L10, " ",I10) -> amiens B8736 GT785 | N10: =IF(K10="cold",SUMIFS(source!$H$2:$H$17,source!$I$2:$I$17,chart!L10,source!$J$2:$J$17,chart!$N$4),"") -> 192
A11: 6 | B11: ER | C11: PIERRE | D11: AVENUE MICHOT | E11: CLUB | F11: 59000 | G11: lille | H11: NORD | I11: GH982 | J11: A8373 | K11: hot | L11: =CONCATENATE(G11," ",J11) -> lille A8373 | M11: =CONCATENATE(L11, " ",I11) -> lille A8373 GH982 | N11: =IF(K11="cold",SUMIFS(source!$H$2:$H$17,source!$I$2:$I$17,chart!L11,source!$J$2:$J$17,chart!$N$4),"")
A12: 7 | B12: TG | C12: JACK | D12: RUE OBAMA | E12: MAGASIN | F12: 69000 | G12: lyon | H12: RA | I12: YT635 | J12: E4578 | K12: hot | L12: =CONCATENATE(G12," ",J12) -> lyon E4578 | M12: =CONCATENATE(L12, " ",I12) -> lyon E4578 YT635 | N12: =IF(K12="cold",SUMIFS(source!$H$2:$H$17,source!$I$2:$I$17,chart!L12,source!$J$2:$J$17,chart!$N$4),"")
A13: 8 | B13: AZ | C13: PAUL | D13: RUE PERLE | E13: GYMN | F13: 75001 | G13: paris | H13: IDF | I13: LO923 | J13: B4533 | K13: cold | L13: =CONCATENATE(G13," ",J13) -> paris B4533 | M13: =CONCATENATE(L13, " ",I13) -> paris B4533 LO923 | N13: =IF(K13="cold",SUMIFS(source!$H$2:$H$17,source!$I$2:$I$17,chart!L13,source!$J$2:$J$17,chart!$N$4),"") -> 173
A15: 1/
A21: abcdef - zerty - pois - KLO45 - okoko -plplpl
A22: nbv - tyu - KLO89 - jjd
C23: comment extraire uniquement le KLO ET LE NOMBRE? SACHANT que j'ai plus de 300lignes et que le KLO n'est pas forcement tjs à la même position

Sheet janv
A1: nom client | B1: ville | C1: code da | D1: ca deca | E1: ca deca théo | F1: clé | G1: double clé | H1: thé-clé | I1: fusion
A2: décaP | B2: paris | C2: A1234 | D2: 500 | E2: 800 | F2: 456 | H2: =E2-F2 -> 344 | I2: =CONCATENATE(B2," ",C2) -> paris A1234
A3: décaL | B3: lille | C3: Z2345 | D3: 300 | E3: 600 | F3: 534 | H3: =E3-F3 -> 66 | I3: =CONCATENATE(B3," ",C3) -> lille Z2345
A4: décaLY | B4: lyon | C4: E4567 | D4: 450 | E4: 780 | F4: 500 | H4: =E4-F4 -> 280 | I4: =CONCATENATE(B4," ",C4) -> lyon E4567
A5: décaA | B5: amiens | C5: T5678 | D5: 230 | E5: 400 | F5: 255 | H5: =E5-F5 -> 145 | I5: =CONCATENATE(B5," ",C5) -> amiens T5678
A6: décaP | B6: paris | C6: B4533 | D6: 449 | E6: 846 | F6: 673 | H6: =E6-F6 -> 173 | I6: =CONCATENATE(B6," ",C6) -> paris B4533
A7: décaA | B7: amiens | C7: B8736 | D7: 782 | E7: 859 | F7: 667 | H7: =E7-F7 -> 192 | I7: =CONCATENATE(B7," ",C7) -> amiens B8736
A8: décaL | B8: lille | C8: A8373 | D8: 559 | E8: 560 | F8: 129 | H8: =E8-F8 -> 431 | I8: =CONCATENATE(B8," ",C8) -> lille A8373
A9: décaLY | B9: lyon | C9: E4578 | D9: 386 | E9: 616 | F9: 338 | H9: =E9-F9 -> 278 | I9: =CONCATENATE(B9," ",C9) -> lyon E4578

Sheet fev
A1: nom client | B1: ville | C1: code da | D1: ca deca | E1: ca deca théo | F1: clé | G1: double clé | H1: thé-clé | I1: fusion
A2: décaP | B2: paris | C2: A1234 | D2: 456 | E2: 567 | F2: 354 | H2: =E2-F2 -> 213 | I2: =CONCATENATE(B2," ",C2) -> paris A1234
A3: décaL | B3: lille | C3: Z2345 | D3: 764 | E3: 846 | F3: 234 | H3: =E3-F3 -> 612 | I3: =CONCATENATE(B3," ",C3) -> lille Z2345
A4: décaLY | B4: lyon | C4: E4567 | D4: 847 | E4: 9565 | F4: 5643 | H4: =E4-F4 -> 3922 | I4: =CONCATENATE(B4," ",C4) -> lyon E4567
A5: décaA | B5: amiens | C5: T5678 | D5: 987 | E5: 1534 | F5: 678 | H5: =E5-F5 -> 856 | I5: =CONCATENATE(B5," ",C5) -> amiens T5678
A6: décaA | B6: amiens | C6: B8736 | D6: 324 | E6: 444 | F6: 400 | H6: =E6-F6 -> 44 | I6: =CONCATENATE(B6," ",C6) -> amiens B8736
A7: décaL | B7: lille | C7: A8373 | D7: 232 | E7: 333 | F7: 300 | H7: =E7-F7 -> 33 | I7: =CONCATENATE(B7," ",C7) -> lille A8373
A8: décaLY | B8: lyon | C8: E4578 | D8: 653 | E8: 777 | F8: 700 | H8: =E8-F8 -> 77 | I8: =CONCATENATE(B8," ",C8) -> lyon E4578
A9: décaP | B9: paris | C9: B4533 | D9: 421 | E9: 555 | F9: 500 | H9: =E9-F9 -> 55 | I9: =CONCATENATE(B9," ",C9) -> paris B4533

Sheet source
A1: nom client | B1: ville | C1: code da | D1: ca deca | E1: ca deca théo | F1: clé | G1: double clé | H1: thé-clé | I1: fusion | J1: MOIS | K1: EQUIP | M1: KOKA
A2: décaP | B2: paris | C2: A1234 | D2: 500 | E2: 800 | F2: 456 | H2: =E2-F2 -> 344 | I2: =CONCATENATE(B2," ",C2) -> paris A1234 | J2: janvier | K2: EP9056 | L2: HOT | M2: =CONCATENATE(I2," ",K2) -> paris A1234 EP9056 | O2: ville | P2: région | Q2: équipement
A3: décaL | B3: lille | C3: Z2345 | D3: 300 | E3: 600 | F3: 534 | H3: =E3-F3 -> 66 | I3: =CONCATENATE(B3," ",C3) -> lille Z2345 | J3: janvier | K3: EP4567 | L3: COLD | M3: =CONCATENATE(I3," ",K3) -> lille Z2345 EP4567 | O3: paris | P3: IDF | Q3: EP9056
A4: décaLY | B4: lyon | C4: E4567 | D4: 450 | E4: 780 | F4: 500 | H4: =E4-F4 -> 280 | I4: =CONCATENATE(B4," ",C4) -> lyon E4567 | J4: janvier | M4: =CONCATENATE(I4," ",K4) -> lyon E4567 | O4: lille | P4: NORD | R4: EP4567
A5: décaA | B5: amiens | C5: T5678 | D5: 230 | E5: 400 | F5: 255 | H5: =E5-F5 -> 145 | I5: =CONCATENATE(B5," ",C5) -> amiens T5678 | J5: janvier | M5: =CONCATENATE(I5," ",K5) -> amiens T5678 | O5: lyon | P5: RA | Q5: EP9762
A6: décaP | B6: paris | C6: B4533 | D6: 449 | E6: 846 | F6: 673 | H6: =E6-F6 -> 173 | I6: =CONCATENATE(B6," ",C6) -> paris B4533 | J6: janvier | K6: LO923 | L6: COLD | M6: =CONCATENATE(I6," ",K6) -> paris B4533 LO923 | O6: amiens | P6: NORD | R6: EP2963
A7: décaA | B7: amiens | C7: B8736 | D7: 782 | E7: 859 | F7: 667 | H7: =E7-F7 -> 192 | I7: =CONCATENATE(B7," ",C7) -> amiens B8736 | J7: janvier | M7: =CONCATENATE(I7," ",K7) -> amiens B8736 | O7: amiens | P7: NORD | R7: GT785
A8: décaL | B8: lille | C8: A8373 | D8: 559 | E8: 560 | F8: 129 | H8: =E8-F8 -> 431 | I8: =CONCATENATE(B8," ",C8) -> lille A8373 | J8: janvier | K8: GH982 | L8: HOT | M8: =CONCATENATE(I8," ",K8) -> lille A8373 GH982 | O8: lille | P8: NORD | Q8: GH982
A9: décaLY | B9: lyon | C9: E4578 | D9: 386 | E9: 616 | F9: 338 | H9: =E9-F9 -> 278 | I9: =CONCATENATE(B9," ",C9) -> lyon E4578 | J9: janvier | M9: =CONCATENATE(I9," ",K9) -> lyon E4578 | O9: lyon | P9: RA | Q9: YT635
A10: décaP | B10: paris | C10: A1234 | D10: 456 | E10: 567 | F10: 354 | H10: 213 | I10: paris A1234 | J10: février | K10: EP9056 | L10: HOT | M10: =CONCATENATE(I10," ",K10) -> paris A1234 EP9056 | O10: paris | P10: IDF | R10: LO923
A11: décaL | B11: lille | C11: Z2345 | D11: 764 | E11: 846 | F11: 234 | H11: 612 | I11: lille Z2345 | J11: février | K11: EP4567 | L11: COLD | M11: =CONCATENATE(I11," ",K11) -> lille Z2345 EP4567
A12: décaLY | B12: lyon | C12: E4567 | D12: 847 | E12: 9565 | F12: 5643 | H12: 3922 | I12: lyon E4567 | J12: février | M12: =CONCATENATE(I12," ",K12) -> lyon E4567
A13: décaA | B13: amiens | C13: T5678 | D13: 987 | E13: 1534 | F13: 678 | H13: 856 | I13: amiens T5678 | J13: février | M13: =CONCATENATE(I13," ",K13) -> amiens T5678
A14: décaA | B14: amiens | C14: B8736 | D14: 324 | E14: 444 | F14: 400 | H14: 44 | I14: amiens B8736 | J14: février | M14: =CONCATENATE(I14," ",K14) -> amiens B8736
A15: décaL | B15: lille | C15: A8373 | D15: 232 | E15: 333 | F15: 300 | H15: 33 | I15: lille A8373 | J15: février | K15: GH982 | L15: HOT | M15: =CONCATENATE(I15," ",K15) -> lille A8373 GH982
A16: décaLY | B16: lyon | C16: E4578 | D16: 653 | E16: 777 | F16: 700 | H16: 77 | I16: lyon E4578 | J16: février | M16: =CONCATENATE(I16," ",K16) -> lyon E4578
A17: décaP | B17: paris | C17: B4533 | D17: 421 | E17: 555 | F17: 500 | H17: 55 | I17: paris B4533 | J17: février | K17: LO923 | L17: COLD | M17: =CONCATENATE(I17," ",K17) -> paris B4533 LO923
