Workbook
Name ABSENCE: divers!$A$3:$A$26
Name aout: 'abs et back-up'!$EW$2:$FS$6
Name avril: 'abs et back-up'!$BO$2:$CH$6
Name decembre: 'abs et back-up'!$IG$2:$JA$6
Name fevrier: 'abs et back-up'!$X$2:$AQ$6
Name infos: 'abs et back-up'!#REF!
Name infos: '2017'!#REF!
Name janvier: 'abs et back-up'!$B$2:$W$6
Name juillet: 'abs et back-up'!$EB$2:$EV$6
Name juin: 'abs et back-up'!$DF$2:$EA$6
Name mai: 'abs et back-up'!$CI$2:$DE$6
Name mars: 'abs et back-up'!$AR$2:$BN$6
Name mois: divers!$E$15:$E$27
Name novembre: 'abs et back-up'!$HK$2:$IF$6
Name octobre: 'abs et back-up'!$GO$2:$HJ$6
Name septembre: 'abs et back-up'!$FT$2:$GN$6

Sheet 2014
A1: PLANNING DIRECTION PHARMACOVIGILANCE ET INFORMATION MEDICALE - 2014 | AG1: Document à usage interne uniquement
B3: vacances scolaires
A4: Janvier 2014 | B4: 1 | C4: =+B4+1 -> 2 | D4: =+C4+1 -> 3 | E4: =+D4+1 -> 4 | F4: =+E4+1 -> 5 | G4: =+F4+1 -> 6 | H4: =+G4+1 -> 7 | I4: =+H4+1 -> 8 | J4: =+I4+1 -> 9 | ... AF4: =+AE4+1 -> 31
A5: d'après BAII 26/12/13 | B5: M | C5: J | D5: V | E5: S | F5: D | G5: L | H5: M | I5: M | J5: J | K5: V | L5: S | M5: D | N5: L | O5: M | P5: M | Q5: J | R5: V | S5: S | T5: D | U5: L | V5: M | W5: M | X5: J | Y5: V | Z5: S | AA5: D | AB5: L | AC5: M | AD5: M | AE5: J | AF5: V
A6: Aurélie Molia | C6: B/M | N6: X | U6: X | AC6: B
A7: Philippe Hénault | G7: X | P7: X | V7: X | Y7: X | AC7: X
A8: Imports MTA | C8: X | I8: X | R8: X | AE8: X
A9: Stéphanie Mercier | D9: X | H9: X | I9: B | K9: X | Q9: X | U9: DU | X9: X | AB9: X
A10: Katia Vigilante | J10: X | O10: X | W10: X | AD10: X | AF10: X
A11: Thao Tran
A12: Jocelyne Letembet
A13: Gaëlle Rocheran
A14: Jean-Philippe Chauvin | C14: Q | D14: T | G14: T | I14: Q | K14: T | N14: T | P14: T | Q14: Q | R14: T | U14: T | V14: Q | W14: T | X14: Q | Y14: T | AD14: T | AE14: Q | AF14: T
A15: Joëlle Dufayet | C15: T | H15: Q | I15: T | J15: Q | O15: Q | Q15: T | AB15: Q | AC15: T | AD15: Q | AE15: T | AF15: Q
A16: Triage/Query PLO | D16: Q | G16: Q / M | H16: T | J16: T | K16: Q | N16: Q | O16: T | P16: Q | R16: Q | U16: Q | V16: T | W16: Q | X16: T | Y16: Q | AB16: T | AC16: Q
A17: Rym Youdarene | G17: AM | N17: AM | U17: AM | Y17: AM | AB17: AM
A18: Angélique Vadin
A19: Angélique Demarly
A20: Cloé Lalanne (stage obs.)
W22: vacances scolaires
A23: Février | B23: 1 | C23: =+B23+1 -> 2 | D23: =+C23+1 -> 3 | E23: =+D23+1 -> 4 | F23: =+E23+1 -> 5 | G23: =+F23+1 -> 6 | H23: =+G23+1 -> 7 | I23: =+H23+1 -> 8 | J23: =+I23+1 -> 9 | ... AC23: =+AB23+1 -> 28
A24: d'après BAII 13/02/14 | B24: S | C24: D | D24: L | E24: M | F24: M | G24: J | H24: V | I24: S | J24: D | K24: L | L24: M | M24: M | N24: J | O24: V | P24: S | Q24: D | R24: L | S24: M | T24: M | U24: J | V24: V | W24: S | X24: D | Y24: L | Z24: M | AA24: M | AB24: J | AC24: V
A25: Aurélie Molia | U25: B | V25: B | Z25: B
A26: Philippe Hénault | D26: X | N26: X | U26: B | V26: B | Z26: B | AC26: X
A27: Imports MTA | G27: X | K27: X | R27: X | T27: X | V27: X | Y27: X | Z27: X
A28: Stéphanie Mercier | E28: X | H28: X | K28: DU | M28: X | S28: X
A29: Katia Vigilante | F29: X | L29: X | O29: X | U29: X | AA29: X | AB29: X
A30: Thao Tran | V30: B
A31: Jocelyne Letembet
A32: Gaëlle Rocheran
A33: Jean-Philippe Chauvin | E33: T | F33: Q | H33: T | K33: Q | L33: T | M33: Q | N33: T | O33: Q | R33: T | S33: Q | U33: T | V33: Q | AA33: T | AB33: AM
A34: Joëlle Dufayet | D34: Q | F34: T | G34: Q | H34: T | K34: T | L34: Q | M34: T | N34: Q | O34: T | R34: Q | T34: T | U34: Q | Y34: T | Z34: Q | AB34: Q | AC34: T
A35: Triage/Query PLO | D35: T | E35: Q | G35: T | H35: Q | S35: T | T35: Q | V35: T | Y35: Q | Z35: T | AA35: Q | AB35: T | AC35: Q
A36: Rym Youdarene | D36: AM | K36: AM | R36: AM
A37: Angélique Vadin
A38: Angélique Demarly
B40: vacances scolaires
A41: Mars | B41: 1 | C41: =+B41+1 -> 2 | D41: =+C41+1 -> 3 | E41: =+D41+1 -> 4 | F41: =+E41+1 -> 5 | G41: =+F41+1 -> 6 | H41: =+G41+1 -> 7 | I41: =+H41+1 -> 8 | J41: =+I41+1 -> 9 | ... AF41: =+AE41+1 -> 31
A42: d'après BAII 26/02/14 | B42: S | C42: D | D42: L | E42: M | F42: M | G42: J | H42: V | I42: S | J42: D | K42: L | L42: M | M42: M | N42: J | O42: V | P42: S | Q42: D | R42: L | S42: M | T42: M | U42: J | V42: V | W42: S | X42: D | Y42: L | Z42: M | AA42: M | AB42: J | AC42: V | AD42: S | AE42: D | AF42: L
A43: Aurélie Molia | V43: IFIS | Y43: X | AF43: B
...

Sheet 2013
A1: PLANNING DIRECTION PHARMACOVIGILANCE ET INFORMATION MEDICALE - 2013 | AG1: Document à usage interne uniquement
B3: Vacances scolaires
A4: Janvier 2013 | B4: 1 | C4: =+B4+1 -> 2 | D4: =+C4+1 -> 3 | E4: =+D4+1 -> 4 | F4: =+E4+1 -> 5 | G4: =+F4+1 -> 6 | H4: =+G4+1 -> 7 | I4: =+H4+1 -> 8 | J4: =+I4+1 -> 9 | ... AF4: =+AE4+1 -> 31
A5: vérif baii//outlook 29/01/13 | B5: M | C5: M | D5: J | E5: V | F5: S | G5: D | H5: L | I5: M | J5: M | K5: J | L5: V | M5: S | N5: D | O5: L | P5: M | Q5: M | R5: J | S5: V | T5: S | U5: D | V5: L | W5: M | X5: M | Y5: J | Z5: V | AA5: S | AB5: D | AC5: L | AD5: M | AE5: M | AF5: J | AI5: outlook | AJ5: BAII
A6: Aurélie Molia | AC6: B | AE6: X | AF6: MMF | AI6: ok | AJ6: ok
A7: Philippe Hénault | D7: X | I7: X | L7: X | Q7: X | S7: X | X7: X | Z7: X | AC7: X | AF7: MMF | AH7: 37 | AI7: ok | AJ7: ok
A8: Stéphanie Mercier | O8: X | W8: X | AJ8: ok
A9: Katia Vigilante
A10: Thao Tran | E10: X | J10: X | O10: X | W10: X | AF10: MMF | AH10: 36 | AI10: ok | AJ10: rh
A11: Jocelyne Letembet | R11: adbs
A12: Gaëlle Rocheran | AJ12: ok
A13: Jean-Philippe Chauvin | AJ13: ok
A14: Joëlle Dufayet | AJ14: ok
A15: Johanne Daupin
A16: Angélique Vadin | AJ16: ok
A17: Angélique Demarly | K17: AM | AJ17: ok
Q19: Vacances scolaires zone B
A20: Février | B20: 1 | C20: =+B20+1 -> 2 | D20: =+C20+1 -> 3 | E20: =+D20+1 -> 4 | F20: =+E20+1 -> 5 | G20: =+F20+1 -> 6 | H20: =+G20+1 -> 7 | I20: =+H20+1 -> 8 | J20: =+I20+1 -> 9 | ... AC20: =+AB20+1 -> 28
A21: vérif baii//outlook 31/01/13 | B21: V | C21: S | D21: D | E21: L | F21: M | G21: M | H21: J | I21: V | J21: S | K21: D | L21: L | M21: M | N21: M | O21: J | P21: V | Q21: S | R21: D | S21: L | T21: M | U21: M | V21: J | W21: V | X21: S | Y21: D | Z21: L | AA21: M | AB21: M | AC21: J | AI21: outlook | AJ21: BAII
A22: Aurélie Molia | E22: B | L22: BX | N22: X | P22: R | AC22: LEEM | AI22: ok | AJ22: ok
A23: Philippe Hénault | E23: X | G23: X | T23: X | U23: B | Z23: X | AA23: bu | AC23: X | AH23: 37 | AI23: ok | AJ23: ok
A24: Stéphanie Mercier | B24: X | H24: X | M24: X | O24: X | S24: X | V24: X | AJ24: ok
A25: Katia Vigilante
A26: Thao Tran | B26: X | H26: X | M26: X | O26: X | V26: bu | W26: X | AB26: X | AH26: 36 | AI26: ok | AJ26: rh
A27: Jocelyne Letembet
A28: Gaëlle Rocheran | AJ28: ok
A29: Jean-Philippe Chauvin | AJ29: ok
A30: Joëlle Dufayet | AJ30: ok
A31: Johanne Daupin
A32: Angélique Vadin | AJ32: ok
A33: Angélique Demarly | AJ33: ok
B35: Vac scolaires
A36: Mars | B36: 1 | C36: =+B36+1 -> 2 | D36: =+C36+1 -> 3 | E36: =+D36+1 -> 4 | F36: =+E36+1 -> 5 | G36: =+F36+1 -> 6 | H36: =+G36+1 -> 7 | I36: =+H36+1 -> 8 | J36: =+I36+1 -> 9 | ... AF36: =+AE36+1 -> 31
A37: vérif baii//outlook 20/03/13 | B37: V | C37: S | D37: D | E37: L | F37: M | G37: M | H37: J | I37: V | J37: S | K37: D | L37: L | M37: M | N37: M | O37: J | P37: V | Q37: S | R37: D | S37: L | T37: M | U37: M | V37: J | W37: V | X37: S | Y37: D | Z37: L | AA37: M | AB37: M | AC37: J | AD37: V | AE37: S | AF37: D | AI37: outlook | AJ37: BAII
A38: Aurélie Molia | B38: X | F38: X | I38: toeic | P38: X | AB38: X | AC38: Ifis | AI38: ok | AJ38: ok
A39: Accueil Marie-José Branger | G39: GPV training
A40: Philippe Hénault | G40: X | I40: toeic | N40: X | U40: X | W40: X | AH40: 37 | AI40: ok | AJ40: ok
A41: Stéphanie Mercier | H41: X | I41: toeic | L41: X | S41: X | V41: Ifis | AA41: X | AC41: X | AJ41: ok
A42: Katia Vigilante
A43: Thao Tran | AB43: bu | AC43: bu | AH43: 36 | AI43: ok | AJ43: rh
...

Sheet 2012
A1: PLANNING 2012 POUR L ORGANISATION DES ACTIVITES DE PV ET D'INFORMATION MEDICALE
A4: Janvier
A5: Dernière mise à jour / vérif BAII : | B5: 1 | C5: =+B5+1 -> 2 | D5: =+C5+1 -> 3 | E5: =+D5+1 -> 4 | F5: =+E5+1 -> 5 | G5: =+F5+1 -> 6 | H5: =+G5+1 -> 7 | I5: =+H5+1 -> 8 | J5: =+I5+1 -> 9 | ... AF5: =+AE5+1 -> 31
A6: 40928 | B6: D | C6: L | D6: M | E6: M | F6: J | G6: V | H6: S | I6: D | J6: L | K6: M | L6: M | M6: J | N6: V | O6: S | P6: D | Q6: L | R6: M | S6: M | T6: J | U6: V | V6: S | W6: D | X6: L | Y6: M | Z6: M | AA6: J | AB6: V | AC6: S | AD6: D | AE6: L | AF6: M | AI6: outlook | AJ6: BAII
A7: Aurélie Molia | C7: X | E7: B | J7: X | M7: X | Q7: X | X7: X | Y7: X | AE7: X | AI7: ok | AJ7: ok
A9: Philippe Hénault | D9: X | E9: X | F9: X | G9: X | K9: X | L9: X | N9: X | R9: X | S9: X | T9: X | U9: X | Z9: X | AA9: X | AB9: X | AF9: X | AH9: 37 | AI9: ok | AJ9: ok
A10: Thao Tran | C10: arrêt | X10: patho | AH10: 36 | AI10: ok | AJ10: rh
A11: Anne-Cécile Mauclaire | X11: AM | Y11: Ingelheim | AI11: ok | AJ11: ok
A12: Katia Vigilante | F12: arrêt | AH12: 30 | AI12: ok | AJ12: ok
A13: Stéphanie Mercier | X13: AM | Y13: Ingelheim | AB13: rec | AE13: rec | AJ13: ok
A14: Gaëlle Rocheran | AJ14: ok
A15: Johan Bourbon
A17: Jean-Philippe Chauvin | AJ17: ok
A18: Joëlle Dufayet | AJ18: ok
A19: Céline Lamant (prestataire Aixial)
A21: Angélique Vadin | AJ21: ok
A22: Mélanie Baudouin (interim)
A23: Angélique Demarly | AJ23: ok
A26: Février
A27: Dernière mise à jour / vérif BAII : | B27: 1 | C27: =+B27+1 -> 2 | D27: =+C27+1 -> 3 | E27: =+D27+1 -> 4 | F27: =+E27+1 -> 5 | G27: =+F27+1 -> 6 | H27: =+G27+1 -> 7 | I27: =+H27+1 -> 8 | J27: =+I27+1 -> 9 | ... AD27: =+AC27+1 -> 29
A28: 40953 | B28: M | C28: J | D28: V | E28: S | F28: D | G28: L | H28: M | I28: M | J28: J | K28: V | L28: S | M28: D | N28: L | O28: M | P28: M | Q28: J | R28: V | S28: S | T28: D | U28: L | V28: M | W28: M | X28: J | Y28: V | Z28: S | AA28: D | AB28: L | AC28: M | AD28: M
A29: Aurélie Molia | C29: X | G29: X | I29: B | K29: X | N29: X | Q29: X | U29: X | V29: X | AI29: ok | AJ29: ok
A31: Philippe Hénault | B31: X | D31: X | H31: X | I31: X | J31: X | O31: X | P31: X | R31: X | W31: X | X31: X | Y31: X | AB31: X | AC31: X | AD31: X | AH31: 48 | AI31: ok | AJ31: à màj
A32: Thao Tran | G32: congés mat | AH32: 42 | AJ32: rh
A33: Anne-Cécile Mauclaire | P33: X | R33: X | X33: X | AB33: X | AD33: X | AJ33: ok
A34: Katia Vigilante | AH34: 34 | AJ34: ok
A35: Maximilien Taquet (prestataire Altiga) | V35: AM
A36: Stéphanie Mercier | AJ36: ok
A37: Gaëlle Rocheran | AJ37: ok
A38: Johan Bourbon
A40: Jean-Philippe Chauvin | AJ40: ok
A41: Joëlle Dufayet | AJ41: ok
A42: Céline Lamant (prestataire Aixial)
A44: Angélique Vadin | AJ44: ok
A45: Mélanie Baudouin (interim)
A46: Angélique Demarly | AJ46: ok
Z47: Vacances scolaires
A49: Mars
A50: Dernière mise à jour / vérif BAII : | B50: 1 | C50: =+B50+1 -> 2 | D50: =+C50+1 -> 3 | E50: =+D50+1 -> 4 | F50: =+E50+1 -> 5 | G50: =+F50+1 -> 6 | H50: =+G50+1 -> 7 | I50: =+H50+1 -> 8 | J50: =+I50+1 -> 9 | ... AF50: =+AE50+1 -> 31
A51: 40984 | B51: J | C51: V | D51: S | E51: D | F51: L | G51: M | H51: M | I51: J | J51: V | K51: S | L51: D | M51: L | N51: M | O51: M | P51: J | Q51: V | R51: S | S51: D | T51: L | U51: M | V51: M | W51: J | X51: V | Y51: S | Z51: D | AA51: L | AB51: M | AC51: M | AD51: J | AE51: V | AF51: S
...

Sheet 2011
A1: Janvier
A2: Dernière mise à jour : | B2: 1 | C2: =+B2+1 -> 2 | D2: =+C2+1 -> 3 | E2: =+D2+1 -> 4 | F2: =+E2+1 -> 5 | G2: =+F2+1 -> 6 | H2: =+G2+1 -> 7 | I2: =+H2+1 -> 8 | J2: =+I2+1 -> 9 | ... AF2: =+AE2+1 -> 31
A3: 40556 | B3: S | C3: D | D3: L | E3: M | F3: M | G3: J | H3: V | I3: S | J3: D | K3: L | L3: M | M3: M | N3: J | O3: V | P3: S | Q3: D | R3: L | S3: M | T3: M | U3: J | V3: V | W3: S | X3: D | Y3: L | Z3: M | AA3: M | AB3: J | AC3: V | AD3: S | AE3: D | AF3: L
A4: Anne-Elisabeth Collignon | D4: B | H4: B | K4: B | M4: B | R4: AM | V4: B | Y4: B | AA4: B | AB4: B | AF4: M
A5: Philippe Hénault | F5: X | H5: X | M5: X | S5: X | U5: X | Y5: X | AA5: B | AB5: X | AF5: X
A6: Pierre Katz | E6: X | G6: X | K6: X | M6: M | N6: X | R6: X | T6: X | U6: B | V6: X | Z6: X | AA6: X | AC6: X | AF6: M
A7: Thao Tran | D7: X | L7: X | O7: X | R7: formation Onco IGR | Y7: formation Onco IGR
A8: Katia Vigilante | D8: fin congés mat
A9: Gaëlle Rocheran
A10: Jean-Philippe Chauvin | E10: maladie | O10: B
A11: Joëlle Dufayet | S11: M
A12: Stéphanie Mercier | D12: fin congés mat
A13: Aurélie Molia
A14: Julie Gosselin | F14: maladie
A15: Angélique Vadin
A16: Angélique Demarly | AB16: maladie
A19: Février
A20: Dernière mise à jour : | B20: 1 | C20: =+B20+1 -> 2 | D20: =+C20+1 -> 3 | E20: =+D20+1 -> 4 | F20: =+E20+1 -> 5 | G20: =+F20+1 -> 6 | H20: =+G20+1 -> 7 | I20: =+H20+1 -> 8 | J20: =+I20+1 -> 9 | ... AC20: =+AB20+1 -> 28
A21: 40578 | B21: M | C21: M | D21: J | E21: V | F21: S | G21: D | H21: L | I21: M | J21: M | K21: J | L21: V | M21: S | N21: D | O21: L | P21: M | Q21: M | R21: J | S21: V | T21: S | U21: D | V21: L | W21: M | X21: M | Y21: J | Z21: V | AA21: S | AB21: D | AC21: L
A22: Anne-Elisabeth Collignon | B22: Format° | H22: B | L22: B | O22: B | P22: B
A23: Philippe Hénault | B23: Format° | D23: X | H23: X | I23: X | L23: X | P23: X | R23: X | V23: X | X23: X
A24: Pierre Katz | B24: X | C24: X | E24: X | H24: M | J24: X | K24: X | L24: AM | O24: X | P24: AM | Q24: X | S24: X
A25: Thao Tran | W25: X | Z25: X
A26: Katia Vigilante | Y26: X | AC26: X
A27: Gaëlle Rocheran | X27: Certification
A28: Jean-Philippe Chauvin
A29: Joëlle Dufayet
A30: Stéphanie Mercier
A31: Aurélie Molia | B31: Format° | W31: Format°
A32: Julie Gosselin | H32: AM
A33: Angélique Vadin | V33: M
A34: Angélique Demarly | E34: M | O34: Format°
V35: Vacances scolaires
A37: Mars
A38: Dernière mise à jour : | B38: 1 | C38: =+B38+1 -> 2 | D38: =+C38+1 -> 3 | E38: =+D38+1 -> 4 | F38: =+E38+1 -> 5 | G38: =+F38+1 -> 6 | H38: =+G38+1 -> 7 | I38: =+H38+1 -> 8 | J38: =+I38+1 -> 9 | ... AF38: =+AE38+1 -> 31
A39: 40620 | B39: M | C39: M | D39: J | E39: V | F39: S | G39: D | H39: L | I39: M | J39: M | K39: J | L39: V | M39: S | N39: D | O39: L | P39: M | Q39: M | R39: J | S39: V | T39: S | U39: D | V39: L | W39: M | X39: M | Y39: J | Z39: V | AA39: S | AB39: D | AC39: L | AD39: M | AE39: M | AF39: J
A40: Anne-Elisabeth Collignon | E40: B | H40: B | L40: B | O40: B | P40: B | AC40: B
A41: Philippe Hénault | C41: X | P41: X | S41: X | W41: X | X41: X | Z41: X | AE41: X | AG41: 7
A42: Thao Tran | B42: X | E42: X | H42: X | J42: X | O42: X | Q42: X | V42: X | Y42: X | AC42: X | AF42: X | AG42: 10
A43: Katia Vigilante | D43: X | I43: X | K43: X | L43: X | P43: AM | R43: X | AD43: X | AG43: 6
...

Sheet 2010
A1: Janvier 2010
A2: Dernière mise à jour : | B2: 1 | C2: =+B2+1 -> 2 | D2: =+C2+1 -> 3 | E2: =+D2+1 -> 4 | F2: =+E2+1 -> 5 | G2: =+F2+1 -> 6 | H2: =+G2+1 -> 7 | I2: =+H2+1 -> 8 | J2: =+I2+1 -> 9 | ... AF2: =+AE2+1 -> 31
A3: 40197 | B3: V | C3: S | D3: D | E3: L | F3: M | G3: M | H3: J | I3: V | J3: S | K3: D | L3: L | M3: M | N3: M | O3: J | P3: V | Q3: S | R3: D | S3: L | T3: M | U3: M | V3: J | W3: V | X3: S | Y3: D | Z3: L | AA3: M | AB3: M | AC3: J | AD3: V | AE3: S | AF3: D
A4: Sophie Fontez
A5: Philippe Hénault | F5: X | I5: X | M5: X | O5: X | S5: X | U5: X | W5: X | AA5: X | AD5: X | AG5: 9
A6: Thao Tran | G6: X | L6: X | N6: X | P6: X | T6: X | V6: X | Z6: X | AB6: X | AC6: X | AG6: 9
A7: Katia Vigilante | E7: X | H7: X | AG7: 2
A8: Jean-Philippe Chauvin
A9: Joëlle Dufayet | G9: M
A10: Angélique Demarly | T10: M
A13: Février 2010
A14: Dernière mise à jour : | B14: 1 | C14: =+B14+1 -> 2 | D14: =+C14+1 -> 3 | E14: =+D14+1 -> 4 | F14: =+E14+1 -> 5 | G14: =+F14+1 -> 6 | H14: =+G14+1 -> 7 | I14: =+H14+1 -> 8 | J14: =+I14+1 -> 9 | ... AC14: =+AB14+1 -> 28
A15: 40234 | B15: L | C15: M | D15: M | E15: J | F15: V | G15: S | H15: D | I15: L | J15: M | K15: M | L15: J | M15: V | N15: S | O15: D | P15: L | Q15: M | R15: M | S15: J | T15: V | U15: S | V15: D | W15: L | X15: M | Y15: M | Z15: J | AA15: V | AB15: S | AC15: D
A16: Sophie Fontez
A17: Philippe Hénault | C17: X | E17: X | I17: X | R17: X | T17: X | X17: X | Z17: X | AD17: 16
A18: Thao Tran | B18: X | D18: X | F18: X | L18: X | P18: X | AD18: 14
A19: Katia Vigilante | J19: X | K19: X | M19: X | Q19: X | S19: X | W19: X | Y19: X | AA19: X | AD19: 10
A20: Jean-Philippe Chauvin
A21: Joëlle Dufayet
A22: Stéphanie Mercier
A23: Aurélie Molia
A24: Angélique Vadin
A25: Angélique Demarly | Z25: M
A28: Mars 2010
A29: Dernière mise à jour : | B29: 1 | C29: =+B29+1 -> 2 | D29: =+C29+1 -> 3 | E29: =+D29+1 -> 4 | F29: =+E29+1 -> 5 | G29: =+F29+1 -> 6 | H29: =+G29+1 -> 7 | I29: =+H29+1 -> 8 | J29: =+I29+1 -> 9 | ... AF29: =+AE29+1 -> 31
A30: 40246 | B30: L | C30: M | D30: M | E30: J | F30: V | G30: S | H30: D | I30: L | J30: M | K30: M | L30: J | M30: V | N30: S | O30: D | P30: L | Q30: M | R30: M | S30: J | T30: V | U30: S | V30: D | W30: L | X30: M | Y30: M | Z30: J | AA30: V | AB30: S | AC30: D | AD30: L | AE30: M | AF30: M
A31: Dir PV-IM | J31: B
A32: Stéphane Pollentier (Resp.PV) | B32: B | I32: B | J32: B | M32: B | X32: M | Y32: B | Z32: B | AA32: B | AD32: B | AE32: B | AG32: 23
A33: Philippe Hénault | L33: X | M33: X | Q33: X | X33: X | Z33: X | AD33: X | AG33: 23
A34: Thao Tran | B34: X | D34: X | F34: X | K34: X | R34: X | T34: X | Y34: X | AE34: X | AG34: 21
A35: Katia Vigilante | C35: X | E35: X | I35: X | J35: X | P35: X | S35: X | W35: X | AA35: X | AF35: X | AG35: 19
A36: Charlotte Catala
A37: Jean-Philippe Chauvin
A38: Joëlle Dufayet
A39: Stéphanie Mercier
A40: Aurélie Molia
A41: Angélique Vadin
A42: Angélique Demarly
A45: Avril 2010
A46: Dernière mise à jour : | B46: 1 | C46: =+B46+1 -> 2 | D46: =+C46+1 -> 3 | E46: =+D46+1 -> 4 | F46: =+E46+1 -> 5 | G46: =+F46+1 -> 6 | H46: =+G46+1 -> 7 | I46: =+H46+1 -> 8 | J46: =+I46+1 -> 9 | ... AE46: =+AD46+1 -> 30
...

Sheet 2009
A2: Dernière mise à jour : | B2: J a n v i e r 2 0 0 9
A3: 39835 | B3: 1 | C3: =+B3+1 -> 2 | D3: =+C3+1 -> 3 | E3: =+D3+1 -> 4 | F3: =+E3+1 -> 5 | G3: =+F3+1 -> 6 | H3: =+G3+1 -> 7 | I3: =+H3+1 -> 8 | J3: =+I3+1 -> 9 | ... AA3: =+Z3+1 -> 26 | AB3: 27 | AC3: 28 | AD3: 29 | AE3: 30 | AF3: 31
B4: J | C4: V | D4: S | E4: D | F4: L | G4: M | H4: M | I4: J | J4: V | K4: S | L4: D | M4: L | N4: M | O4: M | P4: J | Q4: V | R4: S | S4: D | T4: L | U4: M | V4: M | W4: J | X4: V | Y4: S | Z4: D | AA4: L | AB4: M | AC4: M | AD4: J | AE4: V | AF4: S
A5: Sophie - sfo
A6: Philippe - phe | B6: F | C6: R | F6: X | J6: X | P6: X | T6: X | U6: X | X6: X | AB6: X | AE6: X | AG6: 8
A7: Thao - ttr | B7: E | C7: T | I7: X | N7: X | Q7: X | V7: X | W7: X | AA7: X | AC7: X | AD7: X | AG7: 8
A8: Katia - kvi | B8: R | C8: T | G8: X | H8: X | M8: X | O8: X | AG8: 4
A9: Jean-Philippe - jpc | B9: I
A10: Joëlle - jdu | B10: E | C10: B
A11: Nathalie - nno | C11: I
A12: Angélique - ade | C12: F | AA12: pm
A14: Dernière mise à jour : | B14: FEVRIER 2009
A15: 39862 | B15: 1 | C15: =+B15+1 -> 2 | D15: =+C15+1 -> 3 | E15: =+D15+1 -> 4 | F15: =+E15+1 -> 5 | G15: =+F15+1 -> 6 | H15: =+G15+1 -> 7 | I15: =+H15+1 -> 8 | J15: =+I15+1 -> 9 | ... AA15: =+Z15+1 -> 26 | AB15: 27 | AC15: 28
B16: D | C16: L | D16: M | E16: M | F16: J | G16: V | H16: S | I16: D | J16: L | K16: M | L16: M | M16: J | N16: V | O16: S | P16: D | Q16: L | R16: M | S16: M | T16: J | U16: V | V16: S | W16: D | X16: L | Y16: M | Z16: M | AA16: J | AB16: V | AC16: S
A17: Sophie - sfo
A18: Philippe - phe | D18: X | J18: X | M18: X | S18: X | Y18: X | AD18: 13
A19: Thao - ttr | F19: X | G19: X | L19: X | Q19: X | U19: X | X19: X | AD19: 14
A20: Katia - kvi | C20: X | E20: X | K20: X | N20: X | R20: X | T20: X | Z20: X | AA20: X | AB20: X | AD20: 13
A21: Jean-Philippe - jpc
A22: Joëlle - jdu
A23: Nathalie - nno
A24: Angélique - ade
A26: Dernière mise à jour : | B26: 39873
A27: 39891 | B27: 1 | C27: =+B27+1 -> 2 | D27: =+C27+1 -> 3 | E27: =+D27+1 -> 4 | F27: =+E27+1 -> 5 | G27: =+F27+1 -> 6 | H27: =+G27+1 -> 7 | I27: =+H27+1 -> 8 | J27: =+I27+1 -> 9 | ... Y27: =+X27+1 -> 24 | Z27: 25 | AA27: 26 | AB27: 27 | AC27: 28 | AD27: 29 | AE27: 30 | AF27: 31
B28: D | C28: L | D28: M | E28: M | F28: J | G28: V | H28: S | I28: D | J28: L | K28: M | L28: M | M28: J | N28: V | O28: S | P28: D | Q28: L | R28: M | S28: M | T28: J | U28: V | V28: S | W28: D | X28: L | Y28: M | Z28: M | AA28: J | AB28: V | AC28: S | AD28: D | AE28: L | AF28: M
A29: Sophie - sfo
A30: Philippe - phe | C30: X | D30: X | L30: X | M30: X | N30: X | Y30: X | AB30: X | AF30: X | AG30: 21
A31: Thao - ttr | F31: X | M31: am | N31: pm | Q31: X | T31: X | U31: X | X31: X | Z31: X | AA31: X | AE31: X | AF31: pm | AG31: 22
A32: Katia - kvi | E32: X | G32: X | J32: X | K32: X | R32: X | S32: X | AF32: pm | AG32: 19
A33: Jean-Philippe - jpc
A34: Joëlle - jdu
A35: Angélique - ade
A37: Dernière mise à jour : | B37: 39904
A38: 39920 | B38: 1 | C38: =+B38+1 -> 2 | D38: =+C38+1 -> 3 | E38: =+D38+1 -> 4 | F38: =+E38+1 -> 5 | G38: =+F38+1 -> 6 | H38: =+G38+1 -> 7 | I38: =+H38+1 -> 8 | J38: =+I38+1 -> 9 | ... Y38: =+X38+1 -> 24 | Z38: 25 | AA38: 26 | AB38: 27 | AC38: 28 | AD38: 29 | AE38: 30
B39: M | C39: J | D39: V | E39: S | F39: D | G39: L | H39: M | I39: M | J39: J | K39: V | L39: S | M39: D | N39: L | O39: M | P39: M | Q39: J | R39: V | S39: S | T39: D | U39: L | V39: M | W39: M | X39: J | Y39: V | Z39: S | AA39: D | AB39: L | AC39: M | AD39: M | AE39: J
A40: Sophie - sfo | V40: pm
A41: Philippe - phe | P41: X | Q41: X | R41: X | U41: X | V41: X | Y41: X | AB41: X | AF41: 28
A42: Thao - ttr | B42: X | C42: X | G42: X | H42: am | J42: X | K42: X | O42: X | AF42: 28
A43: Katia - kvi | D43: X | H43: X | I43: X | W43: X | AC43: X | AD43: X | AE43: X | AF43: 26
A44: Jean-Philippe - jpc
...

Sheet 2008
A1: Dernière mise à jour :
A2: 39472
B3: J a n v i e r 2 0 0 8
B4: 1 | C4: =+B4+1 -> 2 | D4: =+C4+1 -> 3 | E4: =+D4+1 -> 4 | F4: =+E4+1 -> 5 | G4: =+F4+1 -> 6 | H4: =+G4+1 -> 7 | I4: =+H4+1 -> 8 | J4: =+I4+1 -> 9 | ... AD4: =+AC4+1 -> 29 | AE4: 30 | AF4: 31
B5: M | C5: M | D5: J | E5: V | F5: S | G5: D | H5: L | I5: M | J5: M | K5: J | L5: V | M5: S | N5: D | O5: L | P5: M | Q5: M | R5: J | S5: V | T5: S | U5: D | V5: L | W5: M | X5: M | Y5: J | Z5: V | AA5: S | AB5: D | AC5: L | AD5: M | AE5: M | AF5: J
A6: Sophie Fontez | C6: am | W6: pm | Y6: IMDP | AF6: pm
A7: Philippe Hénault | B7: F | D7: X | H7: pm | K7: X | L7: X | V7: X | Y7: X | Z7: X | AD7: X | AE7: X | AG7: 7 | AH7: 8
A8: Thao Tran | B8: E | K8: am | O8: X | P8: X | Q8: X | R8: X | S8: X | W8: X | Y8: am | AC8: X | AD8: am | AG8: 8 | AH8: 7
A9: Katia Vigilante | B9: R | C9: X | D9: am | E9: X | H9: X | I9: X | W9: pm | X9: X | Y9: am | AF9: X | AG9: 7 | AH9: 6
A10: Philippe Farfour
A11: Jean-Philippe Chauvin | B11: I
A12: Joëlle Dufayet | B12: E
A13: Asma Rachdad
A14: Angélique Demarly
A16: Dernière mise à jour :
A17: 39486
B18: F é v r i e r 2 0 0 8
B19: 1 | C19: =+B19+1 -> 2 | D19: =+C19+1 -> 3 | E19: =+D19+1 -> 4 | F19: =+E19+1 -> 5 | G19: =+F19+1 -> 6 | H19: =+G19+1 -> 7 | I19: =+H19+1 -> 8 | J19: =+I19+1 -> 9 | ... AC19: =+AB19+1 -> 28 | AD19: 29
B20: V | C20: S | D20: D | E20: L | F20: M | G20: M | H20: J | I20: V | J20: S | K20: D | L20: L | M20: M | N20: M | O20: J | P20: V | Q20: S | R20: D | S20: L | T20: M | U20: M | V20: J | W20: V | X20: S | Y20: D | Z20: L | AA20: M | AB20: M | AC20: J | AD20: V
A21: Sophie Fontez | H21: pm | I21: pm | O21: pm | S21: pm | V21: pm | Z21: pm | AA21: I | AB21: M | AC21: D | AD21: P
A22: Philippe Hénault | F22: pm | G22: X | H22: X | I22: e | L22: X | N22: X | S22: pm | T22: X | W22: X | AB22: am | AD22: X | AE22: 7
A23: Thao Tran | B23: X | F23: X | M23: X | P23: X | S23: pm | T23: pm | V23: X | Z23: X | AB23: am | AC23: X | AD23: am | AE23: 7
A24: Katia Vigilante | B24: pm | E24: X | G24: pm | I24: X | O24: X | S24: X | U24: X | Z24: pm | AA24: X | AB24: X | AD24: am | AE24: 7
A25: Philippe Farfour | T25: pm
A26: Jean-Philippe Chauvin | S26: pm | T26: pm
A27: Joëlle Dufayet | S27: pm | T27: pm
A28: Asma Rachdad | T28: pm
A29: Angélique Demarly | T29: pm | AC29: pm
A31: Dernière mise à jour :
A32: 39514
B33: M a r s 2 0 0 8
B34: 1 | C34: =+B34+1 -> 2 | D34: =+C34+1 -> 3 | E34: =+D34+1 -> 4 | F34: =+E34+1 -> 5 | G34: =+F34+1 -> 6 | H34: =+G34+1 -> 7 | I34: =+H34+1 -> 8 | J34: =+I34+1 -> 9 | ... AD34: =+AC34+1 -> 29 | AE34: 30 | AF34: 31
B35: S | C35: D | D35: L | E35: M | F35: M | G35: J | H35: V | I35: S | J35: D | K35: L | L35: M | M35: M | N35: J | O35: V | P35: S | Q35: D | R35: L | S35: M | T35: M | U35: J | V35: V | W35: S | X35: D | Y35: L | Z35: M | AA35: M | AB35: J | AC35: V | AD35: S | AE35: D | AF35: L
A36: Sophie Fontez | E36: pm | H36: am | K36: IMDP | M36: pm | R36: am
A37: Philippe Hénault | E37: X | G37: X | M37: X | N37: X | R37: am | S37: X | T37: X | Y37: F | AG37: 6
A38: Thao Tran | E38: pm | F38: X | G38: am | H38: X | K38: X | L38: X | O38: X | R38: X | U38: pm | Y38: E | Z38: X | AG38: 7
A39: Katia Vigilante | D39: X | U39: X | V39: X | Y39: R | AA39: X | AB39: X | AC39: X | AF39: X | AG39: 7
A40: Philippe Farfour | G40: am | Y40: I
A41: Jean-Philippe Chauvin | Y41: E
A42: Joëlle Dufayet | G42: am | O42: am
...

Sheet 2007
A1: Dernière mise à jour :
A2: 39101
B3: J a n v i e r 2 0 0 7
B4: 1 | C4: =+B4+1 -> 2 | D4: =+C4+1 -> 3 | E4: =+D4+1 -> 4 | F4: =+E4+1 -> 5 | G4: =+F4+1 -> 6 | H4: =+G4+1 -> 7 | I4: =+H4+1 -> 8 | J4: =+I4+1 -> 9 | ... AD4: =+AC4+1 -> 29 | AE4: 30 | AF4: 31
B5: L | C5: M | D5: M | E5: J | F5: V | G5: S | H5: D | I5: L | J5: M | K5: M | L5: J | M5: V | N5: S | O5: D | P5: L | Q5: M | R5: M | S5: J | T5: V | U5: S | V5: D | W5: L | X5: M | Y5: M | Z5: J | AA5: V | AB5: S | AC5: D | AD5: L | AE5: M | AF5: M
A6: Sophie Fontez | C6: pm | J6: pm | L6: pm | S6: pm
A7: Philippe Hénault | I7: X | J7: X | K7: X | S7: pm | X7: am | Y7: X | Z7: X | AA7: X | AD7: X | AE7: X | AF7: am
A8: Aurélie Molia | B8: F | J8: pm | L8: X | M8: X | P8: X | Q8: X | W8: X | X8: X | AE8: am
A9: Jean-Clément Nwatchok | B9: E | J9: pm | L9: pm
A10: Katia Vigilante | B10: R | C10: X | D10: X | E10: X | F10: X | J10: pm | L10: pm | R10: X | S10: X | T10: X | X10: am | AE10: am | AF10: X
A11: Sandrine Havet | B11: I
A12: Jean-Philippe Chauvin | B12: E | J12: pm
A13: Joëlle Dufayet
A14: Jessica Brizion
A15: Angélique Scafidi | J15: pm | L15: pm
A17: Dernière mise à jour :
A18: 39115
B19: F é v r i e r 2 0 0 7
B20: 1 | C20: =+B20+1 -> 2 | D20: =+C20+1 -> 3 | E20: =+D20+1 -> 4 | F20: =+E20+1 -> 5 | G20: =+F20+1 -> 6 | H20: =+G20+1 -> 7 | I20: =+H20+1 -> 8 | J20: =+I20+1 -> 9 | ... AC20: =+AB20+1 -> 28
B21: J | C21: V | D21: S | E21: D | F21: L | G21: M | H21: M | I21: J | J21: V | K21: S | L21: D | M21: L | N21: M | O21: M | P21: J | Q21: V | R21: S | S21: D | T21: L | U21: M | V21: M | W21: J | X21: V | Y21: S | Z21: D | AA21: L | AB21: M | AC21: M
A22: Sophie Fontez | C22: am | G22: am | N22: pm | O22: pm | U22: pm | W22: A | X22: am
A23: Philippe Hénault | F23: X | G23: X | H23: X | N23: pm | O23: X | T23: am | W23: X | X23: X | AB23: X | AC23: pm
A24: Aurélie Molia | B24: X | C24: X | F24: am | G24: pm | I24: X | J24: X | N24: pm | P24: X | Q24: X | W24: n
A25: Jean-Clément Nwatchok | N25: pm | W25: n
A26: Katia Vigilante | I26: am | M26: X | N26: X | O26: am | T26: X | U26: X | V26: X | W26: u | AA26: X | AB26: am | AC26: X
A27: Sandrine Havet | N27: pm | W27: a
A28: Jean-Philippe Chauvin | N28: pm | W28: l
A29: Joëlle Dufayet | N29: pm
A30: Jessica Brizion | N30: pm
A31: Angélique Scafidi | N31: pm | X31: pm
A33: Dernière mise à jour :
A34: 39168
B35: M a r s 2 0 0 7
B36: 1 | C36: =+B36+1 -> 2 | D36: =+C36+1 -> 3 | E36: =+D36+1 -> 4 | F36: =+E36+1 -> 5 | G36: =+F36+1 -> 6 | H36: =+G36+1 -> 7 | I36: =+H36+1 -> 8 | J36: =+I36+1 -> 9 | ... AB36: =+AA36+1 -> 27 | AC36: 28 | AD36: 29 | AE36: 30 | AF36: 31
B37: J | C37: V | D37: S | E37: D | F37: L | G37: M | H37: M | I37: J | J37: V | K37: S | L37: D | M37: L | N37: M | O37: M | P37: J | Q37: V | R37: S | S37: D | T37: L | U37: M | V37: M | W37: J | X37: V | Y37: S | Z37: D | AA37: L | AB37: M | AC37: M | AD37: J | AE37: V | AF37: S
A38: Sophie Fontez | F38: am | H38: am | I38: am | O38: CDS ARISg | AG38: v
A39: Philippe Hénault | B39: X | J39: X | M39: X | O39: X | T39: X | V39: X | W39: X | X39: X | AC39: am | AE39: X | AG39: v
A40: Aurélie Molia | C40: e | N40: X | P40: X | Q40: X | T40: T | U40: X | V40: t | W40: T | AA40: X | AB40: X | AC40: am | AD40: T | AE40: T | AG40: v
A41: Jean-Clément Nwatchok | AG41: v
A42: Katia Vigilante | C42: X | F42: X | G42: X | H42: X | I42: X | AC42: X | AD42: X | AG42: v
...

Sheet 2006
A1: Dernière mise à jour :
A2: 38741
B3: J a n v i e r 2 0 0 6
B4: 1 | C4: =+B4+1 -> 2 | D4: =+C4+1 -> 3 | E4: =+D4+1 -> 4 | F4: =+E4+1 -> 5 | G4: =+F4+1 -> 6 | H4: =+G4+1 -> 7 | I4: =+H4+1 -> 8 | J4: =+I4+1 -> 9 | ... AF4: =+AE4+1 -> 31
B5: D | C5: L | D5: M | E5: M | F5: J | G5: V | H5: S | I5: D | J5: L | K5: M | L5: M | M5: J | N5: V | O5: S | P5: D | Q5: L | R5: M | S5: M | T5: J | U5: V | V5: S | W5: D | X5: L | Y5: M | Z5: M | AA5: J | AB5: V | AC5: S | AD5: D | AE5: L | AF5: M
A6: Sophie Fontez | C6: R | E6: pm
A7: Philippe Hénault | C7: T | J7: X | L7: X | M7: X | Q7: am | R7: X | S7: X | T7: X | AA7: X | AB7: X
A8: Aurélie Molia | C8: T | G8: am | J8: am | K8: X | Q8: X | U8: X | AE8: X | AF8: X
A9: Katia Vigilante | D9: X | E9: X | F9: X | G9: X | N9: X | X9: X | Y9: X | Z9: X
A10: Jean-Philippe Chauvin | C10: B
A11: Joëlle Dufayet | C11: I
A12: Angélique Scafidi | C12: F
A14: Dernière mise à jour :
A15: 38772
B16: F é v r i e r 2 0 0 6
B17: 1 | C17: =+B17+1 -> 2 | D17: =+C17+1 -> 3 | E17: =+D17+1 -> 4 | F17: =+E17+1 -> 5 | G17: =+F17+1 -> 6 | H17: =+G17+1 -> 7 | I17: =+H17+1 -> 8 | J17: =+I17+1 -> 9 | ... AC17: =+AB17+1 -> 28
B18: M | C18: J | D18: V | E18: S | F18: D | G18: L | H18: M | I18: M | J18: J | K18: V | L18: S | M18: D | N18: L | O18: M | P18: M | Q18: J | R18: V | S18: S | T18: D | U18: L | V18: M | W18: M | X18: J | Y18: V | Z18: S | AA18: D | AB18: L | AC18: M
A19: Sophie Fontez | G19: pm
A20: Philippe Hénault | B20: X | C20: am | H20: pm | J20: X | K20: X | V20: X | W20: X | X20: X | AB20: X | AC20: X
A21: Aurélie Molia | C21: X | D21: X | G21: pm | N21: X | O21: X | U21: X
A22: Katia Vigilante | C22: pm | G22: X | H22: X | I22: X | P22: X | Q22: X | R22: X | Y22: X | AC22: pm
A23: Jean-Philippe Chauvin | G23: pm
A24: Joëlle Dufayet
A25: Angélique Scafidi
A27: Dernière mise à jour :
A28: 38792
B29: M a r s 2 0 0 6
B30: 1 | C30: =+B30+1 -> 2 | D30: =+C30+1 -> 3 | E30: =+D30+1 -> 4 | F30: =+E30+1 -> 5 | G30: =+F30+1 -> 6 | H30: =+G30+1 -> 7 | I30: =+H30+1 -> 8 | J30: =+I30+1 -> 9 | ... AF30: =+AE30+1 -> 31
B31: M | C31: J | D31: V | E31: S | F31: D | G31: L | H31: M | I31: M | J31: J | K31: V | L31: S | M31: D | N31: L | O31: M | P31: M | Q31: J | R31: V | S31: S | T31: D | U31: L | V31: M | W31: M | X31: J | Y31: V | Z31: S | AA31: D | AB31: L | AC31: M | AD31: M | AE31: J | AF31: V
A32: Sophie Fontez | J32: V | K32: C
A33: Philippe Hénault | B33: X | C33: X | I33: X | J33: I | K33: D | Q33: X | R33: X | U33: X | V33: X | W33: X
A34: Aurélie Molia | G34: X | H34: X | J34: X | K34: S | N34: X | O34: X | AB34: X | AC34: X
A35: Katia Vigilante | C35: am | D35: X | G35: am | J35: S | K35: X | N35: pm | P35: X | X35: X | Y35: X | AD35: X | AE35: X | AF35: X
A36: Jean-Philippe Chauvin | J36: I
A37: Joëlle Dufayet | J37: T
A38: Angélique Scafidi | J38: E
A40: Dernière mise à jour :
A41: 38832
B42: A v r i l 2 0 0 6
B43: 1 | C43: =+B43+1 -> 2 | D43: =+C43+1 -> 3 | E43: =+D43+1 -> 4 | F43: =+E43+1 -> 5 | G43: =+F43+1 -> 6 | H43: =+G43+1 -> 7 | I43: =+H43+1 -> 8 | J43: =+I43+1 -> 9 | ... AE43: =+AD43+1 -> 30
...

Sheet 2005
B3: J u i n 2 0 0 5 | O3: J u i l l e t 2 0 0 5 | AT3: Août | BY3: S e p t e m b r e 2 0 0 5 | DE3: O c t o b r e 2 0 0 5 | EJ3: N o v e m b r e 2 0 0 5 | FN3: D é c e m b r e 2 0 0 5
B4: 20 | C4: =+B4+1 -> 21 | D4: =+C4+1 -> 22 | E4: =+D4+1 -> 23 | F4: =+E4+1 -> 24 | G4: =+F4+1 -> 25 | H4: =+G4+1 -> 26 | I4: =+H4+1 -> 27 | J4: 28 | K4: =+J4+1 -> 29 | L4: =+K4+1 -> 30 | O4: 1 | P4: =+O4+1 -> 2 | Q4: =+P4+1 -> 3 | R4: =+Q4+1 -> 4 | S4: =+R4+1 -> 5 | T4: =+S4+1 -> 6 | U4: =+T4+1 -> 7 | V4: =+U4+1 -> 8 | W4: =+V4+1 -> 9 | ... AS4: =+AR4+1 -> 31 | AT4: 1 | AU4: =+AT4+1 -> 2 | AV4: =+AU4+1 -> 3 | AW4: =+AV4+1 -> 4 | AX4: =+AW4+1 -> 5 | AY4: =+AX4+1 -> 6 | AZ4: =+AY4+1 -> 7 | BA4: =+AZ4+1 -> 8 | BB4: =+BA4+1 -> 9 | ... BX4: =+BW4+1 -> 31 | BY4: 1 | BZ4: =+BY4+1 -> 2 | CA4: =+BZ4+1 -> 3 | CB4: =+CA4+1 -> 4 | CC4: =+CB4+1 -> 5 | CD4: =+CC4+1 -> 6 | CE4: =+CD4+1 -> 7 | CF4: =+CE4+1 -> 8 | CG4: =+CF4+1 -> 9 | ... DB4: =+DA4+1 -> 30 | DE4: 1 | DF4: =+DE4+1 -> 2 | DG4: =+DF4+1 -> 3 | DH4: =+DG4+1 -> 4 | DI4: =+DH4+1 -> 5 | DJ4: =+DI4+1 -> 6 | DK4: =+DJ4+1 -> 7 | DL4: =+DK4+1 -> 8 | DM4: =+DL4+1 -> 9 | ... EI4: =+EH4+1 -> 31 | EJ4: 1 | EK4: =+EJ4+1 -> 2 | EL4: =+EK4+1 -> 3 | EM4: =+EL4+1 -> 4 | EN4: =+EM4+1 -> 5 | EO4: =+EN4+1 -> 6 | EP4: =+EO4+1 -> 7 | EQ4: =+EP4+1 -> 8 | ER4: =+EQ4+1 -> 9 | ... FM4: =+FL4+1 -> 30 | FN4: 1 | FO4: =+FN4+1 -> 2 | FP4: =+FO4+1 -> 3 | FQ4: =+FP4+1 -> 4 | FR4: =+FQ4+1 -> 5 | FS4: =+FR4+1 -> 6 | FT4: =+FS4+1 -> 7 | FU4: =+FT4+1 -> 8 | FV4: =+FU4+1 -> 9 | ... GR4: =+GQ4+1 -> 31
B5: L | C5: M | D5: M | E5: J | F5: V | G5: S | H5: D | I5: L | J5: M | K5: M | L5: J | O5: V | P5: S | Q5: D | R5: L | S5: M | T5: M | U5: J | V5: V | W5: S | X5: D | Y5: L | Z5: M | AA5: M | AB5: J | AC5: V | AD5: S | AE5: D | AF5: L | AG5: M | AH5: M | AI5: J | AJ5: V | AK5: S | AL5: D | AM5: L | AN5: M | AO5: M | AP5: J | AQ5: V | AR5: S | AS5: D | AT5: L | AU5: M | AV5: M | AW5: J | AX5: V | AY5: S | AZ5: D | BA5: L | BB5: M | BC5: M | BD5: J | BE5: V | BF5: S | BG5: D | BH5: L | BI5: M | BJ5: M | BK5: J | BL5: V | BM5: S | BN5: D | BO5: L | BP5: M | BQ5: M | BR5: J | BS5: V | BT5: S | BU5: D | BV5: L | BW5: M | BX5: M | BY5: J | BZ5: V | CA5: S | CB5: D | CC5: L | CD5: M | CE5: M | CF5: J | CG5: V | CH5: S | CI5: D | CJ5: L | CK5: M | CL5: M | CM5: J | CN5: V | CO5: S | CP5: D | CQ5: L | CR5: M | CS5: M | CT5: J | CU5: V | CV5: S | CW5: D | CX5: L | CY5: M | CZ5: M | DA5: J | DB5: V | DE5: S | DF5: D | DG5: L | DH5: M | DI5: M | DJ5: J | DK5: V | DL5: S | DM5: D | DN5: L | DO5: M | DP5: M | DQ5: J | DR5: V | DS5: S | DT5: D | DU5: L | DV5: M | DW5: M | DX5: J | DY5: V | DZ5: S | EA5: D | EB5: L | EC5: M | ED5: M | EE5: J | EF5: V | EG5: S | EH5: D | EI5: L | EJ5: M | EK5: M | EL5: J | EM5: V | EN5: S | EO5: D | EP5: L | EQ5: M | ER5: M | ES5: J | ET5: V | EU5: S | EV5: D | EW5: L | EX5: M | EY5: M | EZ5: J | FA5: V | FB5: S | FC5: D | FD5: L | FE5: M | FF5: M | FG5: J | FH5: V | FI5: S | FJ5: D | FK5: L | FL5: M | FM5: M | FN5: J | FO5: V | FP5: S | FQ5: D | FR5: L | FS5: M | FT5: M | FU5: J | FV5: V | FW5: S | FX5: D | FY5: L | FZ5: M | GA5: M | GB5: J | GC5: V | GD5: S | GE5: D | GF5: L | GG5: M | GH5: M | GI5: J | GJ5: V | GK5: S | GL5: D | GM5: L | GN5: M | GO5: M | GP5: J | GQ5: V | GR5: S
A6: Sophie Fontez | C6: am | I6: pm | AH6: am | AT6: am | CQ6: pm | CY6: pm | DA6: am | DD6: Sophie Fontez | EC6: pm | EX6: C | FG6: am | FN6: am | FS6: am
A7: Katia Vigilante | B7: X | I7: X | J7: X | K7: am | L7: X | O7: X | R7: X | AH7: am | AM7: X | AN7: X | AO7: X | AP7: X | AQ7: X | AS7: 7 | AX7: X | BI7: X | BJ7: X | BK7: X | BO7: X | BV7: X | BW7: X | BX7: X | BY7: X | CC7: X | CF7: am | CG7: x | CJ7: X | CK7: X | CL7: X | CM7: X | CN7: X | CR7: pm | CX7: pm | DD7: Philippe Hénault | DG7: X | DV7: pm | DX7: X | DY7: X | EB7: X | EC7: X | ED7: X | EE7: X | EJ7: F | ER7: X | ES7: X | ET7: F | EX7: L | EZ7: X | FA7: X | FD7: X | FF7: X | FS7: X | FT7: X | FU7: X | GC7: X | GF7: X | GH7: X | GI7: X
A8: Philippe Hénault | C8: X | D8: X | E8: X | F8: X | K8: X | L8: am | S8: X | T8: X | U8: X | V8: X | Y8: X | Z8: X | AA8: X | AH8: am | AS8: 7 | AT8: am | BA8: X | BB8: X | BC8: X | BD8: X | BE8: X | BR8: X | BS8: X | CQ8: X | CR8: X | CX8: X | CY8: X | CZ8: X | DA8: X | DB8: X | DD8: Aurélie Molia | DP8: X | DQ8: X | DR8: X | DU8: X | DV8: X | DW8: X | EJ8: E | EM8: X | EP8: X | EQ8: X | ER8: am | ET8: E | EW8: X | EX8: X | EY8: X | FE8: X | FG8: am | FV8: X | FZ8: X | GA8: X | GB8: am | GG8: X | GM8: X | GN8: X | GO8: X | GP8: X | GQ8: X
A9: Aurélie Molia | AF9: X | AG9: X | AH9: X | AI9: X | AJ9: X | AS9: 5 | AT9: X | AU9: X | AV9: X | AW9: X | BL9: X | BP9: X | BQ9: X | BZ9: X | CC9: pm | CD9: X | CE9: X | CF9: X | CS9: X | CT9: X | CU9: X | DD9: Katia Vigilante | DG9: am | DH9: X | DI9: X | DJ9: X | DK9: X | EF9: X | EJ9: R | EK9: X | EL9: X | ET9: R | EX9: A | FE9: pm | FG9: X | FH9: X | FK9: X | FL9: X | FM9: X | FN9: X | FO9: X | FR9: X | FS9: pm | FU9: am | FY9: X | GB9: X | GJ9: X
A10: Joelle Dufayet | DD10: Jean-Philippe Chauvin | EJ10: I | ET10: I | EX10: N
A11: Adélaïde Carpentier | AF11: BB | CY11: ? | DD11: Joëlle Dufayet | EJ11: E | ET11: E | EX11: I
A12: Angélique Scafidi | AH12: am | DD12: Angélique Scafidi | EX12: N
A13: Ingrid Bichard | DD13: Ingrid Bichard | EX13: G
A16: M E M O | E16: Absent (congés, rtt, récup, ou autres …) | AW16: Absent (congés, rtt, récup, ou autres …) | CB16: Absent (congés, rtt, récup, ou autres …) | DD16: M E M O | DH16: Absent (congés, rtt, récup, …) | EM16: Absent (congés, rtt, récup, …) | FQ16: Absent (congés, rtt, récup, …)
A17: Service minimum PV | E17: Déplacements ou autres (formations ou réunions de longue durée) | AC17: am = matin / pm = après-midi | AW17: Déplacements ou autres (1/2j. ou journée) - am = matin / pm = après-midi | CB17: Déplacements ou autres (1/2j. ou journée) - am = matin / pm = après-midi | DD17: Service minimum PV | DH17: Déplacements ou réunions (1/2j. ou journée) - am = matin / pm = après-midi | EM17: Déplacements ou réunions (1/2j. ou journée) - am = matin / pm = après-midi | FQ17: Déplacements ou réunions (1/2j. ou journée) - am = matin / pm = après-midi
A18: 2 PHAR + MD | E18: Triage cas = ARISg Data entry | AW18: Triage cas (2) = ARISg Data entry | CB18: Triage cas + ARISg Data entry | DD18: 2 PHAR + MD | DH18: Triage cas + ARISg Data entry | EM18: Triage cas + ARISg Data entry | FQ18: Triage cas + ARISg Data entry
A19: 2 PHAR + ASC | E19: Validation cas AMO = ARISg Reviewer | AW19: >>> "LIGHT" (minimum requis pour passer le cas en review) pour les PHAR en remp MD | CB19: Support MD hors ARISg | DD19: 2 PHAR + ASC | DH19: Back up Joëlle hors ARISg (Triage cas + registre PV) | EM19: Back up JDU | FP19: X | FQ19: Importations + contrôle du registre
A20: 1 PHAR + MD + ASC | D20: X | E20: Importations + contrôle du registre | AW20: Triage cas (1) = registrePV | CA20: X | CB20: Importations + contrôle du registre | DD20: 1 PHAR + MD + SPV | DG20: X | DH20: Importations + contrôle du registre | EL20: X | EM20: Importations + contrôle du registre | FQ20: Signature Afssaps et/ou Back up SFO
A21: MAXI 2 JOURS | E21: Signature Afssaps et/ou Back up SFO | AV21: X | AW21: Importations + contrôle du registre | CB21: Signature Afssaps et/ou Back up SFO | DD21: MAXI 2 JOURS | DH21: Signature Afssaps et/ou Back up SFO | EM21: Signature Afssaps et/ou Back up SFO
AW24: Signature Afssaps et/ou Back up SFO
CA25: Réunions du mois :
CA26: 1er sept : Activités PV
CA27: 22 sept : Unité PV - Indicateurs d'activité
CA28: 26 sept : réunion prépa mensuelles des activités PV
CA29: 29 sept : comité technique (cas mois d'août)

Sheet 2015
A1: ORGANISATION DE L'ACTIVITE DIRECTION PHARMACOVIGILANCE ET INFORMATION MEDICALE - 2015
A2: Document à usage interne uniquement
C4: Non travaillé (férié/TP/etc)
A6: Absences : | C6: RTT | H6: RRL | M6: Congés | R6: RTT imposé | V6: Abence / HV / DPP FOS / MAL / MAE | AC6: A REGULARISER
B8: B | C8: Biopark | G8: R | H8: Reims Réunion ou format°journée | AB8: m = matin / am = après-midi
A10: Obligations PV : | B10: X | C10: Importations / Permanence tél 12h30 - 13h30 | G10: X | H10: Importations + CQ E2B (Merc/Jeudi) | R10: Back-up Dir PV-IM | AB10: vacances scolaires
A12: Organisation MD : | B12: T | C12: Triage | G12: Q | H12: Queries
A14: Janvier | B14: 1 | C14: =+B14+1 -> 2 | D14: =+C14+1 -> 3 | E14: =+D14+1 -> 4 | F14: =+E14+1 -> 5 | G14: =+F14+1 -> 6 | H14: =+G14+1 -> 7 | I14: =+H14+1 -> 8 | J14: =+I14+1 -> 9 | ... AF14: =+AE14+1 -> 31
B15: J | C15: V | D15: S | E15: D | F15: L | G15: M | H15: M | I15: J | J15: V | K15: S | L15: D | M15: L | N15: M | O15: M | P15: J | Q15: V | R15: S | S15: D | T15: L | U15: M | V15: M | W15: J | X15: V | Y15: S | Z15: D | AA15: L | AB15: M | AC15: M | AD15: J | AE15: V | AF15: S
A16: Aurélie Molia | F16: B | H16: B | T16: AM | V16: B | AB16: B
A17: Philippe Hénault | C17: site | F17: X | I17: B | P17: X | V17: X | AB17: X
A18: Stéphanie Mercier | J18: X | N18: X | T18: M | W18: X | AD18: X
A19: Katia Vigilante | H19: X | O19: X | T19: X
A20: Prestation PV | G20: X | I20: X | M20: X | Q20: X | U20: X | X20: X | AA20: X | AC20: X | AE20: X
A21: Jean-Philippe Chauvin | C21: site | F21: T | G21: Q | I21: T | J21: Q | M21: T | N21: Q | P21: T | Q21: Q | U21: T | V21: Q | W21: T | X21: Q | AC21: T | AD21: Q
A22: Joëlle Dufayet | G22: T | H22: Q | J22: T | N22: T | O22: Q | Q22: T | T22: Q | U22: Q | V22: T | W22: Q | X22: T | AA22: T | AB22: Q | AD22: T | AE22: Q
A23: Rosemonde Tempier
A24: Prestation GD | F24: Q | H24: T | I24: Q | M24: Q | O24: T | P24: Q | T24: T | AB24: T | AC24: Q | AE24: T | AG24: 17
A25: Thao Tran | F25: B | I25: B
A26: Jocelyne Letembet
A27: Gaëlle Rocheran
A28: Angélique Vadin
A29: Angélique Demarly | G29: M
A30: Corinne Gillery | F30: M | H30: 17 | I30: Greta | M30: M | O30: 17 | P30: Greta | T30: M | V30: 17 | W30: Greta | AC30: 14 | AD30: Greta | AG30: =SUM(B30:AF30) -> 65
A33: Février | B33: 1 | C33: =+B33+1 -> 2 | D33: =+C33+1 -> 3 | E33: =+D33+1 -> 4 | F33: =+E33+1 -> 5 | G33: =+F33+1 -> 6 | H33: =+G33+1 -> 7 | I33: =+H33+1 -> 8 | J33: =+I33+1 -> 9 | ... AC33: =+AB33+1 -> 28
A34: (au 29/01/2015) | B34: D | C34: L | D34: M | E34: M | F34: J | G34: V | H34: S | I34: D | J34: L | K34: M | L34: M | M34: J | N34: V | O34: S | P34: D | Q34: L | R34: M | S34: M | T34: J | U34: V | V34: S | W34: D | X34: L | Y34: M | Z34: M | AA34: J | AB34: V | AC34: S
A35: Aurélie Molia | L35: B | M35: B
A36: Philippe Hénault | D36: X | M36: X | Z36: X
A37: Stéphanie Mercier | C37: X | F37: X | L37: X | R37: X | Y37: X | AB37: X
A38: Katia Vigilante | E38: X | G38: X | J38: X | S38: X | U38: X
A39: Baptiste Jouhannet | Z39: PV | AA39: PV | AB39: PV
A40: Prestation PV | K40: X | N40: X | Q40: X | T40: X | X40: X | AA40: X
A41: Jean-Philippe Chauvin | C41: T | D41: Q | E41: T | F41: Q | G41: T | J41: T | K41: Q | M41: T | N41: T | Q41: Q | S41: T | T41: Q | U41: T | X41: T | Y41: Q | AA41: T | AB41: Q
A42: Joëlle Dufayet | K42: T | L42: Q | M42: Q | R42: T | S42: Q | X42: Q | Y42: T | Z42: Q
A43: Rosemonde Tempier | G43: Q | T43: Q | U43: T
A44: Prestation GD | C44: Q | D44: T | E44: Q | F44: T | G44: val | J44: Q | L44: T | N44: Q | Q44: T | R44: Q | T44: T | U44: Q | X44: Q | Z44: T | AA44: Q | AB44: T | AD44: 19
A45: Thao Tran
A46: Jocelyne Letembet
A47: Gaëlle Rocheran
A48: Angélique Vadin | F48: X | N48: X | T48: X | Y48: X | AB48: X
...

Sheet 2017
B2: Absence : saisie RTT, RRl, RRT, CP, MAL | G2: D | H2: Délégation
B3: T | C3: triage
B6: 42737 | X6: 42767 | AR6: 42795 | BO6: 42828 | CI6: 42856 | DF6: 42887 | EC6: Suivi congés posés
B7: 42737 | C7: 42738 | D7: 42739 | E7: 42740 | F7: 42741 | G7: 42744 | H7: 42745 | I7: 42746 | J7: 42747 | K7: 42748 | L7: 42751 | M7: 42752 | N7: 42753 | O7: 42754 | P7: 42755 | Q7: 42758 | R7: 42759 | S7: 42760 | T7: 42761 | U7: 42762 | V7: 42765 | W7: 42766 | X7: 42767 | Y7: 42768 | Z7: 42769 | AA7: 42772 | AB7: 42773 | AC7: 42774 | AD7: 42775 | AE7: 42776 | AF7: 42779 | AG7: 42780 | AH7: 42781 | AI7: 42782 | AJ7: 42783 | AK7: 42786 | AL7: 42787 | AM7: 42788 | AN7: 42789 | AO7: 42790 | AP7: 42793 | AQ7: 42794 | AR7: 42795 | AS7: 42796 | AT7: 42797 | AU7: 42800 | AV7: 42801 | AW7: 42802 | AX7: 42803 | AY7: 42804 | AZ7: 42807 | BA7: 42808 | BB7: 42809 | BC7: 42810 | BD7: 42811 | BE7: 42814 | BF7: 42815 | BG7: 42816 | BH7: 42817 | BI7: 42818 | BJ7: 42821 | BK7: 42822 | BL7: 42823 | BM7: 42824 | BN7: 42825 | BO7: 42828 | BP7: 42829 | BQ7: 42830 | BR7: 42831 | BS7: 42832 | BT7: 42835 | BU7: 42836 | BV7: 42837 | BW7: 42838 | BX7: 42839 | BY7: 42842 | BZ7: 42843 | CA7: 42844 | CB7: 42845 | CC7: 42846 | CD7: 42849 | CE7: 42850 | CF7: 42851 | CG7: 42852 | CH7: 42853 | CI7: 42856 | CJ7: 42857 | CK7: 42858 | CL7: 42859 | CM7: 42860 | CN7: 42863 | CO7: 42864 | CP7: 42865 | CQ7: 42866 | CR7: 42867 | CS7: 42870 | CT7: 42871 | CU7: 42872 | CV7: 42873 | CW7: 42874 | CX7: 42877 | CY7: 42878 | CZ7: 42879 | DA7: 42880 | DB7: 42881 | DC7: 42884 | DD7: 42885 | DE7: 42886 | DF7: 42887 | DG7: 42888 | DH7: 42891 | DI7: 42892 | DJ7: 42893 | DK7: 42894 | DL7: 42895 | DM7: 42898 | DN7: 42899 | DO7: 42900 | DP7: 42901 | DQ7: 42902 | DR7: 42905 | DS7: 42906 | DT7: 42907 | DU7: 42908 | DV7: 42909 | DW7: 42912 | DX7: 42913 | DY7: 42914 | DZ7: 42915 | EA7: 42916 | EC7: TOTAL | ED7: TOTAL
B8: =TEXT(B7,"jjj") -> lun | C8: =TEXT(C7,"jjj") -> mar | D8: =TEXT(D7,"jjj") -> mer | E8: =TEXT(E7,"jjj") -> jeu | F8: =TEXT(F7,"jjj") -> ven | G8: =TEXT(G7,"jjj") -> lun | H8: =TEXT(H7,"jjj") -> mar | I8: =TEXT(I7,"jjj") -> mer | ... EA8: =TEXT(EA7,"jjj") -> ven | EC8: RTT | ED8: CPN
A9: nathalie1 | B9: RRT | E9: RRL | N9: CP | T9: CP | Z9: RRT | AB9: RRL | EC9: =COUNTIF(B9:EA9,"RTT")+COUNTIF(B9:EA9,"RRT")+COUNTIF(B9:EA9,"RTL") -> 2 | ED9: =COUNTIF(B9:EA9,$ED$8)+COUNTIF(B9:EA9,divers!A22) -> 2
A10: nathalie2 | EC10: =COUNTIF(B10:EA10,"RTT")+COUNTIF(B10:EA10,"RRT")+COUNTIF(B10:EA10,"RTL") -> 0 | ED10: =COUNTIF(B10:EA10,$ED$8) -> 0
A11: nathalie3 | C11: T | EC11: =COUNTIF(B11:EA11,"RTT")+COUNTIF(B11:EA11,"RRT")+COUNTIF(B11:EA11,"RTL") -> 0 | ED11: =COUNTIF(B11:EA11,$ED$8) -> 0
A12: nathalie8 | EC12: =COUNTIF(B12:EA12,"RTT")+COUNTIF(B12:EA12,"RRT")+COUNTIF(B12:EA12,"RTL") -> 0 | ED12: =COUNTIF(B12:EA12,$ED$8) -> 0
A13: nathalie9 | B13: D | E13: D | G13: T | J13: rrt | N13: D | P13: T | R13: rtt | T13: D | Z13: D | AB13: D | EC13: =COUNTIF(B13:EA13,"RTT")+COUNTIF(B13:EA13,"RRT")+COUNTIF(B13:EA13,"RTL") -> 2 | ED13: =COUNTIF(B13:EA13,$ED$8) -> 0
A14: nathalie10 | EC14: =COUNTIF(B14:EA14,"RTT")+COUNTIF(B14:EA14,"RRT")+COUNTIF(B14:EA14,"RTL") -> 0 | ED14: =COUNTIF(B14:EA14,$ED$8) -> 0
A15: nathalie13 | EC15: =COUNTIF(B15:EA15,"RTT")+COUNTIF(B15:EA15,"RRT")+COUNTIF(B15:EA15,"RTL") -> 0 | ED15: =COUNTIF(B15:EA15,$ED$8) -> 0
A19: Mon besoin : les informations de planning sont saisies dans la feuille "2017" par les collaborateurs. les information de congés et de délégation de pouvoir sont de Nathalie 1 et 9 sont automatiquement reportées en feuille "abs et back-up". => l'idée est de permettre à l'assistante en cliquant sur un bouton, d'envoyer le mois de son choix de la feuille "abs et back-up" en pdf par mail au DG

Sheet abs et back-up
B2: 42737 | X2: 42767 | AR2: 42795 | BO2: 42828 | CI2: 42856 | DF2: 42887 | EB2: 42919 | EW2: 42948 | FT2: 42979 | GO2: 43010 | HK2: 43040 | IG2: 43070
B3: 42737 | C3: 42738 | D3: 42739 | E3: 42740 | F3: 42741 | G3: 42744 | H3: 42745 | I3: 42746 | J3: 42747 | K3: 42748 | L3: 42751 | M3: 42752 | N3: 42753 | O3: 42754 | P3: 42755 | Q3: 42758 | R3: 42759 | S3: 42760 | T3: 42761 | U3: 42762 | V3: 42765 | W3: 42766 | X3: 42767 | Y3: 42768 | Z3: 42769 | AA3: 42772 | AB3: 42773 | AC3: 42774 | AD3: 42775 | AE3: 42776 | AF3: 42779 | AG3: 42780 | AH3: 42781 | AI3: 42782 | AJ3: 42783 | AK3: 42786 | AL3: 42787 | AM3: 42788 | AN3: 42789 | AO3: 42790 | AP3: 42793 | AQ3: 42794 | AR3: 42795 | AS3: 42796 | AT3: 42797 | AU3: 42800 | AV3: 42801 | AW3: 42802 | AX3: 42803 | AY3: 42804 | AZ3: 42807 | BA3: 42808 | BB3: 42809 | BC3: 42810 | BD3: 42811 | BE3: 42814 | BF3: 42815 | BG3: 42816 | BH3: 42817 | BI3: 42818 | BJ3: 42821 | BK3: 42822 | BL3: 42823 | BM3: 42824 | BN3: 42825 | BO3: 42828 | BP3: 42829 | BQ3: 42830 | BR3: 42831 | BS3: 42832 | BT3: 42835 | BU3: 42836 | BV3: 42837 | BW3: 42838 | BX3: 42839 | BY3: 42842 | BZ3: 42843 | CA3: 42844 | CB3: 42845 | CC3: 42846 | CD3: 42849 | CE3: 42850 | CF3: 42851 | CG3: 42852 | CH3: 42853 | CI3: 42856 | CJ3: 42857 | CK3: 42858 | CL3: 42859 | CM3: 42860 | CN3: 42863 | CO3: 42864 | CP3: 42865 | CQ3: 42866 | CR3: 42867 | CS3: 42870 | CT3: 42871 | CU3: 42872 | CV3: 42873 | CW3: 42874 | CX3: 42877 | CY3: 42878 | CZ3: 42879 | DA3: 42880 | DB3: 42881 | DC3: 42884 | DD3: 42885 | DE3: 42886 | DF3: 42887 | DG3: 42888 | DH3: 42891 | DI3: 42892 | DJ3: 42893 | DK3: 42894 | DL3: 42895 | DM3: 42898 | DN3: 42899 | DO3: 42900 | DP3: 42901 | DQ3: 42902 | DR3: 42905 | DS3: 42906 | DT3: 42907 | DU3: 42908 | DV3: 42909 | DW3: 42912 | DX3: 42913 | DY3: 42914 | DZ3: 42915 | EA3: 42916 | EB3: 42919 | EC3: 42920 | ED3: 42921 | EE3: 42922 | EF3: 42923 | EG3: 42926 | EH3: 42927 | EI3: 42928 | EJ3: 42929 | EK3: 42930 | EL3: 42933 | EM3: 42934 | EN3: 42935 | EO3: 42936 | EP3: 42937 | EQ3: 42940 | ER3: 42941 | ES3: 42942 | ET3: 42943 | EU3: 42944 | EV3: 42947 | EW3: 42948 | EX3: 42949 | EY3: 42950 | EZ3: 42951 | FA3: 42954 | FB3: 42955 | FC3: 42956 | FD3: 42957 | FE3: 42958 | FF3: 42961 | FG3: 42962 | FH3: 42963 | FI3: 42964 | FJ3: 42965 | FK3: 42968 | FL3: 42969 | FM3: 42970 | FN3: 42971 | FO3: 42972 | FP3: 42975 | FQ3: 42976 | FR3: 42977 | FS3: 42978 | FT3: 42979 | FU3: 42982 | FV3: 42983 | FW3: 42984 | FX3: 42985 | FY3: 42986 | FZ3: 42989 | GA3: 42990 | GB3: 42991 | GC3: 42992 | GD3: 42993 | GE3: 42996 | GF3: 42997 | GG3: 42998 | GH3: 42999 | GI3: 43000 | GJ3: 43003 | GK3: 43004 | GL3: 43005 | GM3: 43006 | GN3: 43007 | GO3: 43010 | GP3: 43011 | GQ3: 43012 | GR3: 43013 | GS3: 43014 | GT3: 43017 | GU3: 43018 | GV3: 43019 | GW3: 43020 | GX3: 43021 | GY3: 43024 | GZ3: 43025 | HA3: 43026 | HB3: 43027 | HC3: 43028 | HD3: 43031 | HE3: 43032 | HF3: 43033 | HG3: 43034 | HH3: 43035 | HI3: 43038 | HJ3: 43039 | HK3: 43040 | HL3: 43041 | HM3: 43042 | HN3: 43045 | HO3: 43046 | HP3: 43047 | HQ3: 43048 | HR3: 43049 | HS3: 43052 | HT3: 43053 | HU3: 43054 | HV3: 43055 | HW3: 43056 | HX3: 43059 | HY3: 43060 | HZ3: 43061 | IA3: 43062 | IB3: 43063 | IC3: 43066 | ID3: 43067 | IE3: 43068 | IF3: 43069 | IG3: 43070 | IH3: 43073 | II3: 43074 | IJ3: 43075 | IK3: 43076 | IL3: 43077 | IM3: 43080 | IN3: 43081 | IO3: 43082 | IP3: 43083 | IQ3: 43084 | IR3: 43087 | IS3: 43088 | IT3: 43089 | IU3: 43090 | IV3: 43091 | IW3: 43094 | IX3: 43095 | IY3: 43096 | IZ3: 43097 | JA3: 43098
B4: =TEXT(B3,"jjj") -> lun | C4: =TEXT(C3,"jjj") -> mar | D4: =TEXT(D3,"jjj") -> mer | E4: =TEXT(E3,"jjj") -> jeu | F4: =TEXT(F3,"jjj") -> ven | G4: =TEXT(G3,"jjj") -> lun | H4: =TEXT(H3,"jjj") -> mar | I4: =TEXT(I3,"jjj") -> mer | ... JA4: =TEXT(JA3,"jjj") -> ven
