Workbook
Name ABSENCE: divers!$A$3:$A$26
Name aout: 'abs et back-up'!$EW$2:$FS$6
Name avril: 'abs et back-up'!$BO$2:$CH$6
Name decembre: 'abs et back-up'!$IG$2:$JA$6
Name fevrier: 'abs et back-up'!$X$2:$AQ$6
Name infos: 'abs et back-up'!#REF!
Name infos: '2017'!#REF!
Name janvier: 'abs et back-up'!$B$2:$W$6
Name juillet: 'abs et back-up'!$EB$2:$EV$6
Name juin: 'abs et back-up'!$DF$2:$EA$6
Name mai: 'abs et back-up'!$CI$2:$DE$6
Name mars: 'abs et back-up'!$AR$2:$BN$6
Name mois: divers!$E$15:$E$27
Name novembre: 'abs et back-up'!$HK$2:$IF$6
Name octobre: 'abs et back-up'!$GO$2:$HJ$6
Name septembre: 'abs et back-up'!$FT$2:$GN$6

Sheet 2014
A1: PLANNING DIRECTION PHARMACOVIGILANCE ET INFORMATION MEDICALE - 2014 | AG1: Document à usage interne uniquement
B3: vacances scolaires
A4: Janvier 2014 | B4: 1 | C4: =+B4+1 -> 2 | D4: =+C4+1 -> 3 | E4: =+D4+1 -> 4 | F4: =+E4+1 -> 5 | G4: =+F4+1 -> 6 | H4: =+G4+1 -> 7 | I4: =+H4+1 -> 8 | J4: =+I4+1 -> 9 | ... AF4: =+AE4+1 -> 31
A5: d'après BAII 26/12/13 | B5: M | C5: J | D5: V | E5: S | F5: D | G5: L | H5: M | I5: M | J5: J | K5: V | L5: S | M5: D | N5: L | O5: M | P5: M | Q5: J | R5: V | S5: S | T5: D | U5: L | V5: M | W5: M | X5: J | Y5: V | Z5: S | AA5: D | AB5: L | AC5: M | AD5: M | AE5: J | AF5: V
A6: Aurélie Molia | C6: B/M | N6: X | U6: X | AC6: B
A7: Philippe Hénault | G7: X | P7: X | V7: X | Y7: X | AC7: X
A8: Imports MTA | C8: X | I8: X | R8: X | AE8: X
A9: Stéphanie Mercier | D9: X | H9: X | I9: B | K9: X | Q9: X | U9: DU | X9: X | AB9: X
A10: Katia Vigilante | J10: X | O10: X | W10: X | AD10: X | AF10: X
A11: Thao Tran
A12: Jocelyne Letembet
A13: Gaëlle Rocheran
A14: Jean-Philippe Chauvin | C14: Q | D14: T | G14: T | I14: Q | K14: T | N14: T | P14: T | Q14: Q | R14: T | U14: T | V14: Q | W14: T | X14: Q | Y14: T | AD14: T | AE14: Q | AF14: T
A15: Joëlle Dufayet | C15: T | H15: Q | I15: T | J15: Q | O15: Q | Q15: T | AB15: Q | AC15: T | AD15: Q | AE15: T | AF15: Q
A16: Triage/Query PLO | D16: Q | G16: Q / M | H16: T | J16: T | K16: Q | N16: Q | O16: T | P16: Q | R16: Q | U16: Q | V16: T | W16: Q | X16: T | Y16: Q | AB16: T | AC16: Q
A17: Rym Youdarene | G17: AM | N17: AM | U17: AM | Y17: AM | AB17: AM
A18: Angélique Vadin
A19: Angélique Demarly
A20: Cloé Lalanne (stage obs.)
W22: vacances scolaires
A23: Février | B23: 1 | C23: =+B23+1 -> 2 | D23: =+C23+1 -> 3 | E23: =+D23+1 -> 4 | F23: =+E23+1 -> 5 | G23: =+F23+1 -> 6 | H23: =+G23+1 -> 7 | I23: =+H23+1 -> 8 | J23: =+I23+1 -> 9 | ... AC23: =+AB23+1 -> 28
A24: d'après BAII 13/02/14 | B24: S | C24: D | D24: L | E24: M | F24: M | G24: J | H24: V | I24: S | J24: D | K24: L | L24: M | M24: M | N24: J | O24: V | P24: S | Q24: D | R24: L | S24: M | T24: M | U24: J | V24: V | W24: S | X24: D | Y24: L | Z24: M | AA24: M | AB24: J | AC24: V
A25: Aurélie Molia | U25: B | V25: B | Z25: B
A26: Philippe Hénault | D26: X | N26: X | U26: B | V26: B | Z26: B | AC26: X
A27: Imports MTA | G27: X | K27: X | R27: X | T27: X | V27: X | Y27: X | Z27: X
A28: Stéphanie Mercier | E28: X | H28: X | K28: DU | M28: X | S28: X
A29: Katia Vigilante | F29: X | L29: X | O29: X | U29: X | AA29: X | AB29: X
A30: Thao Tran | V30: B
A31: Jocelyne Letembet
A32: Gaëlle Rocheran
A33: Jean-Philippe Chauvin | E33: T | F33: Q | H33: T | K33: Q | L33: T | M33: Q | N33: T | O33: Q | R33: T | S33: Q | U33: T | V33: Q | AA33: T | AB33: AM
A34: Joëlle Dufayet | D34: Q | F34: T | G34: Q | H34: T | K34: T | L34: Q | M34: T | N34: Q | O34: T | R34: Q | T34: T | U34: Q | Y34: T | Z34: Q | AB34: Q | AC34: T
A35: Triage/Query PLO | D35: T | E35: Q | G35: T | H35: Q | S35: T | T35: Q | V35: T | Y35: Q | Z35: T | AA35: Q | AB35: T | AC35: Q
A36: Rym Youdarene | D36: AM | K36: AM | R36: AM
A37: Angélique Vadin
A38: Angélique Demarly
B40: vacances scolaires
A41: Mars | B41: 1 | C41: =+B41+1 -> 2 | D41: =+C41+1 -> 3 | E41: =+D41+1 -> 4 | F41: =+E41+1 -> 5 | G41: =+F41+1 -> 6 | H41: =+G41+1 -> 7 | I41: =+H41+1 -> 8 | J41: =+I41+1 -> 9 | ... AF41: =+AE41+1 -> 31
A42: d'après BAII 26/02/14 | B42: S | C42: D | D42: L | E42: M | F42: M | G42: J | H42: V | I42: S | J42: D | K42: L | L42: M | M42: M | N42: J | O42: V | P42: S | Q42: D | R42: L | S42: M | T42: M | U42: J | V42: V | W42: S | X42: D | Y42: L | Z42: M | AA42: M | AB42: J | AC42: V | AD42: S | AE42: D | AF42: L
A43: Aurélie Molia | V43: IFIS | Y43: X | AF43: B
A44: Philippe Hénault | E44: X | H44: X | L44: X | T44: X
A45: Imports MTA | K45: X | O45: X | S45: X | AB45: X | AF45: X
A46: Stéphanie Mercier | D46: X | F46: X | G46: X | N46: X | R46: DU | U46: X | Z46: X
A47: Katia Vigilante | M47: X | R47: X | V47: X | AA47: X | AC47: X
A48: Thao Tran
A49: Jocelyne Letembet
A50: Gaëlle Rocheran
A51: Jean-Philippe Chauvin | K51: T | L51: Q | N51: T | O51: Q | R51: T | S51: Q | U51: T | V51: Q | Y51: T | Z51: Q | AA51: T | AB51: Q | AC51: T | AF51: Q
A52: Joëlle Dufayet | D52: Q | E52: T | F52: Q | G52: T | H52: Q | L52: T | M52: Q | O52: T | R52: Q | T52: T | U52: Q
A53: Triage/Query PLO | D53: T | E53: Q | F53: T | G53: Q | H53: T | K53: Q | M53: T | N53: Q | S53: T | T53: Q | V53: T | Y53: Q | Z53: T | AA53: Q | AB53: T | AC53: Q | AF53: T
A54: Rym Youdarene | K54: AM
A55: Angélique Vadin
A56: Angélique Demarly
T58: vacances scolaires
A59: Avril | B59: 1 | C59: =+B59+1 -> 2 | D59: =+C59+1 -> 3 | E59: =+D59+1 -> 4 | F59: =+E59+1 -> 5 | G59: =+F59+1 -> 6 | H59: =+G59+1 -> 7 | I59: =+H59+1 -> 8 | J59: =+I59+1 -> 9 | ... AE59: =+AD59+1 -> 30
A60: d'après BAII 05/05/14 | B60: M | C60: M | D60: J | E60: V | F60: S | G60: D | H60: L | I60: M | J60: M | K60: J | L60: V | M60: S | N60: D | O60: L | P60: M | Q60: M | R60: J | S60: V | T60: S | U60: D | V60: L | W60: M | X60: M | Y60: J | Z60: V | AA60: S | AB60: D | AC60: L | AD60: M | AE60: M
A61: Aurélie Molia | B61: leem | L61: X
A62: Philippe Hénault | P62: X | W62: R | Y62: X | AC62: X
A63: Imports MTA | D63: X | J63: X | O63: X | R63: X | X63: X | Z63: X | AD63: X
A64: Stéphanie Mercier | C64: X | E64: X | I64: X | O64: DU | Q64: X | W64: X
A65: Katia Vigilante | B65: X | H65: X | J65: M | K65: X | S65: X | AE65: X
A66: Thao Tran
A67: Jocelyne Letembet
A68: Gaëlle Rocheran | B68: Amiens
A69: Jean-Philippe Chauvin | B69: T | C69: Q | H69: T | I69: T | J69: Q | L69: T | O69: Q | Q69: T | R69: Q
A70: Joëlle Dufayet | B70: AM | C70: T | D70: Q | E70: T | I70: Q | K70: T | L70: Q | P70: T | Q70: Q | S70: T | W70: Q | X70: T | Y70: Q | Z70: T | AC70: Q | AD70: T | AE70: Q
A71: Triage/Query PLO | B71: Q | D71: T | E71: Q | H71: Q | J71: T | K71: Q | O71: T | P71: Q | R71: T | S71: Q | V71: F | W71: T | X71: Q | Y71: T | Z71: Q | AC71: T | AD71: Q | AE71: T
A72: Rym Youdarene
A73: Angélique Vadin
A74: Angélique Demarly
A75: Intérim
A77: PLANNING DIRECTION PHARMACOVIGILANCE ET INFORMATION MEDICALE - 2014 | AG77: Document à usage interne uniquement
B78: vacances scolaires
A79: Mai | B79: 1 | C79: =+B79+1 -> 2 | D79: =+C79+1 -> 3 | E79: =+D79+1 -> 4 | F79: =+E79+1 -> 5 | G79: =+F79+1 -> 6 | H79: =+G79+1 -> 7 | I79: =+H79+1 -> 8 | J79: =+I79+1 -> 9 | ... S79: =+R79+1 -> 18 | T79: 19 | U79: 20 | V79: 21 | W79: 22 | X79: 23 | Y79: =+X79+1 -> 24 | Z79: =+Y79+1 -> 25 | AA79: =+Z79+1 -> 26 | AB79: =+AA79+1 -> 27 | AC79: =+AB79+1 -> 28 | AD79: =+AC79+1 -> 29 | AE79: =+AD79+1 -> 30 | AF79: =+AE79+1 -> 31
A80: d'après BAII 21/05//14 | B80: J | C80: V | D80: S | E80: D | F80: L | G80: M | H80: M | I80: J | J80: V | K80: S | L80: D | M80: L | N80: M | O80: M | P80: J | Q80: V | R80: S | S80: D | T80: L | U80: M | V80: M | W80: J | X80: V | Y80: S | Z80: D | AA80: L | AB80: M | AC80: M | AD80: J | AE80: V | AF80: S
A81: Aurélie Molia | U81: B | X81: X
A82: Philippe Hénault | C82: X | H82: X | N82: X | T82: X | AA82: X
A83: Imports MTA | F83: X | M83: X | Q83: X | V83: X | AC83: X
A84: Stéphanie Mercier | G84: X | M84: DU | P84: X | U84: X | AE84: X
A85: Katia Vigilante | J85: X | O85: X | W85: X | AB85: X
A86: Thao Tran | P86: R | Q86: R
A87: Jocelyne Letembet | AC87: ABDS
A88: Gaëlle Rocheran
A89: Jean-Philippe Chauvin | F89: T | G89: Q | H89: T | J89: site | N89: T | O89: Q | P89: R | Q89: R | T89: T | U89: Q | V89: Q | X89: T | AA89: T | AB89: Q | AC89: T | AE89: site
A90: Joëlle Dufayet | C90: site | F90: Q | G90: T | H90: Q | M90: T | N90: Q | P90: T | Q90: Q | V90: T | W90: Q | AB90: T | AC90: Q
A91: Triage/Query PLO | M91: Q | O91: T | P91: Q | Q91: T | T91: Q | U91: T | W91: T | X91: Q | AA91: Q
A92: Angélique Vadin
A93: Angélique Demarly
A95: Juin | B95: 1 | C95: =+B95+1 -> 2 | D95: =+C95+1 -> 3 | E95: =+D95+1 -> 4 | F95: =+E95+1 -> 5 | G95: =+F95+1 -> 6 | H95: =+G95+1 -> 7 | I95: =+H95+1 -> 8 | J95: =+I95+1 -> 9 | ... AE95: =+AD95+1 -> 30
A96: d'après BAII 21/05//14 | B96: D | C96: L | D96: M | E96: M | F96: J | G96: V | H96: S | I96: D | J96: L | K96: M | L96: M | M96: J | N96: V | O96: S | P96: D | Q96: L | R96: M | S96: M | T96: J | U96: V | V96: S | W96: D | X96: L | Y96: M | Z96: M | AA96: J | AB96: V | AC96: S | AD96: D | AE96: L
A97: Aurélie Molia | K97: B | T97: B
A98: Philippe Hénault | C98: X | L98: X | Q98: X | S98: B | X98: X | AB98: X
A99: Stéphanie Mercier | F99: X | K99: DU | AA99: X
A100: Katia Vigilante | D100: IFIS | E100: X | K100: X | N100: X | S100: X | U100: X | Z100: X | AE100: X
A101: Imports MTA | D101: X | G101: X | M101: X | R101: X | T101: X | Y101: X
A102: Thao Tran | R102: R | S102: R
A103: Jocelyne Letembet
A104: Gaëlle Rocheran
A105: Jean-Philippe Chauvin | C105: T | D105: Q | F105: T | G105: Q | K105: T | L105: Q | N105: T | R105: R | S105: R | T105: T | U105: Q | X105: T | Y105: Q | AA105: T | AB105: Q
A106: Joëlle Dufayet | C106: Q | E106: Q | G106: T | K106: Q | M106: T | N106: Q | Q106: Q | R106: T | S106: Q | U106: T | Y106: T | Z106: Q | AB106: T | AE106: Q
...

Sheet 2013
A1: PLANNING DIRECTION PHARMACOVIGILANCE ET INFORMATION MEDICALE - 2013 | AG1: Document à usage interne uniquement
B3: Vacances scolaires
A4: Janvier 2013 | B4: 1 | C4: =+B4+1 -> 2 | D4: =+C4+1 -> 3 | E4: =+D4+1 -> 4 | F4: =+E4+1 -> 5 | G4: =+F4+1 -> 6 | H4: =+G4+1 -> 7 | I4: =+H4+1 -> 8 | J4: =+I4+1 -> 9 | ... AF4: =+AE4+1 -> 31
A5: vérif baii//outlook 29/01/13 | B5: M | C5: M | D5: J | E5: V | F5: S | G5: D | H5: L | I5: M | J5: M | K5: J | L5: V | M5: S | N5: D | O5: L | P5: M | Q5: M | R5: J | S5: V | T5: S | U5: D | V5: L | W5: M | X5: M | Y5: J | Z5: V | AA5: S | AB5: D | AC5: L | AD5: M | AE5: M | AF5: J | AI5: outlook | AJ5: BAII
A6: Aurélie Molia | AC6: B | AE6: X | AF6: MMF | AI6: ok | AJ6: ok
A7: Philippe Hénault | D7: X | I7: X | L7: X | Q7: X | S7: X | X7: X | Z7: X | AC7: X | AF7: MMF | AH7: 37 | AI7: ok | AJ7: ok
A8: Stéphanie Mercier | O8: X | W8: X | AJ8: ok
A9: Katia Vigilante
A10: Thao Tran | E10: X | J10: X | O10: X | W10: X | AF10: MMF | AH10: 36 | AI10: ok | AJ10: rh
A11: Jocelyne Letembet | R11: adbs
A12: Gaëlle Rocheran | AJ12: ok
A13: Jean-Philippe Chauvin | AJ13: ok
A14: Joëlle Dufayet | AJ14: ok
A15: Johanne Daupin
A16: Angélique Vadin | AJ16: ok
A17: Angélique Demarly | K17: AM | AJ17: ok
Q19: Vacances scolaires zone B
A20: Février | B20: 1 | C20: =+B20+1 -> 2 | D20: =+C20+1 -> 3 | E20: =+D20+1 -> 4 | F20: =+E20+1 -> 5 | G20: =+F20+1 -> 6 | H20: =+G20+1 -> 7 | I20: =+H20+1 -> 8 | J20: =+I20+1 -> 9 | ... AC20: =+AB20+1 -> 28
A21: vérif baii//outlook 31/01/13 | B21: V | C21: S | D21: D | E21: L | F21: M | G21: M | H21: J | I21: V | J21: S | K21: D | L21: L | M21: M | N21: M | O21: J | P21: V | Q21: S | R21: D | S21: L | T21: M | U21: M | V21: J | W21: V | X21: S | Y21: D | Z21: L | AA21: M | AB21: M | AC21: J | AI21: outlook | AJ21: BAII
A22: Aurélie Molia | E22: B | L22: BX | N22: X | P22: R | AC22: LEEM | AI22: ok | AJ22: ok
A23: Philippe Hénault | E23: X | G23: X | T23: X | U23: B | Z23: X | AA23: bu | AC23: X | AH23: 37 | AI23: ok | AJ23: ok
A24: Stéphanie Mercier | B24: X | H24: X | M24: X | O24: X | S24: X | V24: X | AJ24: ok
A25: Katia Vigilante
A26: Thao Tran | B26: X | H26: X | M26: X | O26: X | V26: bu | W26: X | AB26: X | AH26: 36 | AI26: ok | AJ26: rh
A27: Jocelyne Letembet
A28: Gaëlle Rocheran | AJ28: ok
A29: Jean-Philippe Chauvin | AJ29: ok
A30: Joëlle Dufayet | AJ30: ok
A31: Johanne Daupin
A32: Angélique Vadin | AJ32: ok
A33: Angélique Demarly | AJ33: ok
B35: Vac scolaires
A36: Mars | B36: 1 | C36: =+B36+1 -> 2 | D36: =+C36+1 -> 3 | E36: =+D36+1 -> 4 | F36: =+E36+1 -> 5 | G36: =+F36+1 -> 6 | H36: =+G36+1 -> 7 | I36: =+H36+1 -> 8 | J36: =+I36+1 -> 9 | ... AF36: =+AE36+1 -> 31
A37: vérif baii//outlook 20/03/13 | B37: V | C37: S | D37: D | E37: L | F37: M | G37: M | H37: J | I37: V | J37: S | K37: D | L37: L | M37: M | N37: M | O37: J | P37: V | Q37: S | R37: D | S37: L | T37: M | U37: M | V37: J | W37: V | X37: S | Y37: D | Z37: L | AA37: M | AB37: M | AC37: J | AD37: V | AE37: S | AF37: D | AI37: outlook | AJ37: BAII
A38: Aurélie Molia | B38: X | F38: X | I38: toeic | P38: X | AB38: X | AC38: Ifis | AI38: ok | AJ38: ok
A39: Accueil Marie-José Branger | G39: GPV training
A40: Philippe Hénault | G40: X | I40: toeic | N40: X | U40: X | W40: X | AH40: 37 | AI40: ok | AJ40: ok
A41: Stéphanie Mercier | H41: X | I41: toeic | L41: X | S41: X | V41: Ifis | AA41: X | AC41: X | AJ41: ok
A42: Katia Vigilante
A43: Thao Tran | AB43: bu | AC43: bu | AH43: 36 | AI43: ok | AJ43: rh
A44: Jocelyne Letembet | I44: toeic
A45: Gaëlle Rocheran | I45: toeic | AJ45: ok
A46: Jean-Philippe Chauvin | AJ46: ok
A47: Joëlle Dufayet | AJ47: ok
A48: Johanne Daupin | W48: CESAM
A49: Angélique Vadin | I49: toeic | AJ49: ok
A50: Angélique Demarly | I50: toeic | M50: AM | AJ50: ok
N52: Vacances scolaires Zone B
A53: Avril | B53: 1 | C53: =+B53+1 -> 2 | D53: =+C53+1 -> 3 | E53: =+D53+1 -> 4 | F53: =+E53+1 -> 5 | G53: =+F53+1 -> 6 | H53: =+G53+1 -> 7 | I53: =+H53+1 -> 8 | J53: =+I53+1 -> 9 | ... AE53: =+AD53+1 -> 30
A54: vérif baii//outlook 20/03/13 | B54: L | C54: M | D54: M | E54: J | F54: V | G54: S | H54: D | I54: L | J54: M | K54: M | L54: J | M54: V | N54: S | O54: D | P54: L | Q54: M | R54: M | S54: J | T54: V | U54: S | V54: D | W54: L | X54: M | Y54: M | Z54: J | AA54: V | AB54: S | AC54: D | AD54: L | AE54: M | AI54: outlook | AJ54: BAII
A55: Aurélie Molia | D55: X | F55: B | I55: B | K55: B | M55: am | AI55: ok | AJ55: ok
A56: Accueil Marie-José Branger
A57: Philippe Hénault | K57: X | M57: X | P57: B | R57: X | T57: X | W57: X | Y57: X | AA57: X | AE57: X | AH57: 37 | AI57: ok | AJ57: ok
A58: Stéphanie Mercier | E58: X | I58: X | L58: X | P58: X | AD58: X | AJ58: ok
A59: Katia Vigilante
A60: Thao Tran | E60: bu | I60: bu | P60: B | AA60: AM | AH60: 36 | AI60: ok | AJ60: rh
A61: Jocelyne Letembet
A62: Gaëlle Rocheran | C62: AM | AJ62: ok
A63: Jean-Philippe Chauvin | AJ63: ok
A64: Joëlle Dufayet | AJ64: ok
A65: Johanne Daupin | P65: choix poste
A66: Angélique Vadin | AJ66: ok
A67: Angélique Demarly | AJ67: ok
A69: Mai | B69: 1 | C69: =+B69+1 -> 2 | D69: =+C69+1 -> 3 | E69: =+D69+1 -> 4 | F69: =+E69+1 -> 5 | G69: =+F69+1 -> 6 | H69: =+G69+1 -> 7 | I69: =+H69+1 -> 8 | J69: =+I69+1 -> 9 | ... AF69: =+AE69+1 -> 31
A70: vérif baii//outlook 03/05/13 | B70: M | C70: J | D70: V | E70: S | F70: D | G70: L | H70: M | I70: M | J70: J | K70: V | L70: S | M70: D | N70: L | O70: M | P70: M | Q70: J | R70: V | S70: S | T70: D | U70: L | V70: M | W70: M | X70: J | Y70: V | Z70: S | AA70: D | AB70: L | AC70: M | AD70: M | AE70: J | AF70: V | AI70: outlook | AJ70: BAII
A71: Aurélie Molia | P71: B | V71: B | W71: X | X71: B | AB71: AM | AE71: X | AI71: ok | AJ71: ok
A72: Accueil Marie-José Branger
A73: Philippe Hénault | C73: X | K73: X | O73: X | Q73: X | U73: AM | AB73: X | AD73: X | AH73: 37 | AI73: ok | AJ73: ok
A74: Stéphanie Mercier | G74: X | R74: X | V74: X | Y74: X | AF74: X | AJ74: ok
A75: Katia Vigilante
A76: Thao Tran | V76: bu | X76: B | AH76: 36 | AI76: ok | AJ76: rh
A77: Jocelyne Letembet
A78: Gaëlle Rocheran | AJ78: ok
A79: Jean-Philippe Chauvin | X79: B | AE79: R | AF79: R | AJ79: ok
A80: Joëlle Dufayet | AJ80: ok
A81: Anne Leblanc
A82: Anne Leblanc
A83: Angélique Vadin | AJ83: ok
A84: Angélique Demarly | AJ84: ok
A86: Juin | B86: 1 | C86: =+B86+1 -> 2 | D86: =+C86+1 -> 3 | E86: =+D86+1 -> 4 | F86: =+E86+1 -> 5 | G86: =+F86+1 -> 6 | H86: =+G86+1 -> 7 | I86: =+H86+1 -> 8 | J86: =+I86+1 -> 9 | ... AE86: =+AD86+1 -> 30
A87: d'après BAII 27/06/13 | B87: S | C87: D | D87: L | E87: M | F87: M | G87: J | H87: V | I87: S | J87: D | K87: L | L87: M | M87: M | N87: J | O87: V | P87: S | Q87: D | R87: L | S87: M | T87: M | U87: J | V87: V | W87: S | X87: D | Y87: L | Z87: M | AA87: M | AB87: J | AC87: V | AD87: S | AE87: D | AI87: outlook | AJ87: BAII
A88: Aurélie Molia | S88: B | T88: X | AA88: X | AI88: ok | AJ88: ok
A89: Accueil Marie-José Branger
A90: Philippe Hénault | F90: X | H90: Rec AM | L90: X | O90: X | AH90: 37 | AI90: ok | AJ90: ok
A91: Stéphanie Mercier | E91: X | H91: X | N91: X | R91: X | U91: X | Z91: X | AC91: X | AJ91: ok
A92: Importations MTA | D92: X | G92: X | K92: X | M92: X | S92: X | V92: X | Y92: X | AB92: X
A93: Katia Vigilante
A94: Thao Tran | O94: AXP | S94: bu | AH94: 36 | AI94: ok | AJ94: rh
A95: Jocelyne Letembet
A96: Gaëlle Rocheran | R96: R | S96: R | T96: R | AJ96: ok
A97: Jean-Philippe Chauvin | AB97: R | AJ97: ok
A98: Joëlle Dufayet | V98: AM | AJ98: ok
A99: Anne Leblanc
A100: Anne Leblanc
A101: Angélique Vadin | AJ101: ok
A102: Angélique Demarly | H102: AM | AJ102: ok
A104: Juillet | B104: 1 | C104: =+B104+1 -> 2 | D104: =+C104+1 -> 3 | E104: =+D104+1 -> 4 | F104: =+E104+1 -> 5 | G104: =+F104+1 -> 6 | H104: =+G104+1 -> 7 | I104: =+H104+1 -> 8 | J104: =+I104+1 -> 9 | ... AF104: =+AE104+1 -> 31
A105: d'après BAII 03/07/13 | B105: L | C105: M | D105: M | E105: J | F105: V | G105: S | H105: D | I105: L | J105: M | K105: M | L105: J | M105: V | N105: S | O105: D | P105: L | Q105: M | R105: M | S105: J | T105: V | U105: S | V105: D | W105: L | X105: M | Y105: M | Z105: J | AA105: V | AB105: S | AC105: D | AD105: L | AE105: M | AF105: M | AI105: outlook | AJ105: BAII
A106: Aurélie Molia | P106: X | AI106: ok | AJ106: ok
A107: Accueil Marie-José Branger
...

Sheet 2012
A1: PLANNING 2012 POUR L ORGANISATION DES ACTIVITES DE PV ET D'INFORMATION MEDICALE
A4: Janvier
A5: Dernière mise à jour / vérif BAII : | B5: 1 | C5: =+B5+1 -> 2 | D5: =+C5+1 -> 3 | E5: =+D5+1 -> 4 | F5: =+E5+1 -> 5 | G5: =+F5+1 -> 6 | H5: =+G5+1 -> 7 | I5: =+H5+1 -> 8 | J5: =+I5+1 -> 9 | ... AF5: =+AE5+1 -> 31
A6: 40928 | B6: D | C6: L | D6: M | E6: M | F6: J | G6: V | H6: S | I6: D | J6: L | K6: M | L6: M | M6: J | N6: V | O6: S | P6: D | Q6: L | R6: M | S6: M | T6: J | U6: V | V6: S | W6: D | X6: L | Y6: M | Z6: M | AA6: J | AB6: V | AC6: S | AD6: D | AE6: L | AF6: M | AI6: outlook | AJ6: BAII
A7: Aurélie Molia | C7: X | E7: B | J7: X | M7: X | Q7: X | X7: X | Y7: X | AE7: X | AI7: ok | AJ7: ok
A9: Philippe Hénault | D9: X | E9: X | F9: X | G9: X | K9: X | L9: X | N9: X | R9: X | S9: X | T9: X | U9: X | Z9: X | AA9: X | AB9: X | AF9: X | AH9: 37 | AI9: ok | AJ9: ok
A10: Thao Tran | C10: arrêt | X10: patho | AH10: 36 | AI10: ok | AJ10: rh
A11: Anne-Cécile Mauclaire | X11: AM | Y11: Ingelheim | AI11: ok | AJ11: ok
A12: Katia Vigilante | F12: arrêt | AH12: 30 | AI12: ok | AJ12: ok
A13: Stéphanie Mercier | X13: AM | Y13: Ingelheim | AB13: rec | AE13: rec | AJ13: ok
A14: Gaëlle Rocheran | AJ14: ok
A15: Johan Bourbon
A17: Jean-Philippe Chauvin | AJ17: ok
A18: Joëlle Dufayet | AJ18: ok
A19: Céline Lamant (prestataire Aixial)
A21: Angélique Vadin | AJ21: ok
A22: Mélanie Baudouin (interim)
A23: Angélique Demarly | AJ23: ok
A26: Février
A27: Dernière mise à jour / vérif BAII : | B27: 1 | C27: =+B27+1 -> 2 | D27: =+C27+1 -> 3 | E27: =+D27+1 -> 4 | F27: =+E27+1 -> 5 | G27: =+F27+1 -> 6 | H27: =+G27+1 -> 7 | I27: =+H27+1 -> 8 | J27: =+I27+1 -> 9 | ... AD27: =+AC27+1 -> 29
A28: 40953 | B28: M | C28: J | D28: V | E28: S | F28: D | G28: L | H28: M | I28: M | J28: J | K28: V | L28: S | M28: D | N28: L | O28: M | P28: M | Q28: J | R28: V | S28: S | T28: D | U28: L | V28: M | W28: M | X28: J | Y28: V | Z28: S | AA28: D | AB28: L | AC28: M | AD28: M
A29: Aurélie Molia | C29: X | G29: X | I29: B | K29: X | N29: X | Q29: X | U29: X | V29: X | AI29: ok | AJ29: ok
A31: Philippe Hénault | B31: X | D31: X | H31: X | I31: X | J31: X | O31: X | P31: X | R31: X | W31: X | X31: X | Y31: X | AB31: X | AC31: X | AD31: X | AH31: 48 | AI31: ok | AJ31: à màj
A32: Thao Tran | G32: congés mat | AH32: 42 | AJ32: rh
A33: Anne-Cécile Mauclaire | P33: X | R33: X | X33: X | AB33: X | AD33: X | AJ33: ok
A34: Katia Vigilante | AH34: 34 | AJ34: ok
A35: Maximilien Taquet (prestataire Altiga) | V35: AM
A36: Stéphanie Mercier | AJ36: ok
A37: Gaëlle Rocheran | AJ37: ok
A38: Johan Bourbon
A40: Jean-Philippe Chauvin | AJ40: ok
A41: Joëlle Dufayet | AJ41: ok
A42: Céline Lamant (prestataire Aixial)
A44: Angélique Vadin | AJ44: ok
A45: Mélanie Baudouin (interim)
A46: Angélique Demarly | AJ46: ok
Z47: Vacances scolaires
A49: Mars
A50: Dernière mise à jour / vérif BAII : | B50: 1 | C50: =+B50+1 -> 2 | D50: =+C50+1 -> 3 | E50: =+D50+1 -> 4 | F50: =+E50+1 -> 5 | G50: =+F50+1 -> 6 | H50: =+G50+1 -> 7 | I50: =+H50+1 -> 8 | J50: =+I50+1 -> 9 | ... AF50: =+AE50+1 -> 31
A51: 40984 | B51: J | C51: V | D51: S | E51: D | F51: L | G51: M | H51: M | I51: J | J51: V | K51: S | L51: D | M51: L | N51: M | O51: M | P51: J | Q51: V | R51: S | S51: D | T51: L | U51: M | V51: M | W51: J | X51: V | Y51: S | Z51: D | AA51: L | AB51: M | AC51: M | AD51: J | AE51: V | AF51: S
A52: Aurélie Molia | J52: X | Q52: HEGP | T52: X | V52: X | AA52: X | AI52: ok | AJ52: ok
A54: Philippe Hénault | B54: X | C54: X | F54: X | G54: X | H54: X | I54: X | M54: X | N54: X | O54: X | P54: X | Q54: HEGP | AB54: X | AD54: X | AH54: 56 | AI54: ok | AJ54: à màj
A55: Thao Tran | AH55: 49 | AJ55: rh
A56: Anne-Cécile Mauclaire | C56: X | G56: X | I56: X | M56: X | N56: X | P56: X | Q56: X | U56: X | W56: X | X56: X | AC56: X | AE56: X | AJ56: ok
A57: Katia Vigilante | AH57: 41 | AJ57: ok
A58: Maximilien Taquet (prestataire Altiga) | F58: AM
A59: Stéphanie Mercier | AJ59: ok
A60: Gaëlle Rocheran | AJ60: ok
A61: Johan Bourbon | F61: AM
A63: Jean-Philippe Chauvin | AJ63: ok
A64: Joëlle Dufayet | AJ64: ok
A65: Céline Lamant (prestataire Aixial)
A67: Angélique Vadin | AJ67: ok
A68: Mélanie Baudouin (interim)
A69: Angélique Demarly | AB69: AM | AJ69: ok
A70: Vacances scolaires
A72: Avril
A73: Vérification avec outlook 03/04 | B73: 1 | C73: =+B73+1 -> 2 | D73: =+C73+1 -> 3 | E73: =+D73+1 -> 4 | F73: =+E73+1 -> 5 | G73: =+F73+1 -> 6 | H73: =+G73+1 -> 7 | I73: =+H73+1 -> 8 | J73: =+I73+1 -> 9 | ... AE73: =+AD73+1 -> 30
A74: d après BAII au 03/04 (+27/04) | B74: D | C74: L | D74: M | E74: M | F74: J | G74: V | H74: S | I74: D | J74: L | K74: M | L74: M | M74: J | N74: V | O74: S | P74: D | Q74: L | R74: M | S74: M | T74: J | U74: V | V74: S | W74: D | X74: L | Y74: M | Z74: M | AA74: J | AB74: V | AC74: S | AD74: D | AE74: L
A75: Aurélie Molia | D75: X | E75: B | F75: B | J75: F | K75: X | N75: B | Q75: X | R75: Format°
A77: Philippe Hénault | J77: E | M77: X | Q77: B | R77: B | S77: X | T77: X | X77: X | Z77: X | AB77: X
A78: Thao Tran | J78: R | AH78: 60
A79: Anne-Cécile Mauclaire | C79: X | D79: B | E79: X | F79: X | G79: X | L79: X | N79: X | R79: X | U79: X | Y79: X | AA79: X | AB79: M | AE79: X
A80: Katia Vigilante | J80: I | AH80: 59
A81: Maximilien Taquet (prestataire Altiga)
A82: Stéphanie Mercier | J82: E | AH82: 48
A83: Gaëlle Rocheran
A84: Johan Bourbon
A86: Jean-Philippe Chauvin
A87: Joëlle Dufayet
A88: Céline Lamant (prestataire Aixial)
A90: Angélique Vadin
A91: Mélanie Baudouin (interim)
A92: Angélique Demarly
Y93: Vacances scolaires
A95: Mai
A96: Vérification avec outlook 27/04 | B96: 1 | C96: =+B96+1 -> 2 | D96: =+C96+1 -> 3 | E96: =+D96+1 -> 4 | F96: =+E96+1 -> 5 | G96: =+F96+1 -> 6 | H96: =+G96+1 -> 7 | I96: =+H96+1 -> 8 | J96: =+I96+1 -> 9 | ... AF96: =+AE96+1 -> 31
A97: d après BAII au 27/04 | B97: M | C97: M | D97: J | E97: V | F97: S | G97: D | H97: L | I97: M | J97: M | K97: J | L97: V | M97: S | N97: D | O97: L | P97: M | Q97: M | R97: J | S97: V | T97: S | U97: D | V97: L | W97: M | X97: M | Y97: J | Z97: V | AA97: S | AB97: D | AC97: L | AD97: M | AE97: M | AF97: J
A98: Aurélie Molia | B98: F | I98: F | K98: Annual review | R98: F | V98: X | Y98: Format° | AC98: F
A100: Philippe Hénault | B100: E | C100: X | E100: X | H100: X | I100: E | K100: X | O100: X | P100: VTI | Q100: X | R100: E | S100: X | X100: X | Z100: X | AC100: E | AD100: X | AF100: X
A101: Thao Tran | B101: R | I101: R | R101: R | AC101: R
A102: Anne-Cécile Mauclaire | D102: X | J102: X | L102: X | P102: X | W102: X | Y102: X | AC102: I | AE102: X
A103: Katia Vigilante | B103: I | I103: I | P103: ? | R103: I | AC103: E
A104: Maximilien Taquet (prestataire Altiga) | P104: PV
A105: Stéphanie Mercier | B105: E | I105: E | P105: IM | R105: E
A106: Gaëlle Rocheran | P106: IM
A107: Johan Bourbon | P107: IM
A109: Jean-Philippe Chauvin | P109: PV
A110: Joëlle Dufayet | P110: PV
A111: Céline Lamant (prestataire Aixial) | P111: PV
A113: Angélique Vadin | P113: IM
A114: Mélanie Baudouin (interim) | P114: PV
A115: Angélique Demarly | P115: AM
B116: Vacances scolaires | I116: Rappel : 10 jours de CP consécutifs doivent être pris entre le 01/05 et le 31/10
I117: http://reivipprod.eu.boehringer.com/intranet_rei/intranet_rei/opunet/agora/employeeinf/hrpolicies/conges/index.jsp
A118: Juin
A119: Vérification avec outlook 27/04 | B119: 1 | C119: =+B119+1 -> 2 | D119: =+C119+1 -> 3 | E119: =+D119+1 -> 4 | F119: =+E119+1 -> 5 | G119: =+F119+1 -> 6 | H119: =+G119+1 -> 7 | I119: =+H119+1 -> 8 | J119: =+I119+1 -> 9 | ... AE119: =+AD119+1 -> 30
A120: d après BAII au 27/04 | B120: V | C120: S | D120: D | E120: L | F120: M | G120: M | H120: J | I120: V | J120: S | K120: D | L120: L | M120: M | N120: M | O120: J | P120: V | Q120: S | R120: D | S120: L | T120: M | U120: M | V120: J | W120: V | X120: S | Y120: D | Z120: L | AA120: M | AB120: M | AC120: J | AD120: V | AE120: S
A121: Aurélie Molia | E121: X | F121: ANSM | T121: B | U121: X | AC121: Off site
A123: Philippe Hénault | B123: recup | G123: X | L123: X | N123: X
...

Sheet 2011
A1: Janvier
A2: Dernière mise à jour : | B2: 1 | C2: =+B2+1 -> 2 | D2: =+C2+1 -> 3 | E2: =+D2+1 -> 4 | F2: =+E2+1 -> 5 | G2: =+F2+1 -> 6 | H2: =+G2+1 -> 7 | I2: =+H2+1 -> 8 | J2: =+I2+1 -> 9 | ... AF2: =+AE2+1 -> 31
A3: 40556 | B3: S | C3: D | D3: L | E3: M | F3: M | G3: J | H3: V | I3: S | J3: D | K3: L | L3: M | M3: M | N3: J | O3: V | P3: S | Q3: D | R3: L | S3: M | T3: M | U3: J | V3: V | W3: S | X3: D | Y3: L | Z3: M | AA3: M | AB3: J | AC3: V | AD3: S | AE3: D | AF3: L
A4: Anne-Elisabeth Collignon | D4: B | H4: B | K4: B | M4: B | R4: AM | V4: B | Y4: B | AA4: B | AB4: B | AF4: M
A5: Philippe Hénault | F5: X | H5: X | M5: X | S5: X | U5: X | Y5: X | AA5: B | AB5: X | AF5: X
A6: Pierre Katz | E6: X | G6: X | K6: X | M6: M | N6: X | R6: X | T6: X | U6: B | V6: X | Z6: X | AA6: X | AC6: X | AF6: M
A7: Thao Tran | D7: X | L7: X | O7: X | R7: formation Onco IGR | Y7: formation Onco IGR
A8: Katia Vigilante | D8: fin congés mat
A9: Gaëlle Rocheran
A10: Jean-Philippe Chauvin | E10: maladie | O10: B
A11: Joëlle Dufayet | S11: M
A12: Stéphanie Mercier | D12: fin congés mat
A13: Aurélie Molia
A14: Julie Gosselin | F14: maladie
A15: Angélique Vadin
A16: Angélique Demarly | AB16: maladie
A19: Février
A20: Dernière mise à jour : | B20: 1 | C20: =+B20+1 -> 2 | D20: =+C20+1 -> 3 | E20: =+D20+1 -> 4 | F20: =+E20+1 -> 5 | G20: =+F20+1 -> 6 | H20: =+G20+1 -> 7 | I20: =+H20+1 -> 8 | J20: =+I20+1 -> 9 | ... AC20: =+AB20+1 -> 28
A21: 40578 | B21: M | C21: M | D21: J | E21: V | F21: S | G21: D | H21: L | I21: M | J21: M | K21: J | L21: V | M21: S | N21: D | O21: L | P21: M | Q21: M | R21: J | S21: V | T21: S | U21: D | V21: L | W21: M | X21: M | Y21: J | Z21: V | AA21: S | AB21: D | AC21: L
A22: Anne-Elisabeth Collignon | B22: Format° | H22: B | L22: B | O22: B | P22: B
A23: Philippe Hénault | B23: Format° | D23: X | H23: X | I23: X | L23: X | P23: X | R23: X | V23: X | X23: X
A24: Pierre Katz | B24: X | C24: X | E24: X | H24: M | J24: X | K24: X | L24: AM | O24: X | P24: AM | Q24: X | S24: X
A25: Thao Tran | W25: X | Z25: X
A26: Katia Vigilante | Y26: X | AC26: X
A27: Gaëlle Rocheran | X27: Certification
A28: Jean-Philippe Chauvin
A29: Joëlle Dufayet
A30: Stéphanie Mercier
A31: Aurélie Molia | B31: Format° | W31: Format°
A32: Julie Gosselin | H32: AM
A33: Angélique Vadin | V33: M
A34: Angélique Demarly | E34: M | O34: Format°
V35: Vacances scolaires
A37: Mars
A38: Dernière mise à jour : | B38: 1 | C38: =+B38+1 -> 2 | D38: =+C38+1 -> 3 | E38: =+D38+1 -> 4 | F38: =+E38+1 -> 5 | G38: =+F38+1 -> 6 | H38: =+G38+1 -> 7 | I38: =+H38+1 -> 8 | J38: =+I38+1 -> 9 | ... AF38: =+AE38+1 -> 31
A39: 40620 | B39: M | C39: M | D39: J | E39: V | F39: S | G39: D | H39: L | I39: M | J39: M | K39: J | L39: V | M39: S | N39: D | O39: L | P39: M | Q39: M | R39: J | S39: V | T39: S | U39: D | V39: L | W39: M | X39: M | Y39: J | Z39: V | AA39: S | AB39: D | AC39: L | AD39: M | AE39: M | AF39: J
A40: Anne-Elisabeth Collignon | E40: B | H40: B | L40: B | O40: B | P40: B | AC40: B
A41: Philippe Hénault | C41: X | P41: X | S41: X | W41: X | X41: X | Z41: X | AE41: X | AG41: 7
A42: Thao Tran | B42: X | E42: X | H42: X | J42: X | O42: X | Q42: X | V42: X | Y42: X | AC42: X | AF42: X | AG42: 10
A43: Katia Vigilante | D43: X | I43: X | K43: X | L43: X | P43: AM | R43: X | AD43: X | AG43: 6
A44: Gaëlle Rocheran
A45: Jean-Philippe Chauvin
A46: Joëlle Dufayet
A47: Stéphanie Mercier
A48: Aurélie Molia
A49: Julie Gosselin
A50: Angélique Vadin
A51: Angélique Demarly | O51: Format° | Z51: AM
B52: Vacances scolaires
A54: Avril
A55: Dernière mise à jour : | B55: 1 | C55: =+B55+1 -> 2 | D55: =+C55+1 -> 3 | E55: =+D55+1 -> 4 | F55: =+E55+1 -> 5 | G55: =+F55+1 -> 6 | H55: =+G55+1 -> 7 | I55: =+H55+1 -> 8 | J55: =+I55+1 -> 9 | ... AE55: =+AD55+1 -> 30
A56: 24/03/2011 (BAII ok) | B56: V | C56: S | D56: D | E56: L | F56: M | G56: M | H56: J | I56: V | J56: S | K56: D | L56: L | M56: M | N56: M | O56: J | P56: V | Q56: S | R56: D | S56: L | T56: M | U56: M | V56: J | W56: V | X56: S | Y56: D | Z56: L | AA56: M | AB56: M | AC56: J | AD56: V | AE56: S
A57: Anne-Elisabeth Collignon | B57: B | E57: B | I57: B | L57: B | M57: B | P57: B | S57: B | AA57: B | AC57: B | AD57: B
A58: Philippe Hénault | E58: X | G58: X | I58: X | M58: X | O58: X | P58: X | AG58: 13
A59: Thao Tran | L59: X | N59: X | S59: X | U59: X | V59: X | AB59: X | AD59: X | AG59: 17
A60: Katia Vigilante | B60: X | F60: X | H60: X | T60: X | W60: X | AA60: X | AC60: X | AG60: 13
A61: Gaëlle Rocheran
A62: Jean-Philippe Chauvin
A63: Joëlle Dufayet
A64: Stéphanie Mercier
A65: Aurélie Molia
A66: Julie Gosselin
A67: Angélique Vadin
A68: Angélique Demarly | P68: AM | AD68: AM
S69: Vacances scolaires
A71: Mai
A72: Dernière mise à jour : | B72: 1 | C72: =+B72+1 -> 2 | D72: =+C72+1 -> 3 | E72: =+D72+1 -> 4 | F72: =+E72+1 -> 5 | G72: =+F72+1 -> 6 | H72: =+G72+1 -> 7 | I72: =+H72+1 -> 8 | J72: =+I72+1 -> 9 | ... AF72: =+AE72+1 -> 31
A73: 40675 | B73: D | C73: L | D73: M | E73: M | F73: J | G73: V | H73: S | I73: D | J73: L | K73: M | L73: M | M73: J | N73: V | O73: S | P73: D | Q73: L | R73: M | S73: M | T73: J | U73: V | V73: S | W73: D | X73: L | Y73: M | Z73: M | AA73: J | AB73: V | AC73: S | AD73: D | AE73: L | AF73: M
A74: Anne-Elisabeth Collignon | C74: B | G74: B | K74: B | N74: B | Q74: B | R74: B | U74: B | X74: B | Y74: B | Z74: B
A75: Philippe Hénault | K75: X | M75: X | R75: X | T75: X | X75: X | Y75: B | Z75: X | AB75: X | AG75: 20
A76: Thao Tran | C76: X | E76: X | G76: X | L76: X | S76: X | Y76: X | AG76: 23
A77: Katia Vigilante | D77: X | F77: X | J77: X | N77: X | Q77: X | U77: X | Y77: B | AA77: X | AE77: X | AF77: X | AG77: 22
A78: Gaëlle Rocheran
A79: Jean-Philippe Chauvin
A80: Joëlle Dufayet
A81: Stéphanie Mercier
A82: Aurélie Molia
A83: Julie Gosselin
A84: Angélique Vadin
A85: Angélique Demarly | L85: AM
A88: Juin
A89: Dernière mise à jour : | B89: 1 | C89: =+B89+1 -> 2 | D89: =+C89+1 -> 3 | E89: =+D89+1 -> 4 | F89: =+E89+1 -> 5 | G89: =+F89+1 -> 6 | H89: =+G89+1 -> 7 | I89: =+H89+1 -> 8 | J89: =+I89+1 -> 9 | ... AE89: =+AD89+1 -> 30
A90: 40722 | B90: M | C90: J | D90: V | E90: S | F90: D | G90: L | H90: M | I90: M | J90: J | K90: V | L90: S | M90: D | N90: L | O90: M | P90: M | Q90: J | R90: V | S90: S | T90: D | U90: L | V90: M | W90: M | X90: J | Y90: V | Z90: S | AA90: D | AB90: L | AC90: M | AD90: M | AE90: J
A91: Anne-Elisabeth Collignon
A92: Philippe Hénault | H92: X | J92: X | O92: X | Q92: X | R92: Rec | U92: X | Y92: X | AE92: X | AG92: 28
A93: Thao Tran | B93: X | I93: X | K93: X | P93: X | W93: X | AB93: X | AD93: X | AG93: 30
A94: Katia Vigilante | G94: X | R94: X | V94: X | X94: X | AC94: X | AG94: 26
A95: Gaëlle Rocheran
A96: Jean-Philippe Chauvin
A97: Joëlle Dufayet
A98: Stéphanie Mercier | AB98: AM
A99: Aurélie Molia | Q99: B | AC99: B
A100: Julie Gosselin
A101: Angélique Vadin
A102: Angélique Demarly | P102: M | Q102: Format°
A104: Juillet
A105: Dernière mise à jour : | B105: 1 | C105: =+B105+1 -> 2 | D105: =+C105+1 -> 3 | E105: =+D105+1 -> 4 | F105: =+E105+1 -> 5 | G105: =+F105+1 -> 6 | H105: =+G105+1 -> 7 | I105: =+H105+1 -> 8 | J105: =+I105+1 -> 9 | ... AF105: =+AE105+1 -> 31
A106: 40731 | B106: V | C106: S | D106: D | E106: L | F106: M | G106: M | H106: J | I106: V | J106: S | K106: D | L106: L | M106: M | N106: M | O106: J | P106: V | Q106: S | R106: D | S106: L | T106: M | U106: M | V106: J | W106: V | X106: S | Y106: D | Z106: L | AA106: M | AB106: M | AC106: J | AD106: V | AE106: S | AF106: D
A107: Aurélie Molia | I107: B | M107: B
A108: Philippe Hénault | B108: X | G108: X | I108: X | L108: X | N108: X | T108: X | V108: X | AA108: X | AC108: X | AH108: 37
...

Sheet 2010
A1: Janvier 2010
A2: Dernière mise à jour : | B2: 1 | C2: =+B2+1 -> 2 | D2: =+C2+1 -> 3 | E2: =+D2+1 -> 4 | F2: =+E2+1 -> 5 | G2: =+F2+1 -> 6 | H2: =+G2+1 -> 7 | I2: =+H2+1 -> 8 | J2: =+I2+1 -> 9 | ... AF2: =+AE2+1 -> 31
A3: 40197 | B3: V | C3: S | D3: D | E3: L | F3: M | G3: M | H3: J | I3: V | J3: S | K3: D | L3: L | M3: M | N3: M | O3: J | P3: V | Q3: S | R3: D | S3: L | T3: M | U3: M | V3: J | W3: V | X3: S | Y3: D | Z3: L | AA3: M | AB3: M | AC3: J | AD3: V | AE3: S | AF3: D
A4: Sophie Fontez
A5: Philippe Hénault | F5: X | I5: X | M5: X | O5: X | S5: X | U5: X | W5: X | AA5: X | AD5: X | AG5: 9
A6: Thao Tran | G6: X | L6: X | N6: X | P6: X | T6: X | V6: X | Z6: X | AB6: X | AC6: X | AG6: 9
A7: Katia Vigilante | E7: X | H7: X | AG7: 2
A8: Jean-Philippe Chauvin
A9: Joëlle Dufayet | G9: M
A10: Angélique Demarly | T10: M
A13: Février 2010
A14: Dernière mise à jour : | B14: 1 | C14: =+B14+1 -> 2 | D14: =+C14+1 -> 3 | E14: =+D14+1 -> 4 | F14: =+E14+1 -> 5 | G14: =+F14+1 -> 6 | H14: =+G14+1 -> 7 | I14: =+H14+1 -> 8 | J14: =+I14+1 -> 9 | ... AC14: =+AB14+1 -> 28
A15: 40234 | B15: L | C15: M | D15: M | E15: J | F15: V | G15: S | H15: D | I15: L | J15: M | K15: M | L15: J | M15: V | N15: S | O15: D | P15: L | Q15: M | R15: M | S15: J | T15: V | U15: S | V15: D | W15: L | X15: M | Y15: M | Z15: J | AA15: V | AB15: S | AC15: D
A16: Sophie Fontez
A17: Philippe Hénault | C17: X | E17: X | I17: X | R17: X | T17: X | X17: X | Z17: X | AD17: 16
A18: Thao Tran | B18: X | D18: X | F18: X | L18: X | P18: X | AD18: 14
A19: Katia Vigilante | J19: X | K19: X | M19: X | Q19: X | S19: X | W19: X | Y19: X | AA19: X | AD19: 10
A20: Jean-Philippe Chauvin
A21: Joëlle Dufayet
A22: Stéphanie Mercier
A23: Aurélie Molia
A24: Angélique Vadin
A25: Angélique Demarly | Z25: M
A28: Mars 2010
A29: Dernière mise à jour : | B29: 1 | C29: =+B29+1 -> 2 | D29: =+C29+1 -> 3 | E29: =+D29+1 -> 4 | F29: =+E29+1 -> 5 | G29: =+F29+1 -> 6 | H29: =+G29+1 -> 7 | I29: =+H29+1 -> 8 | J29: =+I29+1 -> 9 | ... AF29: =+AE29+1 -> 31
A30: 40246 | B30: L | C30: M | D30: M | E30: J | F30: V | G30: S | H30: D | I30: L | J30: M | K30: M | L30: J | M30: V | N30: S | O30: D | P30: L | Q30: M | R30: M | S30: J | T30: V | U30: S | V30: D | W30: L | X30: M | Y30: M | Z30: J | AA30: V | AB30: S | AC30: D | AD30: L | AE30: M | AF30: M
A31: Dir PV-IM | J31: B
A32: Stéphane Pollentier (Resp.PV) | B32: B | I32: B | J32: B | M32: B | X32: M | Y32: B | Z32: B | AA32: B | AD32: B | AE32: B | AG32: 23
A33: Philippe Hénault | L33: X | M33: X | Q33: X | X33: X | Z33: X | AD33: X | AG33: 23
A34: Thao Tran | B34: X | D34: X | F34: X | K34: X | R34: X | T34: X | Y34: X | AE34: X | AG34: 21
A35: Katia Vigilante | C35: X | E35: X | I35: X | J35: X | P35: X | S35: X | W35: X | AA35: X | AF35: X | AG35: 19
A36: Charlotte Catala
A37: Jean-Philippe Chauvin
A38: Joëlle Dufayet
A39: Stéphanie Mercier
A40: Aurélie Molia
A41: Angélique Vadin
A42: Angélique Demarly
A45: Avril 2010
A46: Dernière mise à jour : | B46: 1 | C46: =+B46+1 -> 2 | D46: =+C46+1 -> 3 | E46: =+D46+1 -> 4 | F46: =+E46+1 -> 5 | G46: =+F46+1 -> 6 | H46: =+G46+1 -> 7 | I46: =+H46+1 -> 8 | J46: =+I46+1 -> 9 | ... AE46: =+AD46+1 -> 30
A47: 40291 | B47: J | C47: V | D47: S | E47: D | F47: L | G47: M | H47: M | I47: J | J47: V | K47: S | L47: D | M47: L | N47: M | O47: M | P47: J | Q47: V | R47: S | S47: D | T47: L | U47: M | V47: M | W47: J | X47: V | Y47: S | Z47: D | AA47: L | AB47: M | AC47: M | AD47: J | AE47: V
A48: Stéphane Pollentier (Resp.PV) | G48: B | J48: B | M48: B | N48: B | Q48: B | U48: B | V48: B | AA48: B | AB48: B | AE48: B
A49: Philippe Hénault | B49: X | G49: X | I49: X | J49: X | AD49: AM | AE49: X | AF49: 29
A50: Thao Tran | C50: M | O50: X | P50: X | V50: X | X50: X | AB50: X | AD50: X | AF50: 27
A51: Katia Vigilante | C51: X | H51: X | M51: X | N51: X | Q51: X | T51: X | U51: X | W51: X | AA51: X | AC51: X | AF51: 28
A52: Charlotte Catala
A53: Jean-Philippe Chauvin
A54: Joëlle Dufayet
A55: Stéphanie Mercier
A56: Aurélie Molia
A57: Angélique Vadin | AB57: AM
A58: Angélique Demarly
A61: Mai 2010
A62: Dernière mise à jour : | B62: 1 | C62: =+B62+1 -> 2 | D62: =+C62+1 -> 3 | E62: =+D62+1 -> 4 | F62: =+E62+1 -> 5 | G62: =+F62+1 -> 6 | H62: =+G62+1 -> 7 | I62: =+H62+1 -> 8 | J62: =+I62+1 -> 9 | ... AF62: =+AE62+1 -> 31
A63: 40305 | B63: S | C63: D | D63: L | E63: M | F63: M | G63: J | H63: V | I63: S | J63: D | K63: L | L63: M | M63: M | N63: J | O63: V | P63: S | Q63: D | R63: L | S63: M | T63: M | U63: J | V63: V | W63: S | X63: D | Y63: L | Z63: M | AA63: M | AB63: J | AC63: V | AD63: S | AE63: D | AF63: L
A64: Stéphane Pollentier (Resp.PV) | D64: B | E64: B | F64: B | H64: B | K64: B | R64: B | S64: B | T64: B | U64: B | V64: B | AA64: B
A65: Philippe Hénault | H65: X | K65: X | L65: X | R65: X | S65: X | U65: M | V65: X | Z65: X | AB65: X | AF65: X | AG65: 38
A66: Thao Tran | E66: X | G66: X | M66: X | T66: X | U66: X | AA66: X | AC66: X | AF66: B | AG66: 34
A67: Katia Vigilante | D67: X | F67: X | AG67: 30
A68: Charlotte Catala
A69: Jean-Philippe Chauvin
A70: Joëlle Dufayet | AA70: AM
A71: Stéphanie Mercier
A72: Aurélie Molia
A73: Angélique Vadin
A74: Angélique Demarly
B75: Rappel : 10 jours de CP consécutifs doivent être pris entre le 01/05 et le 31/10
B76: http://reivipprod.eu.boehringer.com/intranet_rei/intranet_rei/opunet/agora/employeeinf/hrpolicies/conges/index.jsp
A77: Juin 2010
A78: Dernière mise à jour : | B78: 1 | C78: =+B78+1 -> 2 | D78: =+C78+1 -> 3 | E78: =+D78+1 -> 4 | F78: =+E78+1 -> 5 | G78: =+F78+1 -> 6 | H78: =+G78+1 -> 7 | I78: =+H78+1 -> 8 | J78: =+I78+1 -> 9 | ... AE78: =+AD78+1 -> 30
A79: 40352 | B79: M | C79: M | D79: J | E79: V | F79: S | G79: D | H79: L | I79: M | J79: M | K79: J | L79: V | M79: S | N79: D | O79: L | P79: M | Q79: M | R79: J | S79: V | T79: S | U79: D | V79: L | W79: M | X79: M | Y79: J | Z79: V | AA79: S | AB79: D | AC79: L | AD79: M | AE79: M
A80: Stéphane Pollentier (Resp.PV) | D80: B | E80: B | H80: B | I80: B | L80: B | O80: B | P80: B | Q80: B | S80: B | X80: B | Y80: B | Z80: B
A81: Anne-Elisabeth Collignon | S81: B | X81: B | Y81: B | Z81: B | AD81: EC | AE81: B
A82: Philippe Hénault | C82: X | E82: X | H82: X | J82: X | L82: X | P82: X | R82: X | W82: X | Y82: X | AC82: X | AD82: X | AF82: 49
A83: Thao Tran | B83: X | D83: X | I83: X | K83: X | O83: X | Q83: X | S83: X | V83: X | X83: X | Z83: X | AE83: X | AF83: 45
A84: Katia Vigilante
A85: Charlotte Catala
A86: David Budan
A87: Jean-Philippe Chauvin
A88: Joëlle Dufayet
A89: Stéphanie Mercier
A90: Aurélie Molia | AE90: B
A91: Maximilien Taquet | AE91: B
A92: Angélique Vadin | Q92: AM
A93: Angélique Demarly | L93: AM
B94: Rappel : 10 jours de CP consécutifs doivent être pris entre le 01/05 et le 31/10
A96: Juillet 2010
A97: Dernière mise à jour : | B97: 1 | C97: =+B97+1 -> 2 | D97: =+C97+1 -> 3 | E97: =+D97+1 -> 4 | F97: =+E97+1 -> 5 | G97: =+F97+1 -> 6 | H97: =+G97+1 -> 7 | I97: =+H97+1 -> 8 | J97: =+I97+1 -> 9 | ... AF97: =+AE97+1 -> 31
A98: 40375 | B98: J | C98: V | D98: S | E98: D | F98: L | G98: M | H98: M | I98: J | J98: V | K98: S | L98: D | M98: L | N98: M | O98: M | P98: J | Q98: V | R98: S | S98: D | T98: L | U98: M | V98: M | W98: J | X98: V | Y98: S | Z98: D | AA98: L | AB98: M | AC98: M | AD98: J | AE98: V | AF98: S
A99: Stéphane Pollentier | C99: B | F99: B | G99: B | H99: B | I99: B | J99: B | M99: B | P99: B | Q99: B
A100: Anne-Elisabeth Collignon | G100: M | J100: AM | M100: ARISg training | T100: B | X100: B | AE100: B
A101: Philippe Hénault | B101: X | F101: X | H101: EC | I101: X | M101: X | N101: X | T101: X | V101: X | W101: X | AB101: X | AD101: X
A102: Thao Tran | C102: X | G102: X | H102: X | J102: X | P102: X | Q102: X | U102: X | X102: X | AA102: X | AC102: X | AE102: X
A103: Katia Vigilante
A104: Charlotte Catala
A105: David Budan
A106: Jean-Philippe Chauvin
A107: Joëlle Dufayet
A108: Stéphanie Mercier
A109: Aurélie Molia
...

Sheet 2009
A2: Dernière mise à jour : | B2: J a n v i e r 2 0 0 9
A3: 39835 | B3: 1 | C3: =+B3+1 -> 2 | D3: =+C3+1 -> 3 | E3: =+D3+1 -> 4 | F3: =+E3+1 -> 5 | G3: =+F3+1 -> 6 | H3: =+G3+1 -> 7 | I3: =+H3+1 -> 8 | J3: =+I3+1 -> 9 | ... AA3: =+Z3+1 -> 26 | AB3: 27 | AC3: 28 | AD3: 29 | AE3: 30 | AF3: 31
B4: J | C4: V | D4: S | E4: D | F4: L | G4: M | H4: M | I4: J | J4: V | K4: S | L4: D | M4: L | N4: M | O4: M | P4: J | Q4: V | R4: S | S4: D | T4: L | U4: M | V4: M | W4: J | X4: V | Y4: S | Z4: D | AA4: L | AB4: M | AC4: M | AD4: J | AE4: V | AF4: S
A5: Sophie - sfo
A6: Philippe - phe | B6: F | C6: R | F6: X | J6: X | P6: X | T6: X | U6: X | X6: X | AB6: X | AE6: X | AG6: 8
A7: Thao - ttr | B7: E | C7: T | I7: X | N7: X | Q7: X | V7: X | W7: X | AA7: X | AC7: X | AD7: X | AG7: 8
A8: Katia - kvi | B8: R | C8: T | G8: X | H8: X | M8: X | O8: X | AG8: 4
A9: Jean-Philippe - jpc | B9: I
A10: Joëlle - jdu | B10: E | C10: B
A11: Nathalie - nno | C11: I
A12: Angélique - ade | C12: F | AA12: pm
A14: Dernière mise à jour : | B14: FEVRIER 2009
A15: 39862 | B15: 1 | C15: =+B15+1 -> 2 | D15: =+C15+1 -> 3 | E15: =+D15+1 -> 4 | F15: =+E15+1 -> 5 | G15: =+F15+1 -> 6 | H15: =+G15+1 -> 7 | I15: =+H15+1 -> 8 | J15: =+I15+1 -> 9 | ... AA15: =+Z15+1 -> 26 | AB15: 27 | AC15: 28
B16: D | C16: L | D16: M | E16: M | F16: J | G16: V | H16: S | I16: D | J16: L | K16: M | L16: M | M16: J | N16: V | O16: S | P16: D | Q16: L | R16: M | S16: M | T16: J | U16: V | V16: S | W16: D | X16: L | Y16: M | Z16: M | AA16: J | AB16: V | AC16: S
A17: Sophie - sfo
A18: Philippe - phe | D18: X | J18: X | M18: X | S18: X | Y18: X | AD18: 13
A19: Thao - ttr | F19: X | G19: X | L19: X | Q19: X | U19: X | X19: X | AD19: 14
A20: Katia - kvi | C20: X | E20: X | K20: X | N20: X | R20: X | T20: X | Z20: X | AA20: X | AB20: X | AD20: 13
A21: Jean-Philippe - jpc
A22: Joëlle - jdu
A23: Nathalie - nno
A24: Angélique - ade
A26: Dernière mise à jour : | B26: 39873
A27: 39891 | B27: 1 | C27: =+B27+1 -> 2 | D27: =+C27+1 -> 3 | E27: =+D27+1 -> 4 | F27: =+E27+1 -> 5 | G27: =+F27+1 -> 6 | H27: =+G27+1 -> 7 | I27: =+H27+1 -> 8 | J27: =+I27+1 -> 9 | ... Y27: =+X27+1 -> 24 | Z27: 25 | AA27: 26 | AB27: 27 | AC27: 28 | AD27: 29 | AE27: 30 | AF27: 31
B28: D | C28: L | D28: M | E28: M | F28: J | G28: V | H28: S | I28: D | J28: L | K28: M | L28: M | M28: J | N28: V | O28: S | P28: D | Q28: L | R28: M | S28: M | T28: J | U28: V | V28: S | W28: D | X28: L | Y28: M | Z28: M | AA28: J | AB28: V | AC28: S | AD28: D | AE28: L | AF28: M
A29: Sophie - sfo
A30: Philippe - phe | C30: X | D30: X | L30: X | M30: X | N30: X | Y30: X | AB30: X | AF30: X | AG30: 21
A31: Thao - ttr | F31: X | M31: am | N31: pm | Q31: X | T31: X | U31: X | X31: X | Z31: X | AA31: X | AE31: X | AF31: pm | AG31: 22
A32: Katia - kvi | E32: X | G32: X | J32: X | K32: X | R32: X | S32: X | AF32: pm | AG32: 19
A33: Jean-Philippe - jpc
A34: Joëlle - jdu
A35: Angélique - ade
A37: Dernière mise à jour : | B37: 39904
A38: 39920 | B38: 1 | C38: =+B38+1 -> 2 | D38: =+C38+1 -> 3 | E38: =+D38+1 -> 4 | F38: =+E38+1 -> 5 | G38: =+F38+1 -> 6 | H38: =+G38+1 -> 7 | I38: =+H38+1 -> 8 | J38: =+I38+1 -> 9 | ... Y38: =+X38+1 -> 24 | Z38: 25 | AA38: 26 | AB38: 27 | AC38: 28 | AD38: 29 | AE38: 30
B39: M | C39: J | D39: V | E39: S | F39: D | G39: L | H39: M | I39: M | J39: J | K39: V | L39: S | M39: D | N39: L | O39: M | P39: M | Q39: J | R39: V | S39: S | T39: D | U39: L | V39: M | W39: M | X39: J | Y39: V | Z39: S | AA39: D | AB39: L | AC39: M | AD39: M | AE39: J
A40: Sophie - sfo | V40: pm
A41: Philippe - phe | P41: X | Q41: X | R41: X | U41: X | V41: X | Y41: X | AB41: X | AF41: 28
A42: Thao - ttr | B42: X | C42: X | G42: X | H42: am | J42: X | K42: X | O42: X | AF42: 28
A43: Katia - kvi | D43: X | H43: X | I43: X | W43: X | AC43: X | AD43: X | AE43: X | AF43: 26
A44: Jean-Philippe - jpc
A45: Joëlle - jdu
A46: Angélique - ade
A48: Dernière mise à jour : | B48: 39934
A49: 39951 | B49: 1 | C49: =+B49+1 -> 2 | D49: =+C49+1 -> 3 | E49: =+D49+1 -> 4 | F49: =+E49+1 -> 5 | G49: =+F49+1 -> 6 | H49: =+G49+1 -> 7 | I49: =+H49+1 -> 8 | J49: =+I49+1 -> 9 | ... Y49: =+X49+1 -> 24 | Z49: 25 | AA49: 26 | AB49: 27 | AC49: 28 | AD49: 29 | AE49: 30 | AF49: 31
B50: V | C50: S | D50: D | E50: L | F50: M | G50: M | H50: J | I50: V | J50: S | K50: D | L50: L | M50: M | N50: M | O50: J | P50: V | Q50: S | R50: D | S50: L | T50: M | U50: M | V50: J | W50: V | X50: S | Y50: D | Z50: L | AA50: M | AB50: M | AC50: J | AD50: V | AE50: S | AF50: D
A51: Sophie - sfo
A52: Philippe - phe | O52: X | P52: X | AA52: X | AC52: X | AD52: pm | AG52: 33
A53: Thao - ttr | F53: X | G53: X | L53: X | M53: X | O53: am | U53: X | W53: sm | Z53: X | AG53: 33
A54: Katia - kvi | E54: X | H54: X | N54: X | S54: X | T54: X | AB54: X | AD54: X | AG54: 33
A55: Jean-Philippe - jpc
A56: Joëlle - jdu
A57: Angélique - ade
A59: Dernière mise à jour : | B59: 39965
A60: 39993 | B60: 1 | C60: =+B60+1 -> 2 | D60: =+C60+1 -> 3 | E60: =+D60+1 -> 4 | F60: =+E60+1 -> 5 | G60: =+F60+1 -> 6 | H60: =+G60+1 -> 7 | I60: =+H60+1 -> 8 | J60: =+I60+1 -> 9 | ... Y60: =+X60+1 -> 24 | Z60: 25 | AA60: 26 | AB60: 27 | AC60: 28 | AD60: 29 | AE60: 30
B61: L | C61: M | D61: M | E61: J | F61: V | G61: S | H61: D | I61: L | J61: M | K61: M | L61: J | M61: V | N61: S | O61: D | P61: L | Q61: M | R61: M | S61: J | T61: V | U61: S | V61: D | W61: L | X61: M | Y61: M | Z61: J | AA61: V | AB61: S | AC61: D | AD61: L | AE61: M
A62: Sophie Fontez - sfo | C62: am | X62: am | AA62: am
A63: Philippe Hénault - phe | C63: X | J63: X | K63: X | M63: X | S63: X | T63: X | W63: X | AD63: X | AF63: 40
A64: Thao Tran - ttr | D64: X | I64: X | L64: X | R64: X | Z64: X | AE64: X | AF64: 40
A65: Katia Vigilante - kvi | E65: X | F65: X | P65: X | Q65: X | R65: pm | S65: am | X65: X | Y65: X | AA65: X | AF65: 40
A66: Suzanne Foncin - suf | W66: am
A67: Jean-Philippe Chauvin - jpc
A68: Joëlle Dufayet - jdu | X68: pm
A69: Angélique Demarly - ade | AA69: am
A71: Dernière mise à jour : | B71: 39995
A72: 40010 | B72: 1 | C72: =+B72+1 -> 2 | D72: =+C72+1 -> 3 | E72: =+D72+1 -> 4 | F72: =+E72+1 -> 5 | G72: =+F72+1 -> 6 | H72: =+G72+1 -> 7 | I72: =+H72+1 -> 8 | J72: =+I72+1 -> 9 | ... Y72: =+X72+1 -> 24 | Z72: 25 | AA72: 26 | AB72: 27 | AC72: 28 | AD72: 29 | AE72: 30 | AF72: 31
B73: M | C73: J | D73: V | E73: S | F73: D | G73: L | H73: M | I73: M | J73: J | K73: V | L73: S | M73: D | N73: L | O73: M | P73: M | Q73: J | R73: V | S73: S | T73: D | U73: L | V73: M | W73: M | X73: J | Y73: V | Z73: S | AA73: D | AB73: L | AC73: M | AD73: M | AE73: J | AF73: V
A74: Sophie Fontez - sfo
A75: Philippe Hénault - phe | G75: X | I75: X | P75: X | U75: X | X75: X | Y75: X | AD75: X | AE75: X | AG75: 48
A76: Thao Tran - ttr | B76: X | C76: X | H76: X | K76: X | Q76: X | AB76: X | AC76: X | AF76: X | AG76: 48
A77: Katia Vigilante - kvi | D77: X | J77: X | N77: sm | R77: X | V77: X | W77: X | AG77: 45
A78: Suzanne Foncin - suf
A79: Jean-Philippe Chauvin - jpc
A80: Joëlle Dufayet - jdu
A81: Angélique Demarly - ade
A83: Dernière mise à jour : | B83: 40026
A84: 40049 | B84: 1 | C84: =+B84+1 -> 2 | D84: =+C84+1 -> 3 | E84: =+D84+1 -> 4 | F84: =+E84+1 -> 5 | G84: =+F84+1 -> 6 | H84: =+G84+1 -> 7 | I84: =+H84+1 -> 8 | J84: =+I84+1 -> 9 | ... Y84: =+X84+1 -> 24 | Z84: 25 | AA84: 26 | AB84: 27 | AC84: 28 | AD84: 29 | AE84: 30 | AF84: 31
B85: S | C85: D | D85: L | E85: M | F85: M | G85: J | H85: V | I85: S | J85: D | K85: L | L85: M | M85: M | N85: J | O85: V | P85: S | Q85: D | R85: L | S85: M | T85: M | U85: J | V85: V | W85: S | X85: D | Y85: L | Z85: M | AA85: M | AB85: J | AC85: V | AD85: S | AE85: D | AF85: L
A86: Sophie Fontez - sfo
A87: Philippe Hénault - phe | D87: X | G87: X | K87: X | O87: X | U87: X | V87: X | AB87: X | AF87: X | AG87: 55
A88: Thao Tran - ttr | E88: X | F88: X | H88: X | L88: X | Y88: X | AB88: am | AG88: 54
A89: Katia Vigilante - kvi | M89: X | N89: X | R89: X | S89: X | T89: X | Z89: X | AA89: X | AC89: X | AG89: 53
A90: Suzanne Foncin - suf | Y90: am
A91: Jean-Philippe Chauvin - jpc
A92: Joëlle Dufayet - jdu
A93: Angélique Demarly - ade
A95: Dernière mise à jour : | B95: 40057
A96: 40080 | B96: 1 | C96: =+B96+1 -> 2 | D96: =+C96+1 -> 3 | E96: =+D96+1 -> 4 | F96: =+E96+1 -> 5 | G96: =+F96+1 -> 6 | H96: =+G96+1 -> 7 | I96: =+H96+1 -> 8 | J96: =+I96+1 -> 9 | ... Y96: =+X96+1 -> 24 | Z96: 25 | AA96: 26 | AB96: 27 | AC96: 28 | AD96: 29 | AE96: 30
B97: M | C97: M | D97: J | E97: V | F97: S | G97: D | H97: L | I97: M | J97: M | K97: J | L97: V | M97: S | N97: D | O97: L | P97: M | Q97: M | R97: J | S97: V | T97: S | U97: D | V97: L | W97: M | X97: M | Y97: J | Z97: V | AA97: S | AB97: D | AC97: L | AD97: M | AE97: M
A98: Sophie Fontez - sfo
A99: Philippe Hénault - phe | D99: X | H99: X | Q99: X | V99: X | X99: X | Y99: X | AC99: X | AF99: 62
A100: Thao Tran - ttr | B100: X | D100: am | E100: X | K100: X | P100: X | Q100: am | S100: X | W100: X | Z100: X | AE100: X | AF100: 62
A101: Katia Vigilante - kvi | C101: X | I101: X | J101: X | K101: pm | L101: X | O101: X | AD101: X | AF101: 59
A102: Suzanne Foncin - suf
A103: Jean-Philippe Chauvin - jpc
A104: Joëlle Dufayet - jdu
A105: Angélique Demarly - ade | H105: am | S105: pm
A107: Dernière mise à jour : | B107: 40087
A108: 40108 | B108: 1 | C108: =+B108+1 -> 2 | D108: =+C108+1 -> 3 | E108: =+D108+1 -> 4 | F108: =+E108+1 -> 5 | G108: =+F108+1 -> 6 | H108: =+G108+1 -> 7 | I108: =+H108+1 -> 8 | J108: =+I108+1 -> 9 | ... Y108: =+X108+1 -> 24 | Z108: 25 | AA108: 26 | AB108: 27 | AC108: 28 | AD108: 29 | AE108: 30 | AF108: 31
B109: J | C109: V | D109: S | E109: D | F109: L | G109: M | H109: M | I109: J | J109: V | K109: S | L109: D | M109: L | N109: M | O109: M | P109: J | Q109: V | R109: S | S109: D | T109: L | U109: M | V109: M | W109: J | X109: V | Y109: S | Z109: D | AA109: L | AB109: M | AC109: M | AD109: J | AE109: V | AF109: S
A110: Sophie Fontez - sfo
...

Sheet 2008
A1: Dernière mise à jour :
A2: 39472
B3: J a n v i e r 2 0 0 8
B4: 1 | C4: =+B4+1 -> 2 | D4: =+C4+1 -> 3 | E4: =+D4+1 -> 4 | F4: =+E4+1 -> 5 | G4: =+F4+1 -> 6 | H4: =+G4+1 -> 7 | I4: =+H4+1 -> 8 | J4: =+I4+1 -> 9 | ... AD4: =+AC4+1 -> 29 | AE4: 30 | AF4: 31
B5: M | C5: M | D5: J | E5: V | F5: S | G5: D | H5: L | I5: M | J5: M | K5: J | L5: V | M5: S | N5: D | O5: L | P5: M | Q5: M | R5: J | S5: V | T5: S | U5: D | V5: L | W5: M | X5: M | Y5: J | Z5: V | AA5: S | AB5: D | AC5: L | AD5: M | AE5: M | AF5: J
A6: Sophie Fontez | C6: am | W6: pm | Y6: IMDP | AF6: pm
A7: Philippe Hénault | B7: F | D7: X | H7: pm | K7: X | L7: X | V7: X | Y7: X | Z7: X | AD7: X | AE7: X | AG7: 7 | AH7: 8
A8: Thao Tran | B8: E | K8: am | O8: X | P8: X | Q8: X | R8: X | S8: X | W8: X | Y8: am | AC8: X | AD8: am | AG8: 8 | AH8: 7
A9: Katia Vigilante | B9: R | C9: X | D9: am | E9: X | H9: X | I9: X | W9: pm | X9: X | Y9: am | AF9: X | AG9: 7 | AH9: 6
A10: Philippe Farfour
A11: Jean-Philippe Chauvin | B11: I
A12: Joëlle Dufayet | B12: E
A13: Asma Rachdad
A14: Angélique Demarly
A16: Dernière mise à jour :
A17: 39486
B18: F é v r i e r 2 0 0 8
B19: 1 | C19: =+B19+1 -> 2 | D19: =+C19+1 -> 3 | E19: =+D19+1 -> 4 | F19: =+E19+1 -> 5 | G19: =+F19+1 -> 6 | H19: =+G19+1 -> 7 | I19: =+H19+1 -> 8 | J19: =+I19+1 -> 9 | ... AC19: =+AB19+1 -> 28 | AD19: 29
B20: V | C20: S | D20: D | E20: L | F20: M | G20: M | H20: J | I20: V | J20: S | K20: D | L20: L | M20: M | N20: M | O20: J | P20: V | Q20: S | R20: D | S20: L | T20: M | U20: M | V20: J | W20: V | X20: S | Y20: D | Z20: L | AA20: M | AB20: M | AC20: J | AD20: V
A21: Sophie Fontez | H21: pm | I21: pm | O21: pm | S21: pm | V21: pm | Z21: pm | AA21: I | AB21: M | AC21: D | AD21: P
A22: Philippe Hénault | F22: pm | G22: X | H22: X | I22: e | L22: X | N22: X | S22: pm | T22: X | W22: X | AB22: am | AD22: X | AE22: 7
A23: Thao Tran | B23: X | F23: X | M23: X | P23: X | S23: pm | T23: pm | V23: X | Z23: X | AB23: am | AC23: X | AD23: am | AE23: 7
A24: Katia Vigilante | B24: pm | E24: X | G24: pm | I24: X | O24: X | S24: X | U24: X | Z24: pm | AA24: X | AB24: X | AD24: am | AE24: 7
A25: Philippe Farfour | T25: pm
A26: Jean-Philippe Chauvin | S26: pm | T26: pm
A27: Joëlle Dufayet | S27: pm | T27: pm
A28: Asma Rachdad | T28: pm
A29: Angélique Demarly | T29: pm | AC29: pm
A31: Dernière mise à jour :
A32: 39514
B33: M a r s 2 0 0 8
B34: 1 | C34: =+B34+1 -> 2 | D34: =+C34+1 -> 3 | E34: =+D34+1 -> 4 | F34: =+E34+1 -> 5 | G34: =+F34+1 -> 6 | H34: =+G34+1 -> 7 | I34: =+H34+1 -> 8 | J34: =+I34+1 -> 9 | ... AD34: =+AC34+1 -> 29 | AE34: 30 | AF34: 31
B35: S | C35: D | D35: L | E35: M | F35: M | G35: J | H35: V | I35: S | J35: D | K35: L | L35: M | M35: M | N35: J | O35: V | P35: S | Q35: D | R35: L | S35: M | T35: M | U35: J | V35: V | W35: S | X35: D | Y35: L | Z35: M | AA35: M | AB35: J | AC35: V | AD35: S | AE35: D | AF35: L
A36: Sophie Fontez | E36: pm | H36: am | K36: IMDP | M36: pm | R36: am
A37: Philippe Hénault | E37: X | G37: X | M37: X | N37: X | R37: am | S37: X | T37: X | Y37: F | AG37: 6
A38: Thao Tran | E38: pm | F38: X | G38: am | H38: X | K38: X | L38: X | O38: X | R38: X | U38: pm | Y38: E | Z38: X | AG38: 7
A39: Katia Vigilante | D39: X | U39: X | V39: X | Y39: R | AA39: X | AB39: X | AC39: X | AF39: X | AG39: 7
A40: Philippe Farfour | G40: am | Y40: I
A41: Jean-Philippe Chauvin | Y41: E
A42: Joëlle Dufayet | G42: am | O42: am
A43: Asma Rachdad | G43: am
A44: Nathalie Nouailles
A45: Angélique Demarly | G45: am | R45: am | AC45: am
A47: Dernière mise à jour :
A48: 39560
B49: A v r i l 2 0 0 8
B50: 1 | C50: =+B50+1 -> 2 | D50: =+C50+1 -> 3 | E50: =+D50+1 -> 4 | F50: =+E50+1 -> 5 | G50: =+F50+1 -> 6 | H50: =+G50+1 -> 7 | I50: =+H50+1 -> 8 | J50: =+I50+1 -> 9 | ... AD50: =+AC50+1 -> 29 | AE50: 30
B51: M | C51: M | D51: J | E51: V | F51: S | G51: D | H51: L | I51: M | J51: M | K51: J | L51: V | M51: S | N51: D | O51: L | P51: M | Q51: M | R51: J | S51: V | T51: S | U51: D | V51: L | W51: M | X51: M | Y51: J | Z51: V | AA51: S | AB51: D | AC51: L | AD51: M | AE51: M
A52: Sophie Fontez | D52: am | J52: am | P52: I | Q52: M | R52: D | S52: P
A53: Philippe Hénault | H53: X | I53: X | J53: X | V53: X | X53: X | Z53: X | AE53: X | AF53: 7
A54: Thao Tran | B54: X | C54: X | D54: am | E54: X | H54: am | K54: X | O54: X | Q54: X | AD54: X | AF54: 7
A55: Katia Vigilante | B55: pm | D55: X | J55: am | L55: X | P55: X | R55: X | S55: X | W55: X | Y55: X | AC55: X | AD55: am | AF55: 8
A56: Philippe Farfour | E56: pm | J56: am
A57: Jean-Philippe Chauvin | O57: pm
A58: Joëlle Dufayet | O58: pm
A59: Nathalie Nouailles
A60: Angélique Demarly
A62: Dernière mise à jour : | AA62: Prévoir IMPORTS le 26/05
A63: 39594
B64: M a i 2 0 0 8
B65: 1 | C65: =+B65+1 -> 2 | D65: =+C65+1 -> 3 | E65: =+D65+1 -> 4 | F65: =+E65+1 -> 5 | G65: =+F65+1 -> 6 | H65: =+G65+1 -> 7 | I65: =+H65+1 -> 8 | J65: =+I65+1 -> 9 | ... AC65: =+AB65+1 -> 28 | AD65: 29 | AE65: 30 | AF65: 31
B66: J | C66: V | D66: S | E66: D | F66: L | G66: M | H66: M | I66: J | J66: V | K66: S | L66: D | M66: L | N66: M | O66: M | P66: J | Q66: V | R66: S | S66: D | T66: L | U66: M | V66: M | W66: J | X66: V | Y66: S | Z66: D | AA66: L | AB66: M | AC66: M | AD66: J | AE66: V | AF66: S
A67: Sophie Fontez | G67: pm | O67: IMDP | T67: pm | V67: am | X67: pm | AA67: pm
A68: Philippe Hénault | C68: R | G68: pm | J68: R | N68: X | O68: X | P68: X | Q68: am | T68: pm | U68: pm | AA68: pm | AD68: X | AE68: X | AG68: 5 | AH68: 35
A69: Thao Tran | B69: F | C69: T | F69: pm | G69: pm | H69: X | I69: F | J69: T | O69: Guard | T69: X | U69: X | V69: X | AA69: pm | AB69: D | AC69: X | AD69: pm | AG69: 5 | AH69: 33
A70: Katia Vigilante | B70: E | C70: T | F70: X | G70: X | I70: E | J70: T | O70: Guard | Q70: X | T70: pm | V70: am | W70: X | X70: X | AA70: X | AB70: A | AD70: ? | AG70: 6 | AH70: 34
A71: Philippe Farfour | B71: R | I71: R | AA71: pm | AB71: M
A72: Jean-Philippe Chauvin | B72: I | C72: B | G72: pm | I72: I | J72: B | O72: Guard | T72: pm | AA72: pm | AB72: P
A73: Joëlle Dufayet | B73: E | C73: I | G73: pm | I73: E | J73: I | AA73: pm | AB73: V
A74: Nathalie Nouailles | C74: F | J74: F | AA74: pm
A75: Angélique Demarly | AA75: pm | AE75: pm
A77: Dernière mise à jour :
A78: 39625
B79: J u i n 2 0 0 8
B80: 1 | C80: =+B80+1 -> 2 | D80: =+C80+1 -> 3 | E80: =+D80+1 -> 4 | F80: =+E80+1 -> 5 | G80: =+F80+1 -> 6 | H80: =+G80+1 -> 7 | I80: =+H80+1 -> 8 | J80: =+I80+1 -> 9 | ... AD80: =+AC80+1 -> 29 | AE80: 30
B81: D | C81: L | D81: M | E81: M | F81: J | G81: V | H81: S | I81: D | J81: L | K81: M | L81: M | M81: J | N81: V | O81: S | P81: D | Q81: L | R81: M | S81: M | T81: J | U81: V | V81: S | W81: D | X81: L | Y81: M | Z81: M | AA81: J | AB81: V | AC81: S | AD81: D | AE81: L
A82: Sophie Fontez | J82: IMDP | Q82: pm | R82: Guard | AE82: pm
A83: Philippe Hénault | D83: X | G83: X | K83: X | M83: am | N83: X | Q83: pm | R83: Guard | U83: X | X83: X | Y83: am | AA83: am | AF83: 7 | AG83: 42
A84: Thao Tran | D84: am | F84: X | J84: pm | Q84: am | R84: X | S84: X | T84: X | Y84: X | Z84: X | AE84: X | AF84: 7 | AG84: 40
A85: Katia Vigilante | C85: X | E85: X | J85: X | L85: X | M85: X | Q85: X | T85: pm | AA85: X | AB85: X | AE85: pm | AF85: 7 | AG85: 41
A86: Philippe Farfour | U86: pm
A87: Jean-Philippe Chauvin
A88: Joëlle Dufayet | Q88: pm | R88: Guard
A89: Nathalie Nouailles
A90: Angélique Demarly | U90: am
A92: Dernière mise à jour :
A93: 39647 | L93: Déménagement
B94: J u i l l e t 2 0 0 8
B95: 1 | C95: =+B95+1 -> 2 | D95: =+C95+1 -> 3 | E95: =+D95+1 -> 4 | F95: =+E95+1 -> 5 | G95: =+F95+1 -> 6 | H95: =+G95+1 -> 7 | I95: =+H95+1 -> 8 | J95: =+I95+1 -> 9 | ... AC95: =+AB95+1 -> 28 | AD95: 29 | AE95: 30 | AF95: 31
B96: M | C96: M | D96: J | E96: V | F96: S | G96: D | H96: L | I96: M | J96: M | K96: J | L96: V | M96: S | N96: D | O96: L | P96: M | Q96: M | R96: J | S96: V | T96: S | U96: D | V96: L | W96: M | X96: M | Y96: J | Z96: V | AA96: S | AB96: D | AC96: L | AD96: M | AE96: M | AF96: J
A97: Sophie Fontez | C97: IMDP | L97: D
A98: Philippe Hénault | B98: X | C98: pm | D98: X | H98: am | K98: X | L98: X | P98: D | Q98: X | V98: am | W98: am | X98: X | Y98: X | Z98: X | AC98: X | AG98: 8 | AH98: 50
A99: Thao Tran | C99: X | E99: X | I99: X | J99: X | L99: D | AD99: X | AE99: X | AF99: X | AG99: 7 | AH99: 47
A100: Katia Vigilante | H100: X | J100: pm | K100: pm | L100: D | P100: X | R100: X | S100: X | V100: X | W100: X | AG100: 7 | AH100: 48
A101: Philippe Farfour
A102: Jean-Philippe Chauvin | P102: D
A103: Joëlle Dufayet | P103: D
A104: Nathalie Nouailles | L104: D
A105: Angélique Demarly | L105: D
A108: Dernière mise à jour :
...

Sheet 2007
A1: Dernière mise à jour :
A2: 39101
B3: J a n v i e r 2 0 0 7
B4: 1 | C4: =+B4+1 -> 2 | D4: =+C4+1 -> 3 | E4: =+D4+1 -> 4 | F4: =+E4+1 -> 5 | G4: =+F4+1 -> 6 | H4: =+G4+1 -> 7 | I4: =+H4+1 -> 8 | J4: =+I4+1 -> 9 | ... AD4: =+AC4+1 -> 29 | AE4: 30 | AF4: 31
B5: L | C5: M | D5: M | E5: J | F5: V | G5: S | H5: D | I5: L | J5: M | K5: M | L5: J | M5: V | N5: S | O5: D | P5: L | Q5: M | R5: M | S5: J | T5: V | U5: S | V5: D | W5: L | X5: M | Y5: M | Z5: J | AA5: V | AB5: S | AC5: D | AD5: L | AE5: M | AF5: M
A6: Sophie Fontez | C6: pm | J6: pm | L6: pm | S6: pm
A7: Philippe Hénault | I7: X | J7: X | K7: X | S7: pm | X7: am | Y7: X | Z7: X | AA7: X | AD7: X | AE7: X | AF7: am
A8: Aurélie Molia | B8: F | J8: pm | L8: X | M8: X | P8: X | Q8: X | W8: X | X8: X | AE8: am
A9: Jean-Clément Nwatchok | B9: E | J9: pm | L9: pm
A10: Katia Vigilante | B10: R | C10: X | D10: X | E10: X | F10: X | J10: pm | L10: pm | R10: X | S10: X | T10: X | X10: am | AE10: am | AF10: X
A11: Sandrine Havet | B11: I
A12: Jean-Philippe Chauvin | B12: E | J12: pm
A13: Joëlle Dufayet
A14: Jessica Brizion
A15: Angélique Scafidi | J15: pm | L15: pm
A17: Dernière mise à jour :
A18: 39115
B19: F é v r i e r 2 0 0 7
B20: 1 | C20: =+B20+1 -> 2 | D20: =+C20+1 -> 3 | E20: =+D20+1 -> 4 | F20: =+E20+1 -> 5 | G20: =+F20+1 -> 6 | H20: =+G20+1 -> 7 | I20: =+H20+1 -> 8 | J20: =+I20+1 -> 9 | ... AC20: =+AB20+1 -> 28
B21: J | C21: V | D21: S | E21: D | F21: L | G21: M | H21: M | I21: J | J21: V | K21: S | L21: D | M21: L | N21: M | O21: M | P21: J | Q21: V | R21: S | S21: D | T21: L | U21: M | V21: M | W21: J | X21: V | Y21: S | Z21: D | AA21: L | AB21: M | AC21: M
A22: Sophie Fontez | C22: am | G22: am | N22: pm | O22: pm | U22: pm | W22: A | X22: am
A23: Philippe Hénault | F23: X | G23: X | H23: X | N23: pm | O23: X | T23: am | W23: X | X23: X | AB23: X | AC23: pm
A24: Aurélie Molia | B24: X | C24: X | F24: am | G24: pm | I24: X | J24: X | N24: pm | P24: X | Q24: X | W24: n
A25: Jean-Clément Nwatchok | N25: pm | W25: n
A26: Katia Vigilante | I26: am | M26: X | N26: X | O26: am | T26: X | U26: X | V26: X | W26: u | AA26: X | AB26: am | AC26: X
A27: Sandrine Havet | N27: pm | W27: a
A28: Jean-Philippe Chauvin | N28: pm | W28: l
A29: Joëlle Dufayet | N29: pm
A30: Jessica Brizion | N30: pm
A31: Angélique Scafidi | N31: pm | X31: pm
A33: Dernière mise à jour :
A34: 39168
B35: M a r s 2 0 0 7
B36: 1 | C36: =+B36+1 -> 2 | D36: =+C36+1 -> 3 | E36: =+D36+1 -> 4 | F36: =+E36+1 -> 5 | G36: =+F36+1 -> 6 | H36: =+G36+1 -> 7 | I36: =+H36+1 -> 8 | J36: =+I36+1 -> 9 | ... AB36: =+AA36+1 -> 27 | AC36: 28 | AD36: 29 | AE36: 30 | AF36: 31
B37: J | C37: V | D37: S | E37: D | F37: L | G37: M | H37: M | I37: J | J37: V | K37: S | L37: D | M37: L | N37: M | O37: M | P37: J | Q37: V | R37: S | S37: D | T37: L | U37: M | V37: M | W37: J | X37: V | Y37: S | Z37: D | AA37: L | AB37: M | AC37: M | AD37: J | AE37: V | AF37: S
A38: Sophie Fontez | F38: am | H38: am | I38: am | O38: CDS ARISg | AG38: v
A39: Philippe Hénault | B39: X | J39: X | M39: X | O39: X | T39: X | V39: X | W39: X | X39: X | AC39: am | AE39: X | AG39: v
A40: Aurélie Molia | C40: e | N40: X | P40: X | Q40: X | T40: T | U40: X | V40: t | W40: T | AA40: X | AB40: X | AC40: am | AD40: T | AE40: T | AG40: v
A41: Jean-Clément Nwatchok | AG41: v
A42: Katia Vigilante | C42: X | F42: X | G42: X | H42: X | I42: X | AC42: X | AD42: X | AG42: v
A43: Sandrine Havet | AG43: v
A44: Jean-Philippe Chauvin | AG44: v
A45: Joëlle Dufayet | AG45: v
A46: Jessica Brizion | AG46: v
A47: Angélique Scafidi | AC47: am | AG47: v
F48: sm | G48: sm | H48: sm | I48: sm | J48: sm
A49: Dernière mise à jour :
A50: 39192
B51: A v r i l 2 0 0 7
B52: 1 | C52: =+B52+1 -> 2 | D52: =+C52+1 -> 3 | E52: =+D52+1 -> 4 | F52: =+E52+1 -> 5 | G52: =+F52+1 -> 6 | H52: =+G52+1 -> 7 | I52: =+H52+1 -> 8 | J52: =+I52+1 -> 9 | ... AB52: =+AA52+1 -> 27 | AC52: 28 | AD52: 29 | AE52: 30
B53: D | C53: L | D53: M | E53: M | F53: J | G53: V | H53: S | I53: D | J53: L | K53: M | L53: M | M53: J | N53: V | O53: S | P53: D | Q53: L | R53: M | S53: M | T53: J | U53: V | V53: S | W53: D | X53: L | Y53: M | Z53: M | AA53: J | AB53: V | AC53: S | AD53: D | AE53: L
A54: Sophie Fontez | T54: pm | X54: e | Y54: e | AB54: e | AF54: v
A55: Philippe Hénault | E55: X | F55: X | K55: X | L55: X | M55: X | N55: X | Q55: X | R55: X | AE55: R | AF55: v
A56: Aurélie Molia | C56: X | D56: T | F56: T | G56: X | J56: F | K56: T | AE56: T | AF56: v
A57: Jean-Clément Nwatchok | J57: E | AE57: T | AF57: v
A58: Katia Vigilante | D58: X | J58: R | S58: X | T58: X | U58: X | X58: X | Y58: X | Z58: X | AA58: X | AB58: X | AF58: v
A59: Sandrine Havet | J59: I | AE59: B | AF59: v
A60: Jean-Philippe Chauvin | J60: E | AE60: I | AF60: v
A61: Joëlle Dufayet | AE61: F | AF61: v
A62: Jessica Brizion | X62: maladie | AF62: v
A63: Angélique Scafidi | G63: pm | AF63: v
G64: sm | U64: sm | AB64: sm
A65: Dernière mise à jour :
A66: 39218
B67: M a i 2 0 0 7
B68: 1 | C68: =+B68+1 -> 2 | D68: =+C68+1 -> 3 | E68: =+D68+1 -> 4 | F68: =+E68+1 -> 5 | G68: =+F68+1 -> 6 | H68: =+G68+1 -> 7 | I68: =+H68+1 -> 8 | J68: =+I68+1 -> 9 | ... AB68: =+AA68+1 -> 27 | AC68: 28 | AD68: 29 | AE68: 30 | AF68: 31
B69: M | C69: M | D69: J | E69: V | F69: S | G69: D | H69: L | I69: M | J69: M | K69: J | L69: V | M69: S | N69: D | O69: L | P69: M | Q69: M | R69: J | S69: V | T69: S | U69: D | V69: L | W69: M | X69: M | Y69: J | Z69: V | AA69: S | AB69: D | AC69: L | AD69: M | AE69: M | AF69: J
A70: Sophie Fontez | D70: pm | O70: 6th trainers | AD70: IMDP
A71: Philippe Hénault | C71: X | E71: X | S71: R | X71: X | Y71: X | Z71: X | AD71: am | AF71: X | AG71: 6
A72: Aurélie Molia | B72: F | D72: X | E72: T | H72: X | I72: F | K72: T | L72: T | P72: T | Q72: X | R72: F | S72: T | Y72: T | Z72: T | AC72: F | AD72: X | AF72: T
A73: Jean-Clément Nwatchok | B73: E | I73: E | R73: E | S73: T | AC73: E
A74: Katia Vigilante | B74: R | I74: R | J74: X | K74: X | L74: X | O74: X | P74: X | Q74: X | R74: R | V74: X | W74: X | AC74: R | AE74: X | AG74: 9
A75: Sandrine Havet | B75: I | I75: I | R75: I | S75: B | AC75: I
A76: Jean-Philippe Chauvin | B76: E | I76: E | R76: E | S76: I | AC76: E
A77: Joëlle Dufayet | S77: F
A78: Jessica Brizion | AE78: am
A79: Angélique Scafidi
A81: Dernière mise à jour :
A82: 39251
B83: J u i n 2 0 0 7
B84: 1 | C84: =+B84+1 -> 2 | D84: =+C84+1 -> 3 | E84: =+D84+1 -> 4 | F84: =+E84+1 -> 5 | G84: =+F84+1 -> 6 | H84: =+G84+1 -> 7 | I84: =+H84+1 -> 8 | J84: =+I84+1 -> 9 | ... AB84: =+AA84+1 -> 27 | AC84: 28 | AD84: 29 | AE84: 30
B85: V | C85: S | D85: D | E85: L | F85: M | G85: M | H85: J | I85: V | J85: S | K85: D | L85: L | M85: M | N85: M | O85: J | P85: V | Q85: S | R85: D | S85: L | T85: M | U85: M | V85: J | W85: V | X85: S | Y85: D | Z85: L | AA85: M | AB85: M | AC85: J | AD85: V | AE85: S
A86: Sophie Fontez | M86: R | O86: am | AA86: Formation
A87: Philippe Hénault | E87: X | H87: X | I87: X | L87: X | N87: X | O87: am | T87: X | U87: X | V87: X | W87: X | AA87: pm | AB87: X | AC87: X | AD87: X | AF87: 12
A88: Jean-Clément Nwatchok | N88: V
A89: Katia Vigilante | B89: X | F89: X | G89: X | M89: X | N89: I | O89: X | P89: X | S89: X | Z89: X | AA89: X | AF89: 9
A90: Jean-Philippe Chauvin | N90: S
A91: Joëlle Dufayet | N91: I
A92: Jessica Brizion | N92: T | Z92: am
A93: Angélique Demarly | AC93: am
A95: Dernière mise à jour :
A96: 39282
B97: J u i l l e t 2 0 0 7
B98: 1 | C98: =+B98+1 -> 2 | D98: =+C98+1 -> 3 | E98: =+D98+1 -> 4 | F98: =+E98+1 -> 5 | G98: =+F98+1 -> 6 | H98: =+G98+1 -> 7 | I98: =+H98+1 -> 8 | J98: =+I98+1 -> 9 | ... AB98: =+AA98+1 -> 27 | AC98: 28 | AD98: 29 | AE98: 30 | AF98: 31
B99: D | C99: L | D99: M | E99: M | F99: J | G99: V | H99: S | I99: D | J99: L | K99: M | L99: M | M99: J | N99: V | O99: S | P99: D | Q99: L | R99: M | S99: M | T99: J | U99: V | V99: S | W99: D | X99: L | Y99: M | Z99: M | AA99: J | AB99: V | AC99: S | AD99: D | AE99: L | AF99: M
A100: Sophie Fontez | F100: D | K100: x | Q100: x | R100: x
A101: Philippe Hénault | E101: X | F101: A | J101: X | K101: X | L101: X | M101: pm | Q101: X | R101: pm | S101: pm | U101: Xe | X101: X | Y101: X | Z101: X | AA101: X | AB101: X | AE101: X | AF101: X | AG101: 13
A102: Jean-Clément Nwatchok
A103: Phuong Thao Tran
A104: Katia Vigilante | C104: X | D104: X | F104: M | G104: X | M104: X | N104: X | R104: X | S104: X | T104: X | AG104: 8
...

Sheet 2006
A1: Dernière mise à jour :
A2: 38741
B3: J a n v i e r 2 0 0 6
B4: 1 | C4: =+B4+1 -> 2 | D4: =+C4+1 -> 3 | E4: =+D4+1 -> 4 | F4: =+E4+1 -> 5 | G4: =+F4+1 -> 6 | H4: =+G4+1 -> 7 | I4: =+H4+1 -> 8 | J4: =+I4+1 -> 9 | ... AF4: =+AE4+1 -> 31
B5: D | C5: L | D5: M | E5: M | F5: J | G5: V | H5: S | I5: D | J5: L | K5: M | L5: M | M5: J | N5: V | O5: S | P5: D | Q5: L | R5: M | S5: M | T5: J | U5: V | V5: S | W5: D | X5: L | Y5: M | Z5: M | AA5: J | AB5: V | AC5: S | AD5: D | AE5: L | AF5: M
A6: Sophie Fontez | C6: R | E6: pm
A7: Philippe Hénault | C7: T | J7: X | L7: X | M7: X | Q7: am | R7: X | S7: X | T7: X | AA7: X | AB7: X
A8: Aurélie Molia | C8: T | G8: am | J8: am | K8: X | Q8: X | U8: X | AE8: X | AF8: X
A9: Katia Vigilante | D9: X | E9: X | F9: X | G9: X | N9: X | X9: X | Y9: X | Z9: X
A10: Jean-Philippe Chauvin | C10: B
A11: Joëlle Dufayet | C11: I
A12: Angélique Scafidi | C12: F
A14: Dernière mise à jour :
A15: 38772
B16: F é v r i e r 2 0 0 6
B17: 1 | C17: =+B17+1 -> 2 | D17: =+C17+1 -> 3 | E17: =+D17+1 -> 4 | F17: =+E17+1 -> 5 | G17: =+F17+1 -> 6 | H17: =+G17+1 -> 7 | I17: =+H17+1 -> 8 | J17: =+I17+1 -> 9 | ... AC17: =+AB17+1 -> 28
B18: M | C18: J | D18: V | E18: S | F18: D | G18: L | H18: M | I18: M | J18: J | K18: V | L18: S | M18: D | N18: L | O18: M | P18: M | Q18: J | R18: V | S18: S | T18: D | U18: L | V18: M | W18: M | X18: J | Y18: V | Z18: S | AA18: D | AB18: L | AC18: M
A19: Sophie Fontez | G19: pm
A20: Philippe Hénault | B20: X | C20: am | H20: pm | J20: X | K20: X | V20: X | W20: X | X20: X | AB20: X | AC20: X
A21: Aurélie Molia | C21: X | D21: X | G21: pm | N21: X | O21: X | U21: X
A22: Katia Vigilante | C22: pm | G22: X | H22: X | I22: X | P22: X | Q22: X | R22: X | Y22: X | AC22: pm
A23: Jean-Philippe Chauvin | G23: pm
A24: Joëlle Dufayet
A25: Angélique Scafidi
A27: Dernière mise à jour :
A28: 38792
B29: M a r s 2 0 0 6
B30: 1 | C30: =+B30+1 -> 2 | D30: =+C30+1 -> 3 | E30: =+D30+1 -> 4 | F30: =+E30+1 -> 5 | G30: =+F30+1 -> 6 | H30: =+G30+1 -> 7 | I30: =+H30+1 -> 8 | J30: =+I30+1 -> 9 | ... AF30: =+AE30+1 -> 31
B31: M | C31: J | D31: V | E31: S | F31: D | G31: L | H31: M | I31: M | J31: J | K31: V | L31: S | M31: D | N31: L | O31: M | P31: M | Q31: J | R31: V | S31: S | T31: D | U31: L | V31: M | W31: M | X31: J | Y31: V | Z31: S | AA31: D | AB31: L | AC31: M | AD31: M | AE31: J | AF31: V
A32: Sophie Fontez | J32: V | K32: C
A33: Philippe Hénault | B33: X | C33: X | I33: X | J33: I | K33: D | Q33: X | R33: X | U33: X | V33: X | W33: X
A34: Aurélie Molia | G34: X | H34: X | J34: X | K34: S | N34: X | O34: X | AB34: X | AC34: X
A35: Katia Vigilante | C35: am | D35: X | G35: am | J35: S | K35: X | N35: pm | P35: X | X35: X | Y35: X | AD35: X | AE35: X | AF35: X
A36: Jean-Philippe Chauvin | J36: I
A37: Joëlle Dufayet | J37: T
A38: Angélique Scafidi | J38: E
A40: Dernière mise à jour :
A41: 38832
B42: A v r i l 2 0 0 6
B43: 1 | C43: =+B43+1 -> 2 | D43: =+C43+1 -> 3 | E43: =+D43+1 -> 4 | F43: =+E43+1 -> 5 | G43: =+F43+1 -> 6 | H43: =+G43+1 -> 7 | I43: =+H43+1 -> 8 | J43: =+I43+1 -> 9 | ... AE43: =+AD43+1 -> 30
B44: S | C44: D | D44: L | E44: M | F44: M | G44: J | H44: V | I44: S | J44: D | K44: L | L44: M | M44: M | N44: J | O44: V | P44: S | Q44: D | R44: L | S44: M | T44: M | U44: J | V44: V | W44: S | X44: D | Y44: L | Z44: M | AA44: M | AB44: J | AC44: V | AD44: S | AE44: D
A45: Sophie Fontez | N45: am
A46: Philippe Hénault | R46: F | S46: X | T46: X | U46: X | V46: X | AA46: X | AB46: am
A47: Aurélie Molia | D47: X | E47: X | G47: X | H47: X | K47: X | L47: X | N47: X | O47: X | R47: E
A48: Katia Vigilante | F48: X | L48: am | M48: X | N48: pm | R48: R | Y48: X | Z48: X | AB48: X | AC48: X
A49: Jean-Philippe Chauvin | R49: I
A50: Joëlle Dufayet | R50: E
A51: Jessica Brizion
A52: Angélique Scafidi
A54: Dernière mise à jour :
A55: 38856
B56: M a i 2 0 0 6
B57: 1 | C57: =+B57+1 -> 2 | D57: =+C57+1 -> 3 | E57: =+D57+1 -> 4 | F57: =+E57+1 -> 5 | G57: =+F57+1 -> 6 | H57: =+G57+1 -> 7 | I57: =+H57+1 -> 8 | J57: =+I57+1 -> 9 | ... AD57: =+AC57+1 -> 29 | AE57: 30 | AF57: 31
B58: L | C58: M | D58: M | E58: J | F58: V | G58: S | H58: D | I58: L | J58: M | K58: M | L58: J | M58: V | N58: S | O58: D | P58: L | Q58: M | R58: M | S58: J | T58: V | U58: S | V58: D | W58: L | X58: M | Y58: M | Z58: J | AA58: V | AB58: S | AC58: D | AD58: L | AE58: M | AF58: M
A59: Sophie Fontez | E59: pm | K59: pm | L59: pm | P59: A | S59: pm
A60: Philippe Hénault | B60: F | C60: am | D60: X | E60: am | I60: F | J60: X | K60: X | L60: X | M60: X | P60: U | Z60: F | AA60: R | AE60: X | AF60: X
A61: Aurélie Molia | B61: E | I61: E | P61: X | Q61: X | S61: X | T61: X | W61: X | Z61: E | AA61: T
A62: Katia Vigilante | B62: R | C62: X | E62: X | F62: X | I62: R | P62: D | R62: X | X62: X | Y62: X | Z62: R | AA62: T | AD62: X | AF62: pm
A63: Jean-Philippe Chauvin | B63: I | I63: I | P63: I | Q63: B | Z63: I
A64: Joëlle Dufayet | B64: E | I64: E | P64: T | Q64: I | Z64: E | AA64: B
A65: Jessica Brizion | Q65: F | AA65: I
A66: Angélique Scafidi | AA66: F | AF66: pm
A68: Dernière mise à jour :
A69: 38890
B70: J u i n 2 0 0 6
B71: 1 | C71: =+B71+1 -> 2 | D71: =+C71+1 -> 3 | E71: =+D71+1 -> 4 | F71: =+E71+1 -> 5 | G71: =+F71+1 -> 6 | H71: =+G71+1 -> 7 | I71: =+H71+1 -> 8 | J71: =+I71+1 -> 9 | ... AD71: =+AC71+1 -> 29 | AE71: 30
B72: J | C72: V | D72: S | E72: D | F72: L | G72: M | H72: M | I72: J | J72: V | K72: S | L72: D | M72: L | N72: M | O72: M | P72: J | Q72: V | R72: S | S72: D | T72: L | U72: M | V72: M | W72: J | X72: V | Y72: S | Z72: D | AA72: L | AB72: M | AC72: M | AD72: J | AE72: V
A73: Sophie Fontez | I73: pm | N73: am | AA73: n
A74: Philippe Hénault | F74: F | H74: X | I74: X | J74: X | O74: X | P74: X | T74: X | U74: X | V74: pm | W74: pm | X74: X | AA74: o
A75: Aurélie Molia | B75: X | C75: X | F75: E | G75: X | M75: X | N75: X | Q75: X | X75: am
A76: Jean-Clément Nwatchok | W76: pm | AA76: A
A77: Katia Vigilante | F77: R | V77: X | W77: X | X77: am | AA77: R | AB77: X | AC77: X | AD77: X | AE77: X
A78: Jean-Philippe Chauvin | F78: I | AA78: I
A79: Joëlle Dufayet | F79: E | AA79: S
A80: Jessica Brizion | AA80: g
A81: Angélique Scafidi
A83: Dernière mise à jour :
A84: 38924
B85: J u i l l e t 2 0 0 6
B86: 1 | C86: =+B86+1 -> 2 | D86: =+C86+1 -> 3 | E86: =+D86+1 -> 4 | F86: =+E86+1 -> 5 | G86: =+F86+1 -> 6 | H86: =+G86+1 -> 7 | I86: =+H86+1 -> 8 | J86: =+I86+1 -> 9 | ... AD86: =+AC86+1 -> 29 | AE86: 30 | AF86: 31
B87: S | C87: D | D87: L | E87: M | F87: M | G87: J | H87: V | I87: S | J87: D | K87: L | L87: M | M87: M | N87: J | O87: V | P87: S | Q87: D | R87: L | S87: M | T87: M | U87: J | V87: V | W87: S | X87: D | Y87: L | Z87: M | AA87: M | AB87: J | AC87: V | AD87: S | AE87: D | AF87: L
A88: Sophie Fontez | B88: P | U88: pm
A89: Philippe Hénault | B89: A | G89: X | H89: X | T89: X | U89: X | V89: X | AB89: X | AC89: X
A90: Aurélie Molia | B90: R | D90: X | E90: X | K90: X | L90: X | O90: F | S90: X | U90: pm
A91: Jean-Clément Nwatchok | B91: I | O91: E
A92: Katia Vigilante | B92: S | D92: am | F92: X | M92: X | N92: X | O92: R | R92: X | U92: pm | Y92: X | Z92: X | AA92: X | AB92: pm | AF92: X
A93: Jean-Philippe Chauvin | O93: I | U93: pm
A94: Joëlle Dufayet | B94: bus | O94: E | U94: pm
A95: Jessica Brizion | B95: à
A96: Angélique Scafidi | B96: 16h | U96: pm | AC96: am
A98: Dernière mise à jour :
A99: 38953
B100: A o u t 2 0 0 6
B101: 1 | C101: =+B101+1 -> 2 | D101: =+C101+1 -> 3 | E101: =+D101+1 -> 4 | F101: =+E101+1 -> 5 | G101: =+F101+1 -> 6 | H101: =+G101+1 -> 7 | I101: =+H101+1 -> 8 | J101: =+I101+1 -> 9 | ... AD101: =+AC101+1 -> 29 | AE101: 30 | AF101: 31
B102: M | C102: M | D102: J | E102: V | F102: S | G102: D | H102: L | I102: M | J102: M | K102: J | L102: V | M102: S | N102: D | O102: L | P102: M | Q102: M | R102: J | S102: V | T102: S | U102: D | V102: L | W102: M | X102: M | Y102: J | Z102: V | AA102: S | AB102: D | AC102: L | AD102: M | AE102: M | AF102: J
A103: Sophie Fontez | W103: pm | AE103: am
A104: Philippe Hénault | H104: X | I104: X | J104: X | O104: R | Q104: X | X104: pm | Y104: X | AE104: X | AF104: X
A105: Aurélie Molia | K105: X | L105: X | O105: T | P105: F | R105: X | S105: X | Z105: X | AC105: X | AD105: X
A106: Jean-Clément Nwatchok | O106: T | P106: E
A107: Katia Vigilante | B107: X | C107: X | D107: X | E107: X | P107: R | V107: X | W107: X | X107: X
...

Sheet 2005
B3: J u i n 2 0 0 5 | O3: J u i l l e t 2 0 0 5 | AT3: Août | BY3: S e p t e m b r e 2 0 0 5 | DE3: O c t o b r e 2 0 0 5 | EJ3: N o v e m b r e 2 0 0 5 | FN3: D é c e m b r e 2 0 0 5
B4: 20 | C4: =+B4+1 -> 21 | D4: =+C4+1 -> 22 | E4: =+D4+1 -> 23 | F4: =+E4+1 -> 24 | G4: =+F4+1 -> 25 | H4: =+G4+1 -> 26 | I4: =+H4+1 -> 27 | J4: 28 | K4: =+J4+1 -> 29 | L4: =+K4+1 -> 30 | O4: 1 | P4: =+O4+1 -> 2 | Q4: =+P4+1 -> 3 | R4: =+Q4+1 -> 4 | S4: =+R4+1 -> 5 | T4: =+S4+1 -> 6 | U4: =+T4+1 -> 7 | V4: =+U4+1 -> 8 | W4: =+V4+1 -> 9 | ... AS4: =+AR4+1 -> 31 | AT4: 1 | AU4: =+AT4+1 -> 2 | AV4: =+AU4+1 -> 3 | AW4: =+AV4+1 -> 4 | AX4: =+AW4+1 -> 5 | AY4: =+AX4+1 -> 6 | AZ4: =+AY4+1 -> 7 | BA4: =+AZ4+1 -> 8 | BB4: =+BA4+1 -> 9 | ... BX4: =+BW4+1 -> 31 | BY4: 1 | BZ4: =+BY4+1 -> 2 | CA4: =+BZ4+1 -> 3 | CB4: =+CA4+1 -> 4 | CC4: =+CB4+1 -> 5 | CD4: =+CC4+1 -> 6 | CE4: =+CD4+1 -> 7 | CF4: =+CE4+1 -> 8 | CG4: =+CF4+1 -> 9 | ... DB4: =+DA4+1 -> 30 | DE4: 1 | DF4: =+DE4+1 -> 2 | DG4: =+DF4+1 -> 3 | DH4: =+DG4+1 -> 4 | DI4: =+DH4+1 -> 5 | DJ4: =+DI4+1 -> 6 | DK4: =+DJ4+1 -> 7 | DL4: =+DK4+1 -> 8 | DM4: =+DL4+1 -> 9 | ... EI4: =+EH4+1 -> 31 | EJ4: 1 | EK4: =+EJ4+1 -> 2 | EL4: =+EK4+1 -> 3 | EM4: =+EL4+1 -> 4 | EN4: =+EM4+1 -> 5 | EO4: =+EN4+1 -> 6 | EP4: =+EO4+1 -> 7 | EQ4: =+EP4+1 -> 8 | ER4: =+EQ4+1 -> 9 | ... FM4: =+FL4+1 -> 30 | FN4: 1 | FO4: =+FN4+1 -> 2 | FP4: =+FO4+1 -> 3 | FQ4: =+FP4+1 -> 4 | FR4: =+FQ4+1 -> 5 | FS4: =+FR4+1 -> 6 | FT4: =+FS4+1 -> 7 | FU4: =+FT4+1 -> 8 | FV4: =+FU4+1 -> 9 | ... GR4: =+GQ4+1 -> 31
B5: L | C5: M | D5: M | E5: J | F5: V | G5: S | H5: D | I5: L | J5: M | K5: M | L5: J | O5: V | P5: S | Q5: D | R5: L | S5: M | T5: M | U5: J | V5: V | W5: S | X5: D | Y5: L | Z5: M | AA5: M | AB5: J | AC5: V | AD5: S | AE5: D | AF5: L | AG5: M | AH5: M | AI5: J | AJ5: V | AK5: S | AL5: D | AM5: L | AN5: M | AO5: M | AP5: J | AQ5: V | AR5: S | AS5: D | AT5: L | AU5: M | AV5: M | AW5: J | AX5: V | AY5: S | AZ5: D | BA5: L | BB5: M | BC5: M | BD5: J | BE5: V | BF5: S | BG5: D | BH5: L | BI5: M | BJ5: M | BK5: J | BL5: V | BM5: S | BN5: D | BO5: L | BP5: M | BQ5: M | BR5: J | BS5: V | BT5: S | BU5: D | BV5: L | BW5: M | BX5: M | BY5: J | BZ5: V | CA5: S | CB5: D | CC5: L | CD5: M | CE5: M | CF5: J | CG5: V | CH5: S | CI5: D | CJ5: L | CK5: M | CL5: M | CM5: J | CN5: V | CO5: S | CP5: D | CQ5: L | CR5: M | CS5: M | CT5: J | CU5: V | CV5: S | CW5: D | CX5: L | CY5: M | CZ5: M | DA5: J | DB5: V | DE5: S | DF5: D | DG5: L | DH5: M | DI5: M | DJ5: J | DK5: V | DL5: S | DM5: D | DN5: L | DO5: M | DP5: M | DQ5: J | DR5: V | DS5: S | DT5: D | DU5: L | DV5: M | DW5: M | DX5: J | DY5: V | DZ5: S | EA5: D | EB5: L | EC5: M | ED5: M | EE5: J | EF5: V | EG5: S | EH5: D | EI5: L | EJ5: M | EK5: M | EL5: J | EM5: V | EN5: S | EO5: D | EP5: L | EQ5: M | ER5: M | ES5: J | ET5: V | EU5: S | EV5: D | EW5: L | EX5: M | EY5: M | EZ5: J | FA5: V | FB5: S | FC5: D | FD5: L | FE5: M | FF5: M | FG5: J | FH5: V | FI5: S | FJ5: D | FK5: L | FL5: M | FM5: M | FN5: J | FO5: V | FP5: S | FQ5: D | FR5: L | FS5: M | FT5: M | FU5: J | FV5: V | FW5: S | FX5: D | FY5: L | FZ5: M | GA5: M | GB5: J | GC5: V | GD5: S | GE5: D | GF5: L | GG5: M | GH5: M | GI5: J | GJ5: V | GK5: S | GL5: D | GM5: L | GN5: M | GO5: M | GP5: J | GQ5: V | GR5: S
A6: Sophie Fontez | C6: am | I6: pm | AH6: am | AT6: am | CQ6: pm | CY6: pm | DA6: am | DD6: Sophie Fontez | EC6: pm | EX6: C | FG6: am | FN6: am | FS6: am
A7: Katia Vigilante | B7: X | I7: X | J7: X | K7: am | L7: X | O7: X | R7: X | AH7: am | AM7: X | AN7: X | AO7: X | AP7: X | AQ7: X | AS7: 7 | AX7: X | BI7: X | BJ7: X | BK7: X | BO7: X | BV7: X | BW7: X | BX7: X | BY7: X | CC7: X | CF7: am | CG7: x | CJ7: X | CK7: X | CL7: X | CM7: X | CN7: X | CR7: pm | CX7: pm | DD7: Philippe Hénault | DG7: X | DV7: pm | DX7: X | DY7: X | EB7: X | EC7: X | ED7: X | EE7: X | EJ7: F | ER7: X | ES7: X | ET7: F | EX7: L | EZ7: X | FA7: X | FD7: X | FF7: X | FS7: X | FT7: X | FU7: X | GC7: X | GF7: X | GH7: X | GI7: X
A8: Philippe Hénault | C8: X | D8: X | E8: X | F8: X | K8: X | L8: am | S8: X | T8: X | U8: X | V8: X | Y8: X | Z8: X | AA8: X | AH8: am | AS8: 7 | AT8: am | BA8: X | BB8: X | BC8: X | BD8: X | BE8: X | BR8: X | BS8: X | CQ8: X | CR8: X | CX8: X | CY8: X | CZ8: X | DA8: X | DB8: X | DD8: Aurélie Molia | DP8: X | DQ8: X | DR8: X | DU8: X | DV8: X | DW8: X | EJ8: E | EM8: X | EP8: X | EQ8: X | ER8: am | ET8: E | EW8: X | EX8: X | EY8: X | FE8: X | FG8: am | FV8: X | FZ8: X | GA8: X | GB8: am | GG8: X | GM8: X | GN8: X | GO8: X | GP8: X | GQ8: X
A9: Aurélie Molia | AF9: X | AG9: X | AH9: X | AI9: X | AJ9: X | AS9: 5 | AT9: X | AU9: X | AV9: X | AW9: X | BL9: X | BP9: X | BQ9: X | BZ9: X | CC9: pm | CD9: X | CE9: X | CF9: X | CS9: X | CT9: X | CU9: X | DD9: Katia Vigilante | DG9: am | DH9: X | DI9: X | DJ9: X | DK9: X | EF9: X | EJ9: R | EK9: X | EL9: X | ET9: R | EX9: A | FE9: pm | FG9: X | FH9: X | FK9: X | FL9: X | FM9: X | FN9: X | FO9: X | FR9: X | FS9: pm | FU9: am | FY9: X | GB9: X | GJ9: X
A10: Joelle Dufayet | DD10: Jean-Philippe Chauvin | EJ10: I | ET10: I | EX10: N
A11: Adélaïde Carpentier | AF11: BB | CY11: ? | DD11: Joëlle Dufayet | EJ11: E | ET11: E | EX11: I
A12: Angélique Scafidi | AH12: am | DD12: Angélique Scafidi | EX12: N
A13: Ingrid Bichard | DD13: Ingrid Bichard | EX13: G
A16: M E M O | E16: Absent (congés, rtt, récup, ou autres …) | AW16: Absent (congés, rtt, récup, ou autres …) | CB16: Absent (congés, rtt, récup, ou autres …) | DD16: M E M O | DH16: Absent (congés, rtt, récup, …) | EM16: Absent (congés, rtt, récup, …) | FQ16: Absent (congés, rtt, récup, …)
A17: Service minimum PV | E17: Déplacements ou autres (formations ou réunions de longue durée) | AC17: am = matin / pm = après-midi | AW17: Déplacements ou autres (1/2j. ou journée) - am = matin / pm = après-midi | CB17: Déplacements ou autres (1/2j. ou journée) - am = matin / pm = après-midi | DD17: Service minimum PV | DH17: Déplacements ou réunions (1/2j. ou journée) - am = matin / pm = après-midi | EM17: Déplacements ou réunions (1/2j. ou journée) - am = matin / pm = après-midi | FQ17: Déplacements ou réunions (1/2j. ou journée) - am = matin / pm = après-midi
A18: 2 PHAR + MD | E18: Triage cas = ARISg Data entry | AW18: Triage cas (2) = ARISg Data entry | CB18: Triage cas + ARISg Data entry | DD18: 2 PHAR + MD | DH18: Triage cas + ARISg Data entry | EM18: Triage cas + ARISg Data entry | FQ18: Triage cas + ARISg Data entry
A19: 2 PHAR + ASC | E19: Validation cas AMO = ARISg Reviewer | AW19: >>> "LIGHT" (minimum requis pour passer le cas en review) pour les PHAR en remp MD | CB19: Support MD hors ARISg | DD19: 2 PHAR + ASC | DH19: Back up Joëlle hors ARISg (Triage cas + registre PV) | EM19: Back up JDU | FP19: X | FQ19: Importations + contrôle du registre
A20: 1 PHAR + MD + ASC | D20: X | E20: Importations + contrôle du registre | AW20: Triage cas (1) = registrePV | CA20: X | CB20: Importations + contrôle du registre | DD20: 1 PHAR + MD + SPV | DG20: X | DH20: Importations + contrôle du registre | EL20: X | EM20: Importations + contrôle du registre | FQ20: Signature Afssaps et/ou Back up SFO
A21: MAXI 2 JOURS | E21: Signature Afssaps et/ou Back up SFO | AV21: X | AW21: Importations + contrôle du registre | CB21: Signature Afssaps et/ou Back up SFO | DD21: MAXI 2 JOURS | DH21: Signature Afssaps et/ou Back up SFO | EM21: Signature Afssaps et/ou Back up SFO
AW24: Signature Afssaps et/ou Back up SFO
CA25: Réunions du mois :
CA26: 1er sept : Activités PV
CA27: 22 sept : Unité PV - Indicateurs d'activité
CA28: 26 sept : réunion prépa mensuelles des activités PV
CA29: 29 sept : comité technique (cas mois d'août)

Sheet 2015
A1: ORGANISATION DE L'ACTIVITE DIRECTION PHARMACOVIGILANCE ET INFORMATION MEDICALE - 2015
A2: Document à usage interne uniquement
C4: Non travaillé (férié/TP/etc)
A6: Absences : | C6: RTT | H6: RRL | M6: Congés | R6: RTT imposé | V6: Abence / HV / DPP FOS / MAL / MAE | AC6: A REGULARISER
B8: B | C8: Biopark | G8: R | H8: Reims Réunion ou format°journée | AB8: m = matin / am = après-midi
A10: Obligations PV : | B10: X | C10: Importations / Permanence tél 12h30 - 13h30 | G10: X | H10: Importations + CQ E2B (Merc/Jeudi) | R10: Back-up Dir PV-IM | AB10: vacances scolaires
A12: Organisation MD : | B12: T | C12: Triage | G12: Q | H12: Queries
A14: Janvier | B14: 1 | C14: =+B14+1 -> 2 | D14: =+C14+1 -> 3 | E14: =+D14+1 -> 4 | F14: =+E14+1 -> 5 | G14: =+F14+1 -> 6 | H14: =+G14+1 -> 7 | I14: =+H14+1 -> 8 | J14: =+I14+1 -> 9 | ... AF14: =+AE14+1 -> 31
B15: J | C15: V | D15: S | E15: D | F15: L | G15: M | H15: M | I15: J | J15: V | K15: S | L15: D | M15: L | N15: M | O15: M | P15: J | Q15: V | R15: S | S15: D | T15: L | U15: M | V15: M | W15: J | X15: V | Y15: S | Z15: D | AA15: L | AB15: M | AC15: M | AD15: J | AE15: V | AF15: S
A16: Aurélie Molia | F16: B | H16: B | T16: AM | V16: B | AB16: B
A17: Philippe Hénault | C17: site | F17: X | I17: B | P17: X | V17: X | AB17: X
A18: Stéphanie Mercier | J18: X | N18: X | T18: M | W18: X | AD18: X
A19: Katia Vigilante | H19: X | O19: X | T19: X
A20: Prestation PV | G20: X | I20: X | M20: X | Q20: X | U20: X | X20: X | AA20: X | AC20: X | AE20: X
A21: Jean-Philippe Chauvin | C21: site | F21: T | G21: Q | I21: T | J21: Q | M21: T | N21: Q | P21: T | Q21: Q | U21: T | V21: Q | W21: T | X21: Q | AC21: T | AD21: Q
A22: Joëlle Dufayet | G22: T | H22: Q | J22: T | N22: T | O22: Q | Q22: T | T22: Q | U22: Q | V22: T | W22: Q | X22: T | AA22: T | AB22: Q | AD22: T | AE22: Q
A23: Rosemonde Tempier
A24: Prestation GD | F24: Q | H24: T | I24: Q | M24: Q | O24: T | P24: Q | T24: T | AB24: T | AC24: Q | AE24: T | AG24: 17
A25: Thao Tran | F25: B | I25: B
A26: Jocelyne Letembet
A27: Gaëlle Rocheran
A28: Angélique Vadin
A29: Angélique Demarly | G29: M
A30: Corinne Gillery | F30: M | H30: 17 | I30: Greta | M30: M | O30: 17 | P30: Greta | T30: M | V30: 17 | W30: Greta | AC30: 14 | AD30: Greta | AG30: =SUM(B30:AF30) -> 65
A33: Février | B33: 1 | C33: =+B33+1 -> 2 | D33: =+C33+1 -> 3 | E33: =+D33+1 -> 4 | F33: =+E33+1 -> 5 | G33: =+F33+1 -> 6 | H33: =+G33+1 -> 7 | I33: =+H33+1 -> 8 | J33: =+I33+1 -> 9 | ... AC33: =+AB33+1 -> 28
A34: (au 29/01/2015) | B34: D | C34: L | D34: M | E34: M | F34: J | G34: V | H34: S | I34: D | J34: L | K34: M | L34: M | M34: J | N34: V | O34: S | P34: D | Q34: L | R34: M | S34: M | T34: J | U34: V | V34: S | W34: D | X34: L | Y34: M | Z34: M | AA34: J | AB34: V | AC34: S
A35: Aurélie Molia | L35: B | M35: B
A36: Philippe Hénault | D36: X | M36: X | Z36: X
A37: Stéphanie Mercier | C37: X | F37: X | L37: X | R37: X | Y37: X | AB37: X
A38: Katia Vigilante | E38: X | G38: X | J38: X | S38: X | U38: X
A39: Baptiste Jouhannet | Z39: PV | AA39: PV | AB39: PV
A40: Prestation PV | K40: X | N40: X | Q40: X | T40: X | X40: X | AA40: X
A41: Jean-Philippe Chauvin | C41: T | D41: Q | E41: T | F41: Q | G41: T | J41: T | K41: Q | M41: T | N41: T | Q41: Q | S41: T | T41: Q | U41: T | X41: T | Y41: Q | AA41: T | AB41: Q
A42: Joëlle Dufayet | K42: T | L42: Q | M42: Q | R42: T | S42: Q | X42: Q | Y42: T | Z42: Q
A43: Rosemonde Tempier | G43: Q | T43: Q | U43: T
A44: Prestation GD | C44: Q | D44: T | E44: Q | F44: T | G44: val | J44: Q | L44: T | N44: Q | Q44: T | R44: Q | T44: T | U44: Q | X44: Q | Z44: T | AA44: Q | AB44: T | AD44: 19
A45: Thao Tran
A46: Jocelyne Letembet
A47: Gaëlle Rocheran
A48: Angélique Vadin | F48: X | N48: X | T48: X | Y48: X | AB48: X
A49: Angélique Demarly | C49: AM | G49: X | M49: X | Q49: X | R49: X | U49: X | X49: X | AA49: X
A50: Corinne Gillery | C50: M/X | D50: X | E50: X | F50: Greta | H50: 17 | J50: M/X | K50: X | L50: X | M50: Greta | O50: 17 | Q50: M | S50: X | T50: Greta | V50: 17 | X50: Fo Greta | Z50: X | AA50: Greta | AC50: 7 | AD50: =SUM(C50:AC50) -> 58
A51: Elodie Muller
A54: Mars | B54: 1 | C54: =+B54+1 -> 2 | D54: =+C54+1 -> 3 | E54: =+D54+1 -> 4 | F54: =+E54+1 -> 5 | G54: =+F54+1 -> 6 | H54: =+G54+1 -> 7 | I54: =+H54+1 -> 8 | J54: =+I54+1 -> 9 | ... AF54: =+AE54+1 -> 31
B55: D | C55: L | D55: M | E55: M | F55: J | G55: V | H55: S | I55: D | J55: L | K55: M | L55: M | M55: J | N55: V | O55: S | P55: D | Q55: L | R55: M | S55: M | T55: J | U55: V | V55: S | W55: D | X55: L | Y55: M | Z55: M | AA55: J | AB55: V | AC55: S | AD55: D | AE55: L | AF55: M
A56: Aurélie Molia | S56: Ingelheim | Y56: Workshop | AF56: Ing
A57: Philippe Hénault | D57: X | L57: X | T57: X | Z57: x
A58: Stéphanie Mercier | N58: X | Q58: Ifis | R58: X | T58: B | AB58: X | AE58: X | AF58: B
A59: Katia Vigilante | E59: X | G59: X | K59: X | Q59: X | U59: X | X59: X | Y59: Formation | AF59: X
A60: Baptiste Jouhannet | C60: PV | D60: PV | J60: PV | K60: PV | L60: PV | M60: PV
A61: Prestation PV | C61: X | F61: X | J61: X | M61: X | S61: X | Y61: X | AA61: X
A62: Jean-Philippe Chauvin | J62: Q | K62: T | L62: Q | N62: T | Q62: Q | S62: Ingelheim | X62: T | Z62: Q | AA62: T | AB62: T | AF62: T
A63: Joëlle Dufayet | C63: T | D63: Q | E63: T | F63: Q | G63: T | J63: T | K63: Q | M63: T | R63: T | S63: Q | T63: T | U63: Q | Y63: Q | Z63: T | AB63: Q | AE63: T | AF63: Q
A64: Rosemonde Tempier | N64: T | T64: Q | AB64: T
A65: Prestation GD | C65: Q | D65: T | E65: Q | F65: T | G65: Q | J65: vu | L65: T | M65: Q | N65: Q | Q65: T | R65: Q | S65: T | U65: T | X65: Q | Y65: T | AA65: Q | AE65: Q | AG65: 21
A66: Thao Tran | Y66: Workshop
A67: Jocelyne Letembet
A68: Gaëlle Rocheran | S68: Arrêt
A69: Angélique Vadin | M69: X | S69: X | T69: X | Y69: X | Z69: X | AB69: X
A70: Angélique Demarly | C70: X | D70: X | F70: X | G70: X | N70: X | Q70: X | R70: X | U70: X | X70: X | AA70: X
A71: Corinne Gillery | E71: X | F71: Greta | H71: 7 | J71: M/X | K71: X | L71: X | M71: Greta | O71: 17 | Q71: Arrêt | X71: Arrêt | AD71: 10 | AE71: M/X | AF71: X | AG71: =SUM(H71,O71,AD71) -> 34
A72: Elodie Muller
A75: Avril | B75: 1 | C75: =+B75+1 -> 2 | D75: =+C75+1 -> 3 | E75: =+D75+1 -> 4 | F75: =+E75+1 -> 5 | G75: =+F75+1 -> 6 | H75: =+G75+1 -> 7 | I75: =+H75+1 -> 8 | J75: =+I75+1 -> 9 | ... AE75: =+AD75+1 -> 30
B76: M | C76: J | D76: V | E76: S | F76: D | G76: L | H76: M | I76: M | J76: J | K76: V | L76: S | M76: D | N76: L | O76: M | P76: M | Q76: J | R76: V | S76: S | T76: D | U76: L | V76: M | W76: M | X76: J | Y76: V | Z76: S | AA76: D | AB76: L | AC76: M | AD76: M | AE76: J
A77: Aurélie Molia | K77: Ifis | O77: Ing AM | P77: Ing | X77: Workshop
A78: Philippe Hénault | B78: X | Y78: X | AC78: X
A79: Stéphanie Mercier | D79: X | J79: X | N79: X | W79: X | AB79: X | AE79: X
A80: Katia Vigilante | H80: X | P80: X | R80: X | V80: X | AD80: X
A81: Baptiste Jouhannet | U81: PV | V81: PV | W81: PV
A82: Prestation PV | C82: X | I82: X | K82: X | O82: X | Q82: X | U82: X | X82: X
A83: Jean-Philippe Chauvin | D83: T | H83: Q | J83: T | K83: Q | N83: T | O83: Ing AM | P83: Ing | R83: T | W83: T | AC83: Q | AD83: T | AE83: T
A84: Joëlle Dufayet | B84: Q | C84: T | I84: T | J84: Q | U84: Q | V84: T | W84: Q | Y84: T | AB84: T/Q | AC84: T | AD84: Q
A85: Rosemonde Tempier | D85: Q | J85: T | Q85: Q | X85: Q
A86: Prestation GD | B86: T | C86: Q | H86: T | I86: Q | K86: T | N86: Q | O86: T | P86: T/Q | Q86: T | R86: Q | U86: T | V86: Q | X86: T | Y86: Q | AE86: Q | AG86: 19
A87: Thao Tran
A88: Jocelyne Letembet
A89: Gaëlle Rocheran
A90: Angélique Vadin | C90: X | J90: X | K90: X | Q90: X | X90: X | Y90: X
A91: Angélique Demarly | D91: X | R91: X | V91: X | AB91: X | AC91: X | AE91: X
A92: Corinne Gillery | B92: X | C92: Greta | H92: X | I92: X | J92: Greta | N92: M/X | O92: X | P92: X | Q92: Greta | U92: M/X | W92: X | X92: Greta | AD92: M/X
A93: Elodie Muller
A96: Mai | B96: 1 | C96: =+B96+1 -> 2 | D96: =+C96+1 -> 3 | E96: =+D96+1 -> 4 | F96: =+E96+1 -> 5 | G96: =+F96+1 -> 6 | H96: =+G96+1 -> 7 | I96: =+H96+1 -> 8 | J96: =+I96+1 -> 9 | ... S96: =+R96+1 -> 18 | T96: 19 | U96: 20 | V96: 21 | W96: 22 | X96: 23 | Y96: =+X96+1 -> 24 | Z96: =+Y96+1 -> 25 | AA96: =+Z96+1 -> 26 | AB96: =+AA96+1 -> 27 | AC96: =+AB96+1 -> 28 | AD96: =+AC96+1 -> 29 | AE96: =+AD96+1 -> 30 | AF96: =+AE96+1 -> 31
B97: V | C97: S | D97: D | E97: L | F97: M | G97: M | H97: J | I97: V | J97: S | K97: D | L97: L | M97: M | N97: M | O97: J | P97: V | Q97: S | R97: D | S97: L | T97: M | U97: M | V97: J | W97: V | X97: S | Y97: D | Z97: L | AA97: M | AB97: M | AC97: J | AD97: V | AE97: S | AF97: D
A98: Aurélie Molia | M98: Workshop
A99: Philippe Hénault | G99: X | M99: X | T99: X | AB99: X
A100: Stéphanie Mercier | E100: X | V100: X | AD100: X
A101: Katia Vigilante | L101: X | P101: site | U101: X | AA101: X
A102: Baptiste Jouhannet | S102: PV | T102: PV | U102: PV | AA102: PV | AB102: PV
A103: Prestation PV | F103: X | H103: X | N103: X | S103: X | W103: X | AC103: X
A104: Jean-Philippe Chauvin | L104: Q | M104: T | N104: Q | P104: site | S104: T | T104: Q | V104: T | AC104: T | AD104: Q
A105: Joëlle Dufayet | E105: AM | F105: T | G105: Q | H105: T | L105: T | M105: Q | N105: T | S105: Q | T105: T | U105: Q | AA105: T | AB105: Q
A106: Rosemonde Tempier | W106: Q | AD106: T
A107: Prestation GD | E107: T | F107: Q | G107: T | H107: Q | S107: Q | U107: T | V107: Q | W107: T | AA107: Q | AB107: T | AC107: Q
A108: Thao Tran
A109: Jocelyne Letembet
A110: Gaëlle Rocheran
A111: Angélique Vadin
A112: Angélique Demarly
A113: Corinne Gillery | G113: M/X | L113: M | O113: Greta | S113: M | V113: Greta | AC113: Greta
A114: Elodie Muller
...

Sheet 2017
B2: Absence : saisie RTT, RRl, RRT, CP, MAL | G2: D | H2: Délégation
B3: T | C3: triage
B6: 42737 | X6: 42767 | AR6: 42795 | BO6: 42828 | CI6: 42856 | DF6: 42887 | EC6: Suivi congés posés
B7: 42737 | C7: 42738 | D7: 42739 | E7: 42740 | F7: 42741 | G7: 42744 | H7: 42745 | I7: 42746 | J7: 42747 | K7: 42748 | L7: 42751 | M7: 42752 | N7: 42753 | O7: 42754 | P7: 42755 | Q7: 42758 | R7: 42759 | S7: 42760 | T7: 42761 | U7: 42762 | V7: 42765 | W7: 42766 | X7: 42767 | Y7: 42768 | Z7: 42769 | AA7: 42772 | AB7: 42773 | AC7: 42774 | AD7: 42775 | AE7: 42776 | AF7: 42779 | AG7: 42780 | AH7: 42781 | AI7: 42782 | AJ7: 42783 | AK7: 42786 | AL7: 42787 | AM7: 42788 | AN7: 42789 | AO7: 42790 | AP7: 42793 | AQ7: 42794 | AR7: 42795 | AS7: 42796 | AT7: 42797 | AU7: 42800 | AV7: 42801 | AW7: 42802 | AX7: 42803 | AY7: 42804 | AZ7: 42807 | BA7: 42808 | BB7: 42809 | BC7: 42810 | BD7: 42811 | BE7: 42814 | BF7: 42815 | BG7: 42816 | BH7: 42817 | BI7: 42818 | BJ7: 42821 | BK7: 42822 | BL7: 42823 | BM7: 42824 | BN7: 42825 | BO7: 42828 | BP7: 42829 | BQ7: 42830 | BR7: 42831 | BS7: 42832 | BT7: 42835 | BU7: 42836 | BV7: 42837 | BW7: 42838 | BX7: 42839 | BY7: 42842 | BZ7: 42843 | CA7: 42844 | CB7: 42845 | CC7: 42846 | CD7: 42849 | CE7: 42850 | CF7: 42851 | CG7: 42852 | CH7: 42853 | CI7: 42856 | CJ7: 42857 | CK7: 42858 | CL7: 42859 | CM7: 42860 | CN7: 42863 | CO7: 42864 | CP7: 42865 | CQ7: 42866 | CR7: 42867 | CS7: 42870 | CT7: 42871 | CU7: 42872 | CV7: 42873 | CW7: 42874 | CX7: 42877 | CY7: 42878 | CZ7: 42879 | DA7: 42880 | DB7: 42881 | DC7: 42884 | DD7: 42885 | DE7: 42886 | DF7: 42887 | DG7: 42888 | DH7: 42891 | DI7: 42892 | DJ7: 42893 | DK7: 42894 | DL7: 42895 | DM7: 42898 | DN7: 42899 | DO7: 42900 | DP7: 42901 | DQ7: 42902 | DR7: 42905 | DS7: 42906 | DT7: 42907 | DU7: 42908 | DV7: 42909 | DW7: 42912 | DX7: 42913 | DY7: 42914 | DZ7: 42915 | EA7: 42916 | EC7: TOTAL | ED7: TOTAL
B8: =TEXT(B7,"jjj") -> lun | C8: =TEXT(C7,"jjj") -> mar | D8: =TEXT(D7,"jjj") -> mer | E8: =TEXT(E7,"jjj") -> jeu | F8: =TEXT(F7,"jjj") -> ven | G8: =TEXT(G7,"jjj") -> lun | H8: =TEXT(H7,"jjj") -> mar | I8: =TEXT(I7,"jjj") -> mer | ... EA8: =TEXT(EA7,"jjj") -> ven | EC8: RTT | ED8: CPN
A9: nathalie1 | B9: RRT | E9: RRL | N9: CP | T9: CP | Z9: RRT | AB9: RRL | EC9: =COUNTIF(B9:EA9,"RTT")+COUNTIF(B9:EA9,"RRT")+COUNTIF(B9:EA9,"RTL") -> 2 | ED9: =COUNTIF(B9:EA9,$ED$8)+COUNTIF(B9:EA9,divers!A22) -> 2
A10: nathalie2 | EC10: =COUNTIF(B10:EA10,"RTT")+COUNTIF(B10:EA10,"RRT")+COUNTIF(B10:EA10,"RTL") -> 0 | ED10: =COUNTIF(B10:EA10,$ED$8) -> 0
A11: nathalie3 | C11: T | EC11: =COUNTIF(B11:EA11,"RTT")+COUNTIF(B11:EA11,"RRT")+COUNTIF(B11:EA11,"RTL") -> 0 | ED11: =COUNTIF(B11:EA11,$ED$8) -> 0
A12: nathalie8 | EC12: =COUNTIF(B12:EA12,"RTT")+COUNTIF(B12:EA12,"RRT")+COUNTIF(B12:EA12,"RTL") -> 0 | ED12: =COUNTIF(B12:EA12,$ED$8) -> 0
A13: nathalie9 | B13: D | E13: D | G13: T | J13: rrt | N13: D | P13: T | R13: rtt | T13: D | Z13: D | AB13: D | EC13: =COUNTIF(B13:EA13,"RTT")+COUNTIF(B13:EA13,"RRT")+COUNTIF(B13:EA13,"RTL") -> 2 | ED13: =COUNTIF(B13:EA13,$ED$8) -> 0
A14: nathalie10 | EC14: =COUNTIF(B14:EA14,"RTT")+COUNTIF(B14:EA14,"RRT")+COUNTIF(B14:EA14,"RTL") -> 0 | ED14: =COUNTIF(B14:EA14,$ED$8) -> 0
A15: nathalie13 | EC15: =COUNTIF(B15:EA15,"RTT")+COUNTIF(B15:EA15,"RRT")+COUNTIF(B15:EA15,"RTL") -> 0 | ED15: =COUNTIF(B15:EA15,$ED$8) -> 0
A19: Mon besoin : les informations de planning sont saisies dans la feuille "2017" par les collaborateurs. les information de congés et de délégation de pouvoir sont de Nathalie 1 et 9 sont automatiquement reportées en feuille "abs et back-up". => l'idée est de permettre à l'assistante en cliquant sur un bouton, d'envoyer le mois de son choix de la feuille "abs et back-up" en pdf par mail au DG

Sheet abs et back-up
B2: 42737 | X2: 42767 | AR2: 42795 | BO2: 42828 | CI2: 42856 | DF2: 42887 | EB2: 42919 | EW2: 42948 | FT2: 42979 | GO2: 43010 | HK2: 43040 | IG2: 43070
B3: 42737 | C3: 42738 | D3: 42739 | E3: 42740 | F3: 42741 | G3: 42744 | H3: 42745 | I3: 42746 | J3: 42747 | K3: 42748 | L3: 42751 | M3: 42752 | N3: 42753 | O3: 42754 | P3: 42755 | Q3: 42758 | R3: 42759 | S3: 42760 | T3: 42761 | U3: 42762 | V3: 42765 | W3: 42766 | X3: 42767 | Y3: 42768 | Z3: 42769 | AA3: 42772 | AB3: 42773 | AC3: 42774 | AD3: 42775 | AE3: 42776 | AF3: 42779 | AG3: 42780 | AH3: 42781 | AI3: 42782 | AJ3: 42783 | AK3: 42786 | AL3: 42787 | AM3: 42788 | AN3: 42789 | AO3: 42790 | AP3: 42793 | AQ3: 42794 | AR3: 42795 | AS3: 42796 | AT3: 42797 | AU3: 42800 | AV3: 42801 | AW3: 42802 | AX3: 42803 | AY3: 42804 | AZ3: 42807 | BA3: 42808 | BB3: 42809 | BC3: 42810 | BD3: 42811 | BE3: 42814 | BF3: 42815 | BG3: 42816 | BH3: 42817 | BI3: 42818 | BJ3: 42821 | BK3: 42822 | BL3: 42823 | BM3: 42824 | BN3: 42825 | BO3: 42828 | BP3: 42829 | BQ3: 42830 | BR3: 42831 | BS3: 42832 | BT3: 42835 | BU3: 42836 | BV3: 42837 | BW3: 42838 | BX3: 42839 | BY3: 42842 | BZ3: 42843 | CA3: 42844 | CB3: 42845 | CC3: 42846 | CD3: 42849 | CE3: 42850 | CF3: 42851 | CG3: 42852 | CH3: 42853 | CI3: 42856 | CJ3: 42857 | CK3: 42858 | CL3: 42859 | CM3: 42860 | CN3: 42863 | CO3: 42864 | CP3: 42865 | CQ3: 42866 | CR3: 42867 | CS3: 42870 | CT3: 42871 | CU3: 42872 | CV3: 42873 | CW3: 42874 | CX3: 42877 | CY3: 42878 | CZ3: 42879 | DA3: 42880 | DB3: 42881 | DC3: 42884 | DD3: 42885 | DE3: 42886 | DF3: 42887 | DG3: 42888 | DH3: 42891 | DI3: 42892 | DJ3: 42893 | DK3: 42894 | DL3: 42895 | DM3: 42898 | DN3: 42899 | DO3: 42900 | DP3: 42901 | DQ3: 42902 | DR3: 42905 | DS3: 42906 | DT3: 42907 | DU3: 42908 | DV3: 42909 | DW3: 42912 | DX3: 42913 | DY3: 42914 | DZ3: 42915 | EA3: 42916 | EB3: 42919 | EC3: 42920 | ED3: 42921 | EE3: 42922 | EF3: 42923 | EG3: 42926 | EH3: 42927 | EI3: 42928 | EJ3: 42929 | EK3: 42930 | EL3: 42933 | EM3: 42934 | EN3: 42935 | EO3: 42936 | EP3: 42937 | EQ3: 42940 | ER3: 42941 | ES3: 42942 | ET3: 42943 | EU3: 42944 | EV3: 42947 | EW3: 42948 | EX3: 42949 | EY3: 42950 | EZ3: 42951 | FA3: 42954 | FB3: 42955 | FC3: 42956 | FD3: 42957 | FE3: 42958 | FF3: 42961 | FG3: 42962 | FH3: 42963 | FI3: 42964 | FJ3: 42965 | FK3: 42968 | FL3: 42969 | FM3: 42970 | FN3: 42971 | FO3: 42972 | FP3: 42975 | FQ3: 42976 | FR3: 42977 | FS3: 42978 | FT3: 42979 | FU3: 42982 | FV3: 42983 | FW3: 42984 | FX3: 42985 | FY3: 42986 | FZ3: 42989 | GA3: 42990 | GB3: 42991 | GC3: 42992 | GD3: 42993 | GE3: 42996 | GF3: 42997 | GG3: 42998 | GH3: 42999 | GI3: 43000 | GJ3: 43003 | GK3: 43004 | GL3: 43005 | GM3: 43006 | GN3: 43007 | GO3: 43010 | GP3: 43011 | GQ3: 43012 | GR3: 43013 | GS3: 43014 | GT3: 43017 | GU3: 43018 | GV3: 43019 | GW3: 43020 | GX3: 43021 | GY3: 43024 | GZ3: 43025 | HA3: 43026 | HB3: 43027 | HC3: 43028 | HD3: 43031 | HE3: 43032 | HF3: 43033 | HG3: 43034 | HH3: 43035 | HI3: 43038 | HJ3: 43039 | HK3: 43040 | HL3: 43041 | HM3: 43042 | HN3: 43045 | HO3: 43046 | HP3: 43047 | HQ3: 43048 | HR3: 43049 | HS3: 43052 | HT3: 43053 | HU3: 43054 | HV3: 43055 | HW3: 43056 | HX3: 43059 | HY3: 43060 | HZ3: 43061 | IA3: 43062 | IB3: 43063 | IC3: 43066 | ID3: 43067 | IE3: 43068 | IF3: 43069 | IG3: 43070 | IH3: 43073 | II3: 43074 | IJ3: 43075 | IK3: 43076 | IL3: 43077 | IM3: 43080 | IN3: 43081 | IO3: 43082 | IP3: 43083 | IQ3: 43084 | IR3: 43087 | IS3: 43088 | IT3: 43089 | IU3: 43090 | IV3: 43091 | IW3: 43094 | IX3: 43095 | IY3: 43096 | IZ3: 43097 | JA3: 43098
B4: =TEXT(B3,"jjj") -> lun | C4: =TEXT(C3,"jjj") -> mar | D4: =TEXT(D3,"jjj") -> mer | E4: =TEXT(E3,"jjj") -> jeu | F4: =TEXT(F3,"jjj") -> ven | G4: =TEXT(G3,"jjj") -> lun | H4: =TEXT(H3,"jjj") -> mar | I4: =TEXT(I3,"jjj") -> mer | ... JA4: =TEXT(JA3,"jjj") -> ven
A5: Nathalie 1 | B5: =IF(OR('2017'!B9=divers!$A$3,'2017'!B9=divers!$A$4,'2017'!B9=divers!$A$5,'2017'!B9=divers!$A$6,'2017'!B9=divers!$A$7,'2017'!B9=divers!$A$8,'2017'!B9=divers!$A$9,'2017'!B9=divers!$A$10,'2017'!B9=divers!$A$11,'2017'!B9=divers!$A$12,'2017'!B9=divers!$A$13,'2017'!B9=divers!$A$14,'2017'!B9=divers!$A$15,'2017'!B9=divers!$A$16,'2017'!B9=divers!$A$17,'2017'!B9=divers!$A$18,'2017'!B9=divers!$A$19,'2017'!B9=divers!$A$20,'2017'!B9=divers!$A$21,'2017'!B9=divers!$A$22,'2017'!B9=divers!$A$23,'2017'!B9=divers!$A$24,'2017'!B9=divers!$A$25,'2017'!B9=divers!$A$26),1,"") -> 1 | C5: =IF(OR('2017'!C9=divers!$A$3,'2017'!C9=divers!$A$4,'2017'!C9=divers!$A$5,'2017'!C9=divers!$A$6,'2017'!C9=divers!$A$7,'2017'!C9=divers!$A$8,'2017'!C9=divers!$A$9,'2017'!C9=divers!$A$10,'2017'!C9=divers!$A$11,'2017'!C9=divers!$A$12,'2017'!C9=divers!$A$13,'2017'!C9=divers!$A$14,'2017'!C9=divers!$A$15,'2017'!C9=divers!$A$16,'2017'!C9=divers!$A$17,'2017'!C9=divers!$A$18,'2017'!C9=divers!$A$19,'2017'!C9=divers!$A$20,'2017'!C9=divers!$A$21,'2017'!C9=divers!$A$22,'2017'!C9=divers!$A$23,'2017'!C9=divers!$A$24,'2017'!C9=divers!$A$25,'2017'!C9=divers!$A$26),1,"") | D5: =IF(OR('2017'!D9=divers!$A$3,'2017'!D9=divers!$A$4,'2017'!D9=divers!$A$5,'2017'!D9=divers!$A$6,'2017'!D9=divers!$A$7,'2017'!D9=divers!$A$8,'2017'!D9=divers!$A$9,'2017'!D9=divers!$A$10,'2017'!D9=divers!$A$11,'2017'!D9=divers!$A$12,'2017'!D9=divers!$A$13,'2017'!D9=divers!$A$14,'2017'!D9=divers!$A$15,'2017'!D9=divers!$A$16,'2017'!D9=divers!$A$17,'2017'!D9=divers!$A$18,'2017'!D9=divers!$A$19,'2017'!D9=divers!$A$20,'2017'!D9=divers!$A$21,'2017'!D9=divers!$A$22,'2017'!D9=divers!$A$23,'2017'!D9=divers!$A$24,'2017'!D9=divers!$A$25,'2017'!D9=divers!$A$26),1,"") | E5: =IF(OR('2017'!E9=divers!$A$3,'2017'!E9=divers!$A$4,'2017'!E9=divers!$A$5,'2017'!E9=divers!$A$6,'2017'!E9=divers!$A$7,'2017'!E9=divers!$A$8,'2017'!E9=divers!$A$9,'2017'!E9=divers!$A$10,'2017'!E9=divers!$A$11,'2017'!E9=divers!$A$12,'2017'!E9=divers!$A$13,'2017'!E9=divers!$A$14,'2017'!E9=divers!$A$15,'2017'!E9=divers!$A$16,'2017'!E9=divers!$A$17,'2017'!E9=divers!$A$18,'2017'!E9=divers!$A$19,'2017'!E9=divers!$A$20,'2017'!E9=divers!$A$21,'2017'!E9=divers!$A$22,'2017'!E9=divers!$A$23,'2017'!E9=divers!$A$24,'2017'!E9=divers!$A$25,'2017'!E9=divers!$A$26),1,"") -> 1 | F5: =IF(OR('2017'!F9=divers!$A$3,'2017'!F9=divers!$A$4,'2017'!F9=divers!$A$5,'2017'!F9=divers!$A$6,'2017'!F9=divers!$A$7,'2017'!F9=divers!$A$8,'2017'!F9=divers!$A$9,'2017'!F9=divers!$A$10,'2017'!F9=divers!$A$11,'2017'!F9=divers!$A$12,'2017'!F9=divers!$A$13,'2017'!F9=divers!$A$14,'2017'!F9=divers!$A$15,'2017'!F9=divers!$A$16,'2017'!F9=divers!$A$17,'2017'!F9=divers!$A$18,'2017'!F9=divers!$A$19,'2017'!F9=divers!$A$20,'2017'!F9=divers!$A$21,'2017'!F9=divers!$A$22,'2017'!F9=divers!$A$23,'2017'!F9=divers!$A$24,'2017'!F9=divers!$A$25,'2017'!F9=divers!$A$26),1,"") | G5: =IF(OR('2017'!G9=divers!$A$3,'2017'!G9=divers!$A$4,'2017'!G9=divers!$A$5,'2017'!G9=divers!$A$6,'2017'!G9=divers!$A$7,'2017'!G9=divers!$A$8,'2017'!G9=divers!$A$9,'2017'!G9=divers!$A$10,'2017'!G9=divers!$A$11,'2017'!G9=divers!$A$12,'2017'!G9=divers!$A$13,'2017'!G9=divers!$A$14,'2017'!G9=divers!$A$15,'2017'!G9=divers!$A$16,'2017'!G9=divers!$A$17,'2017'!G9=divers!$A$18,'2017'!G9=divers!$A$19,'2017'!G9=divers!$A$20,'2017'!G9=divers!$A$21,'2017'!G9=divers!$A$22,'2017'!G9=divers!$A$23,'2017'!G9=divers!$A$24,'2017'!G9=divers!$A$25,'2017'!G9=divers!$A$26),1,"") | H5: =IF(OR('2017'!H9=divers!$A$3,'2017'!H9=divers!$A$4,'2017'!H9=divers!$A$5,'2017'!H9=divers!$A$6,'2017'!H9=divers!$A$7,'2017'!H9=divers!$A$8,'2017'!H9=divers!$A$9,'2017'!H9=divers!$A$10,'2017'!H9=divers!$A$11,'2017'!H9=divers!$A$12,'2017'!H9=divers!$A$13,'2017'!H9=divers!$A$14,'2017'!H9=divers!$A$15,'2017'!H9=divers!$A$16,'2017'!H9=divers!$A$17,'2017'!H9=divers!$A$18,'2017'!H9=divers!$A$19,'2017'!H9=divers!$A$20,'2017'!H9=divers!$A$21,'2017'!H9=divers!$A$22,'2017'!H9=divers!$A$23,'2017'!H9=divers!$A$24,'2017'!H9=divers!$A$25,'2017'!H9=divers!$A$26),1,"") | I5: =IF(OR('2017'!I9=divers!$A$3,'2017'!I9=divers!$A$4,'2017'!I9=divers!$A$5,'2017'!I9=divers!$A$6,'2017'!I9=divers!$A$7,'2017'!I9=divers!$A$8,'2017'!I9=divers!$A$9,'2017'!I9=divers!$A$10,'2017'!I9=divers!$A$11,'2017'!I9=divers!$A$12,'2017'!I9=divers!$A$13,'2017'!I9=divers!$A$14,'2017'!I9=divers!$A$15,'2017'!I9=divers!$A$16,'2017'!I9=divers!$A$17,'2017'!I9=divers!$A$18,'2017'!I9=divers!$A$19,'2017'!I9=divers!$A$20,'2017'!I9=divers!$A$21,'2017'!I9=divers!$A$22,'2017'!I9=divers!$A$23,'2017'!I9=divers!$A$24,'2017'!I9=divers!$A$25,'2017'!I9=divers!$A$26),1,"") | ... EA5: =IF(OR('2017'!EA9=divers!$A$3,'2017'!EA9=divers!$A$4,'2017'!EA9=divers!$A$5,'2017'!EA9=divers!$A$6,'2017'!EA9=divers!$A$7,'2017'!EA9=divers!$A$8,'2017'!EA9=divers!$A$9,'2017'!EA9=divers!$A$10,'2017'!EA9=divers!$A$11,'2017'!EA9=divers!$A$12,'2017'!EA9=divers!$A$13,'2017'!EA9=divers!$A$14,'2017'!EA9=divers!$A$15,'2017'!EA9=divers!$A$16,'2017'!EA9=divers!$A$17,'2017'!EA9=divers!$A$18,'2017'!EA9=divers!$A$19,'2017'!EA9=divers!$A$20,'2017'!EA9=divers!$A$21,'2017'!EA9=divers!$A$22,'2017'!EA9=divers!$A$23,'2017'!EA9=divers!$A$24,'2017'!EA9=divers!$A$25,'2017'!EA9=divers!$A$26),1,"") | EB5: =IF(OR('2017'!#REF!=divers!$A$3,'2017'!#REF!=divers!$A$4,'2017'!#REF!=divers!$A$5,'2017'!#REF!=divers!$A$6,'2017'!#REF!=divers!$A$7,'2017'!#REF!=divers!$A$8,'2017'!#REF!=divers!$A$9,'2017'!#REF!=divers!$A$10,'2017'!#REF!=divers!$A$11,'2017'!#REF!=divers!$A$12,'2017'!#REF!=divers!$A$13,'2017'!#REF!=divers!$A$14,'2017'!#REF!=divers!$A$15,'2017'!#REF!=divers!$A$16,'2017'!#REF!=divers!$A$17,'2017'!#REF!=divers!$A$18,'2017'!#REF!=divers!$A$19,'2017'!#REF!=divers!$A$20,'2017'!#REF!=divers!$A$21,'2017'!#REF!=divers!$A$22,'2017'!#REF!=divers!$A$23,'2017'!#REF!=divers!$A$24,'2017'!#REF!=divers!$A$25,'2017'!#REF!=divers!$A$26),1,"") -> #REF! | EC5: =IF(OR('2017'!#REF!=divers!$A$3,'2017'!#REF!=divers!$A$4,'2017'!#REF!=divers!$A$5,'2017'!#REF!=divers!$A$6,'2017'!#REF!=divers!$A$7,'2017'!#REF!=divers!$A$8,'2017'!#REF!=divers!$A$9,'2017'!#REF!=divers!$A$10,'2017'!#REF!=divers!$A$11,'2017'!#REF!=divers!$A$12,'2017'!#REF!=divers!$A$13,'2017'!#REF!=divers!$A$14,'2017'!#REF!=divers!$A$15,'2017'!#REF!=divers!$A$16,'2017'!#REF!=divers!$A$17,'2017'!#REF!=divers!$A$18,'2017'!#REF!=divers!$A$19,'2017'!#REF!=divers!$A$20,'2017'!#REF!=divers!$A$21,'2017'!#REF!=divers!$A$22,'2017'!#REF!=divers!$A$23,'2017'!#REF!=divers!$A$24,'2017'!#REF!=divers!$A$25,'2017'!#REF!=divers!$A$26),1,"") -> #REF! | ED5: =IF(OR('2017'!#REF!=divers!$A$3,'2017'!#REF!=divers!$A$4,'2017'!#REF!=divers!$A$5,'2017'!#REF!=divers!$A$6,'2017'!#REF!=divers!$A$7,'2017'!#REF!=divers!$A$8,'2017'!#REF!=divers!$A$9,'2017'!#REF!=divers!$A$10,'2017'!#REF!=divers!$A$11,'2017'!#REF!=divers!$A$12,'2017'!#REF!=divers!$A$13,'2017'!#REF!=divers!$A$14,'2017'!#REF!=divers!$A$15,'2017'!#REF!=divers!$A$16,'2017'!#REF!=divers!$A$17,'2017'!#REF!=divers!$A$18,'2017'!#REF!=divers!$A$19,'2017'!#REF!=divers!$A$20,'2017'!#REF!=divers!$A$21,'2017'!#REF!=divers!$A$22,'2017'!#REF!=divers!$A$23,'2017'!#REF!=divers!$A$24,'2017'!#REF!=divers!$A$25,'2017'!#REF!=divers!$A$26),1,"") -> #REF! | EE5: =IF(OR('2017'!#REF!=divers!$A$3,'2017'!#REF!=divers!$A$4,'2017'!#REF!=divers!$A$5,'2017'!#REF!=divers!$A$6,'2017'!#REF!=divers!$A$7,'2017'!#REF!=divers!$A$8,'2017'!#REF!=divers!$A$9,'2017'!#REF!=divers!$A$10,'2017'!#REF!=divers!$A$11,'2017'!#REF!=divers!$A$12,'2017'!#REF!=divers!$A$13,'2017'!#REF!=divers!$A$14,'2017'!#REF!=divers!$A$15,'2017'!#REF!=divers!$A$16,'2017'!#REF!=divers!$A$17,'2017'!#REF!=divers!$A$18,'2017'!#REF!=divers!$A$19,'2017'!#REF!=divers!$A$20,'2017'!#REF!=divers!$A$21,'2017'!#REF!=divers!$A$22,'2017'!#REF!=divers!$A$23,'2017'!#REF!=divers!$A$24,'2017'!#REF!=divers!$A$25,'2017'!#REF!=divers!$A$26),1,"") -> #REF! | EF5: =IF(OR('2017'!#REF!=divers!$A$3,'2017'!#REF!=divers!$A$4,'2017'!#REF!=divers!$A$5,'2017'!#REF!=divers!$A$6,'2017'!#REF!=divers!$A$7,'2017'!#REF!=divers!$A$8,'2017'!#REF!=divers!$A$9,'2017'!#REF!=divers!$A$10,'2017'!#REF!=divers!$A$11,'2017'!#REF!=divers!$A$12,'2017'!#REF!=divers!$A$13,'2017'!#REF!=divers!$A$14,'2017'!#REF!=divers!$A$15,'2017'!#REF!=divers!$A$16,'2017'!#REF!=divers!$A$17,'2017'!#REF!=divers!$A$18,'2017'!#REF!=divers!$A$19,'2017'!#REF!=divers!$A$20,'2017'!#REF!=divers!$A$21,'2017'!#REF!=divers!$A$22,'2017'!#REF!=divers!$A$23,'2017'!#REF!=divers!$A$24,'2017'!#REF!=divers!$A$25,'2017'!#REF!=divers!$A$26),1,"") -> #REF! | EG5: =IF(OR('2017'!#REF!=divers!$A$3,'2017'!#REF!=divers!$A$4,'2017'!#REF!=divers!$A$5,'2017'!#REF!=divers!$A$6,'2017'!#REF!=divers!$A$7,'2017'!#REF!=divers!$A$8,'2017'!#REF!=divers!$A$9,'2017'!#REF!=divers!$A$10,'2017'!#REF!=divers!$A$11,'2017'!#REF!=divers!$A$12,'2017'!#REF!=divers!$A$13,'2017'!#REF!=divers!$A$14,'2017'!#REF!=divers!$A$15,'2017'!#REF!=divers!$A$16,'2017'!#REF!=divers!$A$17,'2017'!#REF!=divers!$A$18,'2017'!#REF!=divers!$A$19,'2017'!#REF!=divers!$A$20,'2017'!#REF!=divers!$A$21,'2017'!#REF!=divers!$A$22,'2017'!#REF!=divers!$A$23,'2017'!#REF!=divers!$A$24,'2017'!#REF!=divers!$A$25,'2017'!#REF!=divers!$A$26),1,"") -> #REF! | EH5: =IF(OR('2017'!#REF!=divers!$A$3,'2017'!#REF!=divers!$A$4,'2017'!#REF!=divers!$A$5,'2017'!#REF!=divers!$A$6,'2017'!#REF!=divers!$A$7,'2017'!#REF!=divers!$A$8,'2017'!#REF!=divers!$A$9,'2017'!#REF!=divers!$A$10,'2017'!#REF!=divers!$A$11,'2017'!#REF!=divers!$A$12,'2017'!#REF!=divers!$A$13,'2017'!#REF!=divers!$A$14,'2017'!#REF!=divers!$A$15,'2017'!#REF!=divers!$A$16,'2017'!#REF!=divers!$A$17,'2017'!#REF!=divers!$A$18,'2017'!#REF!=divers!$A$19,'2017'!#REF!=divers!$A$20,'2017'!#REF!=divers!$A$21,'2017'!#REF!=divers!$A$22,'2017'!#REF!=divers!$A$23,'2017'!#REF!=divers!$A$24,'2017'!#REF!=divers!$A$25,'2017'!#REF!=divers!$A$26),1,"") -> #REF! | EI5: =IF(OR('2017'!#REF!=divers!$A$3,'2017'!#REF!=divers!$A$4,'2017'!#REF!=divers!$A$5,'2017'!#REF!=divers!$A$6,'2017'!#REF!=divers!$A$7,'2017'!#REF!=divers!$A$8,'2017'!#REF!=divers!$A$9,'2017'!#REF!=divers!$A$10,'2017'!#REF!=divers!$A$11,'2017'!#REF!=divers!$A$12,'2017'!#REF!=divers!$A$13,'2017'!#REF!=divers!$A$14,'2017'!#REF!=divers!$A$15,'2017'!#REF!=divers!$A$16,'2017'!#REF!=divers!$A$17,'2017'!#REF!=divers!$A$18,'2017'!#REF!=divers!$A$19,'2017'!#REF!=divers!$A$20,'2017'!#REF!=divers!$A$21,'2017'!#REF!=divers!$A$22,'2017'!#REF!=divers!$A$23,'2017'!#REF!=divers!$A$24,'2017'!#REF!=divers!$A$25,'2017'!#REF!=divers!$A$26),1,"") -> #REF! | ... JA5: =IF(OR('2017'!#REF!=divers!$A$3,'2017'!#REF!=divers!$A$4,'2017'!#REF!=divers!$A$5,'2017'!#REF!=divers!$A$6,'2017'!#REF!=divers!$A$7,'2017'!#REF!=divers!$A$8,'2017'!#REF!=divers!$A$9,'2017'!#REF!=divers!$A$10,'2017'!#REF!=divers!$A$11,'2017'!#REF!=divers!$A$12,'2017'!#REF!=divers!$A$13,'2017'!#REF!=divers!$A$14,'2017'!#REF!=divers!$A$15,'2017'!#REF!=divers!$A$16,'2017'!#REF!=divers!$A$17,'2017'!#REF!=divers!$A$18,'2017'!#REF!=divers!$A$19,'2017'!#REF!=divers!$A$20,'2017'!#REF!=divers!$A$21,'2017'!#REF!=divers!$A$22,'2017'!#REF!=divers!$A$23,'2017'!#REF!=divers!$A$24,'2017'!#REF!=divers!$A$25,'2017'!#REF!=divers!$A$26),1,"") -> #REF!
A6: Nathalie 9 | B6: =IF('2017'!B13="D","D","") -> D | C6: =IF('2017'!C13="D","D","") | D6: =IF('2017'!D13="D","D","") | E6: =IF('2017'!E13="D","D","") -> D | F6: =IF('2017'!F13="D","D","") | G6: =IF('2017'!G13="D","D","") | H6: =IF('2017'!H13="D","D","") | I6: =IF('2017'!I13="D","D","") | ... EA6: =IF('2017'!EA13="D","D","") | EB6: =IF('2017'!#REF!="D","D","") -> #REF! | EC6: =IF('2017'!#REF!="D","D","") -> #REF! | ED6: =IF('2017'!#REF!="D","D","") -> #REF! | EE6: =IF('2017'!#REF!="D","D","") -> #REF! | EF6: =IF('2017'!#REF!="D","D","") -> #REF! | EG6: =IF('2017'!#REF!="D","D","") -> #REF! | EH6: =IF('2017'!#REF!="D","D","") -> #REF! | EI6: =IF('2017'!#REF!="D","D","") -> #REF! | ... JA6: =IF('2017'!#REF!="D","D","") -> #REF!
A9: choisir mois à envoyer:
A10: janvier

Sheet divers
A3: AHV | B3: Absence Horaire Variable (doit être pris obligatoirement par ½ journée) | H3: Absence du Directeur PV-IM > Transfert de responsabilité PV-IM | U3: D | W3: Délégation Directeur PV IM
A4: CAN | B4: Congé d’Ancienneté
A5: CPN | B5: Congés payés normaux
A6: CSS | B6: Congé sans solde (peut être pris par 1/2 journée ou journée complète) | F6: Noms | I6: S. Bourne | P6: S. Norindr | W6: T. Tran
A7: DMN | B7: Déménagement (à partir d’un an d’ancienneté) | I7: Pharmacien Responsable | P7: Directeur Pharmacovigilance | W7: Responsable Unité
A8: DPP | B8: Déplacement (peut être pris par 1/2 journée ou journée complète) (indiquer sur la fiche HV le lieu du déplacement pour ajout d’un forfait de 2 heures les premier et dernier jour) | I8: Tél. : 06.30.29.64.75 | P8: & Information Médicale | W8: Information Médicale
A9: EVF | B9: Congé Événement Familial | P9: Tél. : 06.07.10.26.52 | W9: Tél. : 06.12.50.11.70
A10: FOS | B10: Formation Externe (peut être pris par 1/2 journée ou journée complète) | F10: Visa
A11: MAE | B11: Mariage Enfant
A12: MAR | B12: Mariage du collaborateur BIF
A13: MEN | B13: Maladie Enfant (peut être pris par 1/2 journée ou journée complète
A14: NAI | B14: Congé Naissance | JC14: Suivi congés posés
A15: RCP | B15: Repos Compensateur (peut être pris par 1/2 journée ou journée complète)
A16: RCN | B16: Repos Compensateur de nuit (peut être pris par 1/2 journée ou journée complète) | E16: janvier
A17: REC | B17: Récupération (peut être pris par ½ journée ou journée complète) | E17: février
A18: RRL | B18: Jartt Libre | E18: mars
A19: RRP | B19: Récupération Relations Publiques | E19: avril
A20: RRT | B20: Jartt | E20: mai
A21: RTT | E21: juin
A22: CP | E22: juillet
A23: REI | B23: Réunion Initiative DZ | E23: août
A24: RER | B24: Réunion Régionale | E24: septembre
A25: RTP | B25: Récupération Temps Partiel | E25: octobre
A26: RCO | B26: Réunion Congrès | E26: novembre
E27: décembre
