Workbook
Name DCThreshold: Analysis!$B$5

Sheet Analysis
A1: Direction Changes | F1: Sum
E2: =AVERAGE(C7:C35) -> 18105.121 | F2: mean | J2: OSV Min | K2: =MIN(K7:K100035) -> 0
E3: =STDEV(C7:C35) -> 0.79479526 | F3: stdv | J3: OSV Max | K3: =MAX(K7:K35) -> 0
B4: DC Threshold | E4: =MAX(C7:C35) -> 18106.1 | F4: max
B5: 0.0001 | C5: =E2*DCThreshold -> 1.8105121 | E5: =MIN(C7:C35) -> 18103 | F5: Min
A6: Time | B6: Date | C6: US30USD | D6: Trend | E6: Hi | F6: Lo | G6: DC up | H6: DC down | I6: EXT | J6: Change in terms of Threshold | K6: OSV | L6: b | M6: s | N6: pb | O6: ps | P6: B/S | Q6: Price
A7: =Data!B1 -> 0.21666667 | B7: =Data!A1 -> 2016.10.18 | C7: =Data!C1 -> 18104.85 | D7: 0 | E7: =C7 -> 18104.85 | F7: =C7 -> 18104.85 | G7: =IF(D7=1,0,IF((C7-F7)/F7>=DCThreshold,1,0)) -> 0 | H7: =IF(D7=-1,0,IF((E7-C7)/E7>=DCThreshold,1,0)) -> 0 | I7: =C7 -> 18104.85 | J7: =TRUNC(((C7-I7)/I7)/DCThreshold,0) -> 0 | K7: =IF(J7>0,J7-1,IF(J7<0,J7+1,J7)) -> 0 | L7: =IF(G7=1,"b","") | M7: =IF(H7=1,"s","") | N7: =IF(L7="",0,C7) -> 0 | O7: =IF(M7="",0,C7) -> 0 | P7: s | Q7: 18103.25
A8: =Data!B2 -> 0.21736111 | B8: =Data!A2 -> 2016.10.18 | C8: =Data!C2 -> 18105.35 | D8: =IF(G7=1,1,IF(H7=1,-1,D7)) -> 0 | E8: =IF(G7=1,MAX(C7,C8),MAX(E7,C8)) -> 18105.35 | F8: =IF(H7=1,MIN(C7,C8),MIN(F7,C8)) -> 18104.85 | G8: =IF(D8=1,0,IF((C8-F8)/F8>=DCThreshold,1,0)) -> 0 | H8: =IF(D8=-1,0,IF((E8-C8)/E8>=DCThreshold,1,0)) -> 0 | I8: =IF(G8=1,F8,IF(H8=1,E8,I7)) -> 18104.85 | J8: =TRUNC(((C8-I8)/I8)/DCThreshold,0) -> 0 | K8: =IF(J8>0,J8-1,IF(J8<0,J8+1,J8)) -> 0 | L8: =IF(G8=1,"b","") | M8: =IF(H8=1,"s","") | N8: =IF(L8="",0,C8) -> 0 | O8: =IF(M8="",0,C8) -> 0 | P8: b | Q8: 18104.95
A9: =Data!B3 -> 0.21805556 | B9: =Data!A3 -> 2016.10.18 | C9: =Data!C3 -> 18105.3 | D9: =IF(G8=1,1,IF(H8=1,-1,D8)) -> 0 | E9: =IF(G8=1,MAX(C8,C9),MAX(E8,C9)) -> 18105.35 | F9: =IF(H8=1,MIN(C8,C9),MIN(F8,C9)) -> 18104.85 | G9: =IF(D9=1,0,IF((C9-F9)/F9>=DCThreshold,1,0)) -> 0 | H9: =IF(D9=-1,0,IF((E9-C9)/E9>=DCThreshold,1,0)) -> 0 | I9: =IF(G9=1,F9,IF(H9=1,E9,I8)) -> 18104.85 | J9: =TRUNC(((C9-I9)/I9)/DCThreshold,0) -> 0 | K9: =IF(J9>0,J9-1,IF(J9<0,J9+1,J9)) -> 0 | L9: =IF(G9=1,"b","") | M9: =IF(H9=1,"s","") | N9: =IF(L9="",0,C9) -> 0 | O9: =IF(M9="",0,C9) -> 0 | P9: s | Q9: 18104.45
A10: =Data!B4 -> 0.21875 | B10: =Data!A4 -> 2016.10.18 | C10: =Data!C4 -> 18105.45 | D10: =IF(G9=1,1,IF(H9=1,-1,D9)) -> 0 | E10: =IF(G9=1,MAX(C9,C10),MAX(E9,C10)) -> 18105.45 | F10: =IF(H9=1,MIN(C9,C10),MIN(F9,C10)) -> 18104.85 | G10: =IF(D10=1,0,IF((C10-F10)/F10>=DCThreshold,1,0)) -> 0 | H10: =IF(D10=-1,0,IF((E10-C10)/E10>=DCThreshold,1,0)) -> 0 | I10: =IF(G10=1,F10,IF(H10=1,E10,I9)) -> 18104.85 | J10: =TRUNC(((C10-I10)/I10)/DCThreshold,0) -> 0 | K10: =IF(J10>0,J10-1,IF(J10<0,J10+1,J10)) -> 0 | L10: =IF(G10=1,"b","") | M10: =IF(H10=1,"s","") | N10: =IF(L10="",0,C10) -> 0 | O10: =IF(M10="",0,C10) -> 0 | P10: b | Q10: 18105.95
A11: =Data!B5 -> 0.21944444 | B11: =Data!A5 -> 2016.10.18 | C11: =Data!C5 -> 18105.75 | D11: =IF(G10=1,1,IF(H10=1,-1,D10)) -> 0 | E11: =IF(G10=1,MAX(C10,C11),MAX(E10,C11)) -> 18105.75 | F11: =IF(H10=1,MIN(C10,C11),MIN(F10,C11)) -> 18104.85 | G11: =IF(D11=1,0,IF((C11-F11)/F11>=DCThreshold,1,0)) -> 0 | H11: =IF(D11=-1,0,IF((E11-C11)/E11>=DCThreshold,1,0)) -> 0 | I11: =IF(G11=1,F11,IF(H11=1,E11,I10)) -> 18104.85 | J11: =TRUNC(((C11-I11)/I11)/DCThreshold,0) -> 0 | K11: =IF(J11>0,J11-1,IF(J11<0,J11+1,J11)) -> 0 | L11: =IF(G11=1,"b","") | M11: =IF(H11=1,"s","") | N11: =IF(L11="",0,C11) -> 0 | O11: =IF(M11="",0,C11) -> 0
A12: =Data!B6 -> 0.22013889 | B12: =Data!A6 -> 2016.10.18 | C12: =Data!C6 -> 18105.7 | D12: =IF(G11=1,1,IF(H11=1,-1,D11)) -> 0 | E12: =IF(G11=1,MAX(C11,C12),MAX(E11,C12)) -> 18105.75 | F12: =IF(H11=1,MIN(C11,C12),MIN(F11,C12)) -> 18104.85 | G12: =IF(D12=1,0,IF((C12-F12)/F12>=DCThreshold,1,0)) -> 0 | H12: =IF(D12=-1,0,IF((E12-C12)/E12>=DCThreshold,1,0)) -> 0 | I12: =IF(G12=1,F12,IF(H12=1,E12,I11)) -> 18104.85 | J12: =TRUNC(((C12-I12)/I12)/DCThreshold,0) -> 0 | K12: =IF(J12>0,J12-1,IF(J12<0,J12+1,J12)) -> 0 | L12: =IF(G12=1,"b","") | M12: =IF(H12=1,"s","") | N12: =IF(L12="",0,C12) -> 0 | O12: =IF(M12="",0,C12) -> 0
A13: =Data!B7 -> 0.22083333 | B13: =Data!A7 -> 2016.10.18 | C13: =Data!C7 -> 18105.05 | D13: =IF(G12=1,1,IF(H12=1,-1,D12)) -> 0 | E13: =IF(G12=1,MAX(C12,C13),MAX(E12,C13)) -> 18105.75 | F13: =IF(H12=1,MIN(C12,C13),MIN(F12,C13)) -> 18104.85 | G13: =IF(D13=1,0,IF((C13-F13)/F13>=DCThreshold,1,0)) -> 0 | H13: =IF(D13=-1,0,IF((E13-C13)/E13>=DCThreshold,1,0)) -> 0 | I13: =IF(G13=1,F13,IF(H13=1,E13,I12)) -> 18104.85 | J13: =TRUNC(((C13-I13)/I13)/DCThreshold,0) -> 0 | K13: =IF(J13>0,J13-1,IF(J13<0,J13+1,J13)) -> 0 | L13: =IF(G13=1,"b","") | M13: =IF(H13=1,"s","") | N13: =IF(L13="",0,C13) -> 0 | O13: =IF(M13="",0,C13) -> 0
A14: =Data!B8 -> 0.22152778 | B14: =Data!A8 -> 2016.10.18 | C14: =Data!C8 -> 18105.15 | D14: =IF(G13=1,1,IF(H13=1,-1,D13)) -> 0 | E14: =IF(G13=1,MAX(C13,C14),MAX(E13,C14)) -> 18105.75 | F14: =IF(H13=1,MIN(C13,C14),MIN(F13,C14)) -> 18104.85 | G14: =IF(D14=1,0,IF((C14-F14)/F14>=DCThreshold,1,0)) -> 0 | H14: =IF(D14=-1,0,IF((E14-C14)/E14>=DCThreshold,1,0)) -> 0 | I14: =IF(G14=1,F14,IF(H14=1,E14,I13)) -> 18104.85 | J14: =TRUNC(((C14-I14)/I14)/DCThreshold,0) -> 0 | K14: =IF(J14>0,J14-1,IF(J14<0,J14+1,J14)) -> 0 | L14: =IF(G14=1,"b","") | M14: =IF(H14=1,"s","") | N14: =IF(L14="",0,C14) -> 0 | O14: =IF(M14="",0,C14) -> 0
A15: =Data!B9 -> 0.22222222 | B15: =Data!A9 -> 2016.10.18 | C15: =Data!C9 -> 18103.25 | D15: =IF(G14=1,1,IF(H14=1,-1,D14)) -> 0 | E15: =IF(G14=1,MAX(C14,C15),MAX(E14,C15)) -> 18105.75 | F15: =IF(H14=1,MIN(C14,C15),MIN(F14,C15)) -> 18103.25 | G15: =IF(D15=1,0,IF((C15-F15)/F15>=DCThreshold,1,0)) -> 0 | H15: =IF(D15=-1,0,IF((E15-C15)/E15>=DCThreshold,1,0)) -> 1 | I15: =IF(G15=1,F15,IF(H15=1,E15,I14)) -> 18105.75 | J15: =TRUNC(((C15-I15)/I15)/DCThreshold,0) -> -1 | K15: =IF(J15>0,J15-1,IF(J15<0,J15+1,J15)) -> 0 | L15: =IF(G15=1,"b","") | M15: =IF(H15=1,"s","") -> s | N15: =IF(L15="",0,C15) -> 0 | O15: =IF(M15="",0,C15) -> 18103.25
A16: =Data!B10 -> 0.22291667 | B16: =Data!A10 -> 2016.10.18 | C16: =Data!C10 -> 18103 | D16: =IF(G15=1,1,IF(H15=1,-1,D15)) -> -1 | E16: =IF(G15=1,MAX(C15,C16),MAX(E15,C16)) -> 18105.75 | F16: =IF(H15=1,MIN(C15,C16),MIN(F15,C16)) -> 18103 | G16: =IF(D16=1,0,IF((C16-F16)/F16>=DCThreshold,1,0)) -> 0 | H16: =IF(D16=-1,0,IF((E16-C16)/E16>=DCThreshold,1,0)) -> 0 | I16: =IF(G16=1,F16,IF(H16=1,E16,I15)) -> 18105.75 | J16: =TRUNC(((C16-I16)/I16)/DCThreshold,0) -> -1 | K16: =IF(J16>0,J16-1,IF(J16<0,J16+1,J16)) -> 0 | L16: =IF(G16=1,"b","") | M16: =IF(H16=1,"s","") | N16: =IF(L16="",0,C16) -> 0 | O16: =IF(M16="",0,C16) -> 0
A17: =Data!B11 -> 0.22361111 | B17: =Data!A11 -> 2016.10.18 | C17: =Data!C11 -> 18104.4 | D17: =IF(G16=1,1,IF(H16=1,-1,D16)) -> -1 | E17: =IF(G16=1,MAX(C16,C17),MAX(E16,C17)) -> 18105.75 | F17: =IF(H16=1,MIN(C16,C17),MIN(F16,C17)) -> 18103 | G17: =IF(D17=1,0,IF((C17-F17)/F17>=DCThreshold,1,0)) -> 0 | H17: =IF(D17=-1,0,IF((E17-C17)/E17>=DCThreshold,1,0)) -> 0 | I17: =IF(G17=1,F17,IF(H17=1,E17,I16)) -> 18105.75 | J17: =TRUNC(((C17-I17)/I17)/DCThreshold,0) -> 0 | K17: =IF(J17>0,J17-1,IF(J17<0,J17+1,J17)) -> 0 | L17: =IF(G17=1,"b","") | M17: =IF(H17=1,"s","") | N17: =IF(L17="",0,C17) -> 0 | O17: =IF(M17="",0,C17) -> 0
A18: =Data!B12 -> 0.22430556 | B18: =Data!A12 -> 2016.10.18 | C18: =Data!C12 -> 18104.95 | D18: =IF(G17=1,1,IF(H17=1,-1,D17)) -> -1 | E18: =IF(G17=1,MAX(C17,C18),MAX(E17,C18)) -> 18105.75 | F18: =IF(H17=1,MIN(C17,C18),MIN(F17,C18)) -> 18103 | G18: =IF(D18=1,0,IF((C18-F18)/F18>=DCThreshold,1,0)) -> 1 | H18: =IF(D18=-1,0,IF((E18-C18)/E18>=DCThreshold,1,0)) -> 0 | I18: =IF(G18=1,F18,IF(H18=1,E18,I17)) -> 18103 | J18: =TRUNC(((C18-I18)/I18)/DCThreshold,0) -> 1 | K18: =IF(J18>0,J18-1,IF(J18<0,J18+1,J18)) -> 0 | L18: =IF(G18=1,"b","") -> b | M18: =IF(H18=1,"s","") | N18: =IF(L18="",0,C18) -> 18104.95 | O18: =IF(M18="",0,C18) -> 0
A19: =Data!B13 -> 0.225 | B19: =Data!A13 -> 2016.10.18 | C19: =Data!C13 -> 18105.25 | D19: =IF(G18=1,1,IF(H18=1,-1,D18)) -> 1 | E19: =IF(G18=1,MAX(C18,C19),MAX(E18,C19)) -> 18105.25 | F19: =IF(H18=1,MIN(C18,C19),MIN(F18,C19)) -> 18103 | G19: =IF(D19=1,0,IF((C19-F19)/F19>=DCThreshold,1,0)) -> 0 | H19: =IF(D19=-1,0,IF((E19-C19)/E19>=DCThreshold,1,0)) -> 0 | I19: =IF(G19=1,F19,IF(H19=1,E19,I18)) -> 18103 | J19: =TRUNC(((C19-I19)/I19)/DCThreshold,0) -> 1 | K19: =IF(J19>0,J19-1,IF(J19<0,J19+1,J19)) -> 0 | L19: =IF(G19=1,"b","") | M19: =IF(H19=1,"s","") | N19: =IF(L19="",0,C19) -> 0 | O19: =IF(M19="",0,C19) -> 0
A20: =Data!B14 -> 0.22569444 | B20: =Data!A14 -> 2016.10.18 | C20: =Data!C14 -> 18105.5 | D20: =IF(G19=1,1,IF(H19=1,-1,D19)) -> 1 | E20: =IF(G19=1,MAX(C19,C20),MAX(E19,C20)) -> 18105.5 | F20: =IF(H19=1,MIN(C19,C20),MIN(F19,C20)) -> 18103 | G20: =IF(D20=1,0,IF((C20-F20)/F20>=DCThreshold,1,0)) -> 0 | H20: =IF(D20=-1,0,IF((E20-C20)/E20>=DCThreshold,1,0)) -> 0 | I20: =IF(G20=1,F20,IF(H20=1,E20,I19)) -> 18103 | J20: =TRUNC(((C20-I20)/I20)/DCThreshold,0) -> 1 | K20: =IF(J20>0,J20-1,IF(J20<0,J20+1,J20)) -> 0 | L20: =IF(G20=1,"b","") | M20: =IF(H20=1,"s","") | N20: =IF(L20="",0,C20) -> 0 | O20: =IF(M20="",0,C20) -> 0
A21: =Data!B15 -> 0.22638889 | B21: =Data!A15 -> 2016.10.18 | C21: =Data!C15 -> 18105.15 | D21: =IF(G20=1,1,IF(H20=1,-1,D20)) -> 1 | E21: =IF(G20=1,MAX(C20,C21),MAX(E20,C21)) -> 18105.5 | F21: =IF(H20=1,MIN(C20,C21),MIN(F20,C21)) -> 18103 | G21: =IF(D21=1,0,IF((C21-F21)/F21>=DCThreshold,1,0)) -> 0 | H21: =IF(D21=-1,0,IF((E21-C21)/E21>=DCThreshold,1,0)) -> 0 | I21: =IF(G21=1,F21,IF(H21=1,E21,I20)) -> 18103 | J21: =TRUNC(((C21-I21)/I21)/DCThreshold,0) -> 1 | K21: =IF(J21>0,J21-1,IF(J21<0,J21+1,J21)) -> 0 | L21: =IF(G21=1,"b","") | M21: =IF(H21=1,"s","") | N21: =IF(L21="",0,C21) -> 0 | O21: =IF(M21="",0,C21) -> 0
A22: =Data!B16 -> 0.22708333 | B22: =Data!A16 -> 2016.10.18 | C22: =Data!C16 -> 18104.35 | D22: =IF(G21=1,1,IF(H21=1,-1,D21)) -> 1 | E22: =IF(G21=1,MAX(C21,C22),MAX(E21,C22)) -> 18105.5 | F22: =IF(H21=1,MIN(C21,C22),MIN(F21,C22)) -> 18103 | G22: =IF(D22=1,0,IF((C22-F22)/F22>=DCThreshold,1,0)) -> 0 | H22: =IF(D22=-1,0,IF((E22-C22)/E22>=DCThreshold,1,0)) -> 0 | I22: =IF(G22=1,F22,IF(H22=1,E22,I21)) -> 18103 | J22: =TRUNC(((C22-I22)/I22)/DCThreshold,0) -> 0 | K22: =IF(J22>0,J22-1,IF(J22<0,J22+1,J22)) -> 0 | L22: =IF(G22=1,"b","") | M22: =IF(H22=1,"s","") | N22: =IF(L22="",0,C22) -> 0 | O22: =IF(M22="",0,C22) -> 0
A23: =Data!B17 -> 0.22777778 | B23: =Data!A17 -> 2016.10.18 | C23: =Data!C17 -> 18103.75 | D23: =IF(G22=1,1,IF(H22=1,-1,D22)) -> 1 | E23: =IF(G22=1,MAX(C22,C23),MAX(E22,C23)) -> 18105.5 | F23: =IF(H22=1,MIN(C22,C23),MIN(F22,C23)) -> 18103 | G23: =IF(D23=1,0,IF((C23-F23)/F23>=DCThreshold,1,0)) -> 0 | H23: =IF(D23=-1,0,IF((E23-C23)/E23>=DCThreshold,1,0)) -> 0 | I23: =IF(G23=1,F23,IF(H23=1,E23,I22)) -> 18103 | J23: =TRUNC(((C23-I23)/I23)/DCThreshold,0) -> 0 | K23: =IF(J23>0,J23-1,IF(J23<0,J23+1,J23)) -> 0 | L23: =IF(G23=1,"b","") | M23: =IF(H23=1,"s","") | N23: =IF(L23="",0,C23) -> 0 | O23: =IF(M23="",0,C23) -> 0
A24: =Data!B18 -> 0.22847222 | B24: =Data!A18 -> 2016.10.18 | C24: =Data!C18 -> 18104.45 | D24: =IF(G23=1,1,IF(H23=1,-1,D23)) -> 1 | E24: =IF(G23=1,MAX(C23,C24),MAX(E23,C24)) -> 18105.5 | F24: =IF(H23=1,MIN(C23,C24),MIN(F23,C24)) -> 18103 | G24: =IF(D24=1,0,IF((C24-F24)/F24>=DCThreshold,1,0)) -> 0 | H24: 1 | I24: =IF(G24=1,F24,IF(H24=1,E24,I23)) -> 18105.5 | J24: =TRUNC(((C24-I24)/I24)/DCThreshold,0) -> 0 | K24: =IF(J24>0,J24-1,IF(J24<0,J24+1,J24)) -> 0 | L24: =IF(G24=1,"b","") | M24: =IF(H24=1,"s","") -> s | N24: =IF(L24="",0,C24) -> 0 | O24: =IF(M24="",0,C24) -> 18104.45
A25: =Data!B19 -> 0.22916667 | B25: =Data!A19 -> 2016.10.18 | C25: =Data!C19 -> 18104.55 | D25: =IF(G24=1,1,IF(H24=1,-1,D24)) -> -1 | E25: =IF(G24=1,MAX(C24,C25),MAX(E24,C25)) -> 18105.5 | F25: =IF(H24=1,MIN(C24,C25),MIN(F24,C25)) -> 18104.45 | G25: =IF(D25=1,0,IF((C25-F25)/F25>=DCThreshold,1,0)) -> 0 | H25: =IF(D25=-1,0,IF((E25-C25)/E25>=DCThreshold,1,0)) -> 0 | I25: =IF(G25=1,F25,IF(H25=1,E25,I24)) -> 18105.5 | J25: =TRUNC(((C25-I25)/I25)/DCThreshold,0) -> 0 | K25: =IF(J25>0,J25-1,IF(J25<0,J25+1,J25)) -> 0 | L25: =IF(G25=1,"b","") | M25: =IF(H25=1,"s","") | N25: =IF(L25="",0,C25) -> 0 | O25: =IF(M25="",0,C25) -> 0
A26: =Data!B20 -> 0.22986111 | B26: =Data!A20 -> 2016.10.18 | C26: =Data!C20 -> 18105.7 | D26: =IF(G25=1,1,IF(H25=1,-1,D25)) -> -1 | E26: =IF(G25=1,MAX(C25,C26),MAX(E25,C26)) -> 18105.7 | F26: =IF(H25=1,MIN(C25,C26),MIN(F25,C26)) -> 18104.45 | G26: =IF(D26=1,0,IF((C26-F26)/F26>=DCThreshold,1,0)) -> 0 | H26: =IF(D26=-1,0,IF((E26-C26)/E26>=DCThreshold,1,0)) -> 0 | I26: =IF(G26=1,F26,IF(H26=1,E26,I25)) -> 18105.5 | J26: =TRUNC(((C26-I26)/I26)/DCThreshold,0) -> 0 | K26: =IF(J26>0,J26-1,IF(J26<0,J26+1,J26)) -> 0 | L26: =IF(G26=1,"b","") | M26: =IF(H26=1,"s","") | N26: =IF(L26="",0,C26) -> 0 | O26: =IF(M26="",0,C26) -> 0
A27: =Data!B21 -> 0.23055556 | B27: =Data!A21 -> 2016.10.18 | C27: =Data!C21 -> 18105.85 | D27: =IF(G26=1,1,IF(H26=1,-1,D26)) -> -1 | E27: =IF(G26=1,MAX(C26,C27),MAX(E26,C27)) -> 18105.85 | F27: =IF(H26=1,MIN(C26,C27),MIN(F26,C27)) -> 18104.45 | G27: =IF(D27=1,0,IF((C27-F27)/F27>=DCThreshold,1,0)) -> 0 | H27: =IF(D27=-1,0,IF((E27-C27)/E27>=DCThreshold,1,0)) -> 0 | I27: =IF(G27=1,F27,IF(H27=1,E27,I26)) -> 18105.5 | J27: =TRUNC(((C27-I27)/I27)/DCThreshold,0) -> 0 | K27: =IF(J27>0,J27-1,IF(J27<0,J27+1,J27)) -> 0 | L27: =IF(G27=1,"b","") | M27: =IF(H27=1,"s","") | N27: =IF(L27="",0,C27) -> 0 | O27: =IF(M27="",0,C27) -> 0
A28: =Data!B22 -> 0.23125 | B28: =Data!A22 -> 2016.10.18 | C28: =Data!C22 -> 18105.75 | D28: =IF(G27=1,1,IF(H27=1,-1,D27)) -> -1 | E28: =IF(G27=1,MAX(C27,C28),MAX(E27,C28)) -> 18105.85 | F28: =IF(H27=1,MIN(C27,C28),MIN(F27,C28)) -> 18104.45 | G28: =IF(D28=1,0,IF((C28-F28)/F28>=DCThreshold,1,0)) -> 0 | H28: =IF(D28=-1,0,IF((E28-C28)/E28>=DCThreshold,1,0)) -> 0 | I28: =IF(G28=1,F28,IF(H28=1,E28,I27)) -> 18105.5 | J28: =TRUNC(((C28-I28)/I28)/DCThreshold,0) -> 0 | K28: =IF(J28>0,J28-1,IF(J28<0,J28+1,J28)) -> 0 | L28: =IF(G28=1,"b","") | M28: =IF(H28=1,"s","") | N28: =IF(L28="",0,C28) -> 0 | O28: =IF(M28="",0,C28) -> 0
A29: =Data!B23 -> 0.23194444 | B29: =Data!A23 -> 2016.10.18 | C29: =Data!C23 -> 18106.1 | D29: =IF(G28=1,1,IF(H28=1,-1,D28)) -> -1 | E29: =IF(G28=1,MAX(C28,C29),MAX(E28,C29)) -> 18106.1 | F29: =IF(H28=1,MIN(C28,C29),MIN(F28,C29)) -> 18104.45 | G29: =IF(D29=1,0,IF((C29-F29)/F29>=DCThreshold,1,0)) -> 0 | H29: =IF(D29=-1,0,IF((E29-C29)/E29>=DCThreshold,1,0)) -> 0 | I29: =IF(G29=1,F29,IF(H29=1,E29,I28)) -> 18105.5 | J29: =TRUNC(((C29-I29)/I29)/DCThreshold,0) -> 0 | K29: =IF(J29>0,J29-1,IF(J29<0,J29+1,J29)) -> 0 | L29: =IF(G29=1,"b","") | M29: =IF(H29=1,"s","") | N29: =IF(L29="",0,C29) -> 0 | O29: =IF(M29="",0,C29) -> 0
A30: =Data!B24 -> 0.23263889 | B30: =Data!A24 -> 2016.10.18 | C30: =Data!C24 -> 18105.15 | D30: =IF(G29=1,1,IF(H29=1,-1,D29)) -> -1 | E30: =IF(G29=1,MAX(C29,C30),MAX(E29,C30)) -> 18106.1 | F30: =IF(H29=1,MIN(C29,C30),MIN(F29,C30)) -> 18104.45 | G30: =IF(D30=1,0,IF((C30-F30)/F30>=DCThreshold,1,0)) -> 0 | H30: =IF(D30=-1,0,IF((E30-C30)/E30>=DCThreshold,1,0)) -> 0 | I30: =IF(G30=1,F30,IF(H30=1,E30,I29)) -> 18105.5 | J30: =TRUNC(((C30-I30)/I30)/DCThreshold,0) -> 0 | K30: =IF(J30>0,J30-1,IF(J30<0,J30+1,J30)) -> 0 | L30: =IF(G30=1,"b","") | M30: =IF(H30=1,"s","") | N30: =IF(L30="",0,C30) -> 0 | O30: =IF(M30="",0,C30) -> 0
A31: =Data!B25 -> 0.23333333 | B31: =Data!A25 -> 2016.10.18 | C31: =Data!C25 -> 18106.1 | D31: =IF(G30=1,1,IF(H30=1,-1,D30)) -> -1 | E31: =IF(G30=1,MAX(C30,C31),MAX(E30,C31)) -> 18106.1 | F31: =IF(H30=1,MIN(C30,C31),MIN(F30,C31)) -> 18104.45 | G31: =IF(D31=1,0,IF((C31-F31)/F31>=DCThreshold,1,0)) -> 0 | H31: =IF(D31=-1,0,IF((E31-C31)/E31>=DCThreshold,1,0)) -> 0 | I31: =IF(G31=1,F31,IF(H31=1,E31,I30)) -> 18105.5 | J31: =TRUNC(((C31-I31)/I31)/DCThreshold,0) -> 0 | K31: =IF(J31>0,J31-1,IF(J31<0,J31+1,J31)) -> 0 | L31: =IF(G31=1,"b","") | M31: =IF(H31=1,"s","") | N31: =IF(L31="",0,C31) -> 0 | O31: =IF(M31="",0,C31) -> 0
A32: =Data!B26 -> 0.23402778 | B32: =Data!A26 -> 2016.10.18 | C32: =Data!C26 -> 18105.75 | D32: =IF(G31=1,1,IF(H31=1,-1,D31)) -> -1 | E32: =IF(G31=1,MAX(C31,C32),MAX(E31,C32)) -> 18106.1 | F32: =IF(H31=1,MIN(C31,C32),MIN(F31,C32)) -> 18104.45 | G32: =IF(D32=1,0,IF((C32-F32)/F32>=DCThreshold,1,0)) -> 0 | H32: =IF(D32=-1,0,IF((E32-C32)/E32>=DCThreshold,1,0)) -> 0 | I32: =IF(G32=1,F32,IF(H32=1,E32,I31)) -> 18105.5 | J32: =TRUNC(((C32-I32)/I32)/DCThreshold,0) -> 0 | K32: =IF(J32>0,J32-1,IF(J32<0,J32+1,J32)) -> 0 | L32: =IF(G32=1,"b","") | M32: =IF(H32=1,"s","") | N32: =IF(L32="",0,C32) -> 0 | O32: =IF(M32="",0,C32) -> 0
A33: =Data!B27 -> 0.23472222 | B33: =Data!A27 -> 2016.10.18 | C33: =Data!C27 -> 18105.95 | D33: =IF(G32=1,1,IF(H32=1,-1,D32)) -> -1 | E33: =IF(G32=1,MAX(C32,C33),MAX(E32,C33)) -> 18106.1 | F33: =IF(H32=1,MIN(C32,C33),MIN(F32,C33)) -> 18104.45 | G33: 1 | H33: =IF(D33=-1,0,IF((E33-C33)/E33>=DCThreshold,1,0)) -> 0 | I33: =IF(G33=1,F33,IF(H33=1,E33,I32)) -> 18104.45 | J33: =TRUNC(((C33-I33)/I33)/DCThreshold,0) -> 0 | K33: =IF(J33>0,J33-1,IF(J33<0,J33+1,J33)) -> 0 | L33: =IF(G33=1,"b","") -> b | M33: =IF(H33=1,"s","") | N33: =IF(L33="",0,C33) -> 18105.95 | O33: =IF(M33="",0,C33) -> 0
A34: =Data!B28 -> 0.23541667 | B34: =Data!A28 -> 2016.10.18 | C34: =Data!C28 -> 18105.8 | D34: =IF(G33=1,1,IF(H33=1,-1,D33)) -> 1 | E34: =IF(G33=1,MAX(C33,C34),MAX(E33,C34)) -> 18105.95 | F34: =IF(H33=1,MIN(C33,C34),MIN(F33,C34)) -> 18104.45 | G34: =IF(D34=1,0,IF((C34-F34)/F34>=DCThreshold,1,0)) -> 0 | H34: =IF(D34=-1,0,IF((E34-C34)/E34>=DCThreshold,1,0)) -> 0 | I34: =IF(G34=1,F34,IF(H34=1,E34,I33)) -> 18104.45 | J34: =TRUNC(((C34-I34)/I34)/DCThreshold,0) -> 0 | K34: =IF(J34>0,J34-1,IF(J34<0,J34+1,J34)) -> 0 | L34: =IF(G34=1,"b","") | M34: =IF(H34=1,"s","") | N34: =IF(L34="",0,C34) -> 0 | O34: =IF(M34="",0,C34) -> 0
A35: =Data!B29 -> 0.23611111 | B35: =Data!A29 -> 2016.10.18 | C35: =Data!C29 -> 18105.15 | D35: =IF(G34=1,1,IF(H34=1,-1,D34)) -> 1 | E35: =IF(G34=1,MAX(C34,C35),MAX(E34,C35)) -> 18105.95 | F35: =IF(H34=1,MIN(C34,C35),MIN(F34,C35)) -> 18104.45 | G35: =IF(D35=1,0,IF((C35-F35)/F35>=DCThreshold,1,0)) -> 0 | H35: =IF(D35=-1,0,IF((E35-C35)/E35>=DCThreshold,1,0)) -> 0 | I35: =IF(G35=1,F35,IF(H35=1,E35,I34)) -> 18104.45 | J35: =TRUNC(((C35-I35)/I35)/DCThreshold,0) -> 0 | K35: =IF(J35>0,J35-1,IF(J35<0,J35+1,J35)) -> 0 | L35: =IF(G35=1,"b","") | M35: =IF(H35=1,"s","") | N35: =IF(L35="",0,C35) -> 0 | O35: =IF(M35="",0,C35) -> 0

Sheet Data
A1: 2016.10.18 | B1: 0.21666667 | C1: 18104.85
A2: 2016.10.18 | B2: 0.21736111 | C2: 18105.35
A3: 2016.10.18 | B3: 0.21805556 | C3: 18105.3
A4: 2016.10.18 | B4: 0.21875 | C4: 18105.45
A5: 2016.10.18 | B5: 0.21944444 | C5: 18105.75
A6: 2016.10.18 | B6: 0.22013889 | C6: 18105.7
A7: 2016.10.18 | B7: 0.22083333 | C7: 18105.05
A8: 2016.10.18 | B8: 0.22152778 | C8: 18105.15 | D8: D
A9: 2016.10.18 | B9: 0.22222222 | C9: 18103.25
A10: 2016.10.18 | B10: 0.22291667 | C10: 18103
A11: 2016.10.18 | B11: 0.22361111 | C11: 18104.4
A12: 2016.10.18 | B12: 0.22430556 | C12: 18104.95
A13: 2016.10.18 | B13: 0.225 | C13: 18105.25
A14: 2016.10.18 | B14: 0.22569444 | C14: 18105.5
A15: 2016.10.18 | B15: 0.22638889 | C15: 18105.15
A16: 2016.10.18 | B16: 0.22708333 | C16: 18104.35
A17: 2016.10.18 | B17: 0.22777778 | C17: 18103.75
A18: 2016.10.18 | B18: 0.22847222 | C18: 18104.45
A19: 2016.10.18 | B19: 0.22916667 | C19: 18104.55
A20: 2016.10.18 | B20: 0.22986111 | C20: 18105.7
... A46: 2016.10.18 | B46: 0.24930556 | C46: 18106.05
