Workbook

Sheet Devis
F4: M. X
E5: =VLOOKUP(F4,Clients!$A$2:$I$80,2,FALSE) -> 12 rue de la fleur
E6: =CONCATENATE(H6, " ",I6) -> 54000 ANGERS | H6: =VLOOKUP(F4,Clients!$A$2:$I$80,3,FALSE) -> 54000 | I6: =VLOOKUP(F4,Clients!$A$2:$I$80,4,FALSE) -> ANGERS
A10: Date | B10: N° devis | D10: N° client | E10: Date d'échéance | F10: Règlement
A11: 42371 | E11: =DATE(YEAR(A11+30),MONTH(A11+30)+1,0) -> 42429
A13: Référence | B13: Désignation | C13: Quantité | D13: PU | E13: Montant HT | F13: TVA
A14: Excel | B14: =IF(A14="","",VLOOKUP(A14,Formations!$A$2:$G$81,2,FALSE)) -> Utilisation d'Excel | C14: 1 | D14: =IF(A14="","",VLOOKUP(A14,Formations!$A$2:$G$81,4,FALSE)) -> 150 | E14: =D14*C14 -> 150 | F14: =IF(E14="","",20%) -> 0.2
B15: =CONCATENATE(H15," ",I15," ",J15," ",K15," ",L15) -> 3 jours soit 21 heures | D15: =IF(A15="","",VLOOKUP(A15,Formations!$A$2:$G$81,4,FALSE)) | E15: =IF(C15="","",D15*C15) | F15: =IF(E15="","",20%) | H15: =VLOOKUP(A14,Formations!$A$2:$G$81,5,FALSE) -> 3 | I15: jours | J15: soit | K15: =VLOOKUP(A14,Formations!$A$2:$G$81,6,FALSE) -> 21 | L15: heures
B16: Pour x personnes | D16: =IF(A16="","",VLOOKUP(A16,Formations!$A$2:$G$81,4,FALSE)) | E16: =IF(C16="","",D16*C16) | F16: =IF(E16="","",20%)
B17: =CONCATENATE(H17," ",I17," ",J17," ",K17," ",L17) -> Agrément N° 4567751 | D17: =IF(A17="","",VLOOKUP(A17,Formations!$A$2:$G$81,4,FALSE)) | E17: =IF(C17="","",D17*C17) | F17: =IF(E17="","",20%) | H17: Agrément N° | I17: =VLOOKUP(A14,Formations!$A$2:$G$81,7,FALSE) -> 4567751
D18: =IF(A18="","",VLOOKUP(A18,Formations!$A$2:$G$81,4,FALSE)) | E18: =IF(C18="","",D18*C18) | F18: =IF(E18="","",20%)
D19: =IF(A19="","",VLOOKUP(A19,Formations!$A$2:$G$81,4,FALSE)) | E19: =IF(C19="","",D19*C19) | F19: =IF(E19="","",20%)
D20: =IF(A20="","",VLOOKUP(A20,Formations!$A$2:$G$81,4,FALSE)) | E20: =IF(C20="","",D20*C20) | F20: =IF(E20="","",20%)
D21: =IF(A21="","",VLOOKUP(A21,Formations!$A$2:$G$81,4,FALSE)) | E21: =IF(C21="","",D21*C21) | F21: =IF(E21="","",20%)
D22: =IF(A22="","",VLOOKUP(A22,Formations!$A$2:$G$81,4,FALSE)) | E22: =IF(C22="","",D22*C22) | F22: =IF(E22="","",20%)
D23: =IF(A23="","",VLOOKUP(A23,Formations!$A$2:$G$81,4,FALSE)) | E23: =IF(C23="","",D23*C23) | F23: =IF(E23="","",20%)
D24: =IF(A24="","",VLOOKUP(A24,Formations!$A$2:$G$81,4,FALSE)) | E24: =IF(C24="","",D24*C24) | F24: =IF(E24="","",20%)
D25: =IF(A25="","",VLOOKUP(A25,Formations!$A$2:$G$81,4,FALSE)) | E25: =IF(C25="","",D25*C25) | F25: =IF(E25="","",20%)
D26: =IF(A26="","",VLOOKUP(A26,Formations!$A$2:$G$81,4,FALSE)) | E26: =IF(C26="","",D26*C26) | F26: =IF(E26="","",20%)
D27: =IF(A27="","",VLOOKUP(A27,Formations!$A$2:$G$81,4,FALSE)) | E27: =IF(C27="","",D27*C27) | F27: =IF(E27="","",20%)
D28: =IF(A28="","",VLOOKUP(A28,Formations!$A$2:$G$81,4,FALSE)) | E28: =IF(C28="","",D28*C28) | F28: =IF(E28="","",20%)
D29: =IF(A29="","",VLOOKUP(A29,Formations!$A$2:$G$81,4,FALSE)) | E29: =IF(C29="","",D29*C29) | F29: =IF(E29="","",20%)
... D32: =IF(A32="","",VLOOKUP(A32,Formations!$A$2:$G$81,4,FALSE)) | E32: =IF(C32="","",D32*C32) | F32: =IF(E32="","",20%)
E34: Montant HT | F34: =SUM(E14:E32) -> 150
E35: TVA | F35: 0.2
E36: Montant TTC | F36: =F34+(F34*F35) -> 180

Sheet Suivi des devis
A1: Date devis | B1: N° devis | C1: Client | D1: Montant HT | E1: Montant TTC

Sheet Clients
A1: Nom Entreprises | B1: Adresse 1 | C1: CP | D1: Ville | E1: N° client | F1: Contact | G1: Poste du contact | H1: Règlement
A2: M. X | B2: 12 rue de la fleur | C2: 54000 | D2: ANGERS | E2: CFHR320 | F2: Mme Jacqueline Ediart | G2: Responsable formation | H2: Virement

Sheet Formations
A1: Référence | B1: Nom | C1: Famille | D1: Montant HT | E1: Durée jours | F1: Durée heures | G1: N° d'agrément
A2: Excel | B2: Utilisation d'Excel | C2: Bureautique | D2: 150 | E2: 3 | F2: =E2*7 -> 21 | G2: 4567751
