Workbook

Sheet YLR_SC GAM
A1: 43313
A2: TOTAL ACCOUNTS | B2: A - PM Swing Trading | C2: B - SLINGSHOT | D2: C - SFE | E2: D - Strive | F2: E - Pepperstone | G2: F - VOL Portfolio | H2: G - Atlas | I2: H - Scorpion | J2: I - YRL CAPITAL | K2: TOTAL PIPS | L2: TRADES | M2: TOTAL MONTANT
A3: 43313 | B3: =A!D2 -> 0 | C3: ='B '!E2 -> 206.1 | D3: ='C '!G2 -> 74.2 | E3: =D!D2 -> #VALUE! | F3: ='E '!D2 -> 0 | G3: ='F '!D2 -> 71.9 | H3: =G!F2 -> 0 | I3: =H!E2 -> -28.7 | J3: ='I '!L2 -> 0 | K3: =SUM(B3:J3) -> #VALUE! | L3: =A!E2+'B '!F2+'C '!H2+D!E2+'E '!E2+'F '!E2+G!G2+H!F2 -> 18 | M3: =A!F2+'B '!G2+'C '!I2+D!F2+'E '!F2+'F '!F2+G!H2+H!G2 -> #VALUE!
A4: 43314 | B4: =A!D3 -> 0 | C4: ='B '!E3 -> 0 | D4: ='C '!G3 -> -100.2 | E4: =D!D3 -> #VALUE! | F4: ='E '!D3 -> 0 | G4: ='F '!D3 -> 14.1 | H4: =G!F3 -> 152.7 | I4: =H!E3 -> 12.5 | J4: ='I '!L3 -> 0 | K4: =SUM(B4:J4) -> #VALUE! | L4: =A!E3+'B '!F3+'C '!H3+D!E3+'E '!E3+'F '!E3+G!G3+H!F3 -> 31 | M4: =A!F3+'B '!G3+'C '!I3+D!F3+'E '!F3+'F '!F3+G!H3+H!G3 -> #VALUE!
A5: 43315 | B5: =A!D4 -> 0 | C5: ='B '!E4 -> 0 | D5: ='C '!G4 -> 12.2 | E5: =D!D4 -> #VALUE! | F5: ='E '!D4 -> 0 | G5: ='F '!D4 -> -134.7 | H5: =G!F4 -> 3.1 | I5: =H!E4 -> 105.8 | J5: ='I '!L4 -> 0 | K5: =SUM(B5:J5) -> #VALUE! | L5: =A!E4+'B '!F4+'C '!H4+D!E4+'E '!E4+'F '!E4+G!G4+H!F4 -> 35 | M5: =A!F4+'B '!G4+'C '!I4+D!F4+'E '!F4+'F '!F4+G!H4+H!G4 -> #VALUE!
A6: 43318 | B6: =A!D5 -> 0 | C6: ='B '!E5 -> 0 | D6: ='C '!G5 -> -20.7 | E6: =D!D5 -> #VALUE! | F6: ='E '!D5 -> 0 | G6: ='F '!D5 -> -1.1 | H6: =G!F5 -> 19.2 | I6: =H!E5 -> 30.7 | J6: ='I '!L5 -> 0 | K6: =SUM(B6:J6) -> #VALUE! | L6: =A!E5+'B '!F5+'C '!H5+D!E5+'E '!E5+'F '!E5+G!G5+H!F5 -> 12 | M6: =A!F5+'B '!G5+'C '!I5+D!F5+'E '!F5+'F '!F5+G!H5+H!G5 -> #VALUE!
A7: 43319 | B7: =A!D6 -> 0 | C7: ='B '!E6 -> 0 | D7: ='C '!G6 -> 5.5 | E7: =D!D6 -> #VALUE! | F7: ='E '!D6 -> 0 | G7: ='F '!D6 -> 0 | H7: =G!F6 -> 0 | I7: =H!E6 -> 4.8 | J7: ='I '!L6 -> 0 | K7: =SUM(B7:J7) -> #VALUE! | L7: =A!E6+'B '!F6+'C '!H6+D!E6+'E '!E6+'F '!E6+G!G6+H!F6 -> 6 | M7: =A!F6+'B '!G6+'C '!I6+D!F6+'E '!F6+'F '!F6+G!H6+H!G6 -> #VALUE!
A8: 43320 | B8: =A!D7 -> 0 | C8: ='B '!E7 -> -42.3 | D8: ='C '!G7 -> 363.7 | E8: =D!D7 -> #VALUE! | F8: ='E '!D7 -> 0 | G8: ='F '!D7 -> -2.6 | H8: =G!F7 -> -82.1 | I8: =H!E7 -> -58.6 | J8: ='I '!L7 -> 0 | K8: =SUM(B8:J8) -> #VALUE! | L8: =A!E7+'B '!F7+'C '!H7+D!E7+'E '!E7+'F '!E7+G!G7+H!F7 -> 29 | M8: =A!F7+'B '!G7+'C '!I7+D!F7+'E '!F7+'F '!F7+G!H7+H!G7 -> #VALUE!
A9: 43321 | B9: =A!D8 -> 133 | C9: ='B '!E8 -> -34.7 | D9: ='C '!G8 -> 356.9 | E9: =D!D8 -> #VALUE! | F9: ='E '!D8 -> 0 | G9: ='F '!D8 -> 0 | H9: =G!F8 -> 12.3 | I9: =H!E8 -> -118.2 | J9: ='I '!L8 -> 0 | K9: =SUM(B9:J9) -> #VALUE! | L9: =A!E8+'B '!F8+'C '!H8+D!E8+'E '!E8+'F '!E8+G!G8+H!F8 -> 17 | M9: =A!F8+'B '!G8+'C '!I8+D!F8+'E '!F8+'F '!F8+G!H8+H!G8 -> #VALUE!
A10: 43322 | B10: =A!D9 -> 193.9 | C10: ='B '!E9 -> 0 | D10: ='C '!G9 -> -72.7 | E10: =D!D9 -> #VALUE! | F10: ='E '!D9 -> 0 | G10: ='F '!D9 -> 450 | H10: =G!F9 -> 170.9 | I10: =H!E9 -> 72.6 | J10: ='I '!L9 -> 0 | K10: =SUM(B10:J10) -> #VALUE! | L10: =A!E9+'B '!F9+'C '!H9+D!E9+'E '!E9+'F '!E9+G!G9+H!F9 -> 44 | M10: =A!F9+'B '!G9+'C '!I9+D!F9+'E '!F9+'F '!F9+G!H9+H!G9 -> #VALUE!
A11: 43325 | B11: =A!D10 -> 0 | C11: ='B '!E10 -> 0 | D11: ='C '!G10 -> 0 | E11: =D!D10 -> #VALUE! | F11: ='E '!D10 -> 0 | G11: ='F '!D10 -> 0 | H11: =G!F10 -> 72.3 | I11: =H!E10 -> 184.4 | J11: ='I '!L10 -> 0 | K11: =SUM(B11:J11) -> #VALUE! | L11: =A!E10+'B '!F10+'C '!H10+D!E10+'E '!E10+'F '!E10+G!G10+H!F10 -> 16 | M11: =A!F10+'B '!G10+'C '!I10+D!F10+'E '!F10+'F '!F10+G!H10+H!G10 -> #VALUE!
A12: 43326 | B12: =A!D11 -> 0 | C12: ='B '!E11 -> 0 | D12: ='C '!G11 -> 0 | E12: =D!D11 -> #VALUE! | F12: ='E '!D11 -> 0 | G12: ='F '!D11 -> -56.7 | H12: =G!F11 -> 25.4 | I12: =H!E11 -> 1 | J12: ='I '!L11 -> 0 | K12: =SUM(B12:J12) -> #VALUE! | L12: =A!E11+'B '!F11+'C '!H11+D!E11+'E '!E11+'F '!E11+G!G11+H!F11 -> 12 | M12: =A!F11+'B '!G11+'C '!I11+D!F11+'E '!F11+'F '!F11+G!H11+H!G11 -> #VALUE!
A13: 43327 | B13: =A!D12 -> 25.2 | C13: ='B '!E12 -> 0 | D13: ='C '!G12 -> 0 | E13: =D!D12 -> #VALUE! | F13: ='E '!D12 -> 0 | G13: ='F '!D12 -> 0 | H13: =G!F12 -> 12.6 | I13: =H!E12 -> 136 | J13: ='I '!L12 -> 0 | K13: =SUM(B13:J13) -> #VALUE! | L13: =A!E12+'B '!F12+'C '!H12+D!E12+'E '!E12+'F '!E12+G!G12+H!F12 -> 19 | M13: =A!F12+'B '!G12+'C '!I12+D!F12+'E '!F12+'F '!F12+G!H12+H!G12 -> #VALUE!
A14: 43328 | B14: =A!D13 -> 0 | C14: ='B '!E13 -> 0 | D14: ='C '!G13 -> -102.9 | E14: =D!D13 -> #VALUE! | F14: ='E '!D13 -> 0 | G14: ='F '!D13 -> -14.1 | H14: =G!F13 -> -63.1 | I14: =H!E13 -> -11.4 | J14: ='I '!L13 -> 0 | K14: =SUM(B14:J14) -> #VALUE! | L14: =A!E13+'B '!F13+'C '!H13+D!E13+'E '!E13+'F '!E13+G!G13+H!F13 -> 18 | M14: =A!F13+'B '!G13+'C '!I13+D!F13+'E '!F13+'F '!F13+G!H13+H!G13 -> #VALUE!
... A16: 43332 | B16: =A!D15 -> 0 | C16: ='B '!E15 -> -58 | D16: ='C '!G15 -> 0 | E16: =D!D15 -> #VALUE! | F16: ='E '!D15 -> 0 | G16: ='F '!D15 -> 19.7 | H16: =G!F15 -> 30.7 | I16: =H!E15 -> -25.5 | J16: ='I '!L15 -> 0 | K16: =SUM(B16:J16) -> #VALUE! | L16: =A!E15+'B '!F15+'C '!H15+D!E15+'E '!E15+'F '!E15+G!G15+H!F15 -> 13 | M16: =A!F15+'B '!G15+'C '!I15+D!F15+'E '!F15+'F '!F15+G!H15+H!G15 -> #VALUE!
A17: 43333 | B17: =A!D16 -> 0 | C17: ='B '!E16 -> 0 | D17: ='C '!G16 -> -82.3 | E17: Arret | F17: ='E '!D16 -> 0 | G17: ='F '!D16 -> -99.3 | H17: =G!F16 -> -4.4 | I17: =H!E16 -> -188.1 | J17: ='I '!L16 -> 0 | K17: =SUM(B17:J17) -> -374.1 | L17: =A!E16+'B '!F16+'C '!H16+D!E16+'E '!E16+'F '!E16+G!G16+H!F16 -> 27 | M17: =A!F16+'B '!G16+'C '!I16+D!F16+'E '!F16+'F '!F16+G!H16+H!G16 -> #VALUE!
A18: 43334 | B18: =A!D17 -> -92.3 | C18: ='B '!E17 -> 0 | D18: ='C '!G17 -> 0 | E18: Arret | F18: ='E '!D17 -> 0 | G18: ='F '!D17 -> -38.2 | H18: =G!F17 -> 61.1 | I18: =H!E17 -> 87.5 | J18: ='I '!L17 -> -22 | K18: =SUM(B18:J18) -> -3.9 | L18: =A!E17+'B '!F17+'C '!H17+D!E17+'E '!E17+'F '!E17+G!G17+H!F17 -> 20 | M18: =A!F17+'B '!G17+'C '!I17+D!F17+'E '!F17+'F '!F17+G!H17+H!G17+'I '!N25 -> #VALUE!
A19: 43335 | B19: =A!D18 -> 0 | C19: ='B '!E18 -> 0 | D19: ='C '!G18 -> 2.3 | E19: Arret | F19: ='E '!D18 -> 0 | G19: ='F '!D18 -> -12.2 | H19: =G!F18 -> 1.2 | I19: =H!E18 -> -45.5 | J19: ='I '!L18 -> -128.2 | K19: =SUM(B19:J19) -> -182.4 | L19: =A!E18+'B '!F18+'C '!H18+D!E18+'E '!E18+'F '!E18+G!G18+H!F18 -> 10 | M19: =A!F18+'B '!G18+'C '!I18+D!F18+'E '!F18+'F '!F18+G!H18+H!G18 -> #VALUE!
A20: 43336 | B20: =A!D19 -> 0 | C20: ='B '!E19 -> 265.7 | D20: ='C '!G19 -> -43.4 | E20: Arret | F20: ='E '!D19 -> 0 | G20: ='F '!D19 -> -44.1 | H20: =G!F19 -> -147 | I20: =H!E19 -> 9.4 | J20: ='I '!L19 -> 0 | K20: =SUM(B20:J20) -> 40.6 | L20: =A!E19+'B '!F19+'C '!H19+D!E19+'E '!E19+'F '!E19+G!G19+H!F19 -> 28 | M20: =A!F19+'B '!G19+'C '!I19+D!F19+'E '!F19+'F '!F19+G!H19+H!G19 -> #VALUE!
A21: 43339 | B21: =A!D20 -> 0 | C21: ='B '!E20 -> 0 | D21: ='C '!G20 -> 0 | E21: Arret | F21: ='E '!D20 -> 0 | G21: ='F '!D20 -> 0 | H21: =G!F20 -> 0 | I21: =H!E20 -> 0 | J21: ='I '!L20 -> 0 | K21: =SUM(B21:J21) -> 0 | L21: =A!E20+'B '!F20+'C '!H20+D!E20+'E '!E20+'F '!E20+G!G20+H!F20 -> 0 | M21: =A!F20+'B '!G20+'C '!I20+D!F20+'E '!F20+'F '!F20+G!H20+H!G20 -> #VALUE!
A22: 43340 | B22: =A!D21 -> 0 | C22: ='B '!E21 -> 0 | D22: ='C '!G21 -> 0 | E22: Arret | F22: ='E '!D21 -> 0 | G22: ='F '!D21 -> 0 | H22: =G!F21 -> 0 | I22: =H!E21 -> 0 | J22: ='I '!L21 -> 0 | K22: =SUM(B22:J22) -> 0 | L22: =A!E21+'B '!F21+'C '!H21+D!E21+'E '!E21+'F '!E21+G!G21+H!F21 -> 0 | M22: =A!F21+'B '!G21+'C '!I21+D!F21+'E '!F21+'F '!F21+G!H21+H!G21 -> #VALUE!
A23: 43341 | B23: =A!D22 -> 0 | C23: ='B '!E22 -> 0 | D23: ='C '!G22 -> 0 | E23: Arret | F23: ='E '!D22 -> 0 | G23: ='F '!D22 -> 0 | H23: =G!F22 -> 0 | I23: =H!E22 -> 0 | J23: ='I '!L22 -> 0 | K23: =SUM(B23:J23) -> 0 | L23: =A!E22+'B '!F22+'C '!H22+D!E22+'E '!E22+'F '!E22+G!G22+H!F22 -> 0 | M23: =A!F22+'B '!G22+'C '!I22+D!F22+'E '!F22+'F '!F22+G!H22+H!G22 -> #VALUE!
A24: 43342 | B24: =A!D23 -> 0 | C24: ='B '!E23 -> 0 | D24: ='C '!G23 -> 0 | E24: Arret | F24: ='E '!D23 -> 0 | G24: ='F '!D23 -> 0 | H24: =G!F23 -> 0 | I24: =H!E23 -> 0 | J24: ='I '!L23 -> 0 | K24: =SUM(B24:J24) -> 0 | L24: =A!E23+'B '!F23+'C '!H23+D!E23+'E '!E23+'F '!E23+G!G23+H!F23 -> 0 | M24: =A!F23+'B '!G23+'C '!I23+D!F23+'E '!F23+'F '!F23+G!H23+H!G23 -> #VALUE!
A25: 43343 | B25: =A!D24 -> 0 | C25: ='B '!E24 -> 0 | D25: ='C '!G24 -> 0 | E25: Arret | F25: ='E '!D24 -> 0 | G25: ='F '!D24 -> 0 | H25: =G!F24 -> 0 | I25: =H!E24 -> 0 | J25: ='I '!L24 -> 0 | K25: =SUM(B25:J25) -> 0 | L25: =A!E24+'B '!F24+'C '!H24+D!E24+'E '!E24+'F '!E24+G!G24+H!F24 -> 0 | M25: =A!F24+'B '!G24+'C '!I24+D!F24+'E '!F24+'F '!F24+G!H24+H!G24 -> #VALUE!
A26: TOTAL | B26: =A!D25 -> 259.8 | C26: ='B '!E25 -> 305.6 | D26: ='C '!G25 -> 384.5 | E26: =D!D25 -> #VALUE! | F26: ='E '!D25 -> 0 | G26: ='F '!D25 -> 70.1 | H26: =G!F25 -> 185.7 | I26: =H!E25 -> 149.7 | J26: ='I '!L25 -> -150.2 | K26: =SUM(B26:J26) -> #VALUE! | L26: =SUM(L3:L25) -> 375
A27: TOTAL TRADES | B27: =A!E25 -> 8 | C27: ='B '!F25 -> 25 | D27: ='C '!H25 -> 89 | E27: =D!E25 -> 43 | F27: ='E '!E25 -> 0 | G27: ='F '!E25 -> 69 | H27: =G!G25 -> 60 | I27: =H!F25 -> 81 | J27: ='I '!M25 -> 5 | L27: =SUM(B27:J27) -> 380
A28: TOTAL MONTANT | B28: =A!F25 -> 1748.352 | E28: =D!F25 -> #VALUE! | F28: ='E '!F25 -> 0 | G28: ='F '!F25 -> 602.86 | H28: =G!H25 -> 1669.35 | I28: =H!G25 -> 1315.392 | J28: ='I '!N25 -> -1194.624 | K28: =SUM(B28:J28) -> #VALUE! | M28: =SUM(M3:M25) -> #VALUE!
A30: YRL_CAPITAL / SC GAM
A31: TOTAL ACCOUNTS | B31: A - PM Swing Trading | C31: B - SLINGSHOT | D31: C - SFE | E31: D - Strive | F31: E - Pepperstone | G31: F - VOL Portfolio | H31: G - Atlas | I31: H - Scorpion | J31: TOTAL PIPS | K31: TOTAL MONTANT | L31: TRADES | M31: SLIPAGE ICM
A32: Brokers | B32: Admiral Markets | C32: Darwinex | D32: IC Markets | E32: IC Markets | F32: Pepperstone | G32: FXDD | H32: Tickmill | I32: IC Markets
A33: 43313 | B33: =A!D30 -> 0 | C33: ='B '!E30 -> 45 | D33: ='C '!G30 -> 72 | E33: =D!D30 -> -35.5 | F33: ='E '!D30 -> 0 | G33: ='F '!D30 -> 0 | H33: =G!F30 -> 0 | I33: =H!E30 -> -32.4 | J33: =SUM(B33:I33) -> 49.1 | K33: ='YRL CAPITAL_ICM'!J31+'SC GAM_ICM'!F31 -> 715.588 | L33: ='YRL CAPITAL_ICM'!K31+'SC GAM_ICM'!G31 -> 10 | M33: =J33-K3 -> #VALUE!
A34: 43314 | B34: =A!D31 -> 0 | C34: ='B '!E31 -> 0 | D34: ='C '!G31 -> -154.6 | E34: =D!D31 -> 8.3 | F34: ='E '!D31 -> 0 | G34: ='F '!D31 -> 8.3 | H34: =G!F31 -> 141.7 | I34: =H!E31 -> 9.3 | J34: =SUM(B34:I34) -> 13 | K34: ='YRL CAPITAL_ICM'!J32+'SC GAM_ICM'!F32 -> 9.998 | L34: ='YRL CAPITAL_ICM'!K32+'SC GAM_ICM'!G32 -> 32 | M34: =J34-K4 -> #VALUE!
A35: 43315 | B35: =A!D32 -> 0 | C35: ='B '!E32 -> 0 | D35: ='C '!G32 -> -27.7 | E35: =D!D32 -> -58.2 | F35: ='E '!D32 -> 0 | G35: ='F '!D32 -> -155.9 | H35: =G!F32 -> 0.2 | I35: =H!E32 -> 97.3 | J35: =SUM(B35:I35) -> -144.3 | K35: ='YRL CAPITAL_ICM'!J33+'SC GAM_ICM'!F33 -> -1227.98 | L35: ='YRL CAPITAL_ICM'!K33+'SC GAM_ICM'!G33 -> 27 | M35: =J35-K5 -> #VALUE!
A36: 43318 | B36: =A!D33 -> 0 | C36: ='B '!E33 -> 0 | D36: ='C '!G33 -> 0 | E36: =D!D33 -> -17.9 | F36: ='E '!D33 -> 0 | G36: ='F '!D33 -> -2.9 | H36: =G!F33 -> 13.4 | I36: =H!E33 -> 35.6 | J36: =SUM(B36:I36) -> 28.2 | K36: ='YRL CAPITAL_ICM'!J34+'SC GAM_ICM'!F34 -> 234.676 | L36: ='YRL CAPITAL_ICM'!K34+'SC GAM_ICM'!G34 -> 8 | M36: =J36-K6 -> #VALUE!
A37: 43319 | B37: =A!D34 -> 0 | C37: ='B '!E34 -> 0 | D37: ='C '!G34 -> 0 | E37: =D!D34 -> 1.2 | F37: ='E '!D34 -> 0 | G37: ='F '!D34 -> 0 | H37: =G!F34 -> 0 | I37: =H!E34 -> 1.5 | J37: =SUM(B37:I37) -> 2.7 | K37: ='YRL CAPITAL_ICM'!J35+'SC GAM_ICM'!F35 -> 31.656 | L37: ='YRL CAPITAL_ICM'!K35+'SC GAM_ICM'!G35 -> 5 | M37: =J37-K7 -> #VALUE!
A38: 43320 | B38: =A!D35 -> 0 | C38: ='B '!E35 -> 0 | D38: ='C '!G35 -> 351 | E38: =D!D35 -> 35.6 | F38: ='E '!D35 -> 0 | G38: ='F '!D35 -> -13 | H38: =G!F35 -> -90.3 | I38: =H!E35 -> -63.9 | J38: =SUM(B38:I38) -> 219.4 | K38: ='YRL CAPITAL_ICM'!J36+'SC GAM_ICM'!F36 -> 1619.884 | L38: ='YRL CAPITAL_ICM'!K36+'SC GAM_ICM'!G36 -> 27 | M38: =J38-K8 -> #VALUE!
A39: 43321 | B39: =A!D36 -> 0 | C39: ='B '!E36 -> 0 | D39: ='C '!G36 -> 0 | E39: =D!D36 -> -36.6 | F39: ='E '!D36 -> 0 | G39: ='F '!D36 -> 0 | H39: =G!F36 -> 10.7 | I39: =H!E36 -> -123.6 | J39: =SUM(B39:I39) -> -149.5 | K39: ='YRL CAPITAL_ICM'!J37+'SC GAM_ICM'!F37 -> -1274.526 | L39: ='YRL CAPITAL_ICM'!K37+'SC GAM_ICM'!G37 -> 10 | M39: =J39-K9 -> #VALUE!
A40: 43322 | B40: =A!D37 -> 193.4 | C40: ='B '!E37 -> 0 | D40: ='C '!G37 -> -108.4 | E40: =D!D37 -> -103.5 | F40: ='E '!D37 -> 0 | G40: ='F '!D37 -> 435.6 | H40: =G!F37 -> 147.8 | I40: =H!E37 -> 69.1 | J40: =SUM(B40:I40) -> 634 | K40: ='YRL CAPITAL_ICM'!J38+'SC GAM_ICM'!F38 -> 5436.72 | L40: ='YRL CAPITAL_ICM'!K38+'SC GAM_ICM'!G38 -> 43 | M40: =J40-K10 -> #VALUE!
A41: 43325 | B41: =A!D38 -> 0 | C41: ='B '!E38 -> 0 | D41: ='C '!G38 -> 0 | E41: =D!D38 -> -64.3 | F41: ='E '!D38 -> 0 | G41: ='F '!D38 -> 0 | H41: =G!F38 -> 37.4 | I41: =H!E38 -> 173.8 | J41: =SUM(B41:I41) -> 146.9 | K41: ='YRL CAPITAL_ICM'!J39+'SC GAM_ICM'!F39 -> 1262.09 | L41: ='YRL CAPITAL_ICM'!K39+'SC GAM_ICM'!G39 -> 15 | M41: =J41-K11 -> #VALUE!
A42: 43326 | B42: =A!D39 -> 0 | C42: ='B '!E39 -> 0 | D42: ='C '!G39 -> 0 | E42: =D!D39 -> 33.2 | F42: ='E '!D39 -> 0 | G42: ='F '!D39 -> -61.3 | H42: =G!F39 -> 23.8 | I42: =H!E39 -> -6.1 | J42: =SUM(B42:I42) -> -10.4 | K42: ='YRL CAPITAL_ICM'!J40+'SC GAM_ICM'!F40 -> -76.712 | L42: ='YRL CAPITAL_ICM'!K40+'SC GAM_ICM'!G40 -> 12 | M42: =J42-K12 -> #VALUE!
...

Sheet YRL CAPITAL_ICM
A1: YRL CAPITAL_ICM | B1: EURUSD | C1: GBPUSD | D1: USDJPY | E1: AUDUSD | F1: EURAUD | G1: USDCAD | H1: GBPJPY | I1: EURGBP | J1: GBPCAD | K1: TOTAL MONTANT | L1: TOTAL PIPS | M1: TRADES
A2: 43313 | K2: =(B2*8.6)+(C2*8.6)+(D2*7.86)+(E2*8.55)+(F2*6)+(G2*6.47)+(H2*7.8)+(I2*11.42)+(J2*6.49) -> 0 | L2: =SUM(B2:J2) -> 0
A3: 43314 | K3: =(B3*8.6)+(C3*8.6)+(D3*7.86)+(E3*8.55)+(F3*6)+(G3*6.47)+(H3*7.8)+(I3*11.42)+(J3*6.49) -> 0 | L3: =SUM(B3:J3) -> 0
A4: 43315 | K4: =(B4*8.6)+(C4*8.6)+(D4*7.86)+(E4*8.55)+(F4*6)+(G4*6.47)+(H4*7.8)+(I4*11.42)+(J4*6.49) -> 0 | L4: =SUM(B4:J4) -> 0
A5: 43318 | K5: =(B5*8.6)+(C5*8.6)+(D5*7.86)+(E5*8.55)+(F5*6)+(G5*6.47)+(H5*7.8)+(I5*11.42)+(J5*6.49) -> 0 | L5: =SUM(B5:J5) -> 0
A6: 43319 | K6: =(B6*8.6)+(C6*8.6)+(D6*7.86)+(E6*8.55)+(F6*6)+(G6*6.47)+(H6*7.8)+(I6*11.42)+(J6*6.49) -> 0 | L6: =SUM(B6:J6) -> 0
A7: 43320 | K7: =(B7*8.6)+(C7*8.6)+(D7*7.86)+(E7*8.55)+(F7*6)+(G7*6.47)+(H7*7.8)+(I7*11.42)+(J7*6.49) -> 0 | L7: =SUM(B7:J7) -> 0
A8: 43321 | K8: =(B8*8.6)+(C8*8.6)+(D8*7.86)+(E8*8.55)+(F8*6)+(G8*6.47)+(H8*7.8)+(I8*11.42)+(J8*6.49) -> 0 | L8: =SUM(B8:J8) -> 0
A9: 43322 | K9: =(B9*8.6)+(C9*8.6)+(D9*7.86)+(E9*8.55)+(F9*6)+(G9*6.47)+(H9*7.8)+(I9*11.42)+(J9*6.49) -> 0 | L9: =SUM(B9:J9) -> 0
A10: 43325 | K10: =(B10*8.6)+(C10*8.6)+(D10*7.86)+(E10*8.55)+(F10*6)+(G10*6.47)+(H10*7.8)+(I10*11.42)+(J10*6.49) -> 0 | L10: =SUM(B10:J10) -> 0
A11: 43326 | K11: =(B11*8.6)+(C11*8.6)+(D11*7.86)+(E11*8.55)+(F11*6)+(G11*6.47)+(H11*7.8)+(I11*11.42)+(J11*6.49) -> 0 | L11: =SUM(B11:J11) -> 0
A12: 43327 | K12: =(B12*8.6)+(C12*8.6)+(D12*7.86)+(E12*8.55)+(F12*6)+(G12*6.47)+(H12*7.8)+(I12*11.42)+(J12*6.49) -> 0 | L12: =SUM(B12:J12) -> 0
A13: 43328 | K13: =(B13*8.6)+(C13*8.6)+(D13*7.86)+(E13*8.55)+(F13*6)+(G13*6.47)+(H13*7.8)+(I13*11.42)+(J13*6.49) -> 0 | L13: =SUM(B13:J13) -> 0
... A24: 43343 | K24: =(B24*8.6)+(C24*8.6)+(D24*7.86)+(E24*8.55)+(F24*6)+(G24*6.47)+(H24*7.8)+(I24*11.42)+(J24*6.49) -> 0 | L24: =SUM(B24:J24) -> 0
A25: TOTAL PIPS | B25: =SUM(B2:B22) -> 0 | C25: =SUM(C2:C22) -> 0 | D25: =SUM(D2:D22) -> 0 | E25: =SUM(E2:E22) -> 0 | F25: =SUM(F2:F22) -> 0 | G25: =SUM(G2:G22) -> 0 | H25: =SUM(H2:H22) -> 0 | I25: =SUM(I2:I22) -> 0 | ... K25: =SUM(K2:K22) -> 0 | L25: =SUM(L2:L23) -> 0 | M25: =SUM(M2:M22) -> 0
A26: TOTAL MONTANT | B26: =(B25*8.6) -> 0 | C26: =(C25*8.6) -> 0 | D26: =(D25*7.86) -> 0 | E26: =(E25*8.55) -> 0 | F26: =(F25*6) -> 0 | G26: =(G25*6.47) -> 0 | H26: =(H25*7.8) -> 0 | I26: =(I25*11.42) -> 0 | J26: =(J25*6.49) -> 0 | K26: =SUM(B26:J26) -> 0
A27: TOTAL TRADES
A29: YRL_CAPITAL
A30: TOTAL ACCOUNTS | B30: A - PM Swing Trading | C30: B - SLINGSHOT | D30: D - Strive | E30: E - Pepperstone | F30: G - Atlas | G30: H - Scorpion | H30: I - NightProfit | I30: TOTAL PIPS | J30: TOTAL MONTANT | K30: TRADES | L30: SLIPAGE
A31: 43313 | B31: =A!D30 -> 0 | C31: ='B '!E30 -> 45 | D31: =D!D30 -> -35.5 | E31: ='E '!D30 -> 0 | F31: =G!F30 -> 0 | G31: =H!E30 -> -32.4 | I31: =SUM(B31:H31) -> -22.9 | J31: =A!F30+'B '!G30+D!F30+'E '!F30+G!H30+H!G30 -> -195.662 | K31: =A!E30+'B '!F30+D!E30+'E '!E30+G!G30+H!F30 -> 8 | L31: =A!G30+'B '!H30+D!G30+'E '!G30+G!I30+H!H30 -> #VALUE!
A32: 43314 | B32: =A!D31 -> 0 | C32: ='B '!E31 -> 0 | D32: =D!D31 -> 8.3 | E32: ='E '!D31 -> 0 | F32: =G!F31 -> 141.7 | G32: =H!E31 -> 9.3 | I32: =SUM(B32:H32) -> 159.3 | J32: =A!F31+'B '!G31+D!F31+'E '!F31+G!H31+H!G31 -> 1369.98 | K32: =A!E31+'B '!F31+D!E31+'E '!E31+G!G31+H!F31 -> 8 | L32: =A!G31+'B '!H31+D!G31+'E '!G31+G!I31+H!H31 -> #VALUE!
A33: 43315 | B33: =A!D32 -> 0 | C33: ='B '!E32 -> 0 | D33: =D!D32 -> -58.2 | E33: ='E '!D32 -> 0 | F33: =G!F32 -> 0.2 | G33: =H!E32 -> 97.3 | I33: =SUM(B33:H33) -> 39.3 | J33: =A!F32+'B '!G32+D!F32+'E '!F32+G!H32+H!G32 -> 350.98 | K33: =A!E32+'B '!F32+D!E32+'E '!E32+G!G32+H!F32 -> 13 | L33: =A!G32+'B '!H32+D!G32+'E '!G32+G!I32+H!H32 -> #VALUE!
A34: 43318 | B34: =A!D33 -> 0 | C34: ='B '!E33 -> 0 | D34: =D!D33 -> -17.9 | E34: ='E '!D33 -> 0 | F34: =G!F33 -> 13.4 | G34: =H!E33 -> 35.6 | I34: =SUM(B34:H34) -> 31.1 | J34: =A!F33+'B '!G33+D!F33+'E '!F33+G!H33+H!G33 -> 259.616 | K34: =A!E33+'B '!F33+D!E33+'E '!E33+G!G33+H!F33 -> 7 | L34: =A!G33+'B '!H33+D!G33+'E '!G33+G!I33+H!H33 -> #VALUE!
A35: 43319 | B35: =A!D34 -> 0 | C35: ='B '!E34 -> 0 | D35: =D!D34 -> 1.2 | E35: ='E '!D34 -> 0 | F35: =G!F34 -> 0 | G35: =H!E34 -> 1.5 | I35: =SUM(B35:H35) -> 2.7 | J35: =A!F34+'B '!G34+D!F34+'E '!F34+G!H34+H!G34 -> 31.656 | K35: =A!E34+'B '!F34+D!E34+'E '!E34+G!G34+H!F34 -> 5 | L35: =A!G34+'B '!H34+D!G34+'E '!G34+G!I34+H!H34 -> #VALUE!
A36: 43320 | B36: =A!D35 -> 0 | C36: ='B '!E35 -> 0 | D36: =D!D35 -> 35.6 | E36: ='E '!D35 -> 0 | F36: =G!F35 -> -90.3 | G36: =H!E35 -> -63.9 | I36: =SUM(B36:H36) -> -118.6 | J36: =A!F35+'B '!G35+D!F35+'E '!F35+G!H35+H!G35 -> -1006.116 | K36: =A!E35+'B '!F35+D!E35+'E '!E35+G!G35+H!F35 -> 11 | L36: =A!G35+'B '!H35+D!G35+'E '!G35+G!I35+H!H35 -> #VALUE!
A37: 43321 | B37: =A!D36 -> 0 | C37: ='B '!E36 -> 0 | D37: =D!D36 -> -36.6 | E37: ='E '!D36 -> 0 | F37: =G!F36 -> 10.7 | G37: =H!E36 -> -123.6 | I37: =SUM(B37:H37) -> -149.5 | J37: =A!F36+'B '!G36+D!F36+'E '!F36+G!H36+H!G36 -> -1274.526 | K37: =A!E36+'B '!F36+D!E36+'E '!E36+G!G36+H!F36 -> 10 | L37: =A!G36+'B '!H36+D!G36+'E '!G36+G!I36+H!H36 -> #VALUE!
A38: 43322 | B38: =A!D37 -> 193.4 | C38: ='B '!E37 -> 0 | D38: =D!D37 -> -103.5 | E38: ='E '!D37 -> 0 | F38: =G!F37 -> 147.8 | G38: =H!E37 -> 69.1 | I38: =SUM(B38:H38) -> 306.8 | J38: =A!F37+'B '!G37+D!F37+'E '!F37+G!H37+H!G37 -> 2273.16 | K38: =A!E37+'B '!F37+D!E37+'E '!E37+G!G37+H!F37 -> 16 | L38: =A!G37+'B '!H37+D!G37+'E '!G37+G!I37+H!H37 -> #VALUE!
A39: 43325 | B39: =A!D38 -> 0 | C39: ='B '!E38 -> 0 | D39: =D!D38 -> -64.3 | E39: ='E '!D38 -> 0 | F39: =G!F38 -> 37.4 | G39: =H!E38 -> 173.8 | I39: =SUM(B39:H39) -> 146.9 | J39: =A!F38+'B '!G38+D!F38+'E '!F38+G!H38+H!G38 -> 1262.09 | K39: =A!E38+'B '!F38+D!E38+'E '!E38+G!G38+H!F38 -> 15 | L39: =A!G38+'B '!H38+D!G38+'E '!G38+G!I38+H!H38 -> #VALUE!
A40: 43326 | B40: =A!D39 -> 0 | C40: ='B '!E39 -> 0 | D40: =D!D39 -> 33.2 | E40: ='E '!D39 -> 0 | F40: =G!F39 -> 23.8 | G40: =H!E39 -> -6.1 | I40: =SUM(B40:H40) -> 50.9 | J40: =A!F39+'B '!G39+D!F39+'E '!F39+G!H39+H!G39 -> 450.468 | K40: =A!E39+'B '!F39+D!E39+'E '!E39+G!G39+H!F39 -> 8 | L40: =A!G39+'B '!H39+D!G39+'E '!G39+G!I39+H!H39 -> #VALUE!
A41: 43327 | B41: =A!D40 -> 24.8 | C41: ='B '!E40 -> 0 | D41: =D!D40 -> -18.9 | E41: ='E '!D40 -> 0 | F41: =G!F40 -> 9.8 | G41: =H!E40 -> 114 | I41: =SUM(B41:H41) -> 129.7 | J41: =A!F40+'B '!G40+D!F40+'E '!F40+G!H40+H!G40 -> 1113.598 | K41: =A!E40+'B '!F40+D!E40+'E '!E40+G!G40+H!F40 -> 19 | L41: =A!G40+'B '!H40+D!G40+'E '!G40+G!I40+H!H40 -> #VALUE!
A42: 43328 | B42: =A!D41 -> 0 | C42: ='B '!E41 -> 0 | D42: =D!D41 -> 1.8 | E42: ='E '!D41 -> 0 | F42: =G!F41 -> -66 | G42: =H!E41 -> -18.1 | I42: =SUM(B42:H42) -> -82.3 | J42: =A!F41+'B '!G41+D!F41+'E '!F41+G!H41+H!G41 -> -707.336 | K42: =A!E41+'B '!F41+D!E41+'E '!E41+G!G41+H!F41 -> 10 | L42: =A!G41+'B '!H41+D!G41+'E '!G41+G!I41+H!H41 -> #VALUE!
... A52: 43342 | B52: =A!D51 -> 0 | C52: ='B '!E51 -> 0 | D52: =D!D51 -> 0 | E52: ='E '!D51 -> 0 | F52: =G!F51 -> 0 | G52: =H!E51 -> 0 | I52: =SUM(B52:H52) -> 0 | J52: =A!F51+'B '!G51+D!F51+'E '!F51+G!H51+H!G51 -> 0 | K52: =A!E51+'B '!F51+D!E51+'E '!E51+G!G51+H!F51 -> #VALUE! | L52: =A!G51+'B '!H51+D!G51+'E '!G51+G!I51+H!H51 -> #VALUE!
A53: 43343 | B53: =A!D52 -> 0 | C53: ='B '!E53 -> -48.9 | D53: =D!D52 -> 0 | E53: ='E '!D52 -> 0 | F53: =G!F52 -> 0 | G53: =H!E52 -> 0 | I53: =SUM(B53:H53) -> -48.9 | J53: =A!F52+'B '!G53+D!F52+'E '!F52+G!H52+H!G52 -> -297.89 | K53: =A!E52+'B '!F53+D!E52+'E '!E52+G!G52+H!F52 -> #VALUE! | L53: =A!G52+'B '!H53+D!G52+'E '!G52+G!I52+H!H52 -> #VALUE!
A54: TOTAL | B54: =SUM(B31:B51) -> 128.2 | C54: =SUM(C31:C51) -> -48.9 | D54: =SUM(D31:D51) -> -282.6 | E54: =SUM(E31:E51) -> 0 | F54: =SUM(F31:F51) -> 42.9 | G54: =SUM(G31:G51) -> 27.6 | H54: =SUM(H31:H51) -> 0 | I54: =SUM(I31:I51) -> -132.8 | J54: =SUM(J31:J52) -> -1096.368 | K54: =SUM(K31:K52) -> #VALUE! | L54: =SUM(L31:L52) -> #VALUE!
A55: TOTAL TRADES | K55: =SUM(B55:G55) -> 0

Sheet SC GAM_ICM
A1: SC GAM_ICM | B1: EURUSD | C1: GBPUSD | D1: EURAUD | E1: GBPJPY | F1: EURGBP | G1: TOTAL MONTANT | H1: TOTAL PIPS | I1: TRADES
A2: 43313 | G2: =(B2*8.6)+(C2*8.6)+(D2*6)+(E2*7.8)+(F2*11.42) -> 0 | H2: =SUM(B2:F2) -> 0
A3: 43314 | G3: =(B3*8.6)+(C3*8.6)+(D3*6)+(E3*7.8)+(F3*11.42) -> 0 | H3: =SUM(B3:F3) -> 0
A4: 43315 | G4: =(B4*8.6)+(C4*8.6)+(D4*6)+(E4*7.8)+(F4*11.42) -> 0 | H4: =SUM(B4:F4) -> 0
A5: 43318 | G5: =(B5*8.6)+(C5*8.6)+(D5*6)+(E5*7.8)+(F5*11.42) -> 0 | H5: =SUM(B5:F5) -> 0
A6: 43319 | G6: =(B6*8.6)+(C6*8.6)+(D6*6)+(E6*7.8)+(F6*11.42) -> 0 | H6: =SUM(B6:F6) -> 0
A7: 43320 | G7: =(B7*8.6)+(C7*8.6)+(D7*6)+(E7*7.8)+(F7*11.42) -> 0 | H7: =SUM(B7:F7) -> 0
A8: 43321 | G8: =(B8*8.6)+(C8*8.6)+(D8*6)+(E8*7.8)+(F8*11.42) -> 0 | H8: =SUM(B8:F8) -> 0
A9: 43322 | G9: =(B9*8.6)+(C9*8.6)+(D9*6)+(E9*7.8)+(F9*11.42) -> 0 | H9: =SUM(B9:F9) -> 0
A10: 43325 | G10: =(B10*8.6)+(C10*8.6)+(D10*6)+(E10*7.8)+(F10*11.42) -> 0 | H10: =SUM(B10:F10) -> 0
A11: 43326 | G11: =(B11*8.6)+(C11*8.6)+(D11*6)+(E11*7.8)+(F11*11.42) -> 0 | H11: =SUM(B11:F11) -> 0
A12: 43327 | G12: =(B12*8.6)+(C12*8.6)+(D12*6)+(E12*7.8)+(F12*11.42) -> 0 | H12: =SUM(B12:F12) -> 0
A13: 43328 | G13: =(B13*8.6)+(C13*8.6)+(D13*6)+(E13*7.8)+(F13*11.42) -> 0 | H13: =SUM(B13:F13) -> 0
... A24: 43343 | G24: =(B24*8.6)+(C24*8.6)+(D24*6)+(E24*7.8)+(F24*11.42) -> 0 | H24: =SUM(B24:F24) -> 0
A25: TOTAL PIPS | B25: =SUM(B2:B22) -> 0 | C25: =SUM(C2:C22) -> 0 | D25: =SUM(D2:D22) -> 0 | E25: =SUM(E2:E22) -> 0 | F25: =SUM(F2:F22) -> 0 | G25: =SUM(G2:G23) -> 0 | H25: =SUM(H2:H23) -> 0 | I25: =SUM(I2:I22) -> 0
A26: TOTAL MONTANT | B26: =(B25*8.6) -> 0 | C26: =(C25*8.6) -> 0 | D26: =(D25*6) -> 0 | E26: =(E25*7.8) -> 0 | F26: =(F25*11.42) -> 0 | G26: =SUM(B26:F26) -> 0
A27: TOTAL TRADES
A29: SC GAM
A30: TOTAL ACCOUNTS | B30: C - SFE | C30: F - VOL Portfolio | D30: B - SLINGSHOT | E30: TOTAL PIPS | F30: TOTAL MONTANT | G30: TRADES | H30: SLIPAGE
A31: 43313 | B31: ='C '!G30 -> 72 | C31: ='F '!D30 -> 0 | D31: ='B '!E30 -> 45 | E31: =SUM(B31:C31) -> 72 | F31: ='C '!I30+'F '!F30+'B '!G30 -> 911.25 | G31: ='C '!H30+'F '!E30 -> 2 | H31: ='C '!J30+'F '!G30 -> -74.1
A32: 43314 | B32: ='C '!G31 -> -154.6 | C32: ='F '!D31 -> 8.3 | D32: ='B '!E3 -> 0 | E32: =SUM(B32:C32) -> -146.3 | F32: ='C '!I31+'F '!F31+'B '!G31 -> -1359.982 | G32: ='C '!H31+'F '!E31 -> 24 | H32: ='C '!J31+'F '!G31 -> -54.4
A33: 43315 | B33: ='C '!G32 -> -27.7 | C33: ='F '!D32 -> -155.9 | D33: ='B '!E4 -> 0 | E33: =SUM(B33:C33) -> -183.6 | F33: ='C '!I32+'F '!F32+'B '!G32 -> -1578.96 | G33: ='C '!H32+'F '!E32 -> 14 | H33: ='C '!J32+'F '!G32 -> -55.3
A34: 43318 | B34: ='C '!G33 -> 0 | C34: ='F '!D33 -> -2.9 | D34: ='B '!E5 -> 0 | E34: =SUM(B34:C34) -> -2.9 | F34: ='C '!I33+'F '!F33+'B '!G33 -> -24.94 | G34: ='C '!H33+'F '!E33 -> 1 | H34: ='C '!J33+'F '!G33 -> 18.9
A35: 43319 | B35: ='C '!G34 -> 0 | C35: ='F '!D34 -> 0 | D35: ='B '!E6 -> 0 | E35: =SUM(B35:C35) -> 0 | F35: ='C '!I34+'F '!F34+'B '!G34 -> 0 | G35: ='C '!H34+'F '!E34 -> 0 | H35: ='C '!J34+'F '!G34 -> -5.5
A36: 43320 | B36: ='C '!G35 -> 351 | C36: ='F '!D35 -> -13 | D36: ='B '!E7 -> -42.3 | E36: =SUM(B36:C36) -> 338 | F36: ='C '!I35+'F '!F35+'B '!G35 -> 2626 | G36: ='C '!H35+'F '!E35 -> 16 | H36: ='C '!J35+'F '!G35 -> -23.1
A37: 43321 | B37: ='C '!G36 -> 0 | C37: ='F '!D36 -> 0 | D37: ='B '!E8 -> -34.7 | E37: =SUM(B37:C37) -> 0 | F37: ='C '!I36+'F '!F36+'B '!G36 -> 0 | G37: ='C '!H36+'F '!E36 -> 0 | H37: ='C '!J36+'F '!G36 -> -356.9
A38: 43322 | B38: ='C '!G37 -> -108.4 | C38: ='F '!D37 -> 435.6 | D38: ='B '!E9 -> 0 | E38: =SUM(B38:C38) -> 327.2 | F38: ='C '!I37+'F '!F37+'B '!G37 -> 3163.56 | G38: ='C '!H37+'F '!E37 -> 27 | H38: ='C '!J37+'F '!G37 -> -50.1
A39: 43325 | B39: ='C '!G38 -> 0 | C39: ='F '!D38 -> 0 | D39: ='B '!E10 -> 0 | E39: =SUM(B39:C39) -> 0 | F39: ='C '!I38+'F '!F38+'B '!G38 -> 0 | G39: ='C '!H38+'F '!E38 -> 0 | H39: ='C '!J38+'F '!G38 -> 0
A40: 43326 | B40: ='C '!G39 -> 0 | C40: ='F '!D39 -> -61.3 | D40: ='B '!E11 -> 0 | E40: =SUM(B40:C40) -> -61.3 | F40: ='C '!I39+'F '!F39+'B '!G39 -> -527.18 | G40: ='C '!H39+'F '!E39 -> 4 | H40: ='C '!J39+'F '!G39 -> -4.6
A41: 43327 | B41: ='C '!G40 -> 0 | C41: ='F '!D40 -> 0 | D41: ='B '!E12 -> 0 | E41: =SUM(B41:C41) -> 0 | F41: ='C '!I40+'F '!F40+'B '!G40 -> 0 | G41: ='C '!H40+'F '!E40 -> 0 | H41: ='C '!J40+'F '!G40 -> 0
A42: 43328 | B42: ='C '!G41 -> -110.4 | C42: ='F '!D41 -> -15.6 | D42: ='B '!E13 -> 0 | E42: =SUM(B42:C42) -> -126 | F42: ='C '!I41+'F '!F41+'B '!G41 -> -796.56 | G42: ='C '!H41+'F '!E41 -> 8 | H42: ='C '!J41+'F '!G41 -> -9
A43: 43329 | B43: ='C '!G42 -> -13.8 | C43: ='F '!D42 -> -91.2 | D43: ='B '!E14 -> -31.2 | E43: =SUM(B43:C43) -> -105 | F43: ='C '!I42+'F '!F42+'B '!G42 -> -1167.18 | G43: ='C '!H42+'F '!E42 -> 12 | H43: ='C '!J42+'F '!G42 -> -14.3
... A53: 43343 | B53: ='C '!G52 -> 0 | C53: ='F '!D52 -> 0 | D53: ='B '!E24 -> 0 | E53: =SUM(B53:C53) -> 0 | F53: ='C '!I52+'F '!F52+'B '!G52 -> 0 | G53: ='C '!H52+'F '!E52 -> 0 | H53: ='C '!J52+'F '!G52 -> 0
A54: TOTAL | B54: =SUM(B31:B51) -> -135.6 | C54: =SUM(C31:C51) -> -130.9 | D54: =SUM(D31:D51) -> 144.5 | E54: =SUM(E31:E51) -> -266.5 | F54: =SUM(F31:F52) -> -2393.312 | G54: =SUM(G31:G52) -> 137 | H54: =SUM(H31:H52) -> -709.5
A55: TOTAL TRADES | G55: =SUM(B55:C55) -> 0

Sheet SC GAM_FXPRO
A1: SC GAM_FXPRO | B1: EURUSD | C1: GBPUSD | D1: USDJPY | E1: AUDUSD | F1: EURAUD | G1: EURGBP | H1: USDCAD | I1: GBPJPY | J1: GBPCAD | K1: TOTAL MONTANT | L1: TOTAL PIPS | M1: TRADES
A2: 43313 | K2: =(B2*8.56)+(C2*8.58)+(D2*7.64)+(E2*8.55)+(F2*6.5)+(G2*11.3)+(H2*6.11)+(I2*7.8)+(J2*7.03) -> 0 | L2: =SUM(B2:I2) -> 0
A3: 43314 | K3: =(B3*8.56)+(C3*8.58)+(D3*7.64)+(E3*8.55)+(F3*6.5)+(G3*11.3)+(H3*6.11)+(I3*7.8)+(J3*7.03) -> 0 | L3: =SUM(B3:I3) -> 0
A4: 43315 | K4: =(B4*8.56)+(C4*8.58)+(D4*7.64)+(E4*8.55)+(F4*6.5)+(G4*11.3)+(H4*6.11)+(I4*7.8)+(J4*7.03) -> 0 | L4: =SUM(B4:I4) -> 0
A5: 43318 | K5: =(B5*8.56)+(C5*8.58)+(D5*7.64)+(E5*8.55)+(F5*6.5)+(G5*11.3)+(H5*6.11)+(I5*7.8)+(J5*7.03) -> 0 | L5: =SUM(B5:I5) -> 0
A6: 43319 | K6: =(B6*8.56)+(C6*8.58)+(D6*7.64)+(E6*8.55)+(F6*6.5)+(G6*11.3)+(H6*6.11)+(I6*7.8)+(J6*7.03) -> 0 | L6: =SUM(B6:I6) -> 0
A7: 43320 | K7: =(B7*8.56)+(C7*8.58)+(D7*7.64)+(E7*8.55)+(F7*6.5)+(G7*11.3)+(H7*6.11)+(I7*7.8)+(J7*7.03) -> 0 | L7: =SUM(B7:I7) -> 0
A8: 43321 | K8: =(B8*8.56)+(C8*8.58)+(D8*7.64)+(E8*8.55)+(F8*6.5)+(G8*11.3)+(H8*6.11)+(I8*7.8)+(J8*7.03) -> 0 | L8: =SUM(B8:I8) -> 0
A9: 43322 | K9: =(B9*8.56)+(C9*8.58)+(D9*7.64)+(E9*8.55)+(F9*6.5)+(G9*11.3)+(H9*6.11)+(I9*7.8)+(J9*7.03) -> 0 | L9: =SUM(B9:I9) -> 0
A10: 43325 | K10: =(B10*8.56)+(C10*8.58)+(D10*7.64)+(E10*8.55)+(F10*6.5)+(G10*11.3)+(H10*6.11)+(I10*7.8)+(J10*7.03) -> 0 | L10: =SUM(B10:I10) -> 0
A11: 43326 | K11: =(B11*8.56)+(C11*8.58)+(D11*7.64)+(E11*8.55)+(F11*6.5)+(G11*11.3)+(H11*6.11)+(I11*7.8)+(J11*7.03) -> 0 | L11: =SUM(B11:I11) -> 0
A12: 43327 | K12: =(B12*8.56)+(C12*8.58)+(D12*7.64)+(E12*8.55)+(F12*6.5)+(G12*11.3)+(H12*6.11)+(I12*7.8)+(J12*7.03) -> 0 | L12: =SUM(B12:I12) -> 0
A13: 43328 | K13: =(B13*8.56)+(C13*8.58)+(D13*7.64)+(E13*8.55)+(F13*6.5)+(G13*11.3)+(H13*6.11)+(I13*7.8)+(J13*7.03) -> 0 | L13: =SUM(B13:I13) -> 0
... A24: 43343 | K24: =(B24*8.56)+(C24*8.58)+(D24*7.64)+(E24*8.55)+(F24*6.5)+(G24*11.3)+(H24*6.11)+(I24*7.8)+(J24*7.03) -> 0 | L24: =SUM(B24:I24) -> 0
A25: TOTAL | B25: =SUM(B2:B23) -> 0 | C25: =SUM(C2:C23) -> 0 | D25: =SUM(D2:D23) -> 0 | E25: =SUM(E2:E23) -> 0 | F25: =SUM(F2:F23) -> 0 | G25: =SUM(G2:G23) -> 0 | H25: =SUM(H2:H23) -> 0 | I25: =SUM(I2:I23) -> 0 | ... M25: =SUM(M2:M23) -> 0
A26: TOTAL MONTANT | B26: =(B25*8.54) -> 0 | C26: =(C25*8.5) -> 0 | D26: =(D25*6.5) -> 0 | E26: =(E25*8.55) -> 0 | F26: =(F25*6.5) -> 0 | G26: =(G25*11.42) -> 0
A27: TOTAL TRADES | B27: 97 | C27: 31 | D27: 28 | E27: 3 | F27: 1 | G27: 2 | H27: 1
A29: Open Date | B29: Close Date | C29: Symbol | D29: Action | E29: Lots | F29: SL | G29: TP | H29: Open Price | I29: Close Price | J29: Commission | K29: Swap | L29: Pips | M29: Profit | N29: Gain | O29: Magic Number | P29: Duration (DD:HH:MM:SS) | Q29: Profitable(%) | R29: Profitable(time duration) | S29: Drawdown | T29: Risk:Reward | U29: Max(pips) | V29: Max(EUR) | W29: Min(pips) | X29: Min(EUR) | Y29: Entry Accuracy(%) | Z29: Exit Accuracy(%) | AA29: ProfitMissed(pips) | AB29: ProfitMissed(EUR)
A30: 43138.175 | B30: 43138.339 | C30: USDJPY | D30: Buy | E30: 1 | F30: 110.705 | G30: 0 | H30: 110.93 | I30: 110.705 | J30: 0 | K30: 0 | L30: -22.5 | M30: -174.55 | N30: -0.17 | O30: sl | P30: 57434642 | Q30: 00:03:56:37 | R30: 0 | S30: 0s | T30: 26.5 | U30: 26.53 | V30: 0 | W30: 0 | X30: -26.5 | Y30: -205.64 | Z30: 0 | AA30: 15.1 | AB30: -22.5 | AC30: -174.6
A31: 43138.34 | B31: 43138.676 | C31: USDJPY | D31: Sell | E31: 1 | F31: 110.922 | G31: 0 | H31: 110.682 | I31: 110.923 | J31: 0 | K31: 0 | L31: -24.1 | M31: -187.27 | N31: -0.19 | O31: sl | P31: 57438988 | Q31: 00:08:05:56 | R31: 0 | S31: 0s | T31: 24.1 | U31: 24.15 | V31: 0 | W31: 0 | X31: -24.1 | Y31: -187.257 | Z31: 0 | AA31: 0 | AB31: -24.1 | AC31: -187.26
A32: 43138.626 | B32: 43138.775 | C32: EURUSD | D32: Sell | E32: 1 | F32: 1.16528 | G32: 0 | H32: 1.16231 | I32: 1.16067 | J32: 0 | K32: 0 | L32: 16.4 | M32: 141.3 | N32: 0.14 | P32: 57451165 | Q32: 00:03:34:10 | R32: 100 | S32: 3h 34m | T32: 19.1 | U32: 0.03 | V32: 31.6 | W32: 272.392 | X32: 0 | Y32: 0 | Z32: 100 | AA32: 51.9 | AB32: -15.2 | AC32: -131.02
A33: 43138.677 | B33: 43166.448 | C33: EURUSD | D33: Sell | E33: 1 | F33: 1.16799 | G33: 1.12987 | H33: 1.16 | I33: 1.16649 | J33: 0 | K33: 3.8 | L33: -64.9 | M33: -552.57 | N33: -0.55 | P33: 57454984 | Q33: 00:18:30:00 | R33: 0.5 | S33: 5m | T33: 72.4 | U33: 769.23 | V33: 0.1 | W33: 0.857 | X33: -72.3 | Y33: -619.611 | Z33: 0.1 | AA33: 10.2 | AB33: -65 | AC33: -557.05
A34: 43138.677 | B34: 43138.938 | C34: EURUSD | D34: Sell | E34: 1 | F34: 0 | G34: 0 | H34: 1.16001 | I34: 1.16229 | J34: 0 | K34: 0 | L34: -22.8 | M34: -196.16 | N34: -0.2 | P34: 57455014 | Q34: 00:06:15:00 | R34: 0.3 | S34: 1m | T34: 23 | U34: 114.94 | V34: 0.2 | W34: 1.72 | X34: -22.8 | Y34: -196.08 | Z34: 0.9 | AA34: 0 | AB34: -23 | AC34: -197.8
A35: 43138.677 | B35: 43138.747 | C35: EURUSD | D35: Sell | E35: 1 | F35: 0 | G35: 0 | H35: 1.16 | I35: 1.16191 | J35: 0 | K35: 0 | L35: -19.1 | M35: -164.38 | N35: -0.16 | P35: 57455017 | Q35: 00:01:40:01 | R35: 0 | S35: 0s | T35: 19.1 | U35: 19.12 | V35: 0 | W35: 0 | X35: -19.1 | Y35: -164.451 | Z35: 0 | AA35: 0 | AB35: -19.1 | AC35: -164.45
A36: 43138.914 | B36: 43166.126 | C36: EURUSD | D36: Sell | E36: 1 | F36: 1.1654 | G36: 1.141 | H36: 1.16082 | I36: 1.16396 | J36: 0 | K36: 3.8 | L36: -31.4 | M36: -265.97 | N36: -0.27 | P36: 57465246 | Q36: 00:05:05:55 | R36: 0 | S36: 0s | T36: 35.4 | U36: 35.46 | V36: 0 | W36: 0 | X36: -35.4 | Y36: -304.086 | Z36: 0 | AA36: 11.3 | AB36: -31.4 | AC36: -269.73
A37: 43138.93 | B37: 43166.126 | C37: AUDUSD | D37: Sell | E37: 1 | F37: 0.73573 | G37: 0.72703 | H37: 0.7326 | I37: 0.73387 | J37: 0 | K37: -1.98 | L37: -12.7 | M37: -111.09 | N37: -0.11 | P37: 57465941 | Q37: 00:04:42:58 | R37: 0 | S37: 0s | T37: 16.3 | U37: 16.31 | V37: 0 | W37: 0 | X37: -16.3 | Y37: -140.017 | Z37: 0 | AA37: 22.1 | AB37: -12.7 | AC37: -109.09
A38: 43138.967 | B38: 43166.18 | C38: USDCAD | D38: Buy | E38: 1 | F38: 1.31467 | G38: 1.33087 | H38: 1.31903 | I38: 1.31922 | J38: 0 | K38: -0.78 | L38: 1.9 | M38: 11.61 | N38: 0.01 | P38: 57467827 | Q38: 00:05:07:14 | R38: 57.4 | S38: 2h 56m | T38: 20.2 | U38: 0.38 | V38: 16.6 | W38: 108.232 | X38: -6.3 | Y38: -41.076 | Z38: 72.5 | AA38: 35.8 | AB38: -14.7 | AC38: -95.84
A39: 43138.969 | B39: 43166.027 | C39: GBPUSD | D39: Sell | E39: 1 | F39: 1.32055 | G39: 1.30905 | H39: 1.31387 | I39: 1.31461 | J39: 0 | K39: 1.3 | L39: -7.4 | M39: -62.28 | N39: -0.06 | P39: 57468942 | Q39: 00:01:24:21 | R39: 0 | S39: 0s | T39: 7.4 | U39: 7.4 | V39: 0 | W39: 0 | X39: -7.4 | Y39: -63.566 | Z39: 0 | AA39: 0 | AB39: -7.4 | AC39: -63.57
A40: 43138.972 | B40: 43166.129 | C40: EURAUD | D40: Sell | E40: 1 | F40: 1.5926 | G40: 1.58498 | H40: 1.58636 | I40: 1.58667 | J40: 0 | K40: 2.91 | L40: -3.1 | M40: -16.63 | N40: -0.02 | P40: 57469176 | Q40: 00:03:47:44 | R40: 91.7 | S40: 3h 28m | T40: 16.4 | U40: 0.28 | V40: 13.3 | W40: 83.79 | X40: -3.7 | Y40: -23.31 | Z40: 78.2 | AA40: 3.5 | AB40: -16.4 | AC40: -103.32
A41: 43138.994 | B41: 43197.416 | C41: EURUSD | D41: Sell | E41: 1 | F41: 1.16816 | G41: 1.1606 | H41: 1.1635 | I41: 1.16817 | J41: 0 | K41: 7.6 | L41: -46.7 | M41: -392.17 | N41: -0.39 | O41: sl | P41: 57470086 | Q41: 01:10:07:48 | R41: 12.5 | S41: 4h 15m | T41: 60.2 | U41: 3.46 | V41: 13.5 | W41: 115.56 | X41: -46.7 | Y41: -399.752 | Z41: 22.4 | AA41: 0 | AB41: -60.2 | AC41: -515.31
A42: 43166.001 | B42: 43258.415 | C42: EURUSD | D42: Sell | E42: 1 | F42: 1.1724 | G42: 0 | H42: 1.16378 | I42: 1.17241 | J42: 0 | K42: 11.39 | L42: -86.3 | M42: -724.7 | N42: -0.74 | O42: sl | P42: 57470367 | Q42: 03:09:56:10 | R42: 7.5 | S42: 6h 8m | T42: 102.6 | U42: 5.3 | V42: 16.3 | W42: 139.039 | X42: -86.3 | Y42: -736.139 | Z42: 15.9 | AA42: 0 | AB42: -102.6 | AC42: -875.18
A43: 43166.193 | B43: 43166.776 | C43: USDJPY | D43: Sell | E43: 1 | F43: 111.135 | G43: 0 | H43: 110.855 | I43: 110.579 | J43: 0 | K43: 0 | L43: 27.6 | M43: 214.11 | N43: 0.22 | P43: 57476440 | Q43: 00:13:58:14 | R43: 58.6 | S43: 8h 11m | T43: 30.7 | U43: 0.75 | V43: 34.9 | W43: 270.824 | X43: -26.2 | Y43: -203.312 | Z43: 57.1 | AA43: 88.1 | AB43: -7.3 | AC43: -56.65
A44: 43166.678 | B44: 43166.789 | C44: EURUSD | D44: Sell | E44: 1 | F44: 1.16732 | G44: 0 | H44: 1.16418 | I44: 1.16566 | J44: 0 | K44: 0 | L44: -14.8 | M44: -126.97 | N44: -0.13 | P44: 57499988 | Q44: 00:02:38:35 | R44: 0 | S44: 0s | T44: 14.8 | U44: 14.81 | V44: 0 | W44: 0 | X44: -14.8 | Y44: -126.984 | Z44: 0 | AA44: 0 | AB44: -14.8 | AC44: -126.98
A45: 43166.708 | B45: 43197.163 | C45: GBPUSD | D45: Buy | E45: 1 | F45: 1.31243 | G45: 1.41773 | H45: 1.31787 | I45: 1.32028 | J45: 0 | K45: -6.63 | L45: 24.1 | M45: 199.93 | N45: 0.2 | P45: 57501282 | Q45: 00:10:54:58 | R45: 90.6 | S45: 9h 53m | T45: 12.3 | U45: 0.26 | V45: 36.4 | W45: 311.948 | X45: -9.3 | Y45: -79.701 | Z45: 79.6 | AA45: 73.1 | AB45: -12.3 | AC45: -105.41
A46: 43166.974 | B46: 43197.133 | C46: GBPCAD | D46: Sell | E46: 1 | F46: 1.74012 | G46: 1.72412 | H46: 1.73393 | I46: 1.73436 | J46: 0 | K46: -2.17 | L46: -4.3 | M46: -30.23 | N46: -0.03 | P46: 57510393 | Q46: 00:03:48:07 | R46: 88.3 | S46: 3h 21m | T46: 10.5 | U46: 0.69 | V46: 6.2 | W46: 40.486 | X46: -4.3 | Y46: -28.079 | Z46: 59 | AA46: 0 | AB46: -10.5 | AC46: -68.56
A47: 43197.292 | B47: 43197.792 | C47: USDJPY | D47: Buy | E47: 1 | F47: 110.278 | G47: 0 | H47: 110.463 | I47: 110.5 | J47: 0 | K47: 0 | L47: 3.7 | M47: 28.76 | N47: 0.03 | P47: 57520219 | Q47: 00:11:59:19 | R47: 84.4 | S47: 10h 7m | T47: 13.6 | U47: 1.3 | V47: 8.8 | W47: 68.376 | X47: -11.4 | Y47: -88.578 | Z47: 43.6 | AA47: 74.8 | AB47: -5.1 | AC47: -39.63
A48: 43197.469 | B48: 43197.812 | C48: EURUSD | D48: Sell | E48: 1 | F48: 0 | G48: 0 | H48: 1.16394 | I48: 1.16625 | J48: 0 | K48: 0 | L48: -23.1 | M48: -198.07 | N48: -0.2 | P48: 57527008 | Q48: 00:08:15:00 | R48: 13.6 | S48: 1h 7m | T48: 41.2 | U48: 5.87 | V48: 6 | W48: 51.42 | X48: -35.2 | Y48: -301.664 | Z48: 14.6 | AA48: 29.4 | AB48: -29.1 | AC48: -249.39
A49: 43197.526 | B49: 43197.78 | C49: EURUSD | D49: Sell | E49: 1 | F49: 1.16798 | G49: 0 | H49: 1.16349 | I49: 1.16406 | J49: 0 | K49: 0 | L49: -5.7 | M49: -48.97 | N49: -0.05 | P49: 57530126 | Q49: 00:06:04:57 | R49: 0 | S49: 0s | T49: 39.7 | U49: 39.84 | V49: 0 | W49: 0 | X49: -39.7 | Y49: -341.023 | Z49: 0 | AA49: 85.6 | AB49: -5.7 | AC49: -48.96
A50: 43197.606 | B50: 43197.812 | C50: EURUSD | D50: Sell | E50: 1 | F50: 0 | G50: 0 | H50: 1.16376 | I50: 1.16626 | J50: 0 | K50: 0 | L50: -25 | M50: -214.36 | N50: -0.22 | O50: master2 | P50: 57532965 | Q50: 00:04:56:33 | R50: 0.4 | S50: 1m | T50: 37.5 | U50: 74.07 | V50: 0.5 | W50: 4.285 | X50: -37 | Y50: -317.09 | Z50: 1.3 | AA50: 32 | AB50: -25.5 | AC50: -218.53
A51: 43197.746 | B51: 43227.375 | C51: EURUSD | D51: Sell | E51: 1 | F51: 1.16981 | G51: 1.15654 | H51: 1.16429 | I51: 1.1698 | J51: 0 | K51: 3.8 | L51: -55.1 | M51: -467.22 | N51: -0.48 | O51: master1 | P51: 57536710 | Q51: 00:15:06:20 | R51: 0 | S51: 0s | T51: 66.8 | U51: 67.11 | V51: 0 | W51: 0 | X51: -66.8 | Y51: -571.14 | Z51: 0 | AA51: 17.5 | AB51: -55.1 | AC51: -471.11
...

Sheet A
A1: A - PM Swing Trading | B1: EURJPY | C1: USDCAD | D1: TOTAL PIPS | E1: TRADES | F1: TOTAL MONTANT | G1: VOLUME
A2: 43313 | B2: 0 | C2: 0 | D2: =SUM(B2:C2) -> 0 | E2: 0 | F2: =G2*((B2*7.75)+(C2*6.62)) -> 0 | G2: 1
A3: 43314 | B3: 0 | C3: 0 | D3: =SUM(B3:C3) -> 0 | E3: 0 | F3: =G3*((B3*7.75)+(C3*6.62)) -> 0 | G3: 1
A4: 43315 | B4: 0 | C4: 0 | D4: =SUM(B4:C4) -> 0 | E4: 0 | F4: =G4*((B4*7.75)+(C4*6.62)) -> 0 | G4: 1
A5: 43318 | B5: 0 | C5: 0 | D5: =SUM(B5:C5) -> 0 | E5: 0 | F5: =G5*((B5*7.75)+(C5*6.62)) -> 0 | G5: 1
A6: 43319 | B6: 0 | C6: 0 | D6: =SUM(B6:C6) -> 0 | E6: 0 | F6: =G6*((B6*7.75)+(C6*6.62)) -> 0 | G6: 1
A7: 43320 | B7: 0 | C7: 0 | D7: =SUM(B7:C7) -> 0 | E7: 0 | F7: =G7*((B7*7.75)+(C7*6.62)) -> 0 | G7: 1
A8: 43321 | B8: 0 | C8: 133 | D8: =SUM(B8:C8) -> 133 | E8: 1 | F8: =G8*((B8*7.75)+(C8*6.62)) -> 880.46 | G8: 1
A9: 43322 | B9: 0 | C9: =74.3+119.6 -> 193.9 | D9: =SUM(B9:C9) -> 193.9 | E9: 2 | F9: =G9*((B9*7.75)+(C9*6.62)) -> 1283.618 | G9: 1
A10: 43325 | B10: 0 | C10: 0 | D10: =SUM(B10:C10) -> 0 | E10: 0 | F10: =G10*((B10*7.75)+(C10*6.62)) -> 0 | G10: 1
A11: 43326 | B11: 0 | C11: 0 | D11: =SUM(B11:C11) -> 0 | E11: 0 | F11: =G11*((B11*7.75)+(C11*6.62)) -> 0 | G11: 1
A12: 43327 | B12: =12.7+12.5 -> 25.2 | C12: 0 | D12: =SUM(B12:C12) -> 25.2 | E12: 2 | F12: =G12*((B12*7.75)+(C12*6.62)) -> 195.3 | G12: 1
A13: 43328 | B13: 0 | C13: 0 | D13: =SUM(B13:C13) -> 0 | E13: 0 | F13: =G13*((B13*7.75)+(C13*6.62)) -> 0 | G13: 1
A14: 43329 | B14: 0 | C14: 0 | D14: =SUM(B14:C14) -> 0 | E14: 0 | F14: =G14*((B14*7.75)+(C14*6.62)) -> 0 | G14: 1
A15: 43332 | B15: 0 | C15: 0 | D15: =SUM(B15:C15) -> 0 | E15: 0 | F15: =G15*((B15*7.75)+(C15*6.62)) -> 0 | G15: 1
A16: 43333 | B16: 0 | C16: 0 | D16: =SUM(B16:C16) -> 0 | E16: 0 | F16: =G16*((B16*7.75)+(C16*6.62)) -> 0 | G16: 1
A17: 43334 | B17: 0 | C17: -92.3 | D17: =SUM(B17:C17) -> -92.3 | E17: 3 | F17: =G17*((B17*7.75)+(C17*6.62)) -> -611.026 | G17: 1
A18: 43335 | B18: 0 | C18: 0 | D18: =SUM(B18:C18) -> 0 | E18: 0 | F18: =G18*((B18*7.75)+(C18*6.62)) -> 0 | G18: 1
A19: 43336 | B19: 0 | C19: 0 | D19: =SUM(B19:C19) -> 0 | E19: 0 | F19: =G19*((B19*7.75)+(C19*6.62)) -> 0 | G19: 1
A20: 43339 | B20: 0 | C20: 0 | D20: =SUM(B20:C20) -> 0 | E20: 0 | F20: =G20*((B20*7.75)+(C20*6.62)) -> 0 | G20: 1
A21: 43340 | B21: 0 | C21: 0 | D21: =SUM(B21:C21) -> 0 | E21: 0 | F21: =G21*((B21*7.75)+(C21*6.62)) -> 0 | G21: 1
A22: 43341 | B22: 0 | C22: 0 | D22: =SUM(B22:C22) -> 0 | E22: 0 | F22: =G22*((B22*7.75)+(C22*6.62)) -> 0 | G22: 1
A23: 43342 | B23: 0 | C23: 0 | D23: =SUM(B23:C23) -> 0 | E23: 0 | F23: =G23*((B23*7.75)+(C23*6.62)) -> 0 | G23: 1
A24: 43343 | B24: 0 | C24: 0 | D24: =SUM(B24:C24) -> 0 | E24: 0 | F24: =G24*((B24*7.75)+(C24*6.62)) -> 0 | G24: 1
A25: TOTAL | B25: =SUM(B2:B24) -> 25.2 | C25: =SUM(C2:C24) -> 234.6 | D25: =SUM(D2:D24) -> 259.8 | E25: =SUM(E2:E24) -> 8 | F25: =SUM(F2:F24) -> 1748.352
A26: TOTAL TRADES | B26: 2 | C26: 6 | E26: =SUM(B26:C26) -> 8
A27: TOTAL MONTANT | B27: =(B25*8.54) -> 215.208 | C27: =(C25*8.5) -> 1994.1
A29: PM Swing Trading / YRL CAPITAL | B29: EURJPY | C29: USDCAD | D29: TOTAL PIPS | E29: TRADES | F29: TOTAL MONTANT | G29: SLIPPAGE | H29: VOLUME
A30: 43313 | B30: 0 | C30: 0 | D30: =SUM(B30:C30) -> 0 | E30: 0 | F30: =((B30*7.75)+(C30*6.62)) -> 0 | G30: =D30-D2 -> 0 | H30: 1
A31: 43314 | B31: 0 | C31: 0 | D31: =SUM(B31:C31) -> 0 | E31: 0 | F31: =((B31*7.75)+(C31*6.62)) -> 0 | G31: =D31-D3 -> 0 | H31: 1
A32: 43315 | B32: 0 | C32: 0 | D32: =SUM(B32:C32) -> 0 | E32: 0 | F32: =((B32*7.75)+(C32*6.62)) -> 0 | G32: =D32-D4 -> 0 | H32: 1
A33: 43318 | B33: 0 | C33: 0 | D33: =SUM(B33:C33) -> 0 | E33: 0 | F33: =((B33*7.75)+(C33*6.62)) -> 0 | G33: =D33-D5 -> 0 | H33: 1
A34: 43319 | B34: 0 | C34: 0 | D34: =SUM(B34:C34) -> 0 | E34: 0 | F34: =((B34*7.75)+(C34*6.62)) -> 0 | G34: =D34-D6 -> 0 | H34: 1
A35: 43320 | B35: 0 | C35: 0 | D35: =SUM(B35:C35) -> 0 | E35: 0 | F35: =((B35*7.75)+(C35*6.62)) -> 0 | G35: =D35-D7 -> 0 | H35: 1
A36: 43321 | B36: 0 | C36: 0 | D36: =SUM(B36:C36) -> 0 | E36: 0 | F36: =((B36*7.75)+(C36*6.62)) -> 0 | G36: =D36-D8 -> -133 | H36: 1
A37: 43322 | B37: 0 | C37: 193.4 | D37: =SUM(B37:C37) -> 193.4 | E37: 2 | F37: =((B37*7.75)+(C37*6.62)) -> 1280.308 | G37: =D37-D9 -> -0.5 | H37: 1
A38: 43325 | B38: 0 | C38: 0 | D38: =SUM(B38:C38) -> 0 | E38: 0 | F38: =((B38*7.75)+(C38*6.62)) -> 0 | G38: =D38-D10 -> 0 | H38: 1
A39: 43326 | B39: 0 | C39: 0 | D39: =SUM(B39:C39) -> 0 | E39: 0 | F39: =((B39*7.75)+(C39*6.62)) -> 0 | G39: =D39-D11 -> 0 | H39: 1
A40: 43327 | B40: 24.8 | C40: 0 | D40: =SUM(B40:C40) -> 24.8 | E40: 2 | F40: =((B40*7.75)+(C40*6.62)) -> 192.2 | G40: =D40-D12 -> -0.4 | H40: 1
A41: 43328 | B41: 0 | C41: 0 | D41: =SUM(B41:C41) -> 0 | E41: 0 | F41: =((B41*7.75)+(C41*6.62)) -> 0 | G41: =D41-D13 -> 0 | H41: 1
...

Sheet B 
A1: B - SLINGHSOT | B1: EURAUD | C1: EURJPY | D1: GBPJPY | E1: TOTAL PIPS | F1: TRADES | G1: TOTAL MONTANT | H1: VOLUME
A2: 43313 | B2: 0 | C2: 0 | D2: 206.1 | E2: =SUM(B2:D2) -> 206.1 | F2: 6 | G2: =H2*((B2*6.4)+(C2*7.75)+(D2*7.77)) -> 1601.397 | H2: 1
A3: 43314 | B3: 0 | C3: 0 | D3: 0 | E3: =SUM(B3:D3) -> 0 | F3: 0 | G3: =H3*((B3*6.4)+(C3*7.75)+(D3*7.77)) -> 0 | H3: 1
A4: 43315 | B4: 0 | C4: 0 | D4: 0 | E4: =SUM(B4:D4) -> 0 | F4: 0 | G4: =H4*((B4*6.4)+(C4*7.75)+(D4*7.77)) -> 0 | H4: 1
A5: 43318 | B5: 0 | C5: 0 | D5: 0 | E5: =SUM(B5:D5) -> 0 | F5: 0 | G5: =H5*((B5*6.4)+(C5*7.75)+(D5*7.77)) -> 0 | H5: 1
A6: 43319 | B6: 0 | C6: 0 | D6: 0 | E6: =SUM(B6:D6) -> 0 | F6: 0 | G6: =H6*((B6*6.4)+(C6*7.75)+(D6*7.77)) -> 0 | H6: 1
A7: 43320 | B7: 0 | C7: -42.3 | D7: 0 | E7: =SUM(B7:D7) -> -42.3 | F7: 2 | G7: =H7*((B7*6.4)+(C7*7.75)+(D7*7.77)) -> -327.825 | H7: 1
A8: 43321 | B8: -34.7 | C8: 0 | D8: 0 | E8: =SUM(B8:D8) -> -34.7 | F8: 2 | G8: =H8*((B8*6.4)+(C8*7.75)+(D8*7.77)) -> -222.08 | H8: 1
A9: 43322 | B9: 0 | C9: 0 | D9: 0 | E9: =SUM(B9:D9) -> 0 | F9: 0 | G9: =H9*((B9*6.4)+(C9*7.75)+(D9*7.77)) -> 0 | H9: 1
A10: 43325 | B10: 0 | C10: 0 | D10: 0 | E10: =SUM(B10:D10) -> 0 | F10: 0 | G10: =H10*((B10*6.4)+(C10*7.75)+(D10*7.77)) -> 0 | H10: 1
A11: 43326 | B11: 0 | C11: 0 | D11: 0 | E11: =SUM(B11:D11) -> 0 | F11: 0 | G11: =H11*((B11*6.4)+(C11*7.75)+(D11*7.77)) -> 0 | H11: 1
A12: 43327 | B12: 0 | C12: 0 | D12: 0 | E12: =SUM(B12:D12) -> 0 | F12: 0 | G12: =H12*((B12*6.4)+(C12*7.75)+(D12*7.77)) -> 0 | H12: 1
A13: 43328 | B13: 0 | C13: 0 | D13: 0 | E13: =SUM(B13:D13) -> 0 | F13: 0 | G13: =H13*((B13*6.4)+(C13*7.75)+(D13*7.77)) -> 0 | H13: 1
... A24: 43343 | B24: 0 | C24: 0 | D24: 0 | E24: =SUM(B24:D24) -> 0 | F24: 0 | G24: =H24*((B24*6.4)+(C24*7.75)+(D24*7.77)) -> 0 | H24: 1
A25: TOTAL | B25: =SUM(B2:B24) -> -92.7 | C25: =SUM(C2:C24) -> 223.4 | D25: =SUM(D2:D24) -> 174.9 | E25: =SUM(E2:E24) -> 305.6 | F25: =SUM(F2:F24) -> 25 | G25: =SUM(G2:G24) -> 2497.043
A26: TOTAL TRADES | B26: 4 | C26: 13 | D26: 8 | F26: =SUM(B26:D26) -> 25
A27: TOTAL MONTANT | B27: =(B25*8.6) -> -797.22 | C27: =(C25*8.6) -> 1921.24 | D27: =(D25*8.6) -> 1504.14
A29: SLINGSHOT / SC GAM | B29: EURAUD | C29: EURJPY | D29: GBPJPY | E29: TOTAL PIPS | F29: TRADES | G29: TOTAL MONTANT | H29: SLIPPAGE | I29: VOLUME
A30: 43313 | B30: 0 | C30: 0 | D30: 45 | E30: =SUM(B30:D30) -> 45 | F30: 1 | G30: =H2*((B30*6.4)+(C30*7.75)+(D30*7.77)) -> 349.65 | H30: =C30-C2 -> 0 | I30: 1
A31: 43314 | B31: 0 | C31: 0 | D31: 0 | E31: =SUM(B31:D31) -> 0 | F31: 0 | G31: =H3*((B31*6.4)+(C31*7.75)+(D31*7.77)) -> 0 | H31: =C31-C3 -> 0 | I31: 1
A32: 43315 | B32: 0 | C32: 0 | D32: 0 | E32: =SUM(B32:D32) -> 0 | F32: 0 | G32: =H4*((B32*6.4)+(C32*7.75)+(D32*7.77)) -> 0 | H32: =C32-C4 -> 0 | I32: 1
A33: 43318 | B33: 0 | C33: 0 | D33: 0 | E33: =SUM(B33:D33) -> 0 | F33: 0 | G33: =H5*((B33*6.4)+(C33*7.75)+(D33*7.77)) -> 0 | H33: =C33-C5 -> 0 | I33: 1
A34: 43319 | B34: 0 | C34: 0 | D34: 0 | E34: =SUM(B34:D34) -> 0 | F34: 0 | G34: =H6*((B34*6.4)+(C34*7.75)+(D34*7.77)) -> 0 | H34: =C34-C6 -> 0 | I34: 1
A35: 43320 | B35: 0 | C35: 0 | D35: 0 | E35: =SUM(B35:D35) -> 0 | F35: 0 | G35: =H7*((B35*6.4)+(C35*7.75)+(D35*7.77)) -> 0 | H35: =C35-C7 -> 42.3 | I35: 1
A36: 43321 | B36: 0 | C36: 0 | D36: 0 | E36: =SUM(B36:D36) -> 0 | F36: 0 | G36: =H8*((B36*6.4)+(C36*7.75)+(D36*7.77)) -> 0 | H36: =C36-C8 -> 0 | I36: 1
A37: 43322 | B37: 0 | C37: 0 | D37: 0 | E37: =SUM(B37:D37) -> 0 | F37: 0 | G37: =H9*((B37*6.4)+(C37*7.75)+(D37*7.77)) -> 0 | H37: =C37-C9 -> 0 | I37: 1
A38: 43325 | B38: 0 | C38: 0 | D38: 0 | E38: =SUM(B38:D38) -> 0 | F38: 0 | G38: =H10*((B38*6.4)+(C38*7.75)+(D38*7.77)) -> 0 | H38: =C38-C10 -> 0 | I38: 1
A39: 43326 | B39: 0 | C39: 0 | D39: 0 | E39: =SUM(B39:D39) -> 0 | F39: 0 | G39: =H11*((B39*6.4)+(C39*7.75)+(D39*7.77)) -> 0 | H39: =C39-C11 -> 0 | I39: 1
A40: 43327 | B40: 0 | C40: 0 | D40: 0 | E40: =SUM(B40:D40) -> 0 | F40: 0 | G40: =H12*((B40*6.4)+(C40*7.75)+(D40*7.77)) -> 0 | H40: =C40-C12 -> 0 | I40: 1
A41: 43328 | B41: 0 | C41: 0 | D41: 0 | E41: =SUM(B41:D41) -> 0 | F41: 0 | G41: =H13*((B41*6.4)+(C41*7.75)+(D41*7.77)) -> 0 | H41: =C41-C13 -> 0 | I41: 1
... A52: 43343 | B52: 0 | C52: 0 | D52: 0 | E52: =SUM(B52:D52) -> 0 | F52: 0 | G52: =H24*((B52*6.4)+(C52*7.75)+(D52*7.77)) -> 0 | H52: =C52-C24 -> 0 | I52: 1
A53: TOTAL | B53: =SUM(B30:B52) -> -59.9 | C53: =SUM(C30:C52) -> 0 | D53: =SUM(D30:D52) -> 11 | E53: =SUM(E30:E52) -> -48.9 | F53: =SUM(F30:F52) -> 5 | G53: =SUM(G30:G52) -> -297.89 | H53: =SUM(H30:H51) -> -223.4
A54: TOTAL MONTANT | B54: =(B53*8.6) -> -515.14 | C54: =(C53*8.6) -> 0 | D54: =(D53*8.6) -> 94.6
A55: TOTAL TRADES | F55: =SUM(B55:C55) -> 0
A58: Open Date | B58: Close Date | C58: Symbol | D58: Action | E58: SL | F58: TP | G58: Lots | H58: Open Price | I58: Close Price | J58: Commission | K58: Swap | L58: Pips | M58: Profit | N58: Gain | O58: Duration (DD:HH:MM:SS) | P58: Profitable(%) | Q58: Profitable(time duration) | R58: Drawdown | S58: Risk:Reward | T58: Max(pips) | U58: Max(USD) | V58: Min(pips) | W58: Min(USD) | X58: Entry Accuracy(%) | Y58: Exit Accuracy(%) | Z58: ProfitMissed(pips) | AA58: ProfitMissed(USD)
A59: 43320.576 | B59: 43320.91 | C59: EURJPY | D59: Sell | E59: 129.099 | F59: 126.901 | G59: 0.12 | H59: 128.731 | I59: 128.943 | J59: -0.7 | K59: 0 | L59: -21.2 | M59: -23.62 | N59: -0.3 | O59: 00:07:59:55 | P59: 39.2 | Q59: 3h 8m | R59: 34.3 | S59: 1.62 | T59: 13.1 | U59: 14.148 | V59: -21.2 | W59: -22.896 | X59: 38.2 | Y59: 0 | Z59: -34.3 | AA59: -37.04
A60: 43320.576 | B60: 43320.91 | C60: EURJPY | D60: Sell | E60: 129.099 | F60: 126.901 | G60: 0.24 | H60: 128.733 | I60: 128.944 | J60: -1.39 | K60: 0 | L60: -21.1 | M60: -47.03 | N60: -0.59 | O60: 00:07:59:51 | P60: 40.6 | Q60: 3h 14m | R60: 34.4 | S60: 1.59 | T60: 13.3 | U60: 28.728 | V60: -21.1 | W60: -45.576 | X60: 38.7 | Y60: 0 | Z60: -34.4 | AA60: -74.3
A61: 07/31/2018 16:05 | B61: 43108.781 | C61: GBPJPY | D61: Buy | E61: 146.284 | F61: 148.051 | G61: 0.03 | H61: 146.638 | I61: 146.591 | J61: -0.19 | K61: -0.06 | L61: -4.7 | M61: -1.51 | N61: -0.02 | O61: 01:02:39:47 | P61: 78.4 | Q61: 20h 54m | R61: 75.4 | S61: 0.59 | T61: 47.4 | U61: 12.798 | V61: -28 | W61: -7.56 | X61: 62.9 | Y61: 30.9 | Z61: -52.1 | AA61: -14.07
A62: 07/31/2018 16:05 | B62: 43108.434 | C62: GBPJPY | D62: Buy | E62: 146.284 | F62: 148.051 | G62: 0.01 | H62: 146.638 | I62: 147.093 | J62: -0.07 | K62: -0.02 | L62: 45.5 | M62: 3.97 | N62: 0.05 | O62: 00:18:19:47 | P62: 87.7 | Q62: 16h 4m | R62: 31.4 | S62: 0.12 | T62: 47.4 | U62: 4.266 | V62: -5.8 | W62: -0.522 | X62: 89.1 | Y62: 96.4 | Z62: -1.9 | AA62: -0.17
A63: 07/31/2018 16:05 | B63: 43108.431 | C63: GBPJPY | D63: Buy | E63: 146.284 | F63: 148.051 | G63: 0.01 | H63: 146.638 | I63: 147.1 | J63: -0.06 | K63: -0.02 | L63: 46.2 | M63: 4.04 | N63: 0.05 | O63: 00:18:14:48 | P63: 87.7 | Q63: 16h 0m | R63: 31.4 | S63: 0.12 | T63: 47.4 | U63: 4.266 | V63: -5.8 | W63: -0.522 | X63: 89.1 | Y63: 97.7 | Z63: -1.2 | AA63: -0.11
...

Sheet C 
A1: C - SFE | B1: EURUSD | C1: GBPUSD | D1: EURAUD | E1: GBPJPY | F1: EURGBP | G1: TOTAL PIPS | H1: TRADES | I1: TOTAL MONTANT
A2: 43313 | B2: 0 | C2: 0 | D2: 0 | E2: 74.2 | F2: 0 | G2: =SUM(B2:F2) -> 74.2 | H2: 2 | I2: =(B2*8.6)+(C2*8.6)+(D2*6)+(E2*7.8)+(F2*11.42) -> 578.76
A3: 43314 | B3: 0 | C3: -78.8 | D3: 0 | E3: 0 | F3: -21.4 | G3: =SUM(B3:F3) -> -100.2 | H3: 20 | I3: =(B3*8.6)+(C3*8.6)+(D3*6)+(E3*7.8)+(F3*11.42) -> -922.068
A4: 43315 | B4: -25.4 | C4: 80.5 | D4: 0 | E4: 0 | F4: -42.9 | G4: =SUM(B4:F4) -> 12.2 | H4: 8 | I4: =(B4*8.6)+(C4*8.6)+(D4*6)+(E4*7.8)+(F4*11.42) -> -16.058
A5: 43318 | B5: 0 | C5: 0 | D5: 0 | E5: 0 | F5: -20.7 | G5: =SUM(B5:F5) -> -20.7 | H5: 4 | I5: =(B5*8.6)+(C5*8.6)+(D5*6)+(E5*7.8)+(F5*11.42) -> -236.394
A6: 43319 | B6: 0 | C6: 0 | D6: 0 | E6: 0 | F6: 5.5 | G6: =SUM(B6:F6) -> 5.5 | H6: 1 | I6: =(B6*8.6)+(C6*8.6)+(D6*6)+(E6*7.8)+(F6*11.42) -> 62.81
A7: 43320 | B7: 0 | C7: 0 | D7: 0 | E7: 363.7 | F7: 0 | G7: =SUM(B7:F7) -> 363.7 | H7: 8 | I7: =(B7*8.6)+(C7*8.6)+(D7*6)+(E7*7.8)+(F7*11.42) -> 2836.86
A8: 43321 | B8: 0 | C8: 0 | D8: 0 | E8: 356.9 | F8: 0 | G8: =SUM(B8:F8) -> 356.9 | H8: 4 | I8: =(B8*8.6)+(C8*8.6)+(D8*6)+(E8*7.8)+(F8*11.42) -> 2783.82
A9: 43322 | B9: 67 | C9: 0 | D9: -93.2 | E9: -46.5 | F9: 0 | G9: =SUM(B9:F9) -> -72.7 | H9: 15 | I9: =(B9*8.6)+(C9*8.6)+(D9*6)+(E9*7.8)+(F9*11.42) -> -345.7
A10: 43325 | B10: 0 | C10: 0 | D10: 0 | E10: 0 | F10: 0 | G10: =SUM(B10:F10) -> 0 | H10: 0 | I10: =(B10*8.6)+(C10*8.6)+(D10*6)+(E10*7.8)+(F10*11.42) -> 0
A11: 43326 | B11: 0 | C11: 0 | D11: 0 | E11: 0 | F11: 0 | G11: =SUM(B11:F11) -> 0 | H11: 0 | I11: =(B11*8.6)+(C11*8.6)+(D11*6)+(E11*7.8)+(F11*11.42) -> 0
A12: 43327 | B12: 0 | C12: 0 | D12: 0 | E12: 0 | F12: 0 | G12: =SUM(B12:F12) -> 0 | H12: 0 | I12: =(B12*8.6)+(C12*8.6)+(D12*6)+(E12*7.8)+(F12*11.42) -> 0
A13: 43328 | B13: 0 | C13: 0 | D13: -102.9 | E13: 0 | F13: 0 | G13: =SUM(B13:F13) -> -102.9 | H13: 7 | I13: =(B13*8.6)+(C13*8.6)+(D13*6)+(E13*7.8)+(F13*11.42) -> -617.4
... A19: 43336 | B19: -45.4 | C19: 2 | D19: 0 | E19: 0 | F19: 0 | G19: =SUM(B19:F19) -> -43.4 | H19: 4 | I19: =(B19*8.6)+(C19*8.6)+(D19*6)+(E19*7.8)+(F19*11.42) -> -373.24
A20: 43339 | B20: 0 | C20: 0 | D20: 0 | E20: 0 | F20: 0 | G20: =SUM(B20:F20) -> 0 | I20: =(B20*8.6)+(C20*8.6)+(D20*6)+(E20*7.8)+(F20*11.42) -> 0
A21: 43340 | B21: 0 | C21: 0 | D21: 0 | E21: 0 | F21: 0 | G21: =SUM(B21:F21) -> 0 | I21: =(B21*8.6)+(C21*8.6)+(D21*6)+(E21*7.8)+(F21*11.42) -> 0
A22: 43341 | B22: 0 | C22: 0 | D22: 0 | E22: 0 | F22: 0 | G22: =SUM(B22:F22) -> 0 | I22: =(B22*8.6)+(C22*8.6)+(D22*6)+(E22*7.8)+(F22*11.42) -> 0
A23: 43342 | B23: 0 | C23: 0 | D23: 0 | E23: 0 | F23: 0 | G23: =SUM(B23:F23) -> 0 | I23: =(B23*8.6)+(C23*8.6)+(D23*6)+(E23*7.8)+(F23*11.42) -> 0
A24: 43343 | B24: 0 | C24: 0 | D24: 0 | E24: 0 | F24: 0 | G24: =SUM(B24:F24) -> 0 | I24: =(B24*8.6)+(C24*8.6)+(D24*6)+(E24*7.8)+(F24*11.42) -> 0
A25: TOTAL | B25: =SUM(B2:B22) -> -94.2 | C25: =SUM(C2:C22) -> 6 | D25: =SUM(D2:D22) -> -196.1 | E25: =SUM(E2:E22) -> 748.3 | F25: =SUM(F2:F22) -> -79.5 | G25: =SUM(G2:G24) -> 384.5 | H25: =SUM(H2:H24) -> 89 | I25: =SUM(I2:I22) -> 2993.73
A26: TOTAL TRADES | B26: 22 | C26: 17 | D26: 15 | E26: 16 | F26: 19 | H26: =SUM(B26:F26) -> 89
A27: TOTAL MONTANT | B27: =(B25*8.6) -> -810.12 | C27: =(C25*8.6) -> 51.6 | D27: =(D25*6) -> -1176.6 | E27: =(E25*7.8) -> 5836.74 | F27: =(F25*11.42) -> -907.89
A29: SFE / SC GAM | B29: EURUSD | C29: GBPUSD | D29: EURAUD | E29: GBPJPY | F29: EURGBP | G29: TOTAL PIPS | H29: TRADES | I29: TOTAL MONTANT | J29: SLIPPAGE
A30: 43313 | B30: 0 | C30: 0 | D30: 0 | E30: 72 | F30: 0 | G30: =SUM(B30:F30) -> 72 | H30: 2 | I30: =(B30*8.6)+(C30*8.6)+(D30*6)+(E30*7.8)+(F30*11.42) -> 561.6 | J30: =G30-G2 -> -2.2
A31: 43314 | B31: 0 | C31: -118.5 | D31: 0 | E31: 0 | F31: -36.1 | G31: =SUM(B31:F31) -> -154.6 | H31: 21 | I31: =(B31*8.6)+(C31*8.6)+(D31*6)+(E31*7.8)+(F31*11.42) -> -1431.362 | J31: =G31-G3 -> -54.4
A32: 43315 | B32: -27.7 | C32: 0 | D32: 0 | E32: 0 | F32: 0 | G32: =SUM(B32:F32) -> -27.7 | H32: 2 | I32: =(B32*8.6)+(C32*8.6)+(D32*6)+(E32*7.8)+(F32*11.42) -> -238.22 | J32: =G32-G4 -> -39.9
A33: 43318 | B33: 0 | C33: 0 | D33: 0 | E33: 0 | F33: 0 | G33: =SUM(B33:F33) -> 0 | H33: 0 | I33: =(B33*8.6)+(C33*8.6)+(D33*6)+(E33*7.8)+(F33*11.42) -> 0 | J33: =G33-G5 -> 20.7
A34: 43319 | B34: 0 | C34: 0 | D34: 0 | E34: 0 | F34: 0 | G34: =SUM(B34:F34) -> 0 | H34: 0 | I34: =(B34*8.6)+(C34*8.6)+(D34*6)+(E34*7.8)+(F34*11.42) -> 0 | J34: =G34-G6 -> -5.5
A35: 43320 | B35: 0 | C35: 0 | D35: 0 | E35: 351 | F35: 0 | G35: =SUM(B35:F35) -> 351 | H35: 8 | I35: =(B35*8.6)+(C35*8.6)+(D35*6)+(E35*7.8)+(F35*11.42) -> 2737.8 | J35: =G35-G7 -> -12.7
A36: 43321 | B36: 0 | C36: 0 | D36: 0 | E36: 0 | F36: 0 | G36: =SUM(B36:F36) -> 0 | H36: 0 | I36: =(B36*8.6)+(C36*8.6)+(D36*6)+(E36*7.8)+(F36*11.42) -> 0 | J36: =G36-G8 -> -356.9
A37: 43322 | B37: 60 | C37: 0 | D37: -119.4 | E37: -49 | F37: 0 | G37: =SUM(B37:F37) -> -108.4 | H37: 15 | I37: =(B37*8.6)+(C37*8.6)+(D37*6)+(E37*7.8)+(F37*11.42) -> -582.6 | J37: =G37-G9 -> -35.7
A38: 43325 | B38: 0 | C38: 0 | D38: 0 | E38: 0 | F38: 0 | G38: =SUM(B38:F38) -> 0 | H38: 0 | I38: =(B38*8.6)+(C38*8.6)+(D38*6)+(E38*7.8)+(F38*11.42) -> 0 | J38: =G38-G10 -> 0
A39: 43326 | B39: 0 | C39: 0 | D39: 0 | E39: 0 | F39: 0 | G39: =SUM(B39:F39) -> 0 | H39: 0 | I39: =(B39*8.6)+(C39*8.6)+(D39*6)+(E39*7.8)+(F39*11.42) -> 0 | J39: =G39-G11 -> 0
A40: 43327 | B40: 0 | C40: 0 | D40: 0 | E40: 0 | F40: 0 | G40: =SUM(B40:F40) -> 0 | H40: 0 | I40: =(B40*8.6)+(C40*8.6)+(D40*6)+(E40*7.8)+(F40*11.42) -> 0 | J40: =G40-G12 -> 0
A41: 43328 | B41: 0 | C41: 0 | D41: -110.4 | E41: 0 | F41: 0 | G41: =SUM(B41:F41) -> -110.4 | H41: 7 | I41: =(B41*8.6)+(C41*8.6)+(D41*6)+(E41*7.8)+(F41*11.42) -> -662.4 | J41: =G41-G13 -> -7.5
... A47: 43336 | B47: -51.3 | C47: 0.9 | D47: 0 | E47: 0 | F47: 0 | G47: =SUM(B47:F47) -> -50.4 | H47: 4 | I47: =(B47*8.6)+(C47*8.6)+(D47*6)+(E47*7.8)+(F47*11.42) -> -433.44 | J47: =G47-G19 -> -7
A48: 43339 | B48: 0 | C48: 0 | D48: 0 | E48: 0 | F48: 0 | G48: =SUM(B48:F48) -> 0 | I48: =(B48*8.6)+(C48*8.6)+(D48*6)+(E48*7.8)+(F48*11.42) -> 0 | J48: =G48-G20 -> 0
A49: 43340 | B49: 0 | C49: 0 | D49: 0 | E49: 0 | F49: 0 | G49: =SUM(B49:F49) -> 0 | I49: =(B49*8.6)+(C49*8.6)+(D49*6)+(E49*7.8)+(F49*11.42) -> 0 | J49: =G49-G21 -> 0
A50: 43341 | B50: 0 | C50: 0 | D50: 0 | E50: 0 | F50: 0 | G50: =SUM(B50:F50) -> 0 | I50: =(B50*8.6)+(C50*8.6)+(D50*6)+(E50*7.8)+(F50*11.42) -> 0 | J50: =G50-G22 -> 0
A51: 43342 | B51: 0 | C51: 0 | D51: 0 | E51: 0 | F51: 0 | G51: =SUM(B51:F51) -> 0 | I51: =(B51*8.6)+(C51*8.6)+(D51*6)+(E51*7.8)+(F51*11.42) -> 0 | J51: =G51-G23 -> 0
...

Sheet D
A1: D - Strive | B1: EURUSD | C1: USDJPY | D1: TOTAL PIPS | E1: TRADES | F1: TOTAL MONTANT
A2: 43313 | B2: =SUMPRODUCT((VALUE(TEXT($A$59:$A$125,"JJ/MM/AAAA"))=VALUE(TEXT(A2,"JJ/MM/AAAA")))*($C$59:$C$125=$B$1),$L$59:$L$125) -> #VALUE! | C2: =SUMPRODUCT((VALUE(TEXT($A$59:$A$125,"JJ/MM/AAAA"))=VALUE(TEXT(A2,"JJ/MM/AAAA")))*($C$59:$C$125=$C$1),$L$59:$L$125) -> #VALUE! | D2: =SUM(B2:C2) -> #VALUE! | E2: 4 | F2: =(B2*8.6)+(C2*7.86) -> #VALUE!
A3: 43314 | B3: =SUMPRODUCT((VALUE(TEXT($A$59:$A$125,"JJ/MM/AAAA"))=VALUE(TEXT(A3,"JJ/MM/AAAA")))*($C$59:$C$125=$B$1),$L$59:$L$125) -> #VALUE! | C3: =SUMPRODUCT((VALUE(TEXT($A$59:$A$125,"JJ/MM/AAAA"))=VALUE(TEXT(A3,"JJ/MM/AAAA")))*($C$59:$C$125=$C$1),$L$59:$L$125) -> #VALUE! | D3: =SUM(B3:C3) -> #VALUE! | E3: 1 | F3: =(B3*8.54)+(C3*7.86) -> #VALUE!
A4: 43315 | B4: =SUMPRODUCT((VALUE(TEXT($A$59:$A$125,"JJ/MM/AAAA"))=VALUE(TEXT(A4,"JJ/MM/AAAA")))*($C$59:$C$125=$B$1),$L$59:$L$125) -> #VALUE! | C4: =SUMPRODUCT((VALUE(TEXT($A$59:$A$125,"JJ/MM/AAAA"))=VALUE(TEXT(A4,"JJ/MM/AAAA")))*($C$59:$C$125=$C$1),$L$59:$L$125) -> #VALUE! | D4: =SUM(B4:C4) -> #VALUE! | E4: 2 | F4: =(B4*8.54)+(C4*7.86) -> #VALUE!
A5: 43318 | B5: =SUMPRODUCT((VALUE(TEXT($A$59:$A$125,"JJ/MM/AAAA"))=VALUE(TEXT(A5,"JJ/MM/AAAA")))*($C$59:$C$125=$B$1),$L$59:$L$125) -> #VALUE! | C5: =SUMPRODUCT((VALUE(TEXT($A$59:$A$125,"JJ/MM/AAAA"))=VALUE(TEXT(A5,"JJ/MM/AAAA")))*($C$59:$C$125=$C$1),$L$59:$L$125) -> #VALUE! | D5: =SUM(B5:C5) -> #VALUE! | E5: 3 | F5: =(B5*8.54)+(C5*7.86) -> #VALUE!
A6: 43319 | B6: =SUMPRODUCT((VALUE(TEXT($A$59:$A$125,"JJ/MM/AAAA"))=VALUE(TEXT(A6,"JJ/MM/AAAA")))*($C$59:$C$125=$B$1),$L$59:$L$125) -> #VALUE! | C6: =SUMPRODUCT((VALUE(TEXT($A$59:$A$125,"JJ/MM/AAAA"))=VALUE(TEXT(A6,"JJ/MM/AAAA")))*($C$59:$C$125=$C$1),$L$59:$L$125) -> #VALUE! | D6: =SUM(B6:C6) -> #VALUE! | E6: 3 | F6: =(B6*8.54)+(C6*7.86) -> #VALUE!
A7: 43320 | B7: =SUMPRODUCT((VALUE(TEXT($A$59:$A$125,"JJ/MM/AAAA"))=VALUE(TEXT(A7,"JJ/MM/AAAA")))*($C$59:$C$125=$B$1),$L$59:$L$125) -> #VALUE! | C7: =SUMPRODUCT((VALUE(TEXT($A$59:$A$125,"JJ/MM/AAAA"))=VALUE(TEXT(A7,"JJ/MM/AAAA")))*($C$59:$C$125=$C$1),$L$59:$L$125) -> #VALUE! | D7: =SUM(B7:C7) -> #VALUE! | E7: 2 | F7: =(B7*8.54)+(C7*7.86) -> #VALUE!
A8: 43321 | B8: =SUMPRODUCT((VALUE(TEXT($A$59:$A$125,"JJ/MM/AAAA"))=VALUE(TEXT(A8,"JJ/MM/AAAA")))*($C$59:$C$125=$B$1),$L$59:$L$125) -> #VALUE! | C8: =SUMPRODUCT((VALUE(TEXT($A$59:$A$125,"JJ/MM/AAAA"))=VALUE(TEXT(A8,"JJ/MM/AAAA")))*($C$59:$C$125=$C$1),$L$59:$L$125) -> #VALUE! | D8: =SUM(B8:C8) -> #VALUE! | E8: 4 | F8: =(B8*8.54)+(C8*7.86) -> #VALUE!
A9: 43322 | B9: =SUMPRODUCT((VALUE(TEXT($A$59:$A$125,"JJ/MM/AAAA"))=VALUE(TEXT(A9,"JJ/MM/AAAA")))*($C$59:$C$125=$B$1),$L$59:$L$125) -> #VALUE! | C9: =SUMPRODUCT((VALUE(TEXT($A$59:$A$125,"JJ/MM/AAAA"))=VALUE(TEXT(A9,"JJ/MM/AAAA")))*($C$59:$C$125=$C$1),$L$59:$L$125) -> #VALUE! | D9: =SUM(B9:C9) -> #VALUE! | E9: 4 | F9: =(B9*8.54)+(C9*7.86) -> #VALUE!
A10: 43325 | B10: =SUMPRODUCT((VALUE(TEXT($A$59:$A$125,"JJ/MM/AAAA"))=VALUE(TEXT(A10,"JJ/MM/AAAA")))*($C$59:$C$125=$B$1),$L$59:$L$125) -> #VALUE! | C10: =SUMPRODUCT((VALUE(TEXT($A$59:$A$125,"JJ/MM/AAAA"))=VALUE(TEXT(A10,"JJ/MM/AAAA")))*($C$59:$C$125=$C$1),$L$59:$L$125) -> #VALUE! | D10: =SUM(B10:C10) -> #VALUE! | E10: 4 | F10: =(B10*8.54)+(C10*7.86) -> #VALUE!
A11: 43326 | B11: =SUMPRODUCT((VALUE(TEXT($A$59:$A$125,"JJ/MM/AAAA"))=VALUE(TEXT(A11,"JJ/MM/AAAA")))*($C$59:$C$125=$B$1),$L$59:$L$125) -> #VALUE! | C11: =SUMPRODUCT((VALUE(TEXT($A$59:$A$125,"JJ/MM/AAAA"))=VALUE(TEXT(A11,"JJ/MM/AAAA")))*($C$59:$C$125=$C$1),$L$59:$L$125) -> #VALUE! | D11: =SUM(B11:C11) -> #VALUE! | E11: 3 | F11: =(B11*8.54)+(C11*7.86) -> #VALUE!
