Workbook

Sheet YLR_SC GAM
A1: 43313
A2: TOTAL ACCOUNTS | B2: A - PM Swing Trading | C2: B - SLINGSHOT | D2: C - SFE | E2: D - Strive | F2: E - Pepperstone | G2: F - VOL Portfolio | H2: G - Atlas | I2: H - Scorpion | J2: I - YRL CAPITAL | K2: TOTAL PIPS | L2: TRADES | M2: TOTAL MONTANT
A3: 43313 | B3: =A!D2 -> 0 | C3: ='B '!E2 -> 206.1 | D3: ='C '!G2 -> 74.2 | E3: =D!D2 -> #VALUE! | F3: ='E '!D2 -> 0 | G3: ='F '!D2 -> 71.9 | H3: =G!F2 -> 0 | I3: =H!E2 -> -28.7 | J3: ='I '!L2 -> 0 | K3: =SUM(B3:J3) -> #VALUE! | L3: =A!E2+'B '!F2+'C '!H2+D!E2+'E '!E2+'F '!E2+G!G2+H!F2 -> 18 | M3: =A!F2+'B '!G2+'C '!I2+D!F2+'E '!F2+'F '!F2+G!H2+H!G2 -> #VALUE!
A4: 43314 | B4: =A!D3 -> 0 | C4: ='B '!E3 -> 0 | D4: ='C '!G3 -> -100.2 | E4: =D!D3 -> #VALUE! | F4: ='E '!D3 -> 0 | G4: ='F '!D3 -> 14.1 | H4: =G!F3 -> 152.7 | I4: =H!E3 -> 12.5 | J4: ='I '!L3 -> 0 | K4: =SUM(B4:J4) -> #VALUE! | L4: =A!E3+'B '!F3+'C '!H3+D!E3+'E '!E3+'F '!E3+G!G3+H!F3 -> 31 | M4: =A!F3+'B '!G3+'C '!I3+D!F3+'E '!F3+'F '!F3+G!H3+H!G3 -> #VALUE!
A5: 43315 | B5: =A!D4 -> 0 | C5: ='B '!E4 -> 0 | D5: ='C '!G4 -> 12.2 | E5: =D!D4 -> #VALUE! | F5: ='E '!D4 -> 0 | G5: ='F '!D4 -> -134.7 | H5: =G!F4 -> 3.1 | I5: =H!E4 -> 105.8 | J5: ='I '!L4 -> 0 | K5: =SUM(B5:J5) -> #VALUE! | L5: =A!E4+'B '!F4+'C '!H4+D!E4+'E '!E4+'F '!E4+G!G4+H!F4 -> 35 | M5: =A!F4+'B '!G4+'C '!I4+D!F4+'E '!F4+'F '!F4+G!H4+H!G4 -> #VALUE!
A6: 43318 | B6: =A!D5 -> 0 | C6: ='B '!E5 -> 0 | D6: ='C '!G5 -> -20.7 | E6: =D!D5 -> #VALUE! | F6: ='E '!D5 -> 0 | G6: ='F '!D5 -> -1.1 | H6: =G!F5 -> 19.2 | I6: =H!E5 -> 30.7 | J6: ='I '!L5 -> 0 | K6: =SUM(B6:J6) -> #VALUE! | L6: =A!E5+'B '!F5+'C '!H5+D!E5+'E '!E5+'F '!E5+G!G5+H!F5 -> 12 | M6: =A!F5+'B '!G5+'C '!I5+D!F5+'E '!F5+'F '!F5+G!H5+H!G5 -> #VALUE!
A7: 43319 | B7: =A!D6 -> 0 | C7: ='B '!E6 -> 0 | D7: ='C '!G6 -> 5.5 | E7: =D!D6 -> #VALUE! | F7: ='E '!D6 -> 0 | G7: ='F '!D6 -> 0 | H7: =G!F6 -> 0 | I7: =H!E6 -> 4.8 | J7: ='I '!L6 -> 0 | K7: =SUM(B7:J7) -> #VALUE! | L7: =A!E6+'B '!F6+'C '!H6+D!E6+'E '!E6+'F '!E6+G!G6+H!F6 -> 6 | M7: =A!F6+'B '!G6+'C '!I6+D!F6+'E '!F6+'F '!F6+G!H6+H!G6 -> #VALUE!
A8: 43320 | B8: =A!D7 -> 0 | C8: ='B '!E7 -> -42.3 | D8: ='C '!G7 -> 363.7 | E8: =D!D7 -> #VALUE! | F8: ='E '!D7 -> 0 | G8: ='F '!D7 -> -2.6 | H8: =G!F7 -> -82.1 | I8: =H!E7 -> -58.6 | J8: ='I '!L7 -> 0 | K8: =SUM(B8:J8) -> #VALUE! | L8: =A!E7+'B '!F7+'C '!H7+D!E7+'E '!E7+'F '!E7+G!G7+H!F7 -> 29 | M8: =A!F7+'B '!G7+'C '!I7+D!F7+'E '!F7+'F '!F7+G!H7+H!G7 -> #VALUE!
A9: 43321 | B9: =A!D8 -> 133 | C9: ='B '!E8 -> -34.7 | D9: ='C '!G8 -> 356.9 | E9: =D!D8 -> #VALUE! | F9: ='E '!D8 -> 0 | G9: ='F '!D8 -> 0 | H9: =G!F8 -> 12.3 | I9: =H!E8 -> -118.2 | J9: ='I '!L8 -> 0 | K9: =SUM(B9:J9) -> #VALUE! | L9: =A!E8+'B '!F8+'C '!H8+D!E8+'E '!E8+'F '!E8+G!G8+H!F8 -> 17 | M9: =A!F8+'B '!G8+'C '!I8+D!F8+'E '!F8+'F '!F8+G!H8+H!G8 -> #VALUE!
A10: 43322 | B10: =A!D9 -> 193.9 | C10: ='B '!E9 -> 0 | D10: ='C '!G9 -> -72.7 | E10: =D!D9 -> #VALUE! | F10: ='E '!D9 -> 0 | G10: ='F '!D9 -> 450 | H10: =G!F9 -> 170.9 | I10: =H!E9 -> 72.6 | J10: ='I '!L9 -> 0 | K10: =SUM(B10:J10) -> #VALUE! | L10: =A!E9+'B '!F9+'C '!H9+D!E9+'E '!E9+'F '!E9+G!G9+H!F9 -> 44 | M10: =A!F9+'B '!G9+'C '!I9+D!F9+'E '!F9+'F '!F9+G!H9+H!G9 -> #VALUE!
A11: 43325 | B11: =A!D10 -> 0 | C11: ='B '!E10 -> 0 | D11: ='C '!G10 -> 0 | E11: =D!D10 -> #VALUE! | F11: ='E '!D10 -> 0 | G11: ='F '!D10 -> 0 | H11: =G!F10 -> 72.3 | I11: =H!E10 -> 184.4 | J11: ='I '!L10 -> 0 | K11: =SUM(B11:J11) -> #VALUE! | L11: =A!E10+'B '!F10+'C '!H10+D!E10+'E '!E10+'F '!E10+G!G10+H!F10 -> 16 | M11: =A!F10+'B '!G10+'C '!I10+D!F10+'E '!F10+'F '!F10+G!H10+H!G10 -> #VALUE!
A12: 43326 | B12: =A!D11 -> 0 | C12: ='B '!E11 -> 0 | D12: ='C '!G11 -> 0 | E12: =D!D11 -> #VALUE! | F12: ='E '!D11 -> 0 | G12: ='F '!D11 -> -56.7 | H12: =G!F11 -> 25.4 | I12: =H!E11 -> 1 | J12: ='I '!L11 -> 0 | K12: =SUM(B12:J12) -> #VALUE! | L12: =A!E11+'B '!F11+'C '!H11+D!E11+'E '!E11+'F '!E11+G!G11+H!F11 -> 12 | M12: =A!F11+'B '!G11+'C '!I11+D!F11+'E '!F11+'F '!F11+G!H11+H!G11 -> #VALUE!
A13: 43327 | B13: =A!D12 -> 25.2 | C13: ='B '!E12 -> 0 | D13: ='C '!G12 -> 0 | E13: =D!D12 -> #VALUE! | F13: ='E '!D12 -> 0 | G13: ='F '!D12 -> 0 | H13: =G!F12 -> 12.6 | I13: =H!E12 -> 136 | J13: ='I '!L12 -> 0 | K13: =SUM(B13:J13) -> #VALUE! | L13: =A!E12+'B '!F12+'C '!H12+D!E12+'E '!E12+'F '!E12+G!G12+H!F12 -> 19 | M13: =A!F12+'B '!G12+'C '!I12+D!F12+'E '!F12+'F '!F12+G!H12+H!G12 -> #VALUE!
A14: 43328 | B14: =A!D13 -> 0 | C14: ='B '!E13 -> 0 | D14: ='C '!G13 -> -102.9 | E14: =D!D13 -> #VALUE! | F14: ='E '!D13 -> 0 | G14: ='F '!D13 -> -14.1 | H14: =G!F13 -> -63.1 | I14: =H!E13 -> -11.4 | J14: ='I '!L13 -> 0 | K14: =SUM(B14:J14) -> #VALUE! | L14: =A!E13+'B '!F13+'C '!H13+D!E13+'E '!E13+'F '!E13+G!G13+H!F13 -> 18 | M14: =A!F13+'B '!G13+'C '!I13+D!F13+'E '!F13+'F '!F13+G!H13+H!G13 -> #VALUE!
... A16: 43332 | B16: =A!D15 -> 0 | C16: ='B '!E15 -> -58 | D16: ='C '!G15 -> 0 | E16: =D!D15 -> #VALUE! | F16: ='E '!D15 -> 0 | G16: ='F '!D15 -> 19.7 | H16: =G!F15 -> 30.7 | I16: =H!E15 -> -25.5 | J16: ='I '!L15 -> 0 | K16: =SUM(B16:J16) -> #VALUE! | L16: =A!E15+'B '!F15+'C '!H15+D!E15+'E '!E15+'F '!E15+G!G15+H!F15 -> 13 | M16: =A!F15+'B '!G15+'C '!I15+D!F15+'E '!F15+'F '!F15+G!H15+H!G15 -> #VALUE!
A17: 43333 | B17: =A!D16 -> 0 | C17: ='B '!E16 -> 0 | D17: ='C '!G16 -> -82.3 | E17: Arret | F17: ='E '!D16 -> 0 | G17: ='F '!D16 -> -99.3 | H17: =G!F16 -> -4.4 | I17: =H!E16 -> -188.1 | J17: ='I '!L16 -> 0 | K17: =SUM(B17:J17) -> -374.1 | L17: =A!E16+'B '!F16+'C '!H16+D!E16+'E '!E16+'F '!E16+G!G16+H!F16 -> 27 | M17: =A!F16+'B '!G16+'C '!I16+D!F16+'E '!F16+'F '!F16+G!H16+H!G16 -> #VALUE!
A18: 43334 | B18: =A!D17 -> -92.3 | C18: ='B '!E17 -> 0 | D18: ='C '!G17 -> 0 | E18: Arret | F18: ='E '!D17 -> 0 | G18: ='F '!D17 -> -38.2 | H18: =G!F17 -> 61.1 | I18: =H!E17 -> 87.5 | J18: ='I '!L17 -> -22 | K18: =SUM(B18:J18) -> -3.9 | L18: =A!E17+'B '!F17+'C '!H17+D!E17+'E '!E17+'F '!E17+G!G17+H!F17 -> 20 | M18: =A!F17+'B '!G17+'C '!I17+D!F17+'E '!F17+'F '!F17+G!H17+H!G17+'I '!N25 -> #VALUE!
A19: 43335 | B19: =A!D18 -> 0 | C19: ='B '!E18 -> 0 | D19: ='C '!G18 -> 2.3 | E19: Arret | F19: ='E '!D18 -> 0 | G19: ='F '!D18 -> -12.2 | H19: =G!F18 -> 1.2 | I19: =H!E18 -> -45.5 | J19: ='I '!L18 -> -128.2 | K19: =SUM(B19:J19) -> -182.4 | L19: =A!E18+'B '!F18+'C '!H18+D!E18+'E '!E18+'F '!E18+G!G18+H!F18 -> 10 | M19: =A!F18+'B '!G18+'C '!I18+D!F18+'E '!F18+'F '!F18+G!H18+H!G18 -> #VALUE!
A20: 43336 | B20: =A!D19 -> 0 | C20: ='B '!E19 -> 265.7 | D20: ='C '!G19 -> -43.4 | E20: Arret | F20: ='E '!D19 -> 0 | G20: ='F '!D19 -> -44.1 | H20: =G!F19 -> -147 | I20: =H!E19 -> 9.4 | J20: ='I '!L19 -> 0 | K20: =SUM(B20:J20) -> 40.6 | L20: =A!E19+'B '!F19+'C '!H19+D!E19+'E '!E19+'F '!E19+G!G19+H!F19 -> 28 | M20: =A!F19+'B '!G19+'C '!I19+D!F19+'E '!F19+'F '!F19+G!H19+H!G19 -> #VALUE!
A21: 43339 | B21: =A!D20 -> 0 | C21: ='B '!E20 -> 0 | D21: ='C '!G20 -> 0 | E21: Arret | F21: ='E '!D20 -> 0 | G21: ='F '!D20 -> 0 | H21: =G!F20 -> 0 | I21: =H!E20 -> 0 | J21: ='I '!L20 -> 0 | K21: =SUM(B21:J21) -> 0 | L21: =A!E20+'B '!F20+'C '!H20+D!E20+'E '!E20+'F '!E20+G!G20+H!F20 -> 0 | M21: =A!F20+'B '!G20+'C '!I20+D!F20+'E '!F20+'F '!F20+G!H20+H!G20 -> #VALUE!
A22: 43340 | B22: =A!D21 -> 0 | C22: ='B '!E21 -> 0 | D22: ='C '!G21 -> 0 | E22: Arret | F22: ='E '!D21 -> 0 | G22: ='F '!D21 -> 0 | H22: =G!F21 -> 0 | I22: =H!E21 -> 0 | J22: ='I '!L21 -> 0 | K22: =SUM(B22:J22) -> 0 | L22: =A!E21+'B '!F21+'C '!H21+D!E21+'E '!E21+'F '!E21+G!G21+H!F21 -> 0 | M22: =A!F21+'B '!G21+'C '!I21+D!F21+'E '!F21+'F '!F21+G!H21+H!G21 -> #VALUE!
A23: 43341 | B23: =A!D22 -> 0 | C23: ='B '!E22 -> 0 | D23: ='C '!G22 -> 0 | E23: Arret | F23: ='E '!D22 -> 0 | G23: ='F '!D22 -> 0 | H23: =G!F22 -> 0 | I23: =H!E22 -> 0 | J23: ='I '!L22 -> 0 | K23: =SUM(B23:J23) -> 0 | L23: =A!E22+'B '!F22+'C '!H22+D!E22+'E '!E22+'F '!E22+G!G22+H!F22 -> 0 | M23: =A!F22+'B '!G22+'C '!I22+D!F22+'E '!F22+'F '!F22+G!H22+H!G22 -> #VALUE!
A24: 43342 | B24: =A!D23 -> 0 | C24: ='B '!E23 -> 0 | D24: ='C '!G23 -> 0 | E24: Arret | F24: ='E '!D23 -> 0 | G24: ='F '!D23 -> 0 | H24: =G!F23 -> 0 | I24: =H!E23 -> 0 | J24: ='I '!L23 -> 0 | K24: =SUM(B24:J24) -> 0 | L24: =A!E23+'B '!F23+'C '!H23+D!E23+'E '!E23+'F '!E23+G!G23+H!F23 -> 0 | M24: =A!F23+'B '!G23+'C '!I23+D!F23+'E '!F23+'F '!F23+G!H23+H!G23 -> #VALUE!
A25: 43343 | B25: =A!D24 -> 0 | C25: ='B '!E24 -> 0 | D25: ='C '!G24 -> 0 | E25: Arret | F25: ='E '!D24 -> 0 | G25: ='F '!D24 -> 0 | H25: =G!F24 -> 0 | I25: =H!E24 -> 0 | J25: ='I '!L24 -> 0 | K25: =SUM(B25:J25) -> 0 | L25: =A!E24+'B '!F24+'C '!H24+D!E24+'E '!E24+'F '!E24+G!G24+H!F24 -> 0 | M25: =A!F24+'B '!G24+'C '!I24+D!F24+'E '!F24+'F '!F24+G!H24+H!G24 -> #VALUE!
A26: TOTAL | B26: =A!D25 -> 259.8 | C26: ='B '!E25 -> 305.6 | D26: ='C '!G25 -> 384.5 | E26: =D!D25 -> #VALUE! | F26: ='E '!D25 -> 0 | G26: ='F '!D25 -> 70.1 | H26: =G!F25 -> 185.7 | I26: =H!E25 -> 149.7 | J26: ='I '!L25 -> -150.2 | K26: =SUM(B26:J26) -> #VALUE! | L26: =SUM(L3:L25) -> 375
A27: TOTAL TRADES | B27: =A!E25 -> 8 | C27: ='B '!F25 -> 25 | D27: ='C '!H25 -> 89 | E27: =D!E25 -> 43 | F27: ='E '!E25 -> 0 | G27: ='F '!E25 -> 69 | H27: =G!G25 -> 60 | I27: =H!F25 -> 81 | J27: ='I '!M25 -> 5 | L27: =SUM(B27:J27) -> 380
A28: TOTAL MONTANT | B28: =A!F25 -> 1748.352 | E28: =D!F25 -> #VALUE! | F28: ='E '!F25 -> 0 | G28: ='F '!F25 -> 602.86 | H28: =G!H25 -> 1669.35 | I28: =H!G25 -> 1315.392 | J28: ='I '!N25 -> -1194.624 | K28: =SUM(B28:J28) -> #VALUE! | M28: =SUM(M3:M25) -> #VALUE!
A30: YRL_CAPITAL / SC GAM
A31: TOTAL ACCOUNTS | B31: A - PM Swing Trading | C31: B - SLINGSHOT | D31: C - SFE | E31: D - Strive | F31: E - Pepperstone | G31: F - VOL Portfolio | H31: G - Atlas | I31: H - Scorpion | J31: TOTAL PIPS | K31: TOTAL MONTANT | L31: TRADES | M31: SLIPAGE ICM
A32: Brokers | B32: Admiral Markets | C32: Darwinex | D32: IC Markets | E32: IC Markets | F32: Pepperstone | G32: FXDD | H32: Tickmill | I32: IC Markets
A33: 43313 | B33: =A!D30 -> 0 | C33: ='B '!E30 -> 45 | D33: ='C '!G30 -> 72 | E33: =D!D30 -> -35.5 | F33: ='E '!D30 -> 0 | G33: ='F '!D30 -> 0 | H33: =G!F30 -> 0 | I33: =H!E30 -> -32.4 | J33: =SUM(B33:I33) -> 49.1 | K33: ='YRL CAPITAL_ICM'!J31+'SC GAM_ICM'!F31 -> 715.588 | L33: ='YRL CAPITAL_ICM'!K31+'SC GAM_ICM'!G31 -> 10 | M33: =J33-K3 -> #VALUE!
A34: 43314 | B34: =A!D31 -> 0 | C34: ='B '!E31 -> 0 | D34: ='C '!G31 -> -154.6 | E34: =D!D31 -> 8.3 | F34: ='E '!D31 -> 0 | G34: ='F '!D31 -> 8.3 | H34: =G!F31 -> 141.7 | I34: =H!E31 -> 9.3 | J34: =SUM(B34:I34) -> 13 | K34: ='YRL CAPITAL_ICM'!J32+'SC GAM_ICM'!F32 -> 9.998 | L34: ='YRL CAPITAL_ICM'!K32+'SC GAM_ICM'!G32 -> 32 | M34: =J34-K4 -> #VALUE!
A35: 43315 | B35: =A!D32 -> 0 | C35: ='B '!E32 -> 0 | D35: ='C '!G32 -> -27.7 | E35: =D!D32 -> -58.2 | F35: ='E '!D32 -> 0 | G35: ='F '!D32 -> -155.9 | H35: =G!F32 -> 0.2 | I35: =H!E32 -> 97.3 | J35: =SUM(B35:I35) -> -144.3 | K35: ='YRL CAPITAL_ICM'!J33+'SC GAM_ICM'!F33 -> -1227.98 | L35: ='YRL CAPITAL_ICM'!K33+'SC GAM_ICM'!G33 -> 27 | M35: =J35-K5 -> #VALUE!
A36: 43318 | B36: =A!D33 -> 0 | C36: ='B '!E33 -> 0 | D36: ='C '!G33 -> 0 | E36: =D!D33 -> -17.9 | F36: ='E '!D33 -> 0 | G36: ='F '!D33 -> -2.9 | H36: =G!F33 -> 13.4 | I36: =H!E33 -> 35.6 | J36: =SUM(B36:I36) -> 28.2 | K36: ='YRL CAPITAL_ICM'!J34+'SC GAM_ICM'!F34 -> 234.676 | L36: ='YRL CAPITAL_ICM'!K34+'SC GAM_ICM'!G34 -> 8 | M36: =J36-K6 -> #VALUE!
A37: 43319 | B37: =A!D34 -> 0 | C37: ='B '!E34 -> 0 | D37: ='C '!G34 -> 0 | E37: =D!D34 -> 1.2 | F37: ='E '!D34 -> 0 | G37: ='F '!D34 -> 0 | H37: =G!F34 -> 0 | I37: =H!E34 -> 1.5 | J37: =SUM(B37:I37) -> 2.7 | K37: ='YRL CAPITAL_ICM'!J35+'SC GAM_ICM'!F35 -> 31.656 | L37: ='YRL CAPITAL_ICM'!K35+'SC GAM_ICM'!G35 -> 5 | M37: =J37-K7 -> #VALUE!
A38: 43320 | B38: =A!D35 -> 0 | C38: ='B '!E35 -> 0 | D38: ='C '!G35 -> 351 | E38: =D!D35 -> 35.6 | F38: ='E '!D35 -> 0 | G38: ='F '!D35 -> -13 | H38: =G!F35 -> -90.3 | I38: =H!E35 -> -63.9 | J38: =SUM(B38:I38) -> 219.4 | K38: ='YRL CAPITAL_ICM'!J36+'SC GAM_ICM'!F36 -> 1619.884 | L38: ='YRL CAPITAL_ICM'!K36+'SC GAM_ICM'!G36 -> 27 | M38: =J38-K8 -> #VALUE!
A39: 43321 | B39: =A!D36 -> 0 | C39: ='B '!E36 -> 0 | D39: ='C '!G36 -> 0 | E39: =D!D36 -> -36.6 | F39: ='E '!D36 -> 0 | G39: ='F '!D36 -> 0 | H39: =G!F36 -> 10.7 | I39: =H!E36 -> -123.6 | J39: =SUM(B39:I39) -> -149.5 | K39: ='YRL CAPITAL_ICM'!J37+'SC GAM_ICM'!F37 -> -1274.526 | L39: ='YRL CAPITAL_ICM'!K37+'SC GAM_ICM'!G37 -> 10 | M39: =J39-K9 -> #VALUE!
A40: 43322 | B40: =A!D37 -> 193.4 | C40: ='B '!E37 -> 0 | D40: ='C '!G37 -> -108.4 | E40: =D!D37 -> -103.5 | F40: ='E '!D37 -> 0 | G40: ='F '!D37 -> 435.6 | H40: =G!F37 -> 147.8 | I40: =H!E37 -> 69.1 | J40: =SUM(B40:I40) -> 634 | K40: ='YRL CAPITAL_ICM'!J38+'SC GAM_ICM'!F38 -> 5436.72 | L40: ='YRL CAPITAL_ICM'!K38+'SC GAM_ICM'!G38 -> 43 | M40: =J40-K10 -> #VALUE!
A41: 43325 | B41: =A!D38 -> 0 | C41: ='B '!E38 -> 0 | D41: ='C '!G38 -> 0 | E41: =D!D38 -> -64.3 | F41: ='E '!D38 -> 0 | G41: ='F '!D38 -> 0 | H41: =G!F38 -> 37.4 | I41: =H!E38 -> 173.8 | J41: =SUM(B41:I41) -> 146.9 | K41: ='YRL CAPITAL_ICM'!J39+'SC GAM_ICM'!F39 -> 1262.09 | L41: ='YRL CAPITAL_ICM'!K39+'SC GAM_ICM'!G39 -> 15 | M41: =J41-K11 -> #VALUE!
A42: 43326 | B42: =A!D39 -> 0 | C42: ='B '!E39 -> 0 | D42: ='C '!G39 -> 0 | E42: =D!D39 -> 33.2 | F42: ='E '!D39 -> 0 | G42: ='F '!D39 -> -61.3 | H42: =G!F39 -> 23.8 | I42: =H!E39 -> -6.1 | J42: =SUM(B42:I42) -> -10.4 | K42: ='YRL CAPITAL_ICM'!J40+'SC GAM_ICM'!F40 -> -76.712 | L42: ='YRL CAPITAL_ICM'!K40+'SC GAM_ICM'!G40 -> 12 | M42: =J42-K12 -> #VALUE!
A43: 43327 | B43: =A!D40 -> 24.8 | C43: ='B '!E40 -> 0 | D43: ='C '!G40 -> 0 | E43: =D!D40 -> -18.9 | F43: ='E '!D40 -> 0 | G43: ='F '!D40 -> 0 | H43: =G!F40 -> 9.8 | I43: =H!E40 -> 114 | J43: =SUM(B43:I43) -> 129.7 | K43: ='YRL CAPITAL_ICM'!J41+'SC GAM_ICM'!F41 -> 1113.598 | L43: ='YRL CAPITAL_ICM'!K41+'SC GAM_ICM'!G41 -> 19 | M43: =J43-K13 -> #VALUE!
A44: 43328 | B44: =A!D41 -> 0 | C44: ='B '!E41 -> 0 | D44: ='C '!G41 -> -110.4 | E44: =D!D41 -> 1.8 | F44: ='E '!D41 -> 0 | G44: ='F '!D41 -> -15.6 | H44: =G!F41 -> -66 | I44: =H!E41 -> -18.1 | J44: =SUM(B44:I44) -> -208.3 | K44: ='YRL CAPITAL_ICM'!J42+'SC GAM_ICM'!F42 -> -1503.896 | L44: ='YRL CAPITAL_ICM'!K42+'SC GAM_ICM'!G42 -> 18 | M44: =J44-K14 -> #VALUE!
... A54: 43342 | B54: =A!D51 -> 0 | C54: ='B '!E51 -> 0 | D54: ='C '!G51 -> 0 | E54: =D!D51 -> 0 | F54: ='E '!D51 -> 0 | G54: ='F '!D51 -> 0 | H54: =G!F51 -> 0 | I54: =H!E51 -> 0 | J54: =SUM(B54:I54) -> 0 | K54: ='YRL CAPITAL_ICM'!J52+'SC GAM_ICM'!F52 -> 0 | L54: ='YRL CAPITAL_ICM'!K52+'SC GAM_ICM'!G52 -> #VALUE! | M54: =J54-K24 -> 0
A55: 43343 | B55: =A!D53 -> 128.2 | C55: ='B '!E53 -> -48.9 | D55: ='C '!G53 -> -135.6 | E55: =D!D53 -> -282.6 | F55: ='E '!D53 -> 0 | G55: ='F '!D53 -> -130.9 | H55: =G!F53 -> 42.9 | I55: =H!E53 -> 27.6 | J55: =SUM(B55:I55) -> -399.3 | K55: ='YRL CAPITAL_ICM'!J54+'SC GAM_ICM'!F54 -> -3489.68 | L55: ='YRL CAPITAL_ICM'!K54+'SC GAM_ICM'!G54 -> #VALUE! | M55: =J55-K26 -> #VALUE!
A56: TOTAL | B56: =SUM(B33:B53) -> 128.2 | C56: =SUM(C33:C53) -> -48.9 | D56: =SUM(D33:D53) -> -135.6 | E56: =SUM(E33:E53) -> -282.6 | F56: =SUM(F33:F53) -> 0 | G56: =SUM(G33:G53) -> -130.9 | H56: =SUM(H33:H53) -> 42.9 | I56: =SUM(I33:I53) -> 27.6 | J56: =SUM(J33:J53) -> -399.3 | K56: =SUM(K33:K54) -> -3489.68 | L56: =SUM(L33:L54) -> #VALUE! | M56: =SUM(M33:M54) -> #VALUE!
A57: TOTAL TRADES | L57: =SUM(B57:I57) -> 0
A59: YRL_CAPITAL / SC GAM
A60: TOTAL ACCOUNTS | B60: EURUSD | C60: GBPUSD | D60: USDJPY | E60: AUDUSD | F60: EURAUD | G60: EURGBP | H60: USDCAD | I60: GBPJPY | J60: TOTAL MONTANT | K60: TOTAL PIPS | L60: TRADES
A61: 43313 | B61: ='YRL CAPITAL_ICM'!B2+'SC GAM_ICM'!B2 -> 0 | C61: ='YRL CAPITAL_ICM'!C2+'SC GAM_ICM'!C2 -> 0 | D61: ='YRL CAPITAL_ICM'!D2 -> 0 | E61: ='YRL CAPITAL_ICM'!E2 -> 0 | F61: ='YRL CAPITAL_ICM'!F2+'SC GAM_ICM'!D2 -> 0 | G61: ='YRL CAPITAL_ICM'!I2+'SC GAM_ICM'!F2 -> 0 | H61: ='YRL CAPITAL_ICM'!G2 -> 0 | I61: ='YRL CAPITAL_ICM'!H2+'SC GAM_ICM'!E2 -> 0 | J61: ='YRL CAPITAL_ICM'!K2+'SC GAM_ICM'!G2 -> 0 | K61: ='YRL CAPITAL_ICM'!L2+'SC GAM_ICM'!H2 -> 0
A62: 43314 | B62: ='YRL CAPITAL_ICM'!B3+'SC GAM_ICM'!B3 -> 0 | C62: ='YRL CAPITAL_ICM'!C3+'SC GAM_ICM'!C3 -> 0 | D62: ='YRL CAPITAL_ICM'!D3 -> 0 | E62: ='YRL CAPITAL_ICM'!E3 -> 0 | F62: ='YRL CAPITAL_ICM'!F3+'SC GAM_ICM'!D3 -> 0 | G62: ='YRL CAPITAL_ICM'!I3+'SC GAM_ICM'!F3 -> 0 | H62: ='YRL CAPITAL_ICM'!G3 -> 0 | I62: ='YRL CAPITAL_ICM'!H3+'SC GAM_ICM'!E3 -> 0 | J62: ='YRL CAPITAL_ICM'!K3+'SC GAM_ICM'!G3 -> 0 | K62: ='YRL CAPITAL_ICM'!L3+'SC GAM_ICM'!H3 -> 0
A63: 43315 | B63: ='YRL CAPITAL_ICM'!B4+'SC GAM_ICM'!B4 -> 0 | C63: ='YRL CAPITAL_ICM'!C4+'SC GAM_ICM'!C4 -> 0 | D63: ='YRL CAPITAL_ICM'!D4 -> 0 | E63: ='YRL CAPITAL_ICM'!E4 -> 0 | F63: ='YRL CAPITAL_ICM'!F4+'SC GAM_ICM'!D4 -> 0 | G63: ='YRL CAPITAL_ICM'!I4+'SC GAM_ICM'!F4 -> 0 | H63: ='YRL CAPITAL_ICM'!G4 -> 0 | I63: ='YRL CAPITAL_ICM'!H4+'SC GAM_ICM'!E4 -> 0 | J63: ='YRL CAPITAL_ICM'!K4+'SC GAM_ICM'!G4 -> 0 | K63: ='YRL CAPITAL_ICM'!L4+'SC GAM_ICM'!H4 -> 0
A64: 43318 | B64: ='YRL CAPITAL_ICM'!B5+'SC GAM_ICM'!B5 -> 0 | C64: ='YRL CAPITAL_ICM'!C5+'SC GAM_ICM'!C5 -> 0 | D64: ='YRL CAPITAL_ICM'!D5 -> 0 | E64: ='YRL CAPITAL_ICM'!E5 -> 0 | F64: ='YRL CAPITAL_ICM'!F5+'SC GAM_ICM'!D5 -> 0 | G64: ='YRL CAPITAL_ICM'!I5+'SC GAM_ICM'!F5 -> 0 | H64: ='YRL CAPITAL_ICM'!G5 -> 0 | I64: ='YRL CAPITAL_ICM'!H5+'SC GAM_ICM'!E5 -> 0 | J64: ='YRL CAPITAL_ICM'!K5+'SC GAM_ICM'!G5 -> 0 | K64: ='YRL CAPITAL_ICM'!L5+'SC GAM_ICM'!H5 -> 0
A65: 43319 | B65: ='YRL CAPITAL_ICM'!B6+'SC GAM_ICM'!B6 -> 0 | C65: ='YRL CAPITAL_ICM'!C6+'SC GAM_ICM'!C6 -> 0 | D65: ='YRL CAPITAL_ICM'!D6 -> 0 | E65: ='YRL CAPITAL_ICM'!E6 -> 0 | F65: ='YRL CAPITAL_ICM'!F6+'SC GAM_ICM'!D6 -> 0 | G65: ='YRL CAPITAL_ICM'!I6+'SC GAM_ICM'!F6 -> 0 | H65: ='YRL CAPITAL_ICM'!G6 -> 0 | I65: ='YRL CAPITAL_ICM'!H6+'SC GAM_ICM'!E6 -> 0 | J65: ='YRL CAPITAL_ICM'!K6+'SC GAM_ICM'!G6 -> 0 | K65: ='YRL CAPITAL_ICM'!L6+'SC GAM_ICM'!H6 -> 0
A66: 43320 | B66: ='YRL CAPITAL_ICM'!B7+'SC GAM_ICM'!B7 -> 0 | C66: ='YRL CAPITAL_ICM'!C7+'SC GAM_ICM'!C7 -> 0 | D66: ='YRL CAPITAL_ICM'!D7 -> 0 | E66: ='YRL CAPITAL_ICM'!E7 -> 0 | F66: ='YRL CAPITAL_ICM'!F7+'SC GAM_ICM'!D7 -> 0 | G66: ='YRL CAPITAL_ICM'!I7+'SC GAM_ICM'!F7 -> 0 | H66: ='YRL CAPITAL_ICM'!G7 -> 0 | I66: ='YRL CAPITAL_ICM'!H7+'SC GAM_ICM'!E7 -> 0 | J66: ='YRL CAPITAL_ICM'!K7+'SC GAM_ICM'!G7 -> 0 | K66: ='YRL CAPITAL_ICM'!L7+'SC GAM_ICM'!H7 -> 0
A67: 43321 | B67: ='YRL CAPITAL_ICM'!B8+'SC GAM_ICM'!B8 -> 0 | C67: ='YRL CAPITAL_ICM'!C8+'SC GAM_ICM'!C8 -> 0 | D67: ='YRL CAPITAL_ICM'!D8 -> 0 | E67: ='YRL CAPITAL_ICM'!E8 -> 0 | F67: ='YRL CAPITAL_ICM'!F8+'SC GAM_ICM'!D8 -> 0 | G67: ='YRL CAPITAL_ICM'!I8+'SC GAM_ICM'!F8 -> 0 | H67: ='YRL CAPITAL_ICM'!G8 -> 0 | I67: ='YRL CAPITAL_ICM'!H8+'SC GAM_ICM'!E8 -> 0 | J67: ='YRL CAPITAL_ICM'!K8+'SC GAM_ICM'!G8 -> 0 | K67: ='YRL CAPITAL_ICM'!L8+'SC GAM_ICM'!H8 -> 0
A68: 43322 | B68: ='YRL CAPITAL_ICM'!B9+'SC GAM_ICM'!B9 -> 0 | C68: ='YRL CAPITAL_ICM'!C9+'SC GAM_ICM'!C9 -> 0 | D68: ='YRL CAPITAL_ICM'!D9 -> 0 | E68: ='YRL CAPITAL_ICM'!E9 -> 0 | F68: ='YRL CAPITAL_ICM'!F9+'SC GAM_ICM'!D9 -> 0 | G68: ='YRL CAPITAL_ICM'!I9+'SC GAM_ICM'!F9 -> 0 | H68: ='YRL CAPITAL_ICM'!G9 -> 0 | I68: ='YRL CAPITAL_ICM'!H9+'SC GAM_ICM'!E9 -> 0 | J68: ='YRL CAPITAL_ICM'!K9+'SC GAM_ICM'!G9 -> 0 | K68: ='YRL CAPITAL_ICM'!L9+'SC GAM_ICM'!H9 -> 0
A69: 43325 | B69: ='YRL CAPITAL_ICM'!B10+'SC GAM_ICM'!B10 -> 0 | C69: ='YRL CAPITAL_ICM'!C10+'SC GAM_ICM'!C10 -> 0 | D69: ='YRL CAPITAL_ICM'!D10 -> 0 | E69: ='YRL CAPITAL_ICM'!E10 -> 0 | F69: ='YRL CAPITAL_ICM'!F10+'SC GAM_ICM'!D10 -> 0 | G69: ='YRL CAPITAL_ICM'!I10+'SC GAM_ICM'!F10 -> 0 | H69: ='YRL CAPITAL_ICM'!G10 -> 0 | I69: ='YRL CAPITAL_ICM'!H10+'SC GAM_ICM'!E10 -> 0 | J69: ='YRL CAPITAL_ICM'!K10+'SC GAM_ICM'!G10 -> 0 | K69: ='YRL CAPITAL_ICM'!L10+'SC GAM_ICM'!H10 -> 0
A70: 43326 | B70: ='YRL CAPITAL_ICM'!B11+'SC GAM_ICM'!B11 -> 0 | C70: ='YRL CAPITAL_ICM'!C11+'SC GAM_ICM'!C11 -> 0 | D70: ='YRL CAPITAL_ICM'!D11 -> 0 | E70: ='YRL CAPITAL_ICM'!E11 -> 0 | F70: ='YRL CAPITAL_ICM'!F11+'SC GAM_ICM'!D11 -> 0 | G70: ='YRL CAPITAL_ICM'!I11+'SC GAM_ICM'!F11 -> 0 | H70: ='YRL CAPITAL_ICM'!G11 -> 0 | I70: ='YRL CAPITAL_ICM'!H11+'SC GAM_ICM'!E11 -> 0 | J70: ='YRL CAPITAL_ICM'!K11+'SC GAM_ICM'!G11 -> 0 | K70: ='YRL CAPITAL_ICM'!L11+'SC GAM_ICM'!H11 -> 0
A71: 43327 | B71: ='YRL CAPITAL_ICM'!B12+'SC GAM_ICM'!B12 -> 0 | C71: ='YRL CAPITAL_ICM'!C12+'SC GAM_ICM'!C12 -> 0 | D71: ='YRL CAPITAL_ICM'!D12 -> 0 | E71: ='YRL CAPITAL_ICM'!E12 -> 0 | F71: ='YRL CAPITAL_ICM'!F12+'SC GAM_ICM'!D12 -> 0 | G71: ='YRL CAPITAL_ICM'!I12+'SC GAM_ICM'!F12 -> 0 | H71: ='YRL CAPITAL_ICM'!G12 -> 0 | I71: ='YRL CAPITAL_ICM'!H12+'SC GAM_ICM'!E12 -> 0 | J71: ='YRL CAPITAL_ICM'!K12+'SC GAM_ICM'!G12 -> 0 | K71: ='YRL CAPITAL_ICM'!L12+'SC GAM_ICM'!H12 -> 0
A72: 43328 | B72: ='YRL CAPITAL_ICM'!B13+'SC GAM_ICM'!B13 -> 0 | C72: ='YRL CAPITAL_ICM'!C13+'SC GAM_ICM'!C13 -> 0 | D72: ='YRL CAPITAL_ICM'!D13 -> 0 | E72: ='YRL CAPITAL_ICM'!E13 -> 0 | F72: ='YRL CAPITAL_ICM'!F13+'SC GAM_ICM'!D13 -> 0 | G72: ='YRL CAPITAL_ICM'!I13+'SC GAM_ICM'!F13 -> 0 | H72: ='YRL CAPITAL_ICM'!G13 -> 0 | I72: ='YRL CAPITAL_ICM'!H13+'SC GAM_ICM'!E13 -> 0 | J72: ='YRL CAPITAL_ICM'!K13+'SC GAM_ICM'!G13 -> 0 | K72: ='YRL CAPITAL_ICM'!L13+'SC GAM_ICM'!H13 -> 0
... A82: 43342 | B82: ='YRL CAPITAL_ICM'!B23+'SC GAM_ICM'!B23 -> 0 | C82: ='YRL CAPITAL_ICM'!C23+'SC GAM_ICM'!C23 -> 0 | D82: ='YRL CAPITAL_ICM'!D23 -> 0 | E82: ='YRL CAPITAL_ICM'!E23 -> 0 | F82: ='YRL CAPITAL_ICM'!F23+'SC GAM_ICM'!D23 -> 0 | G82: ='YRL CAPITAL_ICM'!I23+'SC GAM_ICM'!F23 -> 0 | H82: ='YRL CAPITAL_ICM'!G23 -> 0 | I82: ='YRL CAPITAL_ICM'!H23+'SC GAM_ICM'!E23 -> 0 | J82: ='YRL CAPITAL_ICM'!K23+'SC GAM_ICM'!G23 -> 0 | K82: ='YRL CAPITAL_ICM'!L23+'SC GAM_ICM'!H23 -> 0
A83: 43343 | B83: ='YRL CAPITAL_ICM'!B25+'SC GAM_ICM'!B25 -> 0 | C83: ='YRL CAPITAL_ICM'!C25+'SC GAM_ICM'!C25 -> 0 | D83: ='YRL CAPITAL_ICM'!D25 -> 0 | E83: ='YRL CAPITAL_ICM'!E25 -> 0 | F83: ='YRL CAPITAL_ICM'!F25+'SC GAM_ICM'!D25 -> 0 | G83: ='YRL CAPITAL_ICM'!I25+'SC GAM_ICM'!F25 -> 0 | H83: ='YRL CAPITAL_ICM'!G25 -> 0 | I83: ='YRL CAPITAL_ICM'!H25+'SC GAM_ICM'!E25 -> 0 | J83: ='YRL CAPITAL_ICM'!K25+'SC GAM_ICM'!G25 -> 0 | K83: ='YRL CAPITAL_ICM'!L25+'SC GAM_ICM'!H25 -> 0
A84: TOTAL | B84: =SUM(B61:B82) -> 0 | C84: =SUM(C61:C82) -> 0 | D84: =SUM(D61:D82) -> 0 | E84: =SUM(E61:E82) -> 0 | F84: =SUM(F61:F82) -> 0 | G84: =SUM(G61:G82) -> 0 | H84: =SUM(H61:H82) -> 0 | I84: =SUM(I61:I82) -> 0 | ... L84: =SUM(L61:L82) -> 0
A85: TOTAL MONTANT | B85: =(B84*8.54) -> 0 | C85: =(C84*8.5) -> 0 | D85: =(D84*7.86) -> 0 | E85: =(E84*8.55) -> 0 | F85: =(F84*6) -> 0 | G85: =(G84*11.42) -> 0 | H85: =H84*6.3 -> 0 | I85: =I84*7.8 -> 0 | J85: =SUM(B85:I85) -> 0
A86: TOTAL TRADES
A89: 43313
A90: SC GAM_FXPRO | B90: PIPS | C90: TRADES | D90: TOTAL MONTANT | E90: SLIPAGE FxPRO
A91: 43313 | B91: 31.2 | C91: 11 | D91: -93.11 | E91: =B91-K3 -> #VALUE!
A92: 43314 | B92: 50.4 | C92: 27 | D92: 565.2 | E92: =B92-K4 -> #VALUE!
A93: 43315 | B93: -243.5 | C93: 33 | D93: -2038.59 | E93: =B93-K5 -> #VALUE!
A94: 43318 | B94: 20.9 | C94: 11 | D94: -28.81 | E94: =B94-K6 -> #VALUE!
A95: 43319 | B95: 8.7 | C95: 6 | D95: 83.77 | E95: =B95-K7 -> #VALUE!
A96: 43320 | B96: -68.3 | C96: 26 | D96: -707.06 | E96: =B96-K8 -> #VALUE!
A97: 43321 | B97: -185.6 | C97: 12 | D97: -1501.42 | E97: =B97-K9 -> #VALUE!
A98: 43322 | B98: 442.3 | C98: 40 | D98: 3969.78 | E98: =B98-K10 -> #VALUE!
A99: 43325 | B99: 241 | C99: 15 | D99: 2011.64 | E99: =B99-K11 -> #VALUE!
A100: 43326 | B100: -36 | C100: 12 | D100: -319.8 | E100: =B100-K12 -> #VALUE!
A101: 43327 | B101: 110.4 | C101: 19 | D101: 989.75 | E101: =B101-K13 -> #VALUE!
A102: 43328 | B102: -231.6 | C102: 17 | D102: -1679.22 | E102: =B102-K14 -> #VALUE!
... A112: 43342 | B112: 0 | C112: 0 | D112: 0 | E112: =B112-K24 -> 0
A113: 43343 | B113: 0 | C113: 0 | D113: 0 | E113: =B113-K26 -> #VALUE!
A114: TOTAL | B114: =SUM(B91:B113) -> -563.9 | C114: =SUM(C91:C113) -> 312 | D114: =SUM(D91:D113) -> -4456.29 | E114: =SUM(E91:E112) -> #VALUE!
A115: MOYENNE | E115: =AVERAGE(E91:E98) -> #VALUE!
A119: Open Date | B119: Close Date | C119: Symbol | D119: Action | E119: Lots | F119: SL | G119: TP | H119: Open Price | I119: Close Price | J119: Commission | K119: Swap | L119: Pips | M119: Profit | N119: Gain | O119: Magic Number | P119: Duration (DD:HH:MM:SS)

Sheet YRL CAPITAL_ICM
A1: YRL CAPITAL_ICM | B1: EURUSD | C1: GBPUSD | D1: USDJPY | E1: AUDUSD | F1: EURAUD | G1: USDCAD | H1: GBPJPY | I1: EURGBP | J1: GBPCAD | K1: TOTAL MONTANT | L1: TOTAL PIPS | M1: TRADES
A2: 43313 | K2: =(B2*8.6)+(C2*8.6)+(D2*7.86)+(E2*8.55)+(F2*6)+(G2*6.47)+(H2*7.8)+(I2*11.42)+(J2*6.49) -> 0 | L2: =SUM(B2:J2) -> 0
A3: 43314 | K3: =(B3*8.6)+(C3*8.6)+(D3*7.86)+(E3*8.55)+(F3*6)+(G3*6.47)+(H3*7.8)+(I3*11.42)+(J3*6.49) -> 0 | L3: =SUM(B3:J3) -> 0
A4: 43315 | K4: =(B4*8.6)+(C4*8.6)+(D4*7.86)+(E4*8.55)+(F4*6)+(G4*6.47)+(H4*7.8)+(I4*11.42)+(J4*6.49) -> 0 | L4: =SUM(B4:J4) -> 0
A5: 43318 | K5: =(B5*8.6)+(C5*8.6)+(D5*7.86)+(E5*8.55)+(F5*6)+(G5*6.47)+(H5*7.8)+(I5*11.42)+(J5*6.49) -> 0 | L5: =SUM(B5:J5) -> 0
A6: 43319 | K6: =(B6*8.6)+(C6*8.6)+(D6*7.86)+(E6*8.55)+(F6*6)+(G6*6.47)+(H6*7.8)+(I6*11.42)+(J6*6.49) -> 0 | L6: =SUM(B6:J6) -> 0
A7: 43320 | K7: =(B7*8.6)+(C7*8.6)+(D7*7.86)+(E7*8.55)+(F7*6)+(G7*6.47)+(H7*7.8)+(I7*11.42)+(J7*6.49) -> 0 | L7: =SUM(B7:J7) -> 0
A8: 43321 | K8: =(B8*8.6)+(C8*8.6)+(D8*7.86)+(E8*8.55)+(F8*6)+(G8*6.47)+(H8*7.8)+(I8*11.42)+(J8*6.49) -> 0 | L8: =SUM(B8:J8) -> 0
A9: 43322 | K9: =(B9*8.6)+(C9*8.6)+(D9*7.86)+(E9*8.55)+(F9*6)+(G9*6.47)+(H9*7.8)+(I9*11.42)+(J9*6.49) -> 0 | L9: =SUM(B9:J9) -> 0
A10: 43325 | K10: =(B10*8.6)+(C10*8.6)+(D10*7.86)+(E10*8.55)+(F10*6)+(G10*6.47)+(H10*7.8)+(I10*11.42)+(J10*6.49) -> 0 | L10: =SUM(B10:J10) -> 0
A11: 43326 | K11: =(B11*8.6)+(C11*8.6)+(D11*7.86)+(E11*8.55)+(F11*6)+(G11*6.47)+(H11*7.8)+(I11*11.42)+(J11*6.49) -> 0 | L11: =SUM(B11:J11) -> 0
A12: 43327 | K12: =(B12*8.6)+(C12*8.6)+(D12*7.86)+(E12*8.55)+(F12*6)+(G12*6.47)+(H12*7.8)+(I12*11.42)+(J12*6.49) -> 0 | L12: =SUM(B12:J12) -> 0
A13: 43328 | K13: =(B13*8.6)+(C13*8.6)+(D13*7.86)+(E13*8.55)+(F13*6)+(G13*6.47)+(H13*7.8)+(I13*11.42)+(J13*6.49) -> 0 | L13: =SUM(B13:J13) -> 0
... A24: 43343 | K24: =(B24*8.6)+(C24*8.6)+(D24*7.86)+(E24*8.55)+(F24*6)+(G24*6.47)+(H24*7.8)+(I24*11.42)+(J24*6.49) -> 0 | L24: =SUM(B24:J24) -> 0
A25: TOTAL PIPS | B25: =SUM(B2:B22) -> 0 | C25: =SUM(C2:C22) -> 0 | D25: =SUM(D2:D22) -> 0 | E25: =SUM(E2:E22) -> 0 | F25: =SUM(F2:F22) -> 0 | G25: =SUM(G2:G22) -> 0 | H25: =SUM(H2:H22) -> 0 | I25: =SUM(I2:I22) -> 0 | ... K25: =SUM(K2:K22) -> 0 | L25: =SUM(L2:L23) -> 0 | M25: =SUM(M2:M22) -> 0
A26: TOTAL MONTANT | B26: =(B25*8.6) -> 0 | C26: =(C25*8.6) -> 0 | D26: =(D25*7.86) -> 0 | E26: =(E25*8.55) -> 0 | F26: =(F25*6) -> 0 | G26: =(G25*6.47) -> 0 | H26: =(H25*7.8) -> 0 | I26: =(I25*11.42) -> 0 | J26: =(J25*6.49) -> 0 | K26: =SUM(B26:J26) -> 0
A27: TOTAL TRADES
A29: YRL_CAPITAL
A30: TOTAL ACCOUNTS | B30: A - PM Swing Trading | C30: B - SLINGSHOT | D30: D - Strive | E30: E - Pepperstone | F30: G - Atlas | G30: H - Scorpion | H30: I - NightProfit | I30: TOTAL PIPS | J30: TOTAL MONTANT | K30: TRADES | L30: SLIPAGE
A31: 43313 | B31: =A!D30 -> 0 | C31: ='B '!E30 -> 45 | D31: =D!D30 -> -35.5 | E31: ='E '!D30 -> 0 | F31: =G!F30 -> 0 | G31: =H!E30 -> -32.4 | I31: =SUM(B31:H31) -> -22.9 | J31: =A!F30+'B '!G30+D!F30+'E '!F30+G!H30+H!G30 -> -195.662 | K31: =A!E30+'B '!F30+D!E30+'E '!E30+G!G30+H!F30 -> 8 | L31: =A!G30+'B '!H30+D!G30+'E '!G30+G!I30+H!H30 -> #VALUE!
A32: 43314 | B32: =A!D31 -> 0 | C32: ='B '!E31 -> 0 | D32: =D!D31 -> 8.3 | E32: ='E '!D31 -> 0 | F32: =G!F31 -> 141.7 | G32: =H!E31 -> 9.3 | I32: =SUM(B32:H32) -> 159.3 | J32: =A!F31+'B '!G31+D!F31+'E '!F31+G!H31+H!G31 -> 1369.98 | K32: =A!E31+'B '!F31+D!E31+'E '!E31+G!G31+H!F31 -> 8 | L32: =A!G31+'B '!H31+D!G31+'E '!G31+G!I31+H!H31 -> #VALUE!
A33: 43315 | B33: =A!D32 -> 0 | C33: ='B '!E32 -> 0 | D33: =D!D32 -> -58.2 | E33: ='E '!D32 -> 0 | F33: =G!F32 -> 0.2 | G33: =H!E32 -> 97.3 | I33: =SUM(B33:H33) -> 39.3 | J33: =A!F32+'B '!G32+D!F32+'E '!F32+G!H32+H!G32 -> 350.98 | K33: =A!E32+'B '!F32+D!E32+'E '!E32+G!G32+H!F32 -> 13 | L33: =A!G32+'B '!H32+D!G32+'E '!G32+G!I32+H!H32 -> #VALUE!
A34: 43318 | B34: =A!D33 -> 0 | C34: ='B '!E33 -> 0 | D34: =D!D33 -> -17.9 | E34: ='E '!D33 -> 0 | F34: =G!F33 -> 13.4 | G34: =H!E33 -> 35.6 | I34: =SUM(B34:H34) -> 31.1 | J34: =A!F33+'B '!G33+D!F33+'E '!F33+G!H33+H!G33 -> 259.616 | K34: =A!E33+'B '!F33+D!E33+'E '!E33+G!G33+H!F33 -> 7 | L34: =A!G33+'B '!H33+D!G33+'E '!G33+G!I33+H!H33 -> #VALUE!
A35: 43319 | B35: =A!D34 -> 0 | C35: ='B '!E34 -> 0 | D35: =D!D34 -> 1.2 | E35: ='E '!D34 -> 0 | F35: =G!F34 -> 0 | G35: =H!E34 -> 1.5 | I35: =SUM(B35:H35) -> 2.7 | J35: =A!F34+'B '!G34+D!F34+'E '!F34+G!H34+H!G34 -> 31.656 | K35: =A!E34+'B '!F34+D!E34+'E '!E34+G!G34+H!F34 -> 5 | L35: =A!G34+'B '!H34+D!G34+'E '!G34+G!I34+H!H34 -> #VALUE!
A36: 43320 | B36: =A!D35 -> 0 | C36: ='B '!E35 -> 0 | D36: =D!D35 -> 35.6 | E36: ='E '!D35 -> 0 | F36: =G!F35 -> -90.3 | G36: =H!E35 -> -63.9 | I36: =SUM(B36:H36) -> -118.6 | J36: =A!F35+'B '!G35+D!F35+'E '!F35+G!H35+H!G35 -> -1006.116 | K36: =A!E35+'B '!F35+D!E35+'E '!E35+G!G35+H!F35 -> 11 | L36: =A!G35+'B '!H35+D!G35+'E '!G35+G!I35+H!H35 -> #VALUE!
A37: 43321 | B37: =A!D36 -> 0 | C37: ='B '!E36 -> 0 | D37: =D!D36 -> -36.6 | E37: ='E '!D36 -> 0 | F37: =G!F36 -> 10.7 | G37: =H!E36 -> -123.6 | I37: =SUM(B37:H37) -> -149.5 | J37: =A!F36+'B '!G36+D!F36+'E '!F36+G!H36+H!G36 -> -1274.526 | K37: =A!E36+'B '!F36+D!E36+'E '!E36+G!G36+H!F36 -> 10 | L37: =A!G36+'B '!H36+D!G36+'E '!G36+G!I36+H!H36 -> #VALUE!
A38: 43322 | B38: =A!D37 -> 193.4 | C38: ='B '!E37 -> 0 | D38: =D!D37 -> -103.5 | E38: ='E '!D37 -> 0 | F38: =G!F37 -> 147.8 | G38: =H!E37 -> 69.1 | I38: =SUM(B38:H38) -> 306.8 | J38: =A!F37+'B '!G37+D!F37+'E '!F37+G!H37+H!G37 -> 2273.16 | K38: =A!E37+'B '!F37+D!E37+'E '!E37+G!G37+H!F37 -> 16 | L38: =A!G37+'B '!H37+D!G37+'E '!G37+G!I37+H!H37 -> #VALUE!
A39: 43325 | B39: =A!D38 -> 0 | C39: ='B '!E38 -> 0 | D39: =D!D38 -> -64.3 | E39: ='E '!D38 -> 0 | F39: =G!F38 -> 37.4 | G39: =H!E38 -> 173.8 | I39: =SUM(B39:H39) -> 146.9 | J39: =A!F38+'B '!G38+D!F38+'E '!F38+G!H38+H!G38 -> 1262.09 | K39: =A!E38+'B '!F38+D!E38+'E '!E38+G!G38+H!F38 -> 15 | L39: =A!G38+'B '!H38+D!G38+'E '!G38+G!I38+H!H38 -> #VALUE!
A40: 43326 | B40: =A!D39 -> 0 | C40: ='B '!E39 -> 0 | D40: =D!D39 -> 33.2 | E40: ='E '!D39 -> 0 | F40: =G!F39 -> 23.8 | G40: =H!E39 -> -6.1 | I40: =SUM(B40:H40) -> 50.9 | J40: =A!F39+'B '!G39+D!F39+'E '!F39+G!H39+H!G39 -> 450.468 | K40: =A!E39+'B '!F39+D!E39+'E '!E39+G!G39+H!F39 -> 8 | L40: =A!G39+'B '!H39+D!G39+'E '!G39+G!I39+H!H39 -> #VALUE!
A41: 43327 | B41: =A!D40 -> 24.8 | C41: ='B '!E40 -> 0 | D41: =D!D40 -> -18.9 | E41: ='E '!D40 -> 0 | F41: =G!F40 -> 9.8 | G41: =H!E40 -> 114 | I41: =SUM(B41:H41) -> 129.7 | J41: =A!F40+'B '!G40+D!F40+'E '!F40+G!H40+H!G40 -> 1113.598 | K41: =A!E40+'B '!F40+D!E40+'E '!E40+G!G40+H!F40 -> 19 | L41: =A!G40+'B '!H40+D!G40+'E '!G40+G!I40+H!H40 -> #VALUE!
A42: 43328 | B42: =A!D41 -> 0 | C42: ='B '!E41 -> 0 | D42: =D!D41 -> 1.8 | E42: ='E '!D41 -> 0 | F42: =G!F41 -> -66 | G42: =H!E41 -> -18.1 | I42: =SUM(B42:H42) -> -82.3 | J42: =A!F41+'B '!G41+D!F41+'E '!F41+G!H41+H!G41 -> -707.336 | K42: =A!E41+'B '!F41+D!E41+'E '!E41+G!G41+H!F41 -> 10 | L42: =A!G41+'B '!H41+D!G41+'E '!G41+G!I41+H!H41 -> #VALUE!
... A52: 43342 | B52: =A!D51 -> 0 | C52: ='B '!E51 -> 0 | D52: =D!D51 -> 0 | E52: ='E '!D51 -> 0 | F52: =G!F51 -> 0 | G52: =H!E51 -> 0 | I52: =SUM(B52:H52) -> 0 | J52: =A!F51+'B '!G51+D!F51+'E '!F51+G!H51+H!G51 -> 0 | K52: =A!E51+'B '!F51+D!E51+'E '!E51+G!G51+H!F51 -> #VALUE! | L52: =A!G51+'B '!H51+D!G51+'E '!G51+G!I51+H!H51 -> #VALUE!
A53: 43343 | B53: =A!D52 -> 0 | C53: ='B '!E53 -> -48.9 | D53: =D!D52 -> 0 | E53: ='E '!D52 -> 0 | F53: =G!F52 -> 0 | G53: =H!E52 -> 0 | I53: =SUM(B53:H53) -> -48.9 | J53: =A!F52+'B '!G53+D!F52+'E '!F52+G!H52+H!G52 -> -297.89 | K53: =A!E52+'B '!F53+D!E52+'E '!E52+G!G52+H!F52 -> #VALUE! | L53: =A!G52+'B '!H53+D!G52+'E '!G52+G!I52+H!H52 -> #VALUE!
A54: TOTAL | B54: =SUM(B31:B51) -> 128.2 | C54: =SUM(C31:C51) -> -48.9 | D54: =SUM(D31:D51) -> -282.6 | E54: =SUM(E31:E51) -> 0 | F54: =SUM(F31:F51) -> 42.9 | G54: =SUM(G31:G51) -> 27.6 | H54: =SUM(H31:H51) -> 0 | I54: =SUM(I31:I51) -> -132.8 | J54: =SUM(J31:J52) -> -1096.368 | K54: =SUM(K31:K52) -> #VALUE! | L54: =SUM(L31:L52) -> #VALUE!
A55: TOTAL TRADES | K55: =SUM(B55:G55) -> 0

Sheet SC GAM_ICM
A1: SC GAM_ICM | B1: EURUSD | C1: GBPUSD | D1: EURAUD | E1: GBPJPY | F1: EURGBP | G1: TOTAL MONTANT | H1: TOTAL PIPS | I1: TRADES
A2: 43313 | G2: =(B2*8.6)+(C2*8.6)+(D2*6)+(E2*7.8)+(F2*11.42) -> 0 | H2: =SUM(B2:F2) -> 0
A3: 43314 | G3: =(B3*8.6)+(C3*8.6)+(D3*6)+(E3*7.8)+(F3*11.42) -> 0 | H3: =SUM(B3:F3) -> 0
A4: 43315 | G4: =(B4*8.6)+(C4*8.6)+(D4*6)+(E4*7.8)+(F4*11.42) -> 0 | H4: =SUM(B4:F4) -> 0
A5: 43318 | G5: =(B5*8.6)+(C5*8.6)+(D5*6)+(E5*7.8)+(F5*11.42) -> 0 | H5: =SUM(B5:F5) -> 0
A6: 43319 | G6: =(B6*8.6)+(C6*8.6)+(D6*6)+(E6*7.8)+(F6*11.42) -> 0 | H6: =SUM(B6:F6) -> 0
A7: 43320 | G7: =(B7*8.6)+(C7*8.6)+(D7*6)+(E7*7.8)+(F7*11.42) -> 0 | H7: =SUM(B7:F7) -> 0
A8: 43321 | G8: =(B8*8.6)+(C8*8.6)+(D8*6)+(E8*7.8)+(F8*11.42) -> 0 | H8: =SUM(B8:F8) -> 0
A9: 43322 | G9: =(B9*8.6)+(C9*8.6)+(D9*6)+(E9*7.8)+(F9*11.42) -> 0 | H9: =SUM(B9:F9) -> 0
A10: 43325 | G10: =(B10*8.6)+(C10*8.6)+(D10*6)+(E10*7.8)+(F10*11.42) -> 0 | H10: =SUM(B10:F10) -> 0
A11: 43326 | G11: =(B11*8.6)+(C11*8.6)+(D11*6)+(E11*7.8)+(F11*11.42) -> 0 | H11: =SUM(B11:F11) -> 0
A12: 43327 | G12: =(B12*8.6)+(C12*8.6)+(D12*6)+(E12*7.8)+(F12*11.42) -> 0 | H12: =SUM(B12:F12) -> 0
A13: 43328 | G13: =(B13*8.6)+(C13*8.6)+(D13*6)+(E13*7.8)+(F13*11.42) -> 0 | H13: =SUM(B13:F13) -> 0
... A24: 43343 | G24: =(B24*8.6)+(C24*8.6)+(D24*6)+(E24*7.8)+(F24*11.42) -> 0 | H24: =SUM(B24:F24) -> 0
A25: TOTAL PIPS | B25: =SUM(B2:B22) -> 0 | C25: =SUM(C2:C22) -> 0 | D25: =SUM(D2:D22) -> 0 | E25: =SUM(E2:E22) -> 0 | F25: =SUM(F2:F22) -> 0 | G25: =SUM(G2:G23) -> 0 | H25: =SUM(H2:H23) -> 0 | I25: =SUM(I2:I22) -> 0
A26: TOTAL MONTANT | B26: =(B25*8.6) -> 0 | C26: =(C25*8.6) -> 0 | D26: =(D25*6) -> 0 | E26: =(E25*7.8) -> 0 | F26: =(F25*11.42) -> 0 | G26: =SUM(B26:F26) -> 0
A27: TOTAL TRADES
A29: SC GAM
A30: TOTAL ACCOUNTS | B30: C - SFE | C30: F - VOL Portfolio | D30: B - SLINGSHOT | E30: TOTAL PIPS | F30: TOTAL MONTANT | G30: TRADES | H30: SLIPAGE
A31: 43313 | B31: ='C '!G30 -> 72 | C31: ='F '!D30 -> 0 | D31: ='B '!E30 -> 45 | E31: =SUM(B31:C31) -> 72 | F31: ='C '!I30+'F '!F30+'B '!G30 -> 911.25 | G31: ='C '!H30+'F '!E30 -> 2 | H31: ='C '!J30+'F '!G30 -> -74.1
A32: 43314 | B32: ='C '!G31 -> -154.6 | C32: ='F '!D31 -> 8.3 | D32: ='B '!E3 -> 0 | E32: =SUM(B32:C32) -> -146.3 | F32: ='C '!I31+'F '!F31+'B '!G31 -> -1359.982 | G32: ='C '!H31+'F '!E31 -> 24 | H32: ='C '!J31+'F '!G31 -> -54.4
A33: 43315 | B33: ='C '!G32 -> -27.7 | C33: ='F '!D32 -> -155.9 | D33: ='B '!E4 -> 0 | E33: =SUM(B33:C33) -> -183.6 | F33: ='C '!I32+'F '!F32+'B '!G32 -> -1578.96 | G33: ='C '!H32+'F '!E32 -> 14 | H33: ='C '!J32+'F '!G32 -> -55.3
A34: 43318 | B34: ='C '!G33 -> 0 | C34: ='F '!D33 -> -2.9 | D34: ='B '!E5 -> 0 | E34: =SUM(B34:C34) -> -2.9 | F34: ='C '!I33+'F '!F33+'B '!G33 -> -24.94 | G34: ='C '!H33+'F '!E33 -> 1 | H34: ='C '!J33+'F '!G33 -> 18.9
A35: 43319 | B35: ='C '!G34 -> 0 | C35: ='F '!D34 -> 0 | D35: ='B '!E6 -> 0 | E35: =SUM(B35:C35) -> 0 | F35: ='C '!I34+'F '!F34+'B '!G34 -> 0 | G35: ='C '!H34+'F '!E34 -> 0 | H35: ='C '!J34+'F '!G34 -> -5.5
A36: 43320 | B36: ='C '!G35 -> 351 | C36: ='F '!D35 -> -13 | D36: ='B '!E7 -> -42.3 | E36: =SUM(B36:C36) -> 338 | F36: ='C '!I35+'F '!F35+'B '!G35 -> 2626 | G36: ='C '!H35+'F '!E35 -> 16 | H36: ='C '!J35+'F '!G35 -> -23.1
A37: 43321 | B37: ='C '!G36 -> 0 | C37: ='F '!D36 -> 0 | D37: ='B '!E8 -> -34.7 | E37: =SUM(B37:C37) -> 0 | F37: ='C '!I36+'F '!F36+'B '!G36 -> 0 | G37: ='C '!H36+'F '!E36 -> 0 | H37: ='C '!J36+'F '!G36 -> -356.9
A38: 43322 | B38: ='C '!G37 -> -108.4 | C38: ='F '!D37 -> 435.6 | D38: ='B '!E9 -> 0 | E38: =SUM(B38:C38) -> 327.2 | F38: ='C '!I37+'F '!F37+'B '!G37 -> 3163.56 | G38: ='C '!H37+'F '!E37 -> 27 | H38: ='C '!J37+'F '!G37 -> -50.1
A39: 43325 | B39: ='C '!G38 -> 0 | C39: ='F '!D38 -> 0 | D39: ='B '!E10 -> 0 | E39: =SUM(B39:C39) -> 0 | F39: ='C '!I38+'F '!F38+'B '!G38 -> 0 | G39: ='C '!H38+'F '!E38 -> 0 | H39: ='C '!J38+'F '!G38 -> 0
A40: 43326 | B40: ='C '!G39 -> 0 | C40: ='F '!D39 -> -61.3 | D40: ='B '!E11 -> 0 | E40: =SUM(B40:C40) -> -61.3 | F40: ='C '!I39+'F '!F39+'B '!G39 -> -527.18 | G40: ='C '!H39+'F '!E39 -> 4 | H40: ='C '!J39+'F '!G39 -> -4.6
A41: 43327 | B41: ='C '!G40 -> 0 | C41: ='F '!D40 -> 0 | D41: ='B '!E12 -> 0 | E41: =SUM(B41:C41) -> 0 | F41: ='C '!I40+'F '!F40+'B '!G40 -> 0 | G41: ='C '!H40+'F '!E40 -> 0 | H41: ='C '!J40+'F '!G40 -> 0
A42: 43328 | B42: ='C '!G41 -> -110.4 | C42: ='F '!D41 -> -15.6 | D42: ='B '!E13 -> 0 | E42: =SUM(B42:C42) -> -126 | F42: ='C '!I41+'F '!F41+'B '!G41 -> -796.56 | G42: ='C '!H41+'F '!E41 -> 8 | H42: ='C '!J41+'F '!G41 -> -9
A43: 43329 | B43: ='C '!G42 -> -13.8 | C43: ='F '!D42 -> -91.2 | D43: ='B '!E14 -> -31.2 | E43: =SUM(B43:C43) -> -105 | F43: ='C '!I42+'F '!F42+'B '!G42 -> -1167.18 | G43: ='C '!H42+'F '!E42 -> 12 | H43: ='C '!J42+'F '!G42 -> -14.3
... A53: 43343 | B53: ='C '!G52 -> 0 | C53: ='F '!D52 -> 0 | D53: ='B '!E24 -> 0 | E53: =SUM(B53:C53) -> 0 | F53: ='C '!I52+'F '!F52+'B '!G52 -> 0 | G53: ='C '!H52+'F '!E52 -> 0 | H53: ='C '!J52+'F '!G52 -> 0
A54: TOTAL | B54: =SUM(B31:B51) -> -135.6 | C54: =SUM(C31:C51) -> -130.9 | D54: =SUM(D31:D51) -> 144.5 | E54: =SUM(E31:E51) -> -266.5 | F54: =SUM(F31:F52) -> -2393.312 | G54: =SUM(G31:G52) -> 137 | H54: =SUM(H31:H52) -> -709.5
A55: TOTAL TRADES | G55: =SUM(B55:C55) -> 0

Sheet SC GAM_FXPRO
A1: SC GAM_FXPRO | B1: EURUSD | C1: GBPUSD | D1: USDJPY | E1: AUDUSD | F1: EURAUD | G1: EURGBP | H1: USDCAD | I1: GBPJPY | J1: GBPCAD | K1: TOTAL MONTANT | L1: TOTAL PIPS | M1: TRADES
A2: 43313 | K2: =(B2*8.56)+(C2*8.58)+(D2*7.64)+(E2*8.55)+(F2*6.5)+(G2*11.3)+(H2*6.11)+(I2*7.8)+(J2*7.03) -> 0 | L2: =SUM(B2:I2) -> 0
A3: 43314 | K3: =(B3*8.56)+(C3*8.58)+(D3*7.64)+(E3*8.55)+(F3*6.5)+(G3*11.3)+(H3*6.11)+(I3*7.8)+(J3*7.03) -> 0 | L3: =SUM(B3:I3) -> 0
A4: 43315 | K4: =(B4*8.56)+(C4*8.58)+(D4*7.64)+(E4*8.55)+(F4*6.5)+(G4*11.3)+(H4*6.11)+(I4*7.8)+(J4*7.03) -> 0 | L4: =SUM(B4:I4) -> 0
A5: 43318 | K5: =(B5*8.56)+(C5*8.58)+(D5*7.64)+(E5*8.55)+(F5*6.5)+(G5*11.3)+(H5*6.11)+(I5*7.8)+(J5*7.03) -> 0 | L5: =SUM(B5:I5) -> 0
A6: 43319 | K6: =(B6*8.56)+(C6*8.58)+(D6*7.64)+(E6*8.55)+(F6*6.5)+(G6*11.3)+(H6*6.11)+(I6*7.8)+(J6*7.03) -> 0 | L6: =SUM(B6:I6) -> 0
A7: 43320 | K7: =(B7*8.56)+(C7*8.58)+(D7*7.64)+(E7*8.55)+(F7*6.5)+(G7*11.3)+(H7*6.11)+(I7*7.8)+(J7*7.03) -> 0 | L7: =SUM(B7:I7) -> 0
A8: 43321 | K8: =(B8*8.56)+(C8*8.58)+(D8*7.64)+(E8*8.55)+(F8*6.5)+(G8*11.3)+(H8*6.11)+(I8*7.8)+(J8*7.03) -> 0 | L8: =SUM(B8:I8) -> 0
A9: 43322 | K9: =(B9*8.56)+(C9*8.58)+(D9*7.64)+(E9*8.55)+(F9*6.5)+(G9*11.3)+(H9*6.11)+(I9*7.8)+(J9*7.03) -> 0 | L9: =SUM(B9:I9) -> 0
A10: 43325 | K10: =(B10*8.56)+(C10*8.58)+(D10*7.64)+(E10*8.55)+(F10*6.5)+(G10*11.3)+(H10*6.11)+(I10*7.8)+(J10*7.03) -> 0 | L10: =SUM(B10:I10) -> 0
A11: 43326 | K11: =(B11*8.56)+(C11*8.58)+(D11*7.64)+(E11*8.55)+(F11*6.5)+(G11*11.3)+(H11*6.11)+(I11*7.8)+(J11*7.03) -> 0 | L11: =SUM(B11:I11) -> 0
A12: 43327 | K12: =(B12*8.56)+(C12*8.58)+(D12*7.64)+(E12*8.55)+(F12*6.5)+(G12*11.3)+(H12*6.11)+(I12*7.8)+(J12*7.03) -> 0 | L12: =SUM(B12:I12) -> 0
A13: 43328 | K13: =(B13*8.56)+(C13*8.58)+(D13*7.64)+(E13*8.55)+(F13*6.5)+(G13*11.3)+(H13*6.11)+(I13*7.8)+(J13*7.03) -> 0 | L13: =SUM(B13:I13) -> 0
... A24: 43343 | K24: =(B24*8.56)+(C24*8.58)+(D24*7.64)+(E24*8.55)+(F24*6.5)+(G24*11.3)+(H24*6.11)+(I24*7.8)+(J24*7.03) -> 0 | L24: =SUM(B24:I24) -> 0
A25: TOTAL | B25: =SUM(B2:B23) -> 0 | C25: =SUM(C2:C23) -> 0 | D25: =SUM(D2:D23) -> 0 | E25: =SUM(E2:E23) -> 0 | F25: =SUM(F2:F23) -> 0 | G25: =SUM(G2:G23) -> 0 | H25: =SUM(H2:H23) -> 0 | I25: =SUM(I2:I23) -> 0 | ... M25: =SUM(M2:M23) -> 0
A26: TOTAL MONTANT | B26: =(B25*8.54) -> 0 | C26: =(C25*8.5) -> 0 | D26: =(D25*6.5) -> 0 | E26: =(E25*8.55) -> 0 | F26: =(F25*6.5) -> 0 | G26: =(G25*11.42) -> 0
A27: TOTAL TRADES | B27: 97 | C27: 31 | D27: 28 | E27: 3 | F27: 1 | G27: 2 | H27: 1
A29: Open Date | B29: Close Date | C29: Symbol | D29: Action | E29: Lots | F29: SL | G29: TP | H29: Open Price | I29: Close Price | J29: Commission | K29: Swap | L29: Pips | M29: Profit | N29: Gain | O29: Magic Number | P29: Duration (DD:HH:MM:SS) | Q29: Profitable(%) | R29: Profitable(time duration) | S29: Drawdown | T29: Risk:Reward | U29: Max(pips) | V29: Max(EUR) | W29: Min(pips) | X29: Min(EUR) | Y29: Entry Accuracy(%) | Z29: Exit Accuracy(%) | AA29: ProfitMissed(pips) | AB29: ProfitMissed(EUR)
A30: 43138.175 | B30: 43138.339 | C30: USDJPY | D30: Buy | E30: 1 | F30: 110.705 | G30: 0 | H30: 110.93 | I30: 110.705 | J30: 0 | K30: 0 | L30: -22.5 | M30: -174.55 | N30: -0.17 | O30: sl | P30: 57434642 | Q30: 00:03:56:37 | R30: 0 | S30: 0s | T30: 26.5 | U30: 26.53 | V30: 0 | W30: 0 | X30: -26.5 | Y30: -205.64 | Z30: 0 | AA30: 15.1 | AB30: -22.5 | AC30: -174.6
A31: 43138.34 | B31: 43138.676 | C31: USDJPY | D31: Sell | E31: 1 | F31: 110.922 | G31: 0 | H31: 110.682 | I31: 110.923 | J31: 0 | K31: 0 | L31: -24.1 | M31: -187.27 | N31: -0.19 | O31: sl | P31: 57438988 | Q31: 00:08:05:56 | R31: 0 | S31: 0s | T31: 24.1 | U31: 24.15 | V31: 0 | W31: 0 | X31: -24.1 | Y31: -187.257 | Z31: 0 | AA31: 0 | AB31: -24.1 | AC31: -187.26
A32: 43138.626 | B32: 43138.775 | C32: EURUSD | D32: Sell | E32: 1 | F32: 1.16528 | G32: 0 | H32: 1.16231 | I32: 1.16067 | J32: 0 | K32: 0 | L32: 16.4 | M32: 141.3 | N32: 0.14 | P32: 57451165 | Q32: 00:03:34:10 | R32: 100 | S32: 3h 34m | T32: 19.1 | U32: 0.03 | V32: 31.6 | W32: 272.392 | X32: 0 | Y32: 0 | Z32: 100 | AA32: 51.9 | AB32: -15.2 | AC32: -131.02
A33: 43138.677 | B33: 43166.448 | C33: EURUSD | D33: Sell | E33: 1 | F33: 1.16799 | G33: 1.12987 | H33: 1.16 | I33: 1.16649 | J33: 0 | K33: 3.8 | L33: -64.9 | M33: -552.57 | N33: -0.55 | P33: 57454984 | Q33: 00:18:30:00 | R33: 0.5 | S33: 5m | T33: 72.4 | U33: 769.23 | V33: 0.1 | W33: 0.857 | X33: -72.3 | Y33: -619.611 | Z33: 0.1 | AA33: 10.2 | AB33: -65 | AC33: -557.05
A34: 43138.677 | B34: 43138.938 | C34: EURUSD | D34: Sell | E34: 1 | F34: 0 | G34: 0 | H34: 1.16001 | I34: 1.16229 | J34: 0 | K34: 0 | L34: -22.8 | M34: -196.16 | N34: -0.2 | P34: 57455014 | Q34: 00:06:15:00 | R34: 0.3 | S34: 1m | T34: 23 | U34: 114.94 | V34: 0.2 | W34: 1.72 | X34: -22.8 | Y34: -196.08 | Z34: 0.9 | AA34: 0 | AB34: -23 | AC34: -197.8
A35: 43138.677 | B35: 43138.747 | C35: EURUSD | D35: Sell | E35: 1 | F35: 0 | G35: 0 | H35: 1.16 | I35: 1.16191 | J35: 0 | K35: 0 | L35: -19.1 | M35: -164.38 | N35: -0.16 | P35: 57455017 | Q35: 00:01:40:01 | R35: 0 | S35: 0s | T35: 19.1 | U35: 19.12 | V35: 0 | W35: 0 | X35: -19.1 | Y35: -164.451 | Z35: 0 | AA35: 0 | AB35: -19.1 | AC35: -164.45
A36: 43138.914 | B36: 43166.126 | C36: EURUSD | D36: Sell | E36: 1 | F36: 1.1654 | G36: 1.141 | H36: 1.16082 | I36: 1.16396 | J36: 0 | K36: 3.8 | L36: -31.4 | M36: -265.97 | N36: -0.27 | P36: 57465246 | Q36: 00:05:05:55 | R36: 0 | S36: 0s | T36: 35.4 | U36: 35.46 | V36: 0 | W36: 0 | X36: -35.4 | Y36: -304.086 | Z36: 0 | AA36: 11.3 | AB36: -31.4 | AC36: -269.73
A37: 43138.93 | B37: 43166.126 | C37: AUDUSD | D37: Sell | E37: 1 | F37: 0.73573 | G37: 0.72703 | H37: 0.7326 | I37: 0.73387 | J37: 0 | K37: -1.98 | L37: -12.7 | M37: -111.09 | N37: -0.11 | P37: 57465941 | Q37: 00:04:42:58 | R37: 0 | S37: 0s | T37: 16.3 | U37: 16.31 | V37: 0 | W37: 0 | X37: -16.3 | Y37: -140.017 | Z37: 0 | AA37: 22.1 | AB37: -12.7 | AC37: -109.09
A38: 43138.967 | B38: 43166.18 | C38: USDCAD | D38: Buy | E38: 1 | F38: 1.31467 | G38: 1.33087 | H38: 1.31903 | I38: 1.31922 | J38: 0 | K38: -0.78 | L38: 1.9 | M38: 11.61 | N38: 0.01 | P38: 57467827 | Q38: 00:05:07:14 | R38: 57.4 | S38: 2h 56m | T38: 20.2 | U38: 0.38 | V38: 16.6 | W38: 108.232 | X38: -6.3 | Y38: -41.076 | Z38: 72.5 | AA38: 35.8 | AB38: -14.7 | AC38: -95.84
A39: 43138.969 | B39: 43166.027 | C39: GBPUSD | D39: Sell | E39: 1 | F39: 1.32055 | G39: 1.30905 | H39: 1.31387 | I39: 1.31461 | J39: 0 | K39: 1.3 | L39: -7.4 | M39: -62.28 | N39: -0.06 | P39: 57468942 | Q39: 00:01:24:21 | R39: 0 | S39: 0s | T39: 7.4 | U39: 7.4 | V39: 0 | W39: 0 | X39: -7.4 | Y39: -63.566 | Z39: 0 | AA39: 0 | AB39: -7.4 | AC39: -63.57
A40: 43138.972 | B40: 43166.129 | C40: EURAUD | D40: Sell | E40: 1 | F40: 1.5926 | G40: 1.58498 | H40: 1.58636 | I40: 1.58667 | J40: 0 | K40: 2.91 | L40: -3.1 | M40: -16.63 | N40: -0.02 | P40: 57469176 | Q40: 00:03:47:44 | R40: 91.7 | S40: 3h 28m | T40: 16.4 | U40: 0.28 | V40: 13.3 | W40: 83.79 | X40: -3.7 | Y40: -23.31 | Z40: 78.2 | AA40: 3.5 | AB40: -16.4 | AC40: -103.32
A41: 43138.994 | B41: 43197.416 | C41: EURUSD | D41: Sell | E41: 1 | F41: 1.16816 | G41: 1.1606 | H41: 1.1635 | I41: 1.16817 | J41: 0 | K41: 7.6 | L41: -46.7 | M41: -392.17 | N41: -0.39 | O41: sl | P41: 57470086 | Q41: 01:10:07:48 | R41: 12.5 | S41: 4h 15m | T41: 60.2 | U41: 3.46 | V41: 13.5 | W41: 115.56 | X41: -46.7 | Y41: -399.752 | Z41: 22.4 | AA41: 0 | AB41: -60.2 | AC41: -515.31
A42: 43166.001 | B42: 43258.415 | C42: EURUSD | D42: Sell | E42: 1 | F42: 1.1724 | G42: 0 | H42: 1.16378 | I42: 1.17241 | J42: 0 | K42: 11.39 | L42: -86.3 | M42: -724.7 | N42: -0.74 | O42: sl | P42: 57470367 | Q42: 03:09:56:10 | R42: 7.5 | S42: 6h 8m | T42: 102.6 | U42: 5.3 | V42: 16.3 | W42: 139.039 | X42: -86.3 | Y42: -736.139 | Z42: 15.9 | AA42: 0 | AB42: -102.6 | AC42: -875.18
A43: 43166.193 | B43: 43166.776 | C43: USDJPY | D43: Sell | E43: 1 | F43: 111.135 | G43: 0 | H43: 110.855 | I43: 110.579 | J43: 0 | K43: 0 | L43: 27.6 | M43: 214.11 | N43: 0.22 | P43: 57476440 | Q43: 00:13:58:14 | R43: 58.6 | S43: 8h 11m | T43: 30.7 | U43: 0.75 | V43: 34.9 | W43: 270.824 | X43: -26.2 | Y43: -203.312 | Z43: 57.1 | AA43: 88.1 | AB43: -7.3 | AC43: -56.65
A44: 43166.678 | B44: 43166.789 | C44: EURUSD | D44: Sell | E44: 1 | F44: 1.16732 | G44: 0 | H44: 1.16418 | I44: 1.16566 | J44: 0 | K44: 0 | L44: -14.8 | M44: -126.97 | N44: -0.13 | P44: 57499988 | Q44: 00:02:38:35 | R44: 0 | S44: 0s | T44: 14.8 | U44: 14.81 | V44: 0 | W44: 0 | X44: -14.8 | Y44: -126.984 | Z44: 0 | AA44: 0 | AB44: -14.8 | AC44: -126.98
A45: 43166.708 | B45: 43197.163 | C45: GBPUSD | D45: Buy | E45: 1 | F45: 1.31243 | G45: 1.41773 | H45: 1.31787 | I45: 1.32028 | J45: 0 | K45: -6.63 | L45: 24.1 | M45: 199.93 | N45: 0.2 | P45: 57501282 | Q45: 00:10:54:58 | R45: 90.6 | S45: 9h 53m | T45: 12.3 | U45: 0.26 | V45: 36.4 | W45: 311.948 | X45: -9.3 | Y45: -79.701 | Z45: 79.6 | AA45: 73.1 | AB45: -12.3 | AC45: -105.41
A46: 43166.974 | B46: 43197.133 | C46: GBPCAD | D46: Sell | E46: 1 | F46: 1.74012 | G46: 1.72412 | H46: 1.73393 | I46: 1.73436 | J46: 0 | K46: -2.17 | L46: -4.3 | M46: -30.23 | N46: -0.03 | P46: 57510393 | Q46: 00:03:48:07 | R46: 88.3 | S46: 3h 21m | T46: 10.5 | U46: 0.69 | V46: 6.2 | W46: 40.486 | X46: -4.3 | Y46: -28.079 | Z46: 59 | AA46: 0 | AB46: -10.5 | AC46: -68.56
A47: 43197.292 | B47: 43197.792 | C47: USDJPY | D47: Buy | E47: 1 | F47: 110.278 | G47: 0 | H47: 110.463 | I47: 110.5 | J47: 0 | K47: 0 | L47: 3.7 | M47: 28.76 | N47: 0.03 | P47: 57520219 | Q47: 00:11:59:19 | R47: 84.4 | S47: 10h 7m | T47: 13.6 | U47: 1.3 | V47: 8.8 | W47: 68.376 | X47: -11.4 | Y47: -88.578 | Z47: 43.6 | AA47: 74.8 | AB47: -5.1 | AC47: -39.63
A48: 43197.469 | B48: 43197.812 | C48: EURUSD | D48: Sell | E48: 1 | F48: 0 | G48: 0 | H48: 1.16394 | I48: 1.16625 | J48: 0 | K48: 0 | L48: -23.1 | M48: -198.07 | N48: -0.2 | P48: 57527008 | Q48: 00:08:15:00 | R48: 13.6 | S48: 1h 7m | T48: 41.2 | U48: 5.87 | V48: 6 | W48: 51.42 | X48: -35.2 | Y48: -301.664 | Z48: 14.6 | AA48: 29.4 | AB48: -29.1 | AC48: -249.39
A49: 43197.526 | B49: 43197.78 | C49: EURUSD | D49: Sell | E49: 1 | F49: 1.16798 | G49: 0 | H49: 1.16349 | I49: 1.16406 | J49: 0 | K49: 0 | L49: -5.7 | M49: -48.97 | N49: -0.05 | P49: 57530126 | Q49: 00:06:04:57 | R49: 0 | S49: 0s | T49: 39.7 | U49: 39.84 | V49: 0 | W49: 0 | X49: -39.7 | Y49: -341.023 | Z49: 0 | AA49: 85.6 | AB49: -5.7 | AC49: -48.96
A50: 43197.606 | B50: 43197.812 | C50: EURUSD | D50: Sell | E50: 1 | F50: 0 | G50: 0 | H50: 1.16376 | I50: 1.16626 | J50: 0 | K50: 0 | L50: -25 | M50: -214.36 | N50: -0.22 | O50: master2 | P50: 57532965 | Q50: 00:04:56:33 | R50: 0.4 | S50: 1m | T50: 37.5 | U50: 74.07 | V50: 0.5 | W50: 4.285 | X50: -37 | Y50: -317.09 | Z50: 1.3 | AA50: 32 | AB50: -25.5 | AC50: -218.53
A51: 43197.746 | B51: 43227.375 | C51: EURUSD | D51: Sell | E51: 1 | F51: 1.16981 | G51: 1.15654 | H51: 1.16429 | I51: 1.1698 | J51: 0 | K51: 3.8 | L51: -55.1 | M51: -467.22 | N51: -0.48 | O51: master1 | P51: 57536710 | Q51: 00:15:06:20 | R51: 0 | S51: 0s | T51: 66.8 | U51: 67.11 | V51: 0 | W51: 0 | X51: -66.8 | Y51: -571.14 | Z51: 0 | AA51: 17.5 | AB51: -55.1 | AC51: -471.11
A52: 43197.823 | B52: 43197.941 | C52: EURUSD | D52: Buy | E52: 1 | F52: 0 | G52: 0 | H52: 1.16664 | I52: 1.16611 | J52: 0 | K52: 0 | L52: -5.3 | M52: -45.45 | N52: -0.05 | O52: master2 | P52: 57539721 | Q52: 00:02:50:03 | R52: 0 | S52: 0s | T52: 14.1 | U52: 14.1 | V52: 0 | W52: 0 | X52: -14.1 | Y52: -120.978 | Z52: 0 | AA52: 62.4 | AB52: -5.3 | AC52: -45.47
A53: 43197.826 | B53: 43197.948 | C53: EURUSD | D53: Buy | E53: 1 | F53: 0 | G53: 0 | H53: 1.16694 | I53: 1.16586 | J53: 0 | K53: 0 | L53: -10.8 | M53: -92.64 | N53: -0.09 | O53: master2 | P53: 57539790 | Q53: 00:02:55:00 | R53: 0 | S53: 0s | T53: 17.1 | U53: 17.12 | V53: 0 | W53: 0 | X53: -17.1 | Y53: -146.718 | Z53: 0 | AA53: 36.8 | AB53: -10.8 | AC53: -92.66
A54: 43197.83 | B54: 43197.955 | C54: EURUSD | D54: Buy | E54: 1 | F54: 0 | G54: 0 | H54: 1.16742 | I54: 1.16546 | J54: 0 | K54: 0 | L54: -19.6 | M54: -168.17 | N54: -0.17 | O54: master2 | P54: 57539988 | Q54: 00:03:00:00 | R54: 0 | S54: 0s | T54: 21.9 | U54: 21.93 | V54: 0 | W54: 0 | X54: -21.9 | Y54: -187.902 | Z54: 0 | AA54: 10.5 | AB54: -19.6 | AC54: -168.17
A55: 43197.83 | B55: 43197.951 | C55: EURUSD | D55: Buy | E55: 1 | F55: 0 | G55: 0 | H55: 1.16737 | I55: 1.16577 | J55: 0 | K55: 0 | L55: -16 | M55: -137.25 | N55: -0.14 | O55: master2 | P55: 57539975 | Q55: 00:02:55:07 | R55: 0 | S55: 0s | T55: 21.4 | U55: 21.41 | V55: 0 | W55: 0 | X55: -21.4 | Y55: -183.612 | Z55: 0 | AA55: 25.2 | AB55: -16 | AC55: -137.28
A56: 43227.184 | B56: 43227.364 | C56: USDJPY | D56: Sell | E56: 1 | F56: 110.618 | G56: 0 | H56: 110.341 | I56: 110.618 | J56: 0 | K56: 0 | L56: -27.7 | M56: -214.53 | N56: -0.22 | O56: master1 | P56: 57549490 | Q56: 00:04:18:39 | R56: 2.4 | S56: 6m | T56: 35.1 | U56: 26.04 | V56: 1.3 | W56: 10.062 | X56: -33.8 | Y56: -261.612 | Z56: 3.7 | AA56: 17.4 | AB56: -29 | AC56: -224.46
A57: 43227.188 | B57: 43227.375 | C57: USDJPY | D57: Sell | E57: 1 | F57: 111.666 | G57: 107.106 | H57: 110.342 | I57: 110.672 | J57: 0 | K57: 0 | L57: -33 | M57: -254.98 | N57: -0.26 | O57: master1 | P57: 57549580 | Q57: 00:04:30:01 | R57: 0.8 | S57: 2m | T57: 34.9 | U57: 28.09 | V57: 1.2 | W57: 9.276 | X57: -33.7 | Y57: -260.501 | Z57: 3.4 | AA57: 2 | AB57: -34.2 | AC57: -264.37
A58: 43227.364 | B58: 43227.787 | C58: USDJPY | D58: Buy | E58: 1 | F58: 110.4 | G58: 0 | H58: 110.605 | I58: 110.628 | J58: 0 | K58: 0 | L58: 2.3 | M58: 17.78 | N58: 0.02 | O58: master1 | P58: 57554026 | Q58: 00:10:08:33 | R58: 76.7 | S58: 7h 46m | T58: 16 | U58: 0.62 | V58: 9.9 | W58: 76.527 | X58: -6.1 | Y58: -47.153 | Z58: 61.9 | AA58: 52.5 | AB58: -7.6 | AC58: -58.75
A59: 43227.365 | B59: 43227.417 | C59: EURUSD | D59: Buy | E59: 1 | F59: 0 | G59: 0 | H59: 1.16773 | I59: 1.16957 | J59: 0 | K59: 0 | L59: 18.4 | M59: 157.32 | N59: 0.16 | O59: master2 | P59: 57554211 | Q59: 00:01:14:59 | R59: 100 | S59: 1h 14m | T59: 2.2 | U59: 0.05 | V59: 18.4 | W59: 157.32 | X59: 0 | Y59: 0 | Z59: 100 | AA59: 100 | AB59: 0 | AC59: 0
A60: 43227.368 | B60: 43227.646 | C60: EURUSD | D60: Buy | E60: 1 | F60: 0 | G60: 0 | H60: 1.16875 | I60: 1.17167 | J60: 0 | K60: 0 | L60: 29.2 | M60: 249.22 | N60: 0.25 | O60: master2 | P60: 57554957 | Q60: 00:06:40:01 | R60: 85.5 | S60: 5h 42m | T60: 13.1 | U60: 0.15 | V60: 32.2 | W60: 274.666 | X60: -4.8 | Y60: -40.944 | Z60: 87 | AA60: 91.9 | AB60: -3 | AC60: -25.59
A61: 43227.372 | B61: 43227.646 | C61: EURUSD | D61: Buy | E61: 1 | F61: 0 | G61: 0 | H61: 1.16877 | I61: 1.17167 | J61: 0 | K61: 0 | L61: 29 | M61: 247.51 | N61: 0.25 | O61: master2 | P61: 57555342 | Q61: 00:06:35:02 | R61: 83.6 | S61: 5h 30m | T61: 13.1 | U61: 0.16 | V61: 32 | W61: 272.96 | X61: -5 | Y61: -42.65 | Z61: 86.5 | AA61: 91.9 | AB61: -3 | AC61: -25.59
... A143: 43411.51 | B143: 43411.594 | C143: EURUSD | D143: Sell | E143: 1 | F143: 0 | G143: 0 | H143: 1.1702 | I143: 1.17178 | J143: 0 | K143: 0 | L143: -15.8 | M143: -134.84 | N143: -0.14 | O143: master2 | P143: 57779188 | Q143: 00:02:00:00 | R143: 0 | S143: 0s | T143: 15.8 | U143: 15.82 | V143: 0 | W143: 0 | X143: -15.8 | Y143: -134.774 | Z143: 0 | AA143: 0 | AB143: -15.8 | AC143: -134.77
A144: 43411.635 | B144: 43411.637 | C144: EURUSD | D144: Buy | E144: 1 | F144: 1.1722 | G144: 0 | H144: 1.17383 | I144: 1.17217 | J144: 0 | K144: 0 | L144: -16.6 | M144: -141.62 | N144: -0.14 | O144: master1[sl] | P144: 57785545 | Q144: 00:00:02:27
A145: 43411.635 | B145: 43411.713 | C145: EURUSD | D145: Buy | E145: 1 | F145: 1.17364 | G145: 1.18467 | H145: 1.17359 | I145: 1.17364 | J145: 0 | K145: 0 | L145: 0.5 | M145: 4.26 | N145: 0 | O145: master2 | P145: 57785737 | Q145: 00:01:52:16 | R145: 0.9 | S145: 1m | T145: 24.7 | U145: 49.51 | V145: 0.5 | W145: 4.26 | X145: -24.7 | Y145: -210.444 | Z145: 2 | AA145: 100 | AB145: 0 | AC145: 0
A146: 43411.635 | B146: 43411.639 | C146: EURUSD | D146: Buy | E146: 1 | F146: 0 | G146: 0 | H146: 1.17363 | I146: 1.17251 | J146: 0 | K146: 0 | L146: -11.2 | M146: -95.52 | N146: -0.1 | O146: master2 | P146: 57785691 | Q146: 00:00:05:01 | R146: 0 | S146: 0s | T146: 11.2 | U146: 11.21 | V146: 0 | W146: 0 | X146: -11.2 | Y146: -95.536 | Z146: 0 | AA146: 0 | AB146: -11.2 | AC146: -95.54
A147: 43411.656 | B147: 43411.75 | C147: EURUSD | D147: Buy | E147: 1 | F147: 1.16668 | G147: 1.2048 | H147: 1.17466 | I147: 1.17204 | J147: 0 | K147: 0 | L147: -26.2 | M147: -223.54 | N147: -0.23 | O147: master1 | P147: 57787900 | Q147: 00:02:14:59 | R147: 0 | S147: 0s | T147: 28 | U147: 28.01 | V147: 0 | W147: 0 | X147: -28 | Y147: -238.84 | Z147: 0 | AA147: 6.4 | AB147: -26.2 | AC147: -223.49
A148: 43411.656 | B148: 43411.743 | C148: EURUSD | D148: Buy | E148: 1 | F148: 0 | G148: 0 | H148: 1.17465 | I148: 1.17233 | J148: 0 | K148: 0 | L148: -23.2 | M148: -197.9 | N148: -0.2 | O148: master2 | P148: 57787833 | Q148: 00:02:05:00 | R148: 0 | S148: 0s | T148: 27.9 | U148: 27.93 | V148: 0 | W148: 0 | X148: -27.9 | Y148: -237.987 | Z148: 0 | AA148: 16.8 | AB148: -23.2 | AC148: -197.9
A149: 43411.656 | B149: 43411.74 | C149: EURUSD | D149: Buy | E149: 1 | F149: 0 | G149: 0 | H149: 1.1746 | I149: 1.17299 | J149: 0 | K149: 0 | L149: -16.1 | M149: -137.26 | N149: -0.14 | O149: master2 | P149: 57787792 | Q149: 00:02:00:00 | R149: 0 | S149: 0s | T149: 27.4 | U149: 27.47 | V149: 0 | W149: 0 | X149: -27.4 | Y149: -233.722 | Z149: 0 | AA149: 41.2 | AB149: -16.1 | AC149: -137.33
A150: 43411.656 | B150: 43411.74 | C150: EURUSD | D150: Buy | E150: 1 | F150: 0 | G150: 0 | H150: 1.17469 | I150: 1.17293 | J150: 0 | K150: 0 | L150: -17.6 | M150: -150.05 | N150: -0.15 | O150: master2 | P150: 57787815 | Q150: 00:02:00:00 | R150: 0 | S150: 0s | T150: 28.3 | U150: 28.33 | V150: 0 | W150: 0 | X150: -28.3 | Y150: -241.399 | Z150: 0 | AA150: 37.8 | AB150: -17.6 | AC150: -150.13
A151: 43411.656 | B151: 43411.738 | C151: EURUSD | D151: Buy | E151: 1 | F151: 1.17271 | G151: 1.18284 | H151: 1.17466 | I151: 1.1727 | J151: 0 | K151: 0 | L151: -19.6 | M151: -167.14 | N151: -0.17 | O151: master1 | P151: 57787857 | Q151: 00:01:57:25 | R151: 0 | S151: 0s | T151: 28 | U151: 28.01 | V151: 0 | W151: 0 | X151: -28 | Y151: -238.84 | Z151: 0 | AA151: 30 | AB151: -19.6 | AC151: -167.19
A152: 43411.66 | B152: 43411.74 | C152: EURUSD | D152: Buy | E152: 1 | F152: 0 | G152: 0 | H152: 1.17464 | I152: 1.17294 | J152: 0 | K152: 0 | L152: -17 | M152: -144.93 | N152: -0.15 | O152: master2 | P152: 57788392 | Q152: 00:01:55:01 | R152: 0 | S152: 0s | T152: 27.8 | U152: 27.86 | V152: 0 | W152: 0 | X152: -27.8 | Y152: -237.134 | Z152: 0 | AA152: 38.8 | AB152: -17 | AC152: -145.01
A153: 43411.663 | B153: 43411.743 | C153: EURUSD | D153: Buy | E153: 1 | F153: 0 | G153: 0 | H153: 1.17489 | I153: 1.17234 | J153: 0 | K153: 0 | L153: -25.5 | M153: -217.51 | N153: -0.22 | O153: master2 | P153: 57788508 | Q153: 00:01:55:01 | R153: 0 | S153: 0s | T153: 30.2 | U153: 30.21 | V153: 0 | W153: 0 | X153: -30.2 | Y153: -257.606 | Z153: 0 | AA153: 15.6 | AB153: -25.5 | AC153: -217.51
A154: 43411.663 | B154: 43411.743 | C154: EURUSD | D154: Buy | E154: 1 | F154: 0 | G154: 0 | H154: 1.1749 | I154: 1.17233 | J154: 0 | K154: 0 | L154: -25.7 | M154: -219.22 | N154: -0.23 | O154: master2 | P154: 57788528 | Q154: 00:01:55:00 | R154: 0 | S154: 0s | T154: 29.1 | U154: 29.15 | V154: 0 | W154: 0 | X154: -29.1 | Y154: -248.223 | Z154: 0 | AA154: 11.7 | AB154: -25.7 | AC154: -219.22
A155: 43411.742 | B155: 07/13/2018 10:16 | C155: EURUSD | D155: Sell | E155: 0.8 | F155: 1.1698 | G155: 1.1633 | H155: 1.17227 | I155: 1.16329 | J155: 0 | K155: 6.76 | L155: 89.8 | M155: 624.32 | N155: 0.64 | O155: from #23811310 | P155: 57795439 | Q155: 01:16:28:42 | R155: 100 | S155: 1d 16h | T155: 43 | U155: 0.01 | V155: 93.3 | W155: 641.904 | X155: 0 | Y155: 0 | Z155: 100 | AA155: 96.2 | AB155: -3.5 | AC155: -24.08
A156: 43411.742 | B156: 43411.838 | C156: EURUSD | D156: Sell | E156: 1 | F156: 1.17567 | G156: 1.16826 | H156: 1.17227 | I156: 1.16842 | J156: 0 | K156: 0 | L156: 38.5 | M156: 329.5 | N156: 0.34 | O156: master2 | P156: 57795427 | Q156: 00:02:18:31 | R156: 100 | S156: 2h 18m | T156: 14 | U156: 0.02 | V156: 52.5 | W156: 449.4 | X156: 0 | Y156: 0 | Z156: 100 | AA156: 73.3 | AB156: -14 | AC156: -119.84
A157: 43411.742 | B157: 43411.829 | C157: EURUSD | D157: Sell | E157: 0.2 | F157: 1.17223 | G157: 1.1633 | H157: 1.17227 | I157: 1.16996 | J157: 0 | K157: 0 | L157: 23.1 | M157: 39.49 | N157: 0.04 | O157: master2 | P157: 57795439 | Q157: 00:02:06:09 | R157: 0.8 | S157: 1m | T157: 0 | U157: 0.04 | V157: 23.1 | W157: 39.501 | X157: 0 | Y157: 0 | Z157: 100 | AA157: 100 | AB157: 0 | AC157: 0
A158: 43411.751 | B158: 43441.787 | C158: EURUSD | D158: Sell | E158: 0.8 | F158: 1.16966 | G158: 1.1578 | H158: 1.17154 | I158: 1.16966 | J158: 0 | K158: 3.38 | L158: 18.8 | M158: 131.96 | N158: 0.13 | O158: from #23811504 | P158: 57797210 | Q158: 01:00:52:43 | R158: 100 | S158: 1d | T158: 44 | U158: 0.02 | V158: 62.8 | W158: 429.552 | X158: 0 | Y158: 0 | Z158: 100 | AA158: 29.9 | AB158: -44 | AC158: -300.96
A159: 43411.751 | B159: 43441.001 | C159: EURUSD | D159: Sell | E159: 0.2 | F159: 1.17148 | G159: 1.1578 | H159: 1.17154 | I159: 1.16753 | J159: 0 | K159: 0.85 | L159: 40.1 | M159: 69.54 | N159: 0.07 | O159: master2 | P159: 57797210 | Q159: 00:06:00:39 | R159: 100 | S159: 6h 0m | T159: 15.1 | U159: 0.02 | V159: 48.9 | W159: 83.619 | X159: 0 | Y159: 0 | Z159: 100 | AA159: 82 | AB159: -8.8 | AC159: -15.05
A160: 43411.765 | B160: 07/13/2018 19:30 | C160: EURUSD | D160: Sell | E160: 1 | F160: 1.16751 | G160: 1.15688 | H160: 1.17098 | I160: 1.16751 | J160: 0 | K160: 8.46 | L160: 34.7 | M160: 305.67 | N160: 0.31 | O160: master2 | P160: 57799559 | Q160: 02:01:08:17 | R160: 100 | S160: 2d 1h | T160: 58.5 | U160: 0.01 | V160: 93.2 | W160: 798.724 | X160: 0 | Y160: 0 | Z160: 100 | AA160: 37.2 | AB160: -58.5 | AC160: -501.35
A161: 43411.771 | B161: 43411.856 | C161: USDJPY | D161: Buy | E161: 1 | F161: 111.252 | G161: 112.184 | H161: 111.579 | I161: 112.019 | J161: 0 | K161: 0 | L161: 44 | M161: 336.5 | N161: 0.35 | O161: master1 | P161: 57800313 | Q161: 00:02:02:40 | R161: 0.9 | S161: 1m | T161: 0 | U161: 0.02 | V161: 44 | W161: 336.6 | X161: 0 | Y161: 0 | Z161: 100 | AA161: 100 | AB161: 0 | AC161: 0
A162: 43411.817 | B162: 43441.201 | C162: USDJPY | D162: Buy | E162: 1 | F162: 110.849 | G162: 0 | H162: 111.781 | I162: 112.235 | J162: 0 | K162: 3.18 | L162: 45.4 | M162: 349.59 | N162: 0.36 | O162: master1 | P162: 57804752 | Q162: 00:09:13:53 | R162: 100 | S162: 9h 13m | T162: 13.8 | U162: 0.02 | V162: 51.3 | W162: 391.419 | X162: 0 | Y162: 0 | Z162: 100 | AA162: 88.5 | AB162: -5.9 | AC162: -45.02
A163: 43411.833 | B163: 43441.201 | C163: USDJPY | D163: Buy | E163: 1 | F163: 110.585 | G163: 115.145 | H163: 111.926 | I163: 112.237 | J163: 0 | K163: 3.18 | L163: 31.1 | M163: 240.47 | N163: 0.25 | O163: master1 | P163: 57806096 | Q163: 00:08:49:45 | R163: 98.9 | S163: 8h 43m | T163: 13.4 | U163: 0.02 | V163: 36.8 | W163: 280.784 | X163: -0.9 | Y163: -6.867 | Z163: 97.6 | AA163: 84.9 | AB163: -5.7 | AC163: -43.49
A164: 43411.84 | B164: 07/13/2018 10:10 | C164: EURUSD | D164: Sell | E164: 1 | F164: 0 | G164: 0 | H164: 1.16802 | I164: 1.16415 | J164: 0 | K164: 8.46 | L164: 38.7 | M164: 340.89 | N164: 0.35 | O164: master2 | P164: 57807274 | Q164: 01:14:00:30 | R164: 83.8 | S164: 1d 7h | T164: 43 | U164: 0.3 | V164: 50.8 | W164: 436.372 | X164: -15.4 | Y164: -132.286 | Z164: 76.7 | AA164: 81.7 | AB164: -12.1 | AC164: -103.94
A165: 43411.844 | B165: 43441.015 | C165: EURUSD | D165: Sell | E165: 1 | F165: 1.16802 | G165: 1.15991 | H165: 1.1681 | I165: 1.16772 | J165: 0 | K165: 4.23 | L165: 3.8 | M165: 36.77 | N165: 0.04 | O165: master2 | P165: 57807548 | Q165: 00:04:06:33 | R165: 100 | S165: 4h 6m | T165: 5.7 | U165: 0.11 | V165: 9.5 | W165: 81.32 | X165: 0 | Y165: 0 | Z165: 100 | AA165: 40 | AB165: -5.7 | AC165: -48.79
A166: 43411.896 | B166: 43411.948 | C166: EURUSD | D166: Sell | E166: 1 | F166: 1.16996 | G166: 1.16655 | H166: 1.16662 | I166: 1.16723 | J166: 0 | K166: 0 | L166: -6.1 | M166: -52.26 | N166: -0.05 | O166: master2 | P166: 57810719 | Q166: 00:01:15:03 | R166: 0 | S166: 0s | T166: 6.1 | U166: 6.1 | V166: 0 | W166: 0 | X166: -6.1 | Y166: -52.277 | Z166: 0 | AA166: 0 | AB166: -6.1 | AC166: -52.28
A167: 43441.033 | B167: 43441.201 | C167: USDJPY | D167: Buy | E167: 1 | F167: 112.25 | G167: 0 | H167: 111.952 | I167: 112.249 | J167: 0 | K167: 0 | L167: 29.7 | M167: 226.58 | N167: 0.23 | O167: master1 | P167: 57816522 | Q167: 00:04:02:41 | R167: 100 | S167: 4h 2m | T167: 8.2 | U167: 0.03 | V167: 34.2 | W167: 260.946 | X167: 0 | Y167: 0 | Z167: 100 | AA167: 86.8 | AB167: -4.5 | AC167: -34.34
A168: 43441.042 | B168: 43441.13 | C168: USDJPY | D168: Buy | E168: 1 | F168: 111.473 | G168: 113.753 | H168: 111.962 | I168: 112.038 | J168: 0 | K168: 0 | L168: 7.6 | M168: 58.1 | N168: 0.06 | O168: master1 | P168: 57816867 | Q168: 00:02:06:59 | R168: 0.8 | S168: 1m | T168: 0 | U168: 0.13 | V168: 7.6 | W168: 58.064 | X168: 0 | Y168: 0 | Z168: 100 | AA168: 100 | AB168: 0 | AC168: 0
A169: 43441.072 | B169: 43441.142 | C169: USDJPY | D169: Buy | E169: 1 | F169: 111.118 | G169: 112.568 | H169: 111.939 | I169: 112.078 | J169: 0 | K169: 0 | L169: 13.9 | M169: 106.22 | N169: 0.11 | O169: master1 | P169: 57817300 | Q169: 00:01:41:40 | R169: 1 | S169: 1m | T169: 0 | U169: 0.07 | V169: 13.9 | W169: 106.196 | X169: 0 | Y169: 0 | Z169: 100 | AA169: 100 | AB169: 0 | AC169: 0
A170: 43441.112 | B170: 43441.526 | C170: EURUSD | D170: Sell | E170: 1 | F170: 1.17212 | G170: 1.14772 | H170: 1.1676 | I170: 1.16741 | J170: 0 | K170: 0 | L170: 1.9 | M170: 16.28 | N170: 0.02 | O170: master1 | P170: 57818065 | Q170: 00:09:56:47 | R170: 45.6 | S170: 4h 32m | T170: 20.6 | U170: 2.96 | V170: 5.2 | W170: 44.564 | X170: -15.4 | Y170: -131.978 | Z170: 25.2 | AA170: 84 | AB170: -3.3 | AC170: -28.28
A171: 43441.193 | B171: 43441.458 | C171: USDJPY | D171: Buy | E171: 1 | F171: 111.965 | G171: 0 | H171: 112.187 | I171: 112.32 | J171: 0 | K171: 0 | L171: 13.3 | M171: 101.33 | N171: 0.1 | O171: master1 | P171: 57820746 | Q171: 00:06:21:52 | R171: 99.8 | S171: 6h 21m | T171: 10.1 | U171: 0.02 | V171: 22.2 | W171: 169.164 | X171: -0.4 | Y171: -3.048 | Z171: 98.2 | AA171: 60.6 | AB171: -8.9 | AC171: -67.82
A172: 43441.233 | B172: 07/13/2018 01:10 | C172: AUDUSD | D172: Sell | E172: 1 | F172: 0.74341 | G172: 0.72141 | H172: 0.73728 | I172: 0.74076 | J172: 0 | K172: -2.97 | L172: -34.8 | M172: -301.16 | N172: -0.31 | O172: master1 | P172: 57822783 | Q172: 00:19:35:04 | R172: 0 | S172: 0s | T172: 45.1 | U172: 45.25 | V172: 0 | W172: 0 | X172: -45.1 | Y172: -386.507 | Z172: 0 | AA172: 22.8 | AB172: -34.8 | AC172: -298.24
A173: 43441.499 | B173: 43441.783 | C173: EURUSD | D173: Sell | E173: 1 | F173: 1.16931 | G173: 0 | H173: 1.16721 | I173: 1.16931 | J173: 0 | K173: 0 | L173: -21 | M173: -179.59 | N173: -0.18 | O173: master1 | P173: 57832183 | Q173: 00:06:49:12 | R173: 12.8 | S173: 52m | T173: 38.5 | U173: 1.2 | V173: 17.5 | W173: 149.625 | X173: -21 | Y173: -179.55 | Z173: 45.5 | AA173: 0 | AB173: -38.5 | AC173: -329.18
A174: 43441.656 | B174: 43441.667 | C174: EURUSD | D174: Buy | E174: 1 | F174: 0 | G174: 0 | H174: 1.1684 | I174: 1.16699 | J174: 0 | K174: 0 | L174: -14.1 | M174: -120.82 | N174: -0.12 | O174: master2 | P174: 57842191 | Q174: 00:00:15:02 | R174: 0 | S174: 0s | T174: 14.1 | U174: 14.1 | V174: 0 | W174: 0 | X174: -14.1 | Y174: -120.837 | Z174: 0 | AA174: 0 | AB174: -14.1 | AC174: -120.84
A175: 43441.677 | B175: 43441.689 | C175: USDJPY | D175: Buy | E175: 1 | F175: 111.922 | G175: 114.202 | H175: 112.397 | I175: 112.457 | J175: 0 | K175: 0 | L175: 6 | M175: 45.68 | N175: 0.05 | O175: master1 | P175: 57843637 | Q175: 00:00:17:04 | R175: 5.9 | S175: 1m | T175: 0 | U175: 0.17 | V175: 6 | W175: 45.66 | X175: 0 | Y175: 0 | Z175: 100 | AA175: 100 | AB175: 0 | AC175: 0
A176: 43441.784 | B176: 43441.787 | C176: EURUSD | D176: Buy | E176: 1 | F176: 1.16738 | G176: 0 | H176: 1.16935 | I176: 1.16911 | J176: 0 | K176: 0 | L176: -2.4 | M176: -20.53 | N176: -0.02 | O176: master1 | P176: 57848423 | Q176: 00:00:04:52 | R176: 0 | S176: 0s | T176: 2.4 | U176: 2.4 | V176: 0 | W176: 0 | X176: -2.4 | Y176: -20.52 | Z176: 0 | AA176: 0 | AB176: -2.4 | AC176: -20.52
A177: 43441.823 | B177: 43441.844 | C177: USDJPY | D177: Buy | E177: 1 | F177: 111.916 | G177: 114.196 | H177: 112.388 | I177: 112.459 | J177: 0 | K177: 0 | L177: 7.1 | M177: 54.05 | N177: 0.06 | O177: master1 | P177: 57849858 | Q177: 00:00:30:00 | R177: 3.4 | S177: 1m | T177: 0 | U177: 0.14 | V177: 7.1 | W177: 54.031 | X177: 0 | Y177: 0 | Z177: 100 | AA177: 100 | AB177: 0 | AC177: 0
A178: 03/14/2018 10:57 | B178: 43350.791 | C178: EURGBP | D178: Buy | E178: 1 | F178: 0 | G178: 0.8898 | H178: 0.88674 | I178: 0.8898 | J178: 0 | K178: -579.18 | L178: 30.6 | M178: -235.28 | N178: -0.24 | O178: tp | P178: 0 | Q178: 117:08:02:07 | R178: 0.2 | S178: 5h 54m | T178: 0 | U178: 0.03 | V178: 30.6 | W178: 343.944 | X178: 0 | Y178: 0 | Z178: 100 | AA178: 100 | AB178: 0 | AC178: 0
A179: 05/17/2018 13:36 | B179: 43441.632 | C179: USDCHF | D179: Buy | E179: 1 | F179: 0 | G179: 1.004 | H179: 1.0025 | I179: 0.99841 | J179: 0 | K179: 219.62 | L179: -40.9 | M179: -131.77 | N179: -0.13 | P179: 0 | Q179: 56:01:33:36 | R179: 0 | S179: 0s | T179: 226 | U179: 227.27 | V179: 0 | W179: 0 | X179: -226 | Y179: -1941.34 | Z179: 0 | AA179: 81.9 | AB179: -40.9 | AC179: -351.33
A180: 07/13/2018 01:29 | B180: 07/13/2018 15:22 | C180: GBPUSD | D180: Buy | E180: 1 | F180: 1.28656 | G180: 0 | H180: 1.32 | I180: 1.31581 | J180: 0 | K180: 0 | L180: -41.9 | M180: -359.93 | N180: -0.37 | O180: master1 | P180: 57857304 | Q180: 00:13:52:57 | R180: 0 | S180: 0s | T180: 94.4 | U180: 95.24 | V180: 0 | W180: 0 | X180: -94.4 | Y180: -810.896 | Z180: 0 | AA180: 55.6 | AB180: -41.9 | AC180: -359.92
A181: 07/13/2018 01:39 | B181: 07/13/2018 17:49 | C181: GBPUSD | D181: Buy | E181: 1 | F181: 1.29525 | G181: 0 | H181: 1.31938 | I181: 1.31884 | J181: 0 | K181: 0 | L181: -5.4 | M181: -46.35 | N181: -0.05 | O181: master1 | P181: 57857542 | Q181: 00:16:10:24 | R181: 18.7 | S181: 3h 1m | T181: 88.2 | U181: 3.57 | V181: 24.7 | W181: 211.926 | X181: -88.2 | Y181: -756.756 | Z181: 21.9 | AA181: 73.3 | AB181: -30.1 | AC181: -258.26
A182: 07/13/2018 04:30 | B182: 07/13/2018 10:43 | C182: USDJPY | D182: Sell | E182: 1 | F182: 112.773 | G182: 0 | H182: 112.603 | I182: 112.773 | J182: 0 | K182: 0 | L182: -17 | M182: -129.58 | N182: -0.13 | O182: master1 | P182: 57862783 | Q182: 00:06:12:33 | R182: 16.7 | S182: 1h 2m | T182: 22.7 | U182: 2.98 | V182: 5.7 | W182: 43.434 | X182: -17 | Y182: -129.54 | Z182: 25.1 | AA182: 0 | AB182: -22.7 | AC182: -172.97
A183: 07/13/2018 10:15 | B183: 07/13/2018 11:30 | C183: EURUSD | D183: Sell | E183: 1 | F183: 0 | G183: 0 | H183: 1.16347 | I183: 1.16245 | J183: 0 | K183: 0 | L183: 10.2 | M183: 87.75 | N183: 0.09 | O183: master2 | P183: 57869440 | Q183: 00:01:15:01 | R183: 1.4 | S183: 1m | T183: 0 | U183: 0.1 | V183: 10.2 | W183: 87.72 | X183: 0 | Y183: 0 | Z183: 100 | AA183: 100 | AB183: 0 | AC183: 0
A184: 07/13/2018 10:30 | B184: 07/13/2018 11:45 | C184: EURUSD | D184: Sell | E184: 1 | F184: 0 | G184: 0 | H184: 1.16319 | I184: 1.16181 | J184: 0 | K184: 0 | L184: 13.8 | M184: 118.78 | N184: 0.12 | O184: master2 | P184: 57870546 | Q184: 00:01:15:01 | R184: 1.4 | S184: 1m | T184: 0 | U184: 0.07 | V184: 13.8 | W184: 118.818 | X184: 0 | Y184: 0 | Z184: 100 | AA184: 100 | AB184: 0 | AC184: 0
A185: 07/13/2018 10:44 | B185: 07/13/2018 12:28 | C185: USDJPY | D185: Buy | E185: 1 | F185: 112.62 | G185: 0 | H185: 112.788 | I185: 112.62 | J185: 0 | K185: 0 | L185: -16.8 | M185: -128.32 | N185: -0.13 | O185: master1 | P185: 57871486 | Q185: 00:01:43:39 | R185: 0 | S185: 0s | T185: 16.8 | U185: 16.81 | V185: 0 | W185: 0 | X185: -16.8 | Y185: -128.352 | Z185: 0 | AA185: 0 | AB185: -16.8 | AC185: -128.35
A186: 07/13/2018 10:45 | B186: 07/13/2018 15:15 | C186: GBPUSD | D186: Sell | E186: 1 | F186: 1.3217 | G186: 1.27579 | H186: 1.31216 | I186: 1.31527 | J186: 0 | K186: 0 | L186: -31.1 | M186: -267.13 | N186: -0.27 | O186: master1 | P186: 57871627 | Q186: 00:04:30:03 | R186: 3.4 | S186: 9m | T186: 43.3 | U186: 13.95 | V186: 2.9 | W186: 24.911 | X186: -40.4 | Y186: -347.036 | Z186: 6.7 | AA186: 21.5 | AB186: -34 | AC186: -292.06
A187: 07/13/2018 11:19 | B187: 07/13/2018 17:01 | C187: EURUSD | D187: Sell | E187: 1 | F187: 1.16502 | G187: 0 | H187: 1.16233 | I187: 1.16502 | J187: 0 | K187: 0 | L187: -26.9 | M187: -230.9 | N187: -0.24 | O187: master1 | P187: 57872844 | Q187: 00:05:42:25 | R187: 1.5 | S187: 5m | T187: 34.3 | U187: 9.09 | V187: 3.4 | W187: 29.172 | X187: -30.9 | Y187: -265.122 | Z187: 9.9 | AA187: 11.7 | AB187: -30.3 | AC187: -259.97
A188: 07/13/2018 13:00 | B188: 07/13/2018 21:05 | C188: EURUSD | D188: Sell | E188: 1 | F188: 1.16801 | G188: 1.14861 | H188: 1.16337 | I188: 1.16801 | J188: 0 | K188: 0 | L188: -46.4 | M188: -397.26 | N188: -0.41 | O188: master1 | P188: 57877461 | Q188: 00:08:05:54 | R188: 0 | S188: 0s | T188: 48.7 | U188: 48.78 | V188: 0 | W188: 0 | X188: -48.7 | Y188: -416.872 | Z188: 0 | AA188: 4.7 | AB188: -46.4 | AC188: -397.18
A189: 07/13/2018 14:55 | B189: 07/13/2018 17:49 | C189: GBPUSD | D189: Sell | E189: 1 | F189: 1.31938 | G189: 1.28918 | H189: 1.31404 | I189: 1.31939 | J189: 0 | K189: 0 | L189: -53.5 | M189: -459.01 | N189: -0.47 | O189: master1 | P189: 57880344 | Q189: 00:02:53:59 | R189: 0 | S189: 0s | T189: 78.1 | U189: 78.13 | V189: 0 | W189: 0 | X189: -78.1 | Y189: -670.098 | Z189: 0 | AA189: 31.5 | AB189: -53.5 | AC189: -459.03
A190: 07/13/2018 15:14 | B190: 07/13/2018 21:07 | C190: EURUSD | D190: Sell | E190: 1 | F190: 1.16879 | G190: 1.14919 | H190: 1.16395 | I190: 1.16817 | J190: 0 | K190: 0 | L190: -42.2 | M190: -361.25 | N190: -0.37 | O190: master1 | P190: 57881375 | Q190: 00:05:53:42 | R190: 0 | S190: 0s | T190: 42.9 | U190: 42.92 | V190: 0 | W190: 0 | X190: -42.9 | Y190: -367.224 | Z190: 0 | AA190: 1.6 | AB190: -42.2 | AC190: -361.23
A191: 07/13/2018 17:01 | B191: 07/13/2018 18:37 | C191: EURUSD | D191: Buy | E191: 1 | F191: 1.16248 | G191: 0 | H191: 1.16561 | I191: 1.16629 | J191: 0 | K191: 0 | L191: 6.8 | M191: 58.3 | N191: 0.06 | O191: master1 | P191: 57886216 | Q191: 00:01:35:11 | R191: 1.1 | S191: 1m | T191: 0 | U191: 0.15 | V191: 6.8 | W191: 58.276 | X191: 0 | Y191: 0 | Z191: 100 | AA191: 100 | AB191: 0 | AC191: 0
... A194: 07/16/2018 04:28 | B194: 07/16/2018 08:43 | C194: USDJPY | D194: Buy | E194: 1 | F194: 112.395 | G194: 0 | H194: 112.533 | I194: 112.395 | J194: 0 | K194: 0 | L194: -13.8 | M194: -104.96 | N194: -0.11 | O194: master1 | P194: 57900300 | Q194: 00:04:15:02 | R194: 0 | S194: 0s | T194: 15.8 | U194: 15.82 | V194: 0 | W194: 0 | X194: -15.8 | Y194: -120.238 | Z194: 0 | AA194: 12.7 | AB194: -13.8 | AC194: -105.02
...

Sheet A
A1: A - PM Swing Trading | B1: EURJPY | C1: USDCAD | D1: TOTAL PIPS | E1: TRADES | F1: TOTAL MONTANT | G1: VOLUME
A2: 43313 | B2: 0 | C2: 0 | D2: =SUM(B2:C2) -> 0 | E2: 0 | F2: =G2*((B2*7.75)+(C2*6.62)) -> 0 | G2: 1
A3: 43314 | B3: 0 | C3: 0 | D3: =SUM(B3:C3) -> 0 | E3: 0 | F3: =G3*((B3*7.75)+(C3*6.62)) -> 0 | G3: 1
A4: 43315 | B4: 0 | C4: 0 | D4: =SUM(B4:C4) -> 0 | E4: 0 | F4: =G4*((B4*7.75)+(C4*6.62)) -> 0 | G4: 1
A5: 43318 | B5: 0 | C5: 0 | D5: =SUM(B5:C5) -> 0 | E5: 0 | F5: =G5*((B5*7.75)+(C5*6.62)) -> 0 | G5: 1
A6: 43319 | B6: 0 | C6: 0 | D6: =SUM(B6:C6) -> 0 | E6: 0 | F6: =G6*((B6*7.75)+(C6*6.62)) -> 0 | G6: 1
A7: 43320 | B7: 0 | C7: 0 | D7: =SUM(B7:C7) -> 0 | E7: 0 | F7: =G7*((B7*7.75)+(C7*6.62)) -> 0 | G7: 1
A8: 43321 | B8: 0 | C8: 133 | D8: =SUM(B8:C8) -> 133 | E8: 1 | F8: =G8*((B8*7.75)+(C8*6.62)) -> 880.46 | G8: 1
A9: 43322 | B9: 0 | C9: =74.3+119.6 -> 193.9 | D9: =SUM(B9:C9) -> 193.9 | E9: 2 | F9: =G9*((B9*7.75)+(C9*6.62)) -> 1283.618 | G9: 1
A10: 43325 | B10: 0 | C10: 0 | D10: =SUM(B10:C10) -> 0 | E10: 0 | F10: =G10*((B10*7.75)+(C10*6.62)) -> 0 | G10: 1
A11: 43326 | B11: 0 | C11: 0 | D11: =SUM(B11:C11) -> 0 | E11: 0 | F11: =G11*((B11*7.75)+(C11*6.62)) -> 0 | G11: 1
A12: 43327 | B12: =12.7+12.5 -> 25.2 | C12: 0 | D12: =SUM(B12:C12) -> 25.2 | E12: 2 | F12: =G12*((B12*7.75)+(C12*6.62)) -> 195.3 | G12: 1
A13: 43328 | B13: 0 | C13: 0 | D13: =SUM(B13:C13) -> 0 | E13: 0 | F13: =G13*((B13*7.75)+(C13*6.62)) -> 0 | G13: 1
A14: 43329 | B14: 0 | C14: 0 | D14: =SUM(B14:C14) -> 0 | E14: 0 | F14: =G14*((B14*7.75)+(C14*6.62)) -> 0 | G14: 1
A15: 43332 | B15: 0 | C15: 0 | D15: =SUM(B15:C15) -> 0 | E15: 0 | F15: =G15*((B15*7.75)+(C15*6.62)) -> 0 | G15: 1
A16: 43333 | B16: 0 | C16: 0 | D16: =SUM(B16:C16) -> 0 | E16: 0 | F16: =G16*((B16*7.75)+(C16*6.62)) -> 0 | G16: 1
A17: 43334 | B17: 0 | C17: -92.3 | D17: =SUM(B17:C17) -> -92.3 | E17: 3 | F17: =G17*((B17*7.75)+(C17*6.62)) -> -611.026 | G17: 1
A18: 43335 | B18: 0 | C18: 0 | D18: =SUM(B18:C18) -> 0 | E18: 0 | F18: =G18*((B18*7.75)+(C18*6.62)) -> 0 | G18: 1
A19: 43336 | B19: 0 | C19: 0 | D19: =SUM(B19:C19) -> 0 | E19: 0 | F19: =G19*((B19*7.75)+(C19*6.62)) -> 0 | G19: 1
A20: 43339 | B20: 0 | C20: 0 | D20: =SUM(B20:C20) -> 0 | E20: 0 | F20: =G20*((B20*7.75)+(C20*6.62)) -> 0 | G20: 1
A21: 43340 | B21: 0 | C21: 0 | D21: =SUM(B21:C21) -> 0 | E21: 0 | F21: =G21*((B21*7.75)+(C21*6.62)) -> 0 | G21: 1
A22: 43341 | B22: 0 | C22: 0 | D22: =SUM(B22:C22) -> 0 | E22: 0 | F22: =G22*((B22*7.75)+(C22*6.62)) -> 0 | G22: 1
A23: 43342 | B23: 0 | C23: 0 | D23: =SUM(B23:C23) -> 0 | E23: 0 | F23: =G23*((B23*7.75)+(C23*6.62)) -> 0 | G23: 1
A24: 43343 | B24: 0 | C24: 0 | D24: =SUM(B24:C24) -> 0 | E24: 0 | F24: =G24*((B24*7.75)+(C24*6.62)) -> 0 | G24: 1
A25: TOTAL | B25: =SUM(B2:B24) -> 25.2 | C25: =SUM(C2:C24) -> 234.6 | D25: =SUM(D2:D24) -> 259.8 | E25: =SUM(E2:E24) -> 8 | F25: =SUM(F2:F24) -> 1748.352
A26: TOTAL TRADES | B26: 2 | C26: 6 | E26: =SUM(B26:C26) -> 8
A27: TOTAL MONTANT | B27: =(B25*8.54) -> 215.208 | C27: =(C25*8.5) -> 1994.1
A29: PM Swing Trading / YRL CAPITAL | B29: EURJPY | C29: USDCAD | D29: TOTAL PIPS | E29: TRADES | F29: TOTAL MONTANT | G29: SLIPPAGE | H29: VOLUME
A30: 43313 | B30: 0 | C30: 0 | D30: =SUM(B30:C30) -> 0 | E30: 0 | F30: =((B30*7.75)+(C30*6.62)) -> 0 | G30: =D30-D2 -> 0 | H30: 1
A31: 43314 | B31: 0 | C31: 0 | D31: =SUM(B31:C31) -> 0 | E31: 0 | F31: =((B31*7.75)+(C31*6.62)) -> 0 | G31: =D31-D3 -> 0 | H31: 1
A32: 43315 | B32: 0 | C32: 0 | D32: =SUM(B32:C32) -> 0 | E32: 0 | F32: =((B32*7.75)+(C32*6.62)) -> 0 | G32: =D32-D4 -> 0 | H32: 1
A33: 43318 | B33: 0 | C33: 0 | D33: =SUM(B33:C33) -> 0 | E33: 0 | F33: =((B33*7.75)+(C33*6.62)) -> 0 | G33: =D33-D5 -> 0 | H33: 1
A34: 43319 | B34: 0 | C34: 0 | D34: =SUM(B34:C34) -> 0 | E34: 0 | F34: =((B34*7.75)+(C34*6.62)) -> 0 | G34: =D34-D6 -> 0 | H34: 1
A35: 43320 | B35: 0 | C35: 0 | D35: =SUM(B35:C35) -> 0 | E35: 0 | F35: =((B35*7.75)+(C35*6.62)) -> 0 | G35: =D35-D7 -> 0 | H35: 1
A36: 43321 | B36: 0 | C36: 0 | D36: =SUM(B36:C36) -> 0 | E36: 0 | F36: =((B36*7.75)+(C36*6.62)) -> 0 | G36: =D36-D8 -> -133 | H36: 1
A37: 43322 | B37: 0 | C37: 193.4 | D37: =SUM(B37:C37) -> 193.4 | E37: 2 | F37: =((B37*7.75)+(C37*6.62)) -> 1280.308 | G37: =D37-D9 -> -0.5 | H37: 1
A38: 43325 | B38: 0 | C38: 0 | D38: =SUM(B38:C38) -> 0 | E38: 0 | F38: =((B38*7.75)+(C38*6.62)) -> 0 | G38: =D38-D10 -> 0 | H38: 1
A39: 43326 | B39: 0 | C39: 0 | D39: =SUM(B39:C39) -> 0 | E39: 0 | F39: =((B39*7.75)+(C39*6.62)) -> 0 | G39: =D39-D11 -> 0 | H39: 1
A40: 43327 | B40: 24.8 | C40: 0 | D40: =SUM(B40:C40) -> 24.8 | E40: 2 | F40: =((B40*7.75)+(C40*6.62)) -> 192.2 | G40: =D40-D12 -> -0.4 | H40: 1
A41: 43328 | B41: 0 | C41: 0 | D41: =SUM(B41:C41) -> 0 | E41: 0 | F41: =((B41*7.75)+(C41*6.62)) -> 0 | G41: =D41-D13 -> 0 | H41: 1
... A52: 43343 | B52: 0 | C52: 0 | D52: =SUM(B52:C52) -> 0 | E52: 0 | F52: =((B52*7.75)+(C52*6.62)) -> 0 | G52: =D52-D24 -> 0 | H52: 1
A53: TOTAL | B53: =SUM(B30:B52) -> 24.8 | C53: =SUM(C30:C52) -> 103.4 | D53: =SUM(D30:D52) -> 128.2 | E53: =SUM(E30:E52) -> 7 | F53: =SUM(F30:F52) -> 876.708 | G53: =SUM(G30:G51) -> -131.6
A54: TOTAL TRADES | E54: =SUM(B54:C54) -> 0
A55: TOTAL MONTANT | B55: =(B53*8.54) -> 211.792 | C55: =(C53*8.5) -> 878.9

Sheet B 
A1: B - SLINGHSOT | B1: EURAUD | C1: EURJPY | D1: GBPJPY | E1: TOTAL PIPS | F1: TRADES | G1: TOTAL MONTANT | H1: VOLUME
A2: 43313 | B2: 0 | C2: 0 | D2: 206.1 | E2: =SUM(B2:D2) -> 206.1 | F2: 6 | G2: =H2*((B2*6.4)+(C2*7.75)+(D2*7.77)) -> 1601.397 | H2: 1
A3: 43314 | B3: 0 | C3: 0 | D3: 0 | E3: =SUM(B3:D3) -> 0 | F3: 0 | G3: =H3*((B3*6.4)+(C3*7.75)+(D3*7.77)) -> 0 | H3: 1
A4: 43315 | B4: 0 | C4: 0 | D4: 0 | E4: =SUM(B4:D4) -> 0 | F4: 0 | G4: =H4*((B4*6.4)+(C4*7.75)+(D4*7.77)) -> 0 | H4: 1
A5: 43318 | B5: 0 | C5: 0 | D5: 0 | E5: =SUM(B5:D5) -> 0 | F5: 0 | G5: =H5*((B5*6.4)+(C5*7.75)+(D5*7.77)) -> 0 | H5: 1
A6: 43319 | B6: 0 | C6: 0 | D6: 0 | E6: =SUM(B6:D6) -> 0 | F6: 0 | G6: =H6*((B6*6.4)+(C6*7.75)+(D6*7.77)) -> 0 | H6: 1
A7: 43320 | B7: 0 | C7: -42.3 | D7: 0 | E7: =SUM(B7:D7) -> -42.3 | F7: 2 | G7: =H7*((B7*6.4)+(C7*7.75)+(D7*7.77)) -> -327.825 | H7: 1
A8: 43321 | B8: -34.7 | C8: 0 | D8: 0 | E8: =SUM(B8:D8) -> -34.7 | F8: 2 | G8: =H8*((B8*6.4)+(C8*7.75)+(D8*7.77)) -> -222.08 | H8: 1
A9: 43322 | B9: 0 | C9: 0 | D9: 0 | E9: =SUM(B9:D9) -> 0 | F9: 0 | G9: =H9*((B9*6.4)+(C9*7.75)+(D9*7.77)) -> 0 | H9: 1
A10: 43325 | B10: 0 | C10: 0 | D10: 0 | E10: =SUM(B10:D10) -> 0 | F10: 0 | G10: =H10*((B10*6.4)+(C10*7.75)+(D10*7.77)) -> 0 | H10: 1
A11: 43326 | B11: 0 | C11: 0 | D11: 0 | E11: =SUM(B11:D11) -> 0 | F11: 0 | G11: =H11*((B11*6.4)+(C11*7.75)+(D11*7.77)) -> 0 | H11: 1
A12: 43327 | B12: 0 | C12: 0 | D12: 0 | E12: =SUM(B12:D12) -> 0 | F12: 0 | G12: =H12*((B12*6.4)+(C12*7.75)+(D12*7.77)) -> 0 | H12: 1
A13: 43328 | B13: 0 | C13: 0 | D13: 0 | E13: =SUM(B13:D13) -> 0 | F13: 0 | G13: =H13*((B13*6.4)+(C13*7.75)+(D13*7.77)) -> 0 | H13: 1
... A24: 43343 | B24: 0 | C24: 0 | D24: 0 | E24: =SUM(B24:D24) -> 0 | F24: 0 | G24: =H24*((B24*6.4)+(C24*7.75)+(D24*7.77)) -> 0 | H24: 1
A25: TOTAL | B25: =SUM(B2:B24) -> -92.7 | C25: =SUM(C2:C24) -> 223.4 | D25: =SUM(D2:D24) -> 174.9 | E25: =SUM(E2:E24) -> 305.6 | F25: =SUM(F2:F24) -> 25 | G25: =SUM(G2:G24) -> 2497.043
A26: TOTAL TRADES | B26: 4 | C26: 13 | D26: 8 | F26: =SUM(B26:D26) -> 25
A27: TOTAL MONTANT | B27: =(B25*8.6) -> -797.22 | C27: =(C25*8.6) -> 1921.24 | D27: =(D25*8.6) -> 1504.14
A29: SLINGSHOT / SC GAM | B29: EURAUD | C29: EURJPY | D29: GBPJPY | E29: TOTAL PIPS | F29: TRADES | G29: TOTAL MONTANT | H29: SLIPPAGE | I29: VOLUME
A30: 43313 | B30: 0 | C30: 0 | D30: 45 | E30: =SUM(B30:D30) -> 45 | F30: 1 | G30: =H2*((B30*6.4)+(C30*7.75)+(D30*7.77)) -> 349.65 | H30: =C30-C2 -> 0 | I30: 1
A31: 43314 | B31: 0 | C31: 0 | D31: 0 | E31: =SUM(B31:D31) -> 0 | F31: 0 | G31: =H3*((B31*6.4)+(C31*7.75)+(D31*7.77)) -> 0 | H31: =C31-C3 -> 0 | I31: 1
A32: 43315 | B32: 0 | C32: 0 | D32: 0 | E32: =SUM(B32:D32) -> 0 | F32: 0 | G32: =H4*((B32*6.4)+(C32*7.75)+(D32*7.77)) -> 0 | H32: =C32-C4 -> 0 | I32: 1
A33: 43318 | B33: 0 | C33: 0 | D33: 0 | E33: =SUM(B33:D33) -> 0 | F33: 0 | G33: =H5*((B33*6.4)+(C33*7.75)+(D33*7.77)) -> 0 | H33: =C33-C5 -> 0 | I33: 1
A34: 43319 | B34: 0 | C34: 0 | D34: 0 | E34: =SUM(B34:D34) -> 0 | F34: 0 | G34: =H6*((B34*6.4)+(C34*7.75)+(D34*7.77)) -> 0 | H34: =C34-C6 -> 0 | I34: 1
A35: 43320 | B35: 0 | C35: 0 | D35: 0 | E35: =SUM(B35:D35) -> 0 | F35: 0 | G35: =H7*((B35*6.4)+(C35*7.75)+(D35*7.77)) -> 0 | H35: =C35-C7 -> 42.3 | I35: 1
A36: 43321 | B36: 0 | C36: 0 | D36: 0 | E36: =SUM(B36:D36) -> 0 | F36: 0 | G36: =H8*((B36*6.4)+(C36*7.75)+(D36*7.77)) -> 0 | H36: =C36-C8 -> 0 | I36: 1
A37: 43322 | B37: 0 | C37: 0 | D37: 0 | E37: =SUM(B37:D37) -> 0 | F37: 0 | G37: =H9*((B37*6.4)+(C37*7.75)+(D37*7.77)) -> 0 | H37: =C37-C9 -> 0 | I37: 1
A38: 43325 | B38: 0 | C38: 0 | D38: 0 | E38: =SUM(B38:D38) -> 0 | F38: 0 | G38: =H10*((B38*6.4)+(C38*7.75)+(D38*7.77)) -> 0 | H38: =C38-C10 -> 0 | I38: 1
A39: 43326 | B39: 0 | C39: 0 | D39: 0 | E39: =SUM(B39:D39) -> 0 | F39: 0 | G39: =H11*((B39*6.4)+(C39*7.75)+(D39*7.77)) -> 0 | H39: =C39-C11 -> 0 | I39: 1
A40: 43327 | B40: 0 | C40: 0 | D40: 0 | E40: =SUM(B40:D40) -> 0 | F40: 0 | G40: =H12*((B40*6.4)+(C40*7.75)+(D40*7.77)) -> 0 | H40: =C40-C12 -> 0 | I40: 1
A41: 43328 | B41: 0 | C41: 0 | D41: 0 | E41: =SUM(B41:D41) -> 0 | F41: 0 | G41: =H13*((B41*6.4)+(C41*7.75)+(D41*7.77)) -> 0 | H41: =C41-C13 -> 0 | I41: 1
... A52: 43343 | B52: 0 | C52: 0 | D52: 0 | E52: =SUM(B52:D52) -> 0 | F52: 0 | G52: =H24*((B52*6.4)+(C52*7.75)+(D52*7.77)) -> 0 | H52: =C52-C24 -> 0 | I52: 1
A53: TOTAL | B53: =SUM(B30:B52) -> -59.9 | C53: =SUM(C30:C52) -> 0 | D53: =SUM(D30:D52) -> 11 | E53: =SUM(E30:E52) -> -48.9 | F53: =SUM(F30:F52) -> 5 | G53: =SUM(G30:G52) -> -297.89 | H53: =SUM(H30:H51) -> -223.4
A54: TOTAL MONTANT | B54: =(B53*8.6) -> -515.14 | C54: =(C53*8.6) -> 0 | D54: =(D53*8.6) -> 94.6
A55: TOTAL TRADES | F55: =SUM(B55:C55) -> 0
A58: Open Date | B58: Close Date | C58: Symbol | D58: Action | E58: SL | F58: TP | G58: Lots | H58: Open Price | I58: Close Price | J58: Commission | K58: Swap | L58: Pips | M58: Profit | N58: Gain | O58: Duration (DD:HH:MM:SS) | P58: Profitable(%) | Q58: Profitable(time duration) | R58: Drawdown | S58: Risk:Reward | T58: Max(pips) | U58: Max(USD) | V58: Min(pips) | W58: Min(USD) | X58: Entry Accuracy(%) | Y58: Exit Accuracy(%) | Z58: ProfitMissed(pips) | AA58: ProfitMissed(USD)
A59: 43320.576 | B59: 43320.91 | C59: EURJPY | D59: Sell | E59: 129.099 | F59: 126.901 | G59: 0.12 | H59: 128.731 | I59: 128.943 | J59: -0.7 | K59: 0 | L59: -21.2 | M59: -23.62 | N59: -0.3 | O59: 00:07:59:55 | P59: 39.2 | Q59: 3h 8m | R59: 34.3 | S59: 1.62 | T59: 13.1 | U59: 14.148 | V59: -21.2 | W59: -22.896 | X59: 38.2 | Y59: 0 | Z59: -34.3 | AA59: -37.04
A60: 43320.576 | B60: 43320.91 | C60: EURJPY | D60: Sell | E60: 129.099 | F60: 126.901 | G60: 0.24 | H60: 128.733 | I60: 128.944 | J60: -1.39 | K60: 0 | L60: -21.1 | M60: -47.03 | N60: -0.59 | O60: 00:07:59:51 | P60: 40.6 | Q60: 3h 14m | R60: 34.4 | S60: 1.59 | T60: 13.3 | U60: 28.728 | V60: -21.1 | W60: -45.576 | X60: 38.7 | Y60: 0 | Z60: -34.4 | AA60: -74.3
A61: 07/31/2018 16:05 | B61: 43108.781 | C61: GBPJPY | D61: Buy | E61: 146.284 | F61: 148.051 | G61: 0.03 | H61: 146.638 | I61: 146.591 | J61: -0.19 | K61: -0.06 | L61: -4.7 | M61: -1.51 | N61: -0.02 | O61: 01:02:39:47 | P61: 78.4 | Q61: 20h 54m | R61: 75.4 | S61: 0.59 | T61: 47.4 | U61: 12.798 | V61: -28 | W61: -7.56 | X61: 62.9 | Y61: 30.9 | Z61: -52.1 | AA61: -14.07
A62: 07/31/2018 16:05 | B62: 43108.434 | C62: GBPJPY | D62: Buy | E62: 146.284 | F62: 148.051 | G62: 0.01 | H62: 146.638 | I62: 147.093 | J62: -0.07 | K62: -0.02 | L62: 45.5 | M62: 3.97 | N62: 0.05 | O62: 00:18:19:47 | P62: 87.7 | Q62: 16h 4m | R62: 31.4 | S62: 0.12 | T62: 47.4 | U62: 4.266 | V62: -5.8 | W62: -0.522 | X62: 89.1 | Y62: 96.4 | Z62: -1.9 | AA62: -0.17
A63: 07/31/2018 16:05 | B63: 43108.431 | C63: GBPJPY | D63: Buy | E63: 146.284 | F63: 148.051 | G63: 0.01 | H63: 146.638 | I63: 147.1 | J63: -0.06 | K63: -0.02 | L63: 46.2 | M63: 4.04 | N63: 0.05 | O63: 00:18:14:48 | P63: 87.7 | Q63: 16h 0m | R63: 31.4 | S63: 0.12 | T63: 47.4 | U63: 4.266 | V63: -5.8 | W63: -0.522 | X63: 89.1 | Y63: 97.7 | Z63: -1.2 | AA63: -0.11
A64: 07/31/2018 16:05 | B64: 43108.427 | C64: GBPJPY | D64: Buy | E64: 146.284 | F64: 148.051 | G64: 0.01 | H64: 146.638 | I64: 147.07 | J64: -0.07 | K64: -0.02 | L64: 43.2 | M64: 3.77 | N64: 0.05 | O64: 00:18:09:47 | P64: 87.5 | Q64: 15h 53m | R64: 31.4 | S64: 0.12 | T64: 47.4 | U64: 4.266 | V64: -5.8 | W64: -0.522 | X64: 89.1 | Y64: 92.1 | Z64: -4.2 | AA64: -0.38
A65: 07/31/2018 16:05 | B65: 43108.42 | C65: GBPJPY | D65: Buy | E65: 146.284 | F65: 148.051 | G65: 0.02 | H65: 146.638 | I65: 146.989 | J65: -0.13 | K65: -0.04 | L65: 35.1 | M65: 6.09 | N65: 0.08 | O65: 00:17:59:47 | P65: 87.5 | Q65: 15h 44m | R65: 31.4 | S65: 0.12 | T65: 47.4 | U65: 8.532 | V65: -5.8 | W65: -1.044 | X65: 89.1 | Y65: 76.9 | Z65: -12.3 | AA65: -2.21
A66: 07/31/2018 16:05 | B66: 43108.417 | C66: GBPJPY | D66: Buy | E66: 146.284 | F66: 148.051 | G66: 0.03 | H66: 146.638 | I66: 147.046 | J66: -0.2 | K66: -0.06 | L66: 40.8 | M66: 10.66 | N66: 0.13 | O66: 00:17:54:47 | P66: 87.4 | Q66: 15h 39m | R66: 31.4 | S66: 0.12 | T66: 47.4 | U66: 12.798 | V66: -5.8 | W66: -1.566 | X66: 89.1 | Y66: 87.6 | Z66: -6.6 | AA66: -1.78

Sheet C 
A1: C - SFE | B1: EURUSD | C1: GBPUSD | D1: EURAUD | E1: GBPJPY | F1: EURGBP | G1: TOTAL PIPS | H1: TRADES | I1: TOTAL MONTANT
A2: 43313 | B2: 0 | C2: 0 | D2: 0 | E2: 74.2 | F2: 0 | G2: =SUM(B2:F2) -> 74.2 | H2: 2 | I2: =(B2*8.6)+(C2*8.6)+(D2*6)+(E2*7.8)+(F2*11.42) -> 578.76
A3: 43314 | B3: 0 | C3: -78.8 | D3: 0 | E3: 0 | F3: -21.4 | G3: =SUM(B3:F3) -> -100.2 | H3: 20 | I3: =(B3*8.6)+(C3*8.6)+(D3*6)+(E3*7.8)+(F3*11.42) -> -922.068
A4: 43315 | B4: -25.4 | C4: 80.5 | D4: 0 | E4: 0 | F4: -42.9 | G4: =SUM(B4:F4) -> 12.2 | H4: 8 | I4: =(B4*8.6)+(C4*8.6)+(D4*6)+(E4*7.8)+(F4*11.42) -> -16.058
A5: 43318 | B5: 0 | C5: 0 | D5: 0 | E5: 0 | F5: -20.7 | G5: =SUM(B5:F5) -> -20.7 | H5: 4 | I5: =(B5*8.6)+(C5*8.6)+(D5*6)+(E5*7.8)+(F5*11.42) -> -236.394
A6: 43319 | B6: 0 | C6: 0 | D6: 0 | E6: 0 | F6: 5.5 | G6: =SUM(B6:F6) -> 5.5 | H6: 1 | I6: =(B6*8.6)+(C6*8.6)+(D6*6)+(E6*7.8)+(F6*11.42) -> 62.81
A7: 43320 | B7: 0 | C7: 0 | D7: 0 | E7: 363.7 | F7: 0 | G7: =SUM(B7:F7) -> 363.7 | H7: 8 | I7: =(B7*8.6)+(C7*8.6)+(D7*6)+(E7*7.8)+(F7*11.42) -> 2836.86
A8: 43321 | B8: 0 | C8: 0 | D8: 0 | E8: 356.9 | F8: 0 | G8: =SUM(B8:F8) -> 356.9 | H8: 4 | I8: =(B8*8.6)+(C8*8.6)+(D8*6)+(E8*7.8)+(F8*11.42) -> 2783.82
A9: 43322 | B9: 67 | C9: 0 | D9: -93.2 | E9: -46.5 | F9: 0 | G9: =SUM(B9:F9) -> -72.7 | H9: 15 | I9: =(B9*8.6)+(C9*8.6)+(D9*6)+(E9*7.8)+(F9*11.42) -> -345.7
A10: 43325 | B10: 0 | C10: 0 | D10: 0 | E10: 0 | F10: 0 | G10: =SUM(B10:F10) -> 0 | H10: 0 | I10: =(B10*8.6)+(C10*8.6)+(D10*6)+(E10*7.8)+(F10*11.42) -> 0
A11: 43326 | B11: 0 | C11: 0 | D11: 0 | E11: 0 | F11: 0 | G11: =SUM(B11:F11) -> 0 | H11: 0 | I11: =(B11*8.6)+(C11*8.6)+(D11*6)+(E11*7.8)+(F11*11.42) -> 0
A12: 43327 | B12: 0 | C12: 0 | D12: 0 | E12: 0 | F12: 0 | G12: =SUM(B12:F12) -> 0 | H12: 0 | I12: =(B12*8.6)+(C12*8.6)+(D12*6)+(E12*7.8)+(F12*11.42) -> 0
A13: 43328 | B13: 0 | C13: 0 | D13: -102.9 | E13: 0 | F13: 0 | G13: =SUM(B13:F13) -> -102.9 | H13: 7 | I13: =(B13*8.6)+(C13*8.6)+(D13*6)+(E13*7.8)+(F13*11.42) -> -617.4
... A19: 43336 | B19: -45.4 | C19: 2 | D19: 0 | E19: 0 | F19: 0 | G19: =SUM(B19:F19) -> -43.4 | H19: 4 | I19: =(B19*8.6)+(C19*8.6)+(D19*6)+(E19*7.8)+(F19*11.42) -> -373.24
A20: 43339 | B20: 0 | C20: 0 | D20: 0 | E20: 0 | F20: 0 | G20: =SUM(B20:F20) -> 0 | I20: =(B20*8.6)+(C20*8.6)+(D20*6)+(E20*7.8)+(F20*11.42) -> 0
A21: 43340 | B21: 0 | C21: 0 | D21: 0 | E21: 0 | F21: 0 | G21: =SUM(B21:F21) -> 0 | I21: =(B21*8.6)+(C21*8.6)+(D21*6)+(E21*7.8)+(F21*11.42) -> 0
A22: 43341 | B22: 0 | C22: 0 | D22: 0 | E22: 0 | F22: 0 | G22: =SUM(B22:F22) -> 0 | I22: =(B22*8.6)+(C22*8.6)+(D22*6)+(E22*7.8)+(F22*11.42) -> 0
A23: 43342 | B23: 0 | C23: 0 | D23: 0 | E23: 0 | F23: 0 | G23: =SUM(B23:F23) -> 0 | I23: =(B23*8.6)+(C23*8.6)+(D23*6)+(E23*7.8)+(F23*11.42) -> 0
A24: 43343 | B24: 0 | C24: 0 | D24: 0 | E24: 0 | F24: 0 | G24: =SUM(B24:F24) -> 0 | I24: =(B24*8.6)+(C24*8.6)+(D24*6)+(E24*7.8)+(F24*11.42) -> 0
A25: TOTAL | B25: =SUM(B2:B22) -> -94.2 | C25: =SUM(C2:C22) -> 6 | D25: =SUM(D2:D22) -> -196.1 | E25: =SUM(E2:E22) -> 748.3 | F25: =SUM(F2:F22) -> -79.5 | G25: =SUM(G2:G24) -> 384.5 | H25: =SUM(H2:H24) -> 89 | I25: =SUM(I2:I22) -> 2993.73
A26: TOTAL TRADES | B26: 22 | C26: 17 | D26: 15 | E26: 16 | F26: 19 | H26: =SUM(B26:F26) -> 89
A27: TOTAL MONTANT | B27: =(B25*8.6) -> -810.12 | C27: =(C25*8.6) -> 51.6 | D27: =(D25*6) -> -1176.6 | E27: =(E25*7.8) -> 5836.74 | F27: =(F25*11.42) -> -907.89
A29: SFE / SC GAM | B29: EURUSD | C29: GBPUSD | D29: EURAUD | E29: GBPJPY | F29: EURGBP | G29: TOTAL PIPS | H29: TRADES | I29: TOTAL MONTANT | J29: SLIPPAGE
A30: 43313 | B30: 0 | C30: 0 | D30: 0 | E30: 72 | F30: 0 | G30: =SUM(B30:F30) -> 72 | H30: 2 | I30: =(B30*8.6)+(C30*8.6)+(D30*6)+(E30*7.8)+(F30*11.42) -> 561.6 | J30: =G30-G2 -> -2.2
A31: 43314 | B31: 0 | C31: -118.5 | D31: 0 | E31: 0 | F31: -36.1 | G31: =SUM(B31:F31) -> -154.6 | H31: 21 | I31: =(B31*8.6)+(C31*8.6)+(D31*6)+(E31*7.8)+(F31*11.42) -> -1431.362 | J31: =G31-G3 -> -54.4
A32: 43315 | B32: -27.7 | C32: 0 | D32: 0 | E32: 0 | F32: 0 | G32: =SUM(B32:F32) -> -27.7 | H32: 2 | I32: =(B32*8.6)+(C32*8.6)+(D32*6)+(E32*7.8)+(F32*11.42) -> -238.22 | J32: =G32-G4 -> -39.9
A33: 43318 | B33: 0 | C33: 0 | D33: 0 | E33: 0 | F33: 0 | G33: =SUM(B33:F33) -> 0 | H33: 0 | I33: =(B33*8.6)+(C33*8.6)+(D33*6)+(E33*7.8)+(F33*11.42) -> 0 | J33: =G33-G5 -> 20.7
A34: 43319 | B34: 0 | C34: 0 | D34: 0 | E34: 0 | F34: 0 | G34: =SUM(B34:F34) -> 0 | H34: 0 | I34: =(B34*8.6)+(C34*8.6)+(D34*6)+(E34*7.8)+(F34*11.42) -> 0 | J34: =G34-G6 -> -5.5
A35: 43320 | B35: 0 | C35: 0 | D35: 0 | E35: 351 | F35: 0 | G35: =SUM(B35:F35) -> 351 | H35: 8 | I35: =(B35*8.6)+(C35*8.6)+(D35*6)+(E35*7.8)+(F35*11.42) -> 2737.8 | J35: =G35-G7 -> -12.7
A36: 43321 | B36: 0 | C36: 0 | D36: 0 | E36: 0 | F36: 0 | G36: =SUM(B36:F36) -> 0 | H36: 0 | I36: =(B36*8.6)+(C36*8.6)+(D36*6)+(E36*7.8)+(F36*11.42) -> 0 | J36: =G36-G8 -> -356.9
A37: 43322 | B37: 60 | C37: 0 | D37: -119.4 | E37: -49 | F37: 0 | G37: =SUM(B37:F37) -> -108.4 | H37: 15 | I37: =(B37*8.6)+(C37*8.6)+(D37*6)+(E37*7.8)+(F37*11.42) -> -582.6 | J37: =G37-G9 -> -35.7
A38: 43325 | B38: 0 | C38: 0 | D38: 0 | E38: 0 | F38: 0 | G38: =SUM(B38:F38) -> 0 | H38: 0 | I38: =(B38*8.6)+(C38*8.6)+(D38*6)+(E38*7.8)+(F38*11.42) -> 0 | J38: =G38-G10 -> 0
A39: 43326 | B39: 0 | C39: 0 | D39: 0 | E39: 0 | F39: 0 | G39: =SUM(B39:F39) -> 0 | H39: 0 | I39: =(B39*8.6)+(C39*8.6)+(D39*6)+(E39*7.8)+(F39*11.42) -> 0 | J39: =G39-G11 -> 0
A40: 43327 | B40: 0 | C40: 0 | D40: 0 | E40: 0 | F40: 0 | G40: =SUM(B40:F40) -> 0 | H40: 0 | I40: =(B40*8.6)+(C40*8.6)+(D40*6)+(E40*7.8)+(F40*11.42) -> 0 | J40: =G40-G12 -> 0
A41: 43328 | B41: 0 | C41: 0 | D41: -110.4 | E41: 0 | F41: 0 | G41: =SUM(B41:F41) -> -110.4 | H41: 7 | I41: =(B41*8.6)+(C41*8.6)+(D41*6)+(E41*7.8)+(F41*11.42) -> -662.4 | J41: =G41-G13 -> -7.5
... A47: 43336 | B47: -51.3 | C47: 0.9 | D47: 0 | E47: 0 | F47: 0 | G47: =SUM(B47:F47) -> -50.4 | H47: 4 | I47: =(B47*8.6)+(C47*8.6)+(D47*6)+(E47*7.8)+(F47*11.42) -> -433.44 | J47: =G47-G19 -> -7
A48: 43339 | B48: 0 | C48: 0 | D48: 0 | E48: 0 | F48: 0 | G48: =SUM(B48:F48) -> 0 | I48: =(B48*8.6)+(C48*8.6)+(D48*6)+(E48*7.8)+(F48*11.42) -> 0 | J48: =G48-G20 -> 0
A49: 43340 | B49: 0 | C49: 0 | D49: 0 | E49: 0 | F49: 0 | G49: =SUM(B49:F49) -> 0 | I49: =(B49*8.6)+(C49*8.6)+(D49*6)+(E49*7.8)+(F49*11.42) -> 0 | J49: =G49-G21 -> 0
A50: 43341 | B50: 0 | C50: 0 | D50: 0 | E50: 0 | F50: 0 | G50: =SUM(B50:F50) -> 0 | I50: =(B50*8.6)+(C50*8.6)+(D50*6)+(E50*7.8)+(F50*11.42) -> 0 | J50: =G50-G22 -> 0
A51: 43342 | B51: 0 | C51: 0 | D51: 0 | E51: 0 | F51: 0 | G51: =SUM(B51:F51) -> 0 | I51: =(B51*8.6)+(C51*8.6)+(D51*6)+(E51*7.8)+(F51*11.42) -> 0 | J51: =G51-G23 -> 0
A52: 43343 | B52: 0 | C52: 0 | D52: 0 | E52: 0 | F52: 0 | G52: =SUM(B52:F52) -> 0 | I52: =(B52*8.6)+(C52*8.6)+(D52*6)+(E52*7.8)+(F52*11.42) -> 0 | J52: =G52-G24 -> 0
A53: TOTAL | B53: =SUM(B30:B50) -> -122.8 | C53: =SUM(C30:C50) -> -120.9 | D53: =SUM(D30:D50) -> -229.8 | E53: =SUM(E30:E50) -> 374 | F53: =SUM(F30:F50) -> -36.1 | G53: =SUM(G30:G50) -> -135.6 | H53: =SUM(H30:H50) -> 75 | I53: =SUM(I30:I50) -> -969.682 | J53: =SUM(J30:J51) -> -520.1
A54: TOTAL MONTANT | B54: =(B53*8.6) -> -1056.08 | C54: =(C53*8.6) -> -1039.74 | D54: =(D53*6) -> -1378.8 | E54: =(E53*7.8) -> 2917.2 | F54: =(F53*11.42) -> -412.262
A55: TOTAL TRADES | H55: =SUM(B55:E55) -> 0

Sheet D
A1: D - Strive | B1: EURUSD | C1: USDJPY | D1: TOTAL PIPS | E1: TRADES | F1: TOTAL MONTANT
A2: 43313 | B2: =SUMPRODUCT((VALUE(TEXT($A$59:$A$125,"JJ/MM/AAAA"))=VALUE(TEXT(A2,"JJ/MM/AAAA")))*($C$59:$C$125=$B$1),$L$59:$L$125) -> #VALUE! | C2: =SUMPRODUCT((VALUE(TEXT($A$59:$A$125,"JJ/MM/AAAA"))=VALUE(TEXT(A2,"JJ/MM/AAAA")))*($C$59:$C$125=$C$1),$L$59:$L$125) -> #VALUE! | D2: =SUM(B2:C2) -> #VALUE! | E2: 4 | F2: =(B2*8.6)+(C2*7.86) -> #VALUE!
A3: 43314 | B3: =SUMPRODUCT((VALUE(TEXT($A$59:$A$125,"JJ/MM/AAAA"))=VALUE(TEXT(A3,"JJ/MM/AAAA")))*($C$59:$C$125=$B$1),$L$59:$L$125) -> #VALUE! | C3: =SUMPRODUCT((VALUE(TEXT($A$59:$A$125,"JJ/MM/AAAA"))=VALUE(TEXT(A3,"JJ/MM/AAAA")))*($C$59:$C$125=$C$1),$L$59:$L$125) -> #VALUE! | D3: =SUM(B3:C3) -> #VALUE! | E3: 1 | F3: =(B3*8.54)+(C3*7.86) -> #VALUE!
A4: 43315 | B4: =SUMPRODUCT((VALUE(TEXT($A$59:$A$125,"JJ/MM/AAAA"))=VALUE(TEXT(A4,"JJ/MM/AAAA")))*($C$59:$C$125=$B$1),$L$59:$L$125) -> #VALUE! | C4: =SUMPRODUCT((VALUE(TEXT($A$59:$A$125,"JJ/MM/AAAA"))=VALUE(TEXT(A4,"JJ/MM/AAAA")))*($C$59:$C$125=$C$1),$L$59:$L$125) -> #VALUE! | D4: =SUM(B4:C4) -> #VALUE! | E4: 2 | F4: =(B4*8.54)+(C4*7.86) -> #VALUE!
A5: 43318 | B5: =SUMPRODUCT((VALUE(TEXT($A$59:$A$125,"JJ/MM/AAAA"))=VALUE(TEXT(A5,"JJ/MM/AAAA")))*($C$59:$C$125=$B$1),$L$59:$L$125) -> #VALUE! | C5: =SUMPRODUCT((VALUE(TEXT($A$59:$A$125,"JJ/MM/AAAA"))=VALUE(TEXT(A5,"JJ/MM/AAAA")))*($C$59:$C$125=$C$1),$L$59:$L$125) -> #VALUE! | D5: =SUM(B5:C5) -> #VALUE! | E5: 3 | F5: =(B5*8.54)+(C5*7.86) -> #VALUE!
A6: 43319 | B6: =SUMPRODUCT((VALUE(TEXT($A$59:$A$125,"JJ/MM/AAAA"))=VALUE(TEXT(A6,"JJ/MM/AAAA")))*($C$59:$C$125=$B$1),$L$59:$L$125) -> #VALUE! | C6: =SUMPRODUCT((VALUE(TEXT($A$59:$A$125,"JJ/MM/AAAA"))=VALUE(TEXT(A6,"JJ/MM/AAAA")))*($C$59:$C$125=$C$1),$L$59:$L$125) -> #VALUE! | D6: =SUM(B6:C6) -> #VALUE! | E6: 3 | F6: =(B6*8.54)+(C6*7.86) -> #VALUE!
A7: 43320 | B7: =SUMPRODUCT((VALUE(TEXT($A$59:$A$125,"JJ/MM/AAAA"))=VALUE(TEXT(A7,"JJ/MM/AAAA")))*($C$59:$C$125=$B$1),$L$59:$L$125) -> #VALUE! | C7: =SUMPRODUCT((VALUE(TEXT($A$59:$A$125,"JJ/MM/AAAA"))=VALUE(TEXT(A7,"JJ/MM/AAAA")))*($C$59:$C$125=$C$1),$L$59:$L$125) -> #VALUE! | D7: =SUM(B7:C7) -> #VALUE! | E7: 2 | F7: =(B7*8.54)+(C7*7.86) -> #VALUE!
A8: 43321 | B8: =SUMPRODUCT((VALUE(TEXT($A$59:$A$125,"JJ/MM/AAAA"))=VALUE(TEXT(A8,"JJ/MM/AAAA")))*($C$59:$C$125=$B$1),$L$59:$L$125) -> #VALUE! | C8: =SUMPRODUCT((VALUE(TEXT($A$59:$A$125,"JJ/MM/AAAA"))=VALUE(TEXT(A8,"JJ/MM/AAAA")))*($C$59:$C$125=$C$1),$L$59:$L$125) -> #VALUE! | D8: =SUM(B8:C8) -> #VALUE! | E8: 4 | F8: =(B8*8.54)+(C8*7.86) -> #VALUE!
A9: 43322 | B9: =SUMPRODUCT((VALUE(TEXT($A$59:$A$125,"JJ/MM/AAAA"))=VALUE(TEXT(A9,"JJ/MM/AAAA")))*($C$59:$C$125=$B$1),$L$59:$L$125) -> #VALUE! | C9: =SUMPRODUCT((VALUE(TEXT($A$59:$A$125,"JJ/MM/AAAA"))=VALUE(TEXT(A9,"JJ/MM/AAAA")))*($C$59:$C$125=$C$1),$L$59:$L$125) -> #VALUE! | D9: =SUM(B9:C9) -> #VALUE! | E9: 4 | F9: =(B9*8.54)+(C9*7.86) -> #VALUE!
A10: 43325 | B10: =SUMPRODUCT((VALUE(TEXT($A$59:$A$125,"JJ/MM/AAAA"))=VALUE(TEXT(A10,"JJ/MM/AAAA")))*($C$59:$C$125=$B$1),$L$59:$L$125) -> #VALUE! | C10: =SUMPRODUCT((VALUE(TEXT($A$59:$A$125,"JJ/MM/AAAA"))=VALUE(TEXT(A10,"JJ/MM/AAAA")))*($C$59:$C$125=$C$1),$L$59:$L$125) -> #VALUE! | D10: =SUM(B10:C10) -> #VALUE! | E10: 4 | F10: =(B10*8.54)+(C10*7.86) -> #VALUE!
A11: 43326 | B11: =SUMPRODUCT((VALUE(TEXT($A$59:$A$125,"JJ/MM/AAAA"))=VALUE(TEXT(A11,"JJ/MM/AAAA")))*($C$59:$C$125=$B$1),$L$59:$L$125) -> #VALUE! | C11: =SUMPRODUCT((VALUE(TEXT($A$59:$A$125,"JJ/MM/AAAA"))=VALUE(TEXT(A11,"JJ/MM/AAAA")))*($C$59:$C$125=$C$1),$L$59:$L$125) -> #VALUE! | D11: =SUM(B11:C11) -> #VALUE! | E11: 3 | F11: =(B11*8.54)+(C11*7.86) -> #VALUE!
A12: 43327 | B12: =SUMPRODUCT((VALUE(TEXT($A$59:$A$125,"JJ/MM/AAAA"))=VALUE(TEXT(A12,"JJ/MM/AAAA")))*($C$59:$C$125=$B$1),$L$59:$L$125) -> #VALUE! | C12: =SUMPRODUCT((VALUE(TEXT($A$59:$A$125,"JJ/MM/AAAA"))=VALUE(TEXT(A12,"JJ/MM/AAAA")))*($C$59:$C$125=$C$1),$L$59:$L$125) -> #VALUE! | D12: =SUM(B12:C12) -> #VALUE! | E12: 3 | F12: =(B12*8.54)+(C12*7.86) -> #VALUE!
A13: 43328 | B13: =SUMPRODUCT((VALUE(TEXT($A$59:$A$125,"JJ/MM/AAAA"))=VALUE(TEXT(A13,"JJ/MM/AAAA")))*($C$59:$C$125=$B$1),$L$59:$L$125) -> #VALUE! | C13: =SUMPRODUCT((VALUE(TEXT($A$59:$A$125,"JJ/MM/AAAA"))=VALUE(TEXT(A13,"JJ/MM/AAAA")))*($C$59:$C$125=$C$1),$L$59:$L$125) -> #VALUE! | D13: =SUM(B13:C13) -> #VALUE! | E13: 3 | F13: =(B13*8.54)+(C13*7.86) -> #VALUE!
A14: 43329 | B14: =SUMPRODUCT((VALUE(TEXT($A$59:$A$125,"JJ/MM/AAAA"))=VALUE(TEXT(A14,"JJ/MM/AAAA")))*($C$59:$C$125=$B$1),$L$59:$L$125) -> #VALUE! | C14: =SUMPRODUCT((VALUE(TEXT($A$59:$A$125,"JJ/MM/AAAA"))=VALUE(TEXT(A14,"JJ/MM/AAAA")))*($C$59:$C$125=$C$1),$L$59:$L$125) -> #VALUE! | D14: =SUM(B14:C14) -> #VALUE! | E14: 3 | F14: =(B14*8.54)+(C14*7.86) -> #VALUE!
A15: 43332 | B15: =SUMPRODUCT((VALUE(TEXT($A$59:$A$125,"JJ/MM/AAAA"))=VALUE(TEXT(A15,"JJ/MM/AAAA")))*($C$59:$C$125=$B$1),$L$59:$L$125) -> #VALUE! | C15: =SUMPRODUCT((VALUE(TEXT($A$59:$A$125,"JJ/MM/AAAA"))=VALUE(TEXT(A15,"JJ/MM/AAAA")))*($C$59:$C$125=$C$1),$L$59:$L$125) -> #VALUE! | D15: =SUM(B15:C15) -> #VALUE! | E15: 4 | F15: =(B15*8.54)+(C15*7.86) -> #VALUE!
A16: 43333 | B16: =SUMPRODUCT((VALUE(TEXT($A$59:$A$125,"JJ/MM/AAAA"))=VALUE(TEXT(A16,"JJ/MM/AAAA")))*($C$59:$C$125=$B$1),$L$59:$L$125) -> #VALUE! | C16: =SUMPRODUCT((VALUE(TEXT($A$59:$A$125,"JJ/MM/AAAA"))=VALUE(TEXT(A16,"JJ/MM/AAAA")))*($C$59:$C$125=$C$1),$L$59:$L$125) -> #VALUE! | D16: =SUM(B16:C16) -> #VALUE! | F16: =(B16*8.54)+(C16*7.86) -> #VALUE!
A17: 43334 | B17: =SUMPRODUCT((VALUE(TEXT($A$59:$A$125,"JJ/MM/AAAA"))=VALUE(TEXT(A17,"JJ/MM/AAAA")))*($C$59:$C$125=$B$1),$L$59:$L$125) -> #VALUE! | C17: =SUMPRODUCT((VALUE(TEXT($A$59:$A$125,"JJ/MM/AAAA"))=VALUE(TEXT(A17,"JJ/MM/AAAA")))*($C$59:$C$125=$C$1),$L$59:$L$125) -> #VALUE! | D17: =SUM(B17:C17) -> #VALUE! | F17: =(B17*8.54)+(C17*7.86) -> #VALUE!
A18: 43335 | B18: =SUMPRODUCT((VALUE(TEXT($A$59:$A$125,"JJ/MM/AAAA"))=VALUE(TEXT(A18,"JJ/MM/AAAA")))*($C$59:$C$125=$B$1),$L$59:$L$125) -> #VALUE! | C18: =SUMPRODUCT((VALUE(TEXT($A$59:$A$125,"JJ/MM/AAAA"))=VALUE(TEXT(A18,"JJ/MM/AAAA")))*($C$59:$C$125=$C$1),$L$59:$L$125) -> #VALUE! | D18: =SUM(B18:C18) -> #VALUE! | F18: =(B18*8.54)+(C18*7.86) -> #VALUE!
A19: 43336 | B19: =SUMPRODUCT((VALUE(TEXT($A$59:$A$125,"JJ/MM/AAAA"))=VALUE(TEXT(A19,"JJ/MM/AAAA")))*($C$59:$C$125=$B$1),$L$59:$L$125) -> #VALUE! | C19: =SUMPRODUCT((VALUE(TEXT($A$59:$A$125,"JJ/MM/AAAA"))=VALUE(TEXT(A19,"JJ/MM/AAAA")))*($C$59:$C$125=$C$1),$L$59:$L$125) -> #VALUE! | D19: =SUM(B19:C19) -> #VALUE! | F19: =(B19*8.54)+(C19*7.86) -> #VALUE!
A20: 43339 | B20: =SUMPRODUCT((VALUE(TEXT($A$59:$A$125,"JJ/MM/AAAA"))=VALUE(TEXT(A20,"JJ/MM/AAAA")))*($C$59:$C$125=$B$1),$L$59:$L$125) -> #VALUE! | C20: =SUMPRODUCT((VALUE(TEXT($A$59:$A$125,"JJ/MM/AAAA"))=VALUE(TEXT(A20,"JJ/MM/AAAA")))*($C$59:$C$125=$C$1),$L$59:$L$125) -> #VALUE! | D20: =SUM(B20:C20) -> #VALUE! | F20: =(B20*8.54)+(C20*7.86) -> #VALUE!
A21: 43340 | B21: =SUMPRODUCT((VALUE(TEXT($A$59:$A$125,"JJ/MM/AAAA"))=VALUE(TEXT(A21,"JJ/MM/AAAA")))*($C$59:$C$125=$B$1),$L$59:$L$125) -> #VALUE! | C21: =SUMPRODUCT((VALUE(TEXT($A$59:$A$125,"JJ/MM/AAAA"))=VALUE(TEXT(A21,"JJ/MM/AAAA")))*($C$59:$C$125=$C$1),$L$59:$L$125) -> #VALUE! | D21: =SUM(B21:C21) -> #VALUE! | F21: =(B21*8.54)+(C21*7.86) -> #VALUE!
A22: 43341 | B22: =SUMPRODUCT((VALUE(TEXT($A$59:$A$125,"JJ/MM/AAAA"))=VALUE(TEXT(A22,"JJ/MM/AAAA")))*($C$59:$C$125=$B$1),$L$59:$L$125) -> #VALUE! | C22: =SUMPRODUCT((VALUE(TEXT($A$59:$A$125,"JJ/MM/AAAA"))=VALUE(TEXT(A22,"JJ/MM/AAAA")))*($C$59:$C$125=$C$1),$L$59:$L$125) -> #VALUE! | D22: =SUM(B22:C22) -> #VALUE! | F22: =(B22*8.54)+(C22*7.86) -> #VALUE!
A23: 43342 | B23: =SUMPRODUCT((VALUE(TEXT($A$59:$A$125,"JJ/MM/AAAA"))=VALUE(TEXT(A23,"JJ/MM/AAAA")))*($C$59:$C$125=$B$1),$L$59:$L$125) -> #VALUE! | C23: =SUMPRODUCT((VALUE(TEXT($A$59:$A$125,"JJ/MM/AAAA"))=VALUE(TEXT(A23,"JJ/MM/AAAA")))*($C$59:$C$125=$C$1),$L$59:$L$125) -> #VALUE! | D23: =SUM(B23:C23) -> #VALUE! | F23: =(B23*8.54)+(C23*7.86) -> #VALUE!
A24: 43343 | B24: =SUMPRODUCT((VALUE(TEXT($A$59:$A$125,"JJ/MM/AAAA"))=VALUE(TEXT(A24,"JJ/MM/AAAA")))*($C$59:$C$125=$B$1),$L$59:$L$125) -> #VALUE! | C24: =SUMPRODUCT((VALUE(TEXT($A$59:$A$125,"JJ/MM/AAAA"))=VALUE(TEXT(A24,"JJ/MM/AAAA")))*($C$59:$C$125=$C$1),$L$59:$L$125) -> #VALUE! | D24: =SUM(B24:C24) -> #VALUE! | F24: =(B24*8.54)+(C24*7.86) -> #VALUE!
A25: TOTAL | B25: =SUM(B2:B22) -> #VALUE! | C25: =SUM(C2:C22) -> #VALUE! | D25: =SUM(D2:D23) -> #VALUE! | E25: =SUM(E2:E22) -> 43 | F25: =SUM(F2:F22) -> #VALUE!
A26: TOTAL TRADES | B26: 23 | C26: 20 | E26: =SUM(B26:C26) -> 43
A27: TOTAL MONTANT | B27: =(B25*8.54) -> #VALUE! | C27: =(C25*7.86) -> #VALUE!
A29: Strive / YRL CAPITAL | B29: EURUSD | C29: USDJPY | D29: TOTAL PIPS | E29: TRADES | F29: TOTAL MONTANT | G29: SLIPPAGE | H29: Commentaires
A30: 43313 | B30: -15.7 | C30: -19.8 | D30: =SUM(B30:C30) -> -35.5 | E30: 4 | F30: =(B30*8.6)+(C30*7.86) -> -290.648 | G30: =D30-D2 -> #VALUE!
A31: 43314 | B31: 8.3 | C31: 0 | D31: =SUM(B31:C31) -> 8.3 | E31: 1 | F31: =(B31*8.6)+(C31*7.86) -> 71.38 | G31: =D31-D3 -> #VALUE!
A32: 43315 | B32: -58.2 | C32: 0 | D32: =SUM(B32:C32) -> -58.2 | E32: 2 | F32: =(B32*8.6)+(C32*7.86) -> -500.52 | G32: =D32-D4 -> #VALUE!
A33: 43318 | B33: -28.5 | C33: 10.6 | D33: =SUM(B33:C33) -> -17.9 | E33: 3 | F33: =(B33*8.6)+(C33*7.86) -> -161.784 | G33: =D33-D5 -> #VALUE!
A34: 43319 | B34: 12.6 | C34: -11.4 | D34: =SUM(B34:C34) -> 1.2 | E34: 3 | F34: =(B34*8.6)+(C34*7.86) -> 18.756 | G34: =D34-D6 -> #VALUE!
A35: 43320 | B35: 1.2 | C35: 34.4 | D35: =SUM(B35:C35) -> 35.6 | E35: 2 | F35: =(B35*8.6)+(C35*7.86) -> 280.704 | G35: =D35-D7 -> #VALUE!
A36: 43321 | B36: -21.5 | C36: -15.1 | D36: =SUM(B36:C36) -> -36.6 | E36: 4 | F36: =(B36*8.6)+(C36*7.86) -> -303.586 | G36: =D36-D8 -> #VALUE!
A37: 43322 | B37: -48.3 | C37: -55.2 | D37: =SUM(B37:C37) -> -103.5 | E37: 4 | F37: =(B37*8.6)+(C37*7.86) -> -849.252 | G37: =D37-D9 -> #VALUE!
A38: 43325 | B38: -33.2 | C38: -31.1 | D38: =SUM(B38:C38) -> -64.3 | E38: 4 | F38: =(B38*8.6)+(C38*7.86) -> -529.966 | G38: =D38-D10 -> #VALUE!
A39: 43326 | B39: 33.8 | C39: -0.6 | D39: =SUM(B39:C39) -> 33.2 | E39: 3 | F39: =(B39*8.6)+(C39*7.86) -> 285.964 | G39: =D39-D11 -> #VALUE!
A40: 43327 | B40: 8.3 | C40: -27.2 | D40: =SUM(B40:C40) -> -18.9 | E40: 3 | F40: =(B40*8.6)+(C40*7.86) -> -142.412 | G40: =D40-D12 -> #VALUE!
A41: 43328 | B41: 11.9 | C41: -10.1 | D41: =SUM(B41:C41) -> 1.8 | E41: 3 | F41: =(B41*8.6)+(C41*7.86) -> 22.954 | G41: =D41-D13 -> #VALUE!
... A43: 43332 | B43: -7 | C43: -25.6 | D43: =SUM(B43:C43) -> -32.6 | E43: 4 | F43: =(B43*8.6)+(C43*7.86) -> -261.416 | G43: =D43-D15 -> #VALUE!
A44: 43333 | B44: 0 | C44: 0 | D44: =SUM(B44:C44) -> 0 | E44: Arret | F44: =(B44*8.6)+(C44*7.86) -> 0 | G44: =D44-D16 -> #VALUE!
A45: 43334 | B45: 0 | C45: 0 | D45: =SUM(B45:C45) -> 0 | E45: Arret | F45: =(B45*8.6)+(C45*7.86) -> 0 | G45: =D45-D17 -> #VALUE!
A46: 43335 | B46: 0 | C46: 0 | D46: =SUM(B46:C46) -> 0 | E46: Arret | F46: =(B46*8.6)+(C46*7.86) -> 0 | G46: =D46-D18 -> #VALUE!
A47: 43336 | B47: 0 | C47: 0 | D47: =SUM(B47:C47) -> 0 | E47: Arret | F47: =(B47*8.6)+(C47*7.86) -> 0 | G47: =D47-D19 -> #VALUE!
A48: 43339 | B48: 0 | C48: 0 | D48: =SUM(B48:C48) -> 0 | E48: Arret | F48: =(B48*8.6)+(C48*7.86) -> 0 | G48: =D48-D20 -> #VALUE!
A49: 43340 | B49: 0 | C49: 0 | D49: =SUM(B49:C49) -> 0 | E49: Arret | F49: =(B49*8.6)+(C49*7.86) -> 0 | G49: =D49-D21 -> #VALUE!
A50: 43341 | B50: 0 | C50: 0 | D50: =SUM(B50:C50) -> 0 | E50: Arret | F50: =(B50*8.6)+(C50*7.86) -> 0 | G50: =D50-D22 -> #VALUE!
A51: 43342 | B51: 0 | C51: 0 | D51: =SUM(B51:C51) -> 0 | E51: Arret | F51: =(B51*8.6)+(C51*7.86) -> 0 | G51: =D51-D23 -> #VALUE!
A52: 43343 | B52: 0 | C52: 0 | D52: =SUM(B52:C52) -> 0 | E52: Arret | F52: =(B52*8.6)+(C52*7.86) -> 0 | G52: =D52-D24 -> #VALUE!
A53: TOTAL | B53: =SUM(B30:B50) -> -165.4 | C53: =SUM(C30:C50) -> -117.2 | D53: =SUM(D30:D50) -> -282.6 | E53: =SUM(E30:E50) -> 43 | F53: =SUM(F30:F50) -> -2343.632 | G53: =SUM(G30:G51) -> #VALUE!
A54: TOTAL MONTANT | B54: =(B53*8.6) -> -1422.44 | C54: =(C53*7.86) -> -921.192
A55: TOTAL TRADES | E55: =SUM(B55:C55) -> 0
A58: Open Date | B58: Close Date | C58: Symbol | D58: Action | E58: Lots | F58: SL | G58: TP | H58: Open Price | I58: Close Price | J58: Commission | K58: Swap | L58: Pips | M58: Comptes
A59: 08/30/2018 11:04 | B59: 08/30/2018 18:30 | C59: EURUSD | D59: Sell | E59: 0.04 | F59: 1.17184 | G59: 0 | H59: 1.16967 | I59: 1.16467 | J59: -0.22 | K59: 0 | L59: 50 | M59: 19.78 | N59: 1 | O59: 3 | P59: 00:07:25:32 | Q59: 100 | R59: 7h 25m | S59: 23.1 | T59: 0.02 | U59: 53.4 | V59: 21.36 | W59: 0 | X59: 0 | Y59: 100 | Z59: 93.6 | AA59: -3.4 | AB59: -1.36
A60: 08/29/2018 16:57 | B60: 08/29/2018 18:30 | C60: EURUSD | D60: Buy | E60: 0.04 | F60: 1.16656 | G60: 0 | H60: 1.16866 | I60: 1.16955 | J60: -0.22 | K60: 0 | L60: 8.9 | M60: 3.34 | N60: 0.17 | O60: 3 | P60: 00:01:32:11 | Q60: 1.1 | R60: 1m | S60: 0 | T60: 0.11 | U60: 8.9 | V60: 3.56 | W60: 0 | X60: 0 | Y60: 100 | Z60: 100 | AA60: 0 | AB60: 0
A61: 08/29/2018 11:00 | B61: 08/29/2018 16:57 | C61: EURUSD | D61: Sell | E61: 0.04 | F61: 1.16866 | G61: 0 | H61: 1.16657 | I61: 1.16866 | J61: -0.22 | K61: 0 | L61: -20.9 | M61: -8.58 | N61: -0.43 | O61: 3 | P61: 00:05:57:48 | Q61: 30.9 | R61: 1h 50m | S61: 32.6 | T61: 1.79 | U61: 11.7 | V61: 4.68 | W61: -20.9 | X61: -8.36 | Y61: 35.9 | Z61: 0 | AA61: -32.6 | AB61: -13.04
A62: 08/29/2018 08:57 | B62: 08/29/2018 14:42 | C62: USDJPY | D62: Sell | E62: 0.07 | F62: 111.276 | G62: 0 | H62: 111.133 | I62: 111.276 | J62: -0.39 | K62: 0 | L62: -14.3 | M62: -9.39 | N62: -0.47 | O62: 4 | P62: 00:05:45:17 | Q62: 0 | R62: 0s | S62: 14.3 | T62: 14.31 | U62: 0 | V62: 0 | W62: -14.3 | X62: -9.009 | Y62: 0 | Z62: 0 | AA62: -14.3 | AB62: -9.01
A63: 08/29/2018 04:14 | B63: 08/29/2018 08:57 | C63: USDJPY | D63: Buy | E63: 0.07 | F63: 111.133 | G63: 0 | H63: 111.275 | I63: 111.133 | J63: -0.39 | K63: 0 | L63: -14.2 | M63: -9.33 | N63: -0.47 | O63: 4 | P63: 00:04:43:00 | Q63: 0 | R63: 0s | S63: 14.3 | T63: 14.31 | U63: 0 | V63: 0 | W63: -14.3 | X63: -9.009 | Y63: 0 | Z63: 0.7 | AA63: -14.2 | AB63: -8.95
A64: 08/28/2018 11:48 | B64: 08/28/2018 18:30 | C64: EURUSD | D64: Buy | E64: 0.04 | F64: 1.16792 | G64: 0 | H64: 1.16999 | I64: 1.17157 | J64: -0.22 | K64: 0 | L64: 15.8 | M64: 6.1 | N64: 0.31 | O64: 3 | P64: 00:06:41:40 | Q64: 100 | R64: 6h 41m | S64: 28.7 | T64: 0.03 | U64: 32.1 | V64: 12.84 | W64: 0 | X64: 0 | Y64: 100 | Z64: 49.2 | AA64: -16.3 | AB64: -6.52
A65: 08/28/2018 10:12 | B65: 08/28/2018 18:30 | C65: USDJPY | D65: Sell | E65: 0.1 | F65: 111.231 | G65: 0 | H65: 111.122 | I65: 111.134 | J65: -0.55 | K65: 0 | L65: -1.2 | M65: -1.63 | N65: -0.08 | O65: 4 | P65: 00:08:17:39 | Q65: 52.7 | R65: 4h 22m | S65: 16.9 | T65: 0.34 | U65: 12.6 | V65: 11.34 | W65: -4.3 | X65: -3.87 | Y65: 74.6 | Z65: 18.3 | AA65: -13.8 | AB65: -12.42
A66: 08/28/2018 04:02 | B66: 08/28/2018 10:12 | C66: USDJPY | D66: Buy | E66: 0.1 | F66: 111.123 | G66: 0 | H66: 111.232 | I66: 111.123 | J66: -0.55 | K66: 0 | L66: -10.9 | M66: -10.36 | N66: -0.52 | O66: 4 | P66: 00:06:10:17 | Q66: 25.7 | R66: 1h 35m | S66: 21 | T66: 1.19 | U66: 9.6 | V66: 8.64 | W66: -11.4 | X66: -10.26 | Y66: 45.7 | Z66: 2.4 | AA66: -20.5 | AB66: -18.45
A67: 08/27/2018 04:02 | B67: 08/27/2018 18:30 | C67: USDJPY | D67: Sell | E67: 0.07 | F67: 111.343 | G67: 0 | H67: 111.189 | I67: 111.064 | J67: -0.39 | K67: 0 | L67: 12.5 | M67: 7.49 | N67: 0.38 | O67: 4 | P67: 00:14:27:58 | Q67: 99.4 | R67: 14h 22m | S67: 17.4 | T67: 0.02 | U67: 23.9 | V67: 15.057 | W67: -0.5 | X67: -0.315 | Y67: 98 | Z67: 53.3 | AA67: -11.4 | AB67: -7.18
A68: 08/27/2018 11:06 | B68: 08/27/2018 18:30 | C68: EURUSD | D68: Buy | E68: 0.06 | F68: 1.15965 | G68: 0 | H68: 1.16116 | I68: 1.16715 | J68: -0.33 | K68: 0 | L68: 59.9 | M68: 35.61 | N68: 1.82 | O68: 3 | P68: 00:07:23:07 | Q68: 100 | R68: 7h 23m | S68: 9.4 | T68: 0.01 | U68: 67.4 | V68: 40.44 | W68: 0 | X68: 0 | Y68: 100 | Z68: 88.9 | AA68: -7.5 | AB68: -4.5
A69: 08/24/2018 13:10 | B69: 08/24/2018 18:30 | C69: EURUSD | D69: Buy | E69: 0.05 | F69: 1.15553 | G69: 0 | H69: 1.15744 | I69: 1.16214 | J69: -0.28 | K69: 0 | L69: 47 | M69: 23.22 | N69: 1.2 | O69: 3 | P69: 00:05:19:59 | Q69: 100 | R69: 5h 19m | S69: 33.1 | T69: 0.02 | U69: 63.3 | V69: 31.65 | W69: 0 | X69: 0 | Y69: 100 | Z69: 74.2 | AA69: -16.3 | AB69: -8.15
A70: 08/24/2018 11:12 | B70: 08/24/2018 13:08 | C70: EURUSD | D70: Sell | E70: 0.05 | F70: 1.15742 | G70: 0 | H70: 1.15553 | I70: 1.1574 | J70: -0.28 | K70: 0 | L70: -18.7 | M70: -9.63 | N70: -0.5 | O70: 3 | P70: 00:01:55:51 | Q70: 0 | R70: 0s | S70: 18.7 | T70: 18.73 | U70: 0 | V70: 0 | W70: -18.7 | X70: -9.35 | Y70: 0 | Z70: 0 | AA70: -18.7 | AB70: -9.35
... A102: 08/13/2018 11:11 | B102: 08/13/2018 14:54 | C102: EURUSD | D102: Sell | E102: 0.03 | F102: 1.13985 | G102: 0 | H102: 1.13662 | I102: 1.13986 | J102: -0.17 | K102: 0 | L102: -32.4 | M102: -9.89 | N102: -0.51 | O102: 3 | P102: 00:03:43:07 | Q102: 0 | R102: 0s | S102: 32.4 | T102: 32.47 | U102: 0 | V102: 0 | W102: -32.4 | X102: -9.72 | Y102: 0 | Z102: 0 | AA102: -32.4 | AB102: -9.72
A103: 43381.51 | B103: 43381.628 | C103: EURUSD | D103: Buy | E103: 0.04 | F103: 1.14492 | G103: 0 | H103: 1.14722 | I103: 1.14491 | J103: -0.22 | K103: 0 | L103: -23.1 | M103: -9.46 | N103: -0.49 | O103: 3 | P103: 00:02:50:15 | Q103: 0 | R103: 0s | S103: 23.1 | T103: 23.15 | U103: 0 | V103: 0 | W103: -23.1 | X103: -9.24 | Y103: 0 | Z103: 0 | AA103: -23.1 | AB103: -9.24
A104: 43381.473 | B104: 43381.51 | C104: EURUSD | D104: Sell | E104: 0.04 | F104: 1.14718 | G104: 0 | H104: 1.1449 | I104: 1.1472 | J104: -0.22 | K104: 0 | L104: -23 | M104: -9.42 | N104: -0.48 | O104: 3 | P104: 00:00:53:29 | Q104: 0 | R104: 0s | S104: 23 | T104: 23.04 | U104: 0 | V104: 0 | W104: -23 | X104: -9.2 | Y104: 0 | Z104: 0 | AA104: -23 | AB104: -9.2
A105: 43381.403 | B105: 43381.425 | C105: USDJPY | D105: Buy | E105: 0.04 | F105: 110.847 | G105: 0 | H105: 111.118 | I105: 110.843 | J105: -0.22 | K105: 0 | L105: -27.5 | M105: -10.14 | N105: -0.52 | O105: 4 | P105: 00:00:31:51 | Q105: 0 | R105: 0s | S105: 27.5 | T105: 27.55 | U105: 0 | V105: 0 | W105: -27.5 | X105: -9.9 | Y105: 0 | Z105: 0 | AA105: -27.5 | AB105: -9.9
A106: 43381.305 | B106: 43381.403 | C106: USDJPY | D106: Sell | E106: 0.04 | F106: 111.103 | G106: 0 | H106: 110.838 | I106: 111.103 | J106: -0.22 | K106: 0 | L106: -26.5 | M106: -9.76 | N106: -0.5 | O106: 4 | P106: 00:02:21:41 | Q106: 0 | R106: 0s | S106: 26.5 | T106: 26.53 | U106: 0 | V106: 0 | W106: -26.5 | X106: -9.54 | Y106: 0 | Z106: 0 | AA106: -26.5 | AB106: -9.54
A107: 43351.748 | B107: 43351.79 | C107: EURUSD | D107: Sell | E107: 0.03 | F107: 1.16046 | G107: 0 | H107: 1.1576 | I107: 1.15664 | J107: -0.17 | K107: 0 | L107: 9.6 | M107: 2.71 | N107: 0.14 | O107: 3 | P107: 00:00:59:38 | Q107: 1.7 | R107: 1m | S107: 0 | T107: 0.1 | U107: 9.6 | V107: 2.88 | W107: 0 | X107: 0 | Y107: 100 | Z107: 100 | AA107: 0 | AB107: 0
A108: 43351.333 | B108: 43351.775 | C108: USDJPY | D108: Buy | E108: 0.08 | F108: 110.778 | G108: 0 | H108: 110.914 | I108: 110.921 | J108: -0.44 | K108: 0 | L108: 0.7 | M108: 0.06 | N108: 0 | O108: 4 | P108: 00:10:36:10 | Q108: 95.6 | R108: 10h 8m | S108: 32.3 | T108: 0.21 | U108: 26.7 | V108: 18.957 | W108: -5.6 | X108: -3.976 | Y108: 82.7 | Z108: 19.5 | AA108: -26 | AB108: -18.46
A109: 43351.554 | B109: 43351.748 | C109: EURUSD | D109: Buy | E109: 0.03 | F109: 1.1576 | G109: 0 | H109: 1.16048 | I109: 1.1576 | J109: -0.17 | K109: 0 | L109: -28.8 | M109: -8.81 | N109: -0.45 | O109: 3 | P109: 00:04:38:46 | Q109: 0 | R109: 0s | S109: 29 | T109: 29.07 | U109: 0 | V109: 0 | W109: -29 | X109: -8.7 | Y109: 0 | Z109: 0.7 | AA109: -28.8 | AB109: -8.64
A110: 43351.182 | B110: 43351.333 | C110: USDJPY | D110: Sell | E110: 0.08 | F110: 110.911 | G110: 0 | H110: 110.776 | I110: 110.912 | J110: -0.44 | K110: 0 | L110: -13.6 | M110: -10.25 | N110: -0.52 | O110: 4 | P110: 00:03:37:43 | Q110: 1.9 | R110: 4m | S110: 17 | T110: 7.1 | U110: 2.1 | V110: 1.512 | W110: -14.9 | X110: -10.728 | Y110: 12.4 | Z110: 7.6 | AA110: -15.7 | AB110: -11.3
A111: 43320.322 | B111: 43320.783 | C111: USDJPY | D111: Sell | E111: 0.07 | F111: 111.44 | G111: 0 | H111: 111.302 | I111: 110.941 | J111: -0.39 | K111: 0 | L111: 36.1 | M111: 22.39 | N111: 1.14 | O111: 4 | P111: 00:11:03:04 | Q111: 100 | R111: 11h 3m | S111: 27.6 | T111: 0.02 | U111: 41.4 | V111: 26.082 | W111: 0 | X111: 0 | Y111: 100 | Z111: 87.2 | AA111: -5.3 | AB111: -3.34
A112: 43320.46 | B112: 43320.778 | C112: EURUSD | D112: Sell | E112: 0.05 | F112: 1.16246 | G112: 0 | H112: 1.16054 | I112: 1.16036 | J112: -0.28 | K112: 0 | L112: 1.8 | M112: 0.62 | N112: 0.03 | O112: 3 | P112: 00:07:37:04 | Q112: 97.4 | R112: 7h 25m | S112: 34.4 | T112: 0.11 | U112: 31 | V112: 15.5 | W112: -3.4 | X112: -1.7 | Y112: 90.1 | Z112: 15.1 | AA112: -29.2 | AB112: -14.6
A113: 43289.522 | B113: 43289.791 | C113: USDJPY | D113: Sell | E113: 0.08 | F113: 111.365 | G113: 0 | H113: 111.232 | I113: 111.192 | J113: -0.44 | K113: 0 | L113: 4 | M113: 2.44 | N113: 0.12 | O113: 4 | P113: 00:06:26:28 | Q113: 99.5 | R113: 6h 24m | S113: 24.2 | T113: 0.03 | U113: 23.5 | V113: 16.92 | W113: -0.7 | X113: -0.504 | Y113: 97.1 | Z113: 19.4 | AA113: -19.5 | AB113: -14.04
A114: 43289.471 | B114: 43289.785 | C114: EURUSD | D114: Buy | E114: 0.08 | F114: 1.15691 | G114: 0 | H114: 1.15806 | I114: 1.1595 | J114: -0.44 | K114: 0 | L114: 14.4 | M114: 11.08 | N114: 0.57 | O114: 3 | P114: 00:07:32:58 | Q114: 100 | R114: 7h 32m | S114: 21.5 | T114: 0.04 | U114: 27.1 | V114: 21.68 | W114: 0 | X114: 0 | Y114: 100 | Z114: 53.1 | AA114: -12.7 | AB114: -10.16
... A124: 43108.197 | B124: 43108.233 | C124: USDJPY | D124: Sell | E124: 0.12 | F124: 111.872 | G124: 0 | H124: 111.784 | I124: 111.872 | J124: -0.66 | K124: 0 | L124: -8.8 | M124: -10.1 | N124: -0.51 | O124: 4 | P124: 00:00:52:28 | Q124: 0 | R124: 0s | S124: 19.3 | T124: 19.31 | U124: 0 | V124: 0 | W124: -19.3 | X124: -20.651 | Y124: 0 | Z124: 54.4 | AA124: -8.8 | AB124: -9.42
A125: 43108.189 | B125: 43108.197 | C125: USDJPY | D125: Buy | E125: 0.12 | F125: 111.786 | G125: 0 | H125: 111.872 | I125: 111.784 | J125: -0.66 | K125: 0 | L125: -8.8 | M125: -10.11 | N125: -0.51 | O125: 4 | P125: 00:00:11:20

Sheet E 
A1: E - Pepperstone | B1: EURUSD | C1: USDJPY | D1: TOTAL PIPS | E1: TRADES | F1: TOTAL MONTANT
A2: 43313 | B2: 0 | C2: 0 | D2: =SUM(B2:C2) -> 0 | E2: 0 | F2: =(B2*8.54)+(C2*7.86) -> 0
A3: 43314 | B3: 0 | C3: 0 | D3: =SUM(B3:C3) -> 0 | E3: 0 | F3: =(B3*8.54)+(C3*7.86) -> 0
A4: 43315 | B4: 0 | C4: 0 | D4: =SUM(B4:C4) -> 0 | E4: 0 | F4: =(B4*8.54)+(C4*7.86) -> 0
A5: 43318 | B5: 0 | C5: 0 | D5: =SUM(B5:C5) -> 0 | E5: 0 | F5: =(B5*8.54)+(C5*7.86) -> 0
A6: 43319 | B6: 0 | C6: 0 | D6: =SUM(B6:C6) -> 0 | E6: 0 | F6: =(B6*8.54)+(C6*7.86) -> 0
A7: 43320 | B7: 0 | C7: 0 | D7: =SUM(B7:C7) -> 0 | E7: 0 | F7: =(B7*8.54)+(C7*7.86) -> 0
A8: 43321 | B8: 0 | C8: 0 | D8: =SUM(B8:C8) -> 0 | E8: 0 | F8: =(B8*8.54)+(C8*7.86) -> 0
A9: 43322 | B9: 0 | C9: 0 | D9: =SUM(B9:C9) -> 0 | E9: 0 | F9: =(B9*8.54)+(C9*7.86) -> 0
A10: 43325 | B10: 0 | C10: 0 | D10: =SUM(B10:C10) -> 0 | E10: 0 | F10: =(B10*8.54)+(C10*7.86) -> 0
A11: 43326 | B11: 0 | C11: 0 | D11: =SUM(B11:C11) -> 0 | E11: 0 | F11: =(B11*8.54)+(C11*7.86) -> 0
A12: 43327 | B12: 0 | C12: 0 | D12: =SUM(B12:C12) -> 0 | E12: 0 | F12: =(B12*8.54)+(C12*7.86) -> 0
A13: 43328 | B13: 0 | C13: 0 | D13: =SUM(B13:C13) -> 0 | E13: 0 | F13: =(B13*8.54)+(C13*7.86) -> 0
... A24: 43343 | B24: 0 | C24: 0 | D24: =SUM(B24:C24) -> 0 | E24: 0 | F24: =(B24*8.54)+(C24*7.86) -> 0
A25: TOTAL | B25: =SUM(B2:B22) -> 0 | C25: =SUM(C2:C22) -> 0 | D25: =SUM(D2:D22) -> 0 | E25: =SUM(E2:E22) -> 0 | F25: =SUM(F2:F22) -> 0
A26: TOTAL MONTANT | B26: =(B25*8.6) -> 0 | C26: =(C25*7.86) -> 0
A27: TOTAL TRADES | E27: =SUM(B27:C27) -> 0
A29: Pepperstone / YRL CAPITAL | B29: EURUSD | C29: USDJPY | D29: TOTAL PIPS | E29: TRADES | F29: TOTAL MONTANT | G29: SLIPPAGE
A30: 43313 | D30: =SUM(B30:C30) -> 0 | F30: =(B30*8.54)+(C30*7.86) -> 0 | G30: =D30-D2 -> 0
A31: 43314 | D31: =SUM(B31:C31) -> 0 | F31: =(B31*8.54)+(C31*7.86) -> 0 | G31: =D31-D3 -> 0
A32: 43315 | D32: =SUM(B32:C32) -> 0 | F32: =(B32*8.54)+(C32*7.86) -> 0 | G32: =D32-D4 -> 0
A33: 43318 | D33: =SUM(B33:C33) -> 0 | F33: =(B33*8.54)+(C33*7.86) -> 0 | G33: =D33-D5 -> 0
A34: 43319 | D34: =SUM(B34:C34) -> 0 | F34: =(B34*8.54)+(C34*7.86) -> 0 | G34: =D34-D6 -> 0
A35: 43320 | D35: =SUM(B35:C35) -> 0 | F35: =(B35*8.54)+(C35*7.86) -> 0 | G35: =D35-D7 -> 0
A36: 43321 | D36: =SUM(B36:C36) -> 0 | F36: =(B36*8.54)+(C36*7.86) -> 0 | G36: =D36-D8 -> 0
A37: 43322 | D37: =SUM(B37:C37) -> 0 | F37: =(B37*8.54)+(C37*7.86) -> 0 | G37: =D37-D9 -> 0
A38: 43325 | D38: =SUM(B38:C38) -> 0 | F38: =(B38*8.54)+(C38*7.86) -> 0 | G38: =D38-D10 -> 0
A39: 43326 | D39: =SUM(B39:C39) -> 0 | F39: =(B39*8.54)+(C39*7.86) -> 0 | G39: =D39-D11 -> 0
A40: 43327 | D40: =SUM(B40:C40) -> 0 | F40: =(B40*8.54)+(C40*7.86) -> 0 | G40: =D40-D12 -> 0
A41: 43328 | D41: =SUM(B41:C41) -> 0 | F41: =(B41*8.54)+(C41*7.86) -> 0 | G41: =D41-D13 -> 0
... A52: 43343 | D52: =SUM(B52:C52) -> 0 | F52: =(B52*8.54)+(C52*7.86) -> 0 | G52: =D52-D24 -> 0
A53: TOTAL | B53: =SUM(B30:B50) -> 0 | C53: =SUM(C30:C50) -> 0 | D53: =SUM(D30:D50) -> 0 | E53: =SUM(E30:E50) -> 0 | F53: =SUM(F30:F50) -> 0 | G53: =SUM(G30:G51) -> 0
A54: TOTAL MONTANT | B54: =(B53*8.6) -> 0 | C54: =(C53*7.86) -> 0
A55: TOTAL TRADES | E55: =SUM(B55:C55) -> 0

Sheet F 
A1: F - VOL Portfolio | B1: EURUSD | C1: GBPUSD | D1: TOTAL PIPS | E1: TRADES | F1: TOTAL MONTANT
A2: 43313 | B2: 71.9 | C2: 0 | D2: =SUM(B2:C2) -> 71.9 | E2: 3 | F2: =(B2*8.6)+(C2*8.6) -> 618.34 | G2: Positions non prises sur les comptes. Erreur technique myfxbook
A3: 43314 | B3: 0 | C3: 14.1 | D3: =SUM(B3:C3) -> 14.1 | E3: 3 | F3: =(B3*8.6)+(C3*8.6) -> 121.26
A4: 43315 | B4: -171.4 | C4: 36.7 | D4: =SUM(B4:C4) -> -134.7 | E4: 14 | F4: =(B4*8.6)+(C4*8.6) -> -1158.42
A5: 43318 | B5: -1.1 | C5: 0 | D5: =SUM(B5:C5) -> -1.1 | E5: 1 | F5: =(B5*8.6)+(C5*8.6) -> -9.46
A6: 43319 | B6: 0 | C6: 0 | D6: =SUM(B6:C6) -> 0 | E6: 0 | F6: =(B6*8.6)+(C6*8.6) -> 0
A7: 43320 | B7: -2.6 | C7: 0 | D7: =SUM(B7:C7) -> -2.6 | E7: 8 | F7: =(B7*8.6)+(C7*8.6) -> -22.36
A8: 43321 | B8: 0 | C8: 0 | D8: =SUM(B8:C8) -> 0 | E8: 0 | F8: =(B8*8.6)+(C8*8.6) -> 0
A9: 43322 | B9: 450 | C9: 0 | D9: =SUM(B9:C9) -> 450 | E9: 12 | F9: =(B9*8.6)+(C9*8.6) -> 3870
A10: 43325 | B10: 0 | C10: 0 | D10: =SUM(B10:C10) -> 0 | E10: 0 | F10: =(B10*8.6)+(C10*8.6) -> 0
A11: 43326 | B11: -56.7 | C11: 0 | D11: =SUM(B11:C11) -> -56.7 | E11: 4 | F11: =(B11*8.6)+(C11*8.6) -> -487.62
A12: 43327 | B12: 0 | C12: 0 | D12: =SUM(B12:C12) -> 0 | E12: 0 | F12: =(B12*8.6)+(C12*8.6) -> 0
A13: 43328 | B13: -14.1 | C13: 0 | D13: =SUM(B13:C13) -> -14.1 | E13: 1 | F13: =(B13*8.6)+(C13*8.6) -> -121.26
A14: 43329 | B14: -82.6 | C14: 0 | D14: =SUM(B14:C14) -> -82.6 | E14: 6 | F14: =(B14*8.6)+(C14*8.6) -> -710.36
... A24: 43343 | B24: 0 | C24: 0 | D24: =SUM(B24:C24) -> 0 | E24: 0 | F24: =(B24*8.6)+(C24*8.6) -> 0
A25: TOTAL | B25: =SUM(B2:B24) -> 19.3 | C25: =SUM(C2:C24) -> 50.8 | D25: =SUM(D2:D24) -> 70.1 | E25: =SUM(E2:E24) -> 69 | F25: =SUM(F2:F22) -> 602.86
A26: TOTAL TRADES | B26: 64 | C26: 6 | E26: =SUM(B26:D26) -> 70
A27: TOTAL MONTANT | B27: =(B25*8.6) -> 165.98 | C27: =(C25*8.6) -> 436.88
A29: VOL Portfolio / SC GAM | B29: EURUSD | C29: GBPUSD | D29: TOTAL PIPS | E29: TRADES | F29: TOTAL MONTANT | G29: SLIPPAGE
A30: 43313 | B30: 0 | C30: 0 | D30: =SUM(B30:C30) -> 0 | E30: 0 | F30: =(B30*8.6)+(C30*8.6) -> 0 | G30: =B30-B2 -> -71.9
A31: 43314 | B31: 0 | C31: 8.3 | D31: =SUM(B31:C31) -> 8.3 | E31: 3 | F31: =(B31*8.6)+(C31*8.6) -> 71.38 | G31: =B31-B3 -> 0
A32: 43315 | B32: -186.8 | C32: 30.9 | D32: =SUM(B32:C32) -> -155.9 | E32: 12 | F32: =(B32*8.6)+(C32*8.6) -> -1340.74 | G32: =B32-B4 -> -15.4
A33: 43318 | B33: -2.9 | C33: 0 | D33: =SUM(B33:C33) -> -2.9 | E33: 1 | F33: =(B33*8.6)+(C33*8.6) -> -24.94 | G33: =B33-B5 -> -1.8
A34: 43319 | B34: 0 | C34: 0 | D34: =SUM(B34:C34) -> 0 | E34: 0 | F34: =(B34*8.6)+(C34*8.6) -> 0 | G34: =B34-B6 -> 0
A35: 43320 | B35: -13 | C35: 0 | D35: =SUM(B35:C35) -> -13 | E35: 8 | F35: =(B35*8.6)+(C35*8.6) -> -111.8 | G35: =B35-B7 -> -10.4
A36: 43321 | B36: 0 | C36: 0 | D36: =SUM(B36:C36) -> 0 | E36: 0 | F36: =(B36*8.6)+(C36*8.6) -> 0 | G36: =B36-B8 -> 0
A37: 43322 | B37: 435.6 | C37: 0 | D37: =SUM(B37:C37) -> 435.6 | E37: 12 | F37: =(B37*8.6)+(C37*8.6) -> 3746.16 | G37: =B37-B9 -> -14.4
A38: 43325 | B38: 0 | C38: 0 | D38: =SUM(B38:C38) -> 0 | E38: 0 | F38: =(B38*8.6)+(C38*8.6) -> 0 | G38: =B38-B10 -> 0
A39: 43326 | B39: -61.3 | C39: 0 | D39: =SUM(B39:C39) -> -61.3 | E39: 4 | F39: =(B39*8.6)+(C39*8.6) -> -527.18 | G39: =B39-B11 -> -4.6
A40: 43327 | B40: 0 | C40: 0 | D40: =SUM(B40:C40) -> 0 | E40: 0 | F40: =(B40*8.6)+(C40*8.6) -> 0 | G40: =B40-B12 -> 0
A41: 43328 | B41: -15.6 | C41: 0 | D41: =SUM(B41:C41) -> -15.6 | E41: 1 | F41: =(B41*8.6)+(C41*8.6) -> -134.16 | G41: =B41-B13 -> -1.5
... A47: 43336 | B47: 0 | C47: 0 | D47: =SUM(B47:C47) -> 0 | E47: 1 | F47: =(B47*8.6)+(C47*8.6) -> 0 | G47: =B47-B19 -> 44.1
A48: 43339 | B48: 0 | C48: 0 | D48: =SUM(B48:C48) -> 0 | F48: =(B48*8.6)+(C48*8.6) -> 0 | G48: =B48-B20 -> 0
A49: 43340 | B49: 0 | C49: 0 | D49: =SUM(B49:C49) -> 0 | F49: =(B49*8.6)+(C49*8.6) -> 0 | G49: =B49-B21 -> 0
A50: 43341 | B50: 0 | C50: 0 | D50: =SUM(B50:C50) -> 0 | F50: =(B50*8.6)+(C50*8.6) -> 0 | G50: =B50-B22 -> 0
A51: 43342 | B51: 0 | C51: 0 | D51: =SUM(B51:C51) -> 0 | F51: =(B51*8.6)+(C51*8.6) -> 0 | G51: =B51-B23 -> 0
A52: 43343 | B52: 0 | C52: 0 | D52: =SUM(B52:C52) -> 0 | F52: =(B52*8.6)+(C52*8.6) -> 0 | G52: =B52-B24 -> 0
A53: TOTAL | B53: =SUM(B30:B50) -> -170.1 | C53: =SUM(C30:C50) -> 39.2 | D53: =SUM(D30:D52) -> -130.9 | E53: =SUM(E30:E52) -> 62 | F53: =SUM(F30:F52) -> -1125.74 | G53: =SUM(G30:G51) -> -189.4
A54: TOTAL TRADES | B54: 61 | C54: 6 | E54: =SUM(B54:D54) -> 67
A55: TOTAL MONTANT | B55: =(B53*8.6) -> -1462.86 | C55: =(C53*8.6) -> 337.12

Sheet G
A1: G - Atlas | B1: EURUSD | C1: GBPUSD | D1: USDJPY | E1: AUDUSD | F1: TOTAL PIPS | G1: TRADES | H1: TOTAL MONTANT
A2: 43313 | B2: 0 | C2: 0 | D2: 0 | E2: 0 | F2: =SUM(B2:E2) -> 0 | G2: 0 | H2: =(B2*8.6)+(C2*8.6)+(D2*7.6)+(E2*8.3) -> 0
A3: 43314 | B3: 0 | C3: 152.7 | D3: 0 | E3: 0 | F3: =SUM(B3:E3) -> 152.7 | G3: 5 | H3: =(B3*8.6)+(C3*8.6)+(D3*7.6)+(E3*8.3) -> 1313.22
A4: 43315 | B4: -10.6 | C4: 30.2 | D4: -16.5 | E4: 0 | F4: =SUM(B4:E4) -> 3.1 | G4: 6 | H4: =(B4*8.6)+(C4*8.6)+(D4*7.6)+(E4*8.3) -> 43.16
A5: 43318 | B5: 7.2 | C5: 12 | D5: 0 | E5: 0 | F5: =SUM(B5:E5) -> 19.2 | G5: 2 | H5: =(B5*8.6)+(C5*8.6)+(D5*7.6)+(E5*8.3) -> 165.12
A6: 43319 | B6: 0 | C6: 0 | D6: 0 | E6: 0 | F6: =SUM(B6:E6) -> 0 | G6: 0 | H6: =(B6*8.6)+(C6*8.6)+(D6*7.6)+(E6*8.3) -> 0
A7: 43320 | B7: -23.3 | C7: -22.6 | D7: -36.2 | E7: 0 | F7: =SUM(B7:E7) -> -82.1 | G7: 6 | H7: =(B7*8.6)+(C7*8.6)+(D7*7.6)+(E7*8.3) -> -669.86
A8: 43321 | B8: 0 | C8: 12.3 | D8: 0 | E8: 0 | F8: =SUM(B8:E8) -> 12.3 | G8: 1 | H8: =(B8*8.6)+(C8*8.6)+(D8*7.6)+(E8*8.3) -> 105.78
A9: 43322 | B9: 138.1 | C9: 32.8 | D9: 0 | E9: 0 | F9: =SUM(B9:E9) -> 170.9 | G9: 9 | H9: =(B9*8.6)+(C9*8.6)+(D9*7.6)+(E9*8.3) -> 1469.74
A10: 43325 | B10: 97.8 | C10: 13.8 | D10: -39.3 | E10: 0 | F10: =SUM(B10:E10) -> 72.3 | G10: 6 | H10: =(B10*8.6)+(C10*8.6)+(D10*7.6)+(E10*8.3) -> 661.08
A11: 43326 | B11: 25.4 | C11: 0 | D11: 0 | E11: 0 | F11: =SUM(B11:E11) -> 25.4 | G11: 1 | H11: =(B11*8.6)+(C11*8.6)+(D11*7.6)+(E11*8.3) -> 218.44
A12: 43327 | B12: 8.5 | C12: 0 | D12: 0 | E12: 4.1 | F12: =SUM(B12:E12) -> 12.6 | G12: 2 | H12: =(B12*8.6)+(C12*8.6)+(D12*7.6)+(E12*8.3) -> 107.13
A13: 43328 | B13: -63.1 | C13: 0 | D13: 0 | E13: 0 | F13: =SUM(B13:E13) -> -63.1 | G13: 3 | H13: =(B13*8.6)+(C13*8.6)+(D13*7.6)+(E13*8.3) -> -542.66
... A18: 43335 | B18: 22.2 | C18: -25.9 | D18: 4.9 | E18: 0 | F18: =SUM(B18:E18) -> 1.2 | G18: 3 | H18: =(B18*8.6)+(C18*8.6)+(D18*7.6)+(E18*8.3) -> 5.42
A19: 43336 | B19: 0 | C19: -89.8 | D19: 0 | E19: -57.2 | F19: =SUM(B19:E19) -> -147 | G19: 5 | H19: =(B19*8.6)+(C19*8.6)+(D19*7.6)+(E19*8.3) -> -1247.04 | I19: Position AUD fermee plus tot sur le compte
A20: 43339 | B20: 0 | C20: 0 | D20: 0 | E20: 0 | F20: =SUM(B20:E20) -> 0 | G20: 0 | H20: =(B20*8.6)+(C20*8.6)+(D20*7.6)+(E20*8.3) -> 0
A21: 43340 | B21: 0 | C21: 0 | D21: 0 | E21: 0 | F21: =SUM(B21:E21) -> 0 | G21: 0 | H21: =(B21*8.6)+(C21*8.6)+(D21*7.6)+(E21*8.3) -> 0
A22: 43341 | B22: 0 | C22: 0 | D22: 0 | E22: 0 | F22: =SUM(B22:E22) -> 0 | G22: 0 | H22: =(B22*8.6)+(C22*8.6)+(D22*7.6)+(E22*8.3) -> 0
A23: 43342 | B23: 0 | C23: 0 | D23: 0 | E23: 0 | F23: =SUM(B23:E23) -> 0 | G23: 0 | H23: =(B23*8.6)+(C23*8.6)+(D23*7.6)+(E23*8.3) -> 0
A24: 43343 | B24: 0 | C24: 0 | D24: 0 | E24: 0 | F24: =SUM(B24:E24) -> 0 | G24: 0 | H24: =(B24*8.6)+(C24*8.6)+(D24*7.6)+(E24*8.3) -> 0
A25: TOTAL | B25: =SUM(B2:B22) -> 191 | C25: =SUM(C2:C22) -> 104.2 | D25: =SUM(D2:D22) -> -56.4 | E25: =SUM(E2:E22) -> -53.1 | F25: =SUM(F2:F22) -> 185.7 | G25: =SUM(G2:G23) -> 60 | H25: =SUM(H2:H22) -> 1669.35
A26: TOTAL TRADES | B26: 27 | C26: 23 | D26: 5 | E26: 5 | G26: =SUM(B26:E26) -> 60
A27: TOTAL MONTANT | B27: =(B25*8.6) -> 1642.6 | C27: =(C25*8.6) -> 896.12 | D27: =(D25*7.86) -> -443.304 | E27: =(E25*8.3) -> -440.73 | F27: =SUM(B27:E27) -> 1654.686
A29: Atlas / YRL CAPITAL | B29: EURUSD | C29: GBPUSD | D29: USDJPY | E29: AUDUSD | F29: TOTAL PIPS | G29: TRADES | H29: TOTAL MONTANT | I29: SLIPPAGE
A30: 43313 | F30: =SUM(B30:E30) -> 0 | G30: 0 | H30: =(B30*8.6)+(C30*8.6)+(D30*7.6)+(E30*8.3) -> 0 | I30: =F30-F2 -> 0
A31: 43314 | C31: 141.7 | F31: =SUM(B31:E31) -> 141.7 | G31: 5 | H31: =(B31*8.6)+(C31*8.6)+(D31*7.6)+(E31*8.3) -> 1218.62 | I31: =F31-F3 -> -11
A32: 43315 | B32: -2.3 | C32: 15.5 | D32: -13 | F32: =SUM(B32:E32) -> 0.2 | G32: 6 | H32: =(B32*8.6)+(C32*8.6)+(D32*7.6)+(E32*8.3) -> 14.72 | I32: =F32-F4 -> -2.9
A33: 43318 | B33: 5 | C33: 8.4 | F33: =SUM(B33:E33) -> 13.4 | G33: 2 | H33: =(B33*8.6)+(C33*8.6)+(D33*7.6)+(E33*8.3) -> 115.24 | I33: =F33-F5 -> -5.8
A34: 43319 | F34: =SUM(B34:E34) -> 0 | G34: 0 | H34: =(B34*8.6)+(C34*8.6)+(D34*7.6)+(E34*8.3) -> 0 | I34: =F34-F6 -> 0
A35: 43320 | B35: -25.5 | C35: -25.5 | D35: -39.3 | F35: =SUM(B35:E35) -> -90.3 | G35: 6 | H35: =(B35*8.6)+(C35*8.6)+(D35*7.6)+(E35*8.3) -> -737.28 | I35: =F35-F7 -> -8.2
A36: 43321 | C36: 10.7 | F36: =SUM(B36:E36) -> 10.7 | G36: 1 | H36: =(B36*8.6)+(C36*8.6)+(D36*7.6)+(E36*8.3) -> 92.02 | I36: =F36-F8 -> -1.6
A37: 43322 | B37: 119.5 | C37: 28.3 | F37: =SUM(B37:E37) -> 147.8 | G37: 8 | H37: =(B37*8.6)+(C37*8.6)+(D37*7.6)+(E37*8.3) -> 1271.08 | I37: =F37-F9 -> -23.1
A38: 43325 | B38: 25.6 | C38: 10.5 | D38: -40 | E38: 41.3 | F38: =SUM(B38:E38) -> 37.4 | G38: 5 | H38: =(B38*8.6)+(C38*8.6)+(D38*7.6)+(E38*8.3) -> 349.25 | I38: =F38-F10 -> -34.9
A39: 43326 | B39: 23.8 | F39: =SUM(B39:E39) -> 23.8 | G39: 1 | H39: =(B39*8.6)+(C39*8.6)+(D39*7.6)+(E39*8.3) -> 204.68 | I39: =F39-F11 -> -1.6
A40: 43327 | B40: 6.9 | E40: 2.9 | F40: =SUM(B40:E40) -> 9.8 | G40: 2 | H40: =(B40*8.6)+(C40*8.6)+(D40*7.6)+(E40*8.3) -> 83.41 | I40: =F40-F12 -> -2.8
A41: 43328 | B41: -66 | F41: =SUM(B41:E41) -> -66 | G41: 3 | H41: =(B41*8.6)+(C41*8.6)+(D41*7.6)+(E41*8.3) -> -567.6 | I41: =F41-F13 -> -2.9
A42: 43329 | B42: -79.1 | F42: =SUM(B42:E42) -> -79.1 | G42: 2 | H42: =(B42*8.6)+(C42*8.6)+(D42*7.6)+(E42*8.3) -> -680.26 | I42: =F42-F14 -> 0.1
A43: 43332 | D43: 29.1 | F43: =SUM(B43:E43) -> 29.1 | G43: 1 | H43: =(B43*8.6)+(C43*8.6)+(D43*7.6)+(E43*8.3) -> 221.16 | I43: =F43-F15 -> -1.6
A44: 43333 | B44: 27 | C44: -38.3 | F44: =SUM(B44:E44) -> -11.3 | G44: 5 | H44: =(B44*8.6)+(C44*8.6)+(D44*7.6)+(E44*8.3) -> -97.18 | I44: =F44-F16 -> -6.9
A45: 43334 | B45: 32.8 | C45: 20.9 | F45: =SUM(B45:E45) -> 53.7 | G45: 3 | H45: =(B45*8.6)+(C45*8.6)+(D45*7.6)+(E45*8.3) -> 461.82 | I45: =F45-F17 -> -7.4
A46: 43335 | B46: 20.7 | C46: -27.1 | E46: 3.5 | F46: =SUM(B46:E46) -> -2.9 | G46: 3 | H46: =(B46*8.6)+(C46*8.6)+(D46*7.6)+(E46*8.3) -> -25.99 | I46: =F46-F18 -> -4.1
A47: 43336 | C47: -91.2 | E47: -83.9 | F47: =SUM(B47:E47) -> -175.1 | G47: 4 | H47: =(B47*8.6)+(C47*8.6)+(D47*7.6)+(E47*8.3) -> -1480.69 | I47: =F47-F19 -> -28.1
A48: 43339 | F48: =SUM(B48:E48) -> 0 | H48: =(B48*8.6)+(C48*8.6)+(D48*7.6)+(E48*8.3) -> 0 | I48: =F48-F20 -> 0
A49: 43340 | F49: =SUM(B49:E49) -> 0 | H49: =(B49*8.6)+(C49*8.6)+(D49*7.6)+(E49*8.3) -> 0 | I49: =F49-F21 -> 0
A50: 43341 | F50: =SUM(B50:E50) -> 0 | H50: =(B50*8.6)+(C50*8.6)+(D50*7.6)+(E50*8.3) -> 0 | I50: =F50-F22 -> 0
A51: 43342 | F51: =SUM(B51:E51) -> 0 | H51: =(B51*8.6)+(C51*8.6)+(D51*7.6)+(E51*8.3) -> 0 | I51: =F51-F23 -> 0
A52: 43343 | F52: =SUM(B52:E52) -> 0 | H52: =(B52*8.6)+(C52*8.6)+(D52*7.6)+(E52*8.3) -> 0 | I52: =F52-F24 -> 0
A53: TOTAL | B53: =SUM(B30:B50) -> 88.4 | C53: =SUM(C30:C50) -> 53.9 | D53: =SUM(D30:D50) -> -63.2 | E53: =SUM(E30:E50) -> -36.2 | F53: =SUM(F30:F52) -> 42.9 | G53: =SUM(G30:G50) -> 57 | H53: =SUM(H30:H50) -> 443 | I53: =SUM(I30:I51) -> -142.8
A54: TOTAL MONTANT | B54: =(B53*8.6) -> 760.24 | C54: =(C53*8.6) -> 463.54 | D54: =(D53*7.86) -> -496.752 | E54: =(E53*8.3) -> -300.46
A55: TOTAL TRADES | G55: =SUM(B55:E55) -> 0

Sheet H
A1: H - Scorpion | B1: EURUSD | C1: GBPUSD | D1: USDJPY | E1: TOTAL PIPS | F1: TRADES | G1: TOTAL MONTANT
A2: 43313 | B2: 0 | C2: 0 | D2: -28.7 | E2: =SUM(B2:D2) -> -28.7 | F2: 3 | G2: =(B2*8.6)+(C2*8.6)+(D2*7.86) -> -225.582
A3: 43314 | B3: 12.5 | C3: 0 | D3: 0 | E3: =SUM(B3:D3) -> 12.5 | F3: 2 | G3: =(B3*8.6)+(C3*8.6)+(D3*7.86) -> 107.5
A4: 43315 | B4: 0 | C4: 105.8 | D4: 0 | E4: =SUM(B4:D4) -> 105.8 | F4: 5 | G4: =(B4*8.6)+(C4*8.6)+(D4*7.86) -> 909.88
A5: 43318 | B5: 30.7 | D5: 0 | E5: =SUM(B5:D5) -> 30.7 | F5: 2 | G5: =(B5*8.6)+(C5*8.6)+(D5*7.86) -> 264.02
A6: 43319 | B6: 0 | C6: 4.8 | D6: 0 | E6: =SUM(B6:D6) -> 4.8 | F6: 2 | G6: =(B6*8.6)+(C6*8.6)+(D6*7.86) -> 41.28
A7: 43320 | B7: -48.8 | C7: -9.8 | D7: 0 | E7: =SUM(B7:D7) -> -58.6 | F7: 3 | G7: =(B7*8.6)+(C7*8.6)+(D7*7.86) -> -503.96
A8: 43321 | B8: -0.4 | C8: -117.8 | D8: 0 | E8: =SUM(B8:D8) -> -118.2 | F8: 5 | G8: =(B8*8.6)+(C8*8.6)+(D8*7.86) -> -1016.52
A9: 43322 | B9: 0 | C9: 39.3 | D9: 33.3 | E9: =SUM(B9:D9) -> 72.6 | F9: 2 | G9: =(B9*8.6)+(C9*8.6)+(D9*7.86) -> 599.718
A10: 43325 | B10: 112.4 | C10: 72 | D10: 0 | E10: =SUM(B10:D10) -> 184.4 | F10: 6 | G10: =(B10*8.6)+(C10*8.6)+(D10*7.86) -> 1585.84
A11: 43326 | B11: 7.7 | C11: 8.4 | D11: -15.1 | E11: =SUM(B11:D11) -> 1 | F11: 4 | G11: =(B11*8.6)+(C11*8.6)+(D11*7.86) -> 19.774
A12: 43327 | B12: 87.3 | C12: 48.7 | D12: 0 | E12: =SUM(B12:D12) -> 136 | F12: 12 | G12: =(B12*8.6)+(C12*8.6)+(D12*7.86) -> 1169.6
A13: 43328 | B13: -22.5 | C13: 0 | D13: 11.1 | E13: =SUM(B13:D13) -> -11.4 | F13: 4 | G13: =(B13*8.6)+(C13*8.6)+(D13*7.86) -> -106.254
A14: 43329 | B14: -19 | C14: 0 | D14: 0 | E14: =SUM(B14:D14) -> -19 | F14: 1 | G14: =(B14*8.6)+(C14*8.6)+(D14*7.86) -> -163.4
A15: 43332 | B15: -25.5 | C15: 0 | D15: 0 | E15: =SUM(B15:D15) -> -25.5 | F15: 5 | G15: =(B15*8.6)+(C15*8.6)+(D15*7.86) -> -219.3
A16: 43333 | B16: -120.6 | C16: 0 | D16: -67.5 | E16: =SUM(B16:D16) -> -188.1 | F16: 7 | G16: =(B16*8.6)+(C16*8.6)+(D16*7.86) -> -1567.71
A17: 43334 | B17: 61.7 | C17: 25.8 | D17: 0 | E17: =SUM(B17:D17) -> 87.5 | F17: 9 | G17: =(B17*8.6)+(C17*8.6)+(D17*7.86) -> 752.5
... A24: 43343 | B24: 0 | C24: 0 | D24: 0 | E24: =SUM(B24:D24) -> 0 | F24: 0 | G24: =(B24*8.6)+(C24*8.6)+(D24*7.86) -> 0
A25: TOTAL | B25: =SUM(B2:B22) -> 1.1 | C25: =SUM(C2:C22) -> 186.4 | D25: =SUM(D2:D22) -> -37.8 | E25: =SUM(E2:E22) -> 149.7 | F25: =SUM(F2:F22) -> 81 | G25: =SUM(G2:G22) -> 1315.392
A26: TOTAL TRADES | B26: 47 | C26: 22 | D26: 12 | F26: =SUM(B26:D26) -> 81
A27: TOTAL MONTANT | B27: =(B25*8.6) -> 9.46 | C27: =(C25*8.6) -> 1603.04 | D27: =(D25*7.86) -> -297.108
A29: Scorpion / YRL CAPITAL | B29: EURUSD | C29: GBPUSD | D29: USDJPY | E29: TOTAL PIPS | F29: TRADES | G29: TOTAL MONTANT | H29: SLIPPAGE | I29: Commentaires
A30: 43313 | B30: 0 | C30: 0 | D30: -32.4 | E30: =SUM(B30:D30) -> -32.4 | F30: 3 | G30: =(B30*8.6)+(C30*8.6)+(D30*7.86) -> -254.664 | H30: =E30-E2 -> -3.7
A31: 43314 | B31: 9.3 | C31: 0 | D31: 0 | E31: =SUM(B31:D31) -> 9.3 | F31: 2 | G31: =(B31*8.6)+(C31*8.6)+(D31*7.86) -> 79.98 | H31: =E31-E3 -> -3.2
A32: 43315 | B32: 0 | C32: 97.3 | D32: 0 | E32: =SUM(B32:D32) -> 97.3 | F32: 5 | G32: =(B32*8.6)+(C32*8.6)+(D32*7.86) -> 836.78 | H32: =E32-E4 -> -8.5
A33: 43318 | B33: 20 | C33: 15.6 | D33: 0 | E33: =SUM(B33:D33) -> 35.6 | F33: 2 | G33: =(B33*8.6)+(C33*8.6)+(D33*7.86) -> 306.16 | H33: =E33-E5 -> 4.9
A34: 43319 | B34: 0 | C34: 1.5 | D34: 0 | E34: =SUM(B34:D34) -> 1.5 | F34: 2 | G34: =(B34*8.6)+(C34*8.6)+(D34*7.86) -> 12.9 | H34: =E34-E6 -> -3.3
A35: 43320 | B35: -50.4 | C35: -13.5 | D35: 0 | E35: =SUM(B35:D35) -> -63.9 | F35: 3 | G35: =(B35*8.6)+(C35*8.6)+(D35*7.86) -> -549.54 | H35: =E35-E7 -> -5.3
A36: 43321 | B36: -2.1 | C36: -121.5 | D36: 0 | E36: =SUM(B36:D36) -> -123.6 | F36: 5 | G36: =(B36*8.6)+(C36*8.6)+(D36*7.86) -> -1062.96 | H36: =E36-E8 -> -5.4
A37: 43322 | B37: 0 | C37: 37.7 | D37: 31.4 | E37: =SUM(B37:D37) -> 69.1 | F37: 2 | G37: =(B37*8.6)+(C37*8.6)+(D37*7.86) -> 571.024 | H37: =E37-E9 -> -3.5
A38: 43325 | B38: 103.7 | C38: 0 | D38: 70.1 | E38: =SUM(B38:D38) -> 173.8 | F38: 6 | G38: =(B38*8.6)+(C38*8.6)+(D38*7.86) -> 1442.806 | H38: =E38-E10 -> -10.6
A39: 43326 | B39: 3.9 | C39: 6.6 | D39: -16.6 | E39: =SUM(B39:D39) -> -6.1 | F39: 4 | G39: =(B39*8.6)+(C39*8.6)+(D39*7.86) -> -40.176 | H39: =E39-E11 -> -7.1
A40: 43327 | B40: 74.9 | C40: 39.1 | D40: 0 | E40: =SUM(B40:D40) -> 114 | F40: 12 | G40: =(B40*8.6)+(C40*8.6)+(D40*7.86) -> 980.4 | H40: =E40-E12 -> -22
A41: 43328 | B41: -27.6 | C41: 0 | D41: 9.5 | E41: =SUM(B41:D41) -> -18.1 | F41: 4 | G41: =(B41*8.6)+(C41*8.6)+(D41*7.86) -> -162.69 | H41: =E41-E13 -> -6.7
... A47: 43336 | B47: -34.2 | C47: 7.6 | D47: 24.1 | E47: =SUM(B47:D47) -> -2.5 | F47: 7 | G47: =(B47*8.6)+(C47*8.6)+(D47*7.86) -> -39.334 | H47: =E47-E19 -> -11.9
A48: 43339 | B48: 0 | C48: 0 | D48: 0 | E48: =SUM(B48:D48) -> 0 | G48: =(B48*8.6)+(C48*8.6)+(D48*7.86) -> 0 | H48: =E48-E20 -> 0
A49: 43340 | B49: 0 | C49: 0 | D49: 0 | E49: =SUM(B49:D49) -> 0 | G49: =(B49*8.6)+(C49*8.6)+(D49*7.86) -> 0 | H49: =E49-E21 -> 0
A50: 43341 | B50: 0 | C50: 0 | D50: 0 | E50: =SUM(B50:D50) -> 0 | G50: =(B50*8.6)+(C50*8.6)+(D50*7.86) -> 0 | H50: =E50-E22 -> 0
A51: 43342 | B51: 0 | C51: 0 | D51: 0 | E51: =SUM(B51:D51) -> 0 | G51: =(B51*8.6)+(C51*8.6)+(D51*7.86) -> 0 | H51: =E51-E23 -> 0
A52: 43343 | B52: 0 | C52: 0 | D52: 0 | E52: =SUM(B52:D52) -> 0 | G52: =(B52*8.6)+(C52*8.6)+(D52*7.86) -> 0 | H52: =E52-E24 -> 0
A53: TOTAL | B53: =SUM(B30:B50) -> -81.1 | C53: =SUM(C30:C50) -> 92.6 | D53: =SUM(D30:D50) -> 16.1 | E53: =SUM(E30:E52) -> 27.6 | F53: =SUM(F30:F50) -> 81 | G53: =SUM(G30:G50) -> 225.446 | H53: =SUM(H30:H51) -> -122.1
A54: TOTAL MONTANT | B54: =(B53*8.6) -> -697.46 | C54: =(C53*8.6) -> 796.36 | D54: =(D53*7.86) -> 126.546
A55: TOTAL TRADES | F55: =SUM(B55:D55) -> 0

Sheet I 
A1: I - YRL CAPITAL | B1: EURUSD | C1: GBPUSD | D1: USDJPY | E1: AUDUSD | F1: NZDUSD | G1: USDCAD | H1: USDCHF | I1: EURGBP | J1: EURJPY | K1: GBPJPY | L1: TOTAL PIPS | M1: TRADES | N1: TOTAL MONTANT
A2: 43313 | B2: 0 | C2: 0 | D2: 0 | E2: 0 | F2: 0 | G2: 0 | H2: 0 | I2: 0 | J2: 0 | K2: 0 | L2: =SUM(B2:K2) -> 0 | M2: 0 | N2: =(B2*8.6)+(C2*8.6)+(D2*7.86)+(E2*8.3)+(F2*8.4)+(G2*6.65)+(H2*8.45)+(I2*11.42)+(J2*7.8) -> 0
A3: 43314 | B3: 0 | C3: 0 | D3: 0 | E3: 0 | F3: 0 | G3: 0 | H3: 0 | I3: 0 | J3: 0 | K3: 0 | L3: =SUM(B3:K3) -> 0 | M3: 0 | N3: =(B3*8.6)+(C3*8.6)+(D3*7.86)+(E3*8.3)+(F3*8.4)+(G3*6.65)+(H3*8.45)+(I3*11.42)+(J3*7.8) -> 0
A4: 43315 | B4: 0 | C4: 0 | D4: 0 | E4: 0 | F4: 0 | G4: 0 | H4: 0 | I4: 0 | J4: 0 | K4: 0 | L4: =SUM(B4:K4) -> 0 | M4: 0 | N4: =(B4*8.6)+(C4*8.6)+(D4*7.86)+(E4*8.3)+(F4*8.4)+(G4*6.65)+(H4*8.45)+(I4*11.42)+(J4*7.8) -> 0
A5: 43318 | B5: 0 | C5: 0 | D5: 0 | E5: 0 | F5: 0 | G5: 0 | H5: 0 | I5: 0 | J5: 0 | K5: 0 | L5: =SUM(B5:K5) -> 0 | M5: 0 | N5: =(B5*8.6)+(C5*8.6)+(D5*7.86)+(E5*8.3)+(F5*8.4)+(G5*6.65)+(H5*8.45)+(I5*11.42)+(J5*7.8) -> 0
A6: 43319 | B6: 0 | C6: 0 | D6: 0 | E6: 0 | F6: 0 | G6: 0 | H6: 0 | I6: 0 | J6: 0 | K6: 0 | L6: =SUM(B6:K6) -> 0 | M6: 0 | N6: =(B6*8.6)+(C6*8.6)+(D6*7.86)+(E6*8.3)+(F6*8.4)+(G6*6.65)+(H6*8.45)+(I6*11.42)+(J6*7.8) -> 0
A7: 43320 | B7: 0 | C7: 0 | D7: 0 | E7: 0 | F7: 0 | G7: 0 | H7: 0 | I7: 0 | J7: 0 | K7: 0 | L7: =SUM(B7:K7) -> 0 | M7: 0 | N7: =(B7*8.6)+(C7*8.6)+(D7*7.86)+(E7*8.3)+(F7*8.4)+(G7*6.65)+(H7*8.45)+(I7*11.42)+(J7*7.8) -> 0
A8: 43321 | B8: 0 | C8: 0 | D8: 0 | E8: 0 | F8: 0 | G8: 0 | H8: 0 | I8: 0 | J8: 0 | K8: 0 | L8: =SUM(B8:K8) -> 0 | M8: 0 | N8: =(B8*8.6)+(C8*8.6)+(D8*7.86)+(E8*8.3)+(F8*8.4)+(G8*6.65)+(H8*8.45)+(I8*11.42)+(J8*7.8) -> 0
A9: 43322 | B9: 0 | C9: 0 | D9: 0 | E9: 0 | F9: 0 | G9: 0 | H9: 0 | I9: 0 | J9: 0 | K9: 0 | L9: =SUM(B9:K9) -> 0 | M9: 0 | N9: =(B9*8.6)+(C9*8.6)+(D9*7.86)+(E9*8.3)+(F9*8.4)+(G9*6.65)+(H9*8.45)+(I9*11.42)+(J9*7.8) -> 0
A10: 43325 | B10: 0 | C10: 0 | D10: 0 | E10: 0 | F10: 0 | G10: 0 | H10: 0 | I10: 0 | J10: 0 | K10: 0 | L10: =SUM(B10:K10) -> 0 | M10: 0 | N10: =(B10*8.6)+(C10*8.6)+(D10*7.86)+(E10*8.3)+(F10*8.4)+(G10*6.65)+(H10*8.45)+(I10*11.42)+(J10*7.8) -> 0
A11: 43326 | B11: 0 | C11: 0 | D11: 0 | E11: 0 | F11: 0 | G11: 0 | H11: 0 | I11: 0 | J11: 0 | K11: 0 | L11: =SUM(B11:K11) -> 0 | M11: 0 | N11: =(B11*8.6)+(C11*8.6)+(D11*7.86)+(E11*8.3)+(F11*8.4)+(G11*6.65)+(H11*8.45)+(I11*11.42)+(J11*7.8) -> 0
A12: 43327 | B12: 0 | C12: 0 | D12: 0 | E12: 0 | F12: 0 | G12: 0 | H12: 0 | I12: 0 | J12: 0 | K12: 0 | L12: =SUM(B12:K12) -> 0 | M12: 0 | N12: =(B12*8.6)+(C12*8.6)+(D12*7.86)+(E12*8.3)+(F12*8.4)+(G12*6.65)+(H12*8.45)+(I12*11.42)+(J12*7.8) -> 0
A13: 43328 | B13: 0 | C13: 0 | D13: 0 | E13: 0 | F13: 0 | G13: 0 | H13: 0 | I13: 0 | J13: 0 | K13: 0 | L13: =SUM(B13:K13) -> 0 | M13: 0 | N13: =(B13*8.6)+(C13*8.6)+(D13*7.86)+(E13*8.3)+(F13*8.4)+(G13*6.65)+(H13*8.45)+(I13*11.42)+(J13*7.8) -> 0
... A24: 43343 | B24: 0 | C24: 0 | D24: 0 | E24: 0 | F24: 0 | G24: 0 | H24: 0 | I24: 0 | J24: 0 | K24: 0 | L24: =SUM(B24:K24) -> 0 | M24: 0 | N24: =(B24*8.6)+(C24*8.6)+(D24*7.86)+(E24*8.3)+(F24*8.4)+(G24*6.65)+(H24*8.45)+(I24*11.42)+(J24*7.8) -> 0
A25: TOTAL | B25: =SUM(B2:B24) -> 0 | C25: =SUM(C2:C24) -> -95 | D25: =SUM(D2:D24) -> -71 | E25: =SUM(E2:E24) -> 0 | F25: =SUM(F2:F24) -> 0 | G25: =SUM(G2:G24) -> 0 | H25: =SUM(H2:H24) -> 0 | I25: =SUM(I2:I24) -> 15.8 | ... N25: =SUM(N2:N24) -> -1194.624
A26: TOTAL TRADES | B26: 0 | C26: 2 | D26: 2 | E26: 0 | F26: 0 | G26: 0 | H26: 0 | I26: 1 | J26: 0 | K26: 0 | M26: =SUM(B26:J26) -> 5
A27: TOTAL MONTANT | B27: =(B25*8.6) -> 0 | C27: =(C25*8.6) -> -817 | D27: =(D25*6) -> -426 | E27: =(E25*8.3) -> 0 | F27: =(F25*8.3) -> 0 | G27: =(G25*8.3) -> 0 | H27: =(H25*8.3) -> 0 | I27: =(I25*11.42) -> 180.436 | J27: =(J25*7.8) -> 0 | K27: =(K25*7.8) -> 0
