Workbook

Sheet TOTAL
A1: 43374
A2: TOTAL ACCOUNTS | B2: A | C2: B | D2: C | E2: D | F2: E | G2: F | H2: G | I2: H | J2: I | K2: TOTAL PIPS | L2: TRADES | M2: TOTAL MONTANT
A3: 43374 | B3: ='A '!D2 -> 0 | C3: =B!E2 -> 0 | D3: ='C'!G2 -> 0 | E3: =D!D2 -> 0 | F3: =E!D2 -> 0 | G3: =F!D2 -> 0 | H3: =G!F2 -> 0 | I3: =H!E2 -> 0 | J3: ='I '!M2 -> 0 | K3: =SUM(B3:J3) -> 0 | L3: ='A '!E2+B!F2+'C'!H2+D!E2+E!E2+F!E2+G!G2+H!F2 -> 0 | M3: ='A '!F2+B!G2+'C'!I2+D!F2+E!F2+F!F2+G!H2+H!G2 -> 0
A4: 43375 | B4: ='A '!D3 -> 0 | C4: =B!E3 -> 0 | D4: ='C'!G3 -> 0 | E4: =D!D3 -> 0 | F4: =E!D3 -> 0 | G4: =F!D3 -> 0 | H4: =G!F3 -> 0 | I4: =H!E3 -> 0 | J4: ='I '!M3 -> 0 | K4: =SUM(B4:J4) -> 0 | L4: ='A '!E3+B!F3+'C'!H3+D!E3+E!E3+F!E3+G!G3+H!F3 -> 0 | M4: ='A '!F3+B!G3+'C'!I3+D!F3+E!F3+F!F3+G!H3+H!G3 -> 0
A5: 43376 | B5: ='A '!D4 -> 0 | C5: =B!E4 -> 0 | D5: ='C'!G4 -> 0 | E5: =D!D4 -> 0 | F5: =E!D4 -> 0 | G5: =F!D4 -> 0 | H5: =G!F4 -> 0 | I5: =H!E4 -> 0 | J5: ='I '!M4 -> 0 | K5: =SUM(B5:J5) -> 0 | L5: ='A '!E4+B!F4+'C'!H4+D!E4+E!E4+F!E4+G!G4+H!F4 -> 0 | M5: ='A '!F4+B!G4+'C'!I4+D!F4+E!F4+F!F4+G!H4+H!G4 -> 0
A6: 43377 | B6: ='A '!D5 -> 0 | C6: =B!E5 -> 0 | D6: ='C'!G5 -> 0 | E6: =D!D5 -> 0 | F6: =E!D5 -> 0 | G6: =F!D5 -> 0 | H6: =G!F5 -> 0 | I6: =H!E5 -> 0 | J6: ='I '!M5 -> 0 | K6: =SUM(B6:J6) -> 0 | L6: ='A '!E5+B!F5+'C'!H5+D!E5+E!E5+F!E5+G!G5+H!F5 -> 0 | M6: ='A '!F5+B!G5+'C'!I5+D!F5+E!F5+F!F5+G!H5+H!G5 -> 0
A7: 43378 | B7: ='A '!D6 -> 0 | C7: =B!E6 -> 0 | D7: ='C'!G6 -> 0 | E7: =D!D6 -> 0 | F7: =E!D6 -> 0 | G7: =F!D6 -> 0 | H7: =G!F6 -> 0 | I7: =H!E6 -> 0 | J7: ='I '!M6 -> 0 | K7: =SUM(B7:J7) -> 0 | L7: ='A '!E6+B!F6+'C'!H6+D!E6+E!E6+F!E6+G!G6+H!F6 -> 0 | M7: ='A '!F6+B!G6+'C'!I6+D!F6+E!F6+F!F6+G!H6+H!G6 -> 0
A8: 43381 | B8: ='A '!D7 -> 0 | C8: =B!E7 -> 0 | D8: ='C'!G7 -> 0 | E8: =D!D7 -> 0 | F8: =E!D7 -> 0 | G8: =F!D7 -> 0 | H8: =G!F7 -> 0 | I8: =H!E7 -> 0 | J8: ='I '!M7 -> 0 | K8: =SUM(B8:J8) -> 0 | L8: ='A '!E7+B!F7+'C'!H7+D!E7+E!E7+F!E7+G!G7+H!F7 -> 0 | M8: ='A '!F7+B!G7+'C'!I7+D!F7+E!F7+F!F7+G!H7+H!G7 -> 0
A9: 43382 | B9: ='A '!D8 -> 0 | C9: =B!E8 -> 0 | D9: ='C'!G8 -> 0 | E9: =D!D8 -> 0 | F9: =E!D8 -> 0 | G9: =F!D8 -> 0 | H9: =G!F8 -> 0 | I9: =H!E8 -> 0 | J9: ='I '!M8 -> 0 | K9: =SUM(B9:J9) -> 0 | L9: ='A '!E8+B!F8+'C'!H8+D!E8+E!E8+F!E8+G!G8+H!F8 -> 0 | M9: ='A '!F8+B!G8+'C'!I8+D!F8+E!F8+F!F8+G!H8+H!G8 -> 0
A10: 43383 | B10: ='A '!D9 -> 0 | C10: =B!E9 -> 0 | D10: ='C'!G9 -> 0 | E10: =D!D9 -> 1.4 | F10: =E!D9 -> 0 | G10: =F!D9 -> 0 | H10: =G!F9 -> 0 | I10: =H!E9 -> 0 | J10: ='I '!M9 -> 0 | K10: =SUM(B10:J10) -> 1.4 | L10: ='A '!E9+B!F9+'C'!H9+D!E9+E!E9+F!E9+G!G9+H!F9 -> 4 | M10: ='A '!F9+B!G9+'C'!I9+D!F9+E!F9+F!F9+G!H9+H!G9 -> 5.632
A11: 43384 | B11: ='A '!D10 -> 0 | C11: =B!E10 -> 0 | D11: ='C'!G10 -> 0 | E11: =D!D10 -> 0 | F11: =E!D10 -> 0 | G11: =F!D10 -> 0 | H11: =G!F10 -> 0 | I11: =H!E10 -> 0 | J11: ='I '!M10 -> 0 | K11: =SUM(B11:J11) -> 0 | L11: ='A '!E10+B!F10+'C'!H10+D!E10+E!E10+F!E10+G!G10+H!F10 -> 0 | M11: ='A '!F10+B!G10+'C'!I10+D!F10+E!F10+F!F10+G!H10+H!G10 -> 0
A12: 43385 | B12: ='A '!D11 -> 0 | C12: =B!E11 -> 0 | D12: ='C'!G11 -> 0 | E12: =D!D11 -> 0 | F12: =E!D11 -> 0 | G12: =F!D11 -> 0 | H12: =G!F11 -> 0 | I12: =H!E11 -> 0 | J12: ='I '!M11 -> 0 | K12: =SUM(B12:J12) -> 0 | L12: ='A '!E11+B!F11+'C'!H11+D!E11+E!E11+F!E11+G!G11+H!F11 -> 0 | M12: ='A '!F11+B!G11+'C'!I11+D!F11+E!F11+F!F11+G!H11+H!G11 -> 0
A13: 43388 | B13: ='A '!D12 -> 0 | C13: =B!E12 -> 0 | D13: ='C'!G12 -> 0 | E13: =D!D12 -> 0 | F13: =E!D12 -> 0 | G13: =F!D12 -> 0 | H13: =G!F12 -> 0 | I13: =H!E12 -> 0 | J13: ='I '!M12 -> 0 | K13: =SUM(B13:J13) -> 0 | L13: ='A '!E12+B!F12+'C'!H12+D!E12+E!E12+F!E12+G!G12+H!F12 -> 0 | M13: ='A '!F12+B!G12+'C'!I12+D!F12+E!F12+F!F12+G!H12+H!G12 -> 0
A14: 43389 | B14: ='A '!D13 -> 0 | C14: =B!E13 -> 0 | D14: ='C'!G13 -> 0 | E14: =D!D13 -> 0 | F14: =E!D13 -> 0 | G14: =F!D13 -> 0 | H14: =G!F13 -> 0 | I14: =H!E13 -> 0 | J14: ='I '!M13 -> 0 | K14: =SUM(B14:J14) -> 0 | L14: ='A '!E13+B!F13+'C'!H13+D!E13+E!E13+F!E13+G!G13+H!F13 -> 0 | M14: ='A '!F13+B!G13+'C'!I13+D!F13+E!F13+F!F13+G!H13+H!G13 -> 0
... A17: 43392 | B17: ='A '!D16 -> 0 | C17: =B!E16 -> 0 | D17: ='C'!G16 -> 0 | E17: =D!D16 -> 0 | F17: =E!D16 -> 0 | G17: =F!D16 -> 0 | H17: =G!F16 -> 0 | I17: =H!E16 -> 0 | J17: ='I '!M16 -> 0 | K17: =SUM(B17:J17) -> 0 | L17: ='A '!E16+B!F16+'C'!H16+D!E16+E!E16+F!E16+G!G16+H!F16 -> 0 | M17: ='A '!F16+B!G16+'C'!I16+D!F16+E!F16+F!F16+G!H16+H!G16 -> 0
A18: 43395 | B18: ='A '!D17 -> 0 | C18: =B!E17 -> 0 | D18: ='C'!G17 -> 0 | E18: =D!D17 -> 0 | F18: =E!D17 -> 0 | G18: =F!D17 -> 0 | H18: =G!F17 -> 0 | I18: =H!E17 -> 0 | J18: ='I '!M17 -> 0 | K18: =SUM(B18:J18) -> 0 | L18: ='A '!E17+B!F17+'C'!H17+D!E17+E!E17+F!E17+G!G17+H!F17 -> 0 | M18: ='A '!F17+B!G17+'C'!I17+D!F17+E!F17+F!F17+G!H17+H!G17+'I '!O25 -> 0
A19: 43396 | B19: ='A '!D18 -> 0 | C19: =B!E18 -> 0 | D19: ='C'!G18 -> 0 | E19: =D!D18 -> 0 | F19: =E!D18 -> 0 | G19: =F!D18 -> 0 | H19: =G!F18 -> 0 | I19: =H!E18 -> 0 | J19: ='I '!M18 -> 0 | K19: =SUM(B19:J19) -> 0 | L19: ='A '!E18+B!F18+'C'!H18+D!E18+E!E18+F!E18+G!G18+H!F18 -> 0 | M19: ='A '!F18+B!G18+'C'!I18+D!F18+E!F18+F!F18+G!H18+H!G18 -> 0
A20: 43397 | B20: ='A '!D19 -> 0 | C20: =B!E19 -> 0 | D20: ='C'!G19 -> 0 | E20: =D!D19 -> 0 | F20: =E!D19 -> 0 | G20: =F!D19 -> 0 | H20: =G!F19 -> 0 | I20: =H!E19 -> 0 | J20: ='I '!M19 -> 0 | K20: =SUM(B20:J20) -> 0 | L20: ='A '!E19+B!F19+'C'!H19+D!E19+E!E19+F!E19+G!G19+H!F19 -> 0 | M20: ='A '!F19+B!G19+'C'!I19+D!F19+E!F19+F!F19+G!H19+H!G19 -> 0
A21: 43398 | B21: ='A '!D20 -> 0 | C21: =B!E20 -> 0 | D21: ='C'!G20 -> 0 | E21: =D!D20 -> 0 | F21: =E!D20 -> 0 | G21: =F!D20 -> 0 | H21: =G!F20 -> 0 | I21: =H!E20 -> 0 | J21: ='I '!M20 -> 0 | K21: =SUM(B21:J21) -> 0 | L21: ='A '!E20+B!F20+'C'!H20+D!E20+E!E20+F!E20+G!G20+H!F20 -> 0 | M21: ='A '!F20+B!G20+'C'!I20+D!F20+E!F20+F!F20+G!H20+H!G20 -> 0
A22: 43399 | B22: ='A '!D21 -> 0 | C22: =B!E21 -> 0 | D22: ='C'!G21 -> 0 | E22: =D!D21 -> 0 | F22: =E!D21 -> 0 | G22: =F!D21 -> 0 | H22: =G!F21 -> 0 | I22: =H!E21 -> 0 | J22: ='I '!M21 -> 0 | K22: =SUM(B22:J22) -> 0 | L22: ='A '!E21+B!F21+'C'!H21+D!E21+E!E21+F!E21+G!G21+H!F21 -> 0 | M22: ='A '!F21+B!G21+'C'!I21+D!F21+E!F21+F!F21+G!H21+H!G21 -> 0
A23: 43402 | B23: ='A '!D22 -> 0 | C23: =B!E22 -> 0 | D23: ='C'!G22 -> 0 | E23: =D!D22 -> 0 | F23: =E!D22 -> 0 | G23: =F!D22 -> 0 | H23: =G!F22 -> 0 | I23: =H!E22 -> 0 | J23: ='I '!M22 -> 0 | K23: =SUM(B23:J23) -> 0 | L23: ='A '!E22+B!F22+'C'!H22+D!E22+E!E22+F!E22+G!G22+H!F22 -> 0 | M23: ='A '!F22+B!G22+'C'!I22+D!F22+E!F22+F!F22+G!H22+H!G22 -> 0
A24: 43403 | B24: ='A '!D23 -> 0 | C24: =B!E23 -> 0 | D24: ='C'!G23 -> 0 | E24: =D!D23 -> 0 | F24: =E!D23 -> 0 | G24: =F!D23 -> 0 | H24: =G!F23 -> 0 | I24: =H!E23 -> 0 | J24: ='I '!M23 -> 0 | K24: =SUM(B24:J24) -> 0 | L24: ='A '!E23+B!F23+'C'!H23+D!E23+E!E23+F!E23+G!G23+H!F23 -> 0 | M24: ='A '!F23+B!G23+'C'!I23+D!F23+E!F23+F!F23+G!H23+H!G23 -> 0
A25: 43404 | B25: ='A '!D24 -> 0 | C25: =B!E24 -> 0 | D25: ='C'!G24 -> 0 | E25: =D!D24 -> 0 | F25: =E!D24 -> 0 | G25: =F!D24 -> 0 | H25: =G!F24 -> 0 | I25: =H!E24 -> 0 | J25: ='I '!M24 -> 0 | K25: =SUM(B25:J25) -> 0 | L25: ='A '!E24+B!F24+'C'!H24+D!E24+E!E24+F!E24+G!G24+H!F24 -> 0 | M25: ='A '!F24+B!G24+'C'!I24+D!F24+E!F24+F!F24+G!H24+H!G24 -> 0
A26: TOTAL | B26: =SUM(B3:B25) -> 0 | C26: =SUM(C3:C25) -> 0 | D26: =SUM(D3:D25) -> 0 | E26: =SUM(E3:E25) -> 1.4 | F26: =SUM(F3:F25) -> 0 | G26: =SUM(G3:G25) -> 0 | H26: =SUM(H3:H25) -> 0 | I26: =SUM(I3:I25) -> 0 | J26: ='I '!M25 -> 0 | K26: =SUM(B26:J26) -> 1.4 | L26: =SUM(L3:L25) -> 4
A27: TOTAL TRADES | B27: ='A '!E25 -> 0 | C27: =B!F25 -> 0 | D27: ='C'!H25 -> 0 | E27: =D!E25 -> 4 | F27: =E!E25 -> 0 | G27: =F!E25 -> 0 | H27: =G!G25 -> 0 | I27: =H!F25 -> 0 | J27: ='I '!N25 -> 0 | L27: =SUM(B27:J27) -> 4
A28: TOTAL MONTANT | B28: ='A '!F25 -> 0 | E28: =D!F25 -> 5.632 | F28: =E!F25 -> 0 | G28: =F!F25 -> 0 | H28: =G!H25 -> 0 | I28: =H!G25 -> 0 | J28: ='I '!O25 -> 0 | K28: =SUM(B28:J28) -> 5.632 | M28: =SUM(M3:M25) -> 5.632
A30: YRL_CAPITAL / SC GAM
A31: TOTAL ACCOUNTS | B31: A | C31: B | D31: C | E31: D | F31: E | G31: F | H31: G | I31: H | J31: TOTAL PIPS | K31: TOTAL MONTANT | L31: TRADES | M31: SLIPAGE ICM
A32: 43374 | B32: ='A '!D30 -> 0 | C32: =B!E30 -> 0 | D32: ='C'!G30 -> 0 | E32: =D!D61 -> 0 | F32: =E!D30 -> 0 | G32: =F!D30 -> 0 | H32: =G!F30 -> 0 | I32: =H!E30 -> 0 | J32: =SUM(B32:I32) -> 0 | K32: ='YRL CAPITAL_ICM'!J31+'SC GAM_ICM'!F31 -> 0 | L32: ='YRL CAPITAL_ICM'!K31+'SC GAM_ICM'!G31 -> 1 | M32: =J32-K3 -> 0
A33: 43375 | B33: ='A '!D31 -> 0 | C33: =B!E31 -> 0 | D33: ='C'!G31 -> 0 | E33: =D!D62 -> 0 | F33: =E!D31 -> 0 | G33: =F!D31 -> 0 | H33: =G!F31 -> 0 | I33: =H!E31 -> 0 | J33: =SUM(B33:I33) -> 0 | K33: ='YRL CAPITAL_ICM'!J32+'SC GAM_ICM'!F32 -> 0 | L33: ='YRL CAPITAL_ICM'!K32+'SC GAM_ICM'!G32 -> 0 | M33: =J33-K4 -> 0
A34: 43376 | B34: ='A '!D32 -> 0 | C34: =B!E32 -> 0 | D34: ='C'!G32 -> 0 | E34: =D!D63 -> 0 | F34: =E!D32 -> 0 | G34: =F!D32 -> 0 | H34: =G!F32 -> 0 | I34: =H!E32 -> 0 | J34: =SUM(B34:I34) -> 0 | K34: ='YRL CAPITAL_ICM'!J33+'SC GAM_ICM'!F33 -> 0 | L34: ='YRL CAPITAL_ICM'!K33+'SC GAM_ICM'!G33 -> 0 | M34: =J34-K5 -> 0
A35: 43377 | B35: ='A '!D33 -> 0 | C35: =B!E33 -> 0 | D35: ='C'!G33 -> 0 | E35: =D!D64 -> 0 | F35: =E!D33 -> 0 | G35: =F!D33 -> 0 | H35: =G!F33 -> 0 | I35: =H!E33 -> 0 | J35: =SUM(B35:I35) -> 0 | K35: ='YRL CAPITAL_ICM'!J34+'SC GAM_ICM'!F34 -> 0 | L35: ='YRL CAPITAL_ICM'!K34+'SC GAM_ICM'!G34 -> 0 | M35: =J35-K6 -> 0
A36: 43378 | B36: ='A '!D34 -> 0 | C36: =B!E34 -> 0 | D36: ='C'!G34 -> 0 | E36: =D!D65 -> 0 | F36: =E!D34 -> 0 | G36: =F!D34 -> 0 | H36: =G!F34 -> 0 | I36: =H!E34 -> 0 | J36: =SUM(B36:I36) -> 0 | K36: ='YRL CAPITAL_ICM'!J35+'SC GAM_ICM'!F35 -> 0 | L36: ='YRL CAPITAL_ICM'!K35+'SC GAM_ICM'!G35 -> 0 | M36: =J36-K7 -> 0
A37: 43381 | B37: ='A '!D35 -> 0 | C37: =B!E35 -> 0 | D37: ='C'!G35 -> 0 | E37: =D!D66 -> 0 | F37: =E!D35 -> 0 | G37: =F!D35 -> 0 | H37: =G!F35 -> 0 | I37: =H!E35 -> 0 | J37: =SUM(B37:I37) -> 0 | K37: ='YRL CAPITAL_ICM'!J36+'SC GAM_ICM'!F36 -> 0 | L37: ='YRL CAPITAL_ICM'!K36+'SC GAM_ICM'!G36 -> 0 | M37: =J37-K8 -> 0
A38: 43382 | B38: ='A '!D36 -> 0 | C38: =B!E36 -> 0 | D38: ='C'!G36 -> 0 | E38: =D!D67 -> 0 | F38: =E!D36 -> 0 | G38: =F!D36 -> 0 | H38: =G!F36 -> 0 | I38: =H!E36 -> 0 | J38: =SUM(B38:I38) -> 0 | K38: ='YRL CAPITAL_ICM'!J37+'SC GAM_ICM'!F37 -> 0 | L38: ='YRL CAPITAL_ICM'!K37+'SC GAM_ICM'!G37 -> 0 | M38: =J38-K9 -> 0
A39: 43383 | B39: ='A '!D37 -> 0 | C39: =B!E37 -> 0 | D39: ='C'!G37 -> 0 | E39: =D!D68 -> 0 | F39: =E!D37 -> 0 | G39: =F!D37 -> 0 | H39: =G!F37 -> 0 | I39: =H!E37 -> 0 | J39: =SUM(B39:I39) -> 0 | K39: ='YRL CAPITAL_ICM'!J38+'SC GAM_ICM'!F38 -> 0 | L39: ='YRL CAPITAL_ICM'!K38+'SC GAM_ICM'!G38 -> 2 | M39: =J39-K10 -> -1.4
A40: 43384 | B40: ='A '!D38 -> 0 | C40: =B!E38 -> 0 | D40: ='C'!G38 -> 0 | E40: =D!D69 -> 0 | F40: =E!D38 -> 0 | G40: =F!D38 -> 0 | H40: =G!F38 -> 0 | I40: =H!E38 -> 0 | J40: =SUM(B40:I40) -> 0 | K40: ='YRL CAPITAL_ICM'!J39+'SC GAM_ICM'!F39 -> 0 | L40: ='YRL CAPITAL_ICM'!K39+'SC GAM_ICM'!G39 -> 0 | M40: =J40-K11 -> 0
A41: 43385 | B41: ='A '!D39 -> 0 | C41: =B!E39 -> 0 | D41: ='C'!G39 -> 0 | E41: =D!D70 -> 0 | F41: =E!D39 -> 0 | G41: =F!D39 -> 0 | H41: =G!F39 -> 0 | I41: =H!E39 -> 0 | J41: =SUM(B41:I41) -> 0 | K41: ='YRL CAPITAL_ICM'!J40+'SC GAM_ICM'!F40 -> 0 | L41: ='YRL CAPITAL_ICM'!K40+'SC GAM_ICM'!G40 -> 0 | M41: =J41-K12 -> 0
A42: 43388 | B42: ='A '!D40 -> 0 | C42: =B!E40 -> 0 | D42: ='C'!G40 -> 0 | E42: =D!D71 -> 0 | F42: =E!D40 -> 0 | G42: =F!D40 -> 0 | H42: =G!F40 -> 0 | I42: =H!E40 -> 0 | J42: =SUM(B42:I42) -> 0 | K42: ='YRL CAPITAL_ICM'!J41+'SC GAM_ICM'!F41 -> 0 | L42: ='YRL CAPITAL_ICM'!K41+'SC GAM_ICM'!G41 -> 2 | M42: =J42-K13 -> 0
A43: 43389 | B43: ='A '!D41 -> 0 | C43: =B!E41 -> 0 | D43: ='C'!G41 -> 0 | E43: =D!D72 -> 0 | F43: =E!D41 -> 0 | G43: =F!D41 -> 0 | H43: =G!F41 -> 0 | I43: =H!E41 -> 0 | J43: =SUM(B43:I43) -> 0 | K43: ='YRL CAPITAL_ICM'!J42+'SC GAM_ICM'!F42 -> 0 | L43: ='YRL CAPITAL_ICM'!K42+'SC GAM_ICM'!G42 -> 0 | M43: =J43-K14 -> 0
...

Sheet YRL CAPITAL_ICM
A1: YRL CAPITAL_ICM | B1: EURUSD | C1: GBPUSD | D1: USDJPY | E1: AUDUSD | F1: EURAUD | G1: USDCAD | H1: GBPJPY | I1: EURGBP | J1: GBPCAD | K1: TOTAL MONTANT | L1: TOTAL PIPS | M1: TRADES
A2: 43374 | K2: =(B2*8.6)+(C2*8.6)+(D2*7.86)+(E2*8.55)+(F2*6)+(G2*6.47)+(H2*7.8)+(I2*11.42)+(J2*6.49) -> 0 | L2: =SUM(B2:J2) -> 0
A3: 43375 | K3: =(B3*8.6)+(C3*8.6)+(D3*7.86)+(E3*8.55)+(F3*6)+(G3*6.47)+(H3*7.8)+(I3*11.42)+(J3*6.49) -> 0 | L3: =SUM(B3:J3) -> 0
A4: 43376 | K4: =(B4*8.6)+(C4*8.6)+(D4*7.86)+(E4*8.55)+(F4*6)+(G4*6.47)+(H4*7.8)+(I4*11.42)+(J4*6.49) -> 0 | L4: =SUM(B4:J4) -> 0
A5: 43377 | K5: =(B5*8.6)+(C5*8.6)+(D5*7.86)+(E5*8.55)+(F5*6)+(G5*6.47)+(H5*7.8)+(I5*11.42)+(J5*6.49) -> 0 | L5: =SUM(B5:J5) -> 0
A6: 43378 | K6: =(B6*8.6)+(C6*8.6)+(D6*7.86)+(E6*8.55)+(F6*6)+(G6*6.47)+(H6*7.8)+(I6*11.42)+(J6*6.49) -> 0 | L6: =SUM(B6:J6) -> 0
A7: 43381 | K7: =(B7*8.6)+(C7*8.6)+(D7*7.86)+(E7*8.55)+(F7*6)+(G7*6.47)+(H7*7.8)+(I7*11.42)+(J7*6.49) -> 0 | L7: =SUM(B7:J7) -> 0
A8: 43382 | K8: =(B8*8.6)+(C8*8.6)+(D8*7.86)+(E8*8.55)+(F8*6)+(G8*6.47)+(H8*7.8)+(I8*11.42)+(J8*6.49) -> 0 | L8: =SUM(B8:J8) -> 0
A9: 43383 | K9: =(B9*8.6)+(C9*8.6)+(D9*7.86)+(E9*8.55)+(F9*6)+(G9*6.47)+(H9*7.8)+(I9*11.42)+(J9*6.49) -> 0 | L9: =SUM(B9:J9) -> 0
A10: 43384 | K10: =(B10*8.6)+(C10*8.6)+(D10*7.86)+(E10*8.55)+(F10*6)+(G10*6.47)+(H10*7.8)+(I10*11.42)+(J10*6.49) -> 0 | L10: =SUM(B10:J10) -> 0
A11: 43385 | K11: =(B11*8.6)+(C11*8.6)+(D11*7.86)+(E11*8.55)+(F11*6)+(G11*6.47)+(H11*7.8)+(I11*11.42)+(J11*6.49) -> 0 | L11: =SUM(B11:J11) -> 0
A12: 43388 | K12: =(B12*8.6)+(C12*8.6)+(D12*7.86)+(E12*8.55)+(F12*6)+(G12*6.47)+(H12*7.8)+(I12*11.42)+(J12*6.49) -> 0 | L12: =SUM(B12:J12) -> 0
A13: 43389 | K13: =(B13*8.6)+(C13*8.6)+(D13*7.86)+(E13*8.55)+(F13*6)+(G13*6.47)+(H13*7.8)+(I13*11.42)+(J13*6.49) -> 0 | L13: =SUM(B13:J13) -> 0
... A24: 43404 | K24: =(B24*8.6)+(C24*8.6)+(D24*7.86)+(E24*8.55)+(F24*6)+(G24*6.47)+(H24*7.8)+(I24*11.42)+(J24*6.49) -> 0 | L24: =SUM(B24:J24) -> 0
A25: TOTAL PIPS | B25: =SUM(B2:B22) -> 0 | C25: =SUM(C2:C22) -> 0 | D25: =SUM(D2:D22) -> 0 | E25: =SUM(E2:E22) -> 0 | F25: =SUM(F2:F22) -> 0 | G25: =SUM(G2:G22) -> 0 | H25: =SUM(H2:H22) -> 0 | I25: =SUM(I2:I22) -> 0 | ... K25: =SUM(K2:K22) -> 0 | L25: =SUM(L2:L23) -> 0 | M25: =SUM(M2:M22) -> 0
A26: TOTAL MONTANT | B26: =(B25*8.6) -> 0 | C26: =(C25*8.6) -> 0 | D26: =(D25*7.86) -> 0 | E26: =(E25*8.55) -> 0 | F26: =(F25*6) -> 0 | G26: =(G25*6.47) -> 0 | H26: =(H25*7.8) -> 0 | I26: =(I25*11.42) -> 0 | J26: =(J25*6.49) -> 0 | K26: =SUM(B26:J26) -> 0
A27: TOTAL TRADES
A29: YRL_CAPITAL
A30: TOTAL ACCOUNTS | B30: A - PM Swing Trading | C30: B - SLINGSHOT | D30: D - Strive | E30: E - Pepperstone | F30: G - Atlas | G30: H - Scorpion | H30: I - NightProfit | I30: TOTAL PIPS | J30: TOTAL MONTANT | K30: TRADES | L30: SLIPAGE
A31: 43374 | B31: ='A '!D30 -> 0 | C31: =B!E30 -> 0 | D31: =D!D61 -> 0 | E31: =E!D30 -> 0 | F31: =G!F30 -> 0 | G31: =H!E30 -> 0 | I31: =SUM(B31:H31) -> 0 | J31: ='A '!F30+B!G30+D!F61+E!F30+G!H30+H!G30 -> 0 | K31: ='A '!E30+B!F30+D!E61+E!E30+G!G30+H!F30 -> 1 | L31: ='A '!G30+B!H30+D!G61+E!G30+G!I30+H!H30 -> 0
A32: 43375 | B32: ='A '!D31 -> 0 | C32: =B!E31 -> 0 | D32: =D!D62 -> 0 | E32: =E!D31 -> 0 | F32: =G!F31 -> 0 | G32: =H!E31 -> 0 | I32: =SUM(B32:H32) -> 0 | J32: ='A '!F31+B!G31+D!F62+E!F31+G!H31+H!G31 -> 0 | K32: ='A '!E31+B!F31+D!E62+E!E31+G!G31+H!F31 -> 0 | L32: ='A '!G31+B!H31+D!G62+E!G31+G!I31+H!H31 -> 0
A33: 43376 | B33: ='A '!D32 -> 0 | C33: =B!E32 -> 0 | D33: =D!D63 -> 0 | E33: =E!D32 -> 0 | F33: =G!F32 -> 0 | G33: =H!E32 -> 0 | I33: =SUM(B33:H33) -> 0 | J33: ='A '!F32+B!G32+D!F63+E!F32+G!H32+H!G32 -> 0 | K33: ='A '!E32+B!F32+D!E63+E!E32+G!G32+H!F32 -> 0 | L33: ='A '!G32+B!H32+D!G63+E!G32+G!I32+H!H32 -> 0
A34: 43377 | B34: ='A '!D33 -> 0 | C34: =B!E33 -> 0 | D34: =D!D64 -> 0 | E34: =E!D33 -> 0 | F34: =G!F33 -> 0 | G34: =H!E33 -> 0 | I34: =SUM(B34:H34) -> 0 | J34: ='A '!F33+B!G33+D!F64+E!F33+G!H33+H!G33 -> 0 | K34: ='A '!E33+B!F33+D!E64+E!E33+G!G33+H!F33 -> 0 | L34: ='A '!G33+B!H33+D!G64+E!G33+G!I33+H!H33 -> 0
A35: 43378 | B35: ='A '!D34 -> 0 | C35: =B!E34 -> 0 | D35: =D!D65 -> 0 | E35: =E!D34 -> 0 | F35: =G!F34 -> 0 | G35: =H!E34 -> 0 | I35: =SUM(B35:H35) -> 0 | J35: ='A '!F34+B!G34+D!F65+E!F34+G!H34+H!G34 -> 0 | K35: ='A '!E34+B!F34+D!E65+E!E34+G!G34+H!F34 -> 0 | L35: ='A '!G34+B!H34+D!G65+E!G34+G!I34+H!H34 -> 0
A36: 43381 | B36: ='A '!D35 -> 0 | C36: =B!E35 -> 0 | D36: =D!D66 -> 0 | E36: =E!D35 -> 0 | F36: =G!F35 -> 0 | G36: =H!E35 -> 0 | I36: =SUM(B36:H36) -> 0 | J36: ='A '!F35+B!G35+D!F66+E!F35+G!H35+H!G35 -> 0 | K36: ='A '!E35+B!F35+D!E66+E!E35+G!G35+H!F35 -> 0 | L36: ='A '!G35+B!H35+D!G66+E!G35+G!I35+H!H35 -> 0
A37: 43382 | B37: ='A '!D36 -> 0 | C37: =B!E36 -> 0 | D37: =D!D67 -> 0 | E37: =E!D36 -> 0 | F37: =G!F36 -> 0 | G37: =H!E36 -> 0 | I37: =SUM(B37:H37) -> 0 | J37: ='A '!F36+B!G36+D!F67+E!F36+G!H36+H!G36 -> 0 | K37: ='A '!E36+B!F36+D!E67+E!E36+G!G36+H!F36 -> 0 | L37: ='A '!G36+B!H36+D!G67+E!G36+G!I36+H!H36 -> 0
A38: 43383 | B38: ='A '!D37 -> 0 | C38: =B!E37 -> 0 | D38: =D!D68 -> 0 | E38: =E!D37 -> 0 | F38: =G!F37 -> 0 | G38: =H!E37 -> 0 | I38: =SUM(B38:H38) -> 0 | J38: ='A '!F37+B!G37+D!F68+E!F37+G!H37+H!G37 -> 0 | K38: ='A '!E37+B!F37+D!E68+E!E37+G!G37+H!F37 -> 2 | L38: ='A '!G37+B!H37+D!G68+E!G37+G!I37+H!H37 -> -1.4
A39: 43384 | B39: ='A '!D38 -> 0 | C39: =B!E38 -> 0 | D39: =D!D69 -> 0 | E39: =E!D38 -> 0 | F39: =G!F38 -> 0 | G39: =H!E38 -> 0 | I39: =SUM(B39:H39) -> 0 | J39: ='A '!F38+B!G38+D!F69+E!F38+G!H38+H!G38 -> 0 | K39: ='A '!E38+B!F38+D!E69+E!E38+G!G38+H!F38 -> 0 | L39: ='A '!G38+B!H38+D!G69+E!G38+G!I38+H!H38 -> 0
A40: 43385 | B40: ='A '!D39 -> 0 | C40: =B!E39 -> 0 | D40: =D!D70 -> 0 | E40: =E!D39 -> 0 | F40: =G!F39 -> 0 | G40: =H!E39 -> 0 | I40: =SUM(B40:H40) -> 0 | J40: ='A '!F39+B!G39+D!F70+E!F39+G!H39+H!G39 -> 0 | K40: ='A '!E39+B!F39+D!E70+E!E39+G!G39+H!F39 -> 0 | L40: ='A '!G39+B!H39+D!G70+E!G39+G!I39+H!H39 -> 0
A41: 43388 | B41: ='A '!D40 -> 0 | C41: =B!E40 -> 0 | D41: =D!D71 -> 0 | E41: =E!D40 -> 0 | F41: =G!F40 -> 0 | G41: =H!E40 -> 0 | I41: =SUM(B41:H41) -> 0 | J41: ='A '!F40+B!G40+D!F71+E!F40+G!H40+H!G40 -> 0 | K41: ='A '!E40+B!F40+D!E71+E!E40+G!G40+H!F40 -> 2 | L41: ='A '!G40+B!H40+D!G71+E!G40+G!I40+H!H40 -> 0
A42: 43389 | B42: ='A '!D41 -> 0 | C42: =B!E41 -> 0 | D42: =D!D72 -> 0 | E42: =E!D41 -> 0 | F42: =G!F41 -> 0 | G42: =H!E41 -> 0 | I42: =SUM(B42:H42) -> 0 | J42: ='A '!F41+B!G41+D!F72+E!F41+G!H41+H!G41 -> 0 | K42: ='A '!E41+B!F41+D!E72+E!E41+G!G41+H!F41 -> 0 | L42: ='A '!G41+B!H41+D!G72+E!G41+G!I41+H!H41 -> 0
... A52: 43403 | B52: ='A '!D51 -> 0 | C52: =B!E51 -> 0 | D52: =D!D82 -> 0 | E52: =E!D51 -> 0 | F52: =G!F51 -> 0 | G52: =H!E51 -> 0 | I52: =SUM(B52:H52) -> 0 | J52: ='A '!F51+B!G51+D!F82+E!F51+G!H51+H!G51 -> 0 | K52: ='A '!E51+B!F51+D!E82+E!E51+G!G51+H!F51 -> 0 | L52: ='A '!G51+B!H51+D!G82+E!G51+G!I51+H!H51 -> 0
A53: 43404 | B53: ='A '!D52 -> 0 | C53: =B!E53 -> 0 | D53: =D!D83 -> 0 | E53: =E!D52 -> 0 | F53: =G!F52 -> 0 | G53: =H!E52 -> 0 | I53: =SUM(B53:H53) -> 0 | J53: ='A '!F52+B!G53+D!F83+E!F52+G!H52+H!G52 -> 0 | K53: ='A '!E52+B!F53+D!E83+E!E52+G!G52+H!F52 -> 5 | L53: ='A '!G52+B!H53+D!G83+E!G52+G!I52+H!H52 -> 0
A54: TOTAL | B54: =SUM(B31:B51) -> 0 | C54: =SUM(C31:C51) -> 0 | D54: =SUM(D31:D51) -> 0 | E54: =SUM(E31:E51) -> 0 | F54: =SUM(F31:F51) -> 0 | G54: =SUM(G31:G51) -> 0 | H54: =SUM(H31:H51) -> 0 | I54: =SUM(I31:I51) -> 0 | J54: =SUM(J31:J52) -> 0 | K54: =SUM(K31:K52) -> 12 | L54: =SUM(L31:L52) -> -1.4
A55: TOTAL TRADES | K55: =SUM(B55:G55) -> 0

Sheet SC GAM_ICM
A1: SC GAM_ICM | B1: EURUSD | C1: GBPUSD | D1: EURAUD | E1: GBPJPY | F1: EURGBP | G1: TOTAL MONTANT | H1: TOTAL PIPS | I1: TRADES
A2: 43374 | G2: =(B2*8.6)+(C2*8.6)+(D2*6)+(E2*7.8)+(F2*11.42) -> 0 | H2: =SUM(B2:F2) -> 0
A3: 43375 | G3: =(B3*8.6)+(C3*8.6)+(D3*6)+(E3*7.8)+(F3*11.42) -> 0 | H3: =SUM(B3:F3) -> 0
A4: 43376 | G4: =(B4*8.6)+(C4*8.6)+(D4*6)+(E4*7.8)+(F4*11.42) -> 0 | H4: =SUM(B4:F4) -> 0
A5: 43377 | G5: =(B5*8.6)+(C5*8.6)+(D5*6)+(E5*7.8)+(F5*11.42) -> 0 | H5: =SUM(B5:F5) -> 0
A6: 43378 | G6: =(B6*8.6)+(C6*8.6)+(D6*6)+(E6*7.8)+(F6*11.42) -> 0 | H6: =SUM(B6:F6) -> 0
A7: 43381 | G7: =(B7*8.6)+(C7*8.6)+(D7*6)+(E7*7.8)+(F7*11.42) -> 0 | H7: =SUM(B7:F7) -> 0
A8: 43382 | G8: =(B8*8.6)+(C8*8.6)+(D8*6)+(E8*7.8)+(F8*11.42) -> 0 | H8: =SUM(B8:F8) -> 0
A9: 43383 | G9: =(B9*8.6)+(C9*8.6)+(D9*6)+(E9*7.8)+(F9*11.42) -> 0 | H9: =SUM(B9:F9) -> 0
A10: 43384 | G10: =(B10*8.6)+(C10*8.6)+(D10*6)+(E10*7.8)+(F10*11.42) -> 0 | H10: =SUM(B10:F10) -> 0
A11: 43385 | G11: =(B11*8.6)+(C11*8.6)+(D11*6)+(E11*7.8)+(F11*11.42) -> 0 | H11: =SUM(B11:F11) -> 0
A12: 43388 | G12: =(B12*8.6)+(C12*8.6)+(D12*6)+(E12*7.8)+(F12*11.42) -> 0 | H12: =SUM(B12:F12) -> 0
A13: 43389 | G13: =(B13*8.6)+(C13*8.6)+(D13*6)+(E13*7.8)+(F13*11.42) -> 0 | H13: =SUM(B13:F13) -> 0
... A24: 43404 | G24: =(B24*8.6)+(C24*8.6)+(D24*6)+(E24*7.8)+(F24*11.42) -> 0 | H24: =SUM(B24:F24) -> 0
A25: TOTAL PIPS | B25: =SUM(B2:B22) -> 0 | C25: =SUM(C2:C22) -> 0 | D25: =SUM(D2:D22) -> 0 | E25: =SUM(E2:E22) -> 0 | F25: =SUM(F2:F22) -> 0 | G25: =SUM(G2:G23) -> 0 | H25: =SUM(H2:H23) -> 0 | I25: =SUM(I2:I22) -> 0
A26: TOTAL MONTANT | B26: =(B25*8.6) -> 0 | C26: =(C25*8.6) -> 0 | D26: =(D25*6) -> 0 | E26: =(E25*7.8) -> 0 | F26: =(F25*11.42) -> 0 | G26: =SUM(B26:F26) -> 0
A27: TOTAL TRADES
A29: SC GAM
A30: TOTAL ACCOUNTS | B30: C - SFE | C30: F - VOL Portfolio | D30: B - SLINGSHOT | E30: TOTAL PIPS | F30: TOTAL MONTANT | G30: TRADES | H30: SLIPAGE
A31: 43374 | B31: ='C'!G30 -> 0 | C31: =F!D30 -> 0 | D31: =B!E30 -> 0 | E31: =SUM(B31:C31) -> 0 | F31: ='C'!I30+F!F30+B!G30 -> 0 | G31: ='C'!H30+F!E30 -> 0 | H31: ='C'!J30+F!G30 -> 0
A32: 43375 | B32: ='C'!G31 -> 0 | C32: =F!D31 -> 0 | D32: =B!E3 -> 0 | E32: =SUM(B32:C32) -> 0 | F32: ='C'!I31+F!F31+B!G31 -> 0 | G32: ='C'!H31+F!E31 -> 0 | H32: ='C'!J31+F!G31 -> 0
A33: 43376 | B33: ='C'!G32 -> 0 | C33: =F!D32 -> 0 | D33: =B!E4 -> 0 | E33: =SUM(B33:C33) -> 0 | F33: ='C'!I32+F!F32+B!G32 -> 0 | G33: ='C'!H32+F!E32 -> 0 | H33: ='C'!J32+F!G32 -> 0
A34: 43377 | B34: ='C'!G33 -> 0 | C34: =F!D33 -> 0 | D34: =B!E5 -> 0 | E34: =SUM(B34:C34) -> 0 | F34: ='C'!I33+F!F33+B!G33 -> 0 | G34: ='C'!H33+F!E33 -> 0 | H34: ='C'!J33+F!G33 -> 0
A35: 43378 | B35: ='C'!G34 -> 0 | C35: =F!D34 -> 0 | D35: =B!E6 -> 0 | E35: =SUM(B35:C35) -> 0 | F35: ='C'!I34+F!F34+B!G34 -> 0 | G35: ='C'!H34+F!E34 -> 0 | H35: ='C'!J34+F!G34 -> 0
A36: 43381 | B36: ='C'!G35 -> 0 | C36: =F!D35 -> 0 | D36: =B!E7 -> 0 | E36: =SUM(B36:C36) -> 0 | F36: ='C'!I35+F!F35+B!G35 -> 0 | G36: ='C'!H35+F!E35 -> 0 | H36: ='C'!J35+F!G35 -> 0
A37: 43382 | B37: ='C'!G36 -> 0 | C37: =F!D36 -> 0 | D37: =B!E8 -> 0 | E37: =SUM(B37:C37) -> 0 | F37: ='C'!I36+F!F36+B!G36 -> 0 | G37: ='C'!H36+F!E36 -> 0 | H37: ='C'!J36+F!G36 -> 0
A38: 43383 | B38: ='C'!G37 -> 0 | C38: =F!D37 -> 0 | D38: =B!E9 -> 0 | E38: =SUM(B38:C38) -> 0 | F38: ='C'!I37+F!F37+B!G37 -> 0 | G38: ='C'!H37+F!E37 -> 0 | H38: ='C'!J37+F!G37 -> 0
A39: 43384 | B39: ='C'!G38 -> 0 | C39: =F!D38 -> 0 | D39: =B!E10 -> 0 | E39: =SUM(B39:C39) -> 0 | F39: ='C'!I38+F!F38+B!G38 -> 0 | G39: ='C'!H38+F!E38 -> 0 | H39: ='C'!J38+F!G38 -> 0
A40: 43385 | B40: ='C'!G39 -> 0 | C40: =F!D39 -> 0 | D40: =B!E11 -> 0 | E40: =SUM(B40:C40) -> 0 | F40: ='C'!I39+F!F39+B!G39 -> 0 | G40: ='C'!H39+F!E39 -> 0 | H40: ='C'!J39+F!G39 -> 0
A41: 43388 | B41: ='C'!G40 -> 0 | C41: =F!D40 -> 0 | D41: =B!E12 -> 0 | E41: =SUM(B41:C41) -> 0 | F41: ='C'!I40+F!F40+B!G40 -> 0 | G41: ='C'!H40+F!E40 -> 0 | H41: ='C'!J40+F!G40 -> 0
A42: 43389 | B42: ='C'!G41 -> 0 | C42: =F!D41 -> 0 | D42: =B!E13 -> 0 | E42: =SUM(B42:C42) -> 0 | F42: ='C'!I41+F!F41+B!G41 -> 0 | G42: ='C'!H41+F!E41 -> 0 | H42: ='C'!J41+F!G41 -> 0
A43: 43390 | B43: ='C'!G42 -> 0 | C43: =F!D42 -> 0 | D43: =B!E14 -> 0 | E43: =SUM(B43:C43) -> 0 | F43: ='C'!I42+F!F42+B!G42 -> 0 | G43: ='C'!H42+F!E42 -> 0 | H43: ='C'!J42+F!G42 -> 0
... A53: 43404 | B53: ='C'!G52 -> 0 | C53: =F!D52 -> 0 | D53: =B!E24 -> 0 | E53: =SUM(B53:C53) -> 0 | F53: ='C'!I52+F!F52+B!G52 -> 0 | G53: ='C'!H52+F!E52 -> 0 | H53: ='C'!J52+F!G52 -> 0
A54: TOTAL | B54: =SUM(B31:B51) -> 0 | C54: =SUM(C31:C51) -> 0 | D54: =SUM(D31:D51) -> 0 | E54: =SUM(E31:E51) -> 0 | F54: =SUM(F31:F52) -> 0 | G54: =SUM(G31:G52) -> 0 | H54: =SUM(H31:H52) -> 0
A55: TOTAL TRADES | G55: =SUM(B55:C55) -> 0

Sheet SC GAM_FXPRO
A1: SC GAM_FXPRO | B1: EURUSD | C1: GBPUSD | D1: USDJPY | E1: AUDUSD | F1: EURAUD | G1: EURGBP | H1: USDCAD | I1: GBPJPY | J1: GBPCAD | K1: TOTAL MONTANT | L1: TOTAL PIPS | M1: TRADES
A2: 43374 | K2: =(B2*8.56)+(C2*8.58)+(D2*7.64)+(E2*8.55)+(F2*6.5)+(G2*11.3)+(H2*6.11)+(I2*7.8)+(J2*7.03) -> 0 | L2: =SUM(B2:I2) -> 0
A3: 43375 | K3: =(B3*8.56)+(C3*8.58)+(D3*7.64)+(E3*8.55)+(F3*6.5)+(G3*11.3)+(H3*6.11)+(I3*7.8)+(J3*7.03) -> 0 | L3: =SUM(B3:I3) -> 0
A4: 43376 | K4: =(B4*8.56)+(C4*8.58)+(D4*7.64)+(E4*8.55)+(F4*6.5)+(G4*11.3)+(H4*6.11)+(I4*7.8)+(J4*7.03) -> 0 | L4: =SUM(B4:I4) -> 0
A5: 43377 | K5: =(B5*8.56)+(C5*8.58)+(D5*7.64)+(E5*8.55)+(F5*6.5)+(G5*11.3)+(H5*6.11)+(I5*7.8)+(J5*7.03) -> 0 | L5: =SUM(B5:I5) -> 0
A6: 43378 | K6: =(B6*8.56)+(C6*8.58)+(D6*7.64)+(E6*8.55)+(F6*6.5)+(G6*11.3)+(H6*6.11)+(I6*7.8)+(J6*7.03) -> 0 | L6: =SUM(B6:I6) -> 0
A7: 43381 | K7: =(B7*8.56)+(C7*8.58)+(D7*7.64)+(E7*8.55)+(F7*6.5)+(G7*11.3)+(H7*6.11)+(I7*7.8)+(J7*7.03) -> 0 | L7: =SUM(B7:I7) -> 0
A8: 43382 | K8: =(B8*8.56)+(C8*8.58)+(D8*7.64)+(E8*8.55)+(F8*6.5)+(G8*11.3)+(H8*6.11)+(I8*7.8)+(J8*7.03) -> 0 | L8: =SUM(B8:I8) -> 0
A9: 43383 | K9: =(B9*8.56)+(C9*8.58)+(D9*7.64)+(E9*8.55)+(F9*6.5)+(G9*11.3)+(H9*6.11)+(I9*7.8)+(J9*7.03) -> 0 | L9: =SUM(B9:I9) -> 0
A10: 43384 | K10: =(B10*8.56)+(C10*8.58)+(D10*7.64)+(E10*8.55)+(F10*6.5)+(G10*11.3)+(H10*6.11)+(I10*7.8)+(J10*7.03) -> 0 | L10: =SUM(B10:I10) -> 0
A11: 43385 | K11: =(B11*8.56)+(C11*8.58)+(D11*7.64)+(E11*8.55)+(F11*6.5)+(G11*11.3)+(H11*6.11)+(I11*7.8)+(J11*7.03) -> 0 | L11: =SUM(B11:I11) -> 0
A12: 43388 | K12: =(B12*8.56)+(C12*8.58)+(D12*7.64)+(E12*8.55)+(F12*6.5)+(G12*11.3)+(H12*6.11)+(I12*7.8)+(J12*7.03) -> 0 | L12: =SUM(B12:I12) -> 0
A13: 43389 | K13: =(B13*8.56)+(C13*8.58)+(D13*7.64)+(E13*8.55)+(F13*6.5)+(G13*11.3)+(H13*6.11)+(I13*7.8)+(J13*7.03) -> 0 | L13: =SUM(B13:I13) -> 0
... A24: 43404 | K24: =(B24*8.56)+(C24*8.58)+(D24*7.64)+(E24*8.55)+(F24*6.5)+(G24*11.3)+(H24*6.11)+(I24*7.8)+(J24*7.03) -> 0 | L24: =SUM(B24:I24) -> 0
A25: TOTAL | B25: =SUM(B2:B23) -> 0 | C25: =SUM(C2:C23) -> 0 | D25: =SUM(D2:D23) -> 0 | E25: =SUM(E2:E23) -> 0 | F25: =SUM(F2:F23) -> 0 | G25: =SUM(G2:G23) -> 0 | H25: =SUM(H2:H23) -> 0 | I25: =SUM(I2:I23) -> 0 | ... M25: =SUM(M2:M23) -> 0
A26: TOTAL MONTANT | B26: =(B25*8.54) -> 0 | C26: =(C25*8.5) -> 0 | D26: =(D25*6.5) -> 0 | E26: =(E25*8.55) -> 0 | F26: =(F25*6.5) -> 0 | G26: =(G25*11.42) -> 0
A27: TOTAL TRADES | B27: 97 | C27: 31 | D27: 28 | E27: 3 | F27: 1 | G27: 2 | H27: 1
A29: Open Date | B29: Close Date | C29: Symbol | D29: Action | E29: Lots | F29: SL | G29: TP | H29: Open Price | I29: Close Price | J29: Commission | K29: Swap | L29: Pips | M29: Profit | N29: Gain | O29: Magic Number | P29: Duration (DD:HH:MM:SS) | Q29: Profitable(%) | R29: Profitable(time duration) | S29: Drawdown | T29: Risk:Reward | U29: Max(pips) | V29: Max(EUR) | W29: Min(pips) | X29: Min(EUR) | Y29: Entry Accuracy(%) | Z29: Exit Accuracy(%) | AA29: ProfitMissed(pips) | AB29: ProfitMissed(EUR)

Sheet A 
A1: A - PM Swing Trading | B1: EURJPY | C1: USDCAD | D1: TOTAL PIPS | E1: TRADES | F1: TOTAL MONTANT | G1: VOLUME
A2: 43374 | D2: =SUM(B2:C2) -> 0 | F2: =G2*((B2*7.75)+(C2*6.62)) -> 0 | G2: 1
A3: 43375 | D3: =SUM(B3:C3) -> 0 | F3: =G3*((B3*7.75)+(C3*6.62)) -> 0 | G3: 1
A4: 43376 | D4: =SUM(B4:C4) -> 0 | F4: =G4*((B4*7.75)+(C4*6.62)) -> 0 | G4: 1
A5: 43377 | D5: =SUM(B5:C5) -> 0 | F5: =G5*((B5*7.75)+(C5*6.62)) -> 0 | G5: 1
A6: 43378 | D6: =SUM(B6:C6) -> 0 | F6: =G6*((B6*7.75)+(C6*6.62)) -> 0 | G6: 1
A7: 43381 | D7: =SUM(B7:C7) -> 0 | F7: =G7*((B7*7.75)+(C7*6.62)) -> 0 | G7: 1
A8: 43382 | D8: =SUM(B8:C8) -> 0 | F8: =G8*((B8*7.75)+(C8*6.62)) -> 0 | G8: 1
A9: 43383 | D9: =SUM(B9:C9) -> 0 | F9: =G9*((B9*7.75)+(C9*6.62)) -> 0 | G9: 1
A10: 43384 | D10: =SUM(B10:C10) -> 0 | F10: =G10*((B10*7.75)+(C10*6.62)) -> 0 | G10: 1
A11: 43385 | D11: =SUM(B11:C11) -> 0 | F11: =G11*((B11*7.75)+(C11*6.62)) -> 0 | G11: 1
A12: 43388 | D12: =SUM(B12:C12) -> 0 | F12: =G12*((B12*7.75)+(C12*6.62)) -> 0 | G12: 1
A13: 43389 | D13: =SUM(B13:C13) -> 0 | F13: =G13*((B13*7.75)+(C13*6.62)) -> 0 | G13: 1
... A24: 43404 | D24: =SUM(B24:C24) -> 0 | F24: =G24*((B24*7.75)+(C24*6.62)) -> 0 | G24: 1
A25: TOTAL | B25: =SUM(B2:B24) -> 0 | C25: =SUM(C2:C24) -> 0 | D25: =SUM(D2:D24) -> 0 | E25: =SUM(E2:E24) -> 0 | F25: =SUM(F2:F24) -> 0
A26: TOTAL TRADES | E26: =SUM(B26:C26) -> 0
A27: TOTAL MONTANT | B27: =(B25*8.54) -> 0 | C27: =(C25*8.5) -> 0
A29: PM Swing Trading / YRL CAPITAL | B29: EURJPY | C29: USDCAD | D29: TOTAL PIPS | E29: TRADES | F29: TOTAL MONTANT | G29: SLIPPAGE | H29: VOLUME
A30: 43313 | D30: =SUM(B30:C30) -> 0 | E30: 0 | F30: =((B30*7.75)+(C30*6.62)) -> 0 | G30: =D30-D2 -> 0 | H30: 1
A31: 43314 | D31: =SUM(B31:C31) -> 0 | E31: 0 | F31: =((B31*7.75)+(C31*6.62)) -> 0 | G31: =D31-D3 -> 0 | H31: 1
A32: 43315 | D32: =SUM(B32:C32) -> 0 | E32: 0 | F32: =((B32*7.75)+(C32*6.62)) -> 0 | G32: =D32-D4 -> 0 | H32: 1
A33: 43318 | D33: =SUM(B33:C33) -> 0 | E33: 0 | F33: =((B33*7.75)+(C33*6.62)) -> 0 | G33: =D33-D5 -> 0 | H33: 1
A34: 43319 | D34: =SUM(B34:C34) -> 0 | E34: 0 | F34: =((B34*7.75)+(C34*6.62)) -> 0 | G34: =D34-D6 -> 0 | H34: 1
A35: 43320 | D35: =SUM(B35:C35) -> 0 | E35: 0 | F35: =((B35*7.75)+(C35*6.62)) -> 0 | G35: =D35-D7 -> 0 | H35: 1
A36: 43321 | D36: =SUM(B36:C36) -> 0 | E36: 0 | F36: =((B36*7.75)+(C36*6.62)) -> 0 | G36: =D36-D8 -> 0 | H36: 1
A37: 43322 | D37: =SUM(B37:C37) -> 0 | E37: 2 | F37: =((B37*7.75)+(C37*6.62)) -> 0 | G37: =D37-D9 -> 0 | H37: 1
A38: 43325 | D38: =SUM(B38:C38) -> 0 | E38: 0 | F38: =((B38*7.75)+(C38*6.62)) -> 0 | G38: =D38-D10 -> 0 | H38: 1
A39: 43326 | D39: =SUM(B39:C39) -> 0 | E39: 0 | F39: =((B39*7.75)+(C39*6.62)) -> 0 | G39: =D39-D11 -> 0 | H39: 1
A40: 43327 | D40: =SUM(B40:C40) -> 0 | E40: 2 | F40: =((B40*7.75)+(C40*6.62)) -> 0 | G40: =D40-D12 -> 0 | H40: 1
A41: 43328 | D41: =SUM(B41:C41) -> 0 | E41: 0 | F41: =((B41*7.75)+(C41*6.62)) -> 0 | G41: =D41-D13 -> 0 | H41: 1
... A52: 43343 | D52: =SUM(B52:C52) -> 0 | E52: 0 | F52: =((B52*7.75)+(C52*6.62)) -> 0 | G52: =D52-D24 -> 0 | H52: 1
A53: TOTAL | B53: =SUM(B30:B52) -> 0 | C53: =SUM(C30:C52) -> 0 | D53: =SUM(D30:D52) -> 0 | E53: =SUM(E30:E52) -> 7 | F53: =SUM(F30:F52) -> 0 | G53: =SUM(G30:G51) -> 0
A54: TOTAL TRADES | E54: =SUM(B54:C54) -> 0
A55: TOTAL MONTANT | B55: =(B53*8.54) -> 0 | C55: =(C53*8.5) -> 0

Sheet B
A1: B - SLINGHSOT | B1: EURAUD | C1: EURJPY | D1: GBPJPY | E1: TOTAL PIPS | F1: TRADES | G1: TOTAL MONTANT | H1: VOLUME
A2: 43374 | E2: =SUM(B2:D2) -> 0 | G2: =H2*((B2*6.4)+(C2*7.75)+(D2*7.77)) -> 0 | H2: 1
A3: 43375 | E3: =SUM(B3:D3) -> 0 | G3: =H3*((B3*6.4)+(C3*7.75)+(D3*7.77)) -> 0 | H3: 1
A4: 43376 | E4: =SUM(B4:D4) -> 0 | G4: =H4*((B4*6.4)+(C4*7.75)+(D4*7.77)) -> 0 | H4: 1
A5: 43377 | E5: =SUM(B5:D5) -> 0 | G5: =H5*((B5*6.4)+(C5*7.75)+(D5*7.77)) -> 0 | H5: 1
A6: 43378 | E6: =SUM(B6:D6) -> 0 | G6: =H6*((B6*6.4)+(C6*7.75)+(D6*7.77)) -> 0 | H6: 1
A7: 43381 | E7: =SUM(B7:D7) -> 0 | G7: =H7*((B7*6.4)+(C7*7.75)+(D7*7.77)) -> 0 | H7: 1
A8: 43382 | E8: =SUM(B8:D8) -> 0 | G8: =H8*((B8*6.4)+(C8*7.75)+(D8*7.77)) -> 0 | H8: 1
A9: 43383 | E9: =SUM(B9:D9) -> 0 | G9: =H9*((B9*6.4)+(C9*7.75)+(D9*7.77)) -> 0 | H9: 1
A10: 43384 | E10: =SUM(B10:D10) -> 0 | G10: =H10*((B10*6.4)+(C10*7.75)+(D10*7.77)) -> 0 | H10: 1
A11: 43385 | E11: =SUM(B11:D11) -> 0 | G11: =H11*((B11*6.4)+(C11*7.75)+(D11*7.77)) -> 0 | H11: 1
A12: 43388 | E12: =SUM(B12:D12) -> 0 | G12: =H12*((B12*6.4)+(C12*7.75)+(D12*7.77)) -> 0 | H12: 1
A13: 43389 | E13: =SUM(B13:D13) -> 0 | G13: =H13*((B13*6.4)+(C13*7.75)+(D13*7.77)) -> 0 | H13: 1
... A24: 43404 | E24: =SUM(B24:D24) -> 0 | G24: =H24*((B24*6.4)+(C24*7.75)+(D24*7.77)) -> 0 | H24: 1
A25: TOTAL | B25: =SUM(B2:B24) -> 0 | C25: =SUM(C2:C24) -> 0 | D25: =SUM(D2:D24) -> 0 | E25: =SUM(E2:E24) -> 0 | F25: =SUM(F2:F24) -> 0 | G25: =SUM(G2:G24) -> 0
A26: TOTAL TRADES | F26: =SUM(B26:D26) -> 0
A27: TOTAL MONTANT | B27: =(B25*8.6) -> 0 | C27: =(C25*8.6) -> 0 | D27: =(D25*8.6) -> 0
A29: SLINGSHOT / SC GAM | B29: EURAUD | C29: EURJPY | D29: GBPJPY | E29: TOTAL PIPS | F29: TRADES | G29: TOTAL MONTANT | H29: SLIPPAGE | I29: VOLUME
A30: 43374 | E30: =SUM(B30:D30) -> 0 | F30: 1 | G30: =H2*((B30*6.4)+(C30*7.75)+(D30*7.77)) -> 0 | H30: =C30-C2 -> 0 | I30: 1
A31: 43375 | E31: =SUM(B31:D31) -> 0 | F31: 0 | G31: =H3*((B31*6.4)+(C31*7.75)+(D31*7.77)) -> 0 | H31: =C31-C3 -> 0 | I31: 1
A32: 43376 | E32: =SUM(B32:D32) -> 0 | F32: 0 | G32: =H4*((B32*6.4)+(C32*7.75)+(D32*7.77)) -> 0 | H32: =C32-C4 -> 0 | I32: 1
A33: 43377 | E33: =SUM(B33:D33) -> 0 | F33: 0 | G33: =H5*((B33*6.4)+(C33*7.75)+(D33*7.77)) -> 0 | H33: =C33-C5 -> 0 | I33: 1
A34: 43378 | E34: =SUM(B34:D34) -> 0 | F34: 0 | G34: =H6*((B34*6.4)+(C34*7.75)+(D34*7.77)) -> 0 | H34: =C34-C6 -> 0 | I34: 1
A35: 43381 | E35: =SUM(B35:D35) -> 0 | F35: 0 | G35: =H7*((B35*6.4)+(C35*7.75)+(D35*7.77)) -> 0 | H35: =C35-C7 -> 0 | I35: 1
A36: 43382 | E36: =SUM(B36:D36) -> 0 | F36: 0 | G36: =H8*((B36*6.4)+(C36*7.75)+(D36*7.77)) -> 0 | H36: =C36-C8 -> 0 | I36: 1
A37: 43383 | E37: =SUM(B37:D37) -> 0 | F37: 0 | G37: =H9*((B37*6.4)+(C37*7.75)+(D37*7.77)) -> 0 | H37: =C37-C9 -> 0 | I37: 1
A38: 43384 | E38: =SUM(B38:D38) -> 0 | F38: 0 | G38: =H10*((B38*6.4)+(C38*7.75)+(D38*7.77)) -> 0 | H38: =C38-C10 -> 0 | I38: 1
A39: 43385 | E39: =SUM(B39:D39) -> 0 | F39: 0 | G39: =H11*((B39*6.4)+(C39*7.75)+(D39*7.77)) -> 0 | H39: =C39-C11 -> 0 | I39: 1
A40: 43388 | E40: =SUM(B40:D40) -> 0 | F40: 0 | G40: =H12*((B40*6.4)+(C40*7.75)+(D40*7.77)) -> 0 | H40: =C40-C12 -> 0 | I40: 1
A41: 43389 | E41: =SUM(B41:D41) -> 0 | F41: 0 | G41: =H13*((B41*6.4)+(C41*7.75)+(D41*7.77)) -> 0 | H41: =C41-C13 -> 0 | I41: 1
... A51: 43403 | E51: =SUM(B51:D51) -> 0 | F51: 0 | G51: =H23*((B51*6.4)+(C51*7.75)+(D51*7.77)) -> 0 | H51: =C51-C23 -> 0 | I51: 1
A52: 43404 | B52: 0 | C52: 0 | D52: 0 | E52: =SUM(B52:D52) -> 0 | F52: 0 | G52: =H24*((B52*6.4)+(C52*7.75)+(D52*7.77)) -> 0 | H52: =C52-C24 -> 0 | I52: 1
A53: TOTAL | B53: =SUM(B30:B52) -> 0 | C53: =SUM(C30:C52) -> 0 | D53: =SUM(D30:D52) -> 0 | E53: =SUM(E30:E52) -> 0 | F53: =SUM(F30:F52) -> 5 | G53: =SUM(G30:G52) -> 0 | H53: =SUM(H30:H51) -> 0
A54: TOTAL MONTANT | B54: =(B53*8.6) -> 0 | C54: =(C53*8.6) -> 0 | D54: =(D53*8.6) -> 0
A55: TOTAL TRADES | F55: =SUM(B55:C55) -> 0
A58: Open Date | B58: Close Date | C58: Symbol | D58: Action | E58: Lots | F58: SL | G58: TP | H58: Open Price | I58: Close Price | J58: Commission | K58: Swap | L58: Pips | M58: Comptes
A59: 43200.417 | B59: 43200.517 | C59: EURJPY | D59: Sell | E59: 0.08 | F59: 131.844 | G59: 128.28 | H59: 131.25 | I59: 131.424 | J59: -0.46 | K59: 0 | L59: -17.4 | M59: Slingshot
A60: 43200.417 | B60: 43200.517 | C60: EURJPY | D60: Sell | E60: 0.16 | F60: 131.844 | G60: 128.28 | H60: 131.25 | I60: 131.425 | J60: -0.92 | K60: 0 | L60: -17.5 | M60: Slingshot

Sheet C
A1: C - SFE | B1: EURUSD | C1: GBPUSD | D1: EURAUD | E1: GBPJPY | F1: EURGBP | G1: TOTAL PIPS | H1: TRADES | I1: TOTAL MONTANT
A2: 43374 | G2: =SUM(B2:F2) -> 0 | I2: =(B2*8.6)+(C2*8.6)+(D2*6)+(E2*7.8)+(F2*11.42) -> 0
A3: 43375 | G3: =SUM(B3:F3) -> 0 | I3: =(B3*8.6)+(C3*8.6)+(D3*6)+(E3*7.8)+(F3*11.42) -> 0
A4: 43376 | G4: =SUM(B4:F4) -> 0 | I4: =(B4*8.6)+(C4*8.6)+(D4*6)+(E4*7.8)+(F4*11.42) -> 0
A5: 43377 | G5: =SUM(B5:F5) -> 0 | I5: =(B5*8.6)+(C5*8.6)+(D5*6)+(E5*7.8)+(F5*11.42) -> 0
A6: 43378 | G6: =SUM(B6:F6) -> 0 | I6: =(B6*8.6)+(C6*8.6)+(D6*6)+(E6*7.8)+(F6*11.42) -> 0
A7: 43381 | G7: =SUM(B7:F7) -> 0 | I7: =(B7*8.6)+(C7*8.6)+(D7*6)+(E7*7.8)+(F7*11.42) -> 0
A8: 43382 | G8: =SUM(B8:F8) -> 0 | I8: =(B8*8.6)+(C8*8.6)+(D8*6)+(E8*7.8)+(F8*11.42) -> 0
A9: 43383 | G9: =SUM(B9:F9) -> 0 | I9: =(B9*8.6)+(C9*8.6)+(D9*6)+(E9*7.8)+(F9*11.42) -> 0
A10: 43384 | G10: =SUM(B10:F10) -> 0 | I10: =(B10*8.6)+(C10*8.6)+(D10*6)+(E10*7.8)+(F10*11.42) -> 0
A11: 43385 | G11: =SUM(B11:F11) -> 0 | I11: =(B11*8.6)+(C11*8.6)+(D11*6)+(E11*7.8)+(F11*11.42) -> 0
A12: 43388 | G12: =SUM(B12:F12) -> 0 | I12: =(B12*8.6)+(C12*8.6)+(D12*6)+(E12*7.8)+(F12*11.42) -> 0
A13: 43389 | G13: =SUM(B13:F13) -> 0 | I13: =(B13*8.6)+(C13*8.6)+(D13*6)+(E13*7.8)+(F13*11.42) -> 0
... A24: 43404 | G24: =SUM(B24:F24) -> 0 | I24: =(B24*8.6)+(C24*8.6)+(D24*6)+(E24*7.8)+(F24*11.42) -> 0
A25: TOTAL | B25: =SUM(B2:B22) -> 0 | C25: =SUM(C2:C22) -> 0 | D25: =SUM(D2:D22) -> 0 | E25: =SUM(E2:E22) -> 0 | F25: =SUM(F2:F22) -> 0 | G25: =SUM(G2:G24) -> 0 | H25: =SUM(H2:H24) -> 0 | I25: =SUM(I2:I22) -> 0
A26: TOTAL TRADES | H26: =SUM(B26:F26) -> 0
A27: TOTAL MONTANT | B27: =(B25*8.6) -> 0 | C27: =(C25*8.6) -> 0 | D27: =(D25*6) -> 0 | E27: =(E25*7.8) -> 0 | F27: =(F25*11.42) -> 0
A29: SFE / SC GAM | B29: EURUSD | C29: GBPUSD | D29: EURAUD | E29: GBPJPY | F29: EURGBP | G29: TOTAL PIPS | H29: TRADES | I29: TOTAL MONTANT | J29: SLIPPAGE
A30: 43374 | G30: =SUM(B30:F30) -> 0 | I30: =(B30*8.6)+(C30*8.6)+(D30*6)+(E30*7.8)+(F30*11.42) -> 0 | J30: =G30-G2 -> 0
A31: 43375 | G31: =SUM(B31:F31) -> 0 | I31: =(B31*8.6)+(C31*8.6)+(D31*6)+(E31*7.8)+(F31*11.42) -> 0 | J31: =G31-G3 -> 0
A32: 43376 | G32: =SUM(B32:F32) -> 0 | I32: =(B32*8.6)+(C32*8.6)+(D32*6)+(E32*7.8)+(F32*11.42) -> 0 | J32: =G32-G4 -> 0
A33: 43377 | G33: =SUM(B33:F33) -> 0 | I33: =(B33*8.6)+(C33*8.6)+(D33*6)+(E33*7.8)+(F33*11.42) -> 0 | J33: =G33-G5 -> 0
A34: 43378 | G34: =SUM(B34:F34) -> 0 | I34: =(B34*8.6)+(C34*8.6)+(D34*6)+(E34*7.8)+(F34*11.42) -> 0 | J34: =G34-G6 -> 0
A35: 43381 | G35: =SUM(B35:F35) -> 0 | I35: =(B35*8.6)+(C35*8.6)+(D35*6)+(E35*7.8)+(F35*11.42) -> 0 | J35: =G35-G7 -> 0
A36: 43382 | G36: =SUM(B36:F36) -> 0 | I36: =(B36*8.6)+(C36*8.6)+(D36*6)+(E36*7.8)+(F36*11.42) -> 0 | J36: =G36-G8 -> 0
A37: 43383 | G37: =SUM(B37:F37) -> 0 | I37: =(B37*8.6)+(C37*8.6)+(D37*6)+(E37*7.8)+(F37*11.42) -> 0 | J37: =G37-G9 -> 0
A38: 43384 | G38: =SUM(B38:F38) -> 0 | I38: =(B38*8.6)+(C38*8.6)+(D38*6)+(E38*7.8)+(F38*11.42) -> 0 | J38: =G38-G10 -> 0
A39: 43385 | G39: =SUM(B39:F39) -> 0 | I39: =(B39*8.6)+(C39*8.6)+(D39*6)+(E39*7.8)+(F39*11.42) -> 0 | J39: =G39-G11 -> 0
A40: 43388 | G40: =SUM(B40:F40) -> 0 | I40: =(B40*8.6)+(C40*8.6)+(D40*6)+(E40*7.8)+(F40*11.42) -> 0 | J40: =G40-G12 -> 0
A41: 43389 | G41: =SUM(B41:F41) -> 0 | I41: =(B41*8.6)+(C41*8.6)+(D41*6)+(E41*7.8)+(F41*11.42) -> 0 | J41: =G41-G13 -> 0
... A52: 43404 | G52: =SUM(B52:F52) -> 0 | I52: =(B52*8.6)+(C52*8.6)+(D52*6)+(E52*7.8)+(F52*11.42) -> 0 | J52: =G52-G24 -> 0
A53: TOTAL | B53: =SUM(B30:B50) -> 0 | C53: =SUM(C30:C50) -> 0 | D53: =SUM(D30:D50) -> 0 | E53: =SUM(E30:E50) -> 0 | F53: =SUM(F30:F50) -> 0 | G53: =SUM(G30:G50) -> 0 | H53: =SUM(H30:H50) -> 0 | I53: =SUM(I30:I50) -> 0 | J53: =SUM(J30:J51) -> 0
A54: TOTAL MONTANT | B54: =(B53*8.6) -> 0 | C54: =(C53*8.6) -> 0 | D54: =(D53*6) -> 0 | E54: =(E53*7.8) -> 0 | F54: =(F53*11.42) -> 0
A55: TOTAL TRADES | H55: =SUM(B55:E55) -> 0
A58: Open Date | B58: Close Date | C58: Symbol | D58: Action | E58: Lots | F58: SL | G58: TP | H58: Open Price | I58: Close Price | J58: Commission | K58: Swap | L58: Pips | M58: Comptes
A59: 43353.792 | B59: 43353.824 | C59: GBPUSD | D59: Buy | E59: 0.05 | F59: 1.31277 | G59: 1.32085 | H59: 1.31391 | I59: 1.31277 | J59: -0.21 | K59: 0 | L59: -11.4 | M59: SFE | N59: -0.05 | O59: 450051 | P59: 00:00:47:55 | Q59: 0 | R59: 0s | S59: 11.4 | T59: 11.4 | U59: 0 | V59: 0 | W59: -11.4 | X59: -5.016 | Y59: 0 | Z59: 0 | AA59: -11.4 | AB59: -5.02
A60: 43353.792 | B60: 43353.816 | C60: GBPUSD | D60: Buy | E60: 0.03 | F60: 1.30833 | G60: 1.32085 | H60: 1.31391 | I60: 1.31368 | J60: -0.13 | K60: 0 | L60: -2.3 | M60: SFE | N60: -0.01 | O60: 450051 | P60: 00:00:35:11 | Q60: 0 | R60: 0s | S60: 2.3 | T60: 2.3 | U60: 0 | V60: 0 | W60: -2.3 | X60: -0.598 | Y60: 0 | Z60: 0 | AA60: -2.3 | AB60: -0.6
A61: 43353.674 | B61: 43353.775 | C61: GBPUSD | D61: Buy | E61: 0.02 | F61: 1.30762 | G61: 1.31346 | H61: 1.30742 | I61: 1.31347 | J61: -0.08 | K61: 0 | L61: 60.5 | M61: SFE | N61: 0.1 | O61: 450051 | P61: 00:02:25:53 | Q61: 0.7 | R61: 1m | S61: 0 | T61: 0.02 | U61: 60.5 | V61: 10.285 | W61: 0 | X61: 0 | Y61: 100 | Z61: 100 | AA61: 0 | AB61: 0
A62: 43353.674 | B62: 43353.774 | C62: GBPUSD | D62: Buy | E62: 0.03 | F62: 1.30762 | G62: 1.31346 | H62: 1.30742 | I62: 1.31213 | J62: -0.13 | K62: 0 | L62: 47.1 | M62: SFE | N62: 0.11 | O62: 450051 | P62: 00:02:24:58 | Q62: 0.7 | R62: 1m | S62: 0 | T62: 0.02 | U62: 47.1 | V62: 12.246 | W62: 0 | X62: 0 | Y62: 100 | Z62: 100 | AA62: 0 | AB62: 0
A63: 43230.749 | B63: 43353.731 | C63: EURUSD | D63: Sell | E63: 0.03 | F63: 1.14869 | G63: 1.13986 | H63: 1.15083 | I63: 1.1487 | J63: -0.13 | K63: 0.33 | L63: 21.3 | M63: SFE | N63: 0.05 | O63: 410151 | P63: 03:23:33:02 | Q63: 37.5 | R63: 1d 11h | S63: 54.7 | T63: 0.29 | U63: 75 | V63: 19.5 | W63: -22 | X63: -5.72 | Y63: 77.3 | Z63: 44.6 | AA63: -53.7 | AB63: -13.96
...

Sheet D
A1: D - Strive | B1: EURUSD | C1: USDJPY | D1: TOTAL PIPS | E1: TRADES | F1: TOTAL MONTANT
A2: 43374 | D2: =SUM(B2:C2) -> 0 | F2: =(B2*8.6)+(C2*7.86) -> 0
A3: 43375 | D3: =SUM(B3:C3) -> 0 | F3: =(B3*8.54)+(C3*7.86) -> 0
A4: 43376 | D4: =SUM(B4:C4) -> 0 | F4: =(B4*8.54)+(C4*7.86) -> 0
A5: 43377 | D5: =SUM(B5:C5) -> 0 | F5: =(B5*8.54)+(C5*7.86) -> 0
A6: 43378 | D6: =SUM(B6:C6) -> 0 | F6: =(B6*8.54)+(C6*7.86) -> 0
A7: 43381 | D7: =SUM(B7:C7) -> 0 | F7: =(B7*8.54)+(C7*7.86) -> 0
A8: 43382 | D8: =SUM(B8:C8) -> 0 | F8: =(B8*8.54)+(C8*7.86) -> 0
A9: 43383 | B9: =L33+L35 -> -7.9 | C9: =L32+L34 -> 9.3 | D9: =SUM(B9:C9) -> 1.4 | E9: 4 | F9: =(B9*8.54)+(C9*7.86) -> 5.632
A10: 43384 | D10: =SUM(B10:C10) -> 0 | F10: =(B10*8.54)+(C10*7.86) -> 0
A11: 43385 | D11: =SUM(B11:C11) -> 0 | F11: =(B11*8.54)+(C11*7.86) -> 0
A12: 43388 | D12: =SUM(B12:C12) -> 0 | F12: =(B12*8.54)+(C12*7.86) -> 0
A13: 43389 | D13: =SUM(B13:C13) -> 0 | F13: =(B13*8.54)+(C13*7.86) -> 0
A14: 43390 | D14: =SUM(B14:C14) -> 0 | F14: =(B14*8.54)+(C14*7.86) -> 0
A15: 43391 | D15: =SUM(B15:C15) -> 0 | F15: =(B15*8.54)+(C15*7.86) -> 0
A16: 43392 | D16: =SUM(B16:C16) -> 0 | F16: =(B16*8.54)+(C16*7.86) -> 0
A17: 43395 | D17: =SUM(B17:C17) -> 0 | F17: =(B17*8.54)+(C17*7.86) -> 0
A18: 43396 | D18: =SUM(B18:C18) -> 0 | F18: =(B18*8.54)+(C18*7.86) -> 0
A19: 43397 | D19: =SUM(B19:C19) -> 0 | F19: =(B19*8.54)+(C19*7.86) -> 0
A20: 43398 | D20: =SUM(B20:C20) -> 0 | F20: =(B20*8.54)+(C20*7.86) -> 0
A21: 43399 | D21: =SUM(B21:C21) -> 0 | F21: =(B21*8.54)+(C21*7.86) -> 0
... A24: 43404 | D24: =SUM(B24:C24) -> 0 | F24: =(B24*8.54)+(C24*7.86) -> 0
A25: TOTAL | B25: =SUM(B2:B22) -> -7.9 | C25: =SUM(C2:C22) -> 9.3 | D25: =SUM(D2:D23) -> 1.4 | E25: =SUM(E2:E22) -> 4 | F25: =SUM(F2:F22) -> 5.632
A26: TOTAL TRADES | E26: =SUM(B26:C26) -> 0
A27: TOTAL MONTANT | B27: =(B25*8.54) -> -67.466 | C27: =(C25*7.86) -> 73.098
A31: Open Date | B31: Close Date | C31: Symbol | D31: Action | E31: Lots | F31: SL | G31: TP | H31: Open Price | I31: Close Price | J31: Commission | K31: Swap | L31: Pips | M31: Comptes
A32: 43383.708 | B32: 43383.771 | C32: USDJPY | D32: Sell | E32: 0.08 | F32: 113.076 | G32: 0 | H32: 112.92 | I32: 112.671 | J32: -0.44 | K32: 0 | L32: 24.9 | M32: Strive
A33: 43383.672 | B33: 43383.771 | C33: EURUSD | D33: Buy | E33: 0.03 | F33: 1.14831 | G33: 0 | H33: 1.15112 | I33: 1.15314 | J33: -0.17 | K33: 0 | L33: 20.2 | M33: Strive
A34: 43383.18 | B34: 43383.708 | C34: USDJPY | D34: Buy | E34: 0.08 | F34: 112.926 | G34: 0 | H34: 113.076 | I34: 112.92 | J34: -0.44 | K34: 0 | L34: -15.6 | M34: Strive
A35: 43383.516 | B35: 43383.672 | C35: EURUSD | D35: Sell | E35: 0.03 | F35: 1.1511 | G35: 0 | H35: 1.14831 | I35: 1.15112 | J35: -0.17 | K35: 0 | L35: -28.1 | M35: Strive
A36: 43353.219 | B36: 43353.771 | C36: USDJPY | D36: Buy | E36: 0.07 | F36: 112.974 | G36: 0 | H36: 113.132 | I36: 113.082 | J36: -0.39 | K36: 0 | L36: -5 | M36: Strive
A37: 43353.731 | B37: 43353.771 | C37: EURUSD | D37: Buy | E37: 0.04 | F37: 1.1464 | G37: 0 | H37: 1.14871 | I37: 1.14776 | J37: -0.22 | K37: 0 | L37: -9.5 | M37: Strive
A38: 43353.512 | B38: 43353.731 | C38: EURUSD | D38: Sell | E38: 0.04 | F38: 1.14871 | G38: 0 | H38: 1.1464 | I38: 1.14871 | J38: -0.22 | K38: 0 | L38: -23.1 | M38: Strive
A39: 43353.169 | B39: 43353.219 | C39: USDJPY | D39: Sell | E39: 0.07 | F39: 113.133 | G39: 0 | H39: 112.975 | I39: 113.133 | J39: -0.39 | K39: 0 | L39: -15.8 | M39: Strive
A40: 43322.472 | B40: 43322.771 | C40: USDJPY | D40: Sell | E40: 0.07 | F40: 113.859 | G40: 0 | H40: 113.697 | I40: 113.13 | J40: -0.39 | K40: 0 | L40: 56.7 | M40: Strive
A41: 43322.459 | B41: 43322.771 | C41: EURUSD | D41: Sell | E41: 0.06 | F41: 1.15049 | G41: 0 | H41: 1.14894 | I41: 1.14748 | J41: -0.33 | K41: 0 | L41: 14.6 | M41: Strive
A42: 43322.169 | B42: 43322.472 | C42: USDJPY | D42: Buy | E42: 0.07 | F42: 113.697 | G42: 0 | H42: 113.862 | I42: 113.697 | J42: -0.39 | K42: 0 | L42: -16.5 | M42: Strive
A43: 43230.217 | B43: 43230.771 | C43: USDJPY | D43: Sell | E43: 0.05 | F43: 114.105 | G43: 0 | H43: 113.885 | I43: 113.676 | J43: -0.28 | K43: 0 | L43: 20.9 | M43: Strive
... A56: 43110.46 | B56: 43110.741 | C56: EURUSD | D56: Buy | E56: 0.04 | F56: 1.15739 | G56: 0 | H56: 1.15978 | I56: 1.15733 | J56: -0.22 | K56: 0 | L56: -24.5 | M56: Strive
A60: Strive / YRL CAPITAL | B60: EURUSD | C60: USDJPY | D60: TOTAL PIPS | E60: TRADES | F60: TOTAL MONTANT | G60: SLIPPAGE | H60: Commentaires
...

Sheet E
A1: E - Pepperstone | B1: EURUSD | C1: USDJPY | D1: TOTAL PIPS | E1: TRADES | F1: TOTAL MONTANT
A2: 43374 | B2: 0 | C2: 0 | D2: =SUM(B2:C2) -> 0 | E2: 0 | F2: =(B2*8.54)+(C2*7.86) -> 0
A3: 43375 | B3: 0 | C3: 0 | D3: =SUM(B3:C3) -> 0 | E3: 0 | F3: =(B3*8.54)+(C3*7.86) -> 0
A4: 43376 | B4: 0 | C4: 0 | D4: =SUM(B4:C4) -> 0 | E4: 0 | F4: =(B4*8.54)+(C4*7.86) -> 0
A5: 43377 | B5: 0 | C5: 0 | D5: =SUM(B5:C5) -> 0 | E5: 0 | F5: =(B5*8.54)+(C5*7.86) -> 0
A6: 43378 | B6: 0 | C6: 0 | D6: =SUM(B6:C6) -> 0 | E6: 0 | F6: =(B6*8.54)+(C6*7.86) -> 0
A7: 43381 | B7: 0 | C7: 0 | D7: =SUM(B7:C7) -> 0 | E7: 0 | F7: =(B7*8.54)+(C7*7.86) -> 0
A8: 43382 | B8: 0 | C8: 0 | D8: =SUM(B8:C8) -> 0 | E8: 0 | F8: =(B8*8.54)+(C8*7.86) -> 0
A9: 43383 | B9: 0 | C9: 0 | D9: =SUM(B9:C9) -> 0 | E9: 0 | F9: =(B9*8.54)+(C9*7.86) -> 0
A10: 43384 | B10: 0 | C10: 0 | D10: =SUM(B10:C10) -> 0 | E10: 0 | F10: =(B10*8.54)+(C10*7.86) -> 0
A11: 43385 | B11: 0 | C11: 0 | D11: =SUM(B11:C11) -> 0 | E11: 0 | F11: =(B11*8.54)+(C11*7.86) -> 0
A12: 43388 | B12: 0 | C12: 0 | D12: =SUM(B12:C12) -> 0 | E12: 0 | F12: =(B12*8.54)+(C12*7.86) -> 0
A13: 43389 | B13: 0 | C13: 0 | D13: =SUM(B13:C13) -> 0 | E13: 0 | F13: =(B13*8.54)+(C13*7.86) -> 0
... A24: 43404 | B24: 0 | C24: 0 | D24: =SUM(B24:C24) -> 0 | E24: 0 | F24: =(B24*8.54)+(C24*7.86) -> 0
A25: TOTAL | B25: =SUM(B2:B22) -> 0 | C25: =SUM(C2:C22) -> 0 | D25: =SUM(D2:D22) -> 0 | E25: =SUM(E2:E22) -> 0 | F25: =SUM(F2:F22) -> 0
A26: TOTAL MONTANT | B26: =(B25*8.6) -> 0 | C26: =(C25*7.86) -> 0
A27: TOTAL TRADES | E27: =SUM(B27:C27) -> 0
A29: Pepperstone / YRL CAPITAL | B29: EURUSD | C29: USDJPY | D29: TOTAL PIPS | E29: TRADES | F29: TOTAL MONTANT | G29: SLIPPAGE
A30: 43374 | D30: =SUM(B30:C30) -> 0 | F30: =(B30*8.54)+(C30*7.86) -> 0 | G30: =D30-D2 -> 0
A31: 43375 | D31: =SUM(B31:C31) -> 0 | F31: =(B31*8.54)+(C31*7.86) -> 0 | G31: =D31-D3 -> 0
A32: 43376 | D32: =SUM(B32:C32) -> 0 | F32: =(B32*8.54)+(C32*7.86) -> 0 | G32: =D32-D4 -> 0
A33: 43377 | D33: =SUM(B33:C33) -> 0 | F33: =(B33*8.54)+(C33*7.86) -> 0 | G33: =D33-D5 -> 0
A34: 43378 | D34: =SUM(B34:C34) -> 0 | F34: =(B34*8.54)+(C34*7.86) -> 0 | G34: =D34-D6 -> 0
A35: 43381 | D35: =SUM(B35:C35) -> 0 | F35: =(B35*8.54)+(C35*7.86) -> 0 | G35: =D35-D7 -> 0
A36: 43382 | D36: =SUM(B36:C36) -> 0 | F36: =(B36*8.54)+(C36*7.86) -> 0 | G36: =D36-D8 -> 0
A37: 43383 | D37: =SUM(B37:C37) -> 0 | F37: =(B37*8.54)+(C37*7.86) -> 0 | G37: =D37-D9 -> 0
A38: 43384 | D38: =SUM(B38:C38) -> 0 | F38: =(B38*8.54)+(C38*7.86) -> 0 | G38: =D38-D10 -> 0
A39: 43385 | D39: =SUM(B39:C39) -> 0 | F39: =(B39*8.54)+(C39*7.86) -> 0 | G39: =D39-D11 -> 0
A40: 43388 | D40: =SUM(B40:C40) -> 0 | F40: =(B40*8.54)+(C40*7.86) -> 0 | G40: =D40-D12 -> 0
A41: 43389 | D41: =SUM(B41:C41) -> 0 | F41: =(B41*8.54)+(C41*7.86) -> 0 | G41: =D41-D13 -> 0
... A52: 43404 | D52: =SUM(B52:C52) -> 0 | F52: =(B52*8.54)+(C52*7.86) -> 0 | G52: =D52-D24 -> 0
A53: TOTAL | B53: =SUM(B30:B50) -> 0 | C53: =SUM(C30:C50) -> 0 | D53: =SUM(D30:D50) -> 0 | E53: =SUM(E30:E50) -> 0 | F53: =SUM(F30:F50) -> 0 | G53: =SUM(G30:G51) -> 0
A54: TOTAL MONTANT | B54: =(B53*8.6) -> 0 | C54: =(C53*7.86) -> 0
A55: TOTAL TRADES | E55: =SUM(B55:C55) -> 0
A58: Open Date | B58: Close Date | C58: Symbol | D58: Action | E58: Lots | F58: SL | G58: TP | H58: Open Price | I58: Close Price | J58: Commission | K58: Swap | L58: Pips | M58: Comptes
A59: 43353.583 | B59: 43353.726 | C59: EURUSD | D59: Sell | E59: 0.11 | F59: 1.14841 | G59: 1.14181 | H59: 1.14489 | I59: 1.14842 | J59: -0.83 | K59: 0 | L59: -35.3 | M59: Pepperstone

Sheet F
A1: F - VOL Portfolio | B1: EURUSD | C1: GBPUSD | D1: TOTAL PIPS | E1: TRADES | F1: TOTAL MONTANT
A2: 43374 | D2: =SUM(B2:C2) -> 0 | F2: =(B2*8.6)+(C2*8.6) -> 0
A3: 43375 | D3: =SUM(B3:C3) -> 0 | F3: =(B3*8.6)+(C3*8.6) -> 0
A4: 43376 | D4: =SUM(B4:C4) -> 0 | F4: =(B4*8.6)+(C4*8.6) -> 0
A5: 43377 | D5: =SUM(B5:C5) -> 0 | F5: =(B5*8.6)+(C5*8.6) -> 0
A6: 43378 | D6: =SUM(B6:C6) -> 0 | F6: =(B6*8.6)+(C6*8.6) -> 0
A7: 43381 | D7: =SUM(B7:C7) -> 0 | F7: =(B7*8.6)+(C7*8.6) -> 0
A8: 43382 | D8: =SUM(B8:C8) -> 0 | F8: =(B8*8.6)+(C8*8.6) -> 0
A9: 43383 | D9: =SUM(B9:C9) -> 0 | F9: =(B9*8.6)+(C9*8.6) -> 0
A10: 43384 | D10: =SUM(B10:C10) -> 0 | F10: =(B10*8.6)+(C10*8.6) -> 0
A11: 43385 | D11: =SUM(B11:C11) -> 0 | F11: =(B11*8.6)+(C11*8.6) -> 0
A12: 43388 | D12: =SUM(B12:C12) -> 0 | F12: =(B12*8.6)+(C12*8.6) -> 0
A13: 43389 | D13: =SUM(B13:C13) -> 0 | F13: =(B13*8.6)+(C13*8.6) -> 0
... A24: 43404 | D24: =SUM(B24:C24) -> 0 | F24: =(B24*8.6)+(C24*8.6) -> 0
A25: TOTAL | B25: =SUM(B2:B24) -> 0 | C25: =SUM(C2:C24) -> 0 | D25: =SUM(D2:D24) -> 0 | E25: =SUM(E2:E24) -> 0 | F25: =SUM(F2:F22) -> 0
A26: TOTAL TRADES | E26: =SUM(B26:D26) -> 0
A27: TOTAL MONTANT | B27: =(B25*8.6) -> 0 | C27: =(C25*8.6) -> 0
A29: VOL Portfolio / SC GAM | B29: EURUSD | C29: GBPUSD | D29: TOTAL PIPS | E29: TRADES | F29: TOTAL MONTANT | G29: SLIPPAGE
A30: 43374 | D30: =SUM(B30:C30) -> 0 | F30: =(B30*8.6)+(C30*8.6) -> 0 | G30: =B30-B2 -> 0
A31: 43375 | D31: =SUM(B31:C31) -> 0 | F31: =(B31*8.6)+(C31*8.6) -> 0 | G31: =B31-B3 -> 0
A32: 43376 | D32: =SUM(B32:C32) -> 0 | F32: =(B32*8.6)+(C32*8.6) -> 0 | G32: =B32-B4 -> 0
A33: 43377 | D33: =SUM(B33:C33) -> 0 | F33: =(B33*8.6)+(C33*8.6) -> 0 | G33: =B33-B5 -> 0
A34: 43378 | D34: =SUM(B34:C34) -> 0 | F34: =(B34*8.6)+(C34*8.6) -> 0 | G34: =B34-B6 -> 0
A35: 43381 | D35: =SUM(B35:C35) -> 0 | F35: =(B35*8.6)+(C35*8.6) -> 0 | G35: =B35-B7 -> 0
A36: 43382 | D36: =SUM(B36:C36) -> 0 | F36: =(B36*8.6)+(C36*8.6) -> 0 | G36: =B36-B8 -> 0
A37: 43383 | D37: =SUM(B37:C37) -> 0 | F37: =(B37*8.6)+(C37*8.6) -> 0 | G37: =B37-B9 -> 0
A38: 43384 | D38: =SUM(B38:C38) -> 0 | F38: =(B38*8.6)+(C38*8.6) -> 0 | G38: =B38-B10 -> 0
A39: 43385 | D39: =SUM(B39:C39) -> 0 | F39: =(B39*8.6)+(C39*8.6) -> 0 | G39: =B39-B11 -> 0
A40: 43388 | D40: =SUM(B40:C40) -> 0 | F40: =(B40*8.6)+(C40*8.6) -> 0 | G40: =B40-B12 -> 0
A41: 43389 | D41: =SUM(B41:C41) -> 0 | F41: =(B41*8.6)+(C41*8.6) -> 0 | G41: =B41-B13 -> 0
... A52: 43404 | D52: =SUM(B52:C52) -> 0 | F52: =(B52*8.6)+(C52*8.6) -> 0 | G52: =B52-B24 -> 0
A53: TOTAL | B53: =SUM(B30:B50) -> 0 | C53: =SUM(C30:C50) -> 0 | D53: =SUM(D30:D52) -> 0 | E53: =SUM(E30:E52) -> 0 | F53: =SUM(F30:F52) -> 0 | G53: =SUM(G30:G51) -> 0
A54: TOTAL TRADES | E54: =SUM(B54:D54) -> 0
A55: TOTAL MONTANT | B55: =(B53*8.6) -> 0 | C55: =(C53*8.6) -> 0
A58: Open Date | B58: Close Date | C58: Symbol | D58: Action | E58: Lots | F58: SL | G58: TP | H58: Open Price | I58: Close Price | J58: Commission | K58: Swap | L58: Pips | M58: Comptes
A59: 43353.826 | B59: 43383.351 | C59: GBPUSD | D59: Buy | E59: 0.01 | F59: 0 | G59: 0 | H59: 1.31262 | I59: 1.31725 | J59: -0.06 | K59: -0.09 | L59: 46.3 | M59: VOL Portfolio
A60: 43353.781 | B60: 43383.351 | C60: GBPUSD | D60: Buy | E60: 0.01 | F60: 0 | G60: 0 | H60: 1.31382 | I60: 1.31725 | J60: -0.06 | K60: -0.09 | L60: 34.3 | M60: VOL Portfolio
A61: 43353.778 | B61: 43383.347 | C61: GBPUSD | D61: Buy | E61: 0.01 | F61: 0 | G61: 0 | H61: 1.31371 | I61: 1.31653 | J61: -0.06 | K61: -0.09 | L61: 28.2 | M61: VOL Portfolio
A62: 43353.733 | B62: 43383.174 | C62: EURUSD | D62: Buy | E62: 0.02 | F62: 0 | G62: 0 | H62: 1.14822 | I62: 1.15115 | J62: -0.12 | K62: -0.23 | L62: 29.3 | M62: VOL Portfolio
A63: 43353.729 | B63: 43383.17 | C63: EURUSD | D63: Buy | E63: 0.02 | F63: 0 | G63: 0 | H63: 1.14805 | I63: 1.15124 | J63: -0.12 | K63: -0.23 | L63: 31.9 | M63: VOL Portfolio
...

Sheet G
A1: G - Atlas | B1: EURUSD | C1: GBPUSD | D1: USDJPY | E1: AUDUSD | F1: TOTAL PIPS | G1: TRADES | H1: TOTAL MONTANT
A2: 43374 | F2: =SUM(B2:E2) -> 0 | H2: =(B2*8.6)+(C2*8.6)+(D2*7.6)+(E2*8.3) -> 0
A3: 43375 | F3: =SUM(B3:E3) -> 0 | H3: =(B3*8.6)+(C3*8.6)+(D3*7.6)+(E3*8.3) -> 0
A4: 43376 | F4: =SUM(B4:E4) -> 0 | H4: =(B4*8.6)+(C4*8.6)+(D4*7.6)+(E4*8.3) -> 0
A5: 43377 | F5: =SUM(B5:E5) -> 0 | H5: =(B5*8.6)+(C5*8.6)+(D5*7.6)+(E5*8.3) -> 0
A6: 43378 | F6: =SUM(B6:E6) -> 0 | H6: =(B6*8.6)+(C6*8.6)+(D6*7.6)+(E6*8.3) -> 0
A7: 43381 | F7: =SUM(B7:E7) -> 0 | H7: =(B7*8.6)+(C7*8.6)+(D7*7.6)+(E7*8.3) -> 0
A8: 43382 | F8: =SUM(B8:E8) -> 0 | H8: =(B8*8.6)+(C8*8.6)+(D8*7.6)+(E8*8.3) -> 0
A9: 43383 | F9: =SUM(B9:E9) -> 0 | H9: =(B9*8.6)+(C9*8.6)+(D9*7.6)+(E9*8.3) -> 0
A10: 43384 | F10: =SUM(B10:E10) -> 0 | H10: =(B10*8.6)+(C10*8.6)+(D10*7.6)+(E10*8.3) -> 0
A11: 43385 | F11: =SUM(B11:E11) -> 0 | H11: =(B11*8.6)+(C11*8.6)+(D11*7.6)+(E11*8.3) -> 0
A12: 43388 | F12: =SUM(B12:E12) -> 0 | H12: =(B12*8.6)+(C12*8.6)+(D12*7.6)+(E12*8.3) -> 0
A13: 43389 | F13: =SUM(B13:E13) -> 0 | H13: =(B13*8.6)+(C13*8.6)+(D13*7.6)+(E13*8.3) -> 0
... A24: 43404 | F24: =SUM(B24:E24) -> 0 | H24: =(B24*8.6)+(C24*8.6)+(D24*7.6)+(E24*8.3) -> 0
A25: TOTAL | B25: =SUM(B2:B22) -> 0 | C25: =SUM(C2:C22) -> 0 | D25: =SUM(D2:D22) -> 0 | E25: =SUM(E2:E22) -> 0 | F25: =SUM(F2:F22) -> 0 | G25: =SUM(G2:G23) -> 0 | H25: =SUM(H2:H22) -> 0
A26: TOTAL TRADES | G26: =SUM(B26:E26) -> 0
A27: TOTAL MONTANT | B27: =(B25*8.6) -> 0 | C27: =(C25*8.6) -> 0 | D27: =(D25*7.86) -> 0 | E27: =(E25*8.3) -> 0 | F27: =SUM(B27:E27) -> 0
A29: Atlas / YRL CAPITAL | B29: EURUSD | C29: GBPUSD | D29: USDJPY | E29: AUDUSD | F29: TOTAL PIPS | G29: TRADES | H29: TOTAL MONTANT | I29: SLIPPAGE
A30: 43374 | F30: =SUM(B30:E30) -> 0 | H30: =(B30*8.6)+(C30*8.6)+(D30*7.6)+(E30*8.3) -> 0 | I30: =F30-F2 -> 0
A31: 43375 | F31: =SUM(B31:E31) -> 0 | H31: =(B31*8.6)+(C31*8.6)+(D31*7.6)+(E31*8.3) -> 0 | I31: =F31-F3 -> 0
A32: 43376 | F32: =SUM(B32:E32) -> 0 | H32: =(B32*8.6)+(C32*8.6)+(D32*7.6)+(E32*8.3) -> 0 | I32: =F32-F4 -> 0
A33: 43377 | F33: =SUM(B33:E33) -> 0 | H33: =(B33*8.6)+(C33*8.6)+(D33*7.6)+(E33*8.3) -> 0 | I33: =F33-F5 -> 0
A34: 43378 | F34: =SUM(B34:E34) -> 0 | H34: =(B34*8.6)+(C34*8.6)+(D34*7.6)+(E34*8.3) -> 0 | I34: =F34-F6 -> 0
A35: 43381 | F35: =SUM(B35:E35) -> 0 | H35: =(B35*8.6)+(C35*8.6)+(D35*7.6)+(E35*8.3) -> 0 | I35: =F35-F7 -> 0
A36: 43382 | F36: =SUM(B36:E36) -> 0 | H36: =(B36*8.6)+(C36*8.6)+(D36*7.6)+(E36*8.3) -> 0 | I36: =F36-F8 -> 0
A37: 43383 | F37: =SUM(B37:E37) -> 0 | H37: =(B37*8.6)+(C37*8.6)+(D37*7.6)+(E37*8.3) -> 0 | I37: =F37-F9 -> 0
A38: 43384 | F38: =SUM(B38:E38) -> 0 | H38: =(B38*8.6)+(C38*8.6)+(D38*7.6)+(E38*8.3) -> 0 | I38: =F38-F10 -> 0
A39: 43385 | F39: =SUM(B39:E39) -> 0 | H39: =(B39*8.6)+(C39*8.6)+(D39*7.6)+(E39*8.3) -> 0 | I39: =F39-F11 -> 0
A40: 43388 | F40: =SUM(B40:E40) -> 0 | H40: =(B40*8.6)+(C40*8.6)+(D40*7.6)+(E40*8.3) -> 0 | I40: =F40-F12 -> 0
A41: 43389 | F41: =SUM(B41:E41) -> 0 | H41: =(B41*8.6)+(C41*8.6)+(D41*7.6)+(E41*8.3) -> 0 | I41: =F41-F13 -> 0
... A52: 43404 | F52: =SUM(B52:E52) -> 0 | H52: =(B52*8.6)+(C52*8.6)+(D52*7.6)+(E52*8.3) -> 0 | I52: =F52-F24 -> 0
A53: TOTAL | B53: =SUM(B30:B50) -> 0 | C53: =SUM(C30:C50) -> 0 | D53: =SUM(D30:D50) -> 0 | E53: =SUM(E30:E50) -> 0 | F53: =SUM(F30:F52) -> 0 | G53: =SUM(G30:G50) -> 0 | H53: =SUM(H30:H50) -> 0 | I53: =SUM(I30:I51) -> 0
A54: TOTAL MONTANT | B54: =(B53*8.6) -> 0 | C54: =(C53*8.6) -> 0 | D54: =(D53*7.86) -> 0 | E54: =(E53*8.3) -> 0
A55: TOTAL TRADES | G55: =SUM(B55:E55) -> 0
A58: Open Date | B58: Close Date | C58: Symbol | D58: Action | E58: Lots | F58: SL | G58: TP | H58: Open Price | I58: Close Price | J58: Commission | K58: Swap | L58: Pips | M58: Comptes
A59: 43383.792 | B59: 43383.817 | C59: EURUSD | D59: Sell | E59: 0.3 | F59: 1.15765 | G59: 1.06405 | H59: 1.15405 | I59: 1.15452 | J59: -1.14 | K59: 0 | L59: -4.7 | M59: Atlas
A60: 43383.167 | B60: 43383.817 | C60: EURUSD | D60: Sell | E60: 0.3 | F60: 1.15441 | G60: 1.06081 | H60: 1.15081 | I60: 1.15451 | J60: -1.14 | K60: 0 | L60: -37 | M60: Atlas
A61: 43383.708 | B61: 43383.765 | C61: USDJPY | D61: Sell | E61: 0.06 | F61: 113.087 | G61: 112.596 | H61: 112.911 | I61: 112.616 | J61: -0.2 | K61: 0 | L61: 29.5 | M61: Atlas
A62: 43383.125 | B62: 43383.75 | C62: EURUSD | D62: Sell | E62: 0.3 | F62: 1.15443 | G62: 1.12133 | H62: 1.15033 | I62: 1.15341 | J62: -1.14 | K62: 0 | L62: -30.8 | M62: Atlas
A63: 43353.722 | B63: 43353.938 | C63: EURUSD | D63: Sell | E63: 0.3 | F63: 1.15193 | G63: 1.13233 | H63: 1.14723 | I63: 1.14889 | J63: -1.14 | K63: 0 | L63: -16.6 | M63: Atlas
...

Sheet H
A1: H - Scorpion | B1: EURUSD | C1: GBPUSD | D1: USDJPY | E1: TOTAL PIPS | F1: TRADES | G1: TOTAL MONTANT
A2: 43374 | E2: =SUM(B2:D2) -> 0 | G2: =(B2*8.6)+(C2*8.6)+(D2*7.86) -> 0
A3: 43375 | E3: =SUM(B3:D3) -> 0 | G3: =(B3*8.6)+(C3*8.6)+(D3*7.86) -> 0
A4: 43376 | E4: =SUM(B4:D4) -> 0 | G4: =(B4*8.6)+(C4*8.6)+(D4*7.86) -> 0
A5: 43377 | E5: =SUM(B5:D5) -> 0 | G5: =(B5*8.6)+(C5*8.6)+(D5*7.86) -> 0
A6: 43378 | E6: =SUM(B6:D6) -> 0 | G6: =(B6*8.6)+(C6*8.6)+(D6*7.86) -> 0
A7: 43381 | E7: =SUM(B7:D7) -> 0 | G7: =(B7*8.6)+(C7*8.6)+(D7*7.86) -> 0
A8: 43382 | E8: =SUM(B8:D8) -> 0 | G8: =(B8*8.6)+(C8*8.6)+(D8*7.86) -> 0
A9: 43383 | E9: =SUM(B9:D9) -> 0 | G9: =(B9*8.6)+(C9*8.6)+(D9*7.86) -> 0
A10: 43384 | E10: =SUM(B10:D10) -> 0 | G10: =(B10*8.6)+(C10*8.6)+(D10*7.86) -> 0
A11: 43385 | E11: =SUM(B11:D11) -> 0 | G11: =(B11*8.6)+(C11*8.6)+(D11*7.86) -> 0
A12: 43388 | E12: =SUM(B12:D12) -> 0 | G12: =(B12*8.6)+(C12*8.6)+(D12*7.86) -> 0
A13: 43389 | E13: =SUM(B13:D13) -> 0 | G13: =(B13*8.6)+(C13*8.6)+(D13*7.86) -> 0
... A24: 43404 | E24: =SUM(B24:D24) -> 0 | G24: =(B24*8.6)+(C24*8.6)+(D24*7.86) -> 0
A25: TOTAL | B25: =SUM(B2:B22) -> 0 | C25: =SUM(C2:C22) -> 0 | D25: =SUM(D2:D22) -> 0 | E25: =SUM(E2:E22) -> 0 | F25: =SUM(F2:F22) -> 0 | G25: =SUM(G2:G22) -> 0
A26: TOTAL TRADES | F26: =SUM(B26:D26) -> 0
A27: TOTAL MONTANT | B27: =(B25*8.6) -> 0 | C27: =(C25*8.6) -> 0 | D27: =(D25*7.86) -> 0
A29: Scorpion / YRL CAPITAL | B29: EURUSD | C29: GBPUSD | D29: USDJPY | E29: TOTAL PIPS | F29: TRADES | G29: TOTAL MONTANT | H29: SLIPPAGE | I29: Commentaires
A30: 43374 | E30: =SUM(B30:D30) -> 0 | G30: =(B30*8.6)+(C30*8.6)+(D30*7.86) -> 0 | H30: =E30-E2 -> 0
A31: 43375 | E31: =SUM(B31:D31) -> 0 | G31: =(B31*8.6)+(C31*8.6)+(D31*7.86) -> 0 | H31: =E31-E3 -> 0
A32: 43376 | E32: =SUM(B32:D32) -> 0 | G32: =(B32*8.6)+(C32*8.6)+(D32*7.86) -> 0 | H32: =E32-E4 -> 0
A33: 43377 | E33: =SUM(B33:D33) -> 0 | G33: =(B33*8.6)+(C33*8.6)+(D33*7.86) -> 0 | H33: =E33-E5 -> 0
A34: 43378 | E34: =SUM(B34:D34) -> 0 | G34: =(B34*8.6)+(C34*8.6)+(D34*7.86) -> 0 | H34: =E34-E6 -> 0
A35: 43381 | E35: =SUM(B35:D35) -> 0 | G35: =(B35*8.6)+(C35*8.6)+(D35*7.86) -> 0 | H35: =E35-E7 -> 0
A36: 43382 | E36: =SUM(B36:D36) -> 0 | G36: =(B36*8.6)+(C36*8.6)+(D36*7.86) -> 0 | H36: =E36-E8 -> 0
A37: 43383 | E37: =SUM(B37:D37) -> 0 | G37: =(B37*8.6)+(C37*8.6)+(D37*7.86) -> 0 | H37: =E37-E9 -> 0
A38: 43384 | E38: =SUM(B38:D38) -> 0 | G38: =(B38*8.6)+(C38*8.6)+(D38*7.86) -> 0 | H38: =E38-E10 -> 0
A39: 43385 | E39: =SUM(B39:D39) -> 0 | G39: =(B39*8.6)+(C39*8.6)+(D39*7.86) -> 0 | H39: =E39-E11 -> 0
A40: 43388 | E40: =SUM(B40:D40) -> 0 | G40: =(B40*8.6)+(C40*8.6)+(D40*7.86) -> 0 | H40: =E40-E12 -> 0
