Workbook

Sheet TOTAL
A1: 43374
A2: TOTAL ACCOUNTS | B2: A | C2: B | D2: C | E2: D | F2: E | G2: F | H2: G | I2: H | J2: I | K2: TOTAL PIPS | L2: TRADES | M2: TOTAL MONTANT
A3: 43374 | B3: ='A '!D2 -> 0 | C3: =B!E2 -> 0 | D3: ='C'!G2 -> -16.4 | E3: =D!D2 -> -22.1 | F3: =E!D2 -> 0 | G3: =F!D2 -> 0 | H3: =G!F2 -> #VALUE! | I3: =H!E2 -> -31.1 | J3: ='I '!H2 -> -204.5 | K3: =SUM(B3:J3) -> #VALUE! | L3: ='A '!E2+B!F2+'C'!H2+D!E2+E!E2+F!E2+G!G2+H!F2 -> #VALUE! | M3: ='A '!F2+B!G2+'C'!I2+D!F2+E!F2+F!F2+G!H2+H!G2 -> #VALUE!
A4: 43375 | B4: ='A '!D3 -> 0 | C4: =B!E3 -> 0 | D4: ='C'!G3 -> 0 | E4: =D!D3 -> 28.7 | F4: =E!D3 -> 0 | G4: =F!D3 -> 4.2 | H4: =G!F3 -> #VALUE! | I4: =H!E3 -> -1.4 | J4: ='I '!H3 -> -30.9 | K4: =SUM(B4:J4) -> #VALUE! | L4: ='A '!E3+B!F3+'C'!H3+D!E3+E!E3+F!E3+G!G3+H!F3 -> #VALUE! | M4: ='A '!F3+B!G3+'C'!I3+D!F3+E!F3+F!F3+G!H3+H!G3 -> #VALUE!
A5: 43376 | B5: ='A '!D4 -> 0 | C5: =B!E4 -> 0 | D5: ='C'!G4 -> -3.4 | E5: =D!D4 -> 90.2 | F5: =E!D4 -> 0 | G5: =F!D4 -> -114 | H5: =G!F4 -> #VALUE! | I5: =H!E4 -> -59.8 | J5: ='I '!H4 -> -53.8 | K5: =SUM(B5:J5) -> #VALUE! | L5: ='A '!E4+B!F4+'C'!H4+D!E4+E!E4+F!E4+G!G4+H!F4 -> #VALUE! | M5: ='A '!F4+B!G4+'C'!I4+D!F4+E!F4+F!F4+G!H4+H!G4 -> #VALUE!
A6: 43377 | B6: ='A '!D5 -> 0 | C6: =B!E5 -> 0 | D6: ='C'!G5 -> 57.7 | E6: =D!D5 -> 72.2 | F6: =E!D5 -> 0 | G6: =F!D5 -> -66.7 | H6: =G!F5 -> #VALUE! | I6: =H!E5 -> -156.4 | J6: ='I '!H5 -> -71.5 | K6: =SUM(B6:J6) -> #VALUE! | L6: ='A '!E5+B!F5+'C'!H5+D!E5+E!E5+F!E5+G!G5+H!F5 -> #VALUE! | M6: ='A '!F5+B!G5+'C'!I5+D!F5+E!F5+F!F5+G!H5+H!G5 -> #VALUE!
A7: 43378 | B7: ='A '!D6 -> 0 | C7: =B!E6 -> 0 | D7: ='C'!G6 -> 319.3 | E7: =D!D6 -> -11.7 | F7: =E!D6 -> 0 | G7: =F!D6 -> -111.2 | H7: =G!F6 -> #VALUE! | I7: =H!E6 -> -3.8 | J7: ='I '!H6 -> -69.5 | K7: =SUM(B7:J7) -> #VALUE! | L7: ='A '!E6+B!F6+'C'!H6+D!E6+E!E6+F!E6+G!G6+H!F6 -> #VALUE! | M7: ='A '!F6+B!G6+'C'!I6+D!F6+E!F6+F!F6+G!H6+H!G6 -> #VALUE!
A8: 43381 | B8: ='A '!D7 -> 0 | C8: =B!E7 -> 0 | D8: ='C'!G7 -> 93.2 | E8: =D!D7 -> 54.8 | F8: =E!D7 -> 0 | G8: =F!D7 -> 0 | H8: =G!F7 -> #VALUE! | I8: =H!E7 -> -38.2 | J8: ='I '!H7 -> 0 | K8: =SUM(B8:J8) -> #VALUE! | L8: ='A '!E7+B!F7+'C'!H7+D!E7+E!E7+F!E7+G!G7+H!F7 -> #VALUE! | M8: ='A '!F7+B!G7+'C'!I7+D!F7+E!F7+F!F7+G!H7+H!G7 -> #VALUE!
A9: 43382 | B9: ='A '!D8 -> 0 | C9: =B!E8 -> 0 | D9: ='C'!G8 -> 72 | E9: =D!D8 -> -53.4 | F9: =E!D8 -> -35.3 | G9: =F!D8 -> 91.2 | H9: =G!F8 -> #VALUE! | I9: =H!E8 -> 99.2 | J9: ='I '!H8 -> -21.7 | K9: =SUM(B9:J9) -> #VALUE! | L9: ='A '!E8+B!F8+'C'!H8+D!E8+E!E8+F!E8+G!G8+H!F8 -> #VALUE! | M9: ='A '!F8+B!G8+'C'!I8+D!F8+E!F8+F!F8+G!H8+H!G8 -> #VALUE!
A10: 43383 | B10: ='A '!D9 -> 0 | C10: =B!E9 -> 0 | D10: ='C'!G9 -> 0 | E10: =D!D9 -> 1.4 | F10: =E!D9 -> 0 | G10: =F!D9 -> 198.6 | H10: =G!F9 -> #VALUE! | I10: =H!E9 -> 253.6 | J10: ='I '!H9 -> 0 | K10: =SUM(B10:J10) -> #VALUE! | L10: ='A '!E9+B!F9+'C'!H9+D!E9+E!E9+F!E9+G!G9+H!F9 -> #VALUE! | M10: ='A '!F9+B!G9+'C'!I9+D!F9+E!F9+F!F9+G!H9+H!G9 -> #VALUE!
A11: 43384 | B11: ='A '!D10 -> 0 | C11: =B!E10 -> 0 | D11: ='C'!G10 -> -6.5 | E11: =D!D10 -> -35.4 | F11: =E!D10 -> 0 | G11: =F!D10 -> 30.9 | H11: =G!F10 -> #VALUE! | I11: =H!E10 -> 41.8 | J11: ='I '!H10 -> -62.4 | K11: =SUM(B11:J11) -> #VALUE! | L11: ='A '!E10+B!F10+'C'!H10+D!E10+E!E10+F!E10+G!G10+H!F10 -> #VALUE! | M11: ='A '!F10+B!G10+'C'!I10+D!F10+E!F10+F!F10+G!H10+H!G10 -> #VALUE!
A12: 43385 | B12: ='A '!D11 -> 0 | C12: =B!E11 -> 0 | D12: ='C'!G11 -> 0 | E12: =D!D11 -> 22.7 | F12: =E!D11 -> -6.9 | G12: =F!D11 -> 0 | H12: =G!F11 -> #VALUE! | I12: =H!E11 -> 0 | J12: ='I '!H11 -> 0 | K12: =SUM(B12:J12) -> #VALUE! | L12: ='A '!E11+B!F11+'C'!H11+D!E11+E!E11+F!E11+G!G11+H!F11 -> #VALUE! | M12: ='A '!F11+B!G11+'C'!I11+D!F11+E!F11+F!F11+G!H11+H!G11 -> #VALUE!
A13: 43388 | B13: ='A '!D12 -> 0 | C13: =B!E12 -> 0 | D13: ='C'!G12 -> 0 | E13: =D!D12 -> 0 | F13: =E!D12 -> 0 | G13: =F!D12 -> 0 | H13: =G!F12 -> #VALUE! | I13: =H!E12 -> 0 | J13: ='I '!H12 -> 0 | K13: =SUM(B13:J13) -> #VALUE! | L13: ='A '!E12+B!F12+'C'!H12+D!E12+E!E12+F!E12+G!G12+H!F12 -> #VALUE! | M13: ='A '!F12+B!G12+'C'!I12+D!F12+E!F12+F!F12+G!H12+H!G12 -> #VALUE!
A14: 43389 | B14: ='A '!D13 -> 0 | C14: =B!E13 -> 0 | D14: ='C'!G13 -> 0 | E14: =D!D13 -> 0 | F14: =E!D13 -> 0 | G14: =F!D13 -> 0 | H14: =G!F13 -> #VALUE! | I14: =H!E13 -> 0 | J14: ='I '!H13 -> 0 | K14: =SUM(B14:J14) -> #VALUE! | L14: ='A '!E13+B!F13+'C'!H13+D!E13+E!E13+F!E13+G!G13+H!F13 -> #VALUE! | M14: ='A '!F13+B!G13+'C'!I13+D!F13+E!F13+F!F13+G!H13+H!G13 -> #VALUE!
... A17: 43392 | B17: ='A '!D16 -> 0 | C17: =B!E16 -> 0 | D17: ='C'!G16 -> 0 | E17: =D!D16 -> 0 | F17: =E!D16 -> 0 | G17: =F!D16 -> 0 | H17: =G!F16 -> #VALUE! | I17: =H!E16 -> 0 | J17: ='I '!H16 -> 0 | K17: =SUM(B17:J17) -> #VALUE! | L17: ='A '!E16+B!F16+'C'!H16+D!E16+E!E16+F!E16+G!G16+H!F16 -> #VALUE! | M17: ='A '!F16+B!G16+'C'!I16+D!F16+E!F16+F!F16+G!H16+H!G16 -> #VALUE!
A18: 43395 | B18: ='A '!D17 -> 0 | C18: =B!E17 -> 0 | D18: ='C'!G17 -> 0 | E18: =D!D17 -> 0 | F18: =E!D17 -> 0 | G18: =F!D17 -> 0 | H18: =G!F17 -> #VALUE! | I18: =H!E17 -> 0 | J18: ='I '!H17 -> 0 | K18: =SUM(B18:J18) -> #VALUE! | L18: ='A '!E17+B!F17+'C'!H17+D!E17+E!E17+F!E17+G!G17+H!F17 -> #VALUE! | M18: ='A '!F17+B!G17+'C'!I17+D!F17+E!F17+F!F17+G!H17+H!G17+'I '!O25 -> #VALUE!
A19: 43396 | B19: ='A '!D18 -> 0 | C19: =B!E18 -> 0 | D19: ='C'!G18 -> 0 | E19: =D!D18 -> 0 | F19: =E!D18 -> 0 | G19: =F!D18 -> 0 | H19: =G!F18 -> #VALUE! | I19: =H!E18 -> 0 | J19: ='I '!H18 -> 0 | K19: =SUM(B19:J19) -> #VALUE! | L19: ='A '!E18+B!F18+'C'!H18+D!E18+E!E18+F!E18+G!G18+H!F18 -> #VALUE! | M19: ='A '!F18+B!G18+'C'!I18+D!F18+E!F18+F!F18+G!H18+H!G18 -> #VALUE!
A20: 43397 | B20: ='A '!D19 -> 0 | C20: =B!E19 -> 0 | D20: ='C'!G19 -> 0 | E20: =D!D19 -> 0 | F20: =E!D19 -> 0 | G20: =F!D19 -> 0 | H20: =G!F19 -> #VALUE! | I20: =H!E19 -> 0 | J20: ='I '!H19 -> 0 | K20: =SUM(B20:J20) -> #VALUE! | L20: ='A '!E19+B!F19+'C'!H19+D!E19+E!E19+F!E19+G!G19+H!F19 -> #VALUE! | M20: ='A '!F19+B!G19+'C'!I19+D!F19+E!F19+F!F19+G!H19+H!G19 -> #VALUE!
A21: 43398 | B21: ='A '!D20 -> 0 | C21: =B!E20 -> 0 | D21: ='C'!G20 -> 0 | E21: =D!D20 -> 0 | F21: =E!D20 -> 0 | G21: =F!D20 -> 0 | H21: =G!F20 -> #VALUE! | I21: =H!E20 -> 0 | J21: ='I '!H20 -> 0 | K21: =SUM(B21:J21) -> #VALUE! | L21: ='A '!E20+B!F20+'C'!H20+D!E20+E!E20+F!E20+G!G20+H!F20 -> #VALUE! | M21: ='A '!F20+B!G20+'C'!I20+D!F20+E!F20+F!F20+G!H20+H!G20 -> #VALUE!
A22: 43399 | B22: ='A '!D21 -> 0 | C22: =B!E21 -> 0 | D22: ='C'!G21 -> 0 | E22: =D!D21 -> 0 | F22: =E!D21 -> 0 | G22: =F!D21 -> 0 | H22: =G!F21 -> #VALUE! | I22: =H!E21 -> 0 | J22: ='I '!H21 -> 0 | K22: =SUM(B22:J22) -> #VALUE! | L22: ='A '!E21+B!F21+'C'!H21+D!E21+E!E21+F!E21+G!G21+H!F21 -> #VALUE! | M22: ='A '!F21+B!G21+'C'!I21+D!F21+E!F21+F!F21+G!H21+H!G21 -> #VALUE!
A23: 43402 | B23: ='A '!D22 -> 0 | C23: =B!E22 -> 0 | D23: ='C'!G22 -> 0 | E23: =D!D22 -> 0 | F23: =E!D22 -> 0 | G23: =F!D22 -> 0 | H23: =G!F22 -> #VALUE! | I23: =H!E22 -> 0 | J23: ='I '!H22 -> 0 | K23: =SUM(B23:J23) -> #VALUE! | L23: ='A '!E22+B!F22+'C'!H22+D!E22+E!E22+F!E22+G!G22+H!F22 -> #VALUE! | M23: ='A '!F22+B!G22+'C'!I22+D!F22+E!F22+F!F22+G!H22+H!G22 -> #VALUE!
A24: 43403 | B24: ='A '!D23 -> 0 | C24: =B!E23 -> 0 | D24: ='C'!G23 -> 0 | E24: =D!D23 -> 0 | F24: =E!D23 -> 0 | G24: =F!D23 -> 0 | H24: =G!F23 -> #VALUE! | I24: =H!E23 -> 0 | J24: ='I '!H23 -> 0 | K24: =SUM(B24:J24) -> #VALUE! | L24: ='A '!E23+B!F23+'C'!H23+D!E23+E!E23+F!E23+G!G23+H!F23 -> #VALUE! | M24: ='A '!F23+B!G23+'C'!I23+D!F23+E!F23+F!F23+G!H23+H!G23 -> #VALUE!
A25: 43404 | B25: ='A '!D24 -> 0 | C25: =B!E24 -> 0 | D25: ='C'!G24 -> 0 | E25: =D!D24 -> 0 | F25: =E!D24 -> 0 | G25: =F!D24 -> 0 | H25: =G!F24 -> 0 | I25: =H!E24 -> 0 | J25: ='I '!H24 -> 0 | K25: =SUM(B25:J25) -> 0 | L25: ='A '!E24+B!F24+'C'!H24+D!E24+E!E24+F!E24+G!G24+H!F24 -> #VALUE! | M25: ='A '!F24+B!G24+'C'!I24+D!F24+E!F24+F!F24+G!H24+H!G24 -> 0
A26: TOTAL | B26: =SUM(B3:B25) -> 0 | C26: =SUM(C3:C25) -> 0 | D26: =SUM(D3:D25) -> 515.9 | E26: =SUM(E3:E25) -> 147.4 | F26: =SUM(F3:F25) -> -42.2 | G26: =SUM(G3:G25) -> 33 | H26: =SUM(H3:H25) -> #VALUE! | I26: =SUM(I3:I25) -> 103.9 | ... L26: =SUM(L3:L25) -> #VALUE!
A27: TOTAL TRADES | B27: ='A '!E25 -> 0 | C27: =B!F25 -> 0 | D27: ='C'!H25 -> 0 | E27: =D!E25 -> 28 | F27: =E!E25 -> 0 | G27: =F!E25 -> #VALUE! | H27: =G!G25 -> #VALUE! | I27: =H!F25 -> #VALUE! | J27: ='I '!N25 -> 0 | L27: =SUM(B27:J27) -> #VALUE!
A28: TOTAL MONTANT | B28: ='A '!F25 -> 0 | E28: =D!F25 -> 1163.95 | F28: =E!F25 -> -360.388 | G28: =F!F25 -> 283.8 | H28: =G!H25 -> #VALUE! | I28: =H!G25 -> 733.774 | J28: ='I '!J25 -> -4025.988 | K28: =SUM(B28:J28) -> #VALUE! | M28: =SUM(M3:M25) -> #VALUE!
A30: YRL_CAPITAL / SC GAM
A31: TOTAL ACCOUNTS | B31: A | C31: B | D31: C | E31: D | F31: E | G31: F | H31: G | I31: H | J31: TOTAL PIPS | K31: TOTAL MONTANT | L31: TRADES | M31: SLIPAGE ICM
A32: 43374 | B32: ='A '!#REF! -> #REF! | C32: =B!#REF! -> #REF! | D32: ='C'!#REF! -> #REF! | E32: =D!#REF! -> #REF! | F32: =E!#REF! -> #REF! | G32: =F!#REF! -> #REF! | H32: =G!#REF! -> #REF! | I32: =H!#REF! -> #REF! | J32: =SUM(B32:I32) -> #REF! | K32: =#REF!+#REF! -> #REF! | L32: =#REF!+#REF! -> #REF! | M32: =J32-K3 -> #REF!
A33: 43375 | B33: ='A '!#REF! -> #REF! | C33: =B!#REF! -> #REF! | D33: ='C'!#REF! -> #REF! | E33: =D!#REF! -> #REF! | F33: =E!#REF! -> #REF! | G33: =F!#REF! -> #REF! | H33: =G!#REF! -> #REF! | I33: =H!#REF! -> #REF! | J33: =SUM(B33:I33) -> #REF! | K33: =#REF!+#REF! -> #REF! | L33: =#REF!+#REF! -> #REF! | M33: =J33-K4 -> #REF!
A34: 43376 | B34: ='A '!#REF! -> #REF! | C34: =B!#REF! -> #REF! | D34: ='C'!#REF! -> #REF! | E34: =D!#REF! -> #REF! | F34: =E!#REF! -> #REF! | G34: =F!#REF! -> #REF! | H34: =G!#REF! -> #REF! | I34: =H!#REF! -> #REF! | J34: =SUM(B34:I34) -> #REF! | K34: =#REF!+#REF! -> #REF! | L34: =#REF!+#REF! -> #REF! | M34: =J34-K5 -> #REF!
A35: 43377 | B35: ='A '!#REF! -> #REF! | C35: =B!#REF! -> #REF! | D35: ='C'!#REF! -> #REF! | E35: =D!#REF! -> #REF! | F35: =E!#REF! -> #REF! | G35: =F!#REF! -> #REF! | H35: =G!#REF! -> #REF! | I35: =H!#REF! -> #REF! | J35: =SUM(B35:I35) -> #REF! | K35: =#REF!+#REF! -> #REF! | L35: =#REF!+#REF! -> #REF! | M35: =J35-K6 -> #REF!
A36: 43378 | B36: ='A '!#REF! -> #REF! | C36: =B!#REF! -> #REF! | D36: ='C'!#REF! -> #REF! | E36: =D!#REF! -> #REF! | F36: =E!#REF! -> #REF! | G36: =F!#REF! -> #REF! | H36: =G!#REF! -> #REF! | I36: =H!#REF! -> #REF! | J36: =SUM(B36:I36) -> #REF! | K36: =#REF!+#REF! -> #REF! | L36: =#REF!+#REF! -> #REF! | M36: =J36-K7 -> #REF!
A37: 43381 | B37: ='A '!#REF! -> #REF! | C37: =B!#REF! -> #REF! | D37: ='C'!#REF! -> #REF! | E37: =D!#REF! -> #REF! | F37: =E!#REF! -> #REF! | G37: =F!#REF! -> #REF! | H37: =G!#REF! -> #REF! | I37: =H!#REF! -> #REF! | J37: =SUM(B37:I37) -> #REF! | K37: =#REF!+#REF! -> #REF! | L37: =#REF!+#REF! -> #REF! | M37: =J37-K8 -> #REF!
A38: 43382 | B38: ='A '!#REF! -> #REF! | C38: =B!#REF! -> #REF! | D38: ='C'!#REF! -> #REF! | E38: =D!#REF! -> #REF! | F38: =E!#REF! -> #REF! | G38: =F!#REF! -> #REF! | H38: =G!#REF! -> #REF! | I38: =H!#REF! -> #REF! | J38: =SUM(B38:I38) -> #REF! | K38: =#REF!+#REF! -> #REF! | L38: =#REF!+#REF! -> #REF! | M38: =J38-K9 -> #REF!
A39: 43383 | B39: ='A '!#REF! -> #REF! | C39: =B!#REF! -> #REF! | D39: ='C'!#REF! -> #REF! | E39: =D!#REF! -> #REF! | F39: =E!#REF! -> #REF! | G39: =F!#REF! -> #REF! | H39: =G!#REF! -> #REF! | I39: =H!#REF! -> #REF! | J39: =SUM(B39:I39) -> #REF! | K39: =#REF!+#REF! -> #REF! | L39: =#REF!+#REF! -> #REF! | M39: =J39-K10 -> #REF!
A40: 43384 | B40: ='A '!#REF! -> #REF! | C40: =B!#REF! -> #REF! | D40: ='C'!#REF! -> #REF! | E40: =D!#REF! -> #REF! | F40: =E!#REF! -> #REF! | G40: =F!#REF! -> #REF! | H40: =G!#REF! -> #REF! | I40: =H!#REF! -> #REF! | J40: =SUM(B40:I40) -> #REF! | K40: =#REF!+#REF! -> #REF! | L40: =#REF!+#REF! -> #REF! | M40: =J40-K11 -> #REF!
A41: 43385 | B41: ='A '!#REF! -> #REF! | C41: =B!#REF! -> #REF! | D41: ='C'!#REF! -> #REF! | E41: =D!#REF! -> #REF! | F41: =E!#REF! -> #REF! | G41: =F!#REF! -> #REF! | H41: =G!#REF! -> #REF! | I41: =H!#REF! -> #REF! | J41: =SUM(B41:I41) -> #REF! | K41: =#REF!+#REF! -> #REF! | L41: =#REF!+#REF! -> #REF! | M41: =J41-K12 -> #REF!
A42: 43388 | B42: ='A '!#REF! -> #REF! | C42: =B!#REF! -> #REF! | D42: ='C'!#REF! -> #REF! | E42: =D!#REF! -> #REF! | F42: =E!#REF! -> #REF! | G42: =F!#REF! -> #REF! | H42: =G!#REF! -> #REF! | I42: =H!#REF! -> #REF! | J42: =SUM(B42:I42) -> #REF! | K42: =#REF!+#REF! -> #REF! | L42: =#REF!+#REF! -> #REF! | M42: =J42-K13 -> #REF!
A43: 43389 | B43: ='A '!#REF! -> #REF! | C43: =B!#REF! -> #REF! | D43: ='C'!#REF! -> #REF! | E43: =D!#REF! -> #REF! | F43: =E!#REF! -> #REF! | G43: =F!#REF! -> #REF! | H43: =G!#REF! -> #REF! | I43: =H!#REF! -> #REF! | J43: =SUM(B43:I43) -> #REF! | K43: =#REF!+#REF! -> #REF! | L43: =#REF!+#REF! -> #REF! | M43: =J43-K14 -> #REF!
... A53: 43403 | B53: ='A '!#REF! -> #REF! | C53: =B!#REF! -> #REF! | D53: ='C'!#REF! -> #REF! | E53: =D!#REF! -> #REF! | F53: =E!#REF! -> #REF! | G53: =F!#REF! -> #REF! | H53: =G!#REF! -> #REF! | I53: =H!#REF! -> #REF! | J53: =SUM(B53:I53) -> #REF! | K53: =#REF!+#REF! -> #REF! | L53: =#REF!+#REF! -> #REF! | M53: =J53-K24 -> #REF!
A54: 43404 | B54: ='A '!#REF! -> #REF! | C54: =B!#REF! -> #REF! | D54: ='C'!#REF! -> #REF! | E54: =D!#REF! -> #REF! | F54: =E!#REF! -> #REF! | G54: =F!#REF! -> #REF! | H54: =G!#REF! -> #REF! | I54: =H!#REF! -> #REF! | J54: =SUM(B54:I54) -> #REF! | K54: =#REF!+#REF! -> #REF! | L54: =#REF!+#REF! -> #REF! | M54: =J54-K26 -> #REF!
A55: TOTAL | B55: =SUM(B32:B52) -> #REF! | C55: =SUM(C32:C52) -> #REF! | D55: =SUM(D32:D52) -> #REF! | E55: =SUM(E32:E52) -> #REF! | F55: =SUM(F32:F52) -> #REF! | G55: =SUM(G32:G52) -> #REF! | H55: =SUM(H32:H52) -> #REF! | I55: =SUM(I32:I52) -> #REF! | J55: =SUM(J32:J52) -> #REF! | K55: =SUM(K32:K53) -> #REF! | L55: =SUM(L32:L53) -> #REF! | M55: =SUM(M32:M53) -> #REF!
A56: TOTAL TRADES | L56: =SUM(B56:I56) -> 0
A58: YRL_CAPITAL / SC GAM
A59: TOTAL ACCOUNTS | B59: EURUSD | C59: GBPUSD | D59: USDJPY | E59: AUDUSD | F59: EURAUD | G59: EURGBP | H59: USDCAD | I59: GBPJPY | J59: TOTAL MONTANT | K59: TOTAL PIPS | L59: TRADES
A60: 43374 | B60: =#REF!+#REF! -> #REF! | C60: =#REF!+#REF! -> #REF! | D60: =#REF! -> #REF! | E60: =#REF! -> #REF! | F60: =#REF!+#REF! -> #REF! | G60: =#REF!+#REF! -> #REF! | H60: =#REF! -> #REF! | I60: =#REF!+#REF! -> #REF! | J60: =#REF!+#REF! -> #REF! | K60: =#REF!+#REF! -> #REF!
A61: 43375 | B61: =#REF!+#REF! -> #REF! | C61: =#REF!+#REF! -> #REF! | D61: =#REF! -> #REF! | E61: =#REF! -> #REF! | F61: =#REF!+#REF! -> #REF! | G61: =#REF!+#REF! -> #REF! | H61: =#REF! -> #REF! | I61: =#REF!+#REF! -> #REF! | J61: =#REF!+#REF! -> #REF! | K61: =#REF!+#REF! -> #REF!
A62: 43376 | B62: =#REF!+#REF! -> #REF! | C62: =#REF!+#REF! -> #REF! | D62: =#REF! -> #REF! | E62: =#REF! -> #REF! | F62: =#REF!+#REF! -> #REF! | G62: =#REF!+#REF! -> #REF! | H62: =#REF! -> #REF! | I62: =#REF!+#REF! -> #REF! | J62: =#REF!+#REF! -> #REF! | K62: =#REF!+#REF! -> #REF!
A63: 43377 | B63: =#REF!+#REF! -> #REF! | C63: =#REF!+#REF! -> #REF! | D63: =#REF! -> #REF! | E63: =#REF! -> #REF! | F63: =#REF!+#REF! -> #REF! | G63: =#REF!+#REF! -> #REF! | H63: =#REF! -> #REF! | I63: =#REF!+#REF! -> #REF! | J63: =#REF!+#REF! -> #REF! | K63: =#REF!+#REF! -> #REF!
A64: 43378 | B64: =#REF!+#REF! -> #REF! | C64: =#REF!+#REF! -> #REF! | D64: =#REF! -> #REF! | E64: =#REF! -> #REF! | F64: =#REF!+#REF! -> #REF! | G64: =#REF!+#REF! -> #REF! | H64: =#REF! -> #REF! | I64: =#REF!+#REF! -> #REF! | J64: =#REF!+#REF! -> #REF! | K64: =#REF!+#REF! -> #REF!
A65: 43381 | B65: =#REF!+#REF! -> #REF! | C65: =#REF!+#REF! -> #REF! | D65: =#REF! -> #REF! | E65: =#REF! -> #REF! | F65: =#REF!+#REF! -> #REF! | G65: =#REF!+#REF! -> #REF! | H65: =#REF! -> #REF! | I65: =#REF!+#REF! -> #REF! | J65: =#REF!+#REF! -> #REF! | K65: =#REF!+#REF! -> #REF!
A66: 43382 | B66: =#REF!+#REF! -> #REF! | C66: =#REF!+#REF! -> #REF! | D66: =#REF! -> #REF! | E66: =#REF! -> #REF! | F66: =#REF!+#REF! -> #REF! | G66: =#REF!+#REF! -> #REF! | H66: =#REF! -> #REF! | I66: =#REF!+#REF! -> #REF! | J66: =#REF!+#REF! -> #REF! | K66: =#REF!+#REF! -> #REF!
A67: 43383 | B67: =#REF!+#REF! -> #REF! | C67: =#REF!+#REF! -> #REF! | D67: =#REF! -> #REF! | E67: =#REF! -> #REF! | F67: =#REF!+#REF! -> #REF! | G67: =#REF!+#REF! -> #REF! | H67: =#REF! -> #REF! | I67: =#REF!+#REF! -> #REF! | J67: =#REF!+#REF! -> #REF! | K67: =#REF!+#REF! -> #REF!
A68: 43384 | B68: =#REF!+#REF! -> #REF! | C68: =#REF!+#REF! -> #REF! | D68: =#REF! -> #REF! | E68: =#REF! -> #REF! | F68: =#REF!+#REF! -> #REF! | G68: =#REF!+#REF! -> #REF! | H68: =#REF! -> #REF! | I68: =#REF!+#REF! -> #REF! | J68: =#REF!+#REF! -> #REF! | K68: =#REF!+#REF! -> #REF!
A69: 43385 | B69: =#REF!+#REF! -> #REF! | C69: =#REF!+#REF! -> #REF! | D69: =#REF! -> #REF! | E69: =#REF! -> #REF! | F69: =#REF!+#REF! -> #REF! | G69: =#REF!+#REF! -> #REF! | H69: =#REF! -> #REF! | I69: =#REF!+#REF! -> #REF! | J69: =#REF!+#REF! -> #REF! | K69: =#REF!+#REF! -> #REF!
A70: 43388 | B70: =#REF!+#REF! -> #REF! | C70: =#REF!+#REF! -> #REF! | D70: =#REF! -> #REF! | E70: =#REF! -> #REF! | F70: =#REF!+#REF! -> #REF! | G70: =#REF!+#REF! -> #REF! | H70: =#REF! -> #REF! | I70: =#REF!+#REF! -> #REF! | J70: =#REF!+#REF! -> #REF! | K70: =#REF!+#REF! -> #REF!
A71: 43389 | B71: =#REF!+#REF! -> #REF! | C71: =#REF!+#REF! -> #REF! | D71: =#REF! -> #REF! | E71: =#REF! -> #REF! | F71: =#REF!+#REF! -> #REF! | G71: =#REF!+#REF! -> #REF! | H71: =#REF! -> #REF! | I71: =#REF!+#REF! -> #REF! | J71: =#REF!+#REF! -> #REF! | K71: =#REF!+#REF! -> #REF!
... A82: 43404 | B82: =#REF!+#REF! -> #REF! | C82: =#REF!+#REF! -> #REF! | D82: =#REF! -> #REF! | E82: =#REF! -> #REF! | F82: =#REF!+#REF! -> #REF! | G82: =#REF!+#REF! -> #REF! | H82: =#REF! -> #REF! | I82: =#REF!+#REF! -> #REF! | J82: =#REF!+#REF! -> #REF! | K82: =#REF!+#REF! -> #REF!
A83: TOTAL | B83: =SUM(B60:B81) -> #REF! | C83: =SUM(C60:C81) -> #REF! | D83: =SUM(D60:D81) -> #REF! | E83: =SUM(E60:E81) -> #REF! | F83: =SUM(F60:F81) -> #REF! | G83: =SUM(G60:G81) -> #REF! | H83: =SUM(H60:H81) -> #REF! | I83: =SUM(I60:I81) -> #REF! | ... L83: =SUM(L60:L81) -> 0
A84: TOTAL MONTANT | B84: =(B83*8.54) -> #REF! | C84: =(C83*8.5) -> #REF! | D84: =(D83*7.86) -> #REF! | E84: =(E83*8.55) -> #REF! | F84: =(F83*6) -> #REF! | G84: =(G83*11.42) -> #REF! | H84: =H83*6.3 -> #REF! | I84: =I83*7.8 -> #REF! | J84: =SUM(B84:I84) -> #REF!
A85: TOTAL TRADES
A88: 43374
A89: SC GAM_FXPRO | B89: PIPS | C89: TRADES | D89: TOTAL MONTANT | E89: SLIPAGE FxPRO
A90: 43374 | E90: =B90-K3 -> #VALUE!
A91: 43375 | E91: =B91-K4 -> #VALUE!
A92: 43376 | E92: =B92-K5 -> #VALUE!
A93: 43377 | E93: =B93-K6 -> #VALUE!
A94: 43378 | E94: =B94-K7 -> #VALUE!
A95: 43381 | E95: =B95-K8 -> #VALUE!
A96: 43382 | E96: =B96-K9 -> #VALUE!
A97: 43383 | E97: =B97-K10 -> #VALUE!
A98: 43384 | E98: =B98-K11 -> #VALUE!
A99: 43385 | E99: =B99-K12 -> #VALUE!
A100: 43388 | E100: =B100-K13 -> #VALUE!
A101: 43389 | E101: =B101-K14 -> #VALUE!
... A111: 43403 | E111: =B111-K24 -> #VALUE!
A112: 43404 | E112: =B112-K26 -> #VALUE!
A113: TOTAL | B113: =SUM(B90:B112) -> 0 | C113: =SUM(C90:C112) -> 0 | D113: =SUM(D90:D112) -> 0 | E113: =SUM(E90:E111) -> #VALUE!
A114: MOYENNE | E114: =AVERAGE(E90:E97) -> #VALUE!
A118: Open Date | B118: Close Date | C118: Symbol | D118: Action | E118: Lots | F118: SL | G118: TP | H118: Open Price | I118: Close Price | J118: Commission | K118: Swap | L118: Pips | M118: Profit | N118: Gain | O118: Magic Number | P118: Duration (DD:HH:MM:SS)

Sheet A 
A1: A - PM Swing Trading | B1: EURJPY | C1: USDCAD | D1: TOTAL PIPS | E1: TRADES | F1: TOTAL MONTANT | G1: VOLUME
A2: 43110 | D2: =SUM(B2:C2) -> 0 | F2: =G2*((B2*7.75)+(C2*6.62)) -> 0 | G2: 1
A3: 43141 | D3: =SUM(B3:C3) -> 0 | F3: =G3*((B3*7.75)+(C3*6.62)) -> 0 | G3: 1
A4: 43169 | D4: =SUM(B4:C4) -> 0 | F4: =G4*((B4*7.75)+(C4*6.62)) -> 0 | G4: 1
A5: 43200 | D5: =SUM(B5:C5) -> 0 | F5: =G5*((B5*7.75)+(C5*6.62)) -> 0 | G5: 1
A6: 43230 | D6: =SUM(B6:C6) -> 0 | F6: =G6*((B6*7.75)+(C6*6.62)) -> 0 | G6: 1
A7: 43322 | D7: =SUM(B7:C7) -> 0 | F7: =G7*((B7*7.75)+(C7*6.62)) -> 0 | G7: 1
A8: 43353 | D8: =SUM(B8:C8) -> 0 | F8: =G8*((B8*7.75)+(C8*6.62)) -> 0 | G8: 1
A9: 43383 | D9: =SUM(B9:C9) -> 0 | F9: =G9*((B9*7.75)+(C9*6.62)) -> 0 | G9: 1
A10: 43414 | D10: =SUM(B10:C10) -> 0 | F10: =G10*((B10*7.75)+(C10*6.62)) -> 0 | G10: 1
A11: 43444 | D11: =SUM(B11:C11) -> 0 | F11: =G11*((B11*7.75)+(C11*6.62)) -> 0 | G11: 1
A12: 10/15/2018 00:00:00 | D12: =SUM(B12:C12) -> 0 | F12: =G12*((B12*7.75)+(C12*6.62)) -> 0 | G12: 1
A13: 10/16/2018 00:00:00 | D13: =SUM(B13:C13) -> 0 | F13: =G13*((B13*7.75)+(C13*6.62)) -> 0 | G13: 1
A14: 10/17/2018 00:00:00 | D14: =SUM(B14:C14) -> 0 | F14: =G14*((B14*7.75)+(C14*6.62)) -> 0 | G14: 1
A15: 10/18/2018 00:00:00 | D15: =SUM(B15:C15) -> 0 | F15: =G15*((B15*7.75)+(C15*6.62)) -> 0 | G15: 1
A16: 10/19/2018 00:00:00 | D16: =SUM(B16:C16) -> 0 | F16: =G16*((B16*7.75)+(C16*6.62)) -> 0 | G16: 1
A17: 10/22/2018 00:00:00 | D17: =SUM(B17:C17) -> 0 | F17: =G17*((B17*7.75)+(C17*6.62)) -> 0 | G17: 1
A18: 10/23/2018 00:00:00 | D18: =SUM(B18:C18) -> 0 | F18: =G18*((B18*7.75)+(C18*6.62)) -> 0 | G18: 1
A19: 10/24/2018 00:00:00 | D19: =SUM(B19:C19) -> 0 | F19: =G19*((B19*7.75)+(C19*6.62)) -> 0 | G19: 1
A20: 10/25/2018 00:00:00 | D20: =SUM(B20:C20) -> 0 | F20: =G20*((B20*7.75)+(C20*6.62)) -> 0 | G20: 1
A21: 10/26/2018 00:00:00 | D21: =SUM(B21:C21) -> 0 | F21: =G21*((B21*7.75)+(C21*6.62)) -> 0 | G21: 1
A22: 10/29/2018 00:00:00 | D22: =SUM(B22:C22) -> 0 | F22: =G22*((B22*7.75)+(C22*6.62)) -> 0 | G22: 1
A23: 10/30/2018 00:00:00 | D23: =SUM(B23:C23) -> 0 | F23: =G23*((B23*7.75)+(C23*6.62)) -> 0 | G23: 1
A24: 10/31/2018 00:00:00 | D24: =SUM(B24:C24) -> 0 | F24: =G24*((B24*7.75)+(C24*6.62)) -> 0 | G24: 1
A25: TOTAL | B25: =SUM(B2:B24) -> 0 | C25: =SUM(C2:C24) -> 0 | D25: =SUM(D2:D24) -> 0 | E25: =SUM(E2:E24) -> 0 | F25: =SUM(F2:F24) -> 0
A26: TOTAL TRADES | E26: =SUM(B26:C26) -> 0
A27: TOTAL MONTANT | B27: =(B25*8.54) -> 0 | C27: =(C25*8.5) -> 0

Sheet B
A1: B - SLINGHSOT | B1: EURAUD | C1: EURJPY | D1: GBPJPY | E1: TOTAL PIPS | F1: TRADES | G1: TOTAL MONTANT | H1: VOLUME
A2: 43110 | E2: =SUM(B2:D2) -> 0 | G2: =H2*((B2*6.4)+(C2*7.75)+(D2*7.77)) -> 0 | H2: 1
A3: 43141 | E3: =SUM(B3:D3) -> 0 | G3: =H3*((B3*6.4)+(C3*7.75)+(D3*7.77)) -> 0 | H3: 1
A4: 43169 | E4: =SUM(B4:D4) -> 0 | G4: =H4*((B4*6.4)+(C4*7.75)+(D4*7.77)) -> 0 | H4: 1
A5: 43200 | E5: =SUM(B5:D5) -> 0 | G5: =H5*((B5*6.4)+(C5*7.75)+(D5*7.77)) -> 0 | H5: 1
A6: 43230 | E6: =SUM(B6:D6) -> 0 | G6: =H6*((B6*6.4)+(C6*7.75)+(D6*7.77)) -> 0 | H6: 1
A7: 43322 | E7: =SUM(B7:D7) -> 0 | G7: =H7*((B7*6.4)+(C7*7.75)+(D7*7.77)) -> 0 | H7: 1
A8: 43353 | E8: =SUM(B8:D8) -> 0 | G8: =H8*((B8*6.4)+(C8*7.75)+(D8*7.77)) -> 0 | H8: 1
A9: 43383 | E9: =SUM(B9:D9) -> 0 | G9: =H9*((B9*6.4)+(C9*7.75)+(D9*7.77)) -> 0 | H9: 1
A10: 43414 | E10: =SUM(B10:D10) -> 0 | G10: =H10*((B10*6.4)+(C10*7.75)+(D10*7.77)) -> 0 | H10: 1
A11: 43444 | E11: =SUM(B11:D11) -> 0 | G11: =H11*((B11*6.4)+(C11*7.75)+(D11*7.77)) -> 0 | H11: 1
A12: 10/15/2018 00:00:00 | E12: =SUM(B12:D12) -> 0 | G12: =H12*((B12*6.4)+(C12*7.75)+(D12*7.77)) -> 0 | H12: 1
A13: 10/16/2018 00:00:00 | E13: =SUM(B13:D13) -> 0 | G13: =H13*((B13*6.4)+(C13*7.75)+(D13*7.77)) -> 0 | H13: 1
A14: 10/17/2018 00:00:00 | E14: =SUM(B14:D14) -> 0 | G14: =H14*((B14*6.4)+(C14*7.75)+(D14*7.77)) -> 0 | H14: 1
A15: 10/18/2018 00:00:00 | E15: =SUM(B15:D15) -> 0 | G15: =H15*((B15*6.4)+(C15*7.75)+(D15*7.77)) -> 0 | H15: 1
A16: 10/19/2018 00:00:00 | E16: =SUM(B16:D16) -> 0 | G16: =H16*((B16*6.4)+(C16*7.75)+(D16*7.77)) -> 0 | H16: 1
A17: 10/22/2018 00:00:00 | E17: =SUM(B17:D17) -> 0 | G17: =H17*((B17*6.4)+(C17*7.75)+(D17*7.77)) -> 0 | H17: 1
A18: 10/23/2018 00:00:00 | E18: =SUM(B18:D18) -> 0 | G18: =H18*((B18*6.4)+(C18*7.75)+(D18*7.77)) -> 0 | H18: 1
A19: 10/24/2018 00:00:00 | E19: =SUM(B19:D19) -> 0 | G19: =H19*((B19*6.4)+(C19*7.75)+(D19*7.77)) -> 0 | H19: 1
A20: 10/25/2018 00:00:00 | E20: =SUM(B20:D20) -> 0 | G20: =H20*((B20*6.4)+(C20*7.75)+(D20*7.77)) -> 0 | H20: 1
A21: 10/26/2018 00:00:00 | E21: =SUM(B21:D21) -> 0 | G21: =H21*((B21*6.4)+(C21*7.75)+(D21*7.77)) -> 0 | H21: 1
A22: 10/29/2018 00:00:00 | E22: =SUM(B22:D22) -> 0 | G22: =H22*((B22*6.4)+(C22*7.75)+(D22*7.77)) -> 0 | H22: 1
A23: 10/30/2018 00:00:00 | E23: =SUM(B23:D23) -> 0 | G23: =H23*((B23*6.4)+(C23*7.75)+(D23*7.77)) -> 0 | H23: 1
A24: 10/31/2018 00:00:00 | E24: =SUM(B24:D24) -> 0 | G24: =H24*((B24*6.4)+(C24*7.75)+(D24*7.77)) -> 0 | H24: 1
A25: TOTAL | B25: =SUM(B2:B24) -> 0 | C25: =SUM(C2:C24) -> 0 | D25: =SUM(D2:D24) -> 0 | E25: =SUM(E2:E24) -> 0 | F25: =SUM(F2:F24) -> 0 | G25: =SUM(G2:G24) -> 0
A26: TOTAL TRADES | F26: =SUM(B26:D26) -> 0
A27: TOTAL MONTANT | B27: =(B25*8.6) -> 0 | C27: =(C25*8.6) -> 0 | D27: =(D25*8.6) -> 0
A30: Open Date | B30: Close Date | C30: Symbol | D30: Action | E30: Lots | F30: SL | G30: TP | H30: Open Price | I30: Close Price | J30: Commission | K30: Swap | L30: Pips | M30: Comptes
A31: 43200.417 | B31: 43200.517 | C31: EURJPY | D31: Sell | E31: 0.08 | F31: 131.844 | G31: 128.28 | H31: 131.25 | I31: 131.424 | J31: -0.46 | K31: 0 | L31: -17.4 | M31: Slingshot
A32: 43200.417 | B32: 43200.517 | C32: EURJPY | D32: Sell | E32: 0.16 | F32: 131.844 | G32: 128.28 | H32: 131.25 | I32: 131.425 | J32: -0.92 | K32: 0 | L32: -17.5 | M32: Slingshot

Sheet C
A1: C - SFE | B1: EURUSD | C1: GBPUSD | D1: EURAUD | E1: GBPJPY | F1: EURGBP | G1: TOTAL PIPS | H1: TRADES | I1: TOTAL MONTANT
A2: 43110 | B2: =SUMPRODUCT((VALUE(TEXT($A$31:$A$71,"JJ/MM/AAAA"))=VALUE(TEXT(A2,"JJ/MM/AAAA")))*($C$31:$C$71=$B$1),$L$31:$L$71) -> 0 | C2: =SUMPRODUCT((VALUE(TEXT($A$31:$A$71,"JJ/MM/AAAA"))=VALUE(TEXT(A2,"JJ/MM/AAAA")))*($C$31:$C$71=$C$1),$L$31:$L$71) -> -24.4 | D2: =SUMPRODUCT((VALUE(TEXT($A$31:$A$71,"JJ/MM/AAAA"))=VALUE(TEXT(A2,"JJ/MM/AAAA")))*($C$31:$C$71=$D$1),$L$31:$L$71) -> 0 | E2: =SUMPRODUCT((VALUE(TEXT($A$31:$A$71,"JJ/MM/AAAA"))=VALUE(TEXT(A2,"JJ/MM/AAAA")))*($C$31:$C$71=$E$1),$L$31:$L$71) -> 0 | F2: =SUMPRODUCT((VALUE(TEXT($A$31:$A$71,"JJ/MM/AAAA"))=VALUE(TEXT(A2,"JJ/MM/AAAA")))*($C$31:$C$71=$F$1),$L$31:$L$71) -> 8 | G2: =SUM(B2:F2) -> -16.4 | I2: =(B2*8.6)+(C2*8.6)+(D2*6)+(E2*7.8)+(F2*11.42) -> -118.48
A3: 43141 | B3: =SUMPRODUCT((VALUE(TEXT($A$31:$A$71,"JJ/MM/AAAA"))=VALUE(TEXT(A3,"JJ/MM/AAAA")))*($C$31:$C$71=$B$1),$L$31:$L$71) -> 0 | C3: =SUMPRODUCT((VALUE(TEXT($A$31:$A$71,"JJ/MM/AAAA"))=VALUE(TEXT(A3,"JJ/MM/AAAA")))*($C$31:$C$71=$C$1),$L$31:$L$71) -> 0 | D3: =SUMPRODUCT((VALUE(TEXT($A$31:$A$71,"JJ/MM/AAAA"))=VALUE(TEXT(A3,"JJ/MM/AAAA")))*($C$31:$C$71=$D$1),$L$31:$L$71) -> 0 | E3: =SUMPRODUCT((VALUE(TEXT($A$31:$A$71,"JJ/MM/AAAA"))=VALUE(TEXT(A3,"JJ/MM/AAAA")))*($C$31:$C$71=$E$1),$L$31:$L$71) -> 0 | F3: =SUMPRODUCT((VALUE(TEXT($A$31:$A$71,"JJ/MM/AAAA"))=VALUE(TEXT(A3,"JJ/MM/AAAA")))*($C$31:$C$71=$F$1),$L$31:$L$71) -> 0 | G3: =SUM(B3:F3) -> 0 | I3: =(B3*8.6)+(C3*8.6)+(D3*6)+(E3*7.8)+(F3*11.42) -> 0
A4: 43169 | B4: =SUMPRODUCT((VALUE(TEXT($A$31:$A$71,"JJ/MM/AAAA"))=VALUE(TEXT(A4,"JJ/MM/AAAA")))*($C$31:$C$71=$B$1),$L$31:$L$71) -> -3.4 | C4: =SUMPRODUCT((VALUE(TEXT($A$31:$A$71,"JJ/MM/AAAA"))=VALUE(TEXT(A4,"JJ/MM/AAAA")))*($C$31:$C$71=$C$1),$L$31:$L$71) -> 0 | D4: =SUMPRODUCT((VALUE(TEXT($A$31:$A$71,"JJ/MM/AAAA"))=VALUE(TEXT(A4,"JJ/MM/AAAA")))*($C$31:$C$71=$D$1),$L$31:$L$71) -> 0 | E4: =SUMPRODUCT((VALUE(TEXT($A$31:$A$71,"JJ/MM/AAAA"))=VALUE(TEXT(A4,"JJ/MM/AAAA")))*($C$31:$C$71=$E$1),$L$31:$L$71) -> 0 | F4: =SUMPRODUCT((VALUE(TEXT($A$31:$A$71,"JJ/MM/AAAA"))=VALUE(TEXT(A4,"JJ/MM/AAAA")))*($C$31:$C$71=$F$1),$L$31:$L$71) -> 0 | G4: =SUM(B4:F4) -> -3.4 | I4: =(B4*8.6)+(C4*8.6)+(D4*6)+(E4*7.8)+(F4*11.42) -> -29.24
A5: 43200 | B5: =SUMPRODUCT((VALUE(TEXT($A$31:$A$71,"JJ/MM/AAAA"))=VALUE(TEXT(A5,"JJ/MM/AAAA")))*($C$31:$C$71=$B$1),$L$31:$L$71) -> 57.7 | C5: =SUMPRODUCT((VALUE(TEXT($A$31:$A$71,"JJ/MM/AAAA"))=VALUE(TEXT(A5,"JJ/MM/AAAA")))*($C$31:$C$71=$C$1),$L$31:$L$71) -> 0 | D5: =SUMPRODUCT((VALUE(TEXT($A$31:$A$71,"JJ/MM/AAAA"))=VALUE(TEXT(A5,"JJ/MM/AAAA")))*($C$31:$C$71=$D$1),$L$31:$L$71) -> 0 | E5: =SUMPRODUCT((VALUE(TEXT($A$31:$A$71,"JJ/MM/AAAA"))=VALUE(TEXT(A5,"JJ/MM/AAAA")))*($C$31:$C$71=$E$1),$L$31:$L$71) -> 0 | F5: =SUMPRODUCT((VALUE(TEXT($A$31:$A$71,"JJ/MM/AAAA"))=VALUE(TEXT(A5,"JJ/MM/AAAA")))*($C$31:$C$71=$F$1),$L$31:$L$71) -> 0 | G5: =SUM(B5:F5) -> 57.7 | I5: =(B5*8.6)+(C5*8.6)+(D5*6)+(E5*7.8)+(F5*11.42) -> 496.22
A6: 43230 | B6: =SUMPRODUCT((VALUE(TEXT($A$31:$A$71,"JJ/MM/AAAA"))=VALUE(TEXT(A6,"JJ/MM/AAAA")))*($C$31:$C$71=$B$1),$L$31:$L$71) -> 331.6 | C6: =SUMPRODUCT((VALUE(TEXT($A$31:$A$71,"JJ/MM/AAAA"))=VALUE(TEXT(A6,"JJ/MM/AAAA")))*($C$31:$C$71=$C$1),$L$31:$L$71) -> -12.3 | D6: =SUMPRODUCT((VALUE(TEXT($A$31:$A$71,"JJ/MM/AAAA"))=VALUE(TEXT(A6,"JJ/MM/AAAA")))*($C$31:$C$71=$D$1),$L$31:$L$71) -> 0 | E6: =SUMPRODUCT((VALUE(TEXT($A$31:$A$71,"JJ/MM/AAAA"))=VALUE(TEXT(A6,"JJ/MM/AAAA")))*($C$31:$C$71=$E$1),$L$31:$L$71) -> 0 | F6: =SUMPRODUCT((VALUE(TEXT($A$31:$A$71,"JJ/MM/AAAA"))=VALUE(TEXT(A6,"JJ/MM/AAAA")))*($C$31:$C$71=$F$1),$L$31:$L$71) -> 0 | G6: =SUM(B6:F6) -> 319.3 | I6: =(B6*8.6)+(C6*8.6)+(D6*6)+(E6*7.8)+(F6*11.42) -> 2745.98
A7: 43322 | B7: =SUMPRODUCT((VALUE(TEXT($A$31:$A$71,"JJ/MM/AAAA"))=VALUE(TEXT(A7,"JJ/MM/AAAA")))*($C$31:$C$71=$B$1),$L$31:$L$71) -> 0 | C7: =SUMPRODUCT((VALUE(TEXT($A$31:$A$71,"JJ/MM/AAAA"))=VALUE(TEXT(A7,"JJ/MM/AAAA")))*($C$31:$C$71=$C$1),$L$31:$L$71) -> 0 | D7: =SUMPRODUCT((VALUE(TEXT($A$31:$A$71,"JJ/MM/AAAA"))=VALUE(TEXT(A7,"JJ/MM/AAAA")))*($C$31:$C$71=$D$1),$L$31:$L$71) -> 0 | E7: =SUMPRODUCT((VALUE(TEXT($A$31:$A$71,"JJ/MM/AAAA"))=VALUE(TEXT(A7,"JJ/MM/AAAA")))*($C$31:$C$71=$E$1),$L$31:$L$71) -> 93.2 | F7: =SUMPRODUCT((VALUE(TEXT($A$31:$A$71,"JJ/MM/AAAA"))=VALUE(TEXT(A7,"JJ/MM/AAAA")))*($C$31:$C$71=$F$1),$L$31:$L$71) -> 0 | G7: =SUM(B7:F7) -> 93.2 | I7: =(B7*8.6)+(C7*8.6)+(D7*6)+(E7*7.8)+(F7*11.42) -> 726.96
A8: 43353 | B8: =SUMPRODUCT((VALUE(TEXT($A$31:$A$71,"JJ/MM/AAAA"))=VALUE(TEXT(A8,"JJ/MM/AAAA")))*($C$31:$C$71=$B$1),$L$31:$L$71) -> 0 | C8: =SUMPRODUCT((VALUE(TEXT($A$31:$A$71,"JJ/MM/AAAA"))=VALUE(TEXT(A8,"JJ/MM/AAAA")))*($C$31:$C$71=$C$1),$L$31:$L$71) -> 72 | D8: =SUMPRODUCT((VALUE(TEXT($A$31:$A$71,"JJ/MM/AAAA"))=VALUE(TEXT(A8,"JJ/MM/AAAA")))*($C$31:$C$71=$D$1),$L$31:$L$71) -> 0 | E8: =SUMPRODUCT((VALUE(TEXT($A$31:$A$71,"JJ/MM/AAAA"))=VALUE(TEXT(A8,"JJ/MM/AAAA")))*($C$31:$C$71=$E$1),$L$31:$L$71) -> 0 | F8: =SUMPRODUCT((VALUE(TEXT($A$31:$A$71,"JJ/MM/AAAA"))=VALUE(TEXT(A8,"JJ/MM/AAAA")))*($C$31:$C$71=$F$1),$L$31:$L$71) -> 0 | G8: =SUM(B8:F8) -> 72 | I8: =(B8*8.6)+(C8*8.6)+(D8*6)+(E8*7.8)+(F8*11.42) -> 619.2
A9: 43383 | B9: =SUMPRODUCT((VALUE(TEXT($A$31:$A$71,"JJ/MM/AAAA"))=VALUE(TEXT(A9,"JJ/MM/AAAA")))*($C$31:$C$71=$B$1),$L$31:$L$71) -> 0 | C9: =SUMPRODUCT((VALUE(TEXT($A$31:$A$71,"JJ/MM/AAAA"))=VALUE(TEXT(A9,"JJ/MM/AAAA")))*($C$31:$C$71=$C$1),$L$31:$L$71) -> 0 | D9: =SUMPRODUCT((VALUE(TEXT($A$31:$A$71,"JJ/MM/AAAA"))=VALUE(TEXT(A9,"JJ/MM/AAAA")))*($C$31:$C$71=$D$1),$L$31:$L$71) -> 0 | E9: =SUMPRODUCT((VALUE(TEXT($A$31:$A$71,"JJ/MM/AAAA"))=VALUE(TEXT(A9,"JJ/MM/AAAA")))*($C$31:$C$71=$E$1),$L$31:$L$71) -> 0 | F9: =SUMPRODUCT((VALUE(TEXT($A$31:$A$71,"JJ/MM/AAAA"))=VALUE(TEXT(A9,"JJ/MM/AAAA")))*($C$31:$C$71=$F$1),$L$31:$L$71) -> 0 | G9: =SUM(B9:F9) -> 0 | I9: =(B9*8.6)+(C9*8.6)+(D9*6)+(E9*7.8)+(F9*11.42) -> 0
A10: 43414 | B10: =SUMPRODUCT((VALUE(TEXT($A$31:$A$71,"JJ/MM/AAAA"))=VALUE(TEXT(A10,"JJ/MM/AAAA")))*($C$31:$C$71=$B$1),$L$31:$L$71) -> -6.5 | C10: =SUMPRODUCT((VALUE(TEXT($A$31:$A$71,"JJ/MM/AAAA"))=VALUE(TEXT(A10,"JJ/MM/AAAA")))*($C$31:$C$71=$C$1),$L$31:$L$71) -> 0 | D10: =SUMPRODUCT((VALUE(TEXT($A$31:$A$71,"JJ/MM/AAAA"))=VALUE(TEXT(A10,"JJ/MM/AAAA")))*($C$31:$C$71=$D$1),$L$31:$L$71) -> 0 | E10: =SUMPRODUCT((VALUE(TEXT($A$31:$A$71,"JJ/MM/AAAA"))=VALUE(TEXT(A10,"JJ/MM/AAAA")))*($C$31:$C$71=$E$1),$L$31:$L$71) -> 0 | F10: =SUMPRODUCT((VALUE(TEXT($A$31:$A$71,"JJ/MM/AAAA"))=VALUE(TEXT(A10,"JJ/MM/AAAA")))*($C$31:$C$71=$F$1),$L$31:$L$71) -> 0 | G10: =SUM(B10:F10) -> -6.5 | I10: =(B10*8.6)+(C10*8.6)+(D10*6)+(E10*7.8)+(F10*11.42) -> -55.9
A11: 43444 | B11: =SUMPRODUCT((VALUE(TEXT($A$31:$A$71,"JJ/MM/AAAA"))=VALUE(TEXT(A11,"JJ/MM/AAAA")))*($C$31:$C$71=$B$1),$L$31:$L$71) -> 0 | C11: =SUMPRODUCT((VALUE(TEXT($A$31:$A$71,"JJ/MM/AAAA"))=VALUE(TEXT(A11,"JJ/MM/AAAA")))*($C$31:$C$71=$C$1),$L$31:$L$71) -> 0 | D11: =SUMPRODUCT((VALUE(TEXT($A$31:$A$71,"JJ/MM/AAAA"))=VALUE(TEXT(A11,"JJ/MM/AAAA")))*($C$31:$C$71=$D$1),$L$31:$L$71) -> 0 | E11: =SUMPRODUCT((VALUE(TEXT($A$31:$A$71,"JJ/MM/AAAA"))=VALUE(TEXT(A11,"JJ/MM/AAAA")))*($C$31:$C$71=$E$1),$L$31:$L$71) -> 0 | F11: =SUMPRODUCT((VALUE(TEXT($A$31:$A$71,"JJ/MM/AAAA"))=VALUE(TEXT(A11,"JJ/MM/AAAA")))*($C$31:$C$71=$F$1),$L$31:$L$71) -> 0 | G11: =SUM(B11:F11) -> 0 | I11: =(B11*8.6)+(C11*8.6)+(D11*6)+(E11*7.8)+(F11*11.42) -> 0
A12: 10/15/2018 00:00:00 | G12: =SUM(B12:F12) -> 0 | I12: =(B12*8.6)+(C12*8.6)+(D12*6)+(E12*7.8)+(F12*11.42) -> 0
A13: 10/16/2018 00:00:00 | G13: =SUM(B13:F13) -> 0 | I13: =(B13*8.6)+(C13*8.6)+(D13*6)+(E13*7.8)+(F13*11.42) -> 0
A14: 10/17/2018 00:00:00 | G14: =SUM(B14:F14) -> 0 | I14: =(B14*8.6)+(C14*8.6)+(D14*6)+(E14*7.8)+(F14*11.42) -> 0
A15: 10/18/2018 00:00:00 | G15: =SUM(B15:F15) -> 0 | I15: =(B15*8.6)+(C15*8.6)+(D15*6)+(E15*7.8)+(F15*11.42) -> 0
A16: 10/19/2018 00:00:00 | G16: =SUM(B16:F16) -> 0 | I16: =(B16*8.6)+(C16*8.6)+(D16*6)+(E16*7.8)+(F16*11.42) -> 0
A17: 10/22/2018 00:00:00 | G17: =SUM(B17:F17) -> 0 | I17: =(B17*8.6)+(C17*8.6)+(D17*6)+(E17*7.8)+(F17*11.42) -> 0
A18: 10/23/2018 00:00:00 | G18: =SUM(B18:F18) -> 0 | I18: =(B18*8.6)+(C18*8.6)+(D18*6)+(E18*7.8)+(F18*11.42) -> 0
A19: 10/24/2018 00:00:00 | G19: =SUM(B19:F19) -> 0 | I19: =(B19*8.6)+(C19*8.6)+(D19*6)+(E19*7.8)+(F19*11.42) -> 0
A20: 10/25/2018 00:00:00 | G20: =SUM(B20:F20) -> 0 | I20: =(B20*8.6)+(C20*8.6)+(D20*6)+(E20*7.8)+(F20*11.42) -> 0
A21: 10/26/2018 00:00:00 | G21: =SUM(B21:F21) -> 0 | I21: =(B21*8.6)+(C21*8.6)+(D21*6)+(E21*7.8)+(F21*11.42) -> 0
A22: 10/29/2018 00:00:00 | G22: =SUM(B22:F22) -> 0 | I22: =(B22*8.6)+(C22*8.6)+(D22*6)+(E22*7.8)+(F22*11.42) -> 0
A23: 10/30/2018 00:00:00 | G23: =SUM(B23:F23) -> 0 | I23: =(B23*8.6)+(C23*8.6)+(D23*6)+(E23*7.8)+(F23*11.42) -> 0
A24: 10/31/2018 00:00:00 | G24: =SUM(B24:F24) -> 0 | I24: =(B24*8.6)+(C24*8.6)+(D24*6)+(E24*7.8)+(F24*11.42) -> 0
A25: TOTAL | B25: =SUM(B2:B24) -> 379.4 | C25: =SUM(C2:C24) -> 35.3 | D25: =SUM(D2:D24) -> 0 | E25: =SUM(E2:E24) -> 93.2 | F25: =SUM(F2:F24) -> 8 | G25: =SUM(G2:G24) -> 515.9 | H25: =SUM(H2:H24) -> 0 | I25: =SUM(I2:I24) -> 4384.74
A26: TOTAL TRADES | H26: =SUM(B26:F26) -> 0
A27: TOTAL MONTANT | B27: =(B25*8.6) -> 3262.84 | C27: =(C25*8.6) -> 303.58 | D27: =(D25*6) -> 0 | E27: =(E25*7.8) -> 726.96 | F27: =(F25*11.42) -> 91.36
A30: Open Date | B30: Close Date | C30: Symbol | D30: Action | E30: Lots | F30: SL | G30: TP | H30: Open Price | I30: Close Price | J30: Commission | K30: Swap | L30: Pips | M30: Comptes
A31: 43414.66 | B31: 43414.805 | C31: EURUSD | D31: Sell | E31: 0.09 | F31: 1.15816 | G31: 1.15296 | H31: 1.15836 | I31: 1.15815 | J31: -0.39 | K31: 0 | L31: 2.1 | M31: 1.24 | N31: 0.01 | O31: 400151 | P31: 00:03:29:14 | Q31: 58.9 | R31: 2h 3m | S31: 33.6 | T31: 0.46 | U31: 23 | V31: 17.94 | W31: -10.6 | X31: -8.268 | Y31: 68.5 | Z31: 37.8 | AA31: -20.9 | AB31: -16.3
A32: 43414.66 | B32: 43414.688 | C32: EURUSD | D32: Sell | E32: 0.05 | F32: 1.16013 | G32: 1.15296 | H32: 1.15836 | I32: 1.15645 | J32: -0.21 | K32: 0 | L32: 19.1 | M32: 8.05 | N32: 0.08 | O32: 400151 | P32: 00:00:39:41 | Q32: 2.5 | R32: 59s | S32: 0 | T32: 0.05 | U32: 19.1 | V32: 8.213 | W32: 0 | X32: 0 | Y32: 100 | Z32: 100 | AA32: 0 | AB32: 0
A33: 43414.384 | B33: 43414.562 | C33: EURUSD | D33: Sell | E33: 0.09 | F33: 1.15736 | G33: 1.15332 | H33: 1.1546 | I33: 1.15737 | J33: -0.39 | K33: 0 | L33: -27.7 | M33: -21.93 | N33: -0.21 | O33: 400301 | P33: 00:04:15:54 | Q33: 3.6 | R33: 9m | S33: 29.4 | T33: 16.31 | U33: 1.7 | V33: 1.326 | W33: -27.7 | X33: -21.606 | Y33: 5.8 | Z33: 0 | AA33: -29.4 | AB33: -22.93
A34: 43353.792 | B34: 43353.824 | C34: GBPUSD | D34: Buy | E34: 0.05 | F34: 1.31277 | G34: 1.32085 | H34: 1.31391 | I34: 1.31277 | J34: -0.21 | K34: 0 | L34: -11.4 | M34: -5.17 | N34: -0.05 | O34: 450051 | P34: 00:00:47:55 | Q34: 0 | R34: 0s | S34: 11.4 | T34: 11.4 | U34: 0 | V34: 0 | W34: -11.4 | X34: -5.016 | Y34: 0 | Z34: 0 | AA34: -11.4 | AB34: -5.02
A35: 43353.792 | B35: 43353.816 | C35: GBPUSD | D35: Buy | E35: 0.03 | F35: 1.30833 | G35: 1.32085 | H35: 1.31391 | I35: 1.31368 | J35: -0.13 | K35: 0 | L35: -2.3 | M35: -0.73 | N35: -0.01 | O35: 450051 | P35: 00:00:35:11 | Q35: 0 | R35: 0s | S35: 2.3 | T35: 2.3 | U35: 0 | V35: 0 | W35: -2.3 | X35: -0.598 | Y35: 0 | Z35: 0 | AA35: -2.3 | AB35: -0.6
A36: 43353.674 | B36: 43353.775 | C36: GBPUSD | D36: Buy | E36: 0.02 | F36: 1.30762 | G36: 1.31346 | H36: 1.30742 | I36: 1.31347 | J36: -0.08 | K36: 0 | L36: 60.5 | M36: 10.46 | N36: 0.1 | O36: 450051 | P36: 00:02:25:53 | Q36: 0.7 | R36: 1m | S36: 0 | T36: 0.02 | U36: 60.5 | V36: 10.285 | W36: 0 | X36: 0 | Y36: 100 | Z36: 100 | AA36: 0 | AB36: 0
A37: 43353.674 | B37: 43353.774 | C37: GBPUSD | D37: Buy | E37: 0.03 | F37: 1.30762 | G37: 1.31346 | H37: 1.30742 | I37: 1.31213 | J37: -0.13 | K37: 0 | L37: 47.1 | M37: 12.17 | N37: 0.11 | O37: 450051 | P37: 00:02:24:58 | Q37: 0.7 | R37: 1m | S37: 0 | T37: 0.02 | U37: 47.1 | V37: 12.246 | W37: 0 | X37: 0 | Y37: 100 | Z37: 100 | AA37: 0 | AB37: 0
A38: 43230.749 | B38: 43353.731 | C38: EURUSD | D38: Sell | E38: 0.03 | F38: 1.14869 | G38: 1.13986 | H38: 1.15083 | I38: 1.1487 | J38: -0.13 | K38: 0.33 | L38: 21.3 | M38: 5.76 | N38: 0.05 | O38: 410151 | P38: 03:23:33:02 | Q38: 37.5 | R38: 1d 11h | S38: 54.7 | T38: 0.29 | U38: 75 | V38: 19.5 | W38: -22 | X38: -5.72 | Y38: 77.3 | Z38: 44.6 | AA38: -53.7 | AB38: -13.96
A39: 43353.674 | B39: 43353.719 | C39: GBPUSD | D39: Buy | E39: 0.03 | F39: 1.30353 | G39: 1.31346 | H39: 1.30742 | I39: 1.30523 | J39: -0.13 | K39: 0 | L39: -21.9 | M39: -5.87 | N39: -0.06 | O39: 450051 | P39: 00:01:04:56 | Q39: 0 | R39: 0s | S39: 21.9 | T39: 21.93 | U39: 0 | V39: 0 | W39: -21.9 | X39: -5.694 | Y39: 0 | Z39: 0 | AA39: -21.9 | AB39: -5.69
A40: 43230.749 | B40: 43353.625 | C40: EURUSD | D40: Sell | E40: 0.03 | F40: 1.15047 | G40: 1.13986 | H40: 1.15083 | I40: 1.14345 | J40: -0.13 | K40: 0.33 | L40: 73.8 | M40: 19.56 | N40: 0.18 | O40: 410151 | P40: 03:21:00:18 | Q40: 35.8 | R40: 1d 9h | S40: 38.8 | T40: 0.3 | U40: 74 | V40: 19.24 | W40: -22 | X40: -5.72 | Y40: 77.1 | Z40: 99.8 | AA40: -0.2 | AB40: -0.05
A41: 43230.744 | B41: 43353.624 | C41: EURUSD | D41: Sell | E41: 0.03 | F41: 1.15113 | G41: 1.1434 | H41: 1.15133 | I41: 1.1434 | J41: -0.13 | K41: 0.33 | L41: 79.3 | M41: 21.01 | N41: 0.2 | O41: 410601 | P41: 03:21:06:36 | Q41: 38 | R41: 1d 11h | S41: 38.8 | T41: 0.21 | U41: 79.8 | V41: 20.748 | W41: -17 | X41: -4.42 | Y41: 82.4 | Z41: 99.5 | AA41: -0.5 | AB41: -0.13
A42: 43230.744 | B42: 43353.542 | C42: EURUSD | D42: Sell | E42: 0.03 | F42: 1.15113 | G42: 1.1434 | H42: 1.15133 | I42: 1.14526 | J42: -0.13 | K42: 0.33 | L42: 60.7 | M42: 16.1 | N42: 0.15 | O42: 410601 | P42: 03:19:08:12 | Q42: 36.6 | R42: 1d 9h | S42: 38.8 | T42: 0.27 | U42: 63.3 | V42: 16.458 | W42: -17 | X42: -4.42 | Y42: 78.8 | Z42: 96.8 | AA42: -2.6 | AB42: -0.68
... A71: 43110.677 | B71: 43110.708 | C71: GBPUSD | D71: Sell | E71: 0.03 | F71: 1.31174 | G71: 1.29983 | H71: 1.30605 | I71: 1.30723 | J71: -0.13 | K71: 0 | L71: -11.8 | M71: -3.18 | N71: -0.03 | O71: 450051 | P71: 00:00:44:59 | Q71: 0 | R71: 0s | S71: 11.8 | T71: 11.81 | U71: 0 | V71: 0 | W71: -11.8 | X71: -3.068 | Y71: 0 | Z71: 0 | AA71: -11.8 | AB71: -3.07

Sheet D
A1: D - Strive | B1: EURUSD | C1: USDJPY | D1: TOTAL PIPS | E1: TRADES | F1: TOTAL MONTANT
A2: 43110 | B2: =SUMPRODUCT((VALUE(TEXT($A$32:$A$61,"JJ/MM/AAAA"))=VALUE(TEXT(A2,"JJ/MM/AAAA")))*($C$32:$C$61=$B$1),$L$32:$L$61) -> -24.7 | C2: =SUMPRODUCT((VALUE(TEXT($A$32:$A$61,"JJ/MM/AAAA"))=VALUE(TEXT(A2,"JJ/MM/AAAA")))*($C$32:$C$61=$C$1),$L$32:$L$61) -> 2.6 | D2: =SUM(B2:C2) -> -22.1 | E2: =SUMPRODUCT((VALUE(TEXT($A$32:$A$61,"JJ/MM/AAAA"))=VALUE(TEXT(A2,"JJ/MM/AAAA")))*1) -> 3 | F2: =(B2*8.6)+(C2*7.86) -> -191.984
A3: 43141 | B3: =SUMPRODUCT((VALUE(TEXT($A$32:$A$61,"JJ/MM/AAAA"))=VALUE(TEXT(A3,"JJ/MM/AAAA")))*($C$32:$C$61=$B$1),$L$32:$L$61) -> -7.7 | C3: =SUMPRODUCT((VALUE(TEXT($A$32:$A$61,"JJ/MM/AAAA"))=VALUE(TEXT(A3,"JJ/MM/AAAA")))*($C$32:$C$61=$C$1),$L$32:$L$61) -> 36.4 | D3: =SUM(B3:C3) -> 28.7 | E3: =SUMPRODUCT((VALUE(TEXT($A$32:$A$56,"JJ/MM/AAAA"))=VALUE(TEXT(A3,"JJ/MM/AAAA")))*1) -> 1 | F3: =(B3*8.54)+(C3*7.86) -> 220.346
A4: 43169 | B4: =SUMPRODUCT((VALUE(TEXT($A$32:$A$61,"JJ/MM/AAAA"))=VALUE(TEXT(A4,"JJ/MM/AAAA")))*($C$32:$C$61=$B$1),$L$32:$L$61) -> 45.6 | C4: =SUMPRODUCT((VALUE(TEXT($A$32:$A$61,"JJ/MM/AAAA"))=VALUE(TEXT(A4,"JJ/MM/AAAA")))*($C$32:$C$61=$C$1),$L$32:$L$61) -> 44.6 | D4: =SUM(B4:C4) -> 90.2 | E4: =SUMPRODUCT((VALUE(TEXT($A$32:$A$56,"JJ/MM/AAAA"))=VALUE(TEXT(A4,"JJ/MM/AAAA")))*1) -> 3 | F4: =(B4*8.54)+(C4*7.86) -> 739.98
A5: 43200 | B5: =SUMPRODUCT((VALUE(TEXT($A$32:$A$61,"JJ/MM/AAAA"))=VALUE(TEXT(A5,"JJ/MM/AAAA")))*($C$32:$C$61=$B$1),$L$32:$L$61) -> 18.6 | C5: =SUMPRODUCT((VALUE(TEXT($A$32:$A$61,"JJ/MM/AAAA"))=VALUE(TEXT(A5,"JJ/MM/AAAA")))*($C$32:$C$61=$C$1),$L$32:$L$61) -> 53.6 | D5: =SUM(B5:C5) -> 72.2 | E5: =SUMPRODUCT((VALUE(TEXT($A$32:$A$56,"JJ/MM/AAAA"))=VALUE(TEXT(A5,"JJ/MM/AAAA")))*1) -> 2 | F5: =(B5*8.54)+(C5*7.86) -> 580.14
A6: 43230 | B6: =SUMPRODUCT((VALUE(TEXT($A$32:$A$61,"JJ/MM/AAAA"))=VALUE(TEXT(A6,"JJ/MM/AAAA")))*($C$32:$C$61=$B$1),$L$32:$L$61) -> -32.6 | C6: =SUMPRODUCT((VALUE(TEXT($A$32:$A$61,"JJ/MM/AAAA"))=VALUE(TEXT(A6,"JJ/MM/AAAA")))*($C$32:$C$61=$C$1),$L$32:$L$61) -> 20.9 | D6: =SUM(B6:C6) -> -11.7 | E6: =SUMPRODUCT((VALUE(TEXT($A$32:$A$56,"JJ/MM/AAAA"))=VALUE(TEXT(A6,"JJ/MM/AAAA")))*1) -> 3 | F6: =(B6*8.54)+(C6*7.86) -> -114.13
A7: 43322 | B7: =SUMPRODUCT((VALUE(TEXT($A$32:$A$61,"JJ/MM/AAAA"))=VALUE(TEXT(A7,"JJ/MM/AAAA")))*($C$32:$C$61=$B$1),$L$32:$L$61) -> 14.6 | C7: =SUMPRODUCT((VALUE(TEXT($A$32:$A$61,"JJ/MM/AAAA"))=VALUE(TEXT(A7,"JJ/MM/AAAA")))*($C$32:$C$61=$C$1),$L$32:$L$61) -> 40.2 | D7: =SUM(B7:C7) -> 54.8 | E7: =SUMPRODUCT((VALUE(TEXT($A$32:$A$56,"JJ/MM/AAAA"))=VALUE(TEXT(A7,"JJ/MM/AAAA")))*1) -> 3 | F7: =(B7*8.54)+(C7*7.86) -> 440.656
A8: 43353 | B8: =SUMPRODUCT((VALUE(TEXT($A$32:$A$61,"JJ/MM/AAAA"))=VALUE(TEXT(A8,"JJ/MM/AAAA")))*($C$32:$C$61=$B$1),$L$32:$L$61) -> -32.6 | C8: =SUMPRODUCT((VALUE(TEXT($A$32:$A$61,"JJ/MM/AAAA"))=VALUE(TEXT(A8,"JJ/MM/AAAA")))*($C$32:$C$61=$C$1),$L$32:$L$61) -> -20.8 | D8: =SUM(B8:C8) -> -53.4 | E8: =SUMPRODUCT((VALUE(TEXT($A$32:$A$56,"JJ/MM/AAAA"))=VALUE(TEXT(A8,"JJ/MM/AAAA")))*1) -> 4 | F8: =(B8*8.54)+(C8*7.86) -> -441.892
A9: 43383 | B9: =SUMPRODUCT((VALUE(TEXT($A$32:$A$61,"JJ/MM/AAAA"))=VALUE(TEXT(A9,"JJ/MM/AAAA")))*($C$32:$C$61=$B$1),$L$32:$L$61) -> -7.9 | C9: =SUMPRODUCT((VALUE(TEXT($A$32:$A$61,"JJ/MM/AAAA"))=VALUE(TEXT(A9,"JJ/MM/AAAA")))*($C$32:$C$61=$C$1),$L$32:$L$61) -> 9.3 | D9: =SUM(B9:C9) -> 1.4 | E9: =SUMPRODUCT((VALUE(TEXT($A$32:$A$56,"JJ/MM/AAAA"))=VALUE(TEXT(A9,"JJ/MM/AAAA")))*1) -> 4 | F9: =(B9*8.54)+(C9*7.86) -> 5.632
A10: 43414 | B10: =SUMPRODUCT((VALUE(TEXT($A$32:$A$61,"JJ/MM/AAAA"))=VALUE(TEXT(A10,"JJ/MM/AAAA")))*($C$32:$C$61=$B$1),$L$32:$L$61) -> 1.4 | C10: =SUMPRODUCT((VALUE(TEXT($A$32:$A$61,"JJ/MM/AAAA"))=VALUE(TEXT(A10,"JJ/MM/AAAA")))*($C$32:$C$61=$C$1),$L$32:$L$61) -> -36.8 | D10: =SUM(B10:C10) -> -35.4 | E10: =SUMPRODUCT((VALUE(TEXT($A$32:$A$56,"JJ/MM/AAAA"))=VALUE(TEXT(A10,"JJ/MM/AAAA")))*1) -> 3 | F10: =(B10*8.54)+(C10*7.86) -> -277.292
A11: 43444 | B11: =SUMPRODUCT((VALUE(TEXT($A$32:$A$61,"JJ/MM/AAAA"))=VALUE(TEXT(A11,"JJ/MM/AAAA")))*($C$32:$C$61=$B$1),$L$32:$L$61) -> 35.4 | C11: =SUMPRODUCT((VALUE(TEXT($A$32:$A$61,"JJ/MM/AAAA"))=VALUE(TEXT(A11,"JJ/MM/AAAA")))*($C$32:$C$61=$C$1),$L$32:$L$61) -> -12.7 | D11: =SUM(B11:C11) -> 22.7 | E11: =SUMPRODUCT((VALUE(TEXT($A$32:$A$56,"JJ/MM/AAAA"))=VALUE(TEXT(A11,"JJ/MM/AAAA")))*1) -> 2 | F11: =(B11*8.54)+(C11*7.86) -> 202.494
A12: 10/15/2018 00:00:00 | D12: =SUM(B12:C12) -> 0 | F12: =(B12*8.54)+(C12*7.86) -> 0
A13: 10/16/2018 00:00:00 | D13: =SUM(B13:C13) -> 0 | F13: =(B13*8.54)+(C13*7.86) -> 0
A14: 10/17/2018 00:00:00 | D14: =SUM(B14:C14) -> 0 | F14: =(B14*8.54)+(C14*7.86) -> 0
A15: 10/18/2018 00:00:00 | D15: =SUM(B15:C15) -> 0 | F15: =(B15*8.54)+(C15*7.86) -> 0
A16: 10/19/2018 00:00:00 | D16: =SUM(B16:C16) -> 0 | F16: =(B16*8.54)+(C16*7.86) -> 0
A17: 10/22/2018 00:00:00 | D17: =SUM(B17:C17) -> 0 | F17: =(B17*8.54)+(C17*7.86) -> 0
A18: 10/23/2018 00:00:00 | D18: =SUM(B18:C18) -> 0 | F18: =(B18*8.54)+(C18*7.86) -> 0
A19: 10/24/2018 00:00:00 | D19: =SUM(B19:C19) -> 0 | F19: =(B19*8.54)+(C19*7.86) -> 0
A20: 10/25/2018 00:00:00 | D20: =SUM(B20:C20) -> 0 | F20: =(B20*8.54)+(C20*7.86) -> 0
A21: 10/26/2018 00:00:00 | D21: =SUM(B21:C21) -> 0 | F21: =(B21*8.54)+(C21*7.86) -> 0
A22: 10/29/2018 00:00:00 | D22: =SUM(B22:C22) -> 0 | F22: =(B22*8.54)+(C22*7.86) -> 0
A23: 10/30/2018 00:00:00 | D23: =SUM(B23:C23) -> 0 | F23: =(B23*8.54)+(C23*7.86) -> 0
A24: 10/31/2018 00:00:00 | D24: =SUM(B24:C24) -> 0 | F24: =(B24*8.54)+(C24*7.86) -> 0
A25: TOTAL | B25: =SUM(B2:B24) -> 10.1 | C25: =SUM(C2:C24) -> 137.3 | D25: =SUM(D2:D24) -> 147.4 | E25: =SUM(E2:E24) -> 28 | F25: =SUM(F2:F24) -> 1163.95
A26: TOTAL TRADES | B26: =COUNTIF(B2:B24,"<>0") -> 23 | E26: =SUM(B26:C26) -> 23
A27: TOTAL MONTANT | B27: =(B25*8.54) -> 86.254 | C27: =(C25*7.86) -> 1079.178
A31: Open Date | B31: Close Date | C31: Symbol | D31: Action | E31: Lots | F31: SL | G31: TP | H31: Open Price | I31: Close Price | J31: Commission | K31: Swap | L31: Pips | M31: Comptes
A32: 43444.46 | B32: 43444.771 | C32: EURUSD | D32: Sell | E32: 0.07 | F32: 1.16043 | G32: 0 | H32: 1.1591 | I32: 1.15556 | J32: -0.39 | K32: 0 | L32: 35.4 | M32: 24.39 | N32: 1.15 | O32: 1 | P32: 00:07:27:54 | Q32: 100 | R32: 7h 27m | S32: 25.9 | T32: 0.02 | U32: 54.7 | V32: 38.29 | W32: 0 | X32: 0 | Y32: 100 | Z32: 64.7 | AA32: -19.3 | AB32: -13.51
A33: 43444.183 | B33: 43444.771 | C33: USDJPY | D33: Buy | E33: 0.06 | F33: 112.051 | G33: 0 | H33: 112.224 | I33: 112.097 | J33: -0.33 | K33: 0 | L33: -12.7 | M33: -7.13 | N33: -0.34 | O33: 2 | P33: 00:14:05:15 | Q33: 66.4 | R33: 9h 21m | S33: 40 | T33: 0.52 | U33: 26.4 | V33: 14.256 | W33: -13.6 | X33: -7.344 | Y33: 66 | Z33: 2.3 | AA33: -39.1 | AB33: -21.11
A34: 43414.492 | B34: 43414.771 | C34: EURUSD | D34: Buy | E34: 0.06 | F34: 1.15352 | G34: 0 | H34: 1.15526 | I34: 1.1554 | J34: -0.33 | K34: 0 | L34: 1.4 | M34: 0.51 | N34: 0.02 | O34: 1 | P34: 00:06:40:19 | Q34: 97.5 | R34: 6h 30m | S34: 44.4 | T34: 0.07 | U34: 41.4 | V34: 24.84 | W34: -3 | X34: -1.8 | Y34: 93.2 | Z34: 9.9 | AA34: -40 | AB34: -24
A35: 43414.411 | B35: 43414.771 | C35: USDJPY | D35: Buy | E35: 0.04 | F35: 112.056 | G35: 0 | H35: 112.316 | I35: 112.207 | J35: -0.22 | K35: 0 | L35: -10.9 | M35: -4.11 | N35: -0.19 | O35: 2 | P35: 00:08:37:24 | Q35: 16.3 | R35: 1h 24m | S35: 40.5 | T35: 1.05 | U35: 21.4 | V35: 7.704 | W35: -22.5 | X35: -8.1 | Y35: 48.7 | Z35: 26.4 | AA35: -32.3 | AB35: -11.63
A36: 43414.204 | B36: 43414.411 | C36: USDJPY | D36: Sell | E36: 0.04 | F36: 112.315 | G36: 0 | H36: 112.056 | I36: 112.315 | J36: -0.22 | K36: 0 | L36: -25.9 | M36: -9.44 | N36: -0.44 | O36: 2 | P36: 00:04:58:18 | Q36: 0 | R36: 0s | S36: 25.9 | T36: 25.91 | U36: 0 | V36: 0 | W36: -25.9 | X36: -9.324 | Y36: 0 | Z36: 0 | AA36: -25.9 | AB36: -9.32
A37: 43383.708 | B37: 43383.771 | C37: USDJPY | D37: Sell | E37: 0.08 | F37: 113.076 | G37: 0 | H37: 112.92 | I37: 112.671 | J37: -0.44 | K37: 0 | L37: 24.9 | M37: 17.24 | N37: 0.81 | O37: 2 | P37: 00:01:30:56 | Q37: 1.1 | R37: 1m | S37: 0 | T37: 0.04 | U37: 24.9 | V37: 17.679 | W37: 0 | X37: 0 | Y37: 100 | Z37: 100 | AA37: 0 | AB37: 0
A38: 43383.672 | B38: 43383.771 | C38: EURUSD | D38: Buy | E38: 0.03 | F38: 1.14831 | G38: 0 | H38: 1.15112 | I38: 1.15314 | J38: -0.17 | K38: 0 | L38: 20.2 | M38: 5.89 | N38: 0.28 | O38: 1 | P38: 00:02:22:15 | Q38: 0.8 | R38: 1m | S38: 0 | T38: 0.05 | U38: 20.2 | V38: 6.06 | W38: 0 | X38: 0 | Y38: 100 | Z38: 100 | AA38: 0 | AB38: 0
A39: 43383.18 | B39: 43383.708 | C39: USDJPY | D39: Buy | E39: 0.08 | F39: 112.926 | G39: 0 | H39: 113.076 | I39: 112.92 | J39: -0.44 | K39: 0 | L39: -15.6 | M39: -11.49 | N39: -0.54 | O39: 2 | P39: 00:12:39:28 | Q39: 48.2 | R39: 6h 6m | S39: 35.5 | T39: 0.78 | U39: 19.9 | V39: 14.129 | W39: -15.6 | X39: -11.076 | Y39: 56.1 | Z39: 0 | AA39: -35.5 | AB39: -25.2
A40: 43383.516 | B40: 43383.672 | C40: EURUSD | D40: Sell | E40: 0.03 | F40: 1.1511 | G40: 0 | H40: 1.14831 | I40: 1.15112 | J40: -0.17 | K40: 0 | L40: -28.1 | M40: -8.6 | N40: -0.4 | O40: 1 | P40: 00:03:44:26 | Q40: 0 | R40: 0s | S40: 28.1 | T40: 28.17 | U40: 0 | V40: 0 | W40: -28.1 | X40: -8.43 | Y40: 0 | Z40: 0 | AA40: -28.1 | AB40: -8.43
A41: 43353.219 | B41: 43353.771 | C41: USDJPY | D41: Buy | E41: 0.07 | F41: 112.974 | G41: 0 | H41: 113.132 | I41: 113.082 | J41: -0.39 | K41: 0 | L41: -5 | M41: -3.49 | N41: -0.16 | O41: 2 | P41: 00:13:13:20 | Q41: 58.2 | R41: 7h 41m | S41: 37.4 | T41: 0.47 | U41: 25.5 | V41: 15.81 | W41: -11.9 | X41: -7.378 | Y41: 68.2 | Z41: 18.4 | AA41: -30.5 | AB41: -18.91
A42: 43353.731 | B42: 43353.771 | C42: EURUSD | D42: Buy | E42: 0.04 | F42: 1.1464 | G42: 0 | H42: 1.14871 | I42: 1.14776 | J42: -0.22 | K42: 0 | L42: -9.5 | M42: -4.02 | N42: -0.19 | O42: 1 | P42: 00:00:57:16 | Q42: 0 | R42: 0s | S42: 9.5 | T42: 9.51 | U42: 0 | V42: 0 | W42: -9.5 | X42: -3.8 | Y42: 0 | Z42: 0 | AA42: -9.5 | AB42: -3.8
A43: 43353.512 | B43: 43353.731 | C43: EURUSD | D43: Sell | E43: 0.04 | F43: 1.14871 | G43: 0 | H43: 1.1464 | I43: 1.14871 | J43: -0.22 | K43: 0 | L43: -23.1 | M43: -9.46 | N43: -0.44 | O43: 1 | P43: 00:05:13:51 | Q43: 37.3 | R43: 1h 57m | S43: 54.7 | T43: 0.73 | U43: 31.6 | V43: 12.64 | W43: -23.1 | X43: -9.24 | Y43: 57.8 | Z43: 0 | AA43: -54.7 | AB43: -21.88
... A61: 43110.46 | B61: 43110.741 | C61: EURUSD | D61: Buy | E61: 0.04 | F61: 1.15739 | G61: 0 | H61: 1.15978 | I61: 1.15733 | J61: -0.22 | K61: 0 | L61: -24.5 | M61: -10.02 | N61: -0.5 | O61: 1 | P61: 00:06:44:52 | Q61: 41.8 | R61: 2h 49m | S61: 48.8 | T61: 1.01 | U61: 24.3 | V61: 9.72 | W61: -24.5 | X61: -9.8 | Y61: 49.8 | Z61: 0 | AA61: -48.8 | AB61: -19.52

Sheet E
A1: E - Pepperstone | B1: EURUSD | C1: USDJPY | D1: TOTAL PIPS | E1: TRADES | F1: TOTAL MONTANT
A2: 43110 | B2: =SUMPRODUCT((VALUE(TEXT($B$31:$B$32,"JJ/MM/AAAA"))=VALUE(TEXT(A2,"JJ/MM/AAAA")))*($C$31:$C$32=$B$1),$L$31:$L$32) -> 0 | C2: 0 | D2: =SUM(B2:C2) -> 0 | E2: 0 | F2: =(B2*8.54)+(C2*7.86) -> 0
A3: 43141 | B3: =SUMPRODUCT((VALUE(TEXT($B$31:$B$32,"JJ/MM/AAAA"))=VALUE(TEXT(A3,"JJ/MM/AAAA")))*($C$31:$C$32=$B$1),$L$31:$L$32) -> 0 | C3: 0 | D3: =SUM(B3:C3) -> 0 | E3: 0 | F3: =(B3*8.54)+(C3*7.86) -> 0
A4: 43169 | B4: =SUMPRODUCT((VALUE(TEXT($B$31:$B$32,"JJ/MM/AAAA"))=VALUE(TEXT(A4,"JJ/MM/AAAA")))*($C$31:$C$32=$B$1),$L$31:$L$32) -> 0 | C4: 0 | D4: =SUM(B4:C4) -> 0 | E4: 0 | F4: =(B4*8.54)+(C4*7.86) -> 0
A5: 43200 | B5: =SUMPRODUCT((VALUE(TEXT($B$31:$B$32,"JJ/MM/AAAA"))=VALUE(TEXT(A5,"JJ/MM/AAAA")))*($C$31:$C$32=$B$1),$L$31:$L$32) -> 0 | C5: 0 | D5: =SUM(B5:C5) -> 0 | E5: 0 | F5: =(B5*8.54)+(C5*7.86) -> 0
A6: 43230 | B6: =SUMPRODUCT((VALUE(TEXT($B$31:$B$32,"JJ/MM/AAAA"))=VALUE(TEXT(A6,"JJ/MM/AAAA")))*($C$31:$C$32=$B$1),$L$31:$L$32) -> 0 | C6: 0 | D6: =SUM(B6:C6) -> 0 | E6: 0 | F6: =(B6*8.54)+(C6*7.86) -> 0
A7: 43322 | B7: =SUMPRODUCT((VALUE(TEXT($B$31:$B$32,"JJ/MM/AAAA"))=VALUE(TEXT(A7,"JJ/MM/AAAA")))*($C$31:$C$32=$B$1),$L$31:$L$32) -> 0 | C7: 0 | D7: =SUM(B7:C7) -> 0 | E7: 0 | F7: =(B7*8.54)+(C7*7.86) -> 0
A8: 43353 | B8: =SUMPRODUCT((VALUE(TEXT($B$31:$B$32,"JJ/MM/AAAA"))=VALUE(TEXT(A8,"JJ/MM/AAAA")))*($C$31:$C$32=$B$1),$L$31:$L$32) -> -35.3 | C8: 0 | D8: =SUM(B8:C8) -> -35.3 | E8: 0 | F8: =(B8*8.54)+(C8*7.86) -> -301.462
A9: 43383 | B9: =SUMPRODUCT((VALUE(TEXT($B$31:$B$32,"JJ/MM/AAAA"))=VALUE(TEXT(A9,"JJ/MM/AAAA")))*($C$31:$C$32=$B$1),$L$31:$L$32) -> 0 | C9: 0 | D9: =SUM(B9:C9) -> 0 | E9: 0 | F9: =(B9*8.54)+(C9*7.86) -> 0
A10: 43414 | B10: =SUMPRODUCT((VALUE(TEXT($B$31:$B$32,"JJ/MM/AAAA"))=VALUE(TEXT(A10,"JJ/MM/AAAA")))*($C$31:$C$32=$B$1),$L$31:$L$32) -> 0 | C10: 0 | D10: =SUM(B10:C10) -> 0 | E10: 0 | F10: =(B10*8.54)+(C10*7.86) -> 0
A11: 43444 | B11: =SUMPRODUCT((VALUE(TEXT($B$31:$B$32,"JJ/MM/AAAA"))=VALUE(TEXT(A11,"JJ/MM/AAAA")))*($C$31:$C$32=$B$1),$L$31:$L$32) -> -6.9 | C11: 0 | D11: =SUM(B11:C11) -> -6.9 | E11: 0 | F11: =(B11*8.54)+(C11*7.86) -> -58.926
A12: 10/15/2018 00:00:00 | B12: 0 | C12: 0 | D12: =SUM(B12:C12) -> 0 | E12: 0 | F12: =(B12*8.54)+(C12*7.86) -> 0
A13: 10/16/2018 00:00:00 | B13: 0 | C13: 0 | D13: =SUM(B13:C13) -> 0 | E13: 0 | F13: =(B13*8.54)+(C13*7.86) -> 0
A14: 10/17/2018 00:00:00 | B14: 0 | C14: 0 | D14: =SUM(B14:C14) -> 0 | E14: 0 | F14: =(B14*8.54)+(C14*7.86) -> 0
A15: 10/18/2018 00:00:00 | B15: 0 | C15: 0 | D15: =SUM(B15:C15) -> 0 | E15: 0 | F15: =(B15*8.54)+(C15*7.86) -> 0
A16: 10/19/2018 00:00:00 | B16: 0 | C16: 0 | D16: =SUM(B16:C16) -> 0 | E16: 0 | F16: =(B16*8.54)+(C16*7.86) -> 0
A17: 10/22/2018 00:00:00 | B17: 0 | C17: 0 | D17: =SUM(B17:C17) -> 0 | E17: 0 | F17: =(B17*8.54)+(C17*7.86) -> 0
A18: 10/23/2018 00:00:00 | B18: 0 | C18: 0 | D18: =SUM(B18:C18) -> 0 | E18: 0 | F18: =(B18*8.54)+(C18*7.86) -> 0
A19: 10/24/2018 00:00:00 | B19: 0 | C19: 0 | D19: =SUM(B19:C19) -> 0 | E19: 0 | F19: =(B19*8.54)+(C19*7.86) -> 0
A20: 10/25/2018 00:00:00 | B20: 0 | C20: 0 | D20: =SUM(B20:C20) -> 0 | E20: 0 | F20: =(B20*8.54)+(C20*7.86) -> 0
A21: 10/26/2018 00:00:00 | B21: 0 | C21: 0 | D21: =SUM(B21:C21) -> 0 | E21: 0 | F21: =(B21*8.54)+(C21*7.86) -> 0
A22: 10/29/2018 00:00:00 | B22: 0 | C22: 0 | D22: =SUM(B22:C22) -> 0 | E22: 0 | F22: =(B22*8.54)+(C22*7.86) -> 0
A23: 10/30/2018 00:00:00 | B23: 0 | C23: 0 | D23: =SUM(B23:C23) -> 0 | E23: 0 | F23: =(B23*8.54)+(C23*7.86) -> 0
A24: 10/31/2018 00:00:00 | B24: 0 | C24: 0 | D24: =SUM(B24:C24) -> 0 | E24: 0 | F24: =(B24*8.54)+(C24*7.86) -> 0
A25: TOTAL | B25: =SUM(B2:B24) -> -42.2 | C25: =SUM(C2:C24) -> 0 | D25: =SUM(D2:D24) -> -42.2 | E25: =SUM(E2:E24) -> 0 | F25: =SUM(F2:F24) -> -360.388
A26: TOTAL MONTANT | B26: =(B25*8.6) -> -362.92 | C26: =(C25*7.86) -> 0
A27: TOTAL TRADES | E27: =SUM(B27:C27) -> 0
A30: Open Date | B30: Close Date | C30: Symbol | D30: Action | E30: Lots | F30: SL | G30: TP | H30: Open Price | I30: Close Price | J30: Commission | K30: Swap | L30: Pips | M30: Comptes
A31: 43444.729 | B31: 43444.817 | C31: EURUSD | D31: Sell | E31: 0.11 | F31: 1.15871 | G31: 1.15211 | H31: 1.15516 | I31: 1.15585 | J31: -0.83 | K31: 0 | L31: -6.9 | M31: -8.42 | N31: -0.07 | O31: 00:02:07:33 | P31: 0 | Q31: 0s | R31: 6.9 | S31: 6.9 | T31: 0 | U31: 0 | V31: -6.9 | W31: -7.59 | X31: 0 | Y31: 0 | Z31: -6.9 | AA31: -7.59
A32: 43353.583 | B32: 43353.726 | C32: EURUSD | D32: Sell | E32: 0.11 | F32: 1.14841 | G32: 1.14181 | H32: 1.14489 | I32: 1.14842 | J32: -0.83 | K32: 0 | L32: -35.3 | M32: -39.66 | N32: -0.35 | O32: 00:03:26:32 | P32: 1.5 | Q32: 3m | R32: 38.5 | S32: 34.01 | T32: 1.1 | U32: 1.21 | V32: -37.4 | W32: -41.14 | X32: 2.9 | Y32: 5.5 | Z32: -36.4 | AA32: -40.04

Sheet F
A1: F - VOL Portfolio | B1: EURUSD | C1: GBPUSD | D1: TOTAL PIPS | E1: TRADES | F1: TOTAL MONTANT
A2: 43110 | B2: =SUMPRODUCT((VALUE(TEXT($B$31:$B$68,"JJ/MM/AAAA"))=VALUE(TEXT(A2,"JJ/MM/AAAA")))*($C$31:$C$68=$B$1),$L$31:$L$68) -> 0 | C2: =SUMPRODUCT((VALUE(TEXT($B$31:$B$68,"JJ/MM/AAAA"))=VALUE(TEXT(A2,"JJ/MM/AAAA")))*($C$31:$C$68=$C$1),$L$31:$L$68) -> 0 | D2: =SUM(B2:C2) -> 0 | E2: =SUMPRODUCT((VALUE(TEXT($B$31:$B$68,"JJ/MM/AAAA"))=VALUE(TEXT(A2,"JJ/MM/AAAA")))*1) -> 0 | F2: =(B2*8.6)+(C2*8.6) -> 0
A3: 43141 | B3: =SUMPRODUCT((VALUE(TEXT($B$31:$B$68,"JJ/MM/AAAA"))=VALUE(TEXT(A3,"JJ/MM/AAAA")))*($C$31:$C$68=$B$1),$L$31:$L$68) -> 4.2 | C3: =SUMPRODUCT((VALUE(TEXT($B$31:$B$68,"JJ/MM/AAAA"))=VALUE(TEXT(A3,"JJ/MM/AAAA")))*($C$31:$C$68=$C$1),$L$31:$L$68) -> 0 | D3: =SUM(B3:C3) -> 4.2 | E3: =SUMPRODUCT((VALUE(TEXT($B$31:$B$68,"JJ/MM/AAAA"))=VALUE(TEXT(A3,"JJ/MM/AAAA")))*1) -> 2 | F3: =(B3*8.6)+(C3*8.6) -> 36.12
A4: 43169 | B4: =SUMPRODUCT((VALUE(TEXT($B$31:$B$68,"JJ/MM/AAAA"))=VALUE(TEXT(A4,"JJ/MM/AAAA")))*($C$31:$C$68=$B$1),$L$31:$L$68) -> -114 | C4: =SUMPRODUCT((VALUE(TEXT($B$31:$B$68,"JJ/MM/AAAA"))=VALUE(TEXT(A4,"JJ/MM/AAAA")))*($C$31:$C$68=$C$1),$L$31:$L$68) -> 0 | D4: =SUM(B4:C4) -> -114 | E4: =SUMPRODUCT((VALUE(TEXT($B$31:$B$68,"JJ/MM/AAAA"))=VALUE(TEXT(A4,"JJ/MM/AAAA")))*1) -> 9 | F4: =(B4*8.6)+(C4*8.6) -> -980.4
A5: 43200 | B5: =SUMPRODUCT((VALUE(TEXT($B$31:$B$68,"JJ/MM/AAAA"))=VALUE(TEXT(A5,"JJ/MM/AAAA")))*($C$31:$C$68=$B$1),$L$31:$L$68) -> -66.7 | C5: =SUMPRODUCT((VALUE(TEXT($B$31:$B$68,"JJ/MM/AAAA"))=VALUE(TEXT(A5,"JJ/MM/AAAA")))*($C$31:$C$68=$C$1),$L$31:$L$68) -> 0 | D5: =SUM(B5:C5) -> -66.7 | E5: =SUMPRODUCT((VALUE(TEXT($B$31:$B$68,"JJ/MM/AAAA"))=VALUE(TEXT(A5,"JJ/MM/AAAA")))*1) -> 3 | F5: =(B5*8.6)+(C5*8.6) -> -573.62
A6: 43230 | B6: =SUMPRODUCT((VALUE(TEXT($B$31:$B$68,"JJ/MM/AAAA"))=VALUE(TEXT(A6,"JJ/MM/AAAA")))*($C$31:$C$68=$B$1),$L$31:$L$68) -> -101.7 | C6: =SUMPRODUCT((VALUE(TEXT($B$31:$B$68,"JJ/MM/AAAA"))=VALUE(TEXT(A6,"JJ/MM/AAAA")))*($C$31:$C$68=$C$1),$L$31:$L$68) -> -9.5 | D6: =SUM(B6:C6) -> -111.2 | E6: =SUMPRODUCT((VALUE(TEXT($B$31:$B$68,"JJ/MM/AAAA"))=VALUE(TEXT(A6,"JJ/MM/AAAA")))*1) -> 10 | F6: =(B6*8.6)+(C6*8.6) -> -956.32
A7: 43322 | B7: =SUMPRODUCT((VALUE(TEXT($B$31:$B$68,"JJ/MM/AAAA"))=VALUE(TEXT(A7,"JJ/MM/AAAA")))*($C$31:$C$68=$B$1),$L$31:$L$68) -> 0 | C7: =SUMPRODUCT((VALUE(TEXT($B$31:$B$68,"JJ/MM/AAAA"))=VALUE(TEXT(A7,"JJ/MM/AAAA")))*($C$31:$C$68=$C$1),$L$31:$L$68) -> 0 | D7: =SUM(B7:C7) -> 0 | E7: =SUMPRODUCT((VALUE(TEXT($B$31:$B$68,"JJ/MM/AAAA"))=VALUE(TEXT(A7,"JJ/MM/AAAA")))*1) -> 0 | F7: =(B7*8.6)+(C7*8.6) -> 0
A8: 43353 | B8: =SUMPRODUCT((VALUE(TEXT($B$31:$B$68,"JJ/MM/AAAA"))=VALUE(TEXT(A8,"JJ/MM/AAAA")))*($C$31:$C$68=$B$1),$L$31:$L$68) -> 14.5 | C8: =SUMPRODUCT((VALUE(TEXT($B$31:$B$68,"JJ/MM/AAAA"))=VALUE(TEXT(A8,"JJ/MM/AAAA")))*($C$31:$C$68=$C$1),$L$31:$L$68) -> 76.7 | D8: =SUM(B8:C8) -> 91.2 | E8: =SUMPRODUCT((VALUE(TEXT($B$31:$B$68,"JJ/MM/AAAA"))=VALUE(TEXT(A8,"JJ/MM/AAAA")))*1) -> 6 | F8: =(B8*8.6)+(C8*8.6) -> 784.32
A9: 43383 | B9: =SUMPRODUCT((VALUE(TEXT($B$31:$B$68,"JJ/MM/AAAA"))=VALUE(TEXT(A9,"JJ/MM/AAAA")))*($C$31:$C$68=$B$1),$L$31:$L$68) -> 89.8 | C9: =SUMPRODUCT((VALUE(TEXT($B$31:$B$68,"JJ/MM/AAAA"))=VALUE(TEXT(A9,"JJ/MM/AAAA")))*($C$31:$C$68=$C$1),$L$31:$L$68) -> 108.8 | D9: =SUM(B9:C9) -> 198.6 | E9: =SUMPRODUCT((VALUE(TEXT($B$31:$B$68,"JJ/MM/AAAA"))=VALUE(TEXT(A9,"JJ/MM/AAAA")))*1) -> 6 | F9: =(B9*8.6)+(C9*8.6) -> 1707.96
A10: 43414 | B10: =SUMPRODUCT((VALUE(TEXT($B$31:$B$68,"JJ/MM/AAAA"))=VALUE(TEXT(A10,"JJ/MM/AAAA")))*($C$31:$C$68=$B$1),$L$31:$L$68) -> 30.9 | C10: =SUMPRODUCT((VALUE(TEXT($B$31:$B$68,"JJ/MM/AAAA"))=VALUE(TEXT(A10,"JJ/MM/AAAA")))*($C$31:$C$68=$C$1),$L$31:$L$68) -> 0 | D10: =SUM(B10:C10) -> 30.9 | E10: =SUMPRODUCT((VALUE(TEXT($B$31:$B$68,"JJ/MM/AAAA"))=VALUE(TEXT(A10,"JJ/MM/AAAA")))*1) -> 2 | F10: =(B10*8.6)+(C10*8.6) -> 265.74
A11: 43444 | B11: =SUMPRODUCT((VALUE(TEXT($B$31:$B$68,"JJ/MM/AAAA"))=VALUE(TEXT(A11,"JJ/MM/AAAA")))*($C$31:$C$68=$B$1),$L$31:$L$68) -> 0 | C11: =SUMPRODUCT((VALUE(TEXT($B$31:$B$68,"JJ/MM/AAAA"))=VALUE(TEXT(A11,"JJ/MM/AAAA")))*($C$31:$C$68=$C$1),$L$31:$L$68) -> 0 | D11: =SUM(B11:C11) -> 0 | E11: =SUMPRODUCT((VALUE(TEXT($B$31:$B$68,"JJ/MM/AAAA"))=VALUE(TEXT(A11,"JJ/MM/AAAA")))*1) -> 0 | F11: =(B11*8.6)+(C11*8.6) -> 0
A12: 10/15/2018 00:00:00 | D12: =SUM(B12:C12) -> 0 | E12: =SUMPRODUCT((VALUE(TEXT($B$31:$B$68,"JJ/MM/AAAA"))=VALUE(TEXT(A12,"JJ/MM/AAAA")))*1) -> #VALUE! | F12: =(B12*8.6)+(C12*8.6) -> 0
A13: 10/16/2018 00:00:00 | D13: =SUM(B13:C13) -> 0 | E13: =SUMPRODUCT((VALUE(TEXT($B$31:$B$68,"JJ/MM/AAAA"))=VALUE(TEXT(A13,"JJ/MM/AAAA")))*1) -> #VALUE! | F13: =(B13*8.6)+(C13*8.6) -> 0
A14: 10/17/2018 00:00:00 | D14: =SUM(B14:C14) -> 0 | E14: =SUMPRODUCT((VALUE(TEXT($B$31:$B$68,"JJ/MM/AAAA"))=VALUE(TEXT(A14,"JJ/MM/AAAA")))*1) -> #VALUE! | F14: =(B14*8.6)+(C14*8.6) -> 0
A15: 10/18/2018 00:00:00 | D15: =SUM(B15:C15) -> 0 | E15: =SUMPRODUCT((VALUE(TEXT($B$31:$B$68,"JJ/MM/AAAA"))=VALUE(TEXT(A15,"JJ/MM/AAAA")))*1) -> #VALUE! | F15: =(B15*8.6)+(C15*8.6) -> 0
A16: 10/19/2018 00:00:00 | D16: =SUM(B16:C16) -> 0 | E16: =SUMPRODUCT((VALUE(TEXT($B$31:$B$68,"JJ/MM/AAAA"))=VALUE(TEXT(A16,"JJ/MM/AAAA")))*1) -> #VALUE! | F16: =(B16*8.6)+(C16*8.6) -> 0
A17: 10/22/2018 00:00:00 | D17: =SUM(B17:C17) -> 0 | E17: =SUMPRODUCT((VALUE(TEXT($B$31:$B$68,"JJ/MM/AAAA"))=VALUE(TEXT(A17,"JJ/MM/AAAA")))*1) -> #VALUE! | F17: =(B17*8.6)+(C17*8.6) -> 0
A18: 10/23/2018 00:00:00 | D18: =SUM(B18:C18) -> 0 | E18: =SUMPRODUCT((VALUE(TEXT($B$31:$B$68,"JJ/MM/AAAA"))=VALUE(TEXT(A18,"JJ/MM/AAAA")))*1) -> #VALUE! | F18: =(B18*8.6)+(C18*8.6) -> 0
A19: 10/24/2018 00:00:00 | D19: =SUM(B19:C19) -> 0 | E19: =SUMPRODUCT((VALUE(TEXT($B$31:$B$68,"JJ/MM/AAAA"))=VALUE(TEXT(A19,"JJ/MM/AAAA")))*1) -> #VALUE! | F19: =(B19*8.6)+(C19*8.6) -> 0
A20: 10/25/2018 00:00:00 | D20: =SUM(B20:C20) -> 0 | E20: =SUMPRODUCT((VALUE(TEXT($B$31:$B$68,"JJ/MM/AAAA"))=VALUE(TEXT(A20,"JJ/MM/AAAA")))*1) -> #VALUE! | F20: =(B20*8.6)+(C20*8.6) -> 0
A21: 10/26/2018 00:00:00 | D21: =SUM(B21:C21) -> 0 | E21: =SUMPRODUCT((VALUE(TEXT($B$31:$B$68,"JJ/MM/AAAA"))=VALUE(TEXT(A21,"JJ/MM/AAAA")))*1) -> #VALUE! | F21: =(B21*8.6)+(C21*8.6) -> 0
A22: 10/29/2018 00:00:00 | D22: =SUM(B22:C22) -> 0 | E22: =SUMPRODUCT((VALUE(TEXT($B$31:$B$68,"JJ/MM/AAAA"))=VALUE(TEXT(A22,"JJ/MM/AAAA")))*1) -> #VALUE! | F22: =(B22*8.6)+(C22*8.6) -> 0
A23: 10/30/2018 00:00:00 | D23: =SUM(B23:C23) -> 0 | E23: =SUMPRODUCT((VALUE(TEXT($B$31:$B$68,"JJ/MM/AAAA"))=VALUE(TEXT(A23,"JJ/MM/AAAA")))*1) -> #VALUE! | F23: =(B23*8.6)+(C23*8.6) -> 0
A24: 10/31/2018 00:00:00 | D24: =SUM(B24:C24) -> 0 | E24: =SUMPRODUCT((VALUE(TEXT($B$31:$B$68,"JJ/MM/AAAA"))=VALUE(TEXT(A24,"JJ/MM/AAAA")))*1) -> #VALUE! | F24: =(B24*8.6)+(C24*8.6) -> 0
A25: TOTAL | B25: =SUM(B2:B24) -> -143 | C25: =SUM(C2:C24) -> 176 | D25: =SUM(D2:D24) -> 33 | E25: =SUM(E2:E24) -> #VALUE! | F25: =SUM(F2:F22) -> 283.8
A26: TOTAL TRADES | E26: =SUM(B26:D26) -> 0
A27: TOTAL MONTANT | B27: =(B25*8.6) -> -1229.8 | C27: =(C25*8.6) -> 1513.6
A30: Open Date | B30: Close Date | C30: Symbol | D30: Action | E30: Lots | F30: SL | G30: TP | H30: Open Price | I30: Close Price | J30: Commission | K30: Swap | L30: Pips | M30: Comptes
A31: 43414.688 | B31: 43414.781 | C31: EURUSD | D31: Sell | E31: 0.02 | F31: 0 | G31: 0 | H31: 1.1565 | I31: 1.15668 | J31: -0.12 | K31: 0 | L31: -1.8 | M31: -0.48 | N31: -0.01 | O31: 00:02:14:59 | P31: 0 | Q31: 0s | R31: 31.4 | S31: 31.45 | T31: 0 | U31: 0 | V31: -31.4 | W31: -6.28 | X31: 0 | Y31: 94.3 | Z31: -1.8 | AA31: -0.36
A32: 43383.681 | B32: 43414.205 | C32: EURUSD | D32: Buy | E32: 0.02 | F32: 0 | G32: 0 | H32: 1.15209 | I32: 1.15536 | J32: -0.12 | K32: -0.7 | L32: 32.7 | M32: 5.72 | N32: 0.15 | O32: 00:12:35:01 | P32: 90.4 | Q32: 11h 22m | R32: 27.5 | S32: 0.15 | T32: 32.7 | U32: 6.54 | V32: -4.8 | W32: -0.96 | X32: 87.2 | Y32: 100 | Z32: 0 | AA32: 0
A33: 43353.826 | B33: 43383.351 | C33: GBPUSD | D33: Buy | E33: 0.01 | F33: 0 | G33: 0 | H33: 1.31262 | I33: 1.31725 | J33: -0.06 | K33: -0.09 | L33: 46.3 | M33: 4.48 | N33: 0.12 | O33: 00:12:34:48 | P33: 100 | Q33: 12h 34m | R33: 14.9 | S33: 0.02 | T33: 46.4 | U33: 4.64 | V33: 0 | W33: 0 | X33: 100 | Y33: 99.8 | Z33: -0.1 | AA33: -0.01
A34: 43353.781 | B34: 43383.351 | C34: GBPUSD | D34: Buy | E34: 0.01 | F34: 0 | G34: 0 | H34: 1.31382 | I34: 1.31725 | J34: -0.06 | K34: -0.09 | L34: 34.3 | M34: 3.28 | N34: 0.09 | O34: 00:13:40:00 | P34: 97.9 | Q34: 13h 22m | R34: 16.1 | S34: 0.17 | T34: 34.4 | U34: 3.44 | V34: -5.9 | W34: -0.59 | X34: 85.4 | Y34: 99.8 | Z34: -0.1 | AA34: -0.01
A35: 43353.778 | B35: 43383.347 | C35: GBPUSD | D35: Buy | E35: 0.01 | F35: 0 | G35: 0 | H35: 1.31371 | I35: 1.31653 | J35: -0.06 | K35: -0.09 | L35: 28.2 | M35: 2.67 | N35: 0.07 | O35: 00:13:40:01 | P35: 99 | Q35: 13h 31m | R35: 16.1 | S35: 0.17 | T35: 28.4 | U35: 2.84 | V35: -4.8 | W35: -0.48 | X35: 85.5 | Y35: 99.4 | Z35: -0.2 | AA35: -0.02
A36: 43353.733 | B36: 43383.174 | C36: EURUSD | D36: Buy | E36: 0.02 | F36: 0 | G36: 0 | H36: 1.14822 | I36: 1.15115 | J36: -0.12 | K36: -0.23 | L36: 29.3 | M36: 5.51 | N36: 0.15 | O36: 00:10:35:00 | P36: 100 | Q36: 10h 35m | R36: 12.4 | S36: 0.03 | T36: 30.2 | U36: 6.04 | V36: 0 | W36: 0 | X36: 100 | Y36: 97 | Z36: -0.9 | AA36: -0.18
A37: 43353.729 | B37: 43383.17 | C37: EURUSD | D37: Buy | E37: 0.02 | F37: 0 | G37: 0 | H37: 1.14805 | I37: 1.15124 | J37: -0.12 | K37: -0.23 | L37: 31.9 | M37: 6.03 | N37: 0.16 | O37: 00:10:34:59 | P37: 100 | Q37: 10h 34m | R37: 12.4 | S37: 0.03 | T37: 31.9 | U37: 6.38 | V37: 0 | W37: 0 | X37: 100 | Y37: 100 | Z37: 0 | AA37: 0
A38: 43353.726 | B38: 43383.167 | C38: EURUSD | D38: Buy | E38: 0.02 | F38: 0 | G38: 0 | H38: 1.14795 | I38: 1.15081 | J38: -0.12 | K38: -0.23 | L38: 28.6 | M38: 5.37 | N38: 0.14 | O38: 00:10:34:59 | P38: 100 | Q38: 10h 34m | R38: 12.4 | S38: 0.03 | T38: 29.2 | U38: 5.84 | V38: 0 | W38: 0 | X38: 100 | Y38: 97.9 | Z38: -0.6 | AA38: -0.12
A39: 43353.74 | B39: 43353.906 | C39: EURUSD | D39: Buy | E39: 0.02 | F39: 0 | G39: 0 | H39: 1.14817 | I39: 1.1499 | J39: -0.12 | K39: 0 | L39: 17.3 | M39: 3.34 | N39: 0.09 | O39: 00:04:00:00 | P39: 100 | Q39: 4h 0m | R39: 6.9 | S39: 0.06 | T39: 17.5 | U39: 3.5 | V39: 0 | W39: 0 | X39: 100 | Y39: 98.9 | Z39: -0.2 | AA39: -0.04
A40: 43353.733 | B40: 43353.774 | C40: GBPUSD | D40: Buy | E40: 0.01 | F40: 0 | G40: 0 | H40: 1.30971 | I40: 1.31219 | J40: -0.06 | K40: 0 | L40: 24.8 | M40: 2.42 | N40: 0.06 | O40: 00:01:00:01 | P40: 1.7 | Q40: 1m | R40: 0 | S40: 0.04 | T40: 24.8 | U40: 2.48 | V40: 0 | W40: 0 | X40: 100 | Y40: 100 | Z40: 0 | AA40: 0
A41: 43353.736 | B41: 43353.774 | C41: GBPUSD | D41: Buy | E41: 0.01 | F41: 0 | G41: 0 | H41: 1.30991 | I41: 1.31219 | J41: -0.06 | K41: 0 | L41: 22.8 | M41: 2.22 | N41: 0.06 | O41: 00:00:55:01 | P41: 1.9 | Q41: 1m | R41: 0 | S41: 0.04 | T41: 22.8 | U41: 2.28 | V41: 0 | W41: 0 | X41: 100 | Y41: 100 | Z41: 0 | AA41: 0
A42: 43353.729 | B42: 43353.767 | C42: GBPUSD | D42: Buy | E42: 0.01 | F42: 0 | G42: 0 | H42: 1.30923 | I42: 1.3107 | J42: -0.06 | K42: 0 | L42: 14.7 | M42: 1.41 | N42: 0.04 | O42: 00:00:55:03 | P42: 1.8 | Q42: 59s | R42: 0 | S42: 0.07 | T42: 14.7 | U42: 1.47 | V42: 0 | W42: 0 | X42: 100 | Y42: 100 | Z42: 0 | AA42: 0
... A68: 43110.743 | B68: 43141.372 | C68: EURUSD | D68: Sell | E68: 0.02 | F68: 0 | G68: 0 | H68: 1.1574 | I68: 1.15475 | J68: -0.12 | K68: 0.11 | L68: 26.5 | M68: 5.29 | N68: 0.14 | O68: 00:15:05:00 | P68: 49.7 | Q68: 7h 29m | R68: 7.1 | S68: 0.21 | T68: 29.1 | U68: 5.82 | V68: -6.1 | W68: -1.22 | X68: 82.7 | Y68: 92.6 | Z68: -2.6 | AA68: -0.52

Sheet G
A1: G - Atlas | B1: EURUSD | C1: GBPUSD | D1: USDJPY | E1: AUDUSD | F1: TOTAL PIPS | G1: TRADES | H1: TOTAL MONTANT
A2: 43110 | B2: =SUMPRODUCT((VALUE(TEXT($B$32:$B$59,"JJ/MM/AAAA"))=VALUE(TEXT(A2,"JJ/MM/AAAA")))*($C$32:$C$59=$B$1),$L$32:$L$59) -> #VALUE! | C2: =SUMPRODUCT((VALUE(TEXT($B$32:$B$57,"JJ/MM/AAAA"))=VALUE(TEXT(A2,"JJ/MM/AAAA")))*($C$32:$C$57=$C$1),$L$32:$L$57) -> #VALUE! | D2: =SUMPRODUCT((VALUE(TEXT($B$32:$B$57,"JJ/MM/AAAA"))=VALUE(TEXT(A2,"JJ/MM/AAAA")))*($C$32:$C$57=$D$1),$L$32:$L$57) -> #VALUE! | E2: =SUMPRODUCT((VALUE(TEXT($B$32:$B$57,"JJ/MM/AAAA"))=VALUE(TEXT(A2,"JJ/MM/AAAA")))*($C$32:$C$57=$E$1),$L$32:$L$57) -> #VALUE! | F2: =SUM(B2:E2) -> #VALUE! | G2: =SUMPRODUCT((VALUE(TEXT($B$32:$B$57,"JJ/MM/AAAA"))=VALUE(TEXT(A2,"JJ/MM/AAAA")))*1) -> #VALUE! | H2: =(B2*8.6)+(C2*8.6)+(D2*7.6)+(E2*8.3) -> #VALUE!
A3: 43141 | B3: =SUMPRODUCT((VALUE(TEXT($B$32:$B$59,"JJ/MM/AAAA"))=VALUE(TEXT(A3,"JJ/MM/AAAA")))*($C$32:$C$59=$B$1),$L$32:$L$59) -> #VALUE! | C3: =SUMPRODUCT((VALUE(TEXT($B$32:$B$57,"JJ/MM/AAAA"))=VALUE(TEXT(A3,"JJ/MM/AAAA")))*($C$32:$C$57=$C$1),$L$32:$L$57) -> #VALUE! | D3: =SUMPRODUCT((VALUE(TEXT($B$32:$B$57,"JJ/MM/AAAA"))=VALUE(TEXT(A3,"JJ/MM/AAAA")))*($C$32:$C$57=$D$1),$L$32:$L$57) -> #VALUE! | E3: =SUMPRODUCT((VALUE(TEXT($B$32:$B$57,"JJ/MM/AAAA"))=VALUE(TEXT(A3,"JJ/MM/AAAA")))*($C$32:$C$57=$E$1),$L$32:$L$57) -> #VALUE! | F3: =SUM(B3:E3) -> #VALUE! | G3: =SUMPRODUCT((VALUE(TEXT($B$32:$B$57,"JJ/MM/AAAA"))=VALUE(TEXT(A3,"JJ/MM/AAAA")))*1) -> #VALUE! | H3: =(B3*8.6)+(C3*8.6)+(D3*7.6)+(E3*8.3) -> #VALUE!
A4: 43169 | B4: =SUMPRODUCT((VALUE(TEXT($B$32:$B$59,"JJ/MM/AAAA"))=VALUE(TEXT(A4,"JJ/MM/AAAA")))*($C$32:$C$59=$B$1),$L$32:$L$59) -> #VALUE! | C4: =SUMPRODUCT((VALUE(TEXT($B$32:$B$57,"JJ/MM/AAAA"))=VALUE(TEXT(A4,"JJ/MM/AAAA")))*($C$32:$C$57=$C$1),$L$32:$L$57) -> #VALUE! | D4: =SUMPRODUCT((VALUE(TEXT($B$32:$B$57,"JJ/MM/AAAA"))=VALUE(TEXT(A4,"JJ/MM/AAAA")))*($C$32:$C$57=$D$1),$L$32:$L$57) -> #VALUE! | E4: =SUMPRODUCT((VALUE(TEXT($B$32:$B$57,"JJ/MM/AAAA"))=VALUE(TEXT(A4,"JJ/MM/AAAA")))*($C$32:$C$57=$E$1),$L$32:$L$57) -> #VALUE! | F4: =SUM(B4:E4) -> #VALUE! | G4: =SUMPRODUCT((VALUE(TEXT($B$32:$B$57,"JJ/MM/AAAA"))=VALUE(TEXT(A4,"JJ/MM/AAAA")))*1) -> #VALUE! | H4: =(B4*8.6)+(C4*8.6)+(D4*7.6)+(E4*8.3) -> #VALUE!
A5: 43200 | B5: =SUMPRODUCT((VALUE(TEXT($B$32:$B$59,"JJ/MM/AAAA"))=VALUE(TEXT(A5,"JJ/MM/AAAA")))*($C$32:$C$59=$B$1),$L$32:$L$59) -> #VALUE! | C5: =SUMPRODUCT((VALUE(TEXT($B$32:$B$57,"JJ/MM/AAAA"))=VALUE(TEXT(A5,"JJ/MM/AAAA")))*($C$32:$C$57=$C$1),$L$32:$L$57) -> #VALUE! | D5: =SUMPRODUCT((VALUE(TEXT($B$32:$B$57,"JJ/MM/AAAA"))=VALUE(TEXT(A5,"JJ/MM/AAAA")))*($C$32:$C$57=$D$1),$L$32:$L$57) -> #VALUE! | E5: =SUMPRODUCT((VALUE(TEXT($B$32:$B$57,"JJ/MM/AAAA"))=VALUE(TEXT(A5,"JJ/MM/AAAA")))*($C$32:$C$57=$E$1),$L$32:$L$57) -> #VALUE! | F5: =SUM(B5:E5) -> #VALUE! | G5: =SUMPRODUCT((VALUE(TEXT($B$32:$B$57,"JJ/MM/AAAA"))=VALUE(TEXT(A5,"JJ/MM/AAAA")))*1) -> #VALUE! | H5: =(B5*8.6)+(C5*8.6)+(D5*7.6)+(E5*8.3) -> #VALUE!
A6: 43230 | B6: =SUMPRODUCT((VALUE(TEXT($B$32:$B$59,"JJ/MM/AAAA"))=VALUE(TEXT(A6,"JJ/MM/AAAA")))*($C$32:$C$59=$B$1),$L$32:$L$59) -> #VALUE! | C6: =SUMPRODUCT((VALUE(TEXT($B$32:$B$57,"JJ/MM/AAAA"))=VALUE(TEXT(A6,"JJ/MM/AAAA")))*($C$32:$C$57=$C$1),$L$32:$L$57) -> #VALUE! | D6: =SUMPRODUCT((VALUE(TEXT($B$32:$B$57,"JJ/MM/AAAA"))=VALUE(TEXT(A6,"JJ/MM/AAAA")))*($C$32:$C$57=$D$1),$L$32:$L$57) -> #VALUE! | E6: =SUMPRODUCT((VALUE(TEXT($B$32:$B$57,"JJ/MM/AAAA"))=VALUE(TEXT(A6,"JJ/MM/AAAA")))*($C$32:$C$57=$E$1),$L$32:$L$57) -> #VALUE! | F6: =SUM(B6:E6) -> #VALUE! | G6: =SUMPRODUCT((VALUE(TEXT($B$32:$B$57,"JJ/MM/AAAA"))=VALUE(TEXT(A6,"JJ/MM/AAAA")))*1) -> #VALUE! | H6: =(B6*8.6)+(C6*8.6)+(D6*7.6)+(E6*8.3) -> #VALUE!
A7: 43322 | B7: =SUMPRODUCT((VALUE(TEXT($B$32:$B$59,"JJ/MM/AAAA"))=VALUE(TEXT(A7,"JJ/MM/AAAA")))*($C$32:$C$59=$B$1),$L$32:$L$59) -> #VALUE! | C7: =SUMPRODUCT((VALUE(TEXT($B$32:$B$57,"JJ/MM/AAAA"))=VALUE(TEXT(A7,"JJ/MM/AAAA")))*($C$32:$C$57=$C$1),$L$32:$L$57) -> #VALUE! | D7: =SUMPRODUCT((VALUE(TEXT($B$32:$B$57,"JJ/MM/AAAA"))=VALUE(TEXT(A7,"JJ/MM/AAAA")))*($C$32:$C$57=$D$1),$L$32:$L$57) -> #VALUE! | E7: =SUMPRODUCT((VALUE(TEXT($B$32:$B$57,"JJ/MM/AAAA"))=VALUE(TEXT(A7,"JJ/MM/AAAA")))*($C$32:$C$57=$E$1),$L$32:$L$57) -> #VALUE! | F7: =SUM(B7:E7) -> #VALUE! | G7: =SUMPRODUCT((VALUE(TEXT($B$32:$B$57,"JJ/MM/AAAA"))=VALUE(TEXT(A7,"JJ/MM/AAAA")))*1) -> #VALUE! | H7: =(B7*8.6)+(C7*8.6)+(D7*7.6)+(E7*8.3) -> #VALUE!
A8: 43353 | B8: =SUMPRODUCT((VALUE(TEXT($B$32:$B$59,"JJ/MM/AAAA"))=VALUE(TEXT(A8,"JJ/MM/AAAA")))*($C$32:$C$59=$B$1),$L$32:$L$59) -> #VALUE! | C8: =SUMPRODUCT((VALUE(TEXT($B$32:$B$57,"JJ/MM/AAAA"))=VALUE(TEXT(A8,"JJ/MM/AAAA")))*($C$32:$C$57=$C$1),$L$32:$L$57) -> #VALUE! | D8: =SUMPRODUCT((VALUE(TEXT($B$32:$B$57,"JJ/MM/AAAA"))=VALUE(TEXT(A8,"JJ/MM/AAAA")))*($C$32:$C$57=$D$1),$L$32:$L$57) -> #VALUE! | E8: =SUMPRODUCT((VALUE(TEXT($B$32:$B$57,"JJ/MM/AAAA"))=VALUE(TEXT(A8,"JJ/MM/AAAA")))*($C$32:$C$57=$E$1),$L$32:$L$57) -> #VALUE! | F8: =SUM(B8:E8) -> #VALUE! | G8: =SUMPRODUCT((VALUE(TEXT($B$32:$B$57,"JJ/MM/AAAA"))=VALUE(TEXT(A8,"JJ/MM/AAAA")))*1) -> #VALUE! | H8: =(B8*8.6)+(C8*8.6)+(D8*7.6)+(E8*8.3) -> #VALUE!
A9: 43383 | B9: =SUMPRODUCT((VALUE(TEXT($B$32:$B$59,"JJ/MM/AAAA"))=VALUE(TEXT(A9,"JJ/MM/AAAA")))*($C$32:$C$59=$B$1),$L$32:$L$59) -> #VALUE! | C9: =SUMPRODUCT((VALUE(TEXT($B$32:$B$57,"JJ/MM/AAAA"))=VALUE(TEXT(A9,"JJ/MM/AAAA")))*($C$32:$C$57=$C$1),$L$32:$L$57) -> #VALUE! | D9: =SUMPRODUCT((VALUE(TEXT($B$32:$B$57,"JJ/MM/AAAA"))=VALUE(TEXT(A9,"JJ/MM/AAAA")))*($C$32:$C$57=$D$1),$L$32:$L$57) -> #VALUE! | E9: =SUMPRODUCT((VALUE(TEXT($B$32:$B$57,"JJ/MM/AAAA"))=VALUE(TEXT(A9,"JJ/MM/AAAA")))*($C$32:$C$57=$E$1),$L$32:$L$57) -> #VALUE! | F9: =SUM(B9:E9) -> #VALUE! | G9: =SUMPRODUCT((VALUE(TEXT($B$32:$B$57,"JJ/MM/AAAA"))=VALUE(TEXT(A9,"JJ/MM/AAAA")))*1) -> #VALUE! | H9: =(B9*8.6)+(C9*8.6)+(D9*7.6)+(E9*8.3) -> #VALUE!
A10: 43414 | B10: =SUMPRODUCT((VALUE(TEXT($B$32:$B$59,"JJ/MM/AAAA"))=VALUE(TEXT(A10,"JJ/MM/AAAA")))*($C$32:$C$59=$B$1),$L$32:$L$59) -> #VALUE! | C10: =SUMPRODUCT((VALUE(TEXT($B$32:$B$57,"JJ/MM/AAAA"))=VALUE(TEXT(A10,"JJ/MM/AAAA")))*($C$32:$C$57=$C$1),$L$32:$L$57) -> #VALUE! | D10: =SUMPRODUCT((VALUE(TEXT($B$32:$B$57,"JJ/MM/AAAA"))=VALUE(TEXT(A10,"JJ/MM/AAAA")))*($C$32:$C$57=$D$1),$L$32:$L$57) -> #VALUE! | E10: =SUMPRODUCT((VALUE(TEXT($B$32:$B$57,"JJ/MM/AAAA"))=VALUE(TEXT(A10,"JJ/MM/AAAA")))*($C$32:$C$57=$E$1),$L$32:$L$57) -> #VALUE! | F10: =SUM(B10:E10) -> #VALUE! | G10: =SUMPRODUCT((VALUE(TEXT($B$32:$B$57,"JJ/MM/AAAA"))=VALUE(TEXT(A10,"JJ/MM/AAAA")))*1) -> #VALUE! | H10: =(B10*8.6)+(C10*8.6)+(D10*7.6)+(E10*8.3) -> #VALUE!
A11: 43444 | B11: =SUMPRODUCT((VALUE(TEXT($B$32:$B$59,"JJ/MM/AAAA"))=VALUE(TEXT(A11,"JJ/MM/AAAA")))*($C$32:$C$59=$B$1),$L$32:$L$59) -> #VALUE! | C11: =SUMPRODUCT((VALUE(TEXT($B$32:$B$57,"JJ/MM/AAAA"))=VALUE(TEXT(A11,"JJ/MM/AAAA")))*($C$32:$C$57=$C$1),$L$32:$L$57) -> #VALUE! | D11: =SUMPRODUCT((VALUE(TEXT($B$32:$B$57,"JJ/MM/AAAA"))=VALUE(TEXT(A11,"JJ/MM/AAAA")))*($C$32:$C$57=$D$1),$L$32:$L$57) -> #VALUE! | E11: =SUMPRODUCT((VALUE(TEXT($B$32:$B$57,"JJ/MM/AAAA"))=VALUE(TEXT(A11,"JJ/MM/AAAA")))*($C$32:$C$57=$E$1),$L$32:$L$57) -> #VALUE! | F11: =SUM(B11:E11) -> #VALUE! | G11: =SUMPRODUCT((VALUE(TEXT($B$32:$B$57,"JJ/MM/AAAA"))=VALUE(TEXT(A11,"JJ/MM/AAAA")))*1) -> #VALUE! | H11: =(B11*8.6)+(C11*8.6)+(D11*7.6)+(E11*8.3) -> #VALUE!
A12: 10/15/2018 00:00:00 | B12: =SUMPRODUCT((VALUE(TEXT($B$32:$B$59,"JJ/MM/AAAA"))=VALUE(TEXT(A12,"JJ/MM/AAAA")))*($C$32:$C$59=$B$1),$L$32:$L$59) -> #VALUE! | F12: =SUM(B12:E12) -> #VALUE! | G12: =SUMPRODUCT((VALUE(TEXT($B$32:$B$57,"JJ/MM/AAAA"))=VALUE(TEXT(A12,"JJ/MM/AAAA")))*1) -> #VALUE! | H12: =(B12*8.6)+(C12*8.6)+(D12*7.6)+(E12*8.3) -> #VALUE!
A13: 10/16/2018 00:00:00 | B13: =SUMPRODUCT((VALUE(TEXT($B$32:$B$59,"JJ/MM/AAAA"))=VALUE(TEXT(A13,"JJ/MM/AAAA")))*($C$32:$C$59=$B$1),$L$32:$L$59) -> #VALUE! | F13: =SUM(B13:E13) -> #VALUE! | G13: =SUMPRODUCT((VALUE(TEXT($B$32:$B$57,"JJ/MM/AAAA"))=VALUE(TEXT(A13,"JJ/MM/AAAA")))*1) -> #VALUE! | H13: =(B13*8.6)+(C13*8.6)+(D13*7.6)+(E13*8.3) -> #VALUE!
A14: 10/17/2018 00:00:00 | B14: =SUMPRODUCT((VALUE(TEXT($B$32:$B$59,"JJ/MM/AAAA"))=VALUE(TEXT(A14,"JJ/MM/AAAA")))*($C$32:$C$59=$B$1),$L$32:$L$59) -> #VALUE! | F14: =SUM(B14:E14) -> #VALUE! | G14: =SUMPRODUCT((VALUE(TEXT($B$32:$B$57,"JJ/MM/AAAA"))=VALUE(TEXT(A14,"JJ/MM/AAAA")))*1) -> #VALUE! | H14: =(B14*8.6)+(C14*8.6)+(D14*7.6)+(E14*8.3) -> #VALUE!
A15: 10/18/2018 00:00:00 | B15: =SUMPRODUCT((VALUE(TEXT($B$32:$B$59,"JJ/MM/AAAA"))=VALUE(TEXT(A15,"JJ/MM/AAAA")))*($C$32:$C$59=$B$1),$L$32:$L$59) -> #VALUE! | F15: =SUM(B15:E15) -> #VALUE! | G15: =SUMPRODUCT((VALUE(TEXT($B$32:$B$57,"JJ/MM/AAAA"))=VALUE(TEXT(A15,"JJ/MM/AAAA")))*1) -> #VALUE! | H15: =(B15*8.6)+(C15*8.6)+(D15*7.6)+(E15*8.3) -> #VALUE!
A16: 10/19/2018 00:00:00 | B16: =SUMPRODUCT((VALUE(TEXT($B$32:$B$59,"JJ/MM/AAAA"))=VALUE(TEXT(A16,"JJ/MM/AAAA")))*($C$32:$C$59=$B$1),$L$32:$L$59) -> #VALUE! | F16: =SUM(B16:E16) -> #VALUE! | G16: =SUMPRODUCT((VALUE(TEXT($B$32:$B$57,"JJ/MM/AAAA"))=VALUE(TEXT(A16,"JJ/MM/AAAA")))*1) -> #VALUE! | H16: =(B16*8.6)+(C16*8.6)+(D16*7.6)+(E16*8.3) -> #VALUE!
A17: 10/22/2018 00:00:00 | B17: =SUMPRODUCT((VALUE(TEXT($B$32:$B$59,"JJ/MM/AAAA"))=VALUE(TEXT(A17,"JJ/MM/AAAA")))*($C$32:$C$59=$B$1),$L$32:$L$59) -> #VALUE! | F17: =SUM(B17:E17) -> #VALUE! | G17: =SUMPRODUCT((VALUE(TEXT($B$32:$B$57,"JJ/MM/AAAA"))=VALUE(TEXT(A17,"JJ/MM/AAAA")))*1) -> #VALUE! | H17: =(B17*8.6)+(C17*8.6)+(D17*7.6)+(E17*8.3) -> #VALUE!
A18: 10/23/2018 00:00:00 | B18: =SUMPRODUCT((VALUE(TEXT($B$32:$B$59,"JJ/MM/AAAA"))=VALUE(TEXT(A18,"JJ/MM/AAAA")))*($C$32:$C$59=$B$1),$L$32:$L$59) -> #VALUE! | F18: =SUM(B18:E18) -> #VALUE! | G18: =SUMPRODUCT((VALUE(TEXT($B$32:$B$57,"JJ/MM/AAAA"))=VALUE(TEXT(A18,"JJ/MM/AAAA")))*1) -> #VALUE! | H18: =(B18*8.6)+(C18*8.6)+(D18*7.6)+(E18*8.3) -> #VALUE!
A19: 10/24/2018 00:00:00 | B19: =SUMPRODUCT((VALUE(TEXT($B$32:$B$59,"JJ/MM/AAAA"))=VALUE(TEXT(A19,"JJ/MM/AAAA")))*($C$32:$C$59=$B$1),$L$32:$L$59) -> #VALUE! | F19: =SUM(B19:E19) -> #VALUE! | G19: =SUMPRODUCT((VALUE(TEXT($B$32:$B$57,"JJ/MM/AAAA"))=VALUE(TEXT(A19,"JJ/MM/AAAA")))*1) -> #VALUE! | H19: =(B19*8.6)+(C19*8.6)+(D19*7.6)+(E19*8.3) -> #VALUE!
A20: 10/25/2018 00:00:00 | B20: =SUMPRODUCT((VALUE(TEXT($B$32:$B$59,"JJ/MM/AAAA"))=VALUE(TEXT(A20,"JJ/MM/AAAA")))*($C$32:$C$59=$B$1),$L$32:$L$59) -> #VALUE! | F20: =SUM(B20:E20) -> #VALUE! | G20: =SUMPRODUCT((VALUE(TEXT($B$32:$B$57,"JJ/MM/AAAA"))=VALUE(TEXT(A20,"JJ/MM/AAAA")))*1) -> #VALUE! | H20: =(B20*8.6)+(C20*8.6)+(D20*7.6)+(E20*8.3) -> #VALUE!
A21: 10/26/2018 00:00:00 | B21: =SUMPRODUCT((VALUE(TEXT($B$32:$B$59,"JJ/MM/AAAA"))=VALUE(TEXT(A21,"JJ/MM/AAAA")))*($C$32:$C$59=$B$1),$L$32:$L$59) -> #VALUE! | F21: =SUM(B21:E21) -> #VALUE! | G21: =SUMPRODUCT((VALUE(TEXT($B$32:$B$57,"JJ/MM/AAAA"))=VALUE(TEXT(A21,"JJ/MM/AAAA")))*1) -> #VALUE! | H21: =(B21*8.6)+(C21*8.6)+(D21*7.6)+(E21*8.3) -> #VALUE!
A22: 10/29/2018 00:00:00 | B22: =SUMPRODUCT((VALUE(TEXT($B$32:$B$59,"JJ/MM/AAAA"))=VALUE(TEXT(A22,"JJ/MM/AAAA")))*($C$32:$C$59=$B$1),$L$32:$L$59) -> #VALUE! | F22: =SUM(B22:E22) -> #VALUE! | G22: =SUMPRODUCT((VALUE(TEXT($B$32:$B$57,"JJ/MM/AAAA"))=VALUE(TEXT(A22,"JJ/MM/AAAA")))*1) -> #VALUE! | H22: =(B22*8.6)+(C22*8.6)+(D22*7.6)+(E22*8.3) -> #VALUE!
A23: 10/30/2018 00:00:00 | B23: =SUMPRODUCT((VALUE(TEXT($B$32:$B$59,"JJ/MM/AAAA"))=VALUE(TEXT(A23,"JJ/MM/AAAA")))*($C$32:$C$59=$B$1),$L$32:$L$59) -> #VALUE! | F23: =SUM(B23:E23) -> #VALUE! | G23: =SUMPRODUCT((VALUE(TEXT($B$32:$B$57,"JJ/MM/AAAA"))=VALUE(TEXT(A23,"JJ/MM/AAAA")))*1) -> #VALUE! | H23: =(B23*8.6)+(C23*8.6)+(D23*7.6)+(E23*8.3) -> #VALUE!
A24: 10/31/2018 00:00:00 | F24: =SUM(B24:E24) -> 0 | G24: =SUMPRODUCT((VALUE(TEXT($B$32:$B$57,"JJ/MM/AAAA"))=VALUE(TEXT(A24,"JJ/MM/AAAA")))*1) -> #VALUE! | H24: =(B24*8.6)+(C24*8.6)+(D24*7.6)+(E24*8.3) -> 0
A25: TOTAL | B25: =SUM(B2:B22) -> #VALUE! | C25: =SUM(C2:C22) -> #VALUE! | D25: =SUM(D2:D22) -> #VALUE! | E25: =SUM(E2:E22) -> #VALUE! | F25: =SUM(F2:F22) -> #VALUE! | G25: =SUM(G2:G23) -> #VALUE! | H25: =SUM(H2:H22) -> #VALUE!
A26: TOTAL TRADES | G26: =SUM(B26:E26) -> 0
A27: TOTAL MONTANT | B27: =(B25*8.6) -> #VALUE! | C27: =(C25*8.6) -> #VALUE! | D27: =(D25*7.86) -> #VALUE! | E27: =(E25*8.3) -> #VALUE! | F27: =SUM(B27:E27) -> #VALUE!
A31: Open Date | B31: Close Date | C31: Symbol | D31: Action | E31: Lots | F31: SL | G31: TP | H31: Open Price | I31: Close Price | J31: Commission | K31: Swap | L31: Pips | M31: Comptes
A32: 10/15/2018 16:00 | B32: 10/15/2018 16:10 | C32: AUDUSD | D32: Sell | E32: 0.3 | F32: 0.72011 | G32: 0.69411 | H32: 0.71441 | I32: 0.71362 | J32: -0.7 | K32: 0 | L32: 7.9 | M32: 19.74 | N32: 0.14 | O32: 00:00:10:42 | P32: 10 | Q32: 1m | R32: 0 | S32: 0.13 | T32: 7.9 | U32: 20.461 | V32: 0 | W32: 0 | X32: 100 | Y32: 100 | Z32: 0 | AA32: 0
A33: 10/15/2018 09:00 | B33: 10/15/2018 14:00 | C33: GBPUSD | D33: Sell | E33: 0.3 | F33: 1.31815 | G33: 1.21225 | H33: 1.31225 | I33: 1.31741 | J33: -1.3 | K33: 0 | L33: -51.6 | M33: -134.77 | N33: -0.96 | O33: 00:05:00:03 | P33: 0 | Q33: 0s | R33: 52.6 | S33: 52.63 | T33: 0 | U33: 0 | V33: -52.6 | W33: -136.234 | X33: 0 | Y33: 1.9 | Z33: -51.6 | AA33: -133.64
A34: 43414.417 | B34: 43414.437 | C34: GBPUSD | D34: Buy | E34: 0.3 | F34: 1.31959 | G34: 1.33958 | H34: 1.31958 | I34: 1.31959 | J34: -1.3 | K34: 0 | L34: 0.1 | M34: -1.04 | N34: -0.01 | O34: 00:00:29:04 | P34: 3.5 | Q34: 1m | R34: 0 | S34: 9.99 | T34: 0.1 | U34: 0.26 | V34: 0 | W34: 0 | X34: 100 | Y34: 100 | Z34: 0 | AA34: 0
A35: 43414 | B35: 43414.045 | C35: USDJPY | D35: Buy | E35: 0.3 | F35: 111.939 | G35: 122.279 | H35: 112.279 | I35: 112.279 | J35: -0.99 | K35: 0 | L35: 0 | M35: -0.99 | N35: -0.01 | O35: 00:01:04:31 | P35: 0 | Q35: 0s | R35: 0 | S35: 1 | T35: 0 | U35: 0 | V35: 0 | W35: 0 | X35: 0 | Y35: 0 | Z35: 0 | AA35: 0
A36: 43383.927 | B36: 43414.01 | C36: GBPUSD | D36: Buy | E36: 0.3 | F36: 1.31398 | G36: 1.34418 | H36: 1.31918 | I36: 1.32019 | J36: -1.31 | K36: -6.48 | L36: 10.1 | M36: 18.5 | N36: 0.13 | O36: 00:02:00:13 | P36: 100 | Q36: 2h 0m | R36: 4.7 | S36: 0.08 | T36: 12.4 | U36: 32.24 | V36: 0 | W36: 0 | X36: 100 | Y36: 81.5 | Z36: -2.3 | AA36: -5.98
A37: 43383.792 | B37: 43383.817 | C37: EURUSD | D37: Sell | E37: 0.3 | F37: 1.15765 | G37: 1.06405 | H37: 1.15405 | I37: 1.15452 | J37: -1.14 | K37: 0 | L37: -4.7 | M37: -13.35 | N37: -0.1 | O37: 00:00:36:27 | P37: 0 | Q37: 0s | R37: 4.7 | S37: 4.7 | T37: 0 | U37: 0 | V37: -4.7 | W37: -12.22 | X37: 0 | Y37: 0 | Z37: -4.7 | AA37: -12.22
A38: 43383.167 | B38: 43383.817 | C38: EURUSD | D38: Sell | E38: 0.3 | F38: 1.15441 | G38: 1.06081 | H38: 1.15081 | I38: 1.15451 | J38: -1.14 | K38: 0 | L38: -37 | M38: -97.28 | N38: -0.69 | O38: 00:15:36:22 | P38: 49.1 | Q38: 7h 39m | R38: 65.1 | S38: 1.32 | T38: 28.1 | U38: 73.06 | V38: -37 | W38: -96.2 | X38: 43.2 | Y38: 0 | Z38: -65.1 | AA38: -169.26
A39: 43383.708 | B39: 43383.765 | C39: USDJPY | D39: Sell | E39: 0.06 | F39: 113.087 | G39: 112.596 | H39: 112.911 | I39: 112.616 | J39: -0.2 | K39: 0 | L39: 29.5 | M39: 13.44 | N39: 0.1 | O39: 00:01:21:52 | P39: 1.3 | Q39: 1m | R39: 0 | S39: 0.03 | T39: 29.5 | U39: 13.57 | V39: 0 | W39: 0 | X39: 100 | Y39: 100 | Z39: 0 | AA39: 0
A40: 43383.125 | B40: 43383.75 | C40: EURUSD | D40: Sell | E40: 0.3 | F40: 1.15443 | G40: 1.12133 | H40: 1.15033 | I40: 1.15341 | J40: -1.14 | K40: 0 | L40: -30.8 | M40: -81.25 | N40: -0.57 | O40: 00:14:59:55 | P40: 40.6 | Q40: 6h 5m | R40: 59.2 | S40: 1.54 | T40: 23.3 | U40: 60.58 | V40: -35.9 | W40: -93.34 | X40: 39.4 | Y40: 8.6 | Z40: -54.1 | AA40: -140.66
A41: 43353.722 | B41: 43353.938 | C41: EURUSD | D41: Sell | E41: 0.3 | F41: 1.15193 | G41: 1.13233 | H41: 1.14723 | I41: 1.14889 | J41: -1.14 | K41: 0 | L41: -16.6 | M41: -44.49 | N41: -0.31 | O41: 00:05:10:57 | P41: 0 | Q41: 0s | R41: 27.9 | S41: 27.93 | T41: 0 | U41: 0 | V41: -27.9 | W41: -72.819 | X41: 0 | Y41: 40.5 | Z41: -16.6 | AA41: -43.33
A42: 43353.673 | B42: 43353.903 | C42: EURUSD | D42: Sell | E42: 0.3 | F42: 1.14992 | G42: 1.12552 | H42: 1.14552 | I42: 1.14992 | J42: -1.14 | K42: 0 | L42: -44 | M42: -115.93 | N42: -0.81 | O42: 00:05:32:26 | P42: 0 | Q42: 0s | R42: 45 | S42: 45.05 | T42: 0 | U42: 0 | V42: -45 | W42: -117.45 | X42: 0 | Y42: 2.2 | Z42: -44 | AA42: -114.84
A43: 43353.67 | B43: 43353.861 | C43: EURUSD | D43: Sell | E43: 0.3 | F43: 1.14985 | G43: 1.13025 | H43: 1.14515 | I43: 1.14921 | J43: -1.14 | K43: 0 | L43: -40.6 | M43: -107.13 | N43: -0.74 | O43: 00:04:35:00 | P43: 0 | Q43: 0s | R43: 48.7 | S43: 48.78 | T43: 0 | U43: 0 | V43: -48.7 | W43: -127.107 | X43: 0 | Y43: 16.6 | Z43: -40.6 | AA43: -105.97
A44: 43353.74 | B44: 43353.774 | C44: GBPUSD | D44: Buy | E44: 0.06 | F44: 1.30448 | G44: 1.32196 | H44: 1.31061 | I44: 1.31299 | J44: -0.26 | K44: 0 | L44: 23.8 | M44: 12.18 | N44: 0.08 | O44: 00:00:50:49 | P44: 2 | Q44: 1m | R44: 0 | S44: 0.04 | T44: 23.8 | U44: 12.376 | V44: 0 | W44: 0 | X44: 100 | Y44: 100 | Z44: 0 | AA44: 0
A45: 43353.163 | B45: 43353.172 | C45: GBPUSD | D45: Buy | E45: 0.3 | F45: 1.30306 | G45: 1.31866 | H45: 1.30866 | I45: 1.30913 | J45: -1.3 | K45: 0 | L45: 4.7 | M45: 10.97 | N45: 0.08 | O45: 00:00:11:59 | P45: 8.4 | Q45: 1m | R45: 0 | S45: 0.21 | T45: 4.7 | U45: 12.267 | V45: 0 | W45: 0 | X45: 100 | Y45: 100 | Z45: 0 | AA45: 0
... A59: 43110.667 | B59: 43110.75 | C59: GBPUSD | D59: Buy | E59: 0.06 | F59: 1.29954 | G59: 1.32332 | H59: 1.30784 | I59: 1.3045 | J59: -0.26 | K59: 0 | L59: -33.4 | M59: -17.56 | N59: -0.11 | O59: 00:02:00:02 | P59: 0 | Q59: 0s | R59: 33.4 | S59: 33.44 | T59: 0 | U59: 0 | V59: -33.4 | W59: -17.368 | X59: 0 | Y59: 0 | Z59: -33.4 | AA59: -17.37

Sheet H
A1: H - Scorpion | B1: EURUSD | C1: GBPUSD | D1: USDJPY | E1: TOTAL PIPS | F1: TRADES | G1: TOTAL MONTANT
A2: 43110 | B2: =SUMPRODUCT((VALUE(TEXT($B$32:$B$81,"JJ/MM/AAAA"))=VALUE(TEXT(A2,"JJ/MM/AAAA")))*($C$32:$C$81=$B$1),$L$32:$L$81) -> 16.9 | C2: =SUMPRODUCT((VALUE(TEXT($B$32:$B$81,"JJ/MM/AAAA"))=VALUE(TEXT(A2,"JJ/MM/AAAA")))*($C$32:$C$81=$C$1),$L$32:$L$81) -> -48 | D2: =SUMPRODUCT((VALUE(TEXT($B$32:$B$81,"JJ/MM/AAAA"))=VALUE(TEXT(A2,"JJ/MM/AAAA")))*($C$32:$C$81=$D$1),$L$32:$L$81) -> 0 | E2: =SUM(B2:D2) -> -31.1 | F2: =SUMPRODUCT((VALUE(TEXT($B$32:$B$81,"JJ/MM/AAAA"))=VALUE(TEXT(A2,"JJ/MM/AAAA")))*1) -> 2 | G2: =(B2*8.6)+(C2*8.6)+(D2*7.86) -> -267.46
A3: 43141 | B3: =SUMPRODUCT((VALUE(TEXT($B$32:$B$81,"JJ/MM/AAAA"))=VALUE(TEXT(A3,"JJ/MM/AAAA")))*($C$32:$C$81=$B$1),$L$32:$L$81) -> 7.7 | C3: =SUMPRODUCT((VALUE(TEXT($B$32:$B$81,"JJ/MM/AAAA"))=VALUE(TEXT(A3,"JJ/MM/AAAA")))*($C$32:$C$81=$C$1),$L$32:$L$81) -> 0 | D3: =SUMPRODUCT((VALUE(TEXT($B$32:$B$81,"JJ/MM/AAAA"))=VALUE(TEXT(A3,"JJ/MM/AAAA")))*($C$32:$C$81=$D$1),$L$32:$L$81) -> -9.1 | E3: =SUM(B3:D3) -> -1.4 | F3: =SUMPRODUCT((VALUE(TEXT($B$32:$B$81,"JJ/MM/AAAA"))=VALUE(TEXT(A3,"JJ/MM/AAAA")))*1) -> 4 | G3: =(B3*8.6)+(C3*8.6)+(D3*7.86) -> -5.306
A4: 43169 | B4: =SUMPRODUCT((VALUE(TEXT($B$32:$B$81,"JJ/MM/AAAA"))=VALUE(TEXT(A4,"JJ/MM/AAAA")))*($C$32:$C$81=$B$1),$L$32:$L$81) -> 1.2 | C4: =SUMPRODUCT((VALUE(TEXT($B$32:$B$81,"JJ/MM/AAAA"))=VALUE(TEXT(A4,"JJ/MM/AAAA")))*($C$32:$C$81=$C$1),$L$32:$L$81) -> 0 | D4: =SUMPRODUCT((VALUE(TEXT($B$32:$B$81,"JJ/MM/AAAA"))=VALUE(TEXT(A4,"JJ/MM/AAAA")))*($C$32:$C$81=$D$1),$L$32:$L$81) -> -61 | E4: =SUM(B4:D4) -> -59.8 | F4: =SUMPRODUCT((VALUE(TEXT($B$32:$B$81,"JJ/MM/AAAA"))=VALUE(TEXT(A4,"JJ/MM/AAAA")))*1) -> 2 | G4: =(B4*8.6)+(C4*8.6)+(D4*7.86) -> -469.14
A5: 43200 | B5: =SUMPRODUCT((VALUE(TEXT($B$32:$B$81,"JJ/MM/AAAA"))=VALUE(TEXT(A5,"JJ/MM/AAAA")))*($C$32:$C$81=$B$1),$L$32:$L$81) -> -26 | C5: =SUMPRODUCT((VALUE(TEXT($B$32:$B$81,"JJ/MM/AAAA"))=VALUE(TEXT(A5,"JJ/MM/AAAA")))*($C$32:$C$81=$C$1),$L$32:$L$81) -> -79.3 | D5: =SUMPRODUCT((VALUE(TEXT($B$32:$B$81,"JJ/MM/AAAA"))=VALUE(TEXT(A5,"JJ/MM/AAAA")))*($C$32:$C$81=$D$1),$L$32:$L$81) -> -51.1 | E5: =SUM(B5:D5) -> -156.4 | F5: =SUMPRODUCT((VALUE(TEXT($B$32:$B$81,"JJ/MM/AAAA"))=VALUE(TEXT(A5,"JJ/MM/AAAA")))*1) -> 6 | G5: =(B5*8.6)+(C5*8.6)+(D5*7.86) -> -1307.226
A6: 43230 | B6: =SUMPRODUCT((VALUE(TEXT($B$32:$B$81,"JJ/MM/AAAA"))=VALUE(TEXT(A6,"JJ/MM/AAAA")))*($C$32:$C$81=$B$1),$L$32:$L$81) -> 0 | C6: =SUMPRODUCT((VALUE(TEXT($B$32:$B$81,"JJ/MM/AAAA"))=VALUE(TEXT(A6,"JJ/MM/AAAA")))*($C$32:$C$81=$C$1),$L$32:$L$81) -> 0 | D6: =SUMPRODUCT((VALUE(TEXT($B$32:$B$81,"JJ/MM/AAAA"))=VALUE(TEXT(A6,"JJ/MM/AAAA")))*($C$32:$C$81=$D$1),$L$32:$L$81) -> -3.8 | E6: =SUM(B6:D6) -> -3.8 | F6: =SUMPRODUCT((VALUE(TEXT($B$32:$B$81,"JJ/MM/AAAA"))=VALUE(TEXT(A6,"JJ/MM/AAAA")))*1) -> 7 | G6: =(B6*8.6)+(C6*8.6)+(D6*7.86) -> -29.868
A7: 43322 | B7: =SUMPRODUCT((VALUE(TEXT($B$32:$B$81,"JJ/MM/AAAA"))=VALUE(TEXT(A7,"JJ/MM/AAAA")))*($C$32:$C$81=$B$1),$L$32:$L$81) -> 0 | C7: =SUMPRODUCT((VALUE(TEXT($B$32:$B$81,"JJ/MM/AAAA"))=VALUE(TEXT(A7,"JJ/MM/AAAA")))*($C$32:$C$81=$C$1),$L$32:$L$81) -> -142 | D7: =SUMPRODUCT((VALUE(TEXT($B$32:$B$81,"JJ/MM/AAAA"))=VALUE(TEXT(A7,"JJ/MM/AAAA")))*($C$32:$C$81=$D$1),$L$32:$L$81) -> 103.8 | E7: =SUM(B7:D7) -> -38.2 | F7: =SUMPRODUCT((VALUE(TEXT($B$32:$B$81,"JJ/MM/AAAA"))=VALUE(TEXT(A7,"JJ/MM/AAAA")))*1) -> 9 | G7: =(B7*8.6)+(C7*8.6)+(D7*7.86) -> -405.332
A8: 43353 | B8: =SUMPRODUCT((VALUE(TEXT($B$32:$B$81,"JJ/MM/AAAA"))=VALUE(TEXT(A8,"JJ/MM/AAAA")))*($C$32:$C$81=$B$1),$L$32:$L$81) -> -3.3 | C8: =SUMPRODUCT((VALUE(TEXT($B$32:$B$81,"JJ/MM/AAAA"))=VALUE(TEXT(A8,"JJ/MM/AAAA")))*($C$32:$C$81=$C$1),$L$32:$L$81) -> 33 | D8: =SUMPRODUCT((VALUE(TEXT($B$32:$B$81,"JJ/MM/AAAA"))=VALUE(TEXT(A8,"JJ/MM/AAAA")))*($C$32:$C$81=$D$1),$L$32:$L$81) -> 69.5 | E8: =SUM(B8:D8) -> 99.2 | F8: =SUMPRODUCT((VALUE(TEXT($B$32:$B$81,"JJ/MM/AAAA"))=VALUE(TEXT(A8,"JJ/MM/AAAA")))*1) -> 9 | G8: =(B8*8.6)+(C8*8.6)+(D8*7.86) -> 801.69
A9: 43383 | B9: =SUMPRODUCT((VALUE(TEXT($B$32:$B$81,"JJ/MM/AAAA"))=VALUE(TEXT(A9,"JJ/MM/AAAA")))*($C$32:$C$81=$B$1),$L$32:$L$81) -> 0 | C9: =SUMPRODUCT((VALUE(TEXT($B$32:$B$81,"JJ/MM/AAAA"))=VALUE(TEXT(A9,"JJ/MM/AAAA")))*($C$32:$C$81=$C$1),$L$32:$L$81) -> 86 | D9: =SUMPRODUCT((VALUE(TEXT($B$32:$B$81,"JJ/MM/AAAA"))=VALUE(TEXT(A9,"JJ/MM/AAAA")))*($C$32:$C$81=$D$1),$L$32:$L$81) -> 167.6 | E9: =SUM(B9:D9) -> 253.6 | F9: =SUMPRODUCT((VALUE(TEXT($B$32:$B$81,"JJ/MM/AAAA"))=VALUE(TEXT(A9,"JJ/MM/AAAA")))*1) -> 6 | G9: =(B9*8.6)+(C9*8.6)+(D9*7.86) -> 2056.936
A10: 43414 | B10: =SUMPRODUCT((VALUE(TEXT($B$32:$B$81,"JJ/MM/AAAA"))=VALUE(TEXT(A10,"JJ/MM/AAAA")))*($C$32:$C$81=$B$1),$L$32:$L$81) -> 17.8 | C10: =SUMPRODUCT((VALUE(TEXT($B$32:$B$81,"JJ/MM/AAAA"))=VALUE(TEXT(A10,"JJ/MM/AAAA")))*($C$32:$C$81=$C$1),$L$32:$L$81) -> 24 | D10: =SUMPRODUCT((VALUE(TEXT($B$32:$B$81,"JJ/MM/AAAA"))=VALUE(TEXT(A10,"JJ/MM/AAAA")))*($C$32:$C$81=$D$1),$L$32:$L$81) -> 0 | E10: =SUM(B10:D10) -> 41.8 | F10: =SUMPRODUCT((VALUE(TEXT($B$32:$B$81,"JJ/MM/AAAA"))=VALUE(TEXT(A10,"JJ/MM/AAAA")))*1) -> 5 | G10: =(B10*8.6)+(C10*8.6)+(D10*7.86) -> 359.48
A11: 43444 | B11: =SUMPRODUCT((VALUE(TEXT($B$32:$B$81,"JJ/MM/AAAA"))=VALUE(TEXT(A11,"JJ/MM/AAAA")))*($C$32:$C$81=$B$1),$L$32:$L$81) -> 0 | C11: =SUMPRODUCT((VALUE(TEXT($B$32:$B$81,"JJ/MM/AAAA"))=VALUE(TEXT(A11,"JJ/MM/AAAA")))*($C$32:$C$81=$C$1),$L$32:$L$81) -> 0 | D11: =SUMPRODUCT((VALUE(TEXT($B$32:$B$81,"JJ/MM/AAAA"))=VALUE(TEXT(A11,"JJ/MM/AAAA")))*($C$32:$C$81=$D$1),$L$32:$L$81) -> 0 | E11: =SUM(B11:D11) -> 0 | F11: =SUMPRODUCT((VALUE(TEXT($B$32:$B$81,"JJ/MM/AAAA"))=VALUE(TEXT(A11,"JJ/MM/AAAA")))*1) -> 0 | G11: =(B11*8.6)+(C11*8.6)+(D11*7.86) -> 0
A12: 10/15/2018 00:00:00 | E12: =SUM(B12:D12) -> 0 | F12: =SUMPRODUCT((VALUE(TEXT($B$32:$B$81,"JJ/MM/AAAA"))=VALUE(TEXT(A12,"JJ/MM/AAAA")))*1) -> #VALUE! | G12: =(B12*8.6)+(C12*8.6)+(D12*7.86) -> 0
A13: 10/16/2018 00:00:00 | E13: =SUM(B13:D13) -> 0 | F13: =SUMPRODUCT((VALUE(TEXT($B$32:$B$81,"JJ/MM/AAAA"))=VALUE(TEXT(A13,"JJ/MM/AAAA")))*1) -> #VALUE! | G13: =(B13*8.6)+(C13*8.6)+(D13*7.86) -> 0
A14: 10/17/2018 00:00:00 | E14: =SUM(B14:D14) -> 0 | F14: =SUMPRODUCT((VALUE(TEXT($B$32:$B$81,"JJ/MM/AAAA"))=VALUE(TEXT(A14,"JJ/MM/AAAA")))*1) -> #VALUE! | G14: =(B14*8.6)+(C14*8.6)+(D14*7.86) -> 0
A15: 10/18/2018 00:00:00 | E15: =SUM(B15:D15) -> 0 | F15: =SUMPRODUCT((VALUE(TEXT($B$32:$B$81,"JJ/MM/AAAA"))=VALUE(TEXT(A15,"JJ/MM/AAAA")))*1) -> #VALUE! | G15: =(B15*8.6)+(C15*8.6)+(D15*7.86) -> 0
A16: 10/19/2018 00:00:00 | E16: =SUM(B16:D16) -> 0 | F16: =SUMPRODUCT((VALUE(TEXT($B$32:$B$81,"JJ/MM/AAAA"))=VALUE(TEXT(A16,"JJ/MM/AAAA")))*1) -> #VALUE! | G16: =(B16*8.6)+(C16*8.6)+(D16*7.86) -> 0
A17: 10/22/2018 00:00:00 | E17: =SUM(B17:D17) -> 0 | F17: =SUMPRODUCT((VALUE(TEXT($B$32:$B$81,"JJ/MM/AAAA"))=VALUE(TEXT(A17,"JJ/MM/AAAA")))*1) -> #VALUE! | G17: =(B17*8.6)+(C17*8.6)+(D17*7.86) -> 0
A18: 10/23/2018 00:00:00 | E18: =SUM(B18:D18) -> 0 | F18: =SUMPRODUCT((VALUE(TEXT($B$32:$B$81,"JJ/MM/AAAA"))=VALUE(TEXT(A18,"JJ/MM/AAAA")))*1) -> #VALUE! | G18: =(B18*8.6)+(C18*8.6)+(D18*7.86) -> 0
A19: 10/24/2018 00:00:00 | E19: =SUM(B19:D19) -> 0 | F19: =SUMPRODUCT((VALUE(TEXT($B$32:$B$81,"JJ/MM/AAAA"))=VALUE(TEXT(A19,"JJ/MM/AAAA")))*1) -> #VALUE! | G19: =(B19*8.6)+(C19*8.6)+(D19*7.86) -> 0
A20: 10/25/2018 00:00:00 | E20: =SUM(B20:D20) -> 0 | F20: =SUMPRODUCT((VALUE(TEXT($B$32:$B$81,"JJ/MM/AAAA"))=VALUE(TEXT(A20,"JJ/MM/AAAA")))*1) -> #VALUE! | G20: =(B20*8.6)+(C20*8.6)+(D20*7.86) -> 0
A21: 10/26/2018 00:00:00 | E21: =SUM(B21:D21) -> 0 | F21: =SUMPRODUCT((VALUE(TEXT($B$32:$B$81,"JJ/MM/AAAA"))=VALUE(TEXT(A21,"JJ/MM/AAAA")))*1) -> #VALUE! | G21: =(B21*8.6)+(C21*8.6)+(D21*7.86) -> 0
A22: 10/29/2018 00:00:00 | E22: =SUM(B22:D22) -> 0 | F22: =SUMPRODUCT((VALUE(TEXT($B$32:$B$81,"JJ/MM/AAAA"))=VALUE(TEXT(A22,"JJ/MM/AAAA")))*1) -> #VALUE! | G22: =(B22*8.6)+(C22*8.6)+(D22*7.86) -> 0
A23: 10/30/2018 00:00:00 | E23: =SUM(B23:D23) -> 0 | F23: =SUMPRODUCT((VALUE(TEXT($B$32:$B$81,"JJ/MM/AAAA"))=VALUE(TEXT(A23,"JJ/MM/AAAA")))*1) -> #VALUE! | G23: =(B23*8.6)+(C23*8.6)+(D23*7.86) -> 0
A24: 10/31/2018 00:00:00 | E24: =SUM(B24:D24) -> 0 | F24: =SUMPRODUCT((VALUE(TEXT($B$32:$B$81,"JJ/MM/AAAA"))=VALUE(TEXT(A24,"JJ/MM/AAAA")))*1) -> #VALUE! | G24: =(B24*8.6)+(C24*8.6)+(D24*7.86) -> 0
A25: TOTAL | B25: =SUM(B2:B24) -> 14.3 | C25: =SUM(C2:C24) -> -126.3 | D25: =SUM(D2:D24) -> 215.9 | E25: =SUM(E2:E24) -> 103.9 | F25: =SUM(F2:F22) -> #VALUE! | G25: =SUM(G2:G24) -> 733.774
A26: TOTAL TRADES | F26: =SUM(B26:D26) -> 0
A27: TOTAL MONTANT | B27: =(B25*8.6) -> 122.98 | C27: =(C25*8.6) -> -1086.18 | D27: =(D25*7.86) -> 1696.974
A31: Open Date | B31: Close Date | C31: Symbol | D31: Action | E31: Lots | F31: SL | G31: TP | H31: Open Price | I31: Close Price | J31: Commission | K31: Swap | L31: Pips | M31: Comptes
A32: 43414.078 | B32: 43414.422 | C32: GBPUSD | D32: Sell | E32: 0.01 | F32: 1.35383 | G32: 0 | H32: 1.32053 | I32: 1.31922 | J32: -0.06 | K32: 0 | L32: 13.1 | M32: Scorpion
A33: 43383.944 | B33: 43414.086 | C33: EURUSD | D33: Buy | E33: 0.01 | F33: 1.13496 | G33: 1.17236 | H33: 1.15186 | I33: 1.15364 | J33: -0.06 | K33: -0.27 | L33: 17.8 | M33: Scorpion
A34: 43383.917 | B34: 43414.062 | C34: GBPUSD | D34: Buy | E34: 0.01 | F34: 1.30708 | G34: 1.33838 | H34: 1.31998 | I34: 1.3203 | J34: -0.06 | K34: -0.22 | L34: 3.2 | M34: Scorpion
A35: 43383.917 | B35: 43414.052 | C35: GBPUSD | D35: Buy | E35: 0.01 | F35: 1.29077 | G35: 1.34017 | H35: 1.31997 | I35: 1.32014 | J35: -0.06 | K35: -0.22 | L35: 1.7 | M35: Scorpion
A36: 43383.918 | B36: 43414.052 | C36: GBPUSD | D36: Buy | E36: 0.03 | F36: 1.31394 | G36: 1.32924 | H36: 1.31964 | I36: 1.32024 | J36: -0.17 | K36: -0.66 | L36: 6 | M36: Scorpion
A37: 43322.497 | B37: 43383.973 | C37: USDJPY | D37: Sell | E37: 0.02 | F37: 113.723 | G37: 0 | H37: 113.263 | I37: 112.338 | J37: -0.11 | K37: -0.26 | L37: 92.5 | M37: Scorpion
A38: 43322.486 | B38: 43383.766 | C38: USDJPY | D38: Sell | E38: 0.01 | F38: 114.117 | G38: 0 | H38: 113.367 | I38: 112.617 | J38: -0.06 | K38: -0.14 | L38: 75 | M38: Scorpion
A39: 43383.094 | B39: 43383.698 | C39: USDJPY | D39: Sell | E39: 0.01 | F39: 114.991 | G39: 111.771 | H39: 113.031 | I39: 113.03 | J39: -0.06 | K39: 0 | L39: 0.1 | M39: Scorpion
A40: 43383.482 | B40: 43383.676 | C40: GBPUSD | D40: Buy | E40: 0.02 | F40: 1.31824 | G40: 0 | H40: 1.31544 | I40: 1.31824 | J40: -0.11 | K40: 0 | L40: 28 | M40: Scorpion
A41: 43383.469 | B41: 43383.675 | C41: GBPUSD | D41: Buy | E41: 0.03 | F41: 1.31734 | G41: 1.32636 | H41: 1.31554 | I41: 1.31804 | J41: -0.17 | K41: 0 | L41: 25 | M41: Scorpion
A42: 43353.778 | B42: 43383.349 | C42: GBPUSD | D42: Buy | E42: 0.02 | F42: 1.31699 | G42: 0 | H42: 1.31369 | I42: 1.31699 | J42: -0.11 | K42: -0.15 | L42: 33 | M42: Scorpion
A43: 43322.938 | B43: 43353.954 | C43: USDJPY | D43: Sell | E43: 0.02 | F43: 113.836 | G43: 112.386 | H43: 113.026 | I43: 112.937 | J43: -0.11 | K43: -0.13 | L43: 8.9 | M43: Scorpion
... A81: 43110.51 | B81: 43110.617 | C81: EURUSD | D81: Sell | E81: 0.01 | F81: 1.1706 | G81: 1.1433 | H81: 1.1609 | I81: 1.15921 | J81: -0.06 | K81: 0 | L81: 16.9 | M81: Scorpion

Sheet I 
A1: C - Scrptx Portfolio | B1: EURUSD | C1: GBPUSD | D1: USDJPY | E1: GBPJPY | F1: AUDUSD | G1: EURJPY | H1: TOTAL PIPS | I1: TRADES | J1: TOTAL MONTANT
A2: 43110 | B2: =SUMPRODUCT((VALUE(TEXT($B$31:$B$44,"JJ/MM/AAAA"))=VALUE(TEXT(A2,"JJ/MM/AAAA")))*($C$31:$C$44=$B$1),$L$31:$L$44) -> 0 | C2: =SUMPRODUCT((VALUE(TEXT($B$31:$B$44,"JJ/MM/AAAA"))=VALUE(TEXT(A2,"JJ/MM/AAAA")))*($C$31:$C$44=$C$1),$L$31:$L$44) -> 0 | D2: =SUMPRODUCT((VALUE(TEXT($B$31:$B$44,"JJ/MM/AAAA"))=VALUE(TEXT(A2,"JJ/MM/AAAA")))*($C$31:$C$44=$D$1),$L$31:$L$44) -> -108.4 | E2: =SUMPRODUCT((VALUE(TEXT($B$31:$B$44,"JJ/MM/AAAA"))=VALUE(TEXT(A2,"JJ/MM/AAAA")))*($C$31:$C$44=$E$1),$L$31:$L$44) -> 0 | F2: =SUMPRODUCT((VALUE(TEXT($B$31:$B$44,"JJ/MM/AAAA"))=VALUE(TEXT(A2,"JJ/MM/AAAA")))*($C$31:$C$44=$F$1),$L$31:$L$44) -> 0 | G2: =SUMPRODUCT((VALUE(TEXT($B$31:$B$44,"JJ/MM/AAAA"))=VALUE(TEXT(A2,"JJ/MM/AAAA")))*($C$31:$C$44=$G$1),$L$31:$L$44) -> -96.1 | H2: =SUM(B2:G2) -> -204.5 | I2: =SUMPRODUCT((VALUE(TEXT($B$31:$B$44,"JJ/MM/AAAA"))=VALUE(TEXT(A2,"JJ/MM/AAAA")))*1) -> 2 | J2: =(B2*8.6)+(C2*8.6)+(D2*7.7)+(E2*7.8)+(F2*8.68)+(G2*7.6) -> -1565.04
A3: 43141 | B3: =SUMPRODUCT((VALUE(TEXT($B$31:$B$44,"JJ/MM/AAAA"))=VALUE(TEXT(A3,"JJ/MM/AAAA")))*($C$31:$C$44=$B$1),$L$31:$L$44) -> -30.9 | C3: =SUMPRODUCT((VALUE(TEXT($B$31:$B$44,"JJ/MM/AAAA"))=VALUE(TEXT(A3,"JJ/MM/AAAA")))*($C$31:$C$44=$C$1),$L$31:$L$44) -> 0 | D3: =SUMPRODUCT((VALUE(TEXT($B$31:$B$44,"JJ/MM/AAAA"))=VALUE(TEXT(A3,"JJ/MM/AAAA")))*($C$31:$C$44=$D$1),$L$31:$L$44) -> 0 | E3: =SUMPRODUCT((VALUE(TEXT($B$31:$B$44,"JJ/MM/AAAA"))=VALUE(TEXT(A3,"JJ/MM/AAAA")))*($C$31:$C$44=$E$1),$L$31:$L$44) -> 0 | F3: =SUMPRODUCT((VALUE(TEXT($B$31:$B$44,"JJ/MM/AAAA"))=VALUE(TEXT(A3,"JJ/MM/AAAA")))*($C$31:$C$44=$F$1),$L$31:$L$44) -> 0 | G3: =SUMPRODUCT((VALUE(TEXT($B$31:$B$44,"JJ/MM/AAAA"))=VALUE(TEXT(A3,"JJ/MM/AAAA")))*($C$31:$C$44=$G$1),$L$31:$L$44) -> 0 | H3: =SUM(B3:G3) -> -30.9 | I3: =SUMPRODUCT((VALUE(TEXT($B$31:$B$44,"JJ/MM/AAAA"))=VALUE(TEXT(A3,"JJ/MM/AAAA")))*1) -> 1 | J3: =(B3*8.6)+(C3*8.6)+(D3*7.7)+(E3*7.8)+(F3*8.68)+(G3*7.6) -> -265.74
A4: 43169 | B4: =SUMPRODUCT((VALUE(TEXT($B$31:$B$44,"JJ/MM/AAAA"))=VALUE(TEXT(A4,"JJ/MM/AAAA")))*($C$31:$C$44=$B$1),$L$31:$L$44) -> 0 | C4: =SUMPRODUCT((VALUE(TEXT($B$31:$B$44,"JJ/MM/AAAA"))=VALUE(TEXT(A4,"JJ/MM/AAAA")))*($C$31:$C$44=$C$1),$L$31:$L$44) -> 0 | D4: =SUMPRODUCT((VALUE(TEXT($B$31:$B$44,"JJ/MM/AAAA"))=VALUE(TEXT(A4,"JJ/MM/AAAA")))*($C$31:$C$44=$D$1),$L$31:$L$44) -> 0 | E4: =SUMPRODUCT((VALUE(TEXT($B$31:$B$44,"JJ/MM/AAAA"))=VALUE(TEXT(A4,"JJ/MM/AAAA")))*($C$31:$C$44=$E$1),$L$31:$L$44) -> 0 | F4: =SUMPRODUCT((VALUE(TEXT($B$31:$B$44,"JJ/MM/AAAA"))=VALUE(TEXT(A4,"JJ/MM/AAAA")))*($C$31:$C$44=$F$1),$L$31:$L$44) -> 0 | G4: =SUMPRODUCT((VALUE(TEXT($B$31:$B$44,"JJ/MM/AAAA"))=VALUE(TEXT(A4,"JJ/MM/AAAA")))*($C$31:$C$44=$G$1),$L$31:$L$44) -> -53.8 | H4: =SUM(B4:G4) -> -53.8 | I4: =SUMPRODUCT((VALUE(TEXT($B$31:$B$44,"JJ/MM/AAAA"))=VALUE(TEXT(A4,"JJ/MM/AAAA")))*1) -> 1 | J4: =(B4*8.6)+(C4*8.6)+(D4*7.7)+(E4*7.8)+(F4*8.68)+(G4*7.6) -> -408.88
A5: 43200 | B5: =SUMPRODUCT((VALUE(TEXT($B$31:$B$44,"JJ/MM/AAAA"))=VALUE(TEXT(A5,"JJ/MM/AAAA")))*($C$31:$C$44=$B$1),$L$31:$L$44) -> 38.6 | C5: =SUMPRODUCT((VALUE(TEXT($B$31:$B$44,"JJ/MM/AAAA"))=VALUE(TEXT(A5,"JJ/MM/AAAA")))*($C$31:$C$44=$C$1),$L$31:$L$44) -> 0 | D5: =SUMPRODUCT((VALUE(TEXT($B$31:$B$44,"JJ/MM/AAAA"))=VALUE(TEXT(A5,"JJ/MM/AAAA")))*($C$31:$C$44=$D$1),$L$31:$L$44) -> -58.8 | E5: =SUMPRODUCT((VALUE(TEXT($B$31:$B$44,"JJ/MM/AAAA"))=VALUE(TEXT(A5,"JJ/MM/AAAA")))*($C$31:$C$44=$E$1),$L$31:$L$44) -> 0 | F5: =SUMPRODUCT((VALUE(TEXT($B$31:$B$44,"JJ/MM/AAAA"))=VALUE(TEXT(A5,"JJ/MM/AAAA")))*($C$31:$C$44=$F$1),$L$31:$L$44) -> 0 | G5: =SUMPRODUCT((VALUE(TEXT($B$31:$B$44,"JJ/MM/AAAA"))=VALUE(TEXT(A5,"JJ/MM/AAAA")))*($C$31:$C$44=$G$1),$L$31:$L$44) -> -51.3 | H5: =SUM(B5:G5) -> -71.5 | I5: =SUMPRODUCT((VALUE(TEXT($B$31:$B$44,"JJ/MM/AAAA"))=VALUE(TEXT(A5,"JJ/MM/AAAA")))*1) -> 3 | J5: =(B5*8.6)+(C5*8.6)+(D5*7.7)+(E5*7.8)+(F5*8.68)+(G5*7.6) -> -510.68
A6: 43230 | B6: =SUMPRODUCT((VALUE(TEXT($B$31:$B$44,"JJ/MM/AAAA"))=VALUE(TEXT(A6,"JJ/MM/AAAA")))*($C$31:$C$44=$B$1),$L$31:$L$44) -> 0 | C6: =SUMPRODUCT((VALUE(TEXT($B$31:$B$44,"JJ/MM/AAAA"))=VALUE(TEXT(A6,"JJ/MM/AAAA")))*($C$31:$C$44=$C$1),$L$31:$L$44) -> 0 | D6: =SUMPRODUCT((VALUE(TEXT($B$31:$B$44,"JJ/MM/AAAA"))=VALUE(TEXT(A6,"JJ/MM/AAAA")))*($C$31:$C$44=$D$1),$L$31:$L$44) -> -31.1 | E6: =SUMPRODUCT((VALUE(TEXT($B$31:$B$44,"JJ/MM/AAAA"))=VALUE(TEXT(A6,"JJ/MM/AAAA")))*($C$31:$C$44=$E$1),$L$31:$L$44) -> 0 | F6: =SUMPRODUCT((VALUE(TEXT($B$31:$B$44,"JJ/MM/AAAA"))=VALUE(TEXT(A6,"JJ/MM/AAAA")))*($C$31:$C$44=$F$1),$L$31:$L$44) -> 0 | G6: =SUMPRODUCT((VALUE(TEXT($B$31:$B$44,"JJ/MM/AAAA"))=VALUE(TEXT(A6,"JJ/MM/AAAA")))*($C$31:$C$44=$G$1),$L$31:$L$44) -> -38.4 | H6: =SUM(B6:G6) -> -69.5 | I6: =SUMPRODUCT((VALUE(TEXT($B$31:$B$44,"JJ/MM/AAAA"))=VALUE(TEXT(A6,"JJ/MM/AAAA")))*1) -> 2 | J6: =(B6*8.6)+(C6*8.6)+(D6*7.7)+(E6*7.8)+(F6*8.68)+(G6*7.6) -> -531.31
A7: 43322 | B7: =SUMPRODUCT((VALUE(TEXT($B$31:$B$44,"JJ/MM/AAAA"))=VALUE(TEXT(A7,"JJ/MM/AAAA")))*($C$31:$C$44=$B$1),$L$31:$L$44) -> 0 | C7: =SUMPRODUCT((VALUE(TEXT($B$31:$B$44,"JJ/MM/AAAA"))=VALUE(TEXT(A7,"JJ/MM/AAAA")))*($C$31:$C$44=$C$1),$L$31:$L$44) -> 0 | D7: =SUMPRODUCT((VALUE(TEXT($B$31:$B$44,"JJ/MM/AAAA"))=VALUE(TEXT(A7,"JJ/MM/AAAA")))*($C$31:$C$44=$D$1),$L$31:$L$44) -> 0 | E7: =SUMPRODUCT((VALUE(TEXT($B$31:$B$44,"JJ/MM/AAAA"))=VALUE(TEXT(A7,"JJ/MM/AAAA")))*($C$31:$C$44=$E$1),$L$31:$L$44) -> 0 | F7: =SUMPRODUCT((VALUE(TEXT($B$31:$B$44,"JJ/MM/AAAA"))=VALUE(TEXT(A7,"JJ/MM/AAAA")))*($C$31:$C$44=$F$1),$L$31:$L$44) -> 0 | G7: =SUMPRODUCT((VALUE(TEXT($B$31:$B$44,"JJ/MM/AAAA"))=VALUE(TEXT(A7,"JJ/MM/AAAA")))*($C$31:$C$44=$G$1),$L$31:$L$44) -> 0 | H7: =SUM(B7:G7) -> 0 | I7: =SUMPRODUCT((VALUE(TEXT($B$31:$B$44,"JJ/MM/AAAA"))=VALUE(TEXT(A7,"JJ/MM/AAAA")))*1) -> 0 | J7: =(B7*8.6)+(C7*8.6)+(D7*7.7)+(E7*7.8)+(F7*8.68)+(G7*7.6) -> 0
A8: 43353 | B8: =SUMPRODUCT((VALUE(TEXT($B$31:$B$44,"JJ/MM/AAAA"))=VALUE(TEXT(A8,"JJ/MM/AAAA")))*($C$31:$C$44=$B$1),$L$31:$L$44) -> -42 | C8: =SUMPRODUCT((VALUE(TEXT($B$31:$B$44,"JJ/MM/AAAA"))=VALUE(TEXT(A8,"JJ/MM/AAAA")))*($C$31:$C$44=$C$1),$L$31:$L$44) -> 0 | D8: =SUMPRODUCT((VALUE(TEXT($B$31:$B$44,"JJ/MM/AAAA"))=VALUE(TEXT(A8,"JJ/MM/AAAA")))*($C$31:$C$44=$D$1),$L$31:$L$44) -> 20.3 | E8: =SUMPRODUCT((VALUE(TEXT($B$31:$B$44,"JJ/MM/AAAA"))=VALUE(TEXT(A8,"JJ/MM/AAAA")))*($C$31:$C$44=$E$1),$L$31:$L$44) -> 0 | F8: =SUMPRODUCT((VALUE(TEXT($B$31:$B$44,"JJ/MM/AAAA"))=VALUE(TEXT(A8,"JJ/MM/AAAA")))*($C$31:$C$44=$F$1),$L$31:$L$44) -> 0 | G8: =SUMPRODUCT((VALUE(TEXT($B$31:$B$44,"JJ/MM/AAAA"))=VALUE(TEXT(A8,"JJ/MM/AAAA")))*($C$31:$C$44=$G$1),$L$31:$L$44) -> 0 | H8: =SUM(B8:G8) -> -21.7 | I8: =SUMPRODUCT((VALUE(TEXT($B$31:$B$44,"JJ/MM/AAAA"))=VALUE(TEXT(A8,"JJ/MM/AAAA")))*1) -> 3 | J8: =(B8*8.6)+(C8*8.6)+(D8*7.7)+(E8*7.8)+(F8*8.68)+(G8*7.6) -> -204.89
A9: 43383 | B9: =SUMPRODUCT((VALUE(TEXT($B$31:$B$44,"JJ/MM/AAAA"))=VALUE(TEXT(A9,"JJ/MM/AAAA")))*($C$31:$C$44=$B$1),$L$31:$L$44) -> 0 | C9: =SUMPRODUCT((VALUE(TEXT($B$31:$B$44,"JJ/MM/AAAA"))=VALUE(TEXT(A9,"JJ/MM/AAAA")))*($C$31:$C$44=$C$1),$L$31:$L$44) -> 0 | D9: =SUMPRODUCT((VALUE(TEXT($B$31:$B$44,"JJ/MM/AAAA"))=VALUE(TEXT(A9,"JJ/MM/AAAA")))*($C$31:$C$44=$D$1),$L$31:$L$44) -> 0 | E9: =SUMPRODUCT((VALUE(TEXT($B$31:$B$44,"JJ/MM/AAAA"))=VALUE(TEXT(A9,"JJ/MM/AAAA")))*($C$31:$C$44=$E$1),$L$31:$L$44) -> 0 | F9: =SUMPRODUCT((VALUE(TEXT($B$31:$B$44,"JJ/MM/AAAA"))=VALUE(TEXT(A9,"JJ/MM/AAAA")))*($C$31:$C$44=$F$1),$L$31:$L$44) -> 0 | G9: =SUMPRODUCT((VALUE(TEXT($B$31:$B$44,"JJ/MM/AAAA"))=VALUE(TEXT(A9,"JJ/MM/AAAA")))*($C$31:$C$44=$G$1),$L$31:$L$44) -> 0 | H9: =SUM(B9:G9) -> 0 | I9: =SUMPRODUCT((VALUE(TEXT($B$31:$B$44,"JJ/MM/AAAA"))=VALUE(TEXT(A9,"JJ/MM/AAAA")))*1) -> 0 | J9: =(B9*8.6)+(C9*8.6)+(D9*7.7)+(E9*7.8)+(F9*8.68)+(G9*7.6) -> 0
A10: 43414 | B10: =SUMPRODUCT((VALUE(TEXT($B$31:$B$44,"JJ/MM/AAAA"))=VALUE(TEXT(A10,"JJ/MM/AAAA")))*($C$31:$C$44=$B$1),$L$31:$L$44) -> -27.3 | C10: =SUMPRODUCT((VALUE(TEXT($B$31:$B$44,"JJ/MM/AAAA"))=VALUE(TEXT(A10,"JJ/MM/AAAA")))*($C$31:$C$44=$C$1),$L$31:$L$44) -> 0 | D10: =SUMPRODUCT((VALUE(TEXT($B$31:$B$44,"JJ/MM/AAAA"))=VALUE(TEXT(A10,"JJ/MM/AAAA")))*($C$31:$C$44=$D$1),$L$31:$L$44) -> 0 | E10: =SUMPRODUCT((VALUE(TEXT($B$31:$B$44,"JJ/MM/AAAA"))=VALUE(TEXT(A10,"JJ/MM/AAAA")))*($C$31:$C$44=$E$1),$L$31:$L$44) -> 0 | F10: =SUMPRODUCT((VALUE(TEXT($B$31:$B$44,"JJ/MM/AAAA"))=VALUE(TEXT(A10,"JJ/MM/AAAA")))*($C$31:$C$44=$F$1),$L$31:$L$44) -> -35.1 | G10: =SUMPRODUCT((VALUE(TEXT($B$31:$B$44,"JJ/MM/AAAA"))=VALUE(TEXT(A10,"JJ/MM/AAAA")))*($C$31:$C$44=$G$1),$L$31:$L$44) -> 0 | H10: =SUM(B10:G10) -> -62.4 | I10: =SUMPRODUCT((VALUE(TEXT($B$31:$B$44,"JJ/MM/AAAA"))=VALUE(TEXT(A10,"JJ/MM/AAAA")))*1) -> 2 | J10: =(B10*8.6)+(C10*8.6)+(D10*7.7)+(E10*7.8)+(F10*8.68)+(G10*7.6) -> -539.448
A11: 43444 | B11: =SUMPRODUCT((VALUE(TEXT($B$31:$B$44,"JJ/MM/AAAA"))=VALUE(TEXT(A11,"JJ/MM/AAAA")))*($C$31:$C$44=$B$1),$L$31:$L$44) -> 0 | C11: =SUMPRODUCT((VALUE(TEXT($B$31:$B$44,"JJ/MM/AAAA"))=VALUE(TEXT(A11,"JJ/MM/AAAA")))*($C$31:$C$44=$C$1),$L$31:$L$44) -> 0 | D11: =SUMPRODUCT((VALUE(TEXT($B$31:$B$44,"JJ/MM/AAAA"))=VALUE(TEXT(A11,"JJ/MM/AAAA")))*($C$31:$C$44=$D$1),$L$31:$L$44) -> 0 | E11: =SUMPRODUCT((VALUE(TEXT($B$31:$B$44,"JJ/MM/AAAA"))=VALUE(TEXT(A11,"JJ/MM/AAAA")))*($C$31:$C$44=$E$1),$L$31:$L$44) -> 0 | F11: =SUMPRODUCT((VALUE(TEXT($B$31:$B$44,"JJ/MM/AAAA"))=VALUE(TEXT(A11,"JJ/MM/AAAA")))*($C$31:$C$44=$F$1),$L$31:$L$44) -> 0 | G11: =SUMPRODUCT((VALUE(TEXT($B$31:$B$44,"JJ/MM/AAAA"))=VALUE(TEXT(A11,"JJ/MM/AAAA")))*($C$31:$C$44=$G$1),$L$31:$L$44) -> 0 | H11: =SUM(B11:G11) -> 0 | I11: =SUMPRODUCT((VALUE(TEXT($B$31:$B$44,"JJ/MM/AAAA"))=VALUE(TEXT(A11,"JJ/MM/AAAA")))*1) -> 0 | J11: =(B11*8.6)+(C11*8.6)+(D11*7.7)+(E11*7.8)+(F11*8.68)+(G11*7.6) -> 0
A12: 10/15/2018 00:00:00 | H12: =SUM(B12:G12) -> 0 | I12: =SUMPRODUCT((VALUE(TEXT($B$31:$B$44,"JJ/MM/AAAA"))=VALUE(TEXT(A12,"JJ/MM/AAAA")))*1) -> #VALUE! | J12: =(B12*8.6)+(C12*8.6)+(D12*7.7)+(E12*7.8)+(F12*8.68)+(G12*7.6) -> 0
A13: 10/16/2018 00:00:00 | H13: =SUM(B13:G13) -> 0 | I13: =SUMPRODUCT((VALUE(TEXT($B$31:$B$44,"JJ/MM/AAAA"))=VALUE(TEXT(A13,"JJ/MM/AAAA")))*1) -> #VALUE! | J13: =(B13*8.6)+(C13*8.6)+(D13*7.7)+(E13*7.8)+(F13*8.68)+(G13*7.6) -> 0
A14: 10/17/2018 00:00:00 | H14: =SUM(B14:G14) -> 0 | I14: =SUMPRODUCT((VALUE(TEXT($B$31:$B$44,"JJ/MM/AAAA"))=VALUE(TEXT(A14,"JJ/MM/AAAA")))*1) -> #VALUE! | J14: =(B14*8.6)+(C14*8.6)+(D14*7.7)+(E14*7.8)+(F14*8.68)+(G14*7.6) -> 0
A15: 10/18/2018 00:00:00 | H15: =SUM(B15:G15) -> 0 | I15: =SUMPRODUCT((VALUE(TEXT($B$31:$B$44,"JJ/MM/AAAA"))=VALUE(TEXT(A15,"JJ/MM/AAAA")))*1) -> #VALUE! | J15: =(B15*8.6)+(C15*8.6)+(D15*7.7)+(E15*7.8)+(F15*8.68)+(G15*7.6) -> 0
A16: 10/19/2018 00:00:00 | H16: =SUM(B16:G16) -> 0 | I16: =SUMPRODUCT((VALUE(TEXT($B$31:$B$44,"JJ/MM/AAAA"))=VALUE(TEXT(A16,"JJ/MM/AAAA")))*1) -> #VALUE! | J16: =(B16*8.6)+(C16*8.6)+(D16*7.7)+(E16*7.8)+(F16*8.68)+(G16*7.6) -> 0
A17: 10/22/2018 00:00:00 | H17: =SUM(B17:G17) -> 0 | I17: =SUMPRODUCT((VALUE(TEXT($B$31:$B$44,"JJ/MM/AAAA"))=VALUE(TEXT(A17,"JJ/MM/AAAA")))*1) -> #VALUE! | J17: =(B17*8.6)+(C17*8.6)+(D17*7.7)+(E17*7.8)+(F17*8.68)+(G17*7.6) -> 0
A18: 10/23/2018 00:00:00 | H18: =SUM(B18:G18) -> 0 | I18: =SUMPRODUCT((VALUE(TEXT($B$31:$B$44,"JJ/MM/AAAA"))=VALUE(TEXT(A18,"JJ/MM/AAAA")))*1) -> #VALUE! | J18: =(B18*8.6)+(C18*8.6)+(D18*7.7)+(E18*7.8)+(F18*8.68)+(G18*7.6) -> 0
A19: 10/24/2018 00:00:00 | H19: =SUM(B19:G19) -> 0 | I19: =SUMPRODUCT((VALUE(TEXT($B$31:$B$44,"JJ/MM/AAAA"))=VALUE(TEXT(A19,"JJ/MM/AAAA")))*1) -> #VALUE! | J19: =(B19*8.6)+(C19*8.6)+(D19*7.7)+(E19*7.8)+(F19*8.68)+(G19*7.6) -> 0
A20: 10/25/2018 00:00:00 | H20: =SUM(B20:G20) -> 0 | I20: =SUMPRODUCT((VALUE(TEXT($B$31:$B$44,"JJ/MM/AAAA"))=VALUE(TEXT(A20,"JJ/MM/AAAA")))*1) -> #VALUE! | J20: =(B20*8.6)+(C20*8.6)+(D20*7.7)+(E20*7.8)+(F20*8.68)+(G20*7.6) -> 0
A21: 10/26/2018 00:00:00 | H21: =SUM(B21:G21) -> 0 | I21: =SUMPRODUCT((VALUE(TEXT($B$31:$B$44,"JJ/MM/AAAA"))=VALUE(TEXT(A21,"JJ/MM/AAAA")))*1) -> #VALUE! | J21: =(B21*8.6)+(C21*8.6)+(D21*7.7)+(E21*7.8)+(F21*8.68)+(G21*7.6) -> 0
A22: 10/29/2018 00:00:00 | H22: =SUM(B22:G22) -> 0 | I22: =SUMPRODUCT((VALUE(TEXT($B$31:$B$44,"JJ/MM/AAAA"))=VALUE(TEXT(A22,"JJ/MM/AAAA")))*1) -> #VALUE! | J22: =(B22*8.6)+(C22*8.6)+(D22*7.7)+(E22*7.8)+(F22*8.68)+(G22*7.6) -> 0
A23: 10/30/2018 00:00:00 | H23: =SUM(B23:G23) -> 0 | I23: =SUMPRODUCT((VALUE(TEXT($B$31:$B$44,"JJ/MM/AAAA"))=VALUE(TEXT(A23,"JJ/MM/AAAA")))*1) -> #VALUE! | J23: =(B23*8.6)+(C23*8.6)+(D23*7.7)+(E23*7.8)+(F23*8.68)+(G23*7.6) -> 0
A24: 10/31/2018 00:00:00 | H24: =SUM(B24:G24) -> 0 | I24: =SUMPRODUCT((VALUE(TEXT($B$31:$B$44,"JJ/MM/AAAA"))=VALUE(TEXT(A24,"JJ/MM/AAAA")))*1) -> #VALUE! | J24: =(B24*8.6)+(C24*8.6)+(D24*7.7)+(E24*7.8)+(F24*8.68)+(G24*7.6) -> 0
A25: TOTAL | B25: =SUM(B2:B24) -> -61.6 | C25: =SUM(C2:C24) -> 0 | D25: =SUM(D2:D24) -> -178 | E25: =SUM(E2:E24) -> 0 | F25: =SUM(F2:F24) -> -35.1 | G25: =SUM(G2:G24) -> -239.6 | H25: =SUM(H2:H24) -> -514.3 | I25: =SUM(I2:I24) -> #VALUE! | J25: =SUM(J2:J24) -> -4025.988
A26: TOTAL TRADES | B26: =COUNTIF(B2:B24,"<>0") -> 17 | I26: =SUM(B26:F26) -> 17
A27: TOTAL MONTANT | B27: =(B25*8.6) -> -529.76 | C27: =(C25*8.6) -> 0 | D27: =(D25*6) -> -1068 | E27: =(E25*7.8) -> 0 | F27: =(F25*11.42) -> -400.842 | G27: =(G25*11.42) -> -2736.232
A30: Open Date | B30: Close Date | C30: Symbol | D30: Action | E30: Lots | F30: SL | G30: TP | H30: Open Price | I30: Close Price | J30: Commission | K30: Swap | L30: Pips | M30: Comptes
A31: 43414.854 | B31: 43414.89 | C31: EURUSD | D31: Buy | E31: 0.1 | F31: 1.15571 | G31: 1.16487 | H31: 1.15885 | I31: 1.15612 | J31: -0.8 | K31: 0 | L31: -27.3 | M31: -28.1 | N31: -0.2 | O31: 00:00:52:20 | P31: 0 | Q31: 0s | R31: 27.3 | S31: 27.32 | T31: 0 | U31: 0 | V31: -27.3 | W31: -27.3 | X31: 0 | Y31: 0 | Z31: -27.3 | AA31: -27.3
A32: 43414.085 | B32: 43414.198 | C32: AUDUSD | D32: Buy | E32: 0.08 | F32: 0.70667 | G32: 0.71346 | H32: 0.71014 | I32: 0.70663 | J32: -0.64 | K32: 0 | L32: -35.1 | M32: -28.72 | N32: -0.2 | O32: 00:02:42:23 | P32: 0 | Q32: 0s | R32: 35.1 | S32: 35.21 | T32: 0 | U32: 0 | V32: -35.1 | W32: -28.08 | X32: 0 | Y32: 0 | Z32: -35.1 | AA32: -28.08
A33: 43353.832 | B33: 43353.928 | C33: EURUSD | D33: Sell | E33: 0.09 | F33: 1.14634 | G33: 1.1371 | H33: 1.14325 | I33: 1.14674 | J33: -0.72 | K33: 0 | L33: -34.9 | M33: -32.13 | N33: -0.22 | O33: 00:02:19:00 | P33: 0 | Q33: 0s | R33: 34.9 | S33: 34.97 | T33: 0 | U33: 0 | V33: -34.9 | W33: -31.41 | X33: 0 | Y33: 0 | Z33: -34.9 | AA33: -31.41
A34: 43322.693 | B34: 43353.833 | C34: USDJPY | D34: Sell | E34: 0.11 | F34: 113.654 | G34: 112.779 | H34: 113.34 | I34: 113.137 | J34: -0.88 | K34: -0.58 | L34: 20.3 | M34: 18.28 | N34: 0.13 | O34: 01:03:21:23 | P34: 98.6 | Q34: 1d 2h | R34: 44.6 | S34: 0.12 | T34: 39.9 | U34: 38.703 | V34: -4.7 | W34: -4.559 | X34: 89.5 | Y34: 56.1 | Z34: -19.6 | AA34: -19.01
A35: 43322.706 | B35: 43353.042 | C35: EURUSD | D35: Sell | E35: 0.09 | F35: 1.15026 | G35: 1.14101 | H35: 1.14722 | I35: 1.14793 | J35: -0.72 | K35: 0 | L35: -7.1 | M35: -7.11 | N35: -0.05 | O35: 00:08:02:39 | P35: 0 | Q35: 0s | R35: 7.1 | S35: 7.1 | T35: 0 | U35: 0 | V35: -7.1 | W35: -6.39 | X35: 0 | Y35: 0 | Z35: -7.1 | AA35: -6.39
A36: 43141.7 | B36: 43230.375 | C36: EURJPY | D36: Sell | E36: 0.03 | F36: 132.178 | G36: 129.665 | H36: 130.905 | I36: 131.289 | J36: -0.24 | K36: -0.39 | L36: -38.4 | M36: -10.74 | N36: -0.07 | O36: 02:16:11:18 | P36: 2.4 | Q36: 1h 32m | R36: 103.7 | S36: 8.37 | T36: 12.4 | U36: 3.224 | V36: -103.7 | W36: -26.962 | X36: 10.7 | Y36: 56.2 | Z36: -50.8 | AA36: -13.21
A37: 43200.933 | B37: 43230.357 | C37: USDJPY | D37: Sell | E37: 0.11 | F37: 114.028 | G37: 113.199 | H37: 113.724 | I37: 114.035 | J37: -0.88 | K37: -0.58 | L37: -31.1 | M37: -31.46 | N37: -0.22 | O37: 00:10:11:00 | P37: 0 | Q37: 0s | R37: 31.1 | S37: 31.15 | T37: 0 | U37: 0 | V37: -31.1 | W37: -29.856 | X37: 0 | Y37: 0 | Z37: -31.1 | AA37: -29.86
A38: 43141.602 | B38: 43200.75 | C38: USDJPY | D38: Sell | E38: 0.11 | F38: 0 | G38: 0 | H38: 113.747 | I38: 114.335 | J38: -0.88 | K38: -2.31 | L38: -58.8 | M38: -59.76 | N38: -0.41 | O38: 02:03:33:02 | P38: 19.8 | Q38: 10h 12m | R38: 100.6 | S38: 3.88 | T38: 20.6 | U38: 19.776 | V38: -80 | W38: -76.8 | X38: 20.5 | Y38: 21.1 | Z38: -79.4 | AA38: -76.22
A39: 43200.182 | B39: 43200.542 | C39: EURUSD | D39: Sell | E39: 0.1 | F39: 1.15364 | G39: 1.14454 | H39: 1.15064 | I39: 1.14678 | J39: -0.8 | K39: 0 | L39: 38.6 | M39: 37.8 | N39: 0.26 | O39: 00:08:38:04 | P39: 0.2 | Q39: 1m | R39: 0 | S39: 0.03 | T39: 38.6 | U39: 38.6 | V39: 0 | W39: 0 | X39: 100 | Y39: 100 | Z39: 0 | AA39: 0
A40: 43141.627 | B40: 43200.042 | C40: EURJPY | D40: Sell | E40: 0.04 | F40: 132.055 | G40: 130.48 | H40: 131.178 | I40: 131.691 | J40: -0.32 | K40: -0.1 | L40: -51.3 | M40: -18.36 | N40: -0.13 | O40: 01:09:56:53 | P40: 4.5 | Q40: 1h 31m | R40: 92.8 | S40: 4.52 | T40: 16.8 | U40: 5.88 | V40: -76 | W40: -26.6 | X40: 18.1 | Y40: 26.6 | Z40: -68.1 | AA40: -23.83
A41: 43141.627 | B41: 43169.417 | C41: EURJPY | D41: Sell | E41: 0.06 | F41: 131.707 | G41: 130.152 | H41: 131.178 | I41: 131.716 | J41: -0.48 | K41: -0.15 | L41: -53.8 | M41: -29 | N41: -0.2 | O41: 00:18:57:49 | P41: 7.6 | Q41: 1h 26m | R41: 84.9 | S41: 3.27 | T41: 19.9 | U41: 10.547 | V41: -65 | W41: -34.45 | X41: 23.4 | Y41: 13.2 | Z41: -73.7 | AA41: -39.06
A42: 43141.642 | B42: 43141.953 | C42: EURUSD | D42: Sell | E42: 0.1 | F42: 1.1556 | G42: 1.1496 | H42: 1.1526 | I42: 1.15569 | J42: -0.8 | K42: 0 | L42: -30.9 | M42: -31.7 | N42: -0.22 | O42: 00:07:27:24 | P42: 0 | Q42: 0s | R42: 30.9 | S42: 30.96 | T42: 0 | U42: 0 | V42: -30.9 | W42: -30.9 | X42: 0 | Y42: 0 | Z42: -30.9 | AA42: -30.9
A43: 09/27/2018 03:48 | B43: 43110.292 | C43: USDJPY | D43: Sell | E43: 0.11 | F43: 0 | G43: 0 | H43: 112.684 | I43: 113.768 | J43: -0.88 | K43: -2.92 | L43: -108.4 | M43: -108.61 | N43: -0.74 | O43: 04:03:12:12 | P43: 1.3 | Q43: 1h 17m | R43: 118.2 | S43: 11.06 | T43: 9.8 | U43: 9.506 | V43: -108.4 | W43: -105.148 | X43: 8.3 | Y43: 0 | Z43: -118.2 | AA43: -114.65
A44: 09/28/2018 20:17 | B44: 43110.212 | C44: EURJPY | D44: Sell | E44: 0.03 | F44: 132.15 | G44: 130.558 | H44: 131.189 | I44: 132.15 | J44: -0.24 | K44: 0 | L44: -96.1 | M44: -25.58 | N44: -0.18 | O44: 02:08:47:53 | P44: 0 | Q44: 0s | R44: 96.1 | S44: 96.15 | T44: 0 | U44: 0 | V44: -96.1 | W44: -24.986 | X44: 0 | Y44: 0 | Z44: -96.1 | AA44: -24.99
