Workbook

Sheet Actions Register
A3: Fiche de risque | B3: Titre | G3: Pilote | H3: Criticité | I3: Chrono | J3: N° action | K3: Description | O3: Livrable | P3: Responsable (nom) | Q3: Pôle | R3: GO action? | S3: date début | T3: date fin initiale | U3: date fin actuelle | V3: avancement | W3: trend/ prévu | X3: coût (M€) | Y3: impact planning (mois) | Z3: Commentaires
A4: FDR1 | B4: {='FDR1'!B$5:F$5} -> Titre FDR1 | C4: 0 | D4: 0 | E4: 0 | F4: 0 | G4: ='FDR1'!C$7 -> Jean | H4: ='FDR1'!Q$7 -> j | I4: 1 | J4: FDR1-1 | K4: Test 1
A5: FDR1 | B5: {='FDR1'!B$5:F$5} -> Titre FDR1 | C5: 0 | D5: 0 | E5: 0 | F5: 0 | G5: ='FDR1'!C$7 -> Jean | H5: ='FDR1'!Q$7 -> j | I5: 2 | J5: FDR1-2
A6: FDR1 | B6: {='FDR1'!B$5:F$5} -> Titre FDR1 | C6: 0 | D6: 0 | E6: 0 | F6: 0 | G6: ='FDR1'!C$7 -> Jean | H6: ='FDR1'!Q$7 -> j | I6: 3 | J6: FDR1-3
A7: FDR1 | B7: {='FDR1'!B$5:F$5} -> Titre FDR1 | C7: 0 | D7: 0 | E7: 0 | F7: 0 | G7: ='FDR1'!C$7 -> Jean | H7: ='FDR1'!Q$7 -> j | I7: 4 | J7: FDR1-4
A8: FDR1 | B8: {='FDR1'!B$5:F$5} -> Titre FDR1 | C8: 0 | D8: 0 | E8: 0 | F8: 0 | G8: ='FDR1'!C$7 -> Jean | H8: ='FDR1'!Q$7 -> j | I8: 5 | J8: FDR1-5
A9: FDR1 | B9: {='FDR1'!B$5:F$5} -> Titre FDR1 | C9: 0 | D9: 0 | E9: 0 | F9: 0 | G9: ='FDR1'!C$7 -> Jean | H9: ='FDR1'!Q$7 -> j | I9: 6 | J9: FDR1-6
A10: FDR2 | B10: {='FDR2'!B$5:F$5} -> Titre FDR2 | C10: 0 | D10: 0 | E10: 0 | F10: 0 | G10: ='FDR2'!C$7 -> Hugo | H10: ='FDR2'!Q$7 -> v | I10: 1 | J10: FDR2-1
A11: FDR2 | B11: {='FDR2'!B$5:F$5} -> Titre FDR2 | C11: 0 | D11: 0 | E11: 0 | F11: 0 | G11: ='FDR2'!C$7 -> Hugo | H11: ='FDR2'!Q$7 -> v | I11: 2 | J11: FDR2-2
A12: FDR2 | B12: {='FDR2'!B$5:F$5} -> Titre FDR2 | C12: 0 | D12: 0 | E12: 0 | F12: 0 | G12: ='FDR2'!C$7 -> Hugo | H12: ='FDR2'!Q$7 -> v | I12: 3 | J12: FDR2-3
A13: FDR2 | B13: {='FDR2'!B$5:F$5} -> Titre FDR2 | C13: 0 | D13: 0 | E13: 0 | F13: 0 | G13: ='FDR2'!C$7 -> Hugo | H13: ='FDR2'!Q$7 -> v | I13: 4 | J13: FDR2-4
A14: FDR2 | B14: {='FDR2'!B$5:F$5} -> Titre FDR2 | C14: 0 | D14: 0 | E14: 0 | F14: 0 | G14: ='FDR2'!C$7 -> Hugo | H14: ='FDR2'!Q$7 -> v | I14: 5 | J14: FDR2-5
A15: FDR2 | B15: {='FDR2'!B$5:F$5} -> Titre FDR2 | C15: 0 | D15: 0 | E15: 0 | F15: 0 | G15: ='FDR2'!C$7 -> Hugo | H15: ='FDR2'!Q$7 -> v | I15: 6 | J15: FDR2-6

Sheet FDR1
E1: Période d'occurrence | I1: Tendance globale risque | AE1: b | AG1: risque non significatif
B2: dernière mise à jour | C2: statut courant | D2: créé le | E2: jalon début | F2: jalon fin | H2: N/N-1 (passée) | I2: -1 | AE2: j | AG2: risque à surveiller
H3: N+1/N (future) | I3: 0 | AE3: v | AG3: risque à mettre sous contrôle
AE4: o | AG4: risque important
A5: Titre | B5: Titre FDR1 | G5: Evaluation | H5: Avant plan d'action | J5: Gravité | S5: Evaluation | T5: Après plan d'action | V5: Gravité | AE5: r | AG5: risque majeur
B6: N° | C6: FDR1 | I6: Dév | J6: Impact (coût) | K6: Impact (mois) | L6: Niveau retenu | M6: Proba | N6: G*P | O6: Contrôle | P6: Criticité G*P*C | Q6: Zone Carto | U6: Dév | V6: Impact (coût) | W6: Impact (mois) | X6: Niveau retenu | Y6: Proba | Z6: G*P | AA6: Contrôle | AB6: Criticité G*P*C | AC6: Zone Carto | AF6: màj : | AG6: 43781
B7: Pilote | C7: Jean | I7: N | J7: 1 | K7: 1 | L7: 2 | M7: 2 | N7: =L7*M7 -> 4 | O7: 3 | P7: =L7*M7*O7 -> 12 | Q7: =IF(AND(O7>3,N7>10),"r",IF(O7>3,"v",IF(N7>15,IF(O7=3,"r","o"),IF(N7>10,"j",IF(O7>2,"j",IF(AND(O7=2,N7>5),"j","b")))))) -> j | T7: 43815 | U7: N | X7: =MAX(V7:W7) -> 0 | Z7: =X7*Y7 -> 0 | AB7: =X7*Y7*AA7 -> 0 | AC7: =IF(AND(AA7>3,Z7>10),"r",IF(AA7>3,"v",IF(Z7>15,IF(AA7=3,"r","o"),IF(Z7>10,"j",IF(AA7>2,"j",IF(AND(AA7=2,Z7>5),"j","b")))))) -> b | AE7: G*P
B8: Filiation | C8: pôle/WP | D8: n° | G8: Freeze en cours | I8: N-1 | J8: 2 | K8: 2 | L8: =MAX(J8:K8) -> 2 | N8: =L8*M8 -> 0 | P8: =L8*M8*O8 -> 0 | Q8: =IF(AND(O8>3,N8>10),"r",IF(O8>3,"v",IF(N8>15,IF(O8=3,"r","o"),IF(N8>10,"j",IF(O8>2,"j",IF(AND(O8=2,N8>5),"j","b")))))) -> b | S8: Freeze en cours | T8: 43585 | U8: N-1 | X8: =MAX(V8:W8) -> 0 | Z8: =X8*Y8 -> 0 | AB8: =X8*Y8*AA8 -> 0 | AC8: =IF(AND(AA8>3,Z8>10),"r",IF(AA8>3,"v",IF(Z8>15,IF(AA8=3,"r","o"),IF(Z8>10,"j",IF(AA8>2,"j",IF(AND(AA8=2,Z8>5),"j","b")))))) -> b | AE8: 25
B9: Père | I9: Evolution depuis N-1 | J9: - | K9: - | L9: =L7-L8 -> 0 | M9: =M7-M8 -> 2 | N9: =N7-N8 -> 4 | O9: =O7-O8 -> 3 | P9: =P7-P8 -> 12 | Q9: - | U9: Evolution depuis N-1 | V9: - | W9: - | X9: =X7-X8 -> 0 | Y9: =Y7-Y8 -> 0 | Z9: =Z7-Z8 -> 0 | AA9: =AA7-AA8 -> 0 | AB9: =AB7-AB8 -> 0 | AC9: - | AE9: 20
B10: Fils | I10: Réal T1 | U10: Réal T1 | AE10: 15
B11: Petit-fils | I11: N | L11: =MAX(J11:K11) -> 0 | N11: =L11*M11 -> 0 | P11: =L11*M11*O11 -> 0 | Q11: =IF(AND(O11>3,N11>10),"r",IF(O11>3,"v",IF(N11>15,IF(O11=3,"r","o"),IF(N11>10,"j",IF(O11>2,"j",IF(AND(O11=2,N11>5),"j","b")))))) -> b | T11: 43815 | U11: N | X11: =MAX(V11:W11) -> 0 | Z11: =X11*Y11 -> 0 | AB11: =X11*Y11*AA11 -> 0 | AC11: =IF(AND(AA11>3,Z11>10),"r",IF(AA11>3,"v",IF(Z11>15,IF(AA11=3,"r","o"),IF(Z11>10,"j",IF(AA11>2,"j",IF(AND(AA11=2,Z11>5),"j","b")))))) -> b | AE11: 10
B12: cf risque prioritaire? | C12: tbd | G12: Freeze en cours | I12: N-1 | L12: =MAX(J12:K12) -> 0 | N12: =L12*M12 -> 0 | P12: =L12*M12*O12 -> 0 | Q12: =IF(AND(O12>3,N12>10),"r",IF(O12>3,"v",IF(N12>15,IF(O12=3,"r","o"),IF(N12>10,"j",IF(O12>2,"j",IF(AND(O12=2,N12>5),"j","b")))))) -> b | S12: Freeze en cours | T12: 43585 | U12: N-1 | X12: =MAX(V12:W12) -> 0 | Z12: =X12*Y12 -> 0 | AB12: =X12*Y12*AA12 -> 0 | AC12: =IF(AND(AA12>3,Z12>10),"r",IF(AA12>3,"v",IF(Z12>15,IF(AA12=3,"r","o"),IF(Z12>10,"j",IF(AA12>2,"j",IF(AND(AA12=2,Z12>5),"j","b")))))) -> b | AE12: 5
I13: Evolution depuis N-1 | J13: - | K13: - | L13: =L11-L12 -> 0 | M13: =M11-M12 -> 0 | N13: =N11-N12 -> 0 | O13: =O11-O12 -> 0 | P13: =P11-P12 -> 0 | Q13: - | U13: Evolution depuis N-1 | V13: - | W13: - | X13: =X11-X12 -> 0 | Y13: =Y11-Y12 -> 0 | Z13: =Z11-Z12 -> 0 | AA13: =AA11-AA12 -> 0 | AB13: =AB11-AB12 -> 0 | AC13: - | AF13: 1 | AG13: 2 | AH13: 3 | AI13: 4 | AJ13: 5 | AK13: C
I14: Réal T2 | U14: Réal T2
I15: N | L15: =MAX(J15:K15) -> 0 | N15: =L15*M15 -> 0 | P15: =L15*M15*O15 -> 0 | Q15: =IF(AND(O15>3,N15>10),"r",IF(O15>3,"v",IF(N15>15,IF(O15=3,"r","o"),IF(N15>10,"j",IF(O15>2,"j",IF(AND(O15=2,N15>5),"j","b")))))) -> b | T15: 43815 | U15: N | X15: =MAX(V15:W15) -> 0 | Z15: =X15*Y15 -> 0 | AB15: =X15*Y15*AA15 -> 0 | AC15: =IF(AND(AA15>3,Z15>10),"r",IF(AA15>3,"v",IF(Z15>15,IF(AA15=3,"r","o"),IF(Z15>10,"j",IF(AA15>2,"j",IF(AND(AA15=2,Z15>5),"j","b")))))) -> b
C16: Registre des risques | G16: Freeze en cours | I16: N-1 | L16: =MAX(J16:K16) -> 0 | N16: =L16*M16 -> 0 | P16: =L16*M16*O16 -> 0 | Q16: =IF(AND(O16>3,N16>10),"r",IF(O16>3,"v",IF(N16>15,IF(O16=3,"r","o"),IF(N16>10,"j",IF(O16>2,"j",IF(AND(O16=2,N16>5),"j","b")))))) -> b | S16: Freeze en cours | T16: 43585 | U16: N-1 | X16: =MAX(V16:W16) -> 0 | Z16: =X16*Y16 -> 0 | AB16: =X16*Y16*AA16 -> 0 | AC16: =IF(AND(AA16>3,Z16>10),"r",IF(AA16>3,"v",IF(Z16>15,IF(AA16=3,"r","o"),IF(Z16>10,"j",IF(AA16>2,"j",IF(AND(AA16=2,Z16>5),"j","b")))))) -> b
C17: Dév | D17: Tranche1 | E17: Tranche2 | I17: Evolution depuis N-1 | J17: - | K17: - | L17: =L15-L16 -> 0 | M17: =M15-M16 -> 0 | N17: =N15-N16 -> 0 | O17: =O15-O16 -> 0 | P17: =P15-P16 -> 0 | Q17: - | U17: Evolution depuis N-1 | V17: - | W17: - | X17: =X15-X16 -> 0 | Y17: =Y15-Y16 -> 0 | Z17: =Z15-Z16 -> 0 | AA17: =AA15-AA16 -> 0 | AB17: =AB15-AB16 -> 0 | AC17: -
C18: tbd | D18: x | E18: x | I18: Paire 2 | U18: Paire 2
I19: N | L19: =MAX(J19:K19) -> 0 | N19: =L19*M19 -> 0 | P19: =L19*M19*O19 -> 0 | Q19: =IF(AND(O19>3,N19>10),"r",IF(O19>3,"v",IF(N19>15,IF(O19=3,"r","o"),IF(N19>10,"j",IF(O19>2,"j",IF(AND(O19=2,N19>5),"j","b")))))) -> b | T19: 43815 | U19: N | X19: =MAX(V19:W19) -> 0 | Z19: =X19*Y19 -> 0 | AB19: =X19*Y19*AA19 -> 0 | AC19: =IF(AND(AA19>3,Z19>10),"r",IF(AA19>3,"v",IF(Z19>15,IF(AA19=3,"r","o"),IF(Z19>10,"j",IF(AA19>2,"j",IF(AND(AA19=2,Z19>5),"j","b")))))) -> b
C20: Registre des risques | G20: Freeze en cours | I20: N-1 | L20: =MAX(J20:K20) -> 0 | N20: =L20*M20 -> 0 | P20: =L20*M20*O20 -> 0 | Q20: =IF(AND(O20>3,N20>10),"r",IF(O20>3,"v",IF(N20>15,IF(O20=3,"r","o"),IF(N20>10,"j",IF(O20>2,"j",IF(AND(O20=2,N20>5),"j","b")))))) -> b | S20: Freeze en cours | T20: 43585 | U20: N-1 | X20: =MAX(V20:W20) -> 0 | Z20: =X20*Y20 -> 0 | AB20: =X20*Y20*AA20 -> 0 | AC20: =IF(AND(AA20>3,Z20>10),"r",IF(AA20>3,"v",IF(Z20>15,IF(AA20=3,"r","o"),IF(Z20>10,"j",IF(AA20>2,"j",IF(AND(AA20=2,Z20>5),"j","b")))))) -> b
C21: Paire1 | D21: Paire2 | E21: Paire3 | I21: Evolution depuis N-1 | J21: - | K21: - | L21: =L19-L20 -> 0 | M21: =M19-M20 -> 0 | N21: =N19-N20 -> 0 | O21: =O19-O20 -> 0 | P21: =P19-P20 -> 0 | Q21: - | U21: Evolution depuis N-1 | V21: - | W21: - | X21: =X19-X20 -> 0 | Y21: =Y19-Y20 -> 0 | Z21: =Z19-Z20 -> 0 | AA21: =AA19-AA20 -> 0 | AB21: =AB19-AB20 -> 0 | AC21: -
C22: x | D22: tbd | E22: naa | I22: Paire 3 | U22: Paire 3
I23: N | L23: =MAX(J23:K23) -> 0 | N23: =L23*M23 -> 0 | P23: =L23*M23*O23 -> 0 | Q23: =IF(AND(O23>3,N23>10),"r",IF(O23>3,"v",IF(N23>15,IF(O23=3,"r","o"),IF(N23>10,"j",IF(O23>2,"j",IF(AND(O23=2,N23>5),"j","b")))))) -> b | T23: 43815 | U23: N | X23: =MAX(V23:W23) -> 0 | Z23: =X23*Y23 -> 0 | AB23: =X23*Y23*AA23 -> 0 | AC23: =IF(AND(AA23>3,Z23>10),"r",IF(AA23>3,"v",IF(Z23>15,IF(AA23=3,"r","o"),IF(Z23>10,"j",IF(AA23>2,"j",IF(AND(AA23=2,Z23>5),"j","b")))))) -> b
G24: Freeze en cours | I24: N-1 | L24: =MAX(J24:K24) -> 0 | N24: =L24*M24 -> 0 | P24: =L24*M24*O24 -> 0 | Q24: =IF(AND(O24>3,N24>10),"r",IF(O24>3,"v",IF(N24>15,IF(O24=3,"r","o"),IF(N24>10,"j",IF(O24>2,"j",IF(AND(O24=2,N24>5),"j","b")))))) -> b | S24: Freeze en cours | T24: 43585 | U24: N-1 | X24: =MAX(V24:W24) -> 0 | Z24: =X24*Y24 -> 0 | AB24: =X24*Y24*AA24 -> 0 | AC24: =IF(AND(AA24>3,Z24>10),"r",IF(AA24>3,"v",IF(Z24>15,IF(AA24=3,"r","o"),IF(Z24>10,"j",IF(AA24>2,"j",IF(AND(AA24=2,Z24>5),"j","b")))))) -> b
I25: Evolution depuis N-1 | J25: - | K25: - | L25: =L23-L24 -> 0 | M25: =M23-M24 -> 0 | N25: =N23-N24 -> 0 | O25: =O23-O24 -> 0 | P25: =P23-P24 -> 0 | Q25: - | U25: Evolution depuis N-1 | V25: - | W25: - | X25: =X23-X24 -> 0 | Y25: =Y23-Y24 -> 0 | Z25: =Z23-Z24 -> 0 | AA25: =AA23-AA24 -> 0 | AB25: =AB23-AB24 -> 0 | AC25: -
A27: Cause
B28: Description
B29: WBS
B30: (Entité)
D31: dév | E31: réal T1 | F31: réal T2 | G31: Paire2 | H31: Paire3
A32: Conséquence
B33: Description
C36: Evaluation initiale ou à date
B37: WBS impacté
B38: (Entité)
B39: Tâche impactée
B41: Impact (M€)
B42: Min
B43: Probable
B44: Max
...

Sheet FDR2
E1: Période d'occurrence | I1: Tendance globale risque | AE1: b | AG1: risque non significatif
B2: dernière mise à jour | C2: statut courant | D2: créé le | E2: jalon début | F2: jalon fin | H2: N/N-1 (passée) | I2: -1 | AE2: j | AG2: risque à surveiller
H3: N+1/N (future) | I3: 0 | AE3: v | AG3: risque à mettre sous contrôle
AE4: o | AG4: risque important
A5: Titre | B5: Titre FDR2 | G5: Evaluation | H5: Avant plan d'action | J5: Gravité | S5: Evaluation | T5: Après plan d'action | V5: Gravité | AE5: r | AG5: risque majeur
B6: N° | C6: FDR2 | I6: Dév | J6: Impact (coût) | K6: Impact (mois) | L6: Niveau retenu | M6: Proba | N6: G*P | O6: Contrôle | P6: Criticité G*P*C | Q6: Zone Carto | U6: Dév | V6: Impact (coût) | W6: Impact (mois) | X6: Niveau retenu | Y6: Proba | Z6: G*P | AA6: Contrôle | AB6: Criticité G*P*C | AC6: Zone Carto | AF6: màj : | AG6: 43781
B7: Pilote | C7: Hugo | I7: N | J7: 2 | K7: 2 | L7: =MAX(J7:K7) -> 2 | M7: 3 | N7: =L7*M7 -> 6 | O7: 8 | P7: =L7*M7*O7 -> 48 | Q7: =IF(AND(O7>3,N7>10),"r",IF(O7>3,"v",IF(N7>15,IF(O7=3,"r","o"),IF(N7>10,"j",IF(O7>2,"j",IF(AND(O7=2,N7>5),"j","b")))))) -> v | T7: 43815 | U7: N | X7: =MAX(V7:W7) -> 0 | Z7: =X7*Y7 -> 0 | AB7: =X7*Y7*AA7 -> 0 | AC7: =IF(AND(AA7>3,Z7>10),"r",IF(AA7>3,"v",IF(Z7>15,IF(AA7=3,"r","o"),IF(Z7>10,"j",IF(AA7>2,"j",IF(AND(AA7=2,Z7>5),"j","b")))))) -> b | AE7: G*P
B8: Filiation | C8: pôle/WP | D8: n° | G8: Freeze en cours | I8: N-1 | J8: 2 | K8: 2 | L8: =MAX(J8:K8) -> 2 | N8: =L8*M8 -> 0 | P8: =L8*M8*O8 -> 0 | Q8: =IF(AND(O8>3,N8>10),"r",IF(O8>3,"v",IF(N8>15,IF(O8=3,"r","o"),IF(N8>10,"j",IF(O8>2,"j",IF(AND(O8=2,N8>5),"j","b")))))) -> b | S8: Freeze en cours | T8: 43585 | U8: N-1 | X8: =MAX(V8:W8) -> 0 | Z8: =X8*Y8 -> 0 | AB8: =X8*Y8*AA8 -> 0 | AC8: =IF(AND(AA8>3,Z8>10),"r",IF(AA8>3,"v",IF(Z8>15,IF(AA8=3,"r","o"),IF(Z8>10,"j",IF(AA8>2,"j",IF(AND(AA8=2,Z8>5),"j","b")))))) -> b | AE8: 25
B9: Père | I9: Evolution depuis N-1 | J9: - | K9: - | L9: =L7-L8 -> 0 | M9: =M7-M8 -> 3 | N9: =N7-N8 -> 6 | O9: =O7-O8 -> 8 | P9: =P7-P8 -> 48 | Q9: - | U9: Evolution depuis N-1 | V9: - | W9: - | X9: =X7-X8 -> 0 | Y9: =Y7-Y8 -> 0 | Z9: =Z7-Z8 -> 0 | AA9: =AA7-AA8 -> 0 | AB9: =AB7-AB8 -> 0 | AC9: - | AE9: 20
B10: Fils | I10: Réal T1 | U10: Réal T1 | AE10: 15
B11: Petit-fils | I11: N | L11: =MAX(J11:K11) -> 0 | N11: =L11*M11 -> 0 | P11: =L11*M11*O11 -> 0 | Q11: =IF(AND(O11>3,N11>10),"r",IF(O11>3,"v",IF(N11>15,IF(O11=3,"r","o"),IF(N11>10,"j",IF(O11>2,"j",IF(AND(O11=2,N11>5),"j","b")))))) -> b | T11: 43815 | U11: N | X11: =MAX(V11:W11) -> 0 | Z11: =X11*Y11 -> 0 | AB11: =X11*Y11*AA11 -> 0 | AC11: =IF(AND(AA11>3,Z11>10),"r",IF(AA11>3,"v",IF(Z11>15,IF(AA11=3,"r","o"),IF(Z11>10,"j",IF(AA11>2,"j",IF(AND(AA11=2,Z11>5),"j","b")))))) -> b | AE11: 10
B12: cf risque prioritaire? | C12: tbd | G12: Freeze en cours | I12: N-1 | L12: =MAX(J12:K12) -> 0 | N12: =L12*M12 -> 0 | P12: =L12*M12*O12 -> 0 | Q12: =IF(AND(O12>3,N12>10),"r",IF(O12>3,"v",IF(N12>15,IF(O12=3,"r","o"),IF(N12>10,"j",IF(O12>2,"j",IF(AND(O12=2,N12>5),"j","b")))))) -> b | S12: Freeze en cours | T12: 43585 | U12: N-1 | X12: =MAX(V12:W12) -> 0 | Z12: =X12*Y12 -> 0 | AB12: =X12*Y12*AA12 -> 0 | AC12: =IF(AND(AA12>3,Z12>10),"r",IF(AA12>3,"v",IF(Z12>15,IF(AA12=3,"r","o"),IF(Z12>10,"j",IF(AA12>2,"j",IF(AND(AA12=2,Z12>5),"j","b")))))) -> b | AE12: 5
I13: Evolution depuis N-1 | J13: - | K13: - | L13: =L11-L12 -> 0 | M13: =M11-M12 -> 0 | N13: =N11-N12 -> 0 | O13: =O11-O12 -> 0 | P13: =P11-P12 -> 0 | Q13: - | U13: Evolution depuis N-1 | V13: - | W13: - | X13: =X11-X12 -> 0 | Y13: =Y11-Y12 -> 0 | Z13: =Z11-Z12 -> 0 | AA13: =AA11-AA12 -> 0 | AB13: =AB11-AB12 -> 0 | AC13: - | AF13: 1 | AG13: 2 | AH13: 3 | AI13: 4 | AJ13: 5 | AK13: C
I14: Réal T2 | U14: Réal T2
I15: N | L15: =MAX(J15:K15) -> 0 | N15: =L15*M15 -> 0 | P15: =L15*M15*O15 -> 0 | Q15: =IF(AND(O15>3,N15>10),"r",IF(O15>3,"v",IF(N15>15,IF(O15=3,"r","o"),IF(N15>10,"j",IF(O15>2,"j",IF(AND(O15=2,N15>5),"j","b")))))) -> b | T15: 43815 | U15: N | X15: =MAX(V15:W15) -> 0 | Z15: =X15*Y15 -> 0 | AB15: =X15*Y15*AA15 -> 0 | AC15: =IF(AND(AA15>3,Z15>10),"r",IF(AA15>3,"v",IF(Z15>15,IF(AA15=3,"r","o"),IF(Z15>10,"j",IF(AA15>2,"j",IF(AND(AA15=2,Z15>5),"j","b")))))) -> b
C16: Registre des risques | G16: Freeze en cours | I16: N-1 | L16: =MAX(J16:K16) -> 0 | N16: =L16*M16 -> 0 | P16: =L16*M16*O16 -> 0 | Q16: =IF(AND(O16>3,N16>10),"r",IF(O16>3,"v",IF(N16>15,IF(O16=3,"r","o"),IF(N16>10,"j",IF(O16>2,"j",IF(AND(O16=2,N16>5),"j","b")))))) -> b | S16: Freeze en cours | T16: 43585 | U16: N-1 | X16: =MAX(V16:W16) -> 0 | Z16: =X16*Y16 -> 0 | AB16: =X16*Y16*AA16 -> 0 | AC16: =IF(AND(AA16>3,Z16>10),"r",IF(AA16>3,"v",IF(Z16>15,IF(AA16=3,"r","o"),IF(Z16>10,"j",IF(AA16>2,"j",IF(AND(AA16=2,Z16>5),"j","b")))))) -> b
C17: Dév | D17: Tranche1 | E17: Tranche2 | I17: Evolution depuis N-1 | J17: - | K17: - | L17: =L15-L16 -> 0 | M17: =M15-M16 -> 0 | N17: =N15-N16 -> 0 | O17: =O15-O16 -> 0 | P17: =P15-P16 -> 0 | Q17: - | U17: Evolution depuis N-1 | V17: - | W17: - | X17: =X15-X16 -> 0 | Y17: =Y15-Y16 -> 0 | Z17: =Z15-Z16 -> 0 | AA17: =AA15-AA16 -> 0 | AB17: =AB15-AB16 -> 0 | AC17: -
C18: tbd | D18: x | E18: x | I18: Paire 2 | U18: Paire 2
I19: N | L19: =MAX(J19:K19) -> 0 | N19: =L19*M19 -> 0 | P19: =L19*M19*O19 -> 0 | Q19: =IF(AND(O19>3,N19>10),"r",IF(O19>3,"v",IF(N19>15,IF(O19=3,"r","o"),IF(N19>10,"j",IF(O19>2,"j",IF(AND(O19=2,N19>5),"j","b")))))) -> b | T19: 43815 | U19: N | X19: =MAX(V19:W19) -> 0 | Z19: =X19*Y19 -> 0 | AB19: =X19*Y19*AA19 -> 0 | AC19: =IF(AND(AA19>3,Z19>10),"r",IF(AA19>3,"v",IF(Z19>15,IF(AA19=3,"r","o"),IF(Z19>10,"j",IF(AA19>2,"j",IF(AND(AA19=2,Z19>5),"j","b")))))) -> b
C20: Registre des risques | G20: Freeze en cours | I20: N-1 | L20: =MAX(J20:K20) -> 0 | N20: =L20*M20 -> 0 | P20: =L20*M20*O20 -> 0 | Q20: =IF(AND(O20>3,N20>10),"r",IF(O20>3,"v",IF(N20>15,IF(O20=3,"r","o"),IF(N20>10,"j",IF(O20>2,"j",IF(AND(O20=2,N20>5),"j","b")))))) -> b | S20: Freeze en cours | T20: 43585 | U20: N-1 | X20: =MAX(V20:W20) -> 0 | Z20: =X20*Y20 -> 0 | AB20: =X20*Y20*AA20 -> 0 | AC20: =IF(AND(AA20>3,Z20>10),"r",IF(AA20>3,"v",IF(Z20>15,IF(AA20=3,"r","o"),IF(Z20>10,"j",IF(AA20>2,"j",IF(AND(AA20=2,Z20>5),"j","b")))))) -> b
C21: Paire1 | D21: Paire2 | E21: Paire3 | I21: Evolution depuis N-1 | J21: - | K21: - | L21: =L19-L20 -> 0 | M21: =M19-M20 -> 0 | N21: =N19-N20 -> 0 | O21: =O19-O20 -> 0 | P21: =P19-P20 -> 0 | Q21: - | U21: Evolution depuis N-1 | V21: - | W21: - | X21: =X19-X20 -> 0 | Y21: =Y19-Y20 -> 0 | Z21: =Z19-Z20 -> 0 | AA21: =AA19-AA20 -> 0 | AB21: =AB19-AB20 -> 0 | AC21: -
C22: x | D22: tbd | E22: naa | I22: Paire 3 | U22: Paire 3
I23: N | L23: =MAX(J23:K23) -> 0 | N23: =L23*M23 -> 0 | P23: =L23*M23*O23 -> 0 | Q23: =IF(AND(O23>3,N23>10),"r",IF(O23>3,"v",IF(N23>15,IF(O23=3,"r","o"),IF(N23>10,"j",IF(O23>2,"j",IF(AND(O23=2,N23>5),"j","b")))))) -> b | T23: 43815 | U23: N | X23: =MAX(V23:W23) -> 0 | Z23: =X23*Y23 -> 0 | AB23: =X23*Y23*AA23 -> 0 | AC23: =IF(AND(AA23>3,Z23>10),"r",IF(AA23>3,"v",IF(Z23>15,IF(AA23=3,"r","o"),IF(Z23>10,"j",IF(AA23>2,"j",IF(AND(AA23=2,Z23>5),"j","b")))))) -> b
G24: Freeze en cours | I24: N-1 | L24: =MAX(J24:K24) -> 0 | N24: =L24*M24 -> 0 | P24: =L24*M24*O24 -> 0 | Q24: =IF(AND(O24>3,N24>10),"r",IF(O24>3,"v",IF(N24>15,IF(O24=3,"r","o"),IF(N24>10,"j",IF(O24>2,"j",IF(AND(O24=2,N24>5),"j","b")))))) -> b | S24: Freeze en cours | T24: 43585 | U24: N-1 | X24: =MAX(V24:W24) -> 0 | Z24: =X24*Y24 -> 0 | AB24: =X24*Y24*AA24 -> 0 | AC24: =IF(AND(AA24>3,Z24>10),"r",IF(AA24>3,"v",IF(Z24>15,IF(AA24=3,"r","o"),IF(Z24>10,"j",IF(AA24>2,"j",IF(AND(AA24=2,Z24>5),"j","b")))))) -> b
I25: Evolution depuis N-1 | J25: - | K25: - | L25: =L23-L24 -> 0 | M25: =M23-M24 -> 0 | N25: =N23-N24 -> 0 | O25: =O23-O24 -> 0 | P25: =P23-P24 -> 0 | Q25: - | U25: Evolution depuis N-1 | V25: - | W25: - | X25: =X23-X24 -> 0 | Y25: =Y23-Y24 -> 0 | Z25: =Z23-Z24 -> 0 | AA25: =AA23-AA24 -> 0 | AB25: =AB23-AB24 -> 0 | AC25: -
A27: Cause
B28: Description
B29: WBS
B30: (Entité)
D31: dév | E31: réal T1 | F31: réal T2 | G31: Paire2 | H31: Paire3
A32: Conséquence
B33: Description
C36: Evaluation initiale ou à date
B37: WBS impacté
B38: (Entité)
B39: Tâche impactée
B41: Impact (M€)
B42: Min
B43: Probable
B44: Max
...
