Workbook

Sheet Feuil1
B1: Entité commerciale | K1: Numéro du DC | M1: DH Origine Mission (réel)
B2: COMBI COMMERCIAL | M2: 42668.646 | N2: =DATE(YEAR(M2),MONTH(M2),DAY(M2)) -> 42668
B3: COMBI COMMERCIAL | M3: 42668.676 | N3: =DATE(YEAR(M3),MONTH(M3),DAY(M3)) -> 42668
B4: COMBI COMMERCIAL | M4: 42669.312 | N4: =DATE(YEAR(M4),MONTH(M4),DAY(M4)) -> 42669
B5: COMBI COMMERCIAL | K5: 5364736 | M5: 42666.188 | N5: =DATE(YEAR(M5),MONTH(M5),DAY(M5)) -> 42666
B6: COMBI COMMERCIAL | K6: 5364736 | M6: 42667.271 | N6: =DATE(YEAR(M6),MONTH(M6),DAY(M6)) -> 42667
B7: COMBI COMMERCIAL | K7: 5364736 | M7: 42668.215 | N7: =DATE(YEAR(M7),MONTH(M7),DAY(M7)) -> 42668
B8: COMBI COMMERCIAL | K8: 5364736 | M8: 42668.215 | N8: =DATE(YEAR(M8),MONTH(M8),DAY(M8)) -> 42668
B9: COMBI COMMERCIAL | K9: 5364736 | M9: 42668.215 | N9: =DATE(YEAR(M9),MONTH(M9),DAY(M9)) -> 42668
B10: COMBI COMMERCIAL | K10: 5364736 | M10: 42668.215 | N10: =DATE(YEAR(M10),MONTH(M10),DAY(M10)) -> 42668
B11: COMBI COMMERCIAL | M11: 42668.012 | N11: =DATE(YEAR(M11),MONTH(M11),DAY(M11)) -> 42668
B12: COMBI COMMERCIAL | M12: 42668.012 | N12: =DATE(YEAR(M12),MONTH(M12),DAY(M12)) -> 42668
B13: COMBI COMMERCIAL | M13: 42669.271 | N13: =DATE(YEAR(M13),MONTH(M13),DAY(M13)) -> 42669
B14: COMBI COMMERCIAL | M14: 42669.012 | N14: =DATE(YEAR(M14),MONTH(M14),DAY(M14)) -> 42669
B15: COMBI COMMERCIAL | M15: 42669.012 | N15: =DATE(YEAR(M15),MONTH(M15),DAY(M15)) -> 42669
B16: COMBI COMMERCIAL | M16: 42669.215 | N16: =DATE(YEAR(M16),MONTH(M16),DAY(M16)) -> 42669
B17: COMBI COMMERCIAL | M17: 42669.215 | N17: =DATE(YEAR(M17),MONTH(M17),DAY(M17)) -> 42669
B18: COMBI COMMERCIAL | M18: 42669.215 | N18: =DATE(YEAR(M18),MONTH(M18),DAY(M18)) -> 42669
B19: COMBI COMMERCIAL | M19: 42669.215 | N19: =DATE(YEAR(M19),MONTH(M19),DAY(M19)) -> 42669
B20: COMBI COMMERCIAL | M20: 42670.271 | N20: =DATE(YEAR(M20),MONTH(M20),DAY(M20)) -> 42670
B21: COMBI COMMERCIAL | M21: 42668.631 | N21: =DATE(YEAR(M21),MONTH(M21),DAY(M21)) -> 42668
B22: COMBI COMMERCIAL | M22: 42668.631 | N22: =DATE(YEAR(M22),MONTH(M22),DAY(M22)) -> 42668
... B104: COMBI COMMERCIAL | M104: 42669.417 | N104: =DATE(YEAR(M104),MONTH(M104),DAY(M104)) -> 42669
B105: COMBI COMMERCIAL | K105: 5364763 | M105: 42666.408 | N105: =DATE(YEAR(M105),MONTH(M105),DAY(M105)) -> 42666
B106: COMBI COMMERCIAL | K106: 5364763 | M106: 42666.408 | N106: =DATE(YEAR(M106),MONTH(M106),DAY(M106)) -> 42666
B107: COMBI COMMERCIAL | K107: 5364763 | M107: 42666.408 | N107: =DATE(YEAR(M107),MONTH(M107),DAY(M107)) -> 42666
B108: COMBI COMMERCIAL | K108: 5364763 | M108: 42666.408 | N108: =DATE(YEAR(M108),MONTH(M108),DAY(M108)) -> 42666
B109: COMBI COMMERCIAL | K109: 5364763 | M109: 42668.047 | N109: =DATE(YEAR(M109),MONTH(M109),DAY(M109)) -> 42668
B110: COMBI COMMERCIAL | K110: 5364763 | M110: 42668.047 | N110: =DATE(YEAR(M110),MONTH(M110),DAY(M110)) -> 42668
B111: COMBI COMMERCIAL | M111: 42668.201 | N111: =DATE(YEAR(M111),MONTH(M111),DAY(M111)) -> 42668
B112: COMBI COMMERCIAL | M112: 42668.201 | N112: =DATE(YEAR(M112),MONTH(M112),DAY(M112)) -> 42668
B113: COMBI COMMERCIAL | M113: 42668.201 | N113: =DATE(YEAR(M113),MONTH(M113),DAY(M113)) -> 42668
B114: COMBI COMMERCIAL | M114: 42668.201 | N114: =DATE(YEAR(M114),MONTH(M114),DAY(M114)) -> 42668
B115: COMBI COMMERCIAL | M115: 42668.201 | N115: =DATE(YEAR(M115),MONTH(M115),DAY(M115)) -> 42668
B116: COMBI COMMERCIAL | M116: 42669.047 | N116: =DATE(YEAR(M116),MONTH(M116),DAY(M116)) -> 42669
B117: COMBI COMMERCIAL | M117: 42669.047 | N117: =DATE(YEAR(M117),MONTH(M117),DAY(M117)) -> 42669
B118: COMBI COMMERCIAL | K118: 5364759 | M118: 42665.771 | N118: =DATE(YEAR(M118),MONTH(M118),DAY(M118)) -> 42665
B119: COMBI COMMERCIAL | K119: 5364759 | M119: 42666.408 | N119: =DATE(YEAR(M119),MONTH(M119),DAY(M119)) -> 42666
B120: COMBI COMMERCIAL | K120: 5364759 | M120: 42666.408 | N120: =DATE(YEAR(M120),MONTH(M120),DAY(M120)) -> 42666
B121: COMBI COMMERCIAL | K121: 5364759 | M121: 42666.408 | N121: =DATE(YEAR(M121),MONTH(M121),DAY(M121)) -> 42666
B122: COMBI COMMERCIAL | K122: 5364759 | M122: 42668.047 | N122: =DATE(YEAR(M122),MONTH(M122),DAY(M122)) -> 42668
B123: COMBI COMMERCIAL | K123: 5364759 | M123: 42668.047 | N123: =DATE(YEAR(M123),MONTH(M123),DAY(M123)) -> 42668
B124: COMBI COMMERCIAL | M124: 42667.771 | N124: =DATE(YEAR(M124),MONTH(M124),DAY(M124)) -> 42667
B125: COMBI COMMERCIAL | M125: 42668.201 | N125: =DATE(YEAR(M125),MONTH(M125),DAY(M125)) -> 42668
B126: COMBI COMMERCIAL | M126: 42668.201 | N126: =DATE(YEAR(M126),MONTH(M126),DAY(M126)) -> 42668
B127: COMBI COMMERCIAL | M127: 42668.201 | N127: =DATE(YEAR(M127),MONTH(M127),DAY(M127)) -> 42668
B128: COMBI COMMERCIAL | M128: 42668.201 | N128: =DATE(YEAR(M128),MONTH(M128),DAY(M128)) -> 42668
B129: COMBI COMMERCIAL | M129: 42669.047 | N129: =DATE(YEAR(M129),MONTH(M129),DAY(M129)) -> 42669
B130: COMBI COMMERCIAL | M130: 42669.047 | N130: =DATE(YEAR(M130),MONTH(M130),DAY(M130)) -> 42669
B131: COMBI COMMERCIAL | M131: 42668.771 | N131: =DATE(YEAR(M131),MONTH(M131),DAY(M131)) -> 42668
B132: COMBI COMMERCIAL | M132: 42669.201 | N132: =DATE(YEAR(M132),MONTH(M132),DAY(M132)) -> 42669
B133: COMBI COMMERCIAL | M133: 42669.201 | N133: =DATE(YEAR(M133),MONTH(M133),DAY(M133)) -> 42669
B134: COMBI COMMERCIAL | M134: 42669.201 | N134: =DATE(YEAR(M134),MONTH(M134),DAY(M134)) -> 42669
B135: COMBI COMMERCIAL | M135: 42669.201 | N135: =DATE(YEAR(M135),MONTH(M135),DAY(M135)) -> 42669
... B155: COMBI COMMERCIAL | M155: 42668.958 | N155: =DATE(YEAR(M155),MONTH(M155),DAY(M155)) -> 42668
B156: COMBI COMMERCIAL | K156: 5355368 | M156: 42665.583 | N156: =DATE(YEAR(M156),MONTH(M156),DAY(M156)) -> 42665
B157: COMBI COMMERCIAL | K157: 5364535 | M157: 42665.583 | N157: =DATE(YEAR(M157),MONTH(M157),DAY(M157)) -> 42665
B158: COMBI COMMERCIAL | K158: 5355368 | M158: 42667.509 | N158: =DATE(YEAR(M158),MONTH(M158),DAY(M158)) -> 42667
B159: COMBI COMMERCIAL | K159: 5364535 | M159: 42667.509 | N159: =DATE(YEAR(M159),MONTH(M159),DAY(M159)) -> 42667
B160: COMBI COMMERCIAL | M160: 42668.792 | N160: =DATE(YEAR(M160),MONTH(M160),DAY(M160)) -> 42668
B161: COMBI COMMERCIAL | M161: 42668.852 | N161: =DATE(YEAR(M161),MONTH(M161),DAY(M161)) -> 42668
B162: COMBI COMMERCIAL | M162: 42668.852 | N162: =DATE(YEAR(M162),MONTH(M162),DAY(M162)) -> 42668
B163: COMBI COMMERCIAL | M163: 42669.26 | N163: =DATE(YEAR(M163),MONTH(M163),DAY(M163)) -> 42669
B164: COMBI COMMERCIAL | M164: 42667.792 | N164: =DATE(YEAR(M164),MONTH(M164),DAY(M164)) -> 42667
B165: COMBI COMMERCIAL | M165: 42667.852 | N165: =DATE(YEAR(M165),MONTH(M165),DAY(M165)) -> 42667
B166: COMBI COMMERCIAL | M166: 42667.852 | N166: =DATE(YEAR(M166),MONTH(M166),DAY(M166)) -> 42667
B167: COMBI COMMERCIAL | M167: 42668.26 | N167: =DATE(YEAR(M167),MONTH(M167),DAY(M167)) -> 42668
B168: COMBI COMMERCIAL | M168: 42668.812 | N168: =DATE(YEAR(M168),MONTH(M168),DAY(M168)) -> 42668
B169: COMBI COMMERCIAL | M169: 42668.937 | N169: =DATE(YEAR(M169),MONTH(M169),DAY(M169)) -> 42668
B170: COMBI COMMERCIAL | M170: 42668.937 | N170: =DATE(YEAR(M170),MONTH(M170),DAY(M170)) -> 42668
B171: COMBI COMMERCIAL | M171: 42669.331 | N171: =DATE(YEAR(M171),MONTH(M171),DAY(M171)) -> 42669
... B310: COMBI COMMERCIAL | M310: 42671.331 | N310: =DATE(YEAR(M310),MONTH(M310),DAY(M310)) -> 42671
B311: MLMC COMMERCIAL | K311: 5359837 | M311: 42668.789 | N311: =DATE(YEAR(M311),MONTH(M311),DAY(M311)) -> 42668
B312: MLMC COMMERCIAL | K312: 5360845 | M312: 42668.789 | N312: =DATE(YEAR(M312),MONTH(M312),DAY(M312)) -> 42668
B313: COMBI COMMERCIAL | M313: 42668.75 | N313: =DATE(YEAR(M313),MONTH(M313),DAY(M313)) -> 42668
B314: COMBI COMMERCIAL | M314: 42668.979 | N314: =DATE(YEAR(M314),MONTH(M314),DAY(M314)) -> 42668
B315: COMBI COMMERCIAL | M315: 42669.073 | N315: =DATE(YEAR(M315),MONTH(M315),DAY(M315)) -> 42669
B316: COMBI COMMERCIAL | M316: 42669.073 | N316: =DATE(YEAR(M316),MONTH(M316),DAY(M316)) -> 42669
B317: COMBI COMMERCIAL | M317: 42669.073 | N317: =DATE(YEAR(M317),MONTH(M317),DAY(M317)) -> 42669
B318: COMBI COMMERCIAL | M318: 42668.75 | N318: =DATE(YEAR(M318),MONTH(M318),DAY(M318)) -> 42668
B319: COMBI COMMERCIAL | M319: 42668.979 | N319: =DATE(YEAR(M319),MONTH(M319),DAY(M319)) -> 42668
B320: COMBI COMMERCIAL | M320: 42669.073 | N320: =DATE(YEAR(M320),MONTH(M320),DAY(M320)) -> 42669
B321: COMBI COMMERCIAL | M321: 42669.073 | N321: =DATE(YEAR(M321),MONTH(M321),DAY(M321)) -> 42669
B322: COMBI COMMERCIAL | M322: 42669.073 | N322: =DATE(YEAR(M322),MONTH(M322),DAY(M322)) -> 42669
B323: COMBI COMMERCIAL | M323: 42668.521 | N323: =DATE(YEAR(M323),MONTH(M323),DAY(M323)) -> 42668
B324: COMBI COMMERCIAL | M324: 42668.575 | N324: =DATE(YEAR(M324),MONTH(M324),DAY(M324)) -> 42668
... B329: COMBI COMMERCIAL | M329: 42670.323 | N329: =DATE(YEAR(M329),MONTH(M329),DAY(M329)) -> 42670
B330: COMBI COMMERCIAL | K330: 5364737 | M330: 42666.188 | N330: =DATE(YEAR(M330),MONTH(M330),DAY(M330)) -> 42666
B331: COMBI COMMERCIAL | K331: 5364737 | M331: 42668.208 | N331: =DATE(YEAR(M331),MONTH(M331),DAY(M331)) -> 42668
B332: COMBI COMMERCIAL | K332: 5364737 | M332: 42668.208 | N332: =DATE(YEAR(M332),MONTH(M332),DAY(M332)) -> 42668
B333: COMBI COMMERCIAL | K333: 5364737 | M333: 42668.208 | N333: =DATE(YEAR(M333),MONTH(M333),DAY(M333)) -> 42668
B334: COMBI COMMERCIAL | K334: 5364737 | M334: 42668.208 | N334: =DATE(YEAR(M334),MONTH(M334),DAY(M334)) -> 42668
B335: COMBI COMMERCIAL | K335: 5364737 | M335: 42668.215 | N335: =DATE(YEAR(M335),MONTH(M335),DAY(M335)) -> 42668
B336: COMBI COMMERCIAL | K336: 5364737 | M336: 42668.215 | N336: =DATE(YEAR(M336),MONTH(M336),DAY(M336)) -> 42668
B337: COMBI COMMERCIAL | K337: 5364737 | M337: 42668.215 | N337: =DATE(YEAR(M337),MONTH(M337),DAY(M337)) -> 42668
B338: COMBI COMMERCIAL | K338: 5364737 | M338: 42668.215 | N338: =DATE(YEAR(M338),MONTH(M338),DAY(M338)) -> 42668
B339: COMBI COMMERCIAL | M339: 42668.012 | N339: =DATE(YEAR(M339),MONTH(M339),DAY(M339)) -> 42668
B340: COMBI COMMERCIAL | M340: 42668.012 | N340: =DATE(YEAR(M340),MONTH(M340),DAY(M340)) -> 42668
B341: COMBI COMMERCIAL | K341: 5364861 | M341: 42667.99 | N341: =DATE(YEAR(M341),MONTH(M341),DAY(M341)) -> 42667
B342: COMBI COMMERCIAL | M342: 42667.99 | N342: =DATE(YEAR(M342),MONTH(M342),DAY(M342)) -> 42667
...

Sheet Feuil2
C10: 42644 | D10: =C10+1 -> 42645 | E10: =D10+1 -> 42646 | F10: =E10+1 -> 42647 | G10: =F10+1 -> 42648 | H10: =G10+1 -> 42649 | I10: =H10+1 -> 42650 | J10: =I10+1 -> 42651 | K10: =J10+1 -> 42652 | ... Z10: =Y10+1 -> 42667 | AA10: 42668 | AB10: =AA10+1 -> 42669 | AC10: =AB10+1 -> 42670 | AD10: =AC10+1 -> 42671 | AE10: =AD10+1 -> 42672 | AF10: =AE10+1 -> 42673 | AG10: =AF10+1 -> 42674
A11: AutoChem | B11: AC commercial | N11: {=SUM(1*(Feuil1!$N$2:$N$1314=N$10)*(Feuil1!$B$2:$B$1314=$B$11))} -> 0 | O11: {=SUM(1*(Feuil1!$N$2:$N$1314=O$10)*(Feuil1!$B$2:$B$1314=$B$11))} -> 0 | P11: {=SUM(1*(Feuil1!$N$2:$N$1314=P$10)*(Feuil1!$B$2:$B$1314=$B$11))} -> 0 | Q11: {=SUM(1*(Feuil1!$N$2:$N$1314=Q$10)*(Feuil1!$B$2:$B$1314=$B$11))} -> 0 | R11: {=SUM(1*(Feuil1!$N$2:$N$1314=R$10)*(Feuil1!$B$2:$B$1314=$B$11))} -> 0 | S11: {=SUM(1*(Feuil1!$N$2:$N$1314=S$10)*(Feuil1!$B$2:$B$1314=$B$11))} -> 0 | T11: {=SUM(1*(Feuil1!$N$2:$N$1314=T$10)*(Feuil1!$B$2:$B$1314=$B$11))} -> 0 | U11: {=SUM(1*(Feuil1!$N$2:$N$1314=U$10)*(Feuil1!$B$2:$B$1314=$B$11))} -> 1 | ... AA11: {=SUM(1*(Feuil1!$N$2:$N$1314=AA$10)*(Feuil1!$B$2:$B$1314=$B$11))} -> 46
B12: Auto PGC
B13: DFCA DIR CONRATS
B14: SR commercial
C19: total semaine | G19: total mois
C20: s1 | D20: s2 | E20: s3 | F20: s4
A21: AutoChem | B21: AC commercial
B22: Auto PGC
B23: DFCA DIR CONRATS
B24: SR commercial

Sheet Feuil3
