Workbook

Sheet Feuil1
B1: Entité commerciale | K1: Numéro du DC | M1: DH Origine Mission (réel)
B2: COMBI COMMERCIAL | M2: 42668.646 | N2: =DATE(YEAR(M2),MONTH(M2),DAY(M2)) -> 42668
B3: COMBI COMMERCIAL | M3: 42668.676 | N3: =DATE(YEAR(M3),MONTH(M3),DAY(M3)) -> 42668
B4: COMBI COMMERCIAL | M4: 42669.312 | N4: =DATE(YEAR(M4),MONTH(M4),DAY(M4)) -> 42669
B5: COMBI COMMERCIAL | K5: 5364736 | M5: 42666.188 | N5: =DATE(YEAR(M5),MONTH(M5),DAY(M5)) -> 42666
B6: COMBI COMMERCIAL | K6: 5364736 | M6: 42667.271 | N6: =DATE(YEAR(M6),MONTH(M6),DAY(M6)) -> 42667
B7: COMBI COMMERCIAL | K7: 5364736 | M7: 42668.215 | N7: =DATE(YEAR(M7),MONTH(M7),DAY(M7)) -> 42668
B8: COMBI COMMERCIAL | K8: 5364736 | M8: 42668.215 | N8: =DATE(YEAR(M8),MONTH(M8),DAY(M8)) -> 42668
B9: COMBI COMMERCIAL | K9: 5364736 | M9: 42668.215 | N9: =DATE(YEAR(M9),MONTH(M9),DAY(M9)) -> 42668
B10: COMBI COMMERCIAL | K10: 5364736 | M10: 42668.215 | N10: =DATE(YEAR(M10),MONTH(M10),DAY(M10)) -> 42668
B11: COMBI COMMERCIAL | M11: 42668.012 | N11: =DATE(YEAR(M11),MONTH(M11),DAY(M11)) -> 42668
B12: COMBI COMMERCIAL | M12: 42668.012 | N12: =DATE(YEAR(M12),MONTH(M12),DAY(M12)) -> 42668
B13: COMBI COMMERCIAL | M13: 42669.271 | N13: =DATE(YEAR(M13),MONTH(M13),DAY(M13)) -> 42669
B14: COMBI COMMERCIAL | M14: 42669.012 | N14: =DATE(YEAR(M14),MONTH(M14),DAY(M14)) -> 42669
B15: COMBI COMMERCIAL | M15: 42669.012 | N15: =DATE(YEAR(M15),MONTH(M15),DAY(M15)) -> 42669
B16: COMBI COMMERCIAL | M16: 42669.215 | N16: =DATE(YEAR(M16),MONTH(M16),DAY(M16)) -> 42669
B17: COMBI COMMERCIAL | M17: 42669.215 | N17: =DATE(YEAR(M17),MONTH(M17),DAY(M17)) -> 42669
B18: COMBI COMMERCIAL | M18: 42669.215 | N18: =DATE(YEAR(M18),MONTH(M18),DAY(M18)) -> 42669
B19: COMBI COMMERCIAL | M19: 42669.215 | N19: =DATE(YEAR(M19),MONTH(M19),DAY(M19)) -> 42669
B20: COMBI COMMERCIAL | M20: 42670.271 | N20: =DATE(YEAR(M20),MONTH(M20),DAY(M20)) -> 42670
B21: COMBI COMMERCIAL | M21: 42668.631 | N21: =DATE(YEAR(M21),MONTH(M21),DAY(M21)) -> 42668
B22: COMBI COMMERCIAL | M22: 42668.631 | N22: =DATE(YEAR(M22),MONTH(M22),DAY(M22)) -> 42668
... B104: COMBI COMMERCIAL | M104: 42669.417 | N104: =DATE(YEAR(M104),MONTH(M104),DAY(M104)) -> 42669
B105: COMBI COMMERCIAL | K105: 5364763 | M105: 42666.408 | N105: =DATE(YEAR(M105),MONTH(M105),DAY(M105)) -> 42666
B106: COMBI COMMERCIAL | K106: 5364763 | M106: 42666.408 | N106: =DATE(YEAR(M106),MONTH(M106),DAY(M106)) -> 42666
B107: COMBI COMMERCIAL | K107: 5364763 | M107: 42666.408 | N107: =DATE(YEAR(M107),MONTH(M107),DAY(M107)) -> 42666
B108: COMBI COMMERCIAL | K108: 5364763 | M108: 42666.408 | N108: =DATE(YEAR(M108),MONTH(M108),DAY(M108)) -> 42666
B109: COMBI COMMERCIAL | K109: 5364763 | M109: 42668.047 | N109: =DATE(YEAR(M109),MONTH(M109),DAY(M109)) -> 42668
B110: COMBI COMMERCIAL | K110: 5364763 | M110: 42668.047 | N110: =DATE(YEAR(M110),MONTH(M110),DAY(M110)) -> 42668
B111: COMBI COMMERCIAL | M111: 42668.201 | N111: =DATE(YEAR(M111),MONTH(M111),DAY(M111)) -> 42668
B112: COMBI COMMERCIAL | M112: 42668.201 | N112: =DATE(YEAR(M112),MONTH(M112),DAY(M112)) -> 42668
B113: COMBI COMMERCIAL | M113: 42668.201 | N113: =DATE(YEAR(M113),MONTH(M113),DAY(M113)) -> 42668
B114: COMBI COMMERCIAL | M114: 42668.201 | N114: =DATE(YEAR(M114),MONTH(M114),DAY(M114)) -> 42668
B115: COMBI COMMERCIAL | M115: 42668.201 | N115: =DATE(YEAR(M115),MONTH(M115),DAY(M115)) -> 42668
B116: COMBI COMMERCIAL | M116: 42669.047 | N116: =DATE(YEAR(M116),MONTH(M116),DAY(M116)) -> 42669
B117: COMBI COMMERCIAL | M117: 42669.047 | N117: =DATE(YEAR(M117),MONTH(M117),DAY(M117)) -> 42669
B118: COMBI COMMERCIAL | K118: 5364759 | M118: 42665.771 | N118: =DATE(YEAR(M118),MONTH(M118),DAY(M118)) -> 42665
B119: COMBI COMMERCIAL | K119: 5364759 | M119: 42666.408 | N119: =DATE(YEAR(M119),MONTH(M119),DAY(M119)) -> 42666
B120: COMBI COMMERCIAL | K120: 5364759 | M120: 42666.408 | N120: =DATE(YEAR(M120),MONTH(M120),DAY(M120)) -> 42666
B121: COMBI COMMERCIAL | K121: 5364759 | M121: 42666.408 | N121: =DATE(YEAR(M121),MONTH(M121),DAY(M121)) -> 42666
...

Sheet Feuil2
C10: 42644 | D10: =C10+1 -> 42645 | E10: =D10+1 -> 42646 | F10: =E10+1 -> 42647 | G10: =F10+1 -> 42648 | H10: =G10+1 -> 42649 | I10: =H10+1 -> 42650 | J10: =I10+1 -> 42651 | K10: =J10+1 -> 42652 | ... Z10: =Y10+1 -> 42667 | AA10: 42668 | AB10: =AA10+1 -> 42669 | AC10: =AB10+1 -> 42670 | AD10: =AC10+1 -> 42671 | AE10: =AD10+1 -> 42672 | AF10: =AE10+1 -> 42673 | AG10: =AF10+1 -> 42674
A11: AutoChem | B11: AC commercial | N11: {=SUM(1*(Feuil1!$N$2:$N$1314=N$10)*(Feuil1!$B$2:$B$1314=$B$11))} -> 0 | O11: {=SUM(1*(Feuil1!$N$2:$N$1314=O$10)*(Feuil1!$B$2:$B$1314=$B$11))} -> 0 | P11: {=SUM(1*(Feuil1!$N$2:$N$1314=P$10)*(Feuil1!$B$2:$B$1314=$B$11))} -> 0 | Q11: {=SUM(1*(Feuil1!$N$2:$N$1314=Q$10)*(Feuil1!$B$2:$B$1314=$B$11))} -> 0 | R11: {=SUM(1*(Feuil1!$N$2:$N$1314=R$10)*(Feuil1!$B$2:$B$1314=$B$11))} -> 0 | S11: {=SUM(1*(Feuil1!$N$2:$N$1314=S$10)*(Feuil1!$B$2:$B$1314=$B$11))} -> 0 | T11: {=SUM(1*(Feuil1!$N$2:$N$1314=T$10)*(Feuil1!$B$2:$B$1314=$B$11))} -> 0 | U11: {=SUM(1*(Feuil1!$N$2:$N$1314=U$10)*(Feuil1!$B$2:$B$1314=$B$11))} -> 1 | ... AA11: {=SUM(1*(Feuil1!$N$2:$N$1314=AA$10)*(Feuil1!$B$2:$B$1314=$B$11))} -> 46
B12: Auto PGC
B13: DFCA DIR CONRATS
B14: SR commercial
C19: total semaine | G19: total mois
C20: s1 | D20: s2 | E20: s3 | F20: s4
A21: AutoChem | B21: AC commercial
B22: Auto PGC
B23: DFCA DIR CONRATS
B24: SR commercial

Sheet Feuil3
