Workbook

Sheet 2EME SEM
B2: CH202 | E2: CH201 | K2: PH201 | Q2: PH202 | W2: BI 202 | AI2: BI 203 | AR2: G290
A3: 2015/2016 | C3: Descartes RC 12 | F3: Descartes RC 14 | I3: Descartes RC 15 | L3: Bat E201 | O3: Bât BUFFON 205 | R3: Bât E 202 | U3: Bât E 203 | X3: Descartes 217 | AA3: Descartes 209 | AD3: Descartes 213 | AG3: BUFFON 423 | AJ3: BUFFON 423 | AM3: Descartes 211 | AP3: Descartes 213 | AS3: BAT E 306 | AV3: BAT E 307 | AX3: Bourgogne | BA3: Aquitaine
B4: TP | C4: =CONCATENATE([1]Feuil1!$C$4,[1]Feuil1!$D$4) -> 8h30/12h30 | D4: =CONCATENATE([1]Feuil1!$E$4,[1]Feuil1!$F$4) -> 12h30/17h30 | E4: TP | F4: 9h-12h | G4: 13h30-16h30 | I4: 9h-12h | J4: 13h30-16h30 | K4: TP | L4: 9h à 12h | M4: 13h30 à 16h30 | N4: TP | O4: 9h à 12h | P4: 13h30 à 16h30 | Q4: TP | R4: 9h à 12h | S4: 13h30 à 16h30 | U4: 9h à 12h | V4: 13h30 à 16h30 | W4: TP | X4: =CONCATENATE([1]Feuil1!AL$4,[1]Feuil1!AM$4) -> 9h00/12h00 | Y4: =CONCATENATE([1]Feuil1!AN$4,[1]Feuil1!AO$4) -> 12h30/16h30 | AA4: 8h30-12h30 | AB4: 13h30-17h30 | AC4: TP | AD4: 8h30-12h30 | AE4: 13H30 - 16H30 | AF4: TP | AG4: 8h30-12h30 | AH4: 13h30-17h30 | AI4: TP | AJ4: 8h30-12h30 | AK4: 13h30-17h30 | AL4: TP | AM4: 8h30-12h30 | AN4: 13h30-17h30 | AO4: TP | AP4: 8h30-12h30 | AQ4: 13h30-17h30 | AR4: TP | AS4: 8h30-12h30 | AT4: 13h30-17h30 | AU4: TP | AV4: 8h30-12h30 | AW4: 13h30-17h30 | AX4: TP | AY4: 8h30-12h30 | AZ4: 13h30-17h30 | BA4: TP | BB4: 8h30-12h30 | BC4: 13h30-17h30
A5: =[1]Feuil1!$A5 -> 42758 | B5: =CONCATENATE([1]Feuil1!$B5) -> TP1 | C5: =CONCATENATE([1]Feuil1!$C5,[1]Feuil1!$D5) | D5: =CONCATENATE([1]Feuil1!$E5,[1]Feuil1!$F5) | E5: =CONCATENATE([1]Feuil1!$G5) | F5: =CONCATENATE([1]Feuil1!H5,[1]Feuil1!I5) | G5: =CONCATENATE([1]Feuil1!$J5,[1]Feuil1!$K5) | I5: =CONCATENATE([1]Feuil1!$M5,[1]Feuil1!$N5) | J5: =CONCATENATE([1]Feuil1!O5,[1]Feuil1!P5) | K5: =CONCATENATE([1]Feuil1!$Q5) | L5: =CONCATENATE([1]Feuil1!R5,[1]Feuil1!S5) | M5: =CONCATENATE([1]Feuil1!$T5,[1]Feuil1!$U5) | N5: =CONCATENATE([1]Feuil1!$V5) | O5: =CONCATENATE([1]Feuil1!W5,[1]Feuil1!X5) | P5: =CONCATENATE([1]Feuil1!$Y5,[1]Feuil1!$Z5) | Q5: =CONCATENATE([1]Feuil1!$AA5) | R5: =CONCATENATE([1]Feuil1!AB5,[1]Feuil1!AC5) | S5: =CONCATENATE([1]Feuil1!$AD5,[1]Feuil1!$AE5) | T5: =CONCATENATE([1]Feuil1!$AF5) | U5: =CONCATENATE([1]Feuil1!AG5,[1]Feuil1!AH5) | V5: =CONCATENATE([1]Feuil1!$AI5,[1]Feuil1!$AJ5) | W5: =CONCATENATE([1]Feuil1!$AK5) -> ANA. CELL. | X5: =CONCATENATE([1]Feuil1!AL5,[1]Feuil1!AM5) -> CB2 I | Y5: =CONCATENATE([1]Feuil1!AN5,[1]Feuil1!AO5) -> CB2 J | Z5: =CONCATENATE([1]Feuil1!$AP5) | AA5: =CONCATENATE([1]Feuil1!AQ5,[1]Feuil1!AR5) -> CB2 K | AB5: =CONCATENATE([1]Feuil1!AS5,[1]Feuil1!AT5) -> CB2 L | AC5: =CONCATENATE([1]Feuil1!$AU5) | AD5: =CONCATENATE([1]Feuil1!AV5,[1]Feuil1!AW5) | AE5: =CONCATENATE([1]Feuil1!AX5,[1]Feuil1!AY5) | AF5: =CONCATENATE([1]Feuil1!$AZ5) | AG5: =CONCATENATE([1]Feuil1!BA5,[1]Feuil1!BB5) | AH5: =CONCATENATE([1]Feuil1!BC5,[1]Feuil1!BD5) | AI5: =CONCATENATE([1]Feuil1!$BE5) | AJ5: =CONCATENATE([1]Feuil1!$BF5,[1]Feuil1!$BG5) | AK5: =CONCATENATE([1]Feuil1!$BH5,[1]Feuil1!$BI5) | AL5: =CONCATENATE([1]Feuil1!$BJ5) | AM5: =CONCATENATE([1]Feuil1!$BK5,[1]Feuil1!$BL5) | AN5: =CONCATENATE([1]Feuil1!$BM5,[1]Feuil1!$BN5) | AO5: =CONCATENATE([1]Feuil1!$BO5) | AP5: =CONCATENATE([1]Feuil1!$BP5,[1]Feuil1!$BQ5) | AQ5: =CONCATENATE([1]Feuil1!$BR5,[1]Feuil1!$BS5) | AR5: =CONCATENATE([1]Feuil1!$BT5) | AS5: =CONCATENATE([1]Feuil1!$BU5,[1]Feuil1!$BV5) | AT5: =CONCATENATE([1]Feuil1!$BW5,[1]Feuil1!$BX5) | AU5: =CONCATENATE([1]Feuil1!$BY5) | AV5: =CONCATENATE([1]Feuil1!$BZ5,[1]Feuil1!$CA5) | AW5: =CONCATENATE([1]Feuil1!$CB5,[1]Feuil1!$CC5)
A6: =[1]Feuil1!$A6 -> 42759 | B6: =CONCATENATE([1]Feuil1!$B6) | C6: =CONCATENATE([1]Feuil1!$C6,[1]Feuil1!$D6) | D6: =CONCATENATE([1]Feuil1!$E6,[1]Feuil1!$F6) | E6: =CONCATENATE([1]Feuil1!$G6) | F6: =CONCATENATE([1]Feuil1!H6,[1]Feuil1!I6) | G6: =CONCATENATE([1]Feuil1!$J6,[1]Feuil1!$K6) | I6: =CONCATENATE([1]Feuil1!$M6,[1]Feuil1!$N6) | J6: =CONCATENATE([1]Feuil1!O6,[1]Feuil1!P6) | K6: =CONCATENATE([1]Feuil1!$Q6) | L6: =CONCATENATE([1]Feuil1!R6,[1]Feuil1!S6) | M6: =CONCATENATE([1]Feuil1!$T6,[1]Feuil1!$U6) | N6: =CONCATENATE([1]Feuil1!$V6) | O6: =CONCATENATE([1]Feuil1!W6,[1]Feuil1!X6) | P6: =CONCATENATE([1]Feuil1!$Y6,[1]Feuil1!$Z6) | Q6: =CONCATENATE([1]Feuil1!$AA6) | R6: =CONCATENATE([1]Feuil1!AB6,[1]Feuil1!AC6) | S6: =CONCATENATE([1]Feuil1!$AD6,[1]Feuil1!$AE6) | T6: =CONCATENATE([1]Feuil1!$AF6) | U6: =CONCATENATE([1]Feuil1!AG6,[1]Feuil1!AH6) | V6: =CONCATENATE([1]Feuil1!$AI6,[1]Feuil1!$AJ6) | W6: =CONCATENATE([1]Feuil1!$AK6) -> ANA. CELL. | X6: =CONCATENATE([1]Feuil1!AL6,[1]Feuil1!AM6) -> CB1 B | Y6: =CONCATENATE([1]Feuil1!AN6,[1]Feuil1!AO6) -> CB1 D | Z6: =CONCATENATE([1]Feuil1!$AP6) | AA6: =CONCATENATE([1]Feuil1!AQ6,[1]Feuil1!AR6) | AB6: =CONCATENATE([1]Feuil1!AS6,[1]Feuil1!AT6) -> CB1 F | AC6: =CONCATENATE([1]Feuil1!$AU6) | AD6: =CONCATENATE([1]Feuil1!AV6,[1]Feuil1!AW6) | AE6: =CONCATENATE([1]Feuil1!AX6,[1]Feuil1!AY6) | AF6: =CONCATENATE([1]Feuil1!$AZ6) | AG6: =CONCATENATE([1]Feuil1!BA6,[1]Feuil1!BB6) | AH6: =CONCATENATE([1]Feuil1!BC6,[1]Feuil1!BD6) | AI6: =CONCATENATE([1]Feuil1!$BE6) | AJ6: =CONCATENATE([1]Feuil1!$BF6,[1]Feuil1!$BG6) | AK6: =CONCATENATE([1]Feuil1!$BH6,[1]Feuil1!$BI6) | AL6: =CONCATENATE([1]Feuil1!$BJ6) | AM6: =CONCATENATE([1]Feuil1!$BK6,[1]Feuil1!$BL6) | AN6: =CONCATENATE([1]Feuil1!$BM6,[1]Feuil1!$BN6) | AO6: =CONCATENATE([1]Feuil1!$BO6) | AP6: =CONCATENATE([1]Feuil1!$BP6,[1]Feuil1!$BQ6) | AQ6: =CONCATENATE([1]Feuil1!$BR6,[1]Feuil1!$BS6) | AR6: =CONCATENATE([1]Feuil1!$BT6) | AS6: =CONCATENATE([1]Feuil1!$BU6,[1]Feuil1!$BV6) | AT6: =CONCATENATE([1]Feuil1!$BW6,[1]Feuil1!$BX6) | AU6: =CONCATENATE([1]Feuil1!$BY6) | AV6: =CONCATENATE([1]Feuil1!$BZ6,[1]Feuil1!$CA6) | AW6: =CONCATENATE([1]Feuil1!$CB6,[1]Feuil1!$CC6)
A7: =[1]Feuil1!$A7 -> 42760 | B7: =CONCATENATE([1]Feuil1!$B7) | C7: =CONCATENATE([1]Feuil1!$C7,[1]Feuil1!$D7) | D7: =CONCATENATE([1]Feuil1!$E7,[1]Feuil1!$F7) | E7: =CONCATENATE([1]Feuil1!$G7) | F7: =CONCATENATE([1]Feuil1!H7,[1]Feuil1!I7) | G7: =CONCATENATE([1]Feuil1!$J7,[1]Feuil1!$K7) | I7: =CONCATENATE([1]Feuil1!$M7,[1]Feuil1!$N7) | J7: =CONCATENATE([1]Feuil1!O7,[1]Feuil1!P7) | K7: =CONCATENATE([1]Feuil1!$Q7) | L7: =CONCATENATE([1]Feuil1!R7,[1]Feuil1!S7) | M7: =CONCATENATE([1]Feuil1!$T7,[1]Feuil1!$U7) | N7: =CONCATENATE([1]Feuil1!$V7) | O7: =CONCATENATE([1]Feuil1!W7,[1]Feuil1!X7) | P7: =CONCATENATE([1]Feuil1!$Y7,[1]Feuil1!$Z7) | Q7: =CONCATENATE([1]Feuil1!$AA7) | R7: =CONCATENATE([1]Feuil1!AB7,[1]Feuil1!AC7) | S7: =CONCATENATE([1]Feuil1!$AD7,[1]Feuil1!$AE7) | T7: =CONCATENATE([1]Feuil1!$AF7) | U7: =CONCATENATE([1]Feuil1!AG7,[1]Feuil1!AH7) | V7: =CONCATENATE([1]Feuil1!$AI7,[1]Feuil1!$AJ7) | W7: =CONCATENATE([1]Feuil1!$AK7) -> ANA. CELL. | X7: =CONCATENATE([1]Feuil1!AL7,[1]Feuil1!AM7) -> DL BI A | Y7: =CONCATENATE([1]Feuil1!AN7,[1]Feuil1!AO7) -> BI F | Z7: =CONCATENATE([1]Feuil1!$AP7) | AA7: =CONCATENATE([1]Feuil1!AQ7,[1]Feuil1!AR7) -> BI C | AB7: =CONCATENATE([1]Feuil1!AS7,[1]Feuil1!AT7) -> CB2 M | AC7: =CONCATENATE([1]Feuil1!$AU7) | AD7: =CONCATENATE([1]Feuil1!AV7,[1]Feuil1!AW7) | AE7: =CONCATENATE([1]Feuil1!AX7,[1]Feuil1!AY7) | AF7: =CONCATENATE([1]Feuil1!$AZ7) | AG7: =CONCATENATE([1]Feuil1!BA7,[1]Feuil1!BB7) | AH7: =CONCATENATE([1]Feuil1!BC7,[1]Feuil1!BD7) | AI7: =CONCATENATE([1]Feuil1!$BE7) | AJ7: =CONCATENATE([1]Feuil1!$BF7,[1]Feuil1!$BG7) | AK7: =CONCATENATE([1]Feuil1!$BH7,[1]Feuil1!$BI7) | AL7: =CONCATENATE([1]Feuil1!$BJ7) | AM7: =CONCATENATE([1]Feuil1!$BK7,[1]Feuil1!$BL7) | AN7: =CONCATENATE([1]Feuil1!$BM7,[1]Feuil1!$BN7) | AO7: =CONCATENATE([1]Feuil1!$BO7) | AP7: =CONCATENATE([1]Feuil1!$BP7,[1]Feuil1!$BQ7) | AQ7: =CONCATENATE([1]Feuil1!$BR7,[1]Feuil1!$BS7) | AR7: =CONCATENATE([1]Feuil1!$BT7) | AS7: =CONCATENATE([1]Feuil1!$BU7,[1]Feuil1!$BV7) | AT7: =CONCATENATE([1]Feuil1!$BW7,[1]Feuil1!$BX7) | AU7: =CONCATENATE([1]Feuil1!$BY7) | AV7: =CONCATENATE([1]Feuil1!$BZ7,[1]Feuil1!$CA7) | AW7: =CONCATENATE([1]Feuil1!$CB7,[1]Feuil1!$CC7)
A8: =[1]Feuil1!$A8 -> 42761 | B8: =CONCATENATE([1]Feuil1!$B8) | C8: =CONCATENATE([1]Feuil1!$C8,[1]Feuil1!$D8) | D8: =CONCATENATE([1]Feuil1!$E8,[1]Feuil1!$F8) | E8: =CONCATENATE([1]Feuil1!$G8) | F8: =CONCATENATE([1]Feuil1!H8,[1]Feuil1!I8) | G8: =CONCATENATE([1]Feuil1!$J8,[1]Feuil1!$K8) | I8: =CONCATENATE([1]Feuil1!$M8,[1]Feuil1!$N8) | J8: =CONCATENATE([1]Feuil1!O8,[1]Feuil1!P8) | K8: =CONCATENATE([1]Feuil1!$Q8) | L8: =CONCATENATE([1]Feuil1!R8,[1]Feuil1!S8) | M8: =CONCATENATE([1]Feuil1!$T8,[1]Feuil1!$U8) | N8: =CONCATENATE([1]Feuil1!$V8) | O8: =CONCATENATE([1]Feuil1!W8,[1]Feuil1!X8) | P8: =CONCATENATE([1]Feuil1!$Y8,[1]Feuil1!$Z8) | Q8: =CONCATENATE([1]Feuil1!$AA8) | R8: =CONCATENATE([1]Feuil1!AB8,[1]Feuil1!AC8) | S8: =CONCATENATE([1]Feuil1!$AD8,[1]Feuil1!$AE8) | T8: =CONCATENATE([1]Feuil1!$AF8) | U8: =CONCATENATE([1]Feuil1!AG8,[1]Feuil1!AH8) | V8: =CONCATENATE([1]Feuil1!$AI8,[1]Feuil1!$AJ8) | W8: =CONCATENATE([1]Feuil1!$AK8) | X8: =CONCATENATE([1]Feuil1!AL8,[1]Feuil1!AM8) | Y8: =CONCATENATE([1]Feuil1!AN8,[1]Feuil1!AO8) | Z8: =CONCATENATE([1]Feuil1!$AP8) | AA8: =CONCATENATE([1]Feuil1!AQ8,[1]Feuil1!AR8) | AB8: =CONCATENATE([1]Feuil1!AS8,[1]Feuil1!AT8) | AC8: =CONCATENATE([1]Feuil1!$AU8) | AD8: =CONCATENATE([1]Feuil1!AV8,[1]Feuil1!AW8) | AE8: =CONCATENATE([1]Feuil1!AX8,[1]Feuil1!AY8) | AF8: =CONCATENATE([1]Feuil1!$AZ8) | AG8: =CONCATENATE([1]Feuil1!BA8,[1]Feuil1!BB8) | AH8: =CONCATENATE([1]Feuil1!BC8,[1]Feuil1!BD8) | AI8: =CONCATENATE([1]Feuil1!$BE8) | AJ8: =CONCATENATE([1]Feuil1!$BF8,[1]Feuil1!$BG8) | AK8: =CONCATENATE([1]Feuil1!$BH8,[1]Feuil1!$BI8) | AL8: =CONCATENATE([1]Feuil1!$BJ8) | AM8: =CONCATENATE([1]Feuil1!$BK8,[1]Feuil1!$BL8) | AN8: =CONCATENATE([1]Feuil1!$BM8,[1]Feuil1!$BN8) | AO8: =CONCATENATE([1]Feuil1!$BO8) | AP8: =CONCATENATE([1]Feuil1!$BP8,[1]Feuil1!$BQ8) | AQ8: =CONCATENATE([1]Feuil1!$BR8,[1]Feuil1!$BS8) | AR8: =CONCATENATE([1]Feuil1!$BT8) | AS8: =CONCATENATE([1]Feuil1!$BU8,[1]Feuil1!$BV8) | AT8: =CONCATENATE([1]Feuil1!$BW8,[1]Feuil1!$BX8) | AU8: =CONCATENATE([1]Feuil1!$BY8) | AV8: =CONCATENATE([1]Feuil1!$BZ8,[1]Feuil1!$CA8) | AW8: =CONCATENATE([1]Feuil1!$CB8,[1]Feuil1!$CC8)
A9: =[1]Feuil1!$A9 -> 42762 | B9: =CONCATENATE([1]Feuil1!$B9) | C9: =CONCATENATE([1]Feuil1!$C9,[1]Feuil1!$D9) | D9: =CONCATENATE([1]Feuil1!$E9,[1]Feuil1!$F9) | E9: =CONCATENATE([1]Feuil1!$G9) | F9: =CONCATENATE([1]Feuil1!H9,[1]Feuil1!I9) | G9: =CONCATENATE([1]Feuil1!$J9,[1]Feuil1!$K9) | I9: =CONCATENATE([1]Feuil1!$M9,[1]Feuil1!$N9) | J9: =CONCATENATE([1]Feuil1!O9,[1]Feuil1!P9) | K9: =CONCATENATE([1]Feuil1!$Q9) | L9: =CONCATENATE([1]Feuil1!R9,[1]Feuil1!S9) | M9: =CONCATENATE([1]Feuil1!$T9,[1]Feuil1!$U9) | N9: =CONCATENATE([1]Feuil1!$V9) | O9: =CONCATENATE([1]Feuil1!W9,[1]Feuil1!X9) | P9: =CONCATENATE([1]Feuil1!$Y9,[1]Feuil1!$Z9) | Q9: =CONCATENATE([1]Feuil1!$AA9) | R9: =CONCATENATE([1]Feuil1!AB9,[1]Feuil1!AC9) | S9: =CONCATENATE([1]Feuil1!$AD9,[1]Feuil1!$AE9) | T9: =CONCATENATE([1]Feuil1!$AF9) | U9: =CONCATENATE([1]Feuil1!AG9,[1]Feuil1!AH9) | V9: =CONCATENATE([1]Feuil1!$AI9,[1]Feuil1!$AJ9) | W9: =CONCATENATE([1]Feuil1!$AK9) -> ANA. CELL. | X9: =CONCATENATE([1]Feuil1!AL9,[1]Feuil1!AM9) | Y9: =CONCATENATE([1]Feuil1!AN9,[1]Feuil1!AO9) -> CB1 C | Z9: =CONCATENATE([1]Feuil1!$AP9) | AA9: =CONCATENATE([1]Feuil1!AQ9,[1]Feuil1!AR9) -> CB1 A | AB9: =CONCATENATE([1]Feuil1!AS9,[1]Feuil1!AT9) -> CB1 E | AC9: =CONCATENATE([1]Feuil1!$AU9) | AD9: =CONCATENATE([1]Feuil1!AV9,[1]Feuil1!AW9) | AE9: =CONCATENATE([1]Feuil1!AX9,[1]Feuil1!AY9) | AF9: =CONCATENATE([1]Feuil1!$AZ9) | AG9: =CONCATENATE([1]Feuil1!BA9,[1]Feuil1!BB9) | AH9: =CONCATENATE([1]Feuil1!BC9,[1]Feuil1!BD9) | AI9: =CONCATENATE([1]Feuil1!$BE9) | AJ9: =CONCATENATE([1]Feuil1!$BF9,[1]Feuil1!$BG9) | AK9: =CONCATENATE([1]Feuil1!$BH9,[1]Feuil1!$BI9) | AL9: =CONCATENATE([1]Feuil1!$BJ9) | AM9: =CONCATENATE([1]Feuil1!$BK9,[1]Feuil1!$BL9) | AN9: =CONCATENATE([1]Feuil1!$BM9,[1]Feuil1!$BN9) | AO9: =CONCATENATE([1]Feuil1!$BO9) | AP9: =CONCATENATE([1]Feuil1!$BP9,[1]Feuil1!$BQ9) | AQ9: =CONCATENATE([1]Feuil1!$BR9,[1]Feuil1!$BS9) | AR9: =CONCATENATE([1]Feuil1!$BT9) | AS9: =CONCATENATE([1]Feuil1!$BU9,[1]Feuil1!$BV9) | AT9: =CONCATENATE([1]Feuil1!$BW9,[1]Feuil1!$BX9) | AU9: =CONCATENATE([1]Feuil1!$BY9) | AV9: =CONCATENATE([1]Feuil1!$BZ9,[1]Feuil1!$CA9) | AW9: =CONCATENATE([1]Feuil1!$CB9,[1]Feuil1!$CC9)
B10: =CONCATENATE([1]Feuil1!$B10) | E10: =CONCATENATE([1]Feuil1!$G10) | K10: =CONCATENATE([1]Feuil1!$Q10) | N10: =CONCATENATE([1]Feuil1!$V10) | Q10: =CONCATENATE([1]Feuil1!$AA10) | T10: =CONCATENATE([1]Feuil1!$AF10) | W10: =CONCATENATE([1]Feuil1!$AK10) | Z10: =CONCATENATE([1]Feuil1!$AP10) | AC10: =CONCATENATE([1]Feuil1!$AU10) | AF10: =CONCATENATE([1]Feuil1!$AZ10) | AI10: =CONCATENATE([1]Feuil1!$BE10) | AL10: =CONCATENATE([1]Feuil1!$BJ10) | AO10: =CONCATENATE([1]Feuil1!$BO10) | AR10: =CONCATENATE([1]Feuil1!$BT10) | AU10: =CONCATENATE([1]Feuil1!$BY10)
A11: =[1]Feuil1!$A11 -> 42765 | B11: =CONCATENATE([1]Feuil1!$B11) | C11: =CONCATENATE([1]Feuil1!$C11,[1]Feuil1!$D11) | D11: =CONCATENATE([1]Feuil1!$E11,[1]Feuil1!$F11) | E11: =CONCATENATE([1]Feuil1!$G11) | F11: =CONCATENATE([1]Feuil1!H11,[1]Feuil1!I11) | G11: =CONCATENATE([1]Feuil1!$J11,[1]Feuil1!$K11) | I11: =CONCATENATE([1]Feuil1!$M11,[1]Feuil1!$N11) | J11: =CONCATENATE([1]Feuil1!O11,[1]Feuil1!P11) | K11: =CONCATENATE([1]Feuil1!$Q11) | L11: =CONCATENATE([1]Feuil1!R11,[1]Feuil1!S11) | M11: =CONCATENATE([1]Feuil1!$T11,[1]Feuil1!$U11) | N11: =CONCATENATE([1]Feuil1!$V11) | O11: =CONCATENATE([1]Feuil1!W11,[1]Feuil1!X11) | P11: =CONCATENATE([1]Feuil1!$Y11,[1]Feuil1!$Z11) | Q11: =CONCATENATE([1]Feuil1!$AA11) | R11: =CONCATENATE([1]Feuil1!AB11,[1]Feuil1!AC11) | S11: =CONCATENATE([1]Feuil1!$AD11,[1]Feuil1!$AE11) | T11: =CONCATENATE([1]Feuil1!$AF11) | U11: =CONCATENATE([1]Feuil1!AG11,[1]Feuil1!AH11) | V11: =CONCATENATE([1]Feuil1!$AI11,[1]Feuil1!$AJ11) | W11: =CONCATENATE([1]Feuil1!$AK11) -> ANA. CELL. | X11: =CONCATENATE([1]Feuil1!AL11,[1]Feuil1!AM11) -> CB2 N | Y11: =CONCATENATE([1]Feuil1!AN11,[1]Feuil1!AO11) -> CB2 O | Z11: =CONCATENATE([1]Feuil1!$AP11) | AA11: =CONCATENATE([1]Feuil1!AQ11,[1]Feuil1!AR11) -> CB2 P | AB11: =CONCATENATE([1]Feuil1!AS11,[1]Feuil1!AT11) -> CB2 Q | AC11: =CONCATENATE([1]Feuil1!$AU11) | AD11: =CONCATENATE([1]Feuil1!AV11,[1]Feuil1!AW11) | AE11: =CONCATENATE([1]Feuil1!AX11,[1]Feuil1!AY11) | AF11: =CONCATENATE([1]Feuil1!$AZ11) | AG11: =CONCATENATE([1]Feuil1!BA11,[1]Feuil1!BB11) | AH11: =CONCATENATE([1]Feuil1!BC11,[1]Feuil1!BD11) | AI11: =CONCATENATE([1]Feuil1!$BE11) | AJ11: =CONCATENATE([1]Feuil1!$BF11,[1]Feuil1!$BG11) | AK11: =CONCATENATE([1]Feuil1!$BH11,[1]Feuil1!$BI11) | AL11: =CONCATENATE([1]Feuil1!$BJ11) | AM11: =CONCATENATE([1]Feuil1!$BK11,[1]Feuil1!$BL11) | AN11: =CONCATENATE([1]Feuil1!$BM11,[1]Feuil1!$BN11) | AO11: =CONCATENATE([1]Feuil1!$BO11) | AP11: =CONCATENATE([1]Feuil1!$BP11,[1]Feuil1!$BQ11) | AQ11: =CONCATENATE([1]Feuil1!$BR11,[1]Feuil1!$BS11) | AR11: =CONCATENATE([1]Feuil1!$BT11) | AS11: =CONCATENATE([1]Feuil1!$BU11,[1]Feuil1!$BV11) | AT11: =CONCATENATE([1]Feuil1!$BW11,[1]Feuil1!$BX11) | AU11: =CONCATENATE([1]Feuil1!$BY11) | AV11: =CONCATENATE([1]Feuil1!$BZ11,[1]Feuil1!$CA11) | AW11: =CONCATENATE([1]Feuil1!$CB11,[1]Feuil1!$CC11)
A12: =[1]Feuil1!$A12 -> 42766 | B12: =CONCATENATE([1]Feuil1!$B12) -> TP1 | C12: =CONCATENATE([1]Feuil1!$C12,[1]Feuil1!$D12) -> CB1 A | D12: =CONCATENATE([1]Feuil1!$E12,[1]Feuil1!$F12) -> CB1 B | E12: =CONCATENATE([1]Feuil1!$G12) | F12: =CONCATENATE([1]Feuil1!H12,[1]Feuil1!I12) | G12: =CONCATENATE([1]Feuil1!$J12,[1]Feuil1!$K12) | I12: =CONCATENATE([1]Feuil1!$M12,[1]Feuil1!$N12) | J12: =CONCATENATE([1]Feuil1!O12,[1]Feuil1!P12) | K12: =CONCATENATE([1]Feuil1!$Q12) | L12: =CONCATENATE([1]Feuil1!R12,[1]Feuil1!S12) | M12: =CONCATENATE([1]Feuil1!$T12,[1]Feuil1!$U12) | N12: =CONCATENATE([1]Feuil1!$V12) | O12: =CONCATENATE([1]Feuil1!W12,[1]Feuil1!X12) | P12: =CONCATENATE([1]Feuil1!$Y12,[1]Feuil1!$Z12) | Q12: =CONCATENATE([1]Feuil1!$AA12) | R12: =CONCATENATE([1]Feuil1!AB12,[1]Feuil1!AC12) | S12: =CONCATENATE([1]Feuil1!$AD12,[1]Feuil1!$AE12) | T12: =CONCATENATE([1]Feuil1!$AF12) | U12: =CONCATENATE([1]Feuil1!AG12,[1]Feuil1!AH12) | V12: =CONCATENATE([1]Feuil1!$AI12,[1]Feuil1!$AJ12) | W12: =CONCATENATE([1]Feuil1!$AK12) -> ANA. CELL. | X12: =CONCATENATE([1]Feuil1!AL12,[1]Feuil1!AM12) -> DLCB1 | Y12: =CONCATENATE([1]Feuil1!AN12,[1]Feuil1!AO12) | Z12: =CONCATENATE([1]Feuil1!$AP12) | AA12: =CONCATENATE([1]Feuil1!AQ12,[1]Feuil1!AR12) | AB12: =CONCATENATE([1]Feuil1!AS12,[1]Feuil1!AT12) | AC12: =CONCATENATE([1]Feuil1!$AU12) | AD12: =CONCATENATE([1]Feuil1!AV12,[1]Feuil1!AW12) | AE12: =CONCATENATE([1]Feuil1!AX12,[1]Feuil1!AY12) | AF12: =CONCATENATE([1]Feuil1!$AZ12) | AG12: =CONCATENATE([1]Feuil1!BA12,[1]Feuil1!BB12) | AH12: =CONCATENATE([1]Feuil1!BC12,[1]Feuil1!BD12) | AI12: =CONCATENATE([1]Feuil1!$BE12) | AJ12: =CONCATENATE([1]Feuil1!$BF12,[1]Feuil1!$BG12) | AK12: =CONCATENATE([1]Feuil1!$BH12,[1]Feuil1!$BI12) | AL12: =CONCATENATE([1]Feuil1!$BJ12) | AM12: =CONCATENATE([1]Feuil1!$BK12,[1]Feuil1!$BL12) | AN12: =CONCATENATE([1]Feuil1!$BM12,[1]Feuil1!$BN12) | AO12: =CONCATENATE([1]Feuil1!$BO12) | AP12: =CONCATENATE([1]Feuil1!$BP12,[1]Feuil1!$BQ12) | AQ12: =CONCATENATE([1]Feuil1!$BR12,[1]Feuil1!$BS12) | AR12: =CONCATENATE([1]Feuil1!$BT12) | AS12: =CONCATENATE([1]Feuil1!$BU12,[1]Feuil1!$BV12) | AT12: =CONCATENATE([1]Feuil1!$BW12,[1]Feuil1!$BX12) | AU12: =CONCATENATE([1]Feuil1!$BY12) | AV12: =CONCATENATE([1]Feuil1!$BZ12,[1]Feuil1!$CA12) | AW12: =CONCATENATE([1]Feuil1!$CB12,[1]Feuil1!$CC12)
A13: =[1]Feuil1!$A13 -> 42767 | B13: =CONCATENATE([1]Feuil1!$B13) -> TP1 | C13: =CONCATENATE([1]Feuil1!$C13,[1]Feuil1!$D13) -> MPCI1 A | D13: =CONCATENATE([1]Feuil1!$E13,[1]Feuil1!$F13) -> MPCI1 B | E13: =CONCATENATE([1]Feuil1!$G13) | F13: =CONCATENATE([1]Feuil1!H13,[1]Feuil1!I13) | G13: =CONCATENATE([1]Feuil1!$J13,[1]Feuil1!$K13) | I13: =CONCATENATE([1]Feuil1!$M13,[1]Feuil1!$N13) | J13: =CONCATENATE([1]Feuil1!O13,[1]Feuil1!P13) | K13: =CONCATENATE([1]Feuil1!$Q13) | L13: =CONCATENATE([1]Feuil1!R13,[1]Feuil1!S13) | M13: =CONCATENATE([1]Feuil1!$T13,[1]Feuil1!$U13) | N13: =CONCATENATE([1]Feuil1!$V13) | O13: =CONCATENATE([1]Feuil1!W13,[1]Feuil1!X13) | P13: =CONCATENATE([1]Feuil1!$Y13,[1]Feuil1!$Z13) | Q13: =CONCATENATE([1]Feuil1!$AA13) | R13: =CONCATENATE([1]Feuil1!AB13,[1]Feuil1!AC13) | S13: =CONCATENATE([1]Feuil1!$AD13,[1]Feuil1!$AE13) | T13: =CONCATENATE([1]Feuil1!$AF13) | U13: =CONCATENATE([1]Feuil1!AG13,[1]Feuil1!AH13) | V13: =CONCATENATE([1]Feuil1!$AI13,[1]Feuil1!$AJ13) | W13: =CONCATENATE([1]Feuil1!$AK13) -> ANA. CELL. | X13: =CONCATENATE([1]Feuil1!AL13,[1]Feuil1!AM13) -> BI D | Y13: =CONCATENATE([1]Feuil1!AN13,[1]Feuil1!AO13) -> DL BI F | Z13: =CONCATENATE([1]Feuil1!$AP13) | AA13: =CONCATENATE([1]Feuil1!AQ13,[1]Feuil1!AR13) -> BI B | AB13: =CONCATENATE([1]Feuil1!AS13,[1]Feuil1!AT13) -> CB2 R | AC13: =CONCATENATE([1]Feuil1!$AU13) | AD13: =CONCATENATE([1]Feuil1!AV13,[1]Feuil1!AW13) | AE13: =CONCATENATE([1]Feuil1!AX13,[1]Feuil1!AY13) | AF13: =CONCATENATE([1]Feuil1!$AZ13) | AG13: =CONCATENATE([1]Feuil1!BA13,[1]Feuil1!BB13) | AH13: =CONCATENATE([1]Feuil1!BC13,[1]Feuil1!BD13) | AI13: =CONCATENATE([1]Feuil1!$BE13) | AK13: =CONCATENATE([1]Feuil1!$BH13,[1]Feuil1!$BI13) | AL13: =CONCATENATE([1]Feuil1!$BJ13) | AM13: =CONCATENATE([1]Feuil1!$BK13,[1]Feuil1!$BL13) | AN13: =CONCATENATE([1]Feuil1!$BM13,[1]Feuil1!$BN13) | AO13: =CONCATENATE([1]Feuil1!$BO13) | AP13: =CONCATENATE([1]Feuil1!$BP13,[1]Feuil1!$BQ13) | AQ13: =CONCATENATE([1]Feuil1!$BR13,[1]Feuil1!$BS13) | AR13: =CONCATENATE([1]Feuil1!$BT13) | AS13: =CONCATENATE([1]Feuil1!$BU13,[1]Feuil1!$BV13) | AT13: =CONCATENATE([1]Feuil1!$BW13,[1]Feuil1!$BX13) | AU13: =CONCATENATE([1]Feuil1!$BY13) | AV13: =CONCATENATE([1]Feuil1!$BZ13,[1]Feuil1!$CA13) | AW13: =CONCATENATE([1]Feuil1!$CB13,[1]Feuil1!$CC13)
A14: =[1]Feuil1!$A14 -> 42768 | B14: =CONCATENATE([1]Feuil1!$B14) | C14: =CONCATENATE([1]Feuil1!$C14,[1]Feuil1!$D14) | D14: =CONCATENATE([1]Feuil1!$E14,[1]Feuil1!$F14) | E14: =CONCATENATE([1]Feuil1!$G14) | F14: =CONCATENATE([1]Feuil1!H14,[1]Feuil1!I14) | G14: =CONCATENATE([1]Feuil1!$J14,[1]Feuil1!$K14) | I14: =CONCATENATE([1]Feuil1!$M14,[1]Feuil1!$N14) | J14: =CONCATENATE([1]Feuil1!O14,[1]Feuil1!P14) | K14: =CONCATENATE([1]Feuil1!$Q14) | L14: =CONCATENATE([1]Feuil1!R14,[1]Feuil1!S14) | M14: =CONCATENATE([1]Feuil1!$T14,[1]Feuil1!$U14) | N14: =CONCATENATE([1]Feuil1!$V14) | O14: =CONCATENATE([1]Feuil1!W14,[1]Feuil1!X14) | P14: =CONCATENATE([1]Feuil1!$Y14,[1]Feuil1!$Z14) | Q14: =CONCATENATE([1]Feuil1!$AA14) | R14: =CONCATENATE([1]Feuil1!AB14,[1]Feuil1!AC14) | S14: =CONCATENATE([1]Feuil1!$AD14,[1]Feuil1!$AE14) | T14: =CONCATENATE([1]Feuil1!$AF14) | U14: =CONCATENATE([1]Feuil1!AG14,[1]Feuil1!AH14) | V14: =CONCATENATE([1]Feuil1!$AI14,[1]Feuil1!$AJ14) | W14: =CONCATENATE([1]Feuil1!$AK14) | X14: =CONCATENATE([1]Feuil1!AL14,[1]Feuil1!AM14) | Y14: =CONCATENATE([1]Feuil1!AN14,[1]Feuil1!AO14) | Z14: =CONCATENATE([1]Feuil1!$AP14) | AA14: =CONCATENATE([1]Feuil1!AQ14,[1]Feuil1!AR14) | AB14: =CONCATENATE([1]Feuil1!AS14,[1]Feuil1!AT14) | AC14: =CONCATENATE([1]Feuil1!$AU14) | AD14: =CONCATENATE([1]Feuil1!AV14,[1]Feuil1!AW14) | AE14: =CONCATENATE([1]Feuil1!AX14,[1]Feuil1!AY14) | AF14: =CONCATENATE([1]Feuil1!$AZ14) | AG14: =CONCATENATE([1]Feuil1!BA14,[1]Feuil1!BB14) | AH14: =CONCATENATE([1]Feuil1!BC14,[1]Feuil1!BD14) | AI14: =CONCATENATE([1]Feuil1!$BE14) | AJ14: =CONCATENATE([1]Feuil1!$BF13,[1]Feuil1!$BG13) | AK14: =CONCATENATE([1]Feuil1!$BH14,[1]Feuil1!$BI14) | AL14: =CONCATENATE([1]Feuil1!$BJ14) | AM14: =CONCATENATE([1]Feuil1!$BK14,[1]Feuil1!$BL14) | AN14: =CONCATENATE([1]Feuil1!$BM14,[1]Feuil1!$BN14) | AO14: =CONCATENATE([1]Feuil1!$BO14) | AP14: =CONCATENATE([1]Feuil1!$BP14,[1]Feuil1!$BQ14) | AQ14: =CONCATENATE([1]Feuil1!$BR14,[1]Feuil1!$BS14) | AR14: =CONCATENATE([1]Feuil1!$BT14) | AS14: =CONCATENATE([1]Feuil1!$BU14,[1]Feuil1!$BV14) | AT14: =CONCATENATE([1]Feuil1!$BW14,[1]Feuil1!$BX14) | AU14: =CONCATENATE([1]Feuil1!$BY14) | AV14: =CONCATENATE([1]Feuil1!$BZ14,[1]Feuil1!$CA14) | AW14: =CONCATENATE([1]Feuil1!$CB14,[1]Feuil1!$CC14)
A15: =[1]Feuil1!$A15 -> 42769 | B15: =CONCATENATE([1]Feuil1!$B15) -> TP1 | C15: =CONCATENATE([1]Feuil1!$C15,[1]Feuil1!$D15) -> CB1 C | D15: =CONCATENATE([1]Feuil1!$E15,[1]Feuil1!$F15) -> CB1 D | E15: =CONCATENATE([1]Feuil1!$G15) | F15: =CONCATENATE([1]Feuil1!H15,[1]Feuil1!I15) | G15: =CONCATENATE([1]Feuil1!$J15,[1]Feuil1!$K15) | I15: =CONCATENATE([1]Feuil1!$M15,[1]Feuil1!$N15) | J15: =CONCATENATE([1]Feuil1!O15,[1]Feuil1!P15) | K15: =CONCATENATE([1]Feuil1!$Q15) | L15: =CONCATENATE([1]Feuil1!R15,[1]Feuil1!S15) | M15: =CONCATENATE([1]Feuil1!$T15,[1]Feuil1!$U15) | N15: =CONCATENATE([1]Feuil1!$V15) | O15: =CONCATENATE([1]Feuil1!W15,[1]Feuil1!X15) | P15: =CONCATENATE([1]Feuil1!$Y15,[1]Feuil1!$Z15) | Q15: =CONCATENATE([1]Feuil1!$AA15) | R15: =CONCATENATE([1]Feuil1!AB15,[1]Feuil1!AC15) | S15: =CONCATENATE([1]Feuil1!$AD15,[1]Feuil1!$AE15) | T15: =CONCATENATE([1]Feuil1!$AF15) | U15: =CONCATENATE([1]Feuil1!AG15,[1]Feuil1!AH15) | V15: =CONCATENATE([1]Feuil1!$AI15,[1]Feuil1!$AJ15) | W15: =CONCATENATE([1]Feuil1!$AK15) -> ANA. CELL. | X15: =CONCATENATE([1]Feuil1!AL15,[1]Feuil1!AM15) -> DLCB2 | Y15: =CONCATENATE([1]Feuil1!AN15,[1]Feuil1!AO15) -> BI G | Z15: =CONCATENATE([1]Feuil1!$AP15) | AA15: =CONCATENATE([1]Feuil1!AQ15,[1]Feuil1!AR15) | AB15: =CONCATENATE([1]Feuil1!AS15,[1]Feuil1!AT15) -> BI H | AC15: =CONCATENATE([1]Feuil1!$AU15) | AD15: =CONCATENATE([1]Feuil1!AV15,[1]Feuil1!AW15) | AE15: =CONCATENATE([1]Feuil1!AX15,[1]Feuil1!AY15) | AF15: =CONCATENATE([1]Feuil1!$AZ15) | AG15: =CONCATENATE([1]Feuil1!BA15,[1]Feuil1!BB15) | AH15: =CONCATENATE([1]Feuil1!BC15,[1]Feuil1!BD15) | AI15: =CONCATENATE([1]Feuil1!$BE15) | AJ15: =CONCATENATE([1]Feuil1!$BF15,[1]Feuil1!$BG15) | AK15: =CONCATENATE([1]Feuil1!$BH15,[1]Feuil1!$BI15) | AL15: =CONCATENATE([1]Feuil1!$BJ15) | AM15: =CONCATENATE([1]Feuil1!$BK15,[1]Feuil1!$BL15) | AN15: =CONCATENATE([1]Feuil1!$BM15,[1]Feuil1!$BN15) | AO15: =CONCATENATE([1]Feuil1!$BO15) | AP15: =CONCATENATE([1]Feuil1!$BP15,[1]Feuil1!$BQ15) | AQ15: =CONCATENATE([1]Feuil1!$BR15,[1]Feuil1!$BS15) | AR15: =CONCATENATE([1]Feuil1!$BT15) | AS15: =CONCATENATE([1]Feuil1!$BU15,[1]Feuil1!$BV15) | AT15: =CONCATENATE([1]Feuil1!$BW15,[1]Feuil1!$BX15) | AU15: =CONCATENATE([1]Feuil1!$BY15) | AV15: =CONCATENATE([1]Feuil1!$BZ15,[1]Feuil1!$CA15) | AW15: =CONCATENATE([1]Feuil1!$CB15,[1]Feuil1!$CC15)
B16: =CONCATENATE([1]Feuil1!$B16) | E16: =CONCATENATE([1]Feuil1!$G16) | K16: =CONCATENATE([1]Feuil1!$Q16) | N16: =CONCATENATE([1]Feuil1!$V16) | Q16: =CONCATENATE([1]Feuil1!$AA16) | T16: =CONCATENATE([1]Feuil1!$AF16) | W16: =CONCATENATE([1]Feuil1!$AK16) | Z16: =CONCATENATE([1]Feuil1!$AP16) | AC16: =CONCATENATE([1]Feuil1!$AU16) | AF16: =CONCATENATE([1]Feuil1!$AZ16) | AI16: =CONCATENATE([1]Feuil1!$BE16) | AL16: =CONCATENATE([1]Feuil1!$BJ16) | AO16: =CONCATENATE([1]Feuil1!$BO16) | AR16: =CONCATENATE([1]Feuil1!$BT16) | AU16: =CONCATENATE([1]Feuil1!$BY16)
A17: =[1]Feuil1!$A17 -> 42772 | B17: =CONCATENATE([1]Feuil1!$B17) -> TP1 | C17: =CONCATENATE([1]Feuil1!$C17,[1]Feuil1!$D17) | D17: =CONCATENATE([1]Feuil1!$E17,[1]Feuil1!$F17) -> DLMP1 | E17: =CONCATENATE([1]Feuil1!$G17) -> TP1 | F17: =CONCATENATE([1]Feuil1!H17,[1]Feuil1!I17) -> CB2 M | G17: =CONCATENATE([1]Feuil1!$J17,[1]Feuil1!$K17) -> CB2 N | I17: =CONCATENATE([1]Feuil1!$M17,[1]Feuil1!$N17) -> CB2 O | J17: =CONCATENATE([1]Feuil1!O17,[1]Feuil1!P17) -> CB2 P | K17: =CONCATENATE([1]Feuil1!$Q17) | L17: =CONCATENATE([1]Feuil1!R17,[1]Feuil1!S17) | M17: =CONCATENATE([1]Feuil1!$T17,[1]Feuil1!$U17) | N17: =CONCATENATE([1]Feuil1!$V17) | O17: =CONCATENATE([1]Feuil1!W17,[1]Feuil1!X17) | P17: =CONCATENATE([1]Feuil1!$Y17,[1]Feuil1!$Z17) | Q17: =CONCATENATE([1]Feuil1!$AA17) | R17: =CONCATENATE([1]Feuil1!AB17,[1]Feuil1!AC17) | S17: =CONCATENATE([1]Feuil1!$AD17,[1]Feuil1!$AE17) | T17: =CONCATENATE([1]Feuil1!$AF17) | U17: =CONCATENATE([1]Feuil1!AG17,[1]Feuil1!AH17) | V17: =CONCATENATE([1]Feuil1!$AI17,[1]Feuil1!$AJ17) | W17: =CONCATENATE([1]Feuil1!$AK17) | X17: =CONCATENATE([1]Feuil1!AL17,[1]Feuil1!AM17) | Y17: =CONCATENATE([1]Feuil1!AN17,[1]Feuil1!AO17) | Z17: =CONCATENATE([1]Feuil1!$AP17) | AA17: =CONCATENATE([1]Feuil1!AQ17,[1]Feuil1!AR17) | AB17: =CONCATENATE([1]Feuil1!AS17,[1]Feuil1!AT17) | AC17: =CONCATENATE([1]Feuil1!$AU17) | AD17: =CONCATENATE([1]Feuil1!AV17,[1]Feuil1!AW17) | AE17: =CONCATENATE([1]Feuil1!AX17,[1]Feuil1!AY17) | AF17: =CONCATENATE([1]Feuil1!$AZ17) | AG17: =CONCATENATE([1]Feuil1!BA17,[1]Feuil1!BB17) | AH17: =CONCATENATE([1]Feuil1!BC17,[1]Feuil1!BD17) | AI17: =CONCATENATE([1]Feuil1!$BE17) | AJ17: =CONCATENATE([1]Feuil1!$BF17,[1]Feuil1!$BG17) | AK17: =CONCATENATE([1]Feuil1!$BH17,[1]Feuil1!$BI17) | AL17: =CONCATENATE([1]Feuil1!$BJ17) | AM17: =CONCATENATE([1]Feuil1!$BK17,[1]Feuil1!$BL17) -> CB2 I | AN17: =CONCATENATE([1]Feuil1!$BM17,[1]Feuil1!$BN17) -> CB2 J | AO17: =CONCATENATE([1]Feuil1!$BO17) | AP17: =CONCATENATE([1]Feuil1!$BP17,[1]Feuil1!$BQ17) -> CB2 K | AQ17: =CONCATENATE([1]Feuil1!$BR17,[1]Feuil1!$BS17) -> CB2 L | AR17: =CONCATENATE([1]Feuil1!$BT17) | AS17: =CONCATENATE([1]Feuil1!$BU17,[1]Feuil1!$BV17) | AT17: =CONCATENATE([1]Feuil1!$BW17,[1]Feuil1!$BX17) | AU17: =CONCATENATE([1]Feuil1!$BY17) | AV17: =CONCATENATE([1]Feuil1!$BZ17,[1]Feuil1!$CA17) | AW17: =CONCATENATE([1]Feuil1!$CB17,[1]Feuil1!$CC17)
A18: =[1]Feuil1!$A18 -> 42773 | B18: =CONCATENATE([1]Feuil1!$B18) -> TP1 | C18: =CONCATENATE([1]Feuil1!$C18,[1]Feuil1!$D18) -> DLCB1 | D18: =CONCATENATE([1]Feuil1!$E18,[1]Feuil1!$F18) -> CB1 E | E18: =CONCATENATE([1]Feuil1!$G18) -> TP1 | F18: =CONCATENATE([1]Feuil1!H18,[1]Feuil1!I18) -> CB1 A | G18: =CONCATENATE([1]Feuil1!$J18,[1]Feuil1!$K18) -> CB1 B | I18: =CONCATENATE([1]Feuil1!$M18,[1]Feuil1!$N18) -> CB1 C | J18: =CONCATENATE([1]Feuil1!O18,[1]Feuil1!P18) -> CB1 D | K18: =CONCATENATE([1]Feuil1!$Q18) | L18: =CONCATENATE([1]Feuil1!R18,[1]Feuil1!S18) | M18: =CONCATENATE([1]Feuil1!$T18,[1]Feuil1!$U18) | N18: =CONCATENATE([1]Feuil1!$V18) | O18: =CONCATENATE([1]Feuil1!W18,[1]Feuil1!X18) | P18: =CONCATENATE([1]Feuil1!$Y18,[1]Feuil1!$Z18) | Q18: =CONCATENATE([1]Feuil1!$AA18) | R18: =CONCATENATE([1]Feuil1!AB18,[1]Feuil1!AC18) | S18: =CONCATENATE([1]Feuil1!$AD18,[1]Feuil1!$AE18) | T18: =CONCATENATE([1]Feuil1!$AF18) | U18: =CONCATENATE([1]Feuil1!AG18,[1]Feuil1!AH18) | V18: =CONCATENATE([1]Feuil1!$AI18,[1]Feuil1!$AJ18) | W18: =CONCATENATE([1]Feuil1!$AK18) | X18: =CONCATENATE([1]Feuil1!AL18,[1]Feuil1!AM18) | Y18: =CONCATENATE([1]Feuil1!AN18,[1]Feuil1!AO18) | Z18: =CONCATENATE([1]Feuil1!$AP18) | AA18: =CONCATENATE([1]Feuil1!AQ18,[1]Feuil1!AR18) | AB18: =CONCATENATE([1]Feuil1!AS18,[1]Feuil1!AT18) | AC18: =CONCATENATE([1]Feuil1!$AU18) | AD18: =CONCATENATE([1]Feuil1!AV18,[1]Feuil1!AW18) | AE18: =CONCATENATE([1]Feuil1!AX18,[1]Feuil1!AY18) | AF18: =CONCATENATE([1]Feuil1!$AZ18) | AG18: =CONCATENATE([1]Feuil1!BA18,[1]Feuil1!BB18) | AH18: =CONCATENATE([1]Feuil1!BC18,[1]Feuil1!BD18) | AI18: =CONCATENATE([1]Feuil1!$BE18) | AJ18: =CONCATENATE([1]Feuil1!$BF18,[1]Feuil1!$BG18) | AK18: =CONCATENATE([1]Feuil1!$BH18,[1]Feuil1!$BI18) | AL18: =CONCATENATE([1]Feuil1!$BJ18) | AM18: =CONCATENATE([1]Feuil1!$BK18,[1]Feuil1!$BL18) -> DL BI A | AN18: =CONCATENATE([1]Feuil1!$BM18,[1]Feuil1!$BN18) -> BI F | AO18: =CONCATENATE([1]Feuil1!$BO18) | AP18: =CONCATENATE([1]Feuil1!$BP18,[1]Feuil1!$BQ18) -> BI B | AQ18: =CONCATENATE([1]Feuil1!$BR18,[1]Feuil1!$BS18) -> CB2 M | AR18: =CONCATENATE([1]Feuil1!$BT18) | AS18: =CONCATENATE([1]Feuil1!$BU18,[1]Feuil1!$BV18) | AT18: =CONCATENATE([1]Feuil1!$BW18,[1]Feuil1!$BX18) | AU18: =CONCATENATE([1]Feuil1!$BY18) | AV18: =CONCATENATE([1]Feuil1!$BZ18,[1]Feuil1!$CA18) | AW18: =CONCATENATE([1]Feuil1!$CB18,[1]Feuil1!$CC18)
A19: =[1]Feuil1!$A19 -> 42774 | B19: =CONCATENATE([1]Feuil1!$B19) -> TP1 | C19: =CONCATENATE([1]Feuil1!$C19,[1]Feuil1!$D19) -> MPCI1 G | D19: =CONCATENATE([1]Feuil1!$E19,[1]Feuil1!$F19) -> MPCI1 H | E19: =CONCATENATE([1]Feuil1!$G19) -> TP1 | F19: =CONCATENATE([1]Feuil1!H19,[1]Feuil1!I19) -> BI B | G19: =CONCATENATE([1]Feuil1!$J19,[1]Feuil1!$K19) -> CB2 J | I19: =CONCATENATE([1]Feuil1!$M19,[1]Feuil1!$N19) -> CB2 K | J19: =CONCATENATE([1]Feuil1!O19,[1]Feuil1!P19) -> CB2 L | K19: =CONCATENATE([1]Feuil1!$Q19) | L19: =CONCATENATE([1]Feuil1!R19,[1]Feuil1!S19) | M19: =CONCATENATE([1]Feuil1!$T19,[1]Feuil1!$U19) | N19: =CONCATENATE([1]Feuil1!$V19) | O19: =CONCATENATE([1]Feuil1!W19,[1]Feuil1!X19) | P19: =CONCATENATE([1]Feuil1!$Y19,[1]Feuil1!$Z19) | Q19: =CONCATENATE([1]Feuil1!$AA19) | R19: =CONCATENATE([1]Feuil1!AB19,[1]Feuil1!AC19) | S19: =CONCATENATE([1]Feuil1!$AD19,[1]Feuil1!$AE19) | T19: =CONCATENATE([1]Feuil1!$AF19) | U19: =CONCATENATE([1]Feuil1!AG19,[1]Feuil1!AH19) | V19: =CONCATENATE([1]Feuil1!$AI19,[1]Feuil1!$AJ19) | W19: =CONCATENATE([1]Feuil1!$AK19) | X19: =CONCATENATE([1]Feuil1!AL19,[1]Feuil1!AM19) | Y19: =CONCATENATE([1]Feuil1!AN19,[1]Feuil1!AO19) | Z19: =CONCATENATE([1]Feuil1!$AP19) | AA19: =CONCATENATE([1]Feuil1!AQ19,[1]Feuil1!AR19) | AB19: =CONCATENATE([1]Feuil1!AS19,[1]Feuil1!AT19) | AC19: =CONCATENATE([1]Feuil1!$AU19) | AD19: =CONCATENATE([1]Feuil1!AV19,[1]Feuil1!AW19) | AE19: =CONCATENATE([1]Feuil1!AX19,[1]Feuil1!AY19) | AF19: =CONCATENATE([1]Feuil1!$AZ19) | AG19: =CONCATENATE([1]Feuil1!BA19,[1]Feuil1!BB19) | AH19: =CONCATENATE([1]Feuil1!BC19,[1]Feuil1!BD19) | AI19: =CONCATENATE([1]Feuil1!$BE19) | AJ19: =CONCATENATE([1]Feuil1!$BF19,[1]Feuil1!$BG19) | AK19: =CONCATENATE([1]Feuil1!$BH19,[1]Feuil1!$BI19) | AL19: =CONCATENATE([1]Feuil1!$BJ19) | AM19: =CONCATENATE([1]Feuil1!$BK19,[1]Feuil1!$BL19) | AN19: =CONCATENATE([1]Feuil1!$BM19,[1]Feuil1!$BN19) | AO19: =CONCATENATE([1]Feuil1!$BO19) | AP19: =CONCATENATE([1]Feuil1!$BP19,[1]Feuil1!$BQ19) | AQ19: =CONCATENATE([1]Feuil1!$BR19,[1]Feuil1!$BS19) | AR19: =CONCATENATE([1]Feuil1!$BT19) | AS19: =CONCATENATE([1]Feuil1!$BU19,[1]Feuil1!$BV19) | AT19: =CONCATENATE([1]Feuil1!$BW19,[1]Feuil1!$BX19) | AU19: =CONCATENATE([1]Feuil1!$BY19) | AV19: =CONCATENATE([1]Feuil1!$BZ19,[1]Feuil1!$CA19) | AW19: =CONCATENATE([1]Feuil1!$CB19,[1]Feuil1!$CC19)
A20: =[1]Feuil1!$A20 -> 42775 | B20: =CONCATENATE([1]Feuil1!$B20) | C20: =CONCATENATE([1]Feuil1!$C20,[1]Feuil1!$D20) | D20: =CONCATENATE([1]Feuil1!$E20,[1]Feuil1!$F20) | E20: =CONCATENATE([1]Feuil1!$G20) | F20: =CONCATENATE([1]Feuil1!H20,[1]Feuil1!I20) | G20: =CONCATENATE([1]Feuil1!$J20,[1]Feuil1!$K20) | I20: =CONCATENATE([1]Feuil1!$M20,[1]Feuil1!$N20) | J20: =CONCATENATE([1]Feuil1!O20,[1]Feuil1!P20) | K20: =CONCATENATE([1]Feuil1!$Q20) | L20: =CONCATENATE([1]Feuil1!R20,[1]Feuil1!S20) | M20: =CONCATENATE([1]Feuil1!$T20,[1]Feuil1!$U20) | N20: =CONCATENATE([1]Feuil1!$V20) | O20: =CONCATENATE([1]Feuil1!W20,[1]Feuil1!X20) | P20: =CONCATENATE([1]Feuil1!$Y20,[1]Feuil1!$Z20) | Q20: =CONCATENATE([1]Feuil1!$AA20) | R20: =CONCATENATE([1]Feuil1!AB20,[1]Feuil1!AC20) | S20: =CONCATENATE([1]Feuil1!$AD20,[1]Feuil1!$AE20) | T20: =CONCATENATE([1]Feuil1!$AF20) | U20: =CONCATENATE([1]Feuil1!AG20,[1]Feuil1!AH20) | V20: =CONCATENATE([1]Feuil1!$AI20,[1]Feuil1!$AJ20) | W20: =CONCATENATE([1]Feuil1!$AK20) | X20: =CONCATENATE([1]Feuil1!AL20,[1]Feuil1!AM20) | Y20: =CONCATENATE([1]Feuil1!AN20,[1]Feuil1!AO20) | Z20: =CONCATENATE([1]Feuil1!$AP20) | AA20: =CONCATENATE([1]Feuil1!AQ20,[1]Feuil1!AR20) | AB20: =CONCATENATE([1]Feuil1!AS20,[1]Feuil1!AT20) | AC20: =CONCATENATE([1]Feuil1!$AU20) | AD20: =CONCATENATE([1]Feuil1!AV20,[1]Feuil1!AW20) | AE20: =CONCATENATE([1]Feuil1!AX20,[1]Feuil1!AY20) | AF20: =CONCATENATE([1]Feuil1!$AZ20) | AG20: =CONCATENATE([1]Feuil1!BA20,[1]Feuil1!BB20) | AH20: =CONCATENATE([1]Feuil1!BC20,[1]Feuil1!BD20) | AI20: =CONCATENATE([1]Feuil1!$BE20) | AJ20: =CONCATENATE([1]Feuil1!$BF20,[1]Feuil1!$BG20) | AK20: =CONCATENATE([1]Feuil1!$BH20,[1]Feuil1!$BI20) | AL20: =CONCATENATE([1]Feuil1!$BJ20) | AM20: =CONCATENATE([1]Feuil1!$BK20,[1]Feuil1!$BL20) | AN20: =CONCATENATE([1]Feuil1!$BM20,[1]Feuil1!$BN20) | AO20: =CONCATENATE([1]Feuil1!$BO20) | AP20: =CONCATENATE([1]Feuil1!$BP20,[1]Feuil1!$BQ20) | AQ20: =CONCATENATE([1]Feuil1!$BR20,[1]Feuil1!$BS20) | AR20: =CONCATENATE([1]Feuil1!$BT20) | AS20: =CONCATENATE([1]Feuil1!$BU20,[1]Feuil1!$BV20) | AT20: =CONCATENATE([1]Feuil1!$BW20,[1]Feuil1!$BX20) | AU20: =CONCATENATE([1]Feuil1!$BY20) | AV20: =CONCATENATE([1]Feuil1!$BZ20,[1]Feuil1!$CA20) | AW20: =CONCATENATE([1]Feuil1!$CB20,[1]Feuil1!$CC20)
A21: =[1]Feuil1!$A21 -> 42776 | B21: =CONCATENATE([1]Feuil1!$B21) -> TP1 | C21: =CONCATENATE([1]Feuil1!$C21,[1]Feuil1!$D21) -> CB1 F | D21: =CONCATENATE([1]Feuil1!$E21,[1]Feuil1!$F21) -> DLCB2 | E21: =CONCATENATE([1]Feuil1!$G21) -> TP1 | F21: =CONCATENATE([1]Feuil1!H21,[1]Feuil1!I21) -> DLCB2 | G21: =CONCATENATE([1]Feuil1!$J21,[1]Feuil1!$K21) -> DLCB1 | I21: =CONCATENATE([1]Feuil1!$M21,[1]Feuil1!$N21) -> CB1 E | J21: =CONCATENATE([1]Feuil1!O21,[1]Feuil1!P21) -> CB1 F | K21: =CONCATENATE([1]Feuil1!$Q21) | L21: =CONCATENATE([1]Feuil1!R21,[1]Feuil1!S21) | M21: =CONCATENATE([1]Feuil1!$T21,[1]Feuil1!$U21) | N21: =CONCATENATE([1]Feuil1!$V21) | O21: =CONCATENATE([1]Feuil1!W21,[1]Feuil1!X21) | P21: =CONCATENATE([1]Feuil1!$Y21,[1]Feuil1!$Z21) | Q21: =CONCATENATE([1]Feuil1!$AA21) | R21: =CONCATENATE([1]Feuil1!AB21,[1]Feuil1!AC21) | S21: =CONCATENATE([1]Feuil1!$AD21,[1]Feuil1!$AE21) | T21: =CONCATENATE([1]Feuil1!$AF21) | U21: =CONCATENATE([1]Feuil1!AG21,[1]Feuil1!AH21) | V21: =CONCATENATE([1]Feuil1!$AI21,[1]Feuil1!$AJ21) | W21: =CONCATENATE([1]Feuil1!$AK21) | X21: =CONCATENATE([1]Feuil1!AL21,[1]Feuil1!AM21) | Y21: =CONCATENATE([1]Feuil1!AN21,[1]Feuil1!AO21) | Z21: =CONCATENATE([1]Feuil1!$AP21) | AA21: =CONCATENATE([1]Feuil1!AQ21,[1]Feuil1!AR21) | AB21: =CONCATENATE([1]Feuil1!AS21,[1]Feuil1!AT21) | AC21: =CONCATENATE([1]Feuil1!$AU21) | AD21: =CONCATENATE([1]Feuil1!AV21,[1]Feuil1!AW21) | AE21: =CONCATENATE([1]Feuil1!AX21,[1]Feuil1!AY21) | AF21: =CONCATENATE([1]Feuil1!$AZ21) | AG21: =CONCATENATE([1]Feuil1!BA21,[1]Feuil1!BB21) | AH21: =CONCATENATE([1]Feuil1!BC21,[1]Feuil1!BD21) | AI21: =CONCATENATE([1]Feuil1!$BE21) | AJ21: =CONCATENATE([1]Feuil1!$BF21,[1]Feuil1!$BG21) | AK21: =CONCATENATE([1]Feuil1!$BH21,[1]Feuil1!$BI21) | AL21: =CONCATENATE([1]Feuil1!$BJ21) | AM21: =CONCATENATE([1]Feuil1!$BK21,[1]Feuil1!$BL21) | AN21: =CONCATENATE([1]Feuil1!$BM21,[1]Feuil1!$BN21) -> BI G | AO21: =CONCATENATE([1]Feuil1!$BO21) | AP21: =CONCATENATE([1]Feuil1!$BP21,[1]Feuil1!$BQ21) | AQ21: =CONCATENATE([1]Feuil1!$BR21,[1]Feuil1!$BS21) -> BI H | AR21: =CONCATENATE([1]Feuil1!$BT21) | AS21: =CONCATENATE([1]Feuil1!$BU21,[1]Feuil1!$BV21) | AT21: =CONCATENATE([1]Feuil1!$BW21,[1]Feuil1!$BX21) | AU21: =CONCATENATE([1]Feuil1!$BY21) | AV21: =CONCATENATE([1]Feuil1!$BZ21,[1]Feuil1!$CA21) | AW21: =CONCATENATE([1]Feuil1!$CB21,[1]Feuil1!$CC21)
B22: =CONCATENATE([1]Feuil1!$B22) | E22: =CONCATENATE([1]Feuil1!$G22) | K22: =CONCATENATE([1]Feuil1!$Q22) | N22: =CONCATENATE([1]Feuil1!$V22) | Q22: =CONCATENATE([1]Feuil1!$AA22) | T22: =CONCATENATE([1]Feuil1!$AF22) | W22: =CONCATENATE([1]Feuil1!$AK22) | Z22: =CONCATENATE([1]Feuil1!$AP22) | AC22: =CONCATENATE([1]Feuil1!$AU22) | AF22: =CONCATENATE([1]Feuil1!$AZ22) | AI22: =CONCATENATE([1]Feuil1!$BE22) | AL22: =CONCATENATE([1]Feuil1!$BJ22) | AO22: =CONCATENATE([1]Feuil1!$BO22) | AR22: =CONCATENATE([1]Feuil1!$BT22) | AU22: =CONCATENATE([1]Feuil1!$BY22)
A23: =[1]Feuil1!$A23 -> 42779 | B23: =CONCATENATE([1]Feuil1!$B23) | C23: =CONCATENATE([1]Feuil1!$C23,[1]Feuil1!$D23) | D23: =CONCATENATE([1]Feuil1!$E23,[1]Feuil1!$F23) | E23: =CONCATENATE([1]Feuil1!$G23) | F23: =CONCATENATE([1]Feuil1!H23,[1]Feuil1!I23) | G23: =CONCATENATE([1]Feuil1!$J23,[1]Feuil1!$K23) | I23: =CONCATENATE([1]Feuil1!$M23,[1]Feuil1!$N23) | J23: =CONCATENATE([1]Feuil1!O23,[1]Feuil1!P23) | K23: =CONCATENATE([1]Feuil1!$Q23) | L23: =CONCATENATE([1]Feuil1!R23,[1]Feuil1!S23) | M23: =CONCATENATE([1]Feuil1!$T23,[1]Feuil1!$U23) | N23: =CONCATENATE([1]Feuil1!$V23) | O23: =CONCATENATE([1]Feuil1!W23,[1]Feuil1!X23) | P23: =CONCATENATE([1]Feuil1!$Y23,[1]Feuil1!$Z23) | Q23: =CONCATENATE([1]Feuil1!$AA23) | R23: =CONCATENATE([1]Feuil1!AB23,[1]Feuil1!AC23) | S23: =CONCATENATE([1]Feuil1!$AD23,[1]Feuil1!$AE23) | T23: =CONCATENATE([1]Feuil1!$AF23) | U23: =CONCATENATE([1]Feuil1!AG23,[1]Feuil1!AH23) | V23: =CONCATENATE([1]Feuil1!$AI23,[1]Feuil1!$AJ23) | W23: =CONCATENATE([1]Feuil1!$AK23) | X23: =CONCATENATE([1]Feuil1!AL23,[1]Feuil1!AM23) | Y23: =CONCATENATE([1]Feuil1!AN23,[1]Feuil1!AO23) | Z23: =CONCATENATE([1]Feuil1!$AP23) | AA23: =CONCATENATE([1]Feuil1!AQ23,[1]Feuil1!AR23) | AB23: =CONCATENATE([1]Feuil1!AS23,[1]Feuil1!AT23) | AC23: =CONCATENATE([1]Feuil1!$AU23) | AD23: =CONCATENATE([1]Feuil1!AV23,[1]Feuil1!AW23) | AE23: =CONCATENATE([1]Feuil1!AX23,[1]Feuil1!AY23) | AF23: =CONCATENATE([1]Feuil1!$AZ23) | AG23: =CONCATENATE([1]Feuil1!BA23,[1]Feuil1!BB23) | AH23: =CONCATENATE([1]Feuil1!BC23,[1]Feuil1!BD23) | AI23: =CONCATENATE([1]Feuil1!$BE23) | AJ23: =CONCATENATE([1]Feuil1!$BF23,[1]Feuil1!$BG23) | AK23: =CONCATENATE([1]Feuil1!$BH23,[1]Feuil1!$BI23) | AL23: =CONCATENATE([1]Feuil1!$BJ23) | AM23: =CONCATENATE([1]Feuil1!$BK23,[1]Feuil1!$BL23) | AN23: =CONCATENATE([1]Feuil1!$BM23,[1]Feuil1!$BN23) | AO23: =CONCATENATE([1]Feuil1!$BO23) | AP23: =CONCATENATE([1]Feuil1!$BP23,[1]Feuil1!$BQ23) | AQ23: =CONCATENATE([1]Feuil1!$BR23,[1]Feuil1!$BS23) | AR23: =CONCATENATE([1]Feuil1!$BT23) | AS23: =CONCATENATE([1]Feuil1!$BU23,[1]Feuil1!$BV23) | AT23: =CONCATENATE([1]Feuil1!$BW23,[1]Feuil1!$BX23) | AU23: =CONCATENATE([1]Feuil1!$BY23) | AV23: =CONCATENATE([1]Feuil1!$BZ23,[1]Feuil1!$CA23) | AW23: =CONCATENATE([1]Feuil1!$CB23,[1]Feuil1!$CC23)
A24: =[1]Feuil1!$A24 -> 42780 | B24: =CONCATENATE([1]Feuil1!$B24) | C24: =CONCATENATE([1]Feuil1!$C24,[1]Feuil1!$D24) | D24: =CONCATENATE([1]Feuil1!$E24,[1]Feuil1!$F24) | E24: =CONCATENATE([1]Feuil1!$G24) | F24: =CONCATENATE([1]Feuil1!H24,[1]Feuil1!I24) | G24: =CONCATENATE([1]Feuil1!$J24,[1]Feuil1!$K24) | I24: =CONCATENATE([1]Feuil1!$M24,[1]Feuil1!$N24) | J24: =CONCATENATE([1]Feuil1!O24,[1]Feuil1!P24) | K24: =CONCATENATE([1]Feuil1!$Q24) | L24: =CONCATENATE([1]Feuil1!R24,[1]Feuil1!S24) | M24: =CONCATENATE([1]Feuil1!$T24,[1]Feuil1!$U24) | N24: =CONCATENATE([1]Feuil1!$V24) | O24: =CONCATENATE([1]Feuil1!W24,[1]Feuil1!X24) | P24: =CONCATENATE([1]Feuil1!$Y24,[1]Feuil1!$Z24) | Q24: =CONCATENATE([1]Feuil1!$AA24) | R24: =CONCATENATE([1]Feuil1!AB24,[1]Feuil1!AC24) | S24: =CONCATENATE([1]Feuil1!$AD24,[1]Feuil1!$AE24) | T24: =CONCATENATE([1]Feuil1!$AF24) | U24: =CONCATENATE([1]Feuil1!AG24,[1]Feuil1!AH24) | V24: =CONCATENATE([1]Feuil1!$AI24,[1]Feuil1!$AJ24) | W24: =CONCATENATE([1]Feuil1!$AK24) | X24: =CONCATENATE([1]Feuil1!AL24,[1]Feuil1!AM24) | Y24: =CONCATENATE([1]Feuil1!AN24,[1]Feuil1!AO24) | Z24: =CONCATENATE([1]Feuil1!$AP24) | AA24: =CONCATENATE([1]Feuil1!AQ24,[1]Feuil1!AR24) | AB24: =CONCATENATE([1]Feuil1!AS24,[1]Feuil1!AT24) | AC24: =CONCATENATE([1]Feuil1!$AU24) | AD24: =CONCATENATE([1]Feuil1!AV24,[1]Feuil1!AW24) | AE24: =CONCATENATE([1]Feuil1!AX24,[1]Feuil1!AY24) | AF24: =CONCATENATE([1]Feuil1!$AZ24) | AG24: =CONCATENATE([1]Feuil1!BA24,[1]Feuil1!BB24) | AH24: =CONCATENATE([1]Feuil1!BC24,[1]Feuil1!BD24) | AI24: =CONCATENATE([1]Feuil1!$BE24) | AJ24: =CONCATENATE([1]Feuil1!$BF24,[1]Feuil1!$BG24) | AK24: =CONCATENATE([1]Feuil1!$BH24,[1]Feuil1!$BI24) | AL24: =CONCATENATE([1]Feuil1!$BJ24) | AM24: =CONCATENATE([1]Feuil1!$BK24,[1]Feuil1!$BL24) | AN24: =CONCATENATE([1]Feuil1!$BM24,[1]Feuil1!$BN24) | AO24: =CONCATENATE([1]Feuil1!$BO24) | AP24: =CONCATENATE([1]Feuil1!$BP24,[1]Feuil1!$BQ24) | AQ24: =CONCATENATE([1]Feuil1!$BR24,[1]Feuil1!$BS24) | AR24: =CONCATENATE([1]Feuil1!$BT24) | AS24: =CONCATENATE([1]Feuil1!$BU24,[1]Feuil1!$BV24) | AT24: =CONCATENATE([1]Feuil1!$BW24,[1]Feuil1!$BX24) | AU24: =CONCATENATE([1]Feuil1!$BY24) | AV24: =CONCATENATE([1]Feuil1!$BZ24,[1]Feuil1!$CA24) | AW24: =CONCATENATE([1]Feuil1!$CB24,[1]Feuil1!$CC24)
A25: =[1]Feuil1!$A25 -> 42781 | B25: =CONCATENATE([1]Feuil1!$B25) | C25: =CONCATENATE([1]Feuil1!$C25,[1]Feuil1!$D25) | D25: =CONCATENATE([1]Feuil1!$E25,[1]Feuil1!$F25) | E25: =CONCATENATE([1]Feuil1!$G25) | F25: =CONCATENATE([1]Feuil1!H25,[1]Feuil1!I25) | G25: =CONCATENATE([1]Feuil1!$J25,[1]Feuil1!$K25) | I25: =CONCATENATE([1]Feuil1!$M25,[1]Feuil1!$N25) | J25: =CONCATENATE([1]Feuil1!O25,[1]Feuil1!P25) | K25: =CONCATENATE([1]Feuil1!$Q25) | L25: =CONCATENATE([1]Feuil1!R25,[1]Feuil1!S25) | M25: =CONCATENATE([1]Feuil1!$T25,[1]Feuil1!$U25) | N25: =CONCATENATE([1]Feuil1!$V25) | O25: =CONCATENATE([1]Feuil1!W25,[1]Feuil1!X25) | P25: =CONCATENATE([1]Feuil1!$Y25,[1]Feuil1!$Z25) | Q25: =CONCATENATE([1]Feuil1!$AA25) | R25: =CONCATENATE([1]Feuil1!AB25,[1]Feuil1!AC25) | S25: =CONCATENATE([1]Feuil1!$AD25,[1]Feuil1!$AE25) | T25: =CONCATENATE([1]Feuil1!$AF25) | U25: =CONCATENATE([1]Feuil1!AG25,[1]Feuil1!AH25) | V25: =CONCATENATE([1]Feuil1!$AI25,[1]Feuil1!$AJ25) | W25: =CONCATENATE([1]Feuil1!$AK25) | X25: =CONCATENATE([1]Feuil1!AL25,[1]Feuil1!AM25) | Y25: =CONCATENATE([1]Feuil1!AN25,[1]Feuil1!AO25) | Z25: =CONCATENATE([1]Feuil1!$AP25) | AA25: =CONCATENATE([1]Feuil1!AQ25,[1]Feuil1!AR25) | AB25: =CONCATENATE([1]Feuil1!AS25,[1]Feuil1!AT25) | AC25: =CONCATENATE([1]Feuil1!$AU25) | AD25: =CONCATENATE([1]Feuil1!AV25,[1]Feuil1!AW25) | AE25: =CONCATENATE([1]Feuil1!AX25,[1]Feuil1!AY25) | AF25: =CONCATENATE([1]Feuil1!$AZ25) | AG25: =CONCATENATE([1]Feuil1!BA25,[1]Feuil1!BB25) | AH25: =CONCATENATE([1]Feuil1!BC25,[1]Feuil1!BD25) | AI25: =CONCATENATE([1]Feuil1!$BE25) | AJ25: =CONCATENATE([1]Feuil1!$BF25,[1]Feuil1!$BG25) | AK25: =CONCATENATE([1]Feuil1!$BH25,[1]Feuil1!$BI25) | AL25: =CONCATENATE([1]Feuil1!$BJ25) | AM25: =CONCATENATE([1]Feuil1!$BK25,[1]Feuil1!$BL25) | AN25: =CONCATENATE([1]Feuil1!$BM25,[1]Feuil1!$BN25) | AO25: =CONCATENATE([1]Feuil1!$BO25) | AP25: =CONCATENATE([1]Feuil1!$BP25,[1]Feuil1!$BQ25) | AQ25: =CONCATENATE([1]Feuil1!$BR25,[1]Feuil1!$BS25) | AR25: =CONCATENATE([1]Feuil1!$BT25) | AS25: =CONCATENATE([1]Feuil1!$BU25,[1]Feuil1!$BV25) | AT25: =CONCATENATE([1]Feuil1!$BW25,[1]Feuil1!$BX25) | AU25: =CONCATENATE([1]Feuil1!$BY25) | AV25: =CONCATENATE([1]Feuil1!$BZ25,[1]Feuil1!$CA25) | AW25: =CONCATENATE([1]Feuil1!$CB25,[1]Feuil1!$CC25)
A26: =[1]Feuil1!$A26 -> 42782 | B26: =CONCATENATE([1]Feuil1!$B26) | C26: =CONCATENATE([1]Feuil1!$C26,[1]Feuil1!$D26) | D26: =CONCATENATE([1]Feuil1!$E26,[1]Feuil1!$F26) | E26: =CONCATENATE([1]Feuil1!$G26) | F26: =CONCATENATE([1]Feuil1!H26,[1]Feuil1!I26) | G26: =CONCATENATE([1]Feuil1!$J26,[1]Feuil1!$K26) | I26: =CONCATENATE([1]Feuil1!$M26,[1]Feuil1!$N26) | J26: =CONCATENATE([1]Feuil1!O26,[1]Feuil1!P26) | K26: =CONCATENATE([1]Feuil1!$Q26) | L26: =CONCATENATE([1]Feuil1!R26,[1]Feuil1!S26) | M26: =CONCATENATE([1]Feuil1!$T26,[1]Feuil1!$U26) | N26: =CONCATENATE([1]Feuil1!$V26) | O26: =CONCATENATE([1]Feuil1!W26,[1]Feuil1!X26) | P26: =CONCATENATE([1]Feuil1!$Y26,[1]Feuil1!$Z26) | Q26: =CONCATENATE([1]Feuil1!$AA26) | R26: =CONCATENATE([1]Feuil1!AB26,[1]Feuil1!AC26) | S26: =CONCATENATE([1]Feuil1!$AD26,[1]Feuil1!$AE26) | T26: =CONCATENATE([1]Feuil1!$AF26) | U26: =CONCATENATE([1]Feuil1!AG26,[1]Feuil1!AH26) | V26: =CONCATENATE([1]Feuil1!$AI26,[1]Feuil1!$AJ26) | W26: =CONCATENATE([1]Feuil1!$AK26) | X26: =CONCATENATE([1]Feuil1!AL26,[1]Feuil1!AM26) | Y26: =CONCATENATE([1]Feuil1!AN26,[1]Feuil1!AO26) | Z26: =CONCATENATE([1]Feuil1!$AP26) | AA26: =CONCATENATE([1]Feuil1!AQ26,[1]Feuil1!AR26) | AB26: =CONCATENATE([1]Feuil1!AS26,[1]Feuil1!AT26) | AC26: =CONCATENATE([1]Feuil1!$AU26) | AD26: =CONCATENATE([1]Feuil1!AV26,[1]Feuil1!AW26) | AE26: =CONCATENATE([1]Feuil1!AX26,[1]Feuil1!AY26) | AF26: =CONCATENATE([1]Feuil1!$AZ26) | AG26: =CONCATENATE([1]Feuil1!BA26,[1]Feuil1!BB26) | AH26: =CONCATENATE([1]Feuil1!BC26,[1]Feuil1!BD26) | AI26: =CONCATENATE([1]Feuil1!$BE26) | AJ26: =CONCATENATE([1]Feuil1!$BF26,[1]Feuil1!$BG26) | AK26: =CONCATENATE([1]Feuil1!$BH26,[1]Feuil1!$BI26) | AL26: =CONCATENATE([1]Feuil1!$BJ26) | AM26: =CONCATENATE([1]Feuil1!$BK26,[1]Feuil1!$BL26) | AN26: =CONCATENATE([1]Feuil1!$BM26,[1]Feuil1!$BN26) | AO26: =CONCATENATE([1]Feuil1!$BO26) | AP26: =CONCATENATE([1]Feuil1!$BP26,[1]Feuil1!$BQ26) | AQ26: =CONCATENATE([1]Feuil1!$BR26,[1]Feuil1!$BS26) | AR26: =CONCATENATE([1]Feuil1!$BT26) | AS26: =CONCATENATE([1]Feuil1!$BU26,[1]Feuil1!$BV26) | AT26: =CONCATENATE([1]Feuil1!$BW26,[1]Feuil1!$BX26) | AU26: =CONCATENATE([1]Feuil1!$BY26) | AV26: =CONCATENATE([1]Feuil1!$BZ26,[1]Feuil1!$CA26) | AW26: =CONCATENATE([1]Feuil1!$CB26,[1]Feuil1!$CC26)
A27: =[1]Feuil1!$A27 -> 42783 | B27: =CONCATENATE([1]Feuil1!$B27) | C27: =CONCATENATE([1]Feuil1!$C27,[1]Feuil1!$D27) | D27: =CONCATENATE([1]Feuil1!$E27,[1]Feuil1!$F27) | E27: =CONCATENATE([1]Feuil1!$G27) | F27: =CONCATENATE([1]Feuil1!H27,[1]Feuil1!I27) | G27: =CONCATENATE([1]Feuil1!$J27,[1]Feuil1!$K27) | I27: =CONCATENATE([1]Feuil1!$M27,[1]Feuil1!$N27) | J27: =CONCATENATE([1]Feuil1!O27,[1]Feuil1!P27) | K27: =CONCATENATE([1]Feuil1!$Q27) | L27: =CONCATENATE([1]Feuil1!R27,[1]Feuil1!S27) | M27: =CONCATENATE([1]Feuil1!$T27,[1]Feuil1!$U27) | N27: =CONCATENATE([1]Feuil1!$V27) | O27: =CONCATENATE([1]Feuil1!W27,[1]Feuil1!X27) | P27: =CONCATENATE([1]Feuil1!$Y27,[1]Feuil1!$Z27) | Q27: =CONCATENATE([1]Feuil1!$AA27) | R27: =CONCATENATE([1]Feuil1!AB27,[1]Feuil1!AC27) | S27: =CONCATENATE([1]Feuil1!$AD27,[1]Feuil1!$AE27) | T27: =CONCATENATE([1]Feuil1!$AF27) | U27: =CONCATENATE([1]Feuil1!AG27,[1]Feuil1!AH27) | V27: =CONCATENATE([1]Feuil1!$AI27,[1]Feuil1!$AJ27) | W27: =CONCATENATE([1]Feuil1!$AK27) | X27: =CONCATENATE([1]Feuil1!AL27,[1]Feuil1!AM27) | Y27: =CONCATENATE([1]Feuil1!AN27,[1]Feuil1!AO27) | Z27: =CONCATENATE([1]Feuil1!$AP27) | AA27: =CONCATENATE([1]Feuil1!AQ27,[1]Feuil1!AR27) | AB27: =CONCATENATE([1]Feuil1!AS27,[1]Feuil1!AT27) | AC27: =CONCATENATE([1]Feuil1!$AU27) | AD27: =CONCATENATE([1]Feuil1!AV27,[1]Feuil1!AW27) | AE27: =CONCATENATE([1]Feuil1!AX27,[1]Feuil1!AY27) | AF27: =CONCATENATE([1]Feuil1!$AZ27) | AG27: =CONCATENATE([1]Feuil1!BA27,[1]Feuil1!BB27) | AH27: =CONCATENATE([1]Feuil1!BC27,[1]Feuil1!BD27) | AI27: =CONCATENATE([1]Feuil1!$BE27) | AJ27: =CONCATENATE([1]Feuil1!$BF27,[1]Feuil1!$BG27) | AK27: =CONCATENATE([1]Feuil1!$BH27,[1]Feuil1!$BI27) | AL27: =CONCATENATE([1]Feuil1!$BJ27) | AM27: =CONCATENATE([1]Feuil1!$BK27,[1]Feuil1!$BL27) | AN27: =CONCATENATE([1]Feuil1!$BM27,[1]Feuil1!$BN27) | AO27: =CONCATENATE([1]Feuil1!$BO27) | AP27: =CONCATENATE([1]Feuil1!$BP27,[1]Feuil1!$BQ27) | AQ27: =CONCATENATE([1]Feuil1!$BR27,[1]Feuil1!$BS27) | AR27: =CONCATENATE([1]Feuil1!$BT27) | AS27: =CONCATENATE([1]Feuil1!$BU27,[1]Feuil1!$BV27) | AT27: =CONCATENATE([1]Feuil1!$BW27,[1]Feuil1!$BX27) | AU27: =CONCATENATE([1]Feuil1!$BY27) | AV27: =CONCATENATE([1]Feuil1!$BZ27,[1]Feuil1!$CA27) | AW27: =CONCATENATE([1]Feuil1!$CB27,[1]Feuil1!$CC27)
B28: =CONCATENATE([1]Feuil1!$B28) | E28: =CONCATENATE([1]Feuil1!$G28) | K28: =CONCATENATE([1]Feuil1!$Q28) | N28: =CONCATENATE([1]Feuil1!$V28) | Q28: =CONCATENATE([1]Feuil1!$AA28) | T28: =CONCATENATE([1]Feuil1!$AF28) | W28: =CONCATENATE([1]Feuil1!$AK28) | Z28: =CONCATENATE([1]Feuil1!$AP28) | AC28: =CONCATENATE([1]Feuil1!$AU28) | AF28: =CONCATENATE([1]Feuil1!$AZ28) | AI28: =CONCATENATE([1]Feuil1!$BE28) | AL28: =CONCATENATE([1]Feuil1!$BJ28) | AO28: =CONCATENATE([1]Feuil1!$BO28) | AR28: =CONCATENATE([1]Feuil1!$BT28) | AU28: =CONCATENATE([1]Feuil1!$BY28)
A29: =[1]Feuil1!$A29 -> 42786 | B29: =CONCATENATE([1]Feuil1!$B29) -> TP1 | C29: =CONCATENATE([1]Feuil1!$C29,[1]Feuil1!$D29) | D29: =CONCATENATE([1]Feuil1!$E29,[1]Feuil1!$F29) -> DLMP2 | E29: =CONCATENATE([1]Feuil1!$G29) -> TP1 | F29: =CONCATENATE([1]Feuil1!H29,[1]Feuil1!I29) -> CB2 Q | G29: =CONCATENATE([1]Feuil1!$J29,[1]Feuil1!$K29) -> CB2 R | I29: =CONCATENATE([1]Feuil1!$M29,[1]Feuil1!$N29) | J29: =CONCATENATE([1]Feuil1!O29,[1]Feuil1!P29) | K29: =CONCATENATE([1]Feuil1!$Q29) | L29: =CONCATENATE([1]Feuil1!R29,[1]Feuil1!S29) | M29: =CONCATENATE([1]Feuil1!$T29,[1]Feuil1!$U29) | N29: =CONCATENATE([1]Feuil1!$V29) | O29: =CONCATENATE([1]Feuil1!W29,[1]Feuil1!X29) | P29: =CONCATENATE([1]Feuil1!$Y29,[1]Feuil1!$Z29) | Q29: =CONCATENATE([1]Feuil1!$AA29) -> Rugosité | R29: =CONCATENATE([1]Feuil1!AB29,[1]Feuil1!AC29) -> MPCI2 I | S29: =CONCATENATE([1]Feuil1!$AD29,[1]Feuil1!$AE29) -> MPCI2 J | T29: =CONCATENATE([1]Feuil1!$AF29) -> Rugosité | U29: =CONCATENATE([1]Feuil1!AG29,[1]Feuil1!AH29) -> MPCI2 M | V29: =CONCATENATE([1]Feuil1!$AI29,[1]Feuil1!$AJ29) -> MPCI2 N | W29: =CONCATENATE([1]Feuil1!$AK29) | X29: =CONCATENATE([1]Feuil1!AL29,[1]Feuil1!AM29) | Y29: =CONCATENATE([1]Feuil1!AN29,[1]Feuil1!AO29) | Z29: =CONCATENATE([1]Feuil1!$AP29) | AA29: =CONCATENATE([1]Feuil1!AQ29,[1]Feuil1!AR29) | AB29: =CONCATENATE([1]Feuil1!AS29,[1]Feuil1!AT29) | AC29: =CONCATENATE([1]Feuil1!$AU29) -> Fraction C | AD29: =CONCATENATE([1]Feuil1!AV29,[1]Feuil1!AW29) -> CB2 I | AE29: =CONCATENATE([1]Feuil1!AX29,[1]Feuil1!AY29) -> CB2 I | AF29: =CONCATENATE([1]Feuil1!$AZ29) | AG29: =CONCATENATE([1]Feuil1!BA29,[1]Feuil1!BB29) | AH29: =CONCATENATE([1]Feuil1!BC29,[1]Feuil1!BD29) | AI29: =CONCATENATE([1]Feuil1!$BE29) -> Phylogénie | AJ29: =CONCATENATE([1]Feuil1!$BF29,[1]Feuil1!$BG29) -> CB2 K | AK29: =CONCATENATE([1]Feuil1!$BH29,[1]Feuil1!$BI29) -> CB2 J | AL29: =CONCATENATE([1]Feuil1!$BJ29) | AM29: =CONCATENATE([1]Feuil1!$BK29,[1]Feuil1!$BL29) -> CB2 N | AN29: =CONCATENATE([1]Feuil1!$BM29,[1]Feuil1!$BN29) -> CB2 O | AO29: =CONCATENATE([1]Feuil1!$BO29) | AP29: =CONCATENATE([1]Feuil1!$BP29,[1]Feuil1!$BQ29) -> CB2 P | AQ29: =CONCATENATE([1]Feuil1!$BR29,[1]Feuil1!$BS29) -> CB2 Q | AR29: =CONCATENATE([1]Feuil1!$BT29) | AS29: =CONCATENATE([1]Feuil1!$BU29,[1]Feuil1!$BV29) -> CB2 O | AT29: =CONCATENATE([1]Feuil1!$BW29,[1]Feuil1!$BX29) -> CB2 P | AU29: =CONCATENATE([1]Feuil1!$BY29) | AV29: =CONCATENATE([1]Feuil1!$BZ29,[1]Feuil1!$CA29) | AW29: =CONCATENATE([1]Feuil1!$CB29,[1]Feuil1!$CC29)
A30: =[1]Feuil1!$A30 -> 42787 | B30: =CONCATENATE([1]Feuil1!$B30) -> TP1 | C30: =CONCATENATE([1]Feuil1!$C30,[1]Feuil1!$D30) -> CB1 G | D30: =CONCATENATE([1]Feuil1!$E30,[1]Feuil1!$F30) -> CB1 H | E30: =CONCATENATE([1]Feuil1!$G30) -> TP1 | F30: =CONCATENATE([1]Feuil1!H30,[1]Feuil1!I30) | G30: =CONCATENATE([1]Feuil1!$J30,[1]Feuil1!$K30) | I30: =CONCATENATE([1]Feuil1!$M30,[1]Feuil1!$N30) -> CB1 H | J30: =CONCATENATE([1]Feuil1!O30,[1]Feuil1!P30) -> CB1 G | K30: =CONCATENATE([1]Feuil1!$Q30) | L30: =CONCATENATE([1]Feuil1!R30,[1]Feuil1!S30) | M30: =CONCATENATE([1]Feuil1!$T30,[1]Feuil1!$U30) | N30: =CONCATENATE([1]Feuil1!$V30) | O30: =CONCATENATE([1]Feuil1!W30,[1]Feuil1!X30) | P30: =CONCATENATE([1]Feuil1!$Y30,[1]Feuil1!$Z30) | Q30: =CONCATENATE([1]Feuil1!$AA30) | R30: =CONCATENATE([1]Feuil1!AB30,[1]Feuil1!AC30) | S30: =CONCATENATE([1]Feuil1!$AD30,[1]Feuil1!$AE30) | T30: =CONCATENATE([1]Feuil1!$AF30) | U30: =CONCATENATE([1]Feuil1!AG30,[1]Feuil1!AH30) | V30: =CONCATENATE([1]Feuil1!$AI30,[1]Feuil1!$AJ30) | W30: =CONCATENATE([1]Feuil1!$AK30) | X30: =CONCATENATE([1]Feuil1!AL30,[1]Feuil1!AM30) | Y30: =CONCATENATE([1]Feuil1!AN30,[1]Feuil1!AO30) | Z30: =CONCATENATE([1]Feuil1!$AP30) | AA30: =CONCATENATE([1]Feuil1!AQ30,[1]Feuil1!AR30) | AB30: =CONCATENATE([1]Feuil1!AS30,[1]Feuil1!AT30) | AC30: =CONCATENATE([1]Feuil1!$AU30) -> Fraction C | AD30: =CONCATENATE([1]Feuil1!AV30,[1]Feuil1!AW30) -> CB1 C | AE30: =CONCATENATE([1]Feuil1!AX30,[1]Feuil1!AY30) -> CB1 C | AF30: =CONCATENATE([1]Feuil1!$AZ30) | AG30: =CONCATENATE([1]Feuil1!BA30,[1]Feuil1!BB30) | AH30: =CONCATENATE([1]Feuil1!BC30,[1]Feuil1!BD30) | AI30: =CONCATENATE([1]Feuil1!$BE30) | AJ30: =CONCATENATE([1]Feuil1!$BF30,[1]Feuil1!$BG30) | AK30: =CONCATENATE([1]Feuil1!$BH30,[1]Feuil1!$BI30) | AL30: =CONCATENATE([1]Feuil1!$BJ30) | AM30: =CONCATENATE([1]Feuil1!$BK30,[1]Feuil1!$BL30) | AN30: =CONCATENATE([1]Feuil1!$BM30,[1]Feuil1!$BN30) | AO30: =CONCATENATE([1]Feuil1!$BO30) | AP30: =CONCATENATE([1]Feuil1!$BP30,[1]Feuil1!$BQ30) | AQ30: =CONCATENATE([1]Feuil1!$BR30,[1]Feuil1!$BS30) | AR30: =CONCATENATE([1]Feuil1!$BT30) | AS30: =CONCATENATE([1]Feuil1!$BU30,[1]Feuil1!$BV30) | AT30: =CONCATENATE([1]Feuil1!$BW30,[1]Feuil1!$BX30) | AU30: =CONCATENATE([1]Feuil1!$BY30) | AV30: =CONCATENATE([1]Feuil1!$BZ30,[1]Feuil1!$CA30) | AW30: =CONCATENATE([1]Feuil1!$CB30,[1]Feuil1!$CC30)
A31: =[1]Feuil1!$A31 -> 42788 | B31: =CONCATENATE([1]Feuil1!$B31) | C31: =CONCATENATE([1]Feuil1!$C31,[1]Feuil1!$D31) | D31: =CONCATENATE([1]Feuil1!$E31,[1]Feuil1!$F31) | E31: =CONCATENATE([1]Feuil1!$G31) -> TP1 | F31: =CONCATENATE([1]Feuil1!H31,[1]Feuil1!I31) -> CB2 I | G31: =CONCATENATE([1]Feuil1!$J31,[1]Feuil1!$K31) -> BI A | I31: =CONCATENATE([1]Feuil1!$M31,[1]Feuil1!$N31) -> BI G | J31: =CONCATENATE([1]Feuil1!O31,[1]Feuil1!P31) -> BI H | K31: =CONCATENATE([1]Feuil1!$Q31) | L31: =CONCATENATE([1]Feuil1!R31,[1]Feuil1!S31) | M31: =CONCATENATE([1]Feuil1!$T31,[1]Feuil1!$U31) | N31: =CONCATENATE([1]Feuil1!$V31) | O31: =CONCATENATE([1]Feuil1!W31,[1]Feuil1!X31) | P31: =CONCATENATE([1]Feuil1!$Y31,[1]Feuil1!$Z31) | Q31: =CONCATENATE([1]Feuil1!$AA31) -> Rugosité | R31: =CONCATENATE([1]Feuil1!AB31,[1]Feuil1!AC31) -> MPCI1 A | S31: =CONCATENATE([1]Feuil1!$AD31,[1]Feuil1!$AE31) -> MPCI1 B | T31: =CONCATENATE([1]Feuil1!$AF31) -> Rugosité | U31: =CONCATENATE([1]Feuil1!AG31,[1]Feuil1!AH31) -> MPCI1 C | V31: =CONCATENATE([1]Feuil1!$AI31,[1]Feuil1!$AJ31) -> MPCI1 D | W31: =CONCATENATE([1]Feuil1!$AK31) | X31: =CONCATENATE([1]Feuil1!AL31,[1]Feuil1!AM31) | Y31: =CONCATENATE([1]Feuil1!AN31,[1]Feuil1!AO31) | Z31: =CONCATENATE([1]Feuil1!$AP31) | AA31: =CONCATENATE([1]Feuil1!AQ31,[1]Feuil1!AR31) | AB31: =CONCATENATE([1]Feuil1!AS31,[1]Feuil1!AT31) | AC31: =CONCATENATE([1]Feuil1!$AU31) -> Fraction C | AD31: =CONCATENATE([1]Feuil1!AV31,[1]Feuil1!AW31) -> BI B | AE31: =CONCATENATE([1]Feuil1!AX31,[1]Feuil1!AY31) -> BI B | AF31: =CONCATENATE([1]Feuil1!$AZ31) | AG31: =CONCATENATE([1]Feuil1!BA31,[1]Feuil1!BB31) | AH31: =CONCATENATE([1]Feuil1!BC31,[1]Feuil1!BD31) | AI31: =CONCATENATE([1]Feuil1!$BE31) -> Phylogénie | AJ31: =CONCATENATE([1]Feuil1!$BF31,[1]Feuil1!$BG31) -> BI F | AK31: =CONCATENATE([1]Feuil1!$BH31,[1]Feuil1!$BI31) -> DL BI B | AL31: =CONCATENATE([1]Feuil1!$BJ31) | AM31: =CONCATENATE([1]Feuil1!$BK31,[1]Feuil1!$BL31) -> BI E | AN31: =CONCATENATE([1]Feuil1!$BM31,[1]Feuil1!$BN31) -> CB2 R | AO31: =CONCATENATE([1]Feuil1!$BO31) | AP31: =CONCATENATE([1]Feuil1!$BP31,[1]Feuil1!$BQ31) | AQ31: =CONCATENATE([1]Feuil1!$BR31,[1]Feuil1!$BS31) | AR31: =CONCATENATE([1]Feuil1!$BT31) | AS31: =CONCATENATE([1]Feuil1!$BU31,[1]Feuil1!$BV31) | AT31: =CONCATENATE([1]Feuil1!$BW31,[1]Feuil1!$BX31) -> DL BI E | AU31: =CONCATENATE([1]Feuil1!$BY31) | AV31: =CONCATENATE([1]Feuil1!$BZ31,[1]Feuil1!$CA31) | AW31: =CONCATENATE([1]Feuil1!$CB31,[1]Feuil1!$CC31) -> BI F
A32: =[1]Feuil1!$A32 -> 42789 | B32: =CONCATENATE([1]Feuil1!$B32) | C32: =CONCATENATE([1]Feuil1!$C32,[1]Feuil1!$D32) | D32: =CONCATENATE([1]Feuil1!$E32,[1]Feuil1!$F32) | E32: =CONCATENATE([1]Feuil1!$G32) | F32: =CONCATENATE([1]Feuil1!H32,[1]Feuil1!I32) | G32: =CONCATENATE([1]Feuil1!$J32,[1]Feuil1!$K32) | I32: =CONCATENATE([1]Feuil1!$M32,[1]Feuil1!$N32) | J32: =CONCATENATE([1]Feuil1!O32,[1]Feuil1!P32) | K32: =CONCATENATE([1]Feuil1!$Q32) | L32: =CONCATENATE([1]Feuil1!R32,[1]Feuil1!S32) | M32: =CONCATENATE([1]Feuil1!$T32,[1]Feuil1!$U32) | N32: =CONCATENATE([1]Feuil1!$V32) | O32: =CONCATENATE([1]Feuil1!W32,[1]Feuil1!X32) | P32: =CONCATENATE([1]Feuil1!$Y32,[1]Feuil1!$Z32) | Q32: =CONCATENATE([1]Feuil1!$AA32) -> Rugosité | R32: =CONCATENATE([1]Feuil1!AB32,[1]Feuil1!AC32) -> DLMP1 | S32: =CONCATENATE([1]Feuil1!$AD32,[1]Feuil1!$AE32) | T32: =CONCATENATE([1]Feuil1!$AF32) -> Rugosité | U32: =CONCATENATE([1]Feuil1!AG32,[1]Feuil1!AH32) -> DLMP2 | V32: =CONCATENATE([1]Feuil1!$AI32,[1]Feuil1!$AJ32) | W32: =CONCATENATE([1]Feuil1!$AK32) | X32: =CONCATENATE([1]Feuil1!AL32,[1]Feuil1!AM32) | Y32: =CONCATENATE([1]Feuil1!AN32,[1]Feuil1!AO32) | Z32: =CONCATENATE([1]Feuil1!$AP32) | AA32: =CONCATENATE([1]Feuil1!AQ32,[1]Feuil1!AR32) | AB32: =CONCATENATE([1]Feuil1!AS32,[1]Feuil1!AT32) | AC32: =CONCATENATE([1]Feuil1!$AU32) | AD32: =CONCATENATE([1]Feuil1!AV32,[1]Feuil1!AW32) | AE32: =CONCATENATE([1]Feuil1!AX32,[1]Feuil1!AY32) | AF32: =CONCATENATE([1]Feuil1!$AZ32) | AG32: =CONCATENATE([1]Feuil1!BA32,[1]Feuil1!BB32) | AH32: =CONCATENATE([1]Feuil1!BC32,[1]Feuil1!BD32) | AI32: =CONCATENATE([1]Feuil1!$BE32) | AJ32: =CONCATENATE([1]Feuil1!$BF32,[1]Feuil1!$BG32) | AK32: =CONCATENATE([1]Feuil1!$BH32,[1]Feuil1!$BI32) | AL32: =CONCATENATE([1]Feuil1!$BJ32) | AM32: =CONCATENATE([1]Feuil1!$BK32,[1]Feuil1!$BL32) | AN32: =CONCATENATE([1]Feuil1!$BM32,[1]Feuil1!$BN32) | AO32: =CONCATENATE([1]Feuil1!$BO32) | AP32: =CONCATENATE([1]Feuil1!$BP32,[1]Feuil1!$BQ32) | AQ32: =CONCATENATE([1]Feuil1!$BR32,[1]Feuil1!$BS32) | AR32: =CONCATENATE([1]Feuil1!$BT32) | AS32: =CONCATENATE([1]Feuil1!$BU32,[1]Feuil1!$BV32) | AT32: =CONCATENATE([1]Feuil1!$BW32,[1]Feuil1!$BX32) | AU32: =CONCATENATE([1]Feuil1!$BY32) | AV32: =CONCATENATE([1]Feuil1!$BZ32,[1]Feuil1!$CA32) | AW32: =CONCATENATE([1]Feuil1!$CB32,[1]Feuil1!$CC32)
A33: =[1]Feuil1!$A33 -> 42790 | B33: =CONCATENATE([1]Feuil1!$B33) | C33: =CONCATENATE([1]Feuil1!$C33,[1]Feuil1!$D33) | D33: =CONCATENATE([1]Feuil1!$E33,[1]Feuil1!$F33) | E33: =CONCATENATE([1]Feuil1!$G33) | F33: =CONCATENATE([1]Feuil1!H33,[1]Feuil1!I33) | G33: =CONCATENATE([1]Feuil1!$J33,[1]Feuil1!$K33) | I33: =CONCATENATE([1]Feuil1!$M33,[1]Feuil1!$N33) | J33: =CONCATENATE([1]Feuil1!O33,[1]Feuil1!P33) | K33: =CONCATENATE([1]Feuil1!$Q33) | L33: =CONCATENATE([1]Feuil1!R33,[1]Feuil1!S33) | M33: =CONCATENATE([1]Feuil1!$T33,[1]Feuil1!$U33) | N33: =CONCATENATE([1]Feuil1!$V33) | O33: =CONCATENATE([1]Feuil1!W33,[1]Feuil1!X33) | P33: =CONCATENATE([1]Feuil1!$Y33,[1]Feuil1!$Z33) | Q33: =CONCATENATE([1]Feuil1!$AA33) | R33: =CONCATENATE([1]Feuil1!AB33,[1]Feuil1!AC33) | S33: =CONCATENATE([1]Feuil1!$AD33,[1]Feuil1!$AE33) | T33: =CONCATENATE([1]Feuil1!$AF33) | U33: =CONCATENATE([1]Feuil1!AG33,[1]Feuil1!AH33) | V33: =CONCATENATE([1]Feuil1!$AI33,[1]Feuil1!$AJ33) | W33: =CONCATENATE([1]Feuil1!$AK33) | X33: =CONCATENATE([1]Feuil1!AL33,[1]Feuil1!AM33) | Y33: =CONCATENATE([1]Feuil1!AN33,[1]Feuil1!AO33) | Z33: =CONCATENATE([1]Feuil1!$AP33) | AA33: =CONCATENATE([1]Feuil1!AQ33,[1]Feuil1!AR33) | AB33: =CONCATENATE([1]Feuil1!AS33,[1]Feuil1!AT33) | AC33: =CONCATENATE([1]Feuil1!$AU33) -> Fraction C | AD33: =CONCATENATE([1]Feuil1!AV33,[1]Feuil1!AW33) -> CB1 A | AE33: =CONCATENATE([1]Feuil1!AX33,[1]Feuil1!AY33) -> CB1 A | AF33: =CONCATENATE([1]Feuil1!$AZ33) | AG33: =CONCATENATE([1]Feuil1!BA33,[1]Feuil1!BB33) | AH33: =CONCATENATE([1]Feuil1!BC33,[1]Feuil1!BD33) | AI33: =CONCATENATE([1]Feuil1!$BE33) -> Phylogénie | AJ33: =CONCATENATE([1]Feuil1!$BF33,[1]Feuil1!$BG33) | AK33: =CONCATENATE([1]Feuil1!$BH33,[1]Feuil1!$BI33) -> BI H | AL33: =CONCATENATE([1]Feuil1!$BJ33) | AM33: =CONCATENATE([1]Feuil1!$BK33,[1]Feuil1!$BL33) -> DLCB1 | AN33: =CONCATENATE([1]Feuil1!$BM33,[1]Feuil1!$BN33) -> CB22 | AO33: =CONCATENATE([1]Feuil1!$BO33) | AP33: =CONCATENATE([1]Feuil1!$BP33,[1]Feuil1!$BQ33) | AQ33: =CONCATENATE([1]Feuil1!$BR33,[1]Feuil1!$BS33) | AR33: =CONCATENATE([1]Feuil1!$BT33) | AS33: =CONCATENATE([1]Feuil1!$BU33,[1]Feuil1!$BV33) | AT33: =CONCATENATE([1]Feuil1!$BW33,[1]Feuil1!$BX33) | AU33: =CONCATENATE([1]Feuil1!$BY33) | AV33: =CONCATENATE([1]Feuil1!$BZ33,[1]Feuil1!$CA33) | AW33: =CONCATENATE([1]Feuil1!$CB33,[1]Feuil1!$CC33)
B34: =CONCATENATE([1]Feuil1!$B34) | E34: =CONCATENATE([1]Feuil1!$G34) | K34: =CONCATENATE([1]Feuil1!$Q34) | N34: =CONCATENATE([1]Feuil1!$V34) | Q34: =CONCATENATE([1]Feuil1!$AA34) | T34: =CONCATENATE([1]Feuil1!$AF34) | W34: =CONCATENATE([1]Feuil1!$AK34) | Z34: =CONCATENATE([1]Feuil1!$AP34) | AC34: =CONCATENATE([1]Feuil1!$AU34) | AF34: =CONCATENATE([1]Feuil1!$AZ34) | AI34: =CONCATENATE([1]Feuil1!$BE34) | AL34: =CONCATENATE([1]Feuil1!$BJ34) | AO34: =CONCATENATE([1]Feuil1!$BO34) | AR34: =CONCATENATE([1]Feuil1!$BT34) | AU34: =CONCATENATE([1]Feuil1!$BY34)
A35: =[1]Feuil1!$A35 -> 42793 | B35: =CONCATENATE([1]Feuil1!$B35) | C35: =CONCATENATE([1]Feuil1!$C35,[1]Feuil1!$D35) | D35: =CONCATENATE([1]Feuil1!$E35,[1]Feuil1!$F35) | E35: =CONCATENATE([1]Feuil1!$G35) -> TP2 | F35: =CONCATENATE([1]Feuil1!H35,[1]Feuil1!I35) -> CB2 M | G35: =CONCATENATE([1]Feuil1!$J35,[1]Feuil1!$K35) -> CB2 N | I35: =CONCATENATE([1]Feuil1!$M35,[1]Feuil1!$N35) -> CB2 O | J35: =CONCATENATE([1]Feuil1!O35,[1]Feuil1!P35) -> CB2 P | K35: =CONCATENATE([1]Feuil1!$Q35) | L35: =CONCATENATE([1]Feuil1!R35,[1]Feuil1!S35) | M35: =CONCATENATE([1]Feuil1!$T35,[1]Feuil1!$U35) | N35: =CONCATENATE([1]Feuil1!$V35) | O35: =CONCATENATE([1]Feuil1!W35,[1]Feuil1!X35) | P35: =CONCATENATE([1]Feuil1!$Y35,[1]Feuil1!$Z35) | Q35: =CONCATENATE([1]Feuil1!$AA35) | R35: =CONCATENATE([1]Feuil1!AB35,[1]Feuil1!AC35) -> MPCI2 O | S35: =CONCATENATE([1]Feuil1!$AD35,[1]Feuil1!$AE35) -> MPCI2 P | T35: =CONCATENATE([1]Feuil1!$AF35) | U35: =CONCATENATE([1]Feuil1!AG35,[1]Feuil1!AH35) -> MPCI2 Q | V35: =CONCATENATE([1]Feuil1!$AI35,[1]Feuil1!$AJ35) -> MPCI2 R | W35: =CONCATENATE([1]Feuil1!$AK35) | X35: =CONCATENATE([1]Feuil1!AL35,[1]Feuil1!AM35) | Y35: =CONCATENATE([1]Feuil1!AN35,[1]Feuil1!AO35) | Z35: =CONCATENATE([1]Feuil1!$AP35) | AA35: =CONCATENATE([1]Feuil1!AQ35,[1]Feuil1!AR35) | AB35: =CONCATENATE([1]Feuil1!AS35,[1]Feuil1!AT35) | AC35: =CONCATENATE([1]Feuil1!$AU35) -> Fraction C | AD35: =CONCATENATE([1]Feuil1!AV35,[1]Feuil1!AW35) -> CB2 J | AE35: =CONCATENATE([1]Feuil1!AX35,[1]Feuil1!AY35) -> CB2 J | AF35: =CONCATENATE([1]Feuil1!$AZ35) | AG35: =CONCATENATE([1]Feuil1!BA35,[1]Feuil1!BB35) | AH35: =CONCATENATE([1]Feuil1!BC35,[1]Feuil1!BD35) | AI35: =CONCATENATE([1]Feuil1!$BE35) -> Phylogénie | AJ35: =CONCATENATE([1]Feuil1!$BF35,[1]Feuil1!$BG35) -> CB2 I | AK35: =CONCATENATE([1]Feuil1!$BH35,[1]Feuil1!$BI35) -> CB2 L | AL35: =CONCATENATE([1]Feuil1!$BJ35) | AM35: =CONCATENATE([1]Feuil1!$BK35,[1]Feuil1!$BL35) | AN35: =CONCATENATE([1]Feuil1!$BM35,[1]Feuil1!$BN35) | AO35: =CONCATENATE([1]Feuil1!$BO35) | AP35: =CONCATENATE([1]Feuil1!$BP35,[1]Feuil1!$BQ35) | AQ35: =CONCATENATE([1]Feuil1!$BR35,[1]Feuil1!$BS35) | AR35: =CONCATENATE([1]Feuil1!$BT35) | AS35: =CONCATENATE([1]Feuil1!$BU35,[1]Feuil1!$BV35) | AT35: =CONCATENATE([1]Feuil1!$BW35,[1]Feuil1!$BX35) | AU35: =CONCATENATE([1]Feuil1!$BY35) | AV35: =CONCATENATE([1]Feuil1!$BZ35,[1]Feuil1!$CA35) | AW35: =CONCATENATE([1]Feuil1!$CB35,[1]Feuil1!$CC35)
A36: =[1]Feuil1!$A36 -> 42794 | B36: =CONCATENATE([1]Feuil1!$B36) | C36: =CONCATENATE([1]Feuil1!$C36,[1]Feuil1!$D36) | D36: =CONCATENATE([1]Feuil1!$E36,[1]Feuil1!$F36) | E36: =CONCATENATE([1]Feuil1!$G36) -> TP2 | F36: =CONCATENATE([1]Feuil1!H36,[1]Feuil1!I36) -> CB1 C | G36: =CONCATENATE([1]Feuil1!$J36,[1]Feuil1!$K36) -> CB1 A | I36: =CONCATENATE([1]Feuil1!$M36,[1]Feuil1!$N36) -> CB1 E | J36: =CONCATENATE([1]Feuil1!O36,[1]Feuil1!P36) -> CB1 F | K36: =CONCATENATE([1]Feuil1!$Q36) | L36: =CONCATENATE([1]Feuil1!R36,[1]Feuil1!S36) | M36: =CONCATENATE([1]Feuil1!$T36,[1]Feuil1!$U36) | N36: =CONCATENATE([1]Feuil1!$V36) | O36: =CONCATENATE([1]Feuil1!W36,[1]Feuil1!X36) | P36: =CONCATENATE([1]Feuil1!$Y36,[1]Feuil1!$Z36) | Q36: =CONCATENATE([1]Feuil1!$AA36) | R36: =CONCATENATE([1]Feuil1!AB36,[1]Feuil1!AC36) | S36: =CONCATENATE([1]Feuil1!$AD36,[1]Feuil1!$AE36) | T36: =CONCATENATE([1]Feuil1!$AF36) | U36: =CONCATENATE([1]Feuil1!AG36,[1]Feuil1!AH36) | V36: =CONCATENATE([1]Feuil1!$AI36,[1]Feuil1!$AJ36) | W36: =CONCATENATE([1]Feuil1!$AK36) | X36: =CONCATENATE([1]Feuil1!AL36,[1]Feuil1!AM36) | Y36: =CONCATENATE([1]Feuil1!AN36,[1]Feuil1!AO36) | Z36: =CONCATENATE([1]Feuil1!$AP36) | AA36: =CONCATENATE([1]Feuil1!AQ36,[1]Feuil1!AR36) | AB36: =CONCATENATE([1]Feuil1!AS36,[1]Feuil1!AT36) | AC36: =CONCATENATE([1]Feuil1!$AU36) -> Fraction C | AD36: =CONCATENATE([1]Feuil1!AV36,[1]Feuil1!AW36) -> CB1 B | AE36: =CONCATENATE([1]Feuil1!AX36,[1]Feuil1!AY36) -> CB1 B | AF36: =CONCATENATE([1]Feuil1!$AZ36) | AG36: =CONCATENATE([1]Feuil1!BA36,[1]Feuil1!BB36) | AH36: =CONCATENATE([1]Feuil1!BC36,[1]Feuil1!BD36) | AI36: =CONCATENATE([1]Feuil1!$BE36) -> Phylogénie | AJ36: =CONCATENATE([1]Feuil1!$BF36,[1]Feuil1!$BG36) -> DLCB2 | AK36: =CONCATENATE([1]Feuil1!$BH36,[1]Feuil1!$BI36) | AL36: =CONCATENATE([1]Feuil1!$BJ36) | AM36: =CONCATENATE([1]Feuil1!$BK36,[1]Feuil1!$BL36) | AN36: =CONCATENATE([1]Feuil1!$BM36,[1]Feuil1!$BN36) | AO36: =CONCATENATE([1]Feuil1!$BO36) | AP36: =CONCATENATE([1]Feuil1!$BP36,[1]Feuil1!$BQ36) | AQ36: =CONCATENATE([1]Feuil1!$BR36,[1]Feuil1!$BS36) | AR36: =CONCATENATE([1]Feuil1!$BT36) | AS36: =CONCATENATE([1]Feuil1!$BU36,[1]Feuil1!$BV36) | AT36: =CONCATENATE([1]Feuil1!$BW36,[1]Feuil1!$BX36) | AU36: =CONCATENATE([1]Feuil1!$BY36) | AV36: =CONCATENATE([1]Feuil1!$BZ36,[1]Feuil1!$CA36) | AW36: =CONCATENATE([1]Feuil1!$CB36,[1]Feuil1!$CC36)
A37: =[1]Feuil1!$A37 -> 42795 | B37: =CONCATENATE([1]Feuil1!$B37) | C37: =CONCATENATE([1]Feuil1!$C37,[1]Feuil1!$D37) | D37: =CONCATENATE([1]Feuil1!$E37,[1]Feuil1!$F37) | E37: =CONCATENATE([1]Feuil1!$G37) -> TP2 | F37: =CONCATENATE([1]Feuil1!H37,[1]Feuil1!I37) -> CB2 I | G37: =CONCATENATE([1]Feuil1!$J37,[1]Feuil1!$K37) -> CB2 J | I37: =CONCATENATE([1]Feuil1!$M37,[1]Feuil1!$N37) -> CB2 K | J37: =CONCATENATE([1]Feuil1!O37,[1]Feuil1!P37) -> CB2 L | K37: =CONCATENATE([1]Feuil1!$Q37) | L37: =CONCATENATE([1]Feuil1!R37,[1]Feuil1!S37) | M37: =CONCATENATE([1]Feuil1!$T37,[1]Feuil1!$U37) | N37: =CONCATENATE([1]Feuil1!$V37) | O37: =CONCATENATE([1]Feuil1!W37,[1]Feuil1!X37) | P37: =CONCATENATE([1]Feuil1!$Y37,[1]Feuil1!$Z37) | Q37: =CONCATENATE([1]Feuil1!$AA37) -> Rugosité | R37: =CONCATENATE([1]Feuil1!AB37,[1]Feuil1!AC37) -> MPCI1 E | S37: =CONCATENATE([1]Feuil1!$AD37,[1]Feuil1!$AE37) -> MPCI1 F | T37: =CONCATENATE([1]Feuil1!$AF37) -> Rugosité | U37: =CONCATENATE([1]Feuil1!AG37,[1]Feuil1!AH37) -> MPCI1 G | V37: =CONCATENATE([1]Feuil1!$AI37,[1]Feuil1!$AJ37) -> MPCI1 H | W37: =CONCATENATE([1]Feuil1!$AK37) | X37: =CONCATENATE([1]Feuil1!AL37,[1]Feuil1!AM37) | Y37: =CONCATENATE([1]Feuil1!AN37,[1]Feuil1!AO37) | Z37: =CONCATENATE([1]Feuil1!$AP37) | AA37: =CONCATENATE([1]Feuil1!AQ37,[1]Feuil1!AR37) | AB37: =CONCATENATE([1]Feuil1!AS37,[1]Feuil1!AT37) | AC37: =CONCATENATE([1]Feuil1!$AU37) -> Fraction C | AD37: =CONCATENATE([1]Feuil1!AV37,[1]Feuil1!AW37) -> BI C | AE37: =CONCATENATE([1]Feuil1!AX37,[1]Feuil1!AY37) -> BI C | AF37: =CONCATENATE([1]Feuil1!$AZ37) | AG37: =CONCATENATE([1]Feuil1!BA37,[1]Feuil1!BB37) | AH37: =CONCATENATE([1]Feuil1!BC37,[1]Feuil1!BD37) | AI37: =CONCATENATE([1]Feuil1!$BE37) -> Phylogénie | AJ37: =CONCATENATE([1]Feuil1!$BF37,[1]Feuil1!$BG37) -> CB2 M | AK37: =CONCATENATE([1]Feuil1!$BH37,[1]Feuil1!$BI37) -> CB2 N | AL37: =CONCATENATE([1]Feuil1!$BJ37) | AM37: =CONCATENATE([1]Feuil1!$BK37,[1]Feuil1!$BL37) | AN37: =CONCATENATE([1]Feuil1!$BM37,[1]Feuil1!$BN37) | AO37: =CONCATENATE([1]Feuil1!$BO37) | AP37: =CONCATENATE([1]Feuil1!$BP37,[1]Feuil1!$BQ37) | AQ37: =CONCATENATE([1]Feuil1!$BR37,[1]Feuil1!$BS37) | AR37: =CONCATENATE([1]Feuil1!$BT37) | AS37: =CONCATENATE([1]Feuil1!$BU37,[1]Feuil1!$BV37) | AT37: =CONCATENATE([1]Feuil1!$BW37,[1]Feuil1!$BX37) | AU37: =CONCATENATE([1]Feuil1!$BY37) | AV37: =CONCATENATE([1]Feuil1!$BZ37,[1]Feuil1!$CA37) | AW37: =CONCATENATE([1]Feuil1!$CB37,[1]Feuil1!$CC37)
A38: =[1]Feuil1!$A38 -> 42796 | B38: =CONCATENATE([1]Feuil1!$B38) | C38: =CONCATENATE([1]Feuil1!$C38,[1]Feuil1!$D38) | D38: =CONCATENATE([1]Feuil1!$E38,[1]Feuil1!$F38) | E38: =CONCATENATE([1]Feuil1!$G38) | F38: =CONCATENATE([1]Feuil1!H38,[1]Feuil1!I38) | G38: =CONCATENATE([1]Feuil1!$J38,[1]Feuil1!$K38) | I38: =CONCATENATE([1]Feuil1!$M38,[1]Feuil1!$N38) | J38: =CONCATENATE([1]Feuil1!O38,[1]Feuil1!P38) | K38: =CONCATENATE([1]Feuil1!$Q38) | L38: =CONCATENATE([1]Feuil1!R38,[1]Feuil1!S38) | M38: =CONCATENATE([1]Feuil1!$T38,[1]Feuil1!$U38) | N38: =CONCATENATE([1]Feuil1!$V38) | O38: =CONCATENATE([1]Feuil1!W38,[1]Feuil1!X38) | P38: =CONCATENATE([1]Feuil1!$Y38,[1]Feuil1!$Z38) | Q38: =CONCATENATE([1]Feuil1!$AA38) | R38: =CONCATENATE([1]Feuil1!AB38,[1]Feuil1!AC38) | S38: =CONCATENATE([1]Feuil1!$AD38,[1]Feuil1!$AE38) | T38: =CONCATENATE([1]Feuil1!$AF38) | U38: =CONCATENATE([1]Feuil1!AG38,[1]Feuil1!AH38) | V38: =CONCATENATE([1]Feuil1!$AI38,[1]Feuil1!$AJ38) | W38: =CONCATENATE([1]Feuil1!$AK38) | X38: =CONCATENATE([1]Feuil1!AL38,[1]Feuil1!AM38) | Y38: =CONCATENATE([1]Feuil1!AN38,[1]Feuil1!AO38) | Z38: =CONCATENATE([1]Feuil1!$AP38) | AA38: =CONCATENATE([1]Feuil1!AQ38,[1]Feuil1!AR38) | AB38: =CONCATENATE([1]Feuil1!AS38,[1]Feuil1!AT38) | AC38: =CONCATENATE([1]Feuil1!$AU38) | AD38: =CONCATENATE([1]Feuil1!AV38,[1]Feuil1!AW38) | AE38: =CONCATENATE([1]Feuil1!AX38,[1]Feuil1!AY38) | AF38: =CONCATENATE([1]Feuil1!$AZ38) | AG38: =CONCATENATE([1]Feuil1!BA38,[1]Feuil1!BB38) | AH38: =CONCATENATE([1]Feuil1!BC38,[1]Feuil1!BD38) | AI38: =CONCATENATE([1]Feuil1!$BE38) | AJ38: =CONCATENATE([1]Feuil1!$BF38,[1]Feuil1!$BG38) | AK38: =CONCATENATE([1]Feuil1!$BH38,[1]Feuil1!$BI38) | AL38: =CONCATENATE([1]Feuil1!$BJ38) | AM38: =CONCATENATE([1]Feuil1!$BK38,[1]Feuil1!$BL38) | AN38: =CONCATENATE([1]Feuil1!$BM38,[1]Feuil1!$BN38) | AO38: =CONCATENATE([1]Feuil1!$BO38) | AP38: =CONCATENATE([1]Feuil1!$BP38,[1]Feuil1!$BQ38) | AQ38: =CONCATENATE([1]Feuil1!$BR38,[1]Feuil1!$BS38) | AR38: =CONCATENATE([1]Feuil1!$BT38) | AS38: =CONCATENATE([1]Feuil1!$BU38,[1]Feuil1!$BV38) | AT38: =CONCATENATE([1]Feuil1!$BW38,[1]Feuil1!$BX38) | AU38: =CONCATENATE([1]Feuil1!$BY38) | AV38: =CONCATENATE([1]Feuil1!$BZ38,[1]Feuil1!$CA38) | AW38: =CONCATENATE([1]Feuil1!$CB38,[1]Feuil1!$CC38)
A39: =[1]Feuil1!$A39 -> 42797 | B39: =CONCATENATE([1]Feuil1!$B39) -> TP2 | C39: =CONCATENATE([1]Feuil1!$C39,[1]Feuil1!$D39) -> CB1 G | D39: =CONCATENATE([1]Feuil1!$E39,[1]Feuil1!$F39) -> CB1 H | E39: =CONCATENATE([1]Feuil1!$G39) -> TP2 | F39: =CONCATENATE([1]Feuil1!H39,[1]Feuil1!I39) -> CB1 H | G39: =CONCATENATE([1]Feuil1!$J39,[1]Feuil1!$K39) -> CB1 G | I39: =CONCATENATE([1]Feuil1!$M39,[1]Feuil1!$N39) | J39: =CONCATENATE([1]Feuil1!O39,[1]Feuil1!P39) | K39: =CONCATENATE([1]Feuil1!$Q39) | L39: =CONCATENATE([1]Feuil1!R39,[1]Feuil1!S39) | M39: =CONCATENATE([1]Feuil1!$T39,[1]Feuil1!$U39) | N39: =CONCATENATE([1]Feuil1!$V39) | O39: =CONCATENATE([1]Feuil1!W39,[1]Feuil1!X39) | P39: =CONCATENATE([1]Feuil1!$Y39,[1]Feuil1!$Z39) | Q39: =CONCATENATE([1]Feuil1!$AA39) | R39: =CONCATENATE([1]Feuil1!AB39,[1]Feuil1!AC39) | S39: =CONCATENATE([1]Feuil1!$AD39,[1]Feuil1!$AE39) | T39: =CONCATENATE([1]Feuil1!$AF39) | U39: =CONCATENATE([1]Feuil1!AG39,[1]Feuil1!AH39) | V39: =CONCATENATE([1]Feuil1!$AI39,[1]Feuil1!$AJ39) | W39: =CONCATENATE([1]Feuil1!$AK39) | X39: =CONCATENATE([1]Feuil1!AL39,[1]Feuil1!AM39) | Y39: =CONCATENATE([1]Feuil1!AN39,[1]Feuil1!AO39) | Z39: =CONCATENATE([1]Feuil1!$AP39) | AA39: =CONCATENATE([1]Feuil1!AQ39,[1]Feuil1!AR39) | AB39: =CONCATENATE([1]Feuil1!AS39,[1]Feuil1!AT39) | AC39: =CONCATENATE([1]Feuil1!$AU39) -> Fraction C | AD39: =CONCATENATE([1]Feuil1!AV39,[1]Feuil1!AW39) -> CB1 D | AE39: =CONCATENATE([1]Feuil1!AX39,[1]Feuil1!AY39) -> CB1 D | AF39: =CONCATENATE([1]Feuil1!$AZ39) | AG39: =CONCATENATE([1]Feuil1!BA39,[1]Feuil1!BB39) | AH39: =CONCATENATE([1]Feuil1!BC39,[1]Feuil1!BD39) | AI39: =CONCATENATE([1]Feuil1!$BE39) -> Phylogénie | AJ39: =CONCATENATE([1]Feuil1!$BF39,[1]Feuil1!$BG39) -> DLCB1 | AK39: =CONCATENATE([1]Feuil1!$BH39,[1]Feuil1!$BI39) -> BI G | AL39: =CONCATENATE([1]Feuil1!$BJ39) | AM39: =CONCATENATE([1]Feuil1!$BK39,[1]Feuil1!$BL39) | AN39: =CONCATENATE([1]Feuil1!$BM39,[1]Feuil1!$BN39) | AO39: =CONCATENATE([1]Feuil1!$BO39) | AP39: =CONCATENATE([1]Feuil1!$BP39,[1]Feuil1!$BQ39) | AQ39: =CONCATENATE([1]Feuil1!$BR39,[1]Feuil1!$BS39) | AR39: =CONCATENATE([1]Feuil1!$BT39) | AS39: =CONCATENATE([1]Feuil1!$BU39,[1]Feuil1!$BV39) | AT39: =CONCATENATE([1]Feuil1!$BW39,[1]Feuil1!$BX39) | AU39: =CONCATENATE([1]Feuil1!$BY39) | AV39: =CONCATENATE([1]Feuil1!$BZ39,[1]Feuil1!$CA39) | AW39: =CONCATENATE([1]Feuil1!$CB39,[1]Feuil1!$CC39)
B40: =CONCATENATE([1]Feuil1!$B40) | E40: =CONCATENATE([1]Feuil1!$G40) | K40: =CONCATENATE([1]Feuil1!$Q40) | N40: =CONCATENATE([1]Feuil1!$V40) | Q40: =CONCATENATE([1]Feuil1!$AA40) | T40: =CONCATENATE([1]Feuil1!$AF40) | W40: =CONCATENATE([1]Feuil1!$AK40) | Z40: =CONCATENATE([1]Feuil1!$AP40) | AC40: =CONCATENATE([1]Feuil1!$AU40) | AF40: =CONCATENATE([1]Feuil1!$AZ40) | AI40: =CONCATENATE([1]Feuil1!$BE40) | AL40: =CONCATENATE([1]Feuil1!$BJ40) | AO40: =CONCATENATE([1]Feuil1!$BO40) | AR40: =CONCATENATE([1]Feuil1!$BT40) | AU40: =CONCATENATE([1]Feuil1!$BY40)
A41: =[1]Feuil1!$A41 -> 42800 | B41: =CONCATENATE([1]Feuil1!$B41) | C41: =CONCATENATE([1]Feuil1!$C41,[1]Feuil1!$D41) | D41: =CONCATENATE([1]Feuil1!$E41,[1]Feuil1!$F41) | E41: =CONCATENATE([1]Feuil1!$G41) -> TP2 | F41: =CONCATENATE([1]Feuil1!H41,[1]Feuil1!I41) | G41: =CONCATENATE([1]Feuil1!$J41,[1]Feuil1!$K41) -> CB2 Q | I41: =CONCATENATE([1]Feuil1!$M41,[1]Feuil1!$N41) -> CB2 R | J41: =CONCATENATE([1]Feuil1!O41,[1]Feuil1!P41) | K41: =CONCATENATE([1]Feuil1!$Q41) | L41: =CONCATENATE([1]Feuil1!R41,[1]Feuil1!S41) | M41: =CONCATENATE([1]Feuil1!$T41,[1]Feuil1!$U41) | N41: =CONCATENATE([1]Feuil1!$V41) | O41: =CONCATENATE([1]Feuil1!W41,[1]Feuil1!X41) | P41: =CONCATENATE([1]Feuil1!$Y41,[1]Feuil1!$Z41) | Q41: =CONCATENATE([1]Feuil1!$AA41) | R41: =CONCATENATE([1]Feuil1!AB41,[1]Feuil1!AC41) -> MPCI2 K | S41: =CONCATENATE([1]Feuil1!$AD41,[1]Feuil1!$AE41) -> MPCI2 L | T41: =CONCATENATE([1]Feuil1!$AF41) | U41: =CONCATENATE([1]Feuil1!AG41,[1]Feuil1!AH41) | V41: =CONCATENATE([1]Feuil1!$AI41,[1]Feuil1!$AJ41) | W41: =CONCATENATE([1]Feuil1!$AK41) | X41: =CONCATENATE([1]Feuil1!AL41,[1]Feuil1!AM41) | Y41: =CONCATENATE([1]Feuil1!AN41,[1]Feuil1!AO41) | Z41: =CONCATENATE([1]Feuil1!$AP41) | AA41: =CONCATENATE([1]Feuil1!AQ41,[1]Feuil1!AR41) | AB41: =CONCATENATE([1]Feuil1!AS41,[1]Feuil1!AT41) | AC41: =CONCATENATE([1]Feuil1!$AU41) -> Fraction C | AD41: =CONCATENATE([1]Feuil1!AV41,[1]Feuil1!AW41) -> CB2 K | AE41: =CONCATENATE([1]Feuil1!AX41,[1]Feuil1!AY41) -> CB2 K | AF41: =CONCATENATE([1]Feuil1!$AZ41) | AG41: =CONCATENATE([1]Feuil1!BA41,[1]Feuil1!BB41) | AH41: =CONCATENATE([1]Feuil1!BC41,[1]Feuil1!BD41) | AI41: =CONCATENATE([1]Feuil1!$BE41) -> Phylogénie | AJ41: =CONCATENATE([1]Feuil1!$BF41,[1]Feuil1!$BG41) -> CB2 O | AK41: =CONCATENATE([1]Feuil1!$BH41,[1]Feuil1!$BI41) -> CB2 P | AL41: =CONCATENATE([1]Feuil1!$BJ41) | AM41: =CONCATENATE([1]Feuil1!$BK41,[1]Feuil1!$BL41) | AN41: =CONCATENATE([1]Feuil1!$BM41,[1]Feuil1!$BN41) | AO41: =CONCATENATE([1]Feuil1!$BO41) | AP41: =CONCATENATE([1]Feuil1!$BP41,[1]Feuil1!$BQ41) | AQ41: =CONCATENATE([1]Feuil1!$BR41,[1]Feuil1!$BS41) | AR41: =CONCATENATE([1]Feuil1!$BT41) | AS41: =CONCATENATE([1]Feuil1!$BU41,[1]Feuil1!$BV41) | AT41: =CONCATENATE([1]Feuil1!$BW41,[1]Feuil1!$BX41) | AU41: =CONCATENATE([1]Feuil1!$BY41) | AV41: =CONCATENATE([1]Feuil1!$BZ41,[1]Feuil1!$CA41) -> CB2 Q | AW41: =CONCATENATE([1]Feuil1!$CB41,[1]Feuil1!$CC41) -> CB2 R
A42: =[1]Feuil1!$A42 -> 42801 | B42: =CONCATENATE([1]Feuil1!$B42) -> TP2 | C42: =CONCATENATE([1]Feuil1!$C42,[1]Feuil1!$D42) -> CB1 A | D42: =CONCATENATE([1]Feuil1!$E42,[1]Feuil1!$F42) -> CB1 F | E42: =CONCATENATE([1]Feuil1!$G42) -> TP2 | F42: =CONCATENATE([1]Feuil1!H42,[1]Feuil1!I42) -> DLCB1 | G42: =CONCATENATE([1]Feuil1!$J42,[1]Feuil1!$K42) -> CB1 B | I42: =CONCATENATE([1]Feuil1!$M42,[1]Feuil1!$N42) -> DLCB2 | J42: =CONCATENATE([1]Feuil1!O42,[1]Feuil1!P42) -> CB1 D | K42: =CONCATENATE([1]Feuil1!$Q42) -> Pression | L42: =CONCATENATE([1]Feuil1!R42,[1]Feuil1!S42) -> CB1 B | M42: =CONCATENATE([1]Feuil1!$T42,[1]Feuil1!$U42) -> CB1 A | N42: =CONCATENATE([1]Feuil1!$V42) | O42: =CONCATENATE([1]Feuil1!W42,[1]Feuil1!X42) | P42: =CONCATENATE([1]Feuil1!$Y42,[1]Feuil1!$Z42) | Q42: =CONCATENATE([1]Feuil1!$AA42) | R42: =CONCATENATE([1]Feuil1!AB42,[1]Feuil1!AC42) | S42: =CONCATENATE([1]Feuil1!$AD42,[1]Feuil1!$AE42) | T42: =CONCATENATE([1]Feuil1!$AF42) | U42: =CONCATENATE([1]Feuil1!AG42,[1]Feuil1!AH42) | V42: =CONCATENATE([1]Feuil1!$AI42,[1]Feuil1!$AJ42) | W42: =CONCATENATE([1]Feuil1!$AK42) | X42: =CONCATENATE([1]Feuil1!AL42,[1]Feuil1!AM42) | Y42: =CONCATENATE([1]Feuil1!AN42,[1]Feuil1!AO42) | Z42: =CONCATENATE([1]Feuil1!$AP42) | AA42: =CONCATENATE([1]Feuil1!AQ42,[1]Feuil1!AR42) | AB42: =CONCATENATE([1]Feuil1!AS42,[1]Feuil1!AT42) | AC42: =CONCATENATE([1]Feuil1!$AU42) -> Fraction C | AD42: =CONCATENATE([1]Feuil1!AV42,[1]Feuil1!AW42) -> CB1 E | AE42: =CONCATENATE([1]Feuil1!AX42,[1]Feuil1!AY42) -> CB1 E | AF42: =CONCATENATE([1]Feuil1!$AZ42) | AG42: =CONCATENATE([1]Feuil1!BA42,[1]Feuil1!BB42) | AH42: =CONCATENATE([1]Feuil1!BC42,[1]Feuil1!BD42) | AI42: =CONCATENATE([1]Feuil1!$BE42) | AJ42: =CONCATENATE([1]Feuil1!$BF42,[1]Feuil1!$BG42) | AK42: =CONCATENATE([1]Feuil1!$BH42,[1]Feuil1!$BI42) | AL42: =CONCATENATE([1]Feuil1!$BJ42) | AM42: =CONCATENATE([1]Feuil1!$BK42,[1]Feuil1!$BL42) | AN42: =CONCATENATE([1]Feuil1!$BM42,[1]Feuil1!$BN42) | AO42: =CONCATENATE([1]Feuil1!$BO42) | AP42: =CONCATENATE([1]Feuil1!$BP42,[1]Feuil1!$BQ42) | AQ42: =CONCATENATE([1]Feuil1!$BR42,[1]Feuil1!$BS42) | AR42: =CONCATENATE([1]Feuil1!$BT42) | AS42: =CONCATENATE([1]Feuil1!$BU42,[1]Feuil1!$BV42) | AT42: =CONCATENATE([1]Feuil1!$BW42,[1]Feuil1!$BX42) | AU42: =CONCATENATE([1]Feuil1!$BY42) | AV42: =CONCATENATE([1]Feuil1!$BZ42,[1]Feuil1!$CA42) | AW42: =CONCATENATE([1]Feuil1!$CB42,[1]Feuil1!$CC42)
A43: =[1]Feuil1!$A43 -> 42802 | B43: =CONCATENATE([1]Feuil1!$B43) -> TP2 | C43: =CONCATENATE([1]Feuil1!$C43,[1]Feuil1!$D43) -> MPCI1 B | D43: =CONCATENATE([1]Feuil1!$E43,[1]Feuil1!$F43) -> MPCI1 A | E43: =CONCATENATE([1]Feuil1!$G43) -> TP2 | F43: =CONCATENATE([1]Feuil1!H43,[1]Feuil1!I43) -> BI A | G43: =CONCATENATE([1]Feuil1!$J43,[1]Feuil1!$K43) -> BI B | I43: =CONCATENATE([1]Feuil1!$M43,[1]Feuil1!$N43) -> BI G | J43: =CONCATENATE([1]Feuil1!O43,[1]Feuil1!P43) -> BI H | K43: =CONCATENATE([1]Feuil1!$Q43) -> Pression | L43: =CONCATENATE([1]Feuil1!R43,[1]Feuil1!S43) -> MPCI1 A | M43: =CONCATENATE([1]Feuil1!$T43,[1]Feuil1!$U43) -> MPCI1 B | N43: =CONCATENATE([1]Feuil1!$V43) | O43: =CONCATENATE([1]Feuil1!W43,[1]Feuil1!X43) | P43: =CONCATENATE([1]Feuil1!$Y43,[1]Feuil1!$Z43) | Q43: =CONCATENATE([1]Feuil1!$AA43) | R43: =CONCATENATE([1]Feuil1!AB43,[1]Feuil1!AC43) | S43: =CONCATENATE([1]Feuil1!$AD43,[1]Feuil1!$AE43) | T43: =CONCATENATE([1]Feuil1!$AF43) | U43: =CONCATENATE([1]Feuil1!AG43,[1]Feuil1!AH43) | V43: =CONCATENATE([1]Feuil1!$AI43,[1]Feuil1!$AJ43) | W43: =CONCATENATE([1]Feuil1!$AK43) | X43: =CONCATENATE([1]Feuil1!AL43,[1]Feuil1!AM43) | Y43: =CONCATENATE([1]Feuil1!AN43,[1]Feuil1!AO43) | Z43: =CONCATENATE([1]Feuil1!$AP43) | AA43: =CONCATENATE([1]Feuil1!AQ43,[1]Feuil1!AR43) | AB43: =CONCATENATE([1]Feuil1!AS43,[1]Feuil1!AT43) | AC43: =CONCATENATE([1]Feuil1!$AU43) -> Fraction C | AD43: =CONCATENATE([1]Feuil1!AV43,[1]Feuil1!AW43) -> CB2 L | AE43: =CONCATENATE([1]Feuil1!AX43,[1]Feuil1!AY43) -> CB2 L | AF43: =CONCATENATE([1]Feuil1!$AZ43) | AG43: =CONCATENATE([1]Feuil1!BA43,[1]Feuil1!BB43) | AH43: =CONCATENATE([1]Feuil1!BC43,[1]Feuil1!BD43) | AI43: =CONCATENATE([1]Feuil1!$BE43) -> Phylogénie | AJ43: =CONCATENATE([1]Feuil1!$BF43,[1]Feuil1!$BG43) -> CB2 Q | AK43: =CONCATENATE([1]Feuil1!$BH43,[1]Feuil1!$BI43) -> CB2 R | AL43: =CONCATENATE([1]Feuil1!$BJ43) | AM43: =CONCATENATE([1]Feuil1!$BK43,[1]Feuil1!$BL43) | AN43: =CONCATENATE([1]Feuil1!$BM43,[1]Feuil1!$BN43) | AO43: =CONCATENATE([1]Feuil1!$BO43) | AP43: =CONCATENATE([1]Feuil1!$BP43,[1]Feuil1!$BQ43) | AQ43: =CONCATENATE([1]Feuil1!$BR43,[1]Feuil1!$BS43) | AR43: =CONCATENATE([1]Feuil1!$BT43) | AS43: =CONCATENATE([1]Feuil1!$BU43,[1]Feuil1!$BV43) -> CB2 N | AT43: =CONCATENATE([1]Feuil1!$BW43,[1]Feuil1!$BX43) -> CB2 N | AU43: =CONCATENATE([1]Feuil1!$BY43) | AV43: =CONCATENATE([1]Feuil1!$BZ43,[1]Feuil1!$CA43) -> CB2 M | AW43: =CONCATENATE([1]Feuil1!$CB43,[1]Feuil1!$CC43) -> CB2 M
A44: =[1]Feuil1!$A44 -> 42803 | B44: =CONCATENATE([1]Feuil1!$B44) | C44: =CONCATENATE([1]Feuil1!$C44,[1]Feuil1!$D44) | D44: =CONCATENATE([1]Feuil1!$E44,[1]Feuil1!$F44) | E44: =CONCATENATE([1]Feuil1!$G44) | F44: =CONCATENATE([1]Feuil1!H44,[1]Feuil1!I44) | G44: =CONCATENATE([1]Feuil1!$J44,[1]Feuil1!$K44) | I44: =CONCATENATE([1]Feuil1!$M44,[1]Feuil1!$N44) | J44: =CONCATENATE([1]Feuil1!O44,[1]Feuil1!P44) | K44: =CONCATENATE([1]Feuil1!$Q44) -> Pression | L44: =CONCATENATE([1]Feuil1!R44,[1]Feuil1!S44) -> DLMP1 | M44: =CONCATENATE([1]Feuil1!$T44,[1]Feuil1!$U44) | N44: =CONCATENATE([1]Feuil1!$V44) | O44: =CONCATENATE([1]Feuil1!W44,[1]Feuil1!X44) | P44: =CONCATENATE([1]Feuil1!$Y44,[1]Feuil1!$Z44) | Q44: =CONCATENATE([1]Feuil1!$AA44) | R44: =CONCATENATE([1]Feuil1!AB44,[1]Feuil1!AC44) | S44: =CONCATENATE([1]Feuil1!$AD44,[1]Feuil1!$AE44) | T44: =CONCATENATE([1]Feuil1!$AF44) | U44: =CONCATENATE([1]Feuil1!AG44,[1]Feuil1!AH44) | V44: =CONCATENATE([1]Feuil1!$AI44,[1]Feuil1!$AJ44) | W44: =CONCATENATE([1]Feuil1!$AK44) | X44: =CONCATENATE([1]Feuil1!AL44,[1]Feuil1!AM44) | Y44: =CONCATENATE([1]Feuil1!AN44,[1]Feuil1!AO44) | Z44: =CONCATENATE([1]Feuil1!$AP44) | AA44: =CONCATENATE([1]Feuil1!AQ44,[1]Feuil1!AR44) | AB44: =CONCATENATE([1]Feuil1!AS44,[1]Feuil1!AT44) | AC44: =CONCATENATE([1]Feuil1!$AU44) | AD44: =CONCATENATE([1]Feuil1!AV44,[1]Feuil1!AW44) | AE44: =CONCATENATE([1]Feuil1!AX44,[1]Feuil1!AY44) | AF44: =CONCATENATE([1]Feuil1!$AZ44) | AG44: =CONCATENATE([1]Feuil1!BA44,[1]Feuil1!BB44) | AH44: =CONCATENATE([1]Feuil1!BC44,[1]Feuil1!BD44) | AI44: =CONCATENATE([1]Feuil1!$BE44) | AJ44: =CONCATENATE([1]Feuil1!$BF44,[1]Feuil1!$BG44) | AK44: =CONCATENATE([1]Feuil1!$BH44,[1]Feuil1!$BI44) | AL44: =CONCATENATE([1]Feuil1!$BJ44) | AM44: =CONCATENATE([1]Feuil1!$BK44,[1]Feuil1!$BL44) | AN44: =CONCATENATE([1]Feuil1!$BM44,[1]Feuil1!$BN44) | AO44: =CONCATENATE([1]Feuil1!$BO44) | AP44: =CONCATENATE([1]Feuil1!$BP44,[1]Feuil1!$BQ44) | AQ44: =CONCATENATE([1]Feuil1!$BR44,[1]Feuil1!$BS44) | AR44: =CONCATENATE([1]Feuil1!$BT44) | AS44: =CONCATENATE([1]Feuil1!$BU44,[1]Feuil1!$BV44) | AT44: =CONCATENATE([1]Feuil1!$BW44,[1]Feuil1!$BX44) | AU44: =CONCATENATE([1]Feuil1!$BY44) | AV44: =CONCATENATE([1]Feuil1!$BZ44,[1]Feuil1!$CA44) | AW44: =CONCATENATE([1]Feuil1!$CB44,[1]Feuil1!$CC44)
A45: =[1]Feuil1!$A45 -> 42804 | B45: =CONCATENATE([1]Feuil1!$B45) -> TP2 | C45: =CONCATENATE([1]Feuil1!$C45,[1]Feuil1!$D45) -> CB1 E | D45: =CONCATENATE([1]Feuil1!$E45,[1]Feuil1!$F45) -> CB1 B | E45: =CONCATENATE([1]Feuil1!$G45) | F45: =CONCATENATE([1]Feuil1!H45,[1]Feuil1!I45) | G45: =CONCATENATE([1]Feuil1!$J45,[1]Feuil1!$K45) | I45: =CONCATENATE([1]Feuil1!$M45,[1]Feuil1!$N45) | J45: =CONCATENATE([1]Feuil1!O45,[1]Feuil1!P45) | K45: =CONCATENATE([1]Feuil1!$Q45) -> Pression | L45: =CONCATENATE([1]Feuil1!R45,[1]Feuil1!S45) -> MPCI1 C | M45: =CONCATENATE([1]Feuil1!$T45,[1]Feuil1!$U45) -> DLCB1 | N45: =CONCATENATE([1]Feuil1!$V45) | O45: =CONCATENATE([1]Feuil1!W45,[1]Feuil1!X45) | P45: =CONCATENATE([1]Feuil1!$Y45,[1]Feuil1!$Z45) | Q45: =CONCATENATE([1]Feuil1!$AA45) | R45: =CONCATENATE([1]Feuil1!AB45,[1]Feuil1!AC45) | S45: =CONCATENATE([1]Feuil1!$AD45,[1]Feuil1!$AE45) | T45: =CONCATENATE([1]Feuil1!$AF45) | U45: =CONCATENATE([1]Feuil1!AG45,[1]Feuil1!AH45) | V45: =CONCATENATE([1]Feuil1!$AI45,[1]Feuil1!$AJ45) | W45: =CONCATENATE([1]Feuil1!$AK45) | X45: =CONCATENATE([1]Feuil1!AL45,[1]Feuil1!AM45) | Y45: =CONCATENATE([1]Feuil1!AN45,[1]Feuil1!AO45) | Z45: =CONCATENATE([1]Feuil1!$AP45) | AA45: =CONCATENATE([1]Feuil1!AQ45,[1]Feuil1!AR45) | AB45: =CONCATENATE([1]Feuil1!AS45,[1]Feuil1!AT45) | AC45: =CONCATENATE([1]Feuil1!$AU45) -> Fraction C | AD45: =CONCATENATE([1]Feuil1!AV45,[1]Feuil1!AW45) -> CB1 F | AE45: =CONCATENATE([1]Feuil1!AX45,[1]Feuil1!AY45) -> CB1 F | AF45: =CONCATENATE([1]Feuil1!$AZ45) | AG45: =CONCATENATE([1]Feuil1!BA45,[1]Feuil1!BB45) | AH45: =CONCATENATE([1]Feuil1!BC45,[1]Feuil1!BD45) | AI45: =CONCATENATE([1]Feuil1!$BE45) | AJ45: =CONCATENATE([1]Feuil1!$BF45,[1]Feuil1!$BG45) | AK45: =CONCATENATE([1]Feuil1!$BH45,[1]Feuil1!$BI45) | AL45: =CONCATENATE([1]Feuil1!$BJ45) | AM45: =CONCATENATE([1]Feuil1!$BK45,[1]Feuil1!$BL45) | AN45: =CONCATENATE([1]Feuil1!$BM45,[1]Feuil1!$BN45) | AO45: =CONCATENATE([1]Feuil1!$BO45) | AP45: =CONCATENATE([1]Feuil1!$BP45,[1]Feuil1!$BQ45) | AQ45: =CONCATENATE([1]Feuil1!$BR45,[1]Feuil1!$BS45) | AR45: =CONCATENATE([1]Feuil1!$BT45) | AS45: =CONCATENATE([1]Feuil1!$BU45,[1]Feuil1!$BV45) | AT45: =CONCATENATE([1]Feuil1!$BW45,[1]Feuil1!$BX45) | AU45: =CONCATENATE([1]Feuil1!$BY45) | AV45: =CONCATENATE([1]Feuil1!$BZ45,[1]Feuil1!$CA45) | AW45: =CONCATENATE([1]Feuil1!$CB45,[1]Feuil1!$CC45)
B46: =CONCATENATE([1]Feuil1!$B46) | E46: =CONCATENATE([1]Feuil1!$G46) | K46: =CONCATENATE([1]Feuil1!$Q46) | N46: =CONCATENATE([1]Feuil1!$V46) | Q46: =CONCATENATE([1]Feuil1!$AA46) | T46: =CONCATENATE([1]Feuil1!$AF46) | W46: =CONCATENATE([1]Feuil1!$AK46) | Z46: =CONCATENATE([1]Feuil1!$AP46) | AC46: =CONCATENATE([1]Feuil1!$AU46) | AF46: =CONCATENATE([1]Feuil1!$AZ46) | AI46: =CONCATENATE([1]Feuil1!$BE46) | AL46: =CONCATENATE([1]Feuil1!$BJ46) | AO46: =CONCATENATE([1]Feuil1!$BO46) | AR46: =CONCATENATE([1]Feuil1!$BT46) | AU46: =CONCATENATE([1]Feuil1!$BY46)
A47: =[1]Feuil1!$A47 -> 42807 | B47: =CONCATENATE([1]Feuil1!$B47) -> TP2 | C47: =CONCATENATE([1]Feuil1!$C47,[1]Feuil1!$D47) | D47: =CONCATENATE([1]Feuil1!$E47,[1]Feuil1!$F47) -> DLMP1 | E47: =CONCATENATE([1]Feuil1!$G47) -> TP3 | F47: =CONCATENATE([1]Feuil1!H47,[1]Feuil1!I47) -> CB2 I | G47: =CONCATENATE([1]Feuil1!$J47,[1]Feuil1!$K47) -> CB2 J | I47: =CONCATENATE([1]Feuil1!$M47,[1]Feuil1!$N47) -> CB2 P | J47: =CONCATENATE([1]Feuil1!O47,[1]Feuil1!P47) -> CB2 N | K47: =CONCATENATE([1]Feuil1!$Q47) | L47: =CONCATENATE([1]Feuil1!R47,[1]Feuil1!S47) | M47: =CONCATENATE([1]Feuil1!$T47,[1]Feuil1!$U47) | N47: =CONCATENATE([1]Feuil1!$V47) | O47: =CONCATENATE([1]Feuil1!W47,[1]Feuil1!X47) | P47: =CONCATENATE([1]Feuil1!$Y47,[1]Feuil1!$Z47) | Q47: =CONCATENATE([1]Feuil1!$AA47) | R47: =CONCATENATE([1]Feuil1!AB47,[1]Feuil1!AC47) | S47: =CONCATENATE([1]Feuil1!$AD47,[1]Feuil1!$AE47) | T47: =CONCATENATE([1]Feuil1!$AF47) | U47: =CONCATENATE([1]Feuil1!AG47,[1]Feuil1!AH47) | V47: =CONCATENATE([1]Feuil1!$AI47,[1]Feuil1!$AJ47) | W47: =CONCATENATE([1]Feuil1!$AK47) | X47: =CONCATENATE([1]Feuil1!AL47,[1]Feuil1!AM47) | Y47: =CONCATENATE([1]Feuil1!AN47,[1]Feuil1!AO47) | Z47: =CONCATENATE([1]Feuil1!$AP47) | AA47: =CONCATENATE([1]Feuil1!AQ47,[1]Feuil1!AR47) | AB47: =CONCATENATE([1]Feuil1!AS47,[1]Feuil1!AT47) | AC47: =CONCATENATE([1]Feuil1!$AU47) -> Fraction C | AD47: =CONCATENATE([1]Feuil1!AV47,[1]Feuil1!AW47) -> CB2 M | AE47: =CONCATENATE([1]Feuil1!AX47,[1]Feuil1!AY47) -> CB2 M | AF47: =CONCATENATE([1]Feuil1!$AZ47) | AG47: =CONCATENATE([1]Feuil1!BA47,[1]Feuil1!BB47) | AH47: =CONCATENATE([1]Feuil1!BC47,[1]Feuil1!BD47) | AI47: =CONCATENATE([1]Feuil1!$BE47) | AJ47: =CONCATENATE([1]Feuil1!$BF47,[1]Feuil1!$BG47) | AK47: =CONCATENATE([1]Feuil1!$BH47,[1]Feuil1!$BI47) | AL47: =CONCATENATE([1]Feuil1!$BJ47) | AM47: =CONCATENATE([1]Feuil1!$BK47,[1]Feuil1!$BL47) | AN47: =CONCATENATE([1]Feuil1!$BM47,[1]Feuil1!$BN47) | AO47: =CONCATENATE([1]Feuil1!$BO47) | AP47: =CONCATENATE([1]Feuil1!$BP47,[1]Feuil1!$BQ47) | AQ47: =CONCATENATE([1]Feuil1!$BR47,[1]Feuil1!$BS47) | AR47: =CONCATENATE([1]Feuil1!$BT47) | AS47: =CONCATENATE([1]Feuil1!$BU47,[1]Feuil1!$BV47) | AT47: =CONCATENATE([1]Feuil1!$BW47,[1]Feuil1!$BX47) | AU47: =CONCATENATE([1]Feuil1!$BY47) | AV47: =CONCATENATE([1]Feuil1!$BZ47,[1]Feuil1!$CA47) | AW47: =CONCATENATE([1]Feuil1!$CB47,[1]Feuil1!$CC47) | AY47: Paléontologie
A48: =[1]Feuil1!$A48 -> 42808 | B48: =CONCATENATE([1]Feuil1!$B48) -> TP2 | C48: =CONCATENATE([1]Feuil1!$C48,[1]Feuil1!$D48) -> DLCB2 | D48: =CONCATENATE([1]Feuil1!$E48,[1]Feuil1!$F48) -> CB1 C | E48: =CONCATENATE([1]Feuil1!$G48) -> TP3 | F48: =CONCATENATE([1]Feuil1!H48,[1]Feuil1!I48) -> CB1 D | G48: =CONCATENATE([1]Feuil1!$J48,[1]Feuil1!$K48) -> CB1 F | I48: =CONCATENATE([1]Feuil1!$M48,[1]Feuil1!$N48) -> CB1 A | J48: =CONCATENATE([1]Feuil1!O48,[1]Feuil1!P48) -> CB1 B | K48: =CONCATENATE([1]Feuil1!$Q48) -> Pression | L48: =CONCATENATE([1]Feuil1!R48,[1]Feuil1!S48) -> CB1 C | M48: =CONCATENATE([1]Feuil1!$T48,[1]Feuil1!$U48) -> CB1 D | N48: =CONCATENATE([1]Feuil1!$V48) | O48: =CONCATENATE([1]Feuil1!W48,[1]Feuil1!X48) | P48: =CONCATENATE([1]Feuil1!$Y48,[1]Feuil1!$Z48) | Q48: =CONCATENATE([1]Feuil1!$AA48) | R48: =CONCATENATE([1]Feuil1!AB48,[1]Feuil1!AC48) | S48: =CONCATENATE([1]Feuil1!$AD48,[1]Feuil1!$AE48) | T48: =CONCATENATE([1]Feuil1!$AF48) | U48: =CONCATENATE([1]Feuil1!AG48,[1]Feuil1!AH48) | V48: =CONCATENATE([1]Feuil1!$AI48,[1]Feuil1!$AJ48) | W48: =CONCATENATE([1]Feuil1!$AK48) | X48: =CONCATENATE([1]Feuil1!AL48,[1]Feuil1!AM48) | Y48: =CONCATENATE([1]Feuil1!AN48,[1]Feuil1!AO48) | Z48: =CONCATENATE([1]Feuil1!$AP48) | AA48: =CONCATENATE([1]Feuil1!AQ48,[1]Feuil1!AR48) | AB48: =CONCATENATE([1]Feuil1!AS48,[1]Feuil1!AT48) | AC48: =CONCATENATE([1]Feuil1!$AU48) | AD48: =CONCATENATE([1]Feuil1!AV48,[1]Feuil1!AW48) | AE48: =CONCATENATE([1]Feuil1!AX48,[1]Feuil1!AY48) | AF48: =CONCATENATE([1]Feuil1!$AZ48) | AG48: =CONCATENATE([1]Feuil1!BA48,[1]Feuil1!BB48) | AH48: =CONCATENATE([1]Feuil1!BC48,[1]Feuil1!BD48) | AI48: =CONCATENATE([1]Feuil1!$BE48) | AJ48: =CONCATENATE([1]Feuil1!$BF48,[1]Feuil1!$BG48) | AK48: =CONCATENATE([1]Feuil1!$BH48,[1]Feuil1!$BI48) | AL48: =CONCATENATE([1]Feuil1!$BJ48) | AM48: =CONCATENATE([1]Feuil1!$BK48,[1]Feuil1!$BL48) | AN48: =CONCATENATE([1]Feuil1!$BM48,[1]Feuil1!$BN48) | AO48: =CONCATENATE([1]Feuil1!$BO48) | AP48: =CONCATENATE([1]Feuil1!$BP48,[1]Feuil1!$BQ48) | AQ48: =CONCATENATE([1]Feuil1!$BR48,[1]Feuil1!$BS48) | AR48: =CONCATENATE([1]Feuil1!$BT48) | AS48: =CONCATENATE([1]Feuil1!$BU48,[1]Feuil1!$BV48) | AT48: =CONCATENATE([1]Feuil1!$BW48,[1]Feuil1!$BX48) | AU48: =CONCATENATE([1]Feuil1!$BY48) | AV48: =CONCATENATE([1]Feuil1!$BZ48,[1]Feuil1!$CA48) -> CB2 P | AW48: =CONCATENATE([1]Feuil1!$CB48,[1]Feuil1!$CC48) -> CB2 O
A49: =[1]Feuil1!$A49 -> 42809 | B49: =CONCATENATE([1]Feuil1!$B49) -> TP2 | C49: =CONCATENATE([1]Feuil1!$C49,[1]Feuil1!$D49) -> MPCI1 G | D49: =CONCATENATE([1]Feuil1!$E49,[1]Feuil1!$F49) -> MPCI1 H | E49: =CONCATENATE([1]Feuil1!$G49) -> TP3 | F49: =CONCATENATE([1]Feuil1!H49,[1]Feuil1!I49) -> CB2 L | G49: =CONCATENATE([1]Feuil1!$J49,[1]Feuil1!$K49) -> CB2 O | I49: =CONCATENATE([1]Feuil1!$M49,[1]Feuil1!$N49) -> CB2 M | J49: =CONCATENATE([1]Feuil1!O49,[1]Feuil1!P49) -> CB2 Q | K49: =CONCATENATE([1]Feuil1!$Q49) -> Pression | L49: =CONCATENATE([1]Feuil1!R49,[1]Feuil1!S49) -> MPCI1 E | M49: =CONCATENATE([1]Feuil1!$T49,[1]Feuil1!$U49) -> MPCI1 F | N49: =CONCATENATE([1]Feuil1!$V49) | O49: =CONCATENATE([1]Feuil1!W49,[1]Feuil1!X49) | P49: =CONCATENATE([1]Feuil1!$Y49,[1]Feuil1!$Z49) | Q49: =CONCATENATE([1]Feuil1!$AA49) | R49: =CONCATENATE([1]Feuil1!AB49,[1]Feuil1!AC49) | S49: =CONCATENATE([1]Feuil1!$AD49,[1]Feuil1!$AE49) | T49: =CONCATENATE([1]Feuil1!$AF49) | U49: =CONCATENATE([1]Feuil1!AG49,[1]Feuil1!AH49) | V49: =CONCATENATE([1]Feuil1!$AI49,[1]Feuil1!$AJ49) | W49: =CONCATENATE([1]Feuil1!$AK49) | X49: =CONCATENATE([1]Feuil1!AL49,[1]Feuil1!AM49) | Y49: =CONCATENATE([1]Feuil1!AN49,[1]Feuil1!AO49) | Z49: =CONCATENATE([1]Feuil1!$AP49) | AA49: =CONCATENATE([1]Feuil1!AQ49,[1]Feuil1!AR49) | AB49: =CONCATENATE([1]Feuil1!AS49,[1]Feuil1!AT49) | AC49: =CONCATENATE([1]Feuil1!$AU49) -> Fraction C | AD49: =CONCATENATE([1]Feuil1!AV49,[1]Feuil1!AW49) -> BI D | AE49: =CONCATENATE([1]Feuil1!AX49,[1]Feuil1!AY49) -> BI D | AF49: =CONCATENATE([1]Feuil1!$AZ49) | AG49: =CONCATENATE([1]Feuil1!BA49,[1]Feuil1!BB49) | AH49: =CONCATENATE([1]Feuil1!BC49,[1]Feuil1!BD49) | AI49: =CONCATENATE([1]Feuil1!$BE49) -> Phylogénie | AJ49: =CONCATENATE([1]Feuil1!$BF49,[1]Feuil1!$BG49) -> BI E | AK49: =CONCATENATE([1]Feuil1!$BH49,[1]Feuil1!$BI49) -> DL BI A | AL49: =CONCATENATE([1]Feuil1!$BJ49) | AM49: =CONCATENATE([1]Feuil1!$BK49,[1]Feuil1!$BL49) | AN49: =CONCATENATE([1]Feuil1!$BM49,[1]Feuil1!$BN49) | AO49: =CONCATENATE([1]Feuil1!$BO49) | AP49: =CONCATENATE([1]Feuil1!$BP49,[1]Feuil1!$BQ49) | AQ49: =CONCATENATE([1]Feuil1!$BR49,[1]Feuil1!$BS49) | AR49: =CONCATENATE([1]Feuil1!$BT49) | AS49: =CONCATENATE([1]Feuil1!$BU49,[1]Feuil1!$BV49) | AT49: =CONCATENATE([1]Feuil1!$BW49,[1]Feuil1!$BX49) | AU49: =CONCATENATE([1]Feuil1!$BY49) | AV49: =CONCATENATE([1]Feuil1!$BZ49,[1]Feuil1!$CA49) | AW49: =CONCATENATE([1]Feuil1!$CB49,[1]Feuil1!$CC49)
A50: =[1]Feuil1!$A50 -> 42810 | B50: =CONCATENATE([1]Feuil1!$B50) | C50: =CONCATENATE([1]Feuil1!$C50,[1]Feuil1!$D50) | D50: =CONCATENATE([1]Feuil1!$E50,[1]Feuil1!$F50) | E50: =CONCATENATE([1]Feuil1!$G50) | F50: =CONCATENATE([1]Feuil1!H50,[1]Feuil1!I50) | G50: =CONCATENATE([1]Feuil1!$J50,[1]Feuil1!$K50) | I50: =CONCATENATE([1]Feuil1!$M50,[1]Feuil1!$N50) | J50: =CONCATENATE([1]Feuil1!O50,[1]Feuil1!P50) | K50: =CONCATENATE([1]Feuil1!$Q50) -> Pression | L50: =CONCATENATE([1]Feuil1!R50,[1]Feuil1!S50) -> DLMP2 | M50: =CONCATENATE([1]Feuil1!$T50,[1]Feuil1!$U50) | N50: =CONCATENATE([1]Feuil1!$V50) | O50: =CONCATENATE([1]Feuil1!W50,[1]Feuil1!X50) | P50: =CONCATENATE([1]Feuil1!$Y50,[1]Feuil1!$Z50) | Q50: =CONCATENATE([1]Feuil1!$AA50) | R50: =CONCATENATE([1]Feuil1!AB50,[1]Feuil1!AC50) | S50: =CONCATENATE([1]Feuil1!$AD50,[1]Feuil1!$AE50) | T50: =CONCATENATE([1]Feuil1!$AF50) | U50: =CONCATENATE([1]Feuil1!AG50,[1]Feuil1!AH50) | V50: =CONCATENATE([1]Feuil1!$AI50,[1]Feuil1!$AJ50) | W50: =CONCATENATE([1]Feuil1!$AK50) | X50: =CONCATENATE([1]Feuil1!AL50,[1]Feuil1!AM50) | Y50: =CONCATENATE([1]Feuil1!AN50,[1]Feuil1!AO50) | Z50: =CONCATENATE([1]Feuil1!$AP50) | AA50: =CONCATENATE([1]Feuil1!AQ50,[1]Feuil1!AR50) | AB50: =CONCATENATE([1]Feuil1!AS50,[1]Feuil1!AT50) | AC50: =CONCATENATE([1]Feuil1!$AU50) | AD50: =CONCATENATE([1]Feuil1!AV50,[1]Feuil1!AW50) | AE50: =CONCATENATE([1]Feuil1!AX50,[1]Feuil1!AY50) | AF50: =CONCATENATE([1]Feuil1!$AZ50) | AG50: =CONCATENATE([1]Feuil1!BA50,[1]Feuil1!BB50) | AH50: =CONCATENATE([1]Feuil1!BC50,[1]Feuil1!BD50) | AI50: =CONCATENATE([1]Feuil1!$BE50) | AJ50: =CONCATENATE([1]Feuil1!$BF50,[1]Feuil1!$BG50) | AK50: =CONCATENATE([1]Feuil1!$BH50,[1]Feuil1!$BI50) | AL50: =CONCATENATE([1]Feuil1!$BJ50) | AM50: =CONCATENATE([1]Feuil1!$BK50,[1]Feuil1!$BL50) | AN50: =CONCATENATE([1]Feuil1!$BM50,[1]Feuil1!$BN50) | AO50: =CONCATENATE([1]Feuil1!$BO50) | AP50: =CONCATENATE([1]Feuil1!$BP50,[1]Feuil1!$BQ50) | AQ50: =CONCATENATE([1]Feuil1!$BR50,[1]Feuil1!$BS50) | AR50: =CONCATENATE([1]Feuil1!$BT50) | AS50: =CONCATENATE([1]Feuil1!$BU50,[1]Feuil1!$BV50) | AT50: =CONCATENATE([1]Feuil1!$BW50,[1]Feuil1!$BX50) | AU50: =CONCATENATE([1]Feuil1!$BY50) | AV50: =CONCATENATE([1]Feuil1!$BZ50,[1]Feuil1!$CA50) | AW50: =CONCATENATE([1]Feuil1!$CB50,[1]Feuil1!$CC50)
A51: =[1]Feuil1!$A51 -> 42811 | B51: =CONCATENATE([1]Feuil1!$B51) -> TP2 | C51: =CONCATENATE([1]Feuil1!$C51,[1]Feuil1!$D51) -> CB1 D | D51: =CONCATENATE([1]Feuil1!$E51,[1]Feuil1!$F51) | E51: =CONCATENATE([1]Feuil1!$G51) -> TP3 | F51: =CONCATENATE([1]Feuil1!H51,[1]Feuil1!I51) -> DLCB2 | G51: =CONCATENATE([1]Feuil1!$J51,[1]Feuil1!$K51) -> CB1 C | I51: =CONCATENATE([1]Feuil1!$M51,[1]Feuil1!$N51) | J51: =CONCATENATE([1]Feuil1!O51,[1]Feuil1!P51) -> CB1 E | K51: =CONCATENATE([1]Feuil1!$Q51) -> Pression | L51: =CONCATENATE([1]Feuil1!R51,[1]Feuil1!S51) -> MPCI1 D | M51: =CONCATENATE([1]Feuil1!$T51,[1]Feuil1!$U51) -> CB1 G | N51: =CONCATENATE([1]Feuil1!$V51) | O51: =CONCATENATE([1]Feuil1!W51,[1]Feuil1!X51) | P51: =CONCATENATE([1]Feuil1!$Y51,[1]Feuil1!$Z51) | Q51: =CONCATENATE([1]Feuil1!$AA51) | R51: =CONCATENATE([1]Feuil1!AB51,[1]Feuil1!AC51) | S51: =CONCATENATE([1]Feuil1!$AD51,[1]Feuil1!$AE51) | T51: =CONCATENATE([1]Feuil1!$AF51) | U51: =CONCATENATE([1]Feuil1!AG51,[1]Feuil1!AH51) | V51: =CONCATENATE([1]Feuil1!$AI51,[1]Feuil1!$AJ51) | W51: =CONCATENATE([1]Feuil1!$AK51) | X51: =CONCATENATE([1]Feuil1!AL51,[1]Feuil1!AM51) | Y51: =CONCATENATE([1]Feuil1!AN51,[1]Feuil1!AO51) | Z51: =CONCATENATE([1]Feuil1!$AP51) | AA51: =CONCATENATE([1]Feuil1!AQ51,[1]Feuil1!AR51) | AB51: =CONCATENATE([1]Feuil1!AS51,[1]Feuil1!AT51) | AC51: =CONCATENATE([1]Feuil1!$AU51) -> Fraction C | AD51: =CONCATENATE([1]Feuil1!AV51,[1]Feuil1!AW51) -> DLCB1 | AE51: =CONCATENATE([1]Feuil1!AX51,[1]Feuil1!AY51) -> DLCB1 | AF51: =CONCATENATE([1]Feuil1!$AZ51) | AG51: =CONCATENATE([1]Feuil1!BA51,[1]Feuil1!BB51) | AH51: =CONCATENATE([1]Feuil1!BC51,[1]Feuil1!BD51) | AI51: =CONCATENATE([1]Feuil1!$BE51) | AJ51: =CONCATENATE([1]Feuil1!$BF51,[1]Feuil1!$BG51) | AK51: =CONCATENATE([1]Feuil1!$BH51,[1]Feuil1!$BI51) | AL51: =CONCATENATE([1]Feuil1!$BJ51) | AM51: =CONCATENATE([1]Feuil1!$BK51,[1]Feuil1!$BL51) | AN51: =CONCATENATE([1]Feuil1!$BM51,[1]Feuil1!$BN51) | AO51: =CONCATENATE([1]Feuil1!$BO51) | AP51: =CONCATENATE([1]Feuil1!$BP51,[1]Feuil1!$BQ51) | AQ51: =CONCATENATE([1]Feuil1!$BR51,[1]Feuil1!$BS51) | AR51: =CONCATENATE([1]Feuil1!$BT51) | AS51: =CONCATENATE([1]Feuil1!$BU51,[1]Feuil1!$BV51) | AT51: =CONCATENATE([1]Feuil1!$BW51,[1]Feuil1!$BX51) | AU51: =CONCATENATE([1]Feuil1!$BY51) | AV51: =CONCATENATE([1]Feuil1!$BZ51,[1]Feuil1!$CA51) | AW51: =CONCATENATE([1]Feuil1!$CB51,[1]Feuil1!$CC51)
B52: =CONCATENATE([1]Feuil1!$B52) | E52: =CONCATENATE([1]Feuil1!$G52) | K52: =CONCATENATE([1]Feuil1!$Q52) | N52: =CONCATENATE([1]Feuil1!$V52) | Q52: =CONCATENATE([1]Feuil1!$AA52) | T52: =CONCATENATE([1]Feuil1!$AF52) | W52: =CONCATENATE([1]Feuil1!$AK52) | Z52: =CONCATENATE([1]Feuil1!$AP52) | AC52: =CONCATENATE([1]Feuil1!$AU52) | AF52: =CONCATENATE([1]Feuil1!$AZ52) | AI52: =CONCATENATE([1]Feuil1!$BE52) | AL52: =CONCATENATE([1]Feuil1!$BJ52) | AO52: =CONCATENATE([1]Feuil1!$BO52) | AR52: =CONCATENATE([1]Feuil1!$BT52) | AU52: =CONCATENATE([1]Feuil1!$BY52)
A53: =[1]Feuil1!$A53 -> 42814 | B53: =CONCATENATE([1]Feuil1!$B53) -> TP2 | C53: =CONCATENATE([1]Feuil1!$C53,[1]Feuil1!$D53) | D53: =CONCATENATE([1]Feuil1!$E53,[1]Feuil1!$F53) -> DLMP2 | E53: =CONCATENATE([1]Feuil1!$G53) -> TP3 | F53: =CONCATENATE([1]Feuil1!H53,[1]Feuil1!I53) -> CB2 K | G53: =CONCATENATE([1]Feuil1!$J53,[1]Feuil1!$K53) -> CB2 R | I53: =CONCATENATE([1]Feuil1!$M53,[1]Feuil1!$N53) | J53: =CONCATENATE([1]Feuil1!O53,[1]Feuil1!P53) | K53: =CONCATENATE([1]Feuil1!$Q53) | L53: =CONCATENATE([1]Feuil1!R53,[1]Feuil1!S53) | M53: =CONCATENATE([1]Feuil1!$T53,[1]Feuil1!$U53) | N53: =CONCATENATE([1]Feuil1!$V53) | O53: =CONCATENATE([1]Feuil1!W53,[1]Feuil1!X53) | P53: =CONCATENATE([1]Feuil1!$Y53,[1]Feuil1!$Z53) | Q53: =CONCATENATE([1]Feuil1!$AA53) -> Frottement | R53: =CONCATENATE([1]Feuil1!AB53,[1]Feuil1!AC53) -> MPCI2 I | S53: =CONCATENATE([1]Feuil1!$AD53,[1]Feuil1!$AE53) -> MPCI2 J | T53: =CONCATENATE([1]Feuil1!$AF53) -> Frottement | U53: =CONCATENATE([1]Feuil1!AG53,[1]Feuil1!AH53) -> MPCI2 N | V53: =CONCATENATE([1]Feuil1!$AI53,[1]Feuil1!$AJ53) -> MPCI2 M | W53: =CONCATENATE([1]Feuil1!$AK53) | X53: =CONCATENATE([1]Feuil1!AL53,[1]Feuil1!AM53) | Y53: =CONCATENATE([1]Feuil1!AN53,[1]Feuil1!AO53) | Z53: =CONCATENATE([1]Feuil1!$AP53) | AA53: =CONCATENATE([1]Feuil1!AQ53,[1]Feuil1!AR53) | AB53: =CONCATENATE([1]Feuil1!AS53,[1]Feuil1!AT53) | AC53: =CONCATENATE([1]Feuil1!$AU53) | AD53: =CONCATENATE([1]Feuil1!AV53,[1]Feuil1!AW53) | AE53: =CONCATENATE([1]Feuil1!AX53,[1]Feuil1!AY53) | AF53: =CONCATENATE([1]Feuil1!$AZ53) -> MITOSE | AG53: =CONCATENATE([1]Feuil1!BA53,[1]Feuil1!BB53) -> CB2 I | AH53: =CONCATENATE([1]Feuil1!BC53,[1]Feuil1!BD53) -> CB2 J | AI53: =CONCATENATE([1]Feuil1!$BE53) | AJ53: =CONCATENATE([1]Feuil1!$BF53,[1]Feuil1!$BG53) | AK53: =CONCATENATE([1]Feuil1!$BH53,[1]Feuil1!$BI53) | AL53: =CONCATENATE([1]Feuil1!$BJ53) | AM53: =CONCATENATE([1]Feuil1!$BK53,[1]Feuil1!$BL53) | AN53: =CONCATENATE([1]Feuil1!$BM53,[1]Feuil1!$BN53) | AO53: =CONCATENATE([1]Feuil1!$BO53) | AP53: =CONCATENATE([1]Feuil1!$BP53,[1]Feuil1!$BQ53) | AQ53: =CONCATENATE([1]Feuil1!$BR53,[1]Feuil1!$BS53) | AR53: =CONCATENATE([1]Feuil1!$BT53) | AS53: =CONCATENATE([1]Feuil1!$BU53,[1]Feuil1!$BV53) | AT53: =CONCATENATE([1]Feuil1!$BW53,[1]Feuil1!$BX53) | AU53: =CONCATENATE([1]Feuil1!$BY53) | AV53: =CONCATENATE([1]Feuil1!$BZ53,[1]Feuil1!$CA53) -> CB2 Q | AW53: =CONCATENATE([1]Feuil1!$CB53,[1]Feuil1!$CC53)
A54: =[1]Feuil1!$A54 -> 42815 | B54: =CONCATENATE([1]Feuil1!$B54) -> TP2 | C54: =CONCATENATE([1]Feuil1!$C54,[1]Feuil1!$D54) -> DLCB1 | D54: =CONCATENATE([1]Feuil1!$E54,[1]Feuil1!$F54) | E54: =CONCATENATE([1]Feuil1!$G54) -> TP3 | F54: =CONCATENATE([1]Feuil1!H54,[1]Feuil1!I54) -> CB1 G | G54: =CONCATENATE([1]Feuil1!$J54,[1]Feuil1!$K54) -> CB1 H | I54: =CONCATENATE([1]Feuil1!$M54,[1]Feuil1!$N54) | J54: =CONCATENATE([1]Feuil1!O54,[1]Feuil1!P54) -> DLCB1 | K54: =CONCATENATE([1]Feuil1!$Q54) -> Pression | L54: =CONCATENATE([1]Feuil1!R54,[1]Feuil1!S54) -> CB1 E | M54: =CONCATENATE([1]Feuil1!$T54,[1]Feuil1!$U54) -> CB1 F | N54: =CONCATENATE([1]Feuil1!$V54) | O54: =CONCATENATE([1]Feuil1!W54,[1]Feuil1!X54) | P54: =CONCATENATE([1]Feuil1!$Y54,[1]Feuil1!$Z54) | Q54: =CONCATENATE([1]Feuil1!$AA54) | R54: =CONCATENATE([1]Feuil1!AB54,[1]Feuil1!AC54) | S54: =CONCATENATE([1]Feuil1!$AD54,[1]Feuil1!$AE54) | T54: =CONCATENATE([1]Feuil1!$AF54) | U54: =CONCATENATE([1]Feuil1!AG54,[1]Feuil1!AH54) | V54: =CONCATENATE([1]Feuil1!$AI54,[1]Feuil1!$AJ54) | W54: =CONCATENATE([1]Feuil1!$AK54) | X54: =CONCATENATE([1]Feuil1!AL54,[1]Feuil1!AM54) | Y54: =CONCATENATE([1]Feuil1!AN54,[1]Feuil1!AO54) | Z54: =CONCATENATE([1]Feuil1!$AP54) | AA54: =CONCATENATE([1]Feuil1!AQ54,[1]Feuil1!AR54) | AB54: =CONCATENATE([1]Feuil1!AS54,[1]Feuil1!AT54) | AC54: =CONCATENATE([1]Feuil1!$AU54) | AD54: =CONCATENATE([1]Feuil1!AV54,[1]Feuil1!AW54) | AE54: =CONCATENATE([1]Feuil1!AX54,[1]Feuil1!AY54) | AF54: =CONCATENATE([1]Feuil1!$AZ54) -> MITOSE | AG54: =CONCATENATE([1]Feuil1!BA54,[1]Feuil1!BB54) -> CB1 C | AH54: =CONCATENATE([1]Feuil1!BC54,[1]Feuil1!BD54) -> CB1 D | AI54: =CONCATENATE([1]Feuil1!$BE54) | AJ54: =CONCATENATE([1]Feuil1!$BF54,[1]Feuil1!$BG54) | AK54: =CONCATENATE([1]Feuil1!$BH54,[1]Feuil1!$BI54) | AL54: =CONCATENATE([1]Feuil1!$BJ54) | AM54: =CONCATENATE([1]Feuil1!$BK54,[1]Feuil1!$BL54) | AN54: =CONCATENATE([1]Feuil1!$BM54,[1]Feuil1!$BN54) | AO54: =CONCATENATE([1]Feuil1!$BO54) | AP54: =CONCATENATE([1]Feuil1!$BP54,[1]Feuil1!$BQ54) | AQ54: =CONCATENATE([1]Feuil1!$BR54,[1]Feuil1!$BS54) | AR54: =CONCATENATE([1]Feuil1!$BT54) | AS54: =CONCATENATE([1]Feuil1!$BU54,[1]Feuil1!$BV54) | AT54: =CONCATENATE([1]Feuil1!$BW54,[1]Feuil1!$BX54) | AU54: =CONCATENATE([1]Feuil1!$BY54) | AV54: =CONCATENATE([1]Feuil1!$BZ54,[1]Feuil1!$CA54) | AW54: =CONCATENATE([1]Feuil1!$CB54,[1]Feuil1!$CC54)
A55: =[1]Feuil1!$A55 -> 42816 | B55: =CONCATENATE([1]Feuil1!$B55) | C55: =CONCATENATE([1]Feuil1!$C55,[1]Feuil1!$D55) | D55: =CONCATENATE([1]Feuil1!$E55,[1]Feuil1!$F55) | E55: =CONCATENATE([1]Feuil1!$G55) -> TP3 | F55: =CONCATENATE([1]Feuil1!H55,[1]Feuil1!I55) -> BI A | G55: =CONCATENATE([1]Feuil1!$J55,[1]Feuil1!$K55) -> BI B | I55: =CONCATENATE([1]Feuil1!$M55,[1]Feuil1!$N55) -> BI G | J55: =CONCATENATE([1]Feuil1!O55,[1]Feuil1!P55) -> BI H | K55: =CONCATENATE([1]Feuil1!$Q55) -> Pression | L55: =CONCATENATE([1]Feuil1!R55,[1]Feuil1!S55) -> MPCI1 G | M55: =CONCATENATE([1]Feuil1!$T55,[1]Feuil1!$U55) -> MPCI1 H | N55: =CONCATENATE([1]Feuil1!$V55) | O55: =CONCATENATE([1]Feuil1!W55,[1]Feuil1!X55) | P55: =CONCATENATE([1]Feuil1!$Y55,[1]Feuil1!$Z55) | Q55: =CONCATENATE([1]Feuil1!$AA55) -> Frottement | R55: =CONCATENATE([1]Feuil1!AB55,[1]Feuil1!AC55) -> MPCI1 A | S55: =CONCATENATE([1]Feuil1!$AD55,[1]Feuil1!$AE55) -> MPCI1 B | T55: =CONCATENATE([1]Feuil1!$AF55) -> Frottement | U55: =CONCATENATE([1]Feuil1!AG55,[1]Feuil1!AH55) -> MPCI1 C | V55: =CONCATENATE([1]Feuil1!$AI55,[1]Feuil1!$AJ55) -> MPCI1 D | W55: =CONCATENATE([1]Feuil1!$AK55) | X55: =CONCATENATE([1]Feuil1!AL55,[1]Feuil1!AM55) | Y55: =CONCATENATE([1]Feuil1!AN55,[1]Feuil1!AO55) | Z55: =CONCATENATE([1]Feuil1!$AP55) | AA55: =CONCATENATE([1]Feuil1!AQ55,[1]Feuil1!AR55) | AB55: =CONCATENATE([1]Feuil1!AS55,[1]Feuil1!AT55) | AC55: =CONCATENATE([1]Feuil1!$AU55) | AD55: =CONCATENATE([1]Feuil1!AV55,[1]Feuil1!AW55) | AE55: =CONCATENATE([1]Feuil1!AX55,[1]Feuil1!AY55) | AF55: =CONCATENATE([1]Feuil1!$AZ55) -> MITOSE | AG55: =CONCATENATE([1]Feuil1!BA55,[1]Feuil1!BB55) -> CB2 K | AH55: =CONCATENATE([1]Feuil1!BC55,[1]Feuil1!BD55) -> CB2 L | AI55: =CONCATENATE([1]Feuil1!$BE55) | AJ55: =CONCATENATE([1]Feuil1!$BF55,[1]Feuil1!$BG55) | AK55: =CONCATENATE([1]Feuil1!$BH55,[1]Feuil1!$BI55) | AL55: =CONCATENATE([1]Feuil1!$BJ55) | AM55: =CONCATENATE([1]Feuil1!$BK55,[1]Feuil1!$BL55) | AN55: =CONCATENATE([1]Feuil1!$BM55,[1]Feuil1!$BN55) | AO55: =CONCATENATE([1]Feuil1!$BO55) | AP55: =CONCATENATE([1]Feuil1!$BP55,[1]Feuil1!$BQ55) | AQ55: =CONCATENATE([1]Feuil1!$BR55,[1]Feuil1!$BS55) | AR55: =CONCATENATE([1]Feuil1!$BT55) | AS55: =CONCATENATE([1]Feuil1!$BU55,[1]Feuil1!$BV55) | AT55: =CONCATENATE([1]Feuil1!$BW55,[1]Feuil1!$BX55) | AU55: =CONCATENATE([1]Feuil1!$BY55) | AV55: =CONCATENATE([1]Feuil1!$BZ55,[1]Feuil1!$CA55) | AW55: =CONCATENATE([1]Feuil1!$CB55,[1]Feuil1!$CC55) | AY55: GE 290 BI3A | AZ55: CB2 8B
A56: =[1]Feuil1!$A56 -> 42817 | B56: =CONCATENATE([1]Feuil1!$B56) | C56: =CONCATENATE([1]Feuil1!$C56,[1]Feuil1!$D56) | D56: =CONCATENATE([1]Feuil1!$E56,[1]Feuil1!$F56) | E56: =CONCATENATE([1]Feuil1!$G56) | F56: =CONCATENATE([1]Feuil1!H56,[1]Feuil1!I56) | G56: =CONCATENATE([1]Feuil1!$J56,[1]Feuil1!$K56) | I56: =CONCATENATE([1]Feuil1!$M56,[1]Feuil1!$N56) | J56: =CONCATENATE([1]Feuil1!O56,[1]Feuil1!P56) | K56: =CONCATENATE([1]Feuil1!$Q56) | L56: =CONCATENATE([1]Feuil1!R56,[1]Feuil1!S56) | M56: =CONCATENATE([1]Feuil1!$T56,[1]Feuil1!$U56) | N56: =CONCATENATE([1]Feuil1!$V56) | O56: =CONCATENATE([1]Feuil1!W56,[1]Feuil1!X56) | P56: =CONCATENATE([1]Feuil1!$Y56,[1]Feuil1!$Z56) | Q56: =CONCATENATE([1]Feuil1!$AA56) | R56: =CONCATENATE([1]Feuil1!AB56,[1]Feuil1!AC56) | S56: =CONCATENATE([1]Feuil1!$AD56,[1]Feuil1!$AE56) | T56: =CONCATENATE([1]Feuil1!$AF56) -> Frottement | U56: =CONCATENATE([1]Feuil1!AG56,[1]Feuil1!AH56) -> DLMP2 | V56: =CONCATENATE([1]Feuil1!$AI56,[1]Feuil1!$AJ56) | W56: =CONCATENATE([1]Feuil1!$AK56) | X56: =CONCATENATE([1]Feuil1!AL56,[1]Feuil1!AM56) | Y56: =CONCATENATE([1]Feuil1!AN56,[1]Feuil1!AO56) | Z56: =CONCATENATE([1]Feuil1!$AP56) | AA56: =CONCATENATE([1]Feuil1!AQ56,[1]Feuil1!AR56) | AB56: =CONCATENATE([1]Feuil1!AS56,[1]Feuil1!AT56) | AC56: =CONCATENATE([1]Feuil1!$AU56) | AD56: =CONCATENATE([1]Feuil1!AV56,[1]Feuil1!AW56) | AE56: =CONCATENATE([1]Feuil1!AX56,[1]Feuil1!AY56) | AF56: =CONCATENATE([1]Feuil1!$AZ56) | AG56: =CONCATENATE([1]Feuil1!BA56,[1]Feuil1!BB56) | AH56: =CONCATENATE([1]Feuil1!BC56,[1]Feuil1!BD56) | AI56: =CONCATENATE([1]Feuil1!$BE56) | AJ56: =CONCATENATE([1]Feuil1!$BF56,[1]Feuil1!$BG56) | AK56: =CONCATENATE([1]Feuil1!$BH56,[1]Feuil1!$BI56) | AL56: =CONCATENATE([1]Feuil1!$BJ56) | AM56: =CONCATENATE([1]Feuil1!$BK56,[1]Feuil1!$BL56) | AN56: =CONCATENATE([1]Feuil1!$BM56,[1]Feuil1!$BN56) | AO56: =CONCATENATE([1]Feuil1!$BO56) | AP56: =CONCATENATE([1]Feuil1!$BP56,[1]Feuil1!$BQ56) | AQ56: =CONCATENATE([1]Feuil1!$BR56,[1]Feuil1!$BS56) | AR56: =CONCATENATE([1]Feuil1!$BT56) | AS56: =CONCATENATE([1]Feuil1!$BU56,[1]Feuil1!$BV56) | AT56: =CONCATENATE([1]Feuil1!$BW56,[1]Feuil1!$BX56) | AU56: =CONCATENATE([1]Feuil1!$BY56) | AV56: =CONCATENATE([1]Feuil1!$BZ56,[1]Feuil1!$CA56) | AW56: =CONCATENATE([1]Feuil1!$CB56,[1]Feuil1!$CC56)
A57: =[1]Feuil1!$A57 -> 42818 | B57: =CONCATENATE([1]Feuil1!$B57) | C57: =CONCATENATE([1]Feuil1!$C57,[1]Feuil1!$D57) | D57: =CONCATENATE([1]Feuil1!$E57,[1]Feuil1!$F57) | E57: =CONCATENATE([1]Feuil1!$G57) | F57: =CONCATENATE([1]Feuil1!H57,[1]Feuil1!I57) | G57: =CONCATENATE([1]Feuil1!$J57,[1]Feuil1!$K57) | I57: =CONCATENATE([1]Feuil1!$M57,[1]Feuil1!$N57) | J57: =CONCATENATE([1]Feuil1!O57,[1]Feuil1!P57) | K57: =CONCATENATE([1]Feuil1!$Q57) -> Pression | L57: =CONCATENATE([1]Feuil1!R57,[1]Feuil1!S57) -> CB1 H | M57: =CONCATENATE([1]Feuil1!$T57,[1]Feuil1!$U57) -> DLCB2 | N57: =CONCATENATE([1]Feuil1!$V57) | O57: =CONCATENATE([1]Feuil1!W57,[1]Feuil1!X57) | P57: =CONCATENATE([1]Feuil1!$Y57,[1]Feuil1!$Z57) | Q57: =CONCATENATE([1]Feuil1!$AA57) | R57: =CONCATENATE([1]Feuil1!AB57,[1]Feuil1!AC57) | S57: =CONCATENATE([1]Feuil1!$AD57,[1]Feuil1!$AE57) | T57: =CONCATENATE([1]Feuil1!$AF57) | U57: =CONCATENATE([1]Feuil1!AG57,[1]Feuil1!AH57) | V57: =CONCATENATE([1]Feuil1!$AI57,[1]Feuil1!$AJ57) | W57: =CONCATENATE([1]Feuil1!$AK57) | X57: =CONCATENATE([1]Feuil1!AL57,[1]Feuil1!AM57) | Y57: =CONCATENATE([1]Feuil1!AN57,[1]Feuil1!AO57) | Z57: =CONCATENATE([1]Feuil1!$AP57) | AA57: =CONCATENATE([1]Feuil1!AQ57,[1]Feuil1!AR57) | AB57: =CONCATENATE([1]Feuil1!AS57,[1]Feuil1!AT57) | AC57: =CONCATENATE([1]Feuil1!$AU57) | AD57: =CONCATENATE([1]Feuil1!AV57,[1]Feuil1!AW57) | AE57: =CONCATENATE([1]Feuil1!AX57,[1]Feuil1!AY57) | AF57: =CONCATENATE([1]Feuil1!$AZ57) -> MITOSE | AG57: =CONCATENATE([1]Feuil1!BA57,[1]Feuil1!BB57) -> CB1 A | AH57: =CONCATENATE([1]Feuil1!BC57,[1]Feuil1!BD57) -> CB1 B | AI57: =CONCATENATE([1]Feuil1!$BE57) | AJ57: =CONCATENATE([1]Feuil1!$BF57,[1]Feuil1!$BG57) | AK57: =CONCATENATE([1]Feuil1!$BH57,[1]Feuil1!$BI57) | AL57: =CONCATENATE([1]Feuil1!$BJ57) | AM57: =CONCATENATE([1]Feuil1!$BK57,[1]Feuil1!$BL57) | AN57: =CONCATENATE([1]Feuil1!$BM57,[1]Feuil1!$BN57) | AO57: =CONCATENATE([1]Feuil1!$BO57) | AP57: =CONCATENATE([1]Feuil1!$BP57,[1]Feuil1!$BQ57) | AQ57: =CONCATENATE([1]Feuil1!$BR57,[1]Feuil1!$BS57) | AR57: =CONCATENATE([1]Feuil1!$BT57) | AS57: =CONCATENATE([1]Feuil1!$BU57,[1]Feuil1!$BV57) | AT57: =CONCATENATE([1]Feuil1!$BW57,[1]Feuil1!$BX57) | AU57: =CONCATENATE([1]Feuil1!$BY57) | AV57: =CONCATENATE([1]Feuil1!$BZ57,[1]Feuil1!$CA57) | AW57: =CONCATENATE([1]Feuil1!$CB57,[1]Feuil1!$CC57)
B58: =CONCATENATE([1]Feuil1!$B58) | E58: =CONCATENATE([1]Feuil1!$G58) | K58: =CONCATENATE([1]Feuil1!$Q58) | N58: =CONCATENATE([1]Feuil1!$V58) | Q58: =CONCATENATE([1]Feuil1!$AA58) | T58: =CONCATENATE([1]Feuil1!$AF58) | W58: =CONCATENATE([1]Feuil1!$AK58) | Z58: =CONCATENATE([1]Feuil1!$AP58) | AC58: =CONCATENATE([1]Feuil1!$AU58) | AF58: =CONCATENATE([1]Feuil1!$AZ58) | AI58: =CONCATENATE([1]Feuil1!$BE58) | AL58: =CONCATENATE([1]Feuil1!$BJ58) | AO58: =CONCATENATE([1]Feuil1!$BO58) | AR58: =CONCATENATE([1]Feuil1!$BT58) | AU58: =CONCATENATE([1]Feuil1!$BY58)
A59: =[1]Feuil1!$A59 -> 42821 | B59: =CONCATENATE([1]Feuil1!$B59) | C59: =CONCATENATE([1]Feuil1!$C59,[1]Feuil1!$D59) | D59: =CONCATENATE([1]Feuil1!$E59,[1]Feuil1!$F59) | E59: =CONCATENATE([1]Feuil1!$G59) | F59: =CONCATENATE([1]Feuil1!H59,[1]Feuil1!I59) | G59: =CONCATENATE([1]Feuil1!$J59,[1]Feuil1!$K59) | I59: =CONCATENATE([1]Feuil1!$M59,[1]Feuil1!$N59) | J59: =CONCATENATE([1]Feuil1!O59,[1]Feuil1!P59) | K59: =CONCATENATE([1]Feuil1!$Q59) | L59: =CONCATENATE([1]Feuil1!R59,[1]Feuil1!S59) | M59: =CONCATENATE([1]Feuil1!$T59,[1]Feuil1!$U59) | N59: =CONCATENATE([1]Feuil1!$V59) | O59: =CONCATENATE([1]Feuil1!W59,[1]Feuil1!X59) | P59: =CONCATENATE([1]Feuil1!$Y59,[1]Feuil1!$Z59) | Q59: =CONCATENATE([1]Feuil1!$AA59) | R59: =CONCATENATE([1]Feuil1!AB59,[1]Feuil1!AC59) -> MPCI2 L | S59: =CONCATENATE([1]Feuil1!$AD59,[1]Feuil1!$AE59) -> MPCI2 K | T59: =CONCATENATE([1]Feuil1!$AF59) | U59: =CONCATENATE([1]Feuil1!AG59,[1]Feuil1!AH59) | V59: =CONCATENATE([1]Feuil1!$AI59,[1]Feuil1!$AJ59) | W59: =CONCATENATE([1]Feuil1!$AK59) | X59: =CONCATENATE([1]Feuil1!AL59,[1]Feuil1!AM59) | Y59: =CONCATENATE([1]Feuil1!AN59,[1]Feuil1!AO59) | Z59: =CONCATENATE([1]Feuil1!$AP59) | AA59: =CONCATENATE([1]Feuil1!AQ59,[1]Feuil1!AR59) | AB59: =CONCATENATE([1]Feuil1!AS59,[1]Feuil1!AT59) | AC59: =CONCATENATE([1]Feuil1!$AU59) | AD59: =CONCATENATE([1]Feuil1!AV59,[1]Feuil1!AW59) | AE59: =CONCATENATE([1]Feuil1!AX59,[1]Feuil1!AY59) | AF59: =CONCATENATE([1]Feuil1!$AZ59) | AG59: =CONCATENATE([1]Feuil1!BA59,[1]Feuil1!BB59) | AH59: =CONCATENATE([1]Feuil1!BC59,[1]Feuil1!BD59) | AI59: =CONCATENATE([1]Feuil1!$BE59) | AJ59: =CONCATENATE([1]Feuil1!$BF59,[1]Feuil1!$BG59) | AK59: =CONCATENATE([1]Feuil1!$BH59,[1]Feuil1!$BI59) | AL59: =CONCATENATE([1]Feuil1!$BJ59) | AM59: =CONCATENATE([1]Feuil1!$BK59,[1]Feuil1!$BL59) | AN59: =CONCATENATE([1]Feuil1!$BM59,[1]Feuil1!$BN59) | AO59: =CONCATENATE([1]Feuil1!$BO59) | AP59: =CONCATENATE([1]Feuil1!$BP59,[1]Feuil1!$BQ59) | AQ59: =CONCATENATE([1]Feuil1!$BR59,[1]Feuil1!$BS59) | AR59: =CONCATENATE([1]Feuil1!$BT59) | AS59: =CONCATENATE([1]Feuil1!$BU59,[1]Feuil1!$BV59) | AT59: =CONCATENATE([1]Feuil1!$BW59,[1]Feuil1!$BX59) | AU59: =CONCATENATE([1]Feuil1!$BY59) | AV59: =CONCATENATE([1]Feuil1!$BZ59,[1]Feuil1!$CA59) | AW59: =CONCATENATE([1]Feuil1!$CB59,[1]Feuil1!$CC59)
A60: =[1]Feuil1!$A60 -> 42822 | B60: =CONCATENATE([1]Feuil1!$B60) -> TP3 | C60: =CONCATENATE([1]Feuil1!$C60,[1]Feuil1!$D60) -> DLCB1 | D60: =CONCATENATE([1]Feuil1!$E60,[1]Feuil1!$F60) -> CB1 A | E60: =CONCATENATE([1]Feuil1!$G60) -> TP4 | F60: =CONCATENATE([1]Feuil1!H60,[1]Feuil1!I60) -> CB1 C | G60: =CONCATENATE([1]Feuil1!$J60,[1]Feuil1!$K60) -> CB1 D | I60: =CONCATENATE([1]Feuil1!$M60,[1]Feuil1!$N60) -> CB1 E | J60: =CONCATENATE([1]Feuil1!O60,[1]Feuil1!P60) -> CB1 F | K60: =CONCATENATE([1]Feuil1!$Q60) -> Thermo | L60: =CONCATENATE([1]Feuil1!R60,[1]Feuil1!S60) -> CB1 A | M60: =CONCATENATE([1]Feuil1!$T60,[1]Feuil1!$U60) -> CB1 B | N60: =CONCATENATE([1]Feuil1!$V60) | O60: =CONCATENATE([1]Feuil1!W60,[1]Feuil1!X60) | P60: =CONCATENATE([1]Feuil1!$Y60,[1]Feuil1!$Z60) | Q60: =CONCATENATE([1]Feuil1!$AA60) | R60: =CONCATENATE([1]Feuil1!AB60,[1]Feuil1!AC60) | S60: =CONCATENATE([1]Feuil1!$AD60,[1]Feuil1!$AE60) | T60: =CONCATENATE([1]Feuil1!$AF60) | U60: =CONCATENATE([1]Feuil1!AG60,[1]Feuil1!AH60) | V60: =CONCATENATE([1]Feuil1!$AI60,[1]Feuil1!$AJ60) | W60: =CONCATENATE([1]Feuil1!$AK60) | X60: =CONCATENATE([1]Feuil1!AL60,[1]Feuil1!AM60) | Y60: =CONCATENATE([1]Feuil1!AN60,[1]Feuil1!AO60) | Z60: =CONCATENATE([1]Feuil1!$AP60) | AA60: =CONCATENATE([1]Feuil1!AQ60,[1]Feuil1!AR60) | AB60: =CONCATENATE([1]Feuil1!AS60,[1]Feuil1!AT60) | AC60: =CONCATENATE([1]Feuil1!$AU60) | AD60: =CONCATENATE([1]Feuil1!AV60,[1]Feuil1!AW60) | AE60: =CONCATENATE([1]Feuil1!AX60,[1]Feuil1!AY60) | AF60: =CONCATENATE([1]Feuil1!$AZ60) -> MITOSE | AG60: =CONCATENATE([1]Feuil1!BA60,[1]Feuil1!BB60) -> DLCB2 | AH60: =CONCATENATE([1]Feuil1!BC60,[1]Feuil1!BD60) | AI60: =CONCATENATE([1]Feuil1!$BE60) | AJ60: =CONCATENATE([1]Feuil1!$BF60,[1]Feuil1!$BG60) | AK60: =CONCATENATE([1]Feuil1!$BH60,[1]Feuil1!$BI60) | AL60: =CONCATENATE([1]Feuil1!$BJ60) | AM60: =CONCATENATE([1]Feuil1!$BK60,[1]Feuil1!$BL60) | AN60: =CONCATENATE([1]Feuil1!$BM60,[1]Feuil1!$BN60) | AO60: =CONCATENATE([1]Feuil1!$BO60) | AP60: =CONCATENATE([1]Feuil1!$BP60,[1]Feuil1!$BQ60) | AQ60: =CONCATENATE([1]Feuil1!$BR60,[1]Feuil1!$BS60) | AR60: =CONCATENATE([1]Feuil1!$BT60) | AS60: =CONCATENATE([1]Feuil1!$BU60,[1]Feuil1!$BV60) | AT60: =CONCATENATE([1]Feuil1!$BW60,[1]Feuil1!$BX60) | AU60: =CONCATENATE([1]Feuil1!$BY60) | AV60: =CONCATENATE([1]Feuil1!$BZ60,[1]Feuil1!$CA60) | AW60: =CONCATENATE([1]Feuil1!$CB60,[1]Feuil1!$CC60)
A61: =[1]Feuil1!$A61 -> 42823 | B61: =CONCATENATE([1]Feuil1!$B61) -> TP3 | C61: =CONCATENATE([1]Feuil1!$C61,[1]Feuil1!$D61) -> MPCI1 H | D61: =CONCATENATE([1]Feuil1!$E61,[1]Feuil1!$F61) -> MPCI1 G | E61: =CONCATENATE([1]Feuil1!$G61) -> TP4 | F61: =CONCATENATE([1]Feuil1!H61,[1]Feuil1!I61) -> CB2 I | G61: =CONCATENATE([1]Feuil1!$J61,[1]Feuil1!$K61) -> CB2 J | I61: =CONCATENATE([1]Feuil1!$M61,[1]Feuil1!$N61) -> CB2 K | J61: =CONCATENATE([1]Feuil1!O61,[1]Feuil1!P61) -> CB2 L | K61: =CONCATENATE([1]Feuil1!$Q61) -> Thermo | L61: =CONCATENATE([1]Feuil1!R61,[1]Feuil1!S61) -> MPCI1 A | M61: =CONCATENATE([1]Feuil1!$T61,[1]Feuil1!$U61) -> MPCI1 B | N61: =CONCATENATE([1]Feuil1!$V61) | O61: =CONCATENATE([1]Feuil1!W61,[1]Feuil1!X61) | P61: =CONCATENATE([1]Feuil1!$Y61,[1]Feuil1!$Z61) | Q61: =CONCATENATE([1]Feuil1!$AA61) -> Frottement | R61: =CONCATENATE([1]Feuil1!AB61,[1]Feuil1!AC61) -> MPCI1 E | S61: =CONCATENATE([1]Feuil1!$AD61,[1]Feuil1!$AE61) -> MPCI1 F | T61: =CONCATENATE([1]Feuil1!$AF61) -> Frottement | U61: =CONCATENATE([1]Feuil1!AG61,[1]Feuil1!AH61) -> MPCI1 G | V61: =CONCATENATE([1]Feuil1!$AI61,[1]Feuil1!$AJ61) -> MPCI1 H | W61: =CONCATENATE([1]Feuil1!$AK61) | X61: =CONCATENATE([1]Feuil1!AL61,[1]Feuil1!AM61) | Y61: =CONCATENATE([1]Feuil1!AN61,[1]Feuil1!AO61) | Z61: =CONCATENATE([1]Feuil1!$AP61) | AA61: =CONCATENATE([1]Feuil1!AQ61,[1]Feuil1!AR61) | AB61: =CONCATENATE([1]Feuil1!AS61,[1]Feuil1!AT61) | AC61: =CONCATENATE([1]Feuil1!$AU61) -> Fraction C | AD61: =CONCATENATE([1]Feuil1!AV61,[1]Feuil1!AW61) -> BI F | AE61: =CONCATENATE([1]Feuil1!AX61,[1]Feuil1!AY61) -> BI F | AF61: =CONCATENATE([1]Feuil1!$AZ61) -> MITOSE | AG61: =CONCATENATE([1]Feuil1!BA61,[1]Feuil1!BB61) -> CB2 N | AH61: =CONCATENATE([1]Feuil1!BC61,[1]Feuil1!BD61) -> CB2 O | AI61: =CONCATENATE([1]Feuil1!$BE61) | AJ61: =CONCATENATE([1]Feuil1!$BF61,[1]Feuil1!$BG61) | AK61: =CONCATENATE([1]Feuil1!$BH61,[1]Feuil1!$BI61) | AL61: =CONCATENATE([1]Feuil1!$BJ61) | AM61: =CONCATENATE([1]Feuil1!$BK61,[1]Feuil1!$BL61) | AN61: =CONCATENATE([1]Feuil1!$BM61,[1]Feuil1!$BN61) | AO61: =CONCATENATE([1]Feuil1!$BO61) | AP61: =CONCATENATE([1]Feuil1!$BP61,[1]Feuil1!$BQ61) | AQ61: =CONCATENATE([1]Feuil1!$BR61,[1]Feuil1!$BS61) | AR61: =CONCATENATE([1]Feuil1!$BT61) | AS61: =CONCATENATE([1]Feuil1!$BU61,[1]Feuil1!$BV61) | AT61: =CONCATENATE([1]Feuil1!$BW61,[1]Feuil1!$BX61) | AU61: =CONCATENATE([1]Feuil1!$BY61) | AV61: =CONCATENATE([1]Feuil1!$BZ61,[1]Feuil1!$CA61) | AW61: =CONCATENATE([1]Feuil1!$CB61,[1]Feuil1!$CC61) | AY61: BI3B | AZ61: CB2 9A
A62: =[1]Feuil1!$A62 -> 42824 | B62: =CONCATENATE([1]Feuil1!$B62) | C62: =CONCATENATE([1]Feuil1!$C62,[1]Feuil1!$D62) | D62: =CONCATENATE([1]Feuil1!$E62,[1]Feuil1!$F62) | E62: =CONCATENATE([1]Feuil1!$G62) | F62: =CONCATENATE([1]Feuil1!H62,[1]Feuil1!I62) | G62: =CONCATENATE([1]Feuil1!$J62,[1]Feuil1!$K62) | I62: =CONCATENATE([1]Feuil1!$M62,[1]Feuil1!$N62) | J62: =CONCATENATE([1]Feuil1!O62,[1]Feuil1!P62) | K62: =CONCATENATE([1]Feuil1!$Q62) | L62: =CONCATENATE([1]Feuil1!R62,[1]Feuil1!S62) | M62: =CONCATENATE([1]Feuil1!$T62,[1]Feuil1!$U62) | N62: =CONCATENATE([1]Feuil1!$V62) | O62: =CONCATENATE([1]Feuil1!W62,[1]Feuil1!X62) | P62: =CONCATENATE([1]Feuil1!$Y62,[1]Feuil1!$Z62) | Q62: =CONCATENATE([1]Feuil1!$AA62) | R62: =CONCATENATE([1]Feuil1!AB62,[1]Feuil1!AC62) | S62: =CONCATENATE([1]Feuil1!$AD62,[1]Feuil1!$AE62) | T62: =CONCATENATE([1]Feuil1!$AF62) -> Frottement | U62: =CONCATENATE([1]Feuil1!AG62,[1]Feuil1!AH62) -> DLMP1 | V62: =CONCATENATE([1]Feuil1!$AI62,[1]Feuil1!$AJ62) | W62: =CONCATENATE([1]Feuil1!$AK62) | X62: =CONCATENATE([1]Feuil1!AL62,[1]Feuil1!AM62) | Y62: =CONCATENATE([1]Feuil1!AN62,[1]Feuil1!AO62) | Z62: =CONCATENATE([1]Feuil1!$AP62) | AA62: =CONCATENATE([1]Feuil1!AQ62,[1]Feuil1!AR62) | AB62: =CONCATENATE([1]Feuil1!AS62,[1]Feuil1!AT62) | AC62: =CONCATENATE([1]Feuil1!$AU62) | AD62: =CONCATENATE([1]Feuil1!AV62,[1]Feuil1!AW62) | AE62: =CONCATENATE([1]Feuil1!AX62,[1]Feuil1!AY62) | AF62: =CONCATENATE([1]Feuil1!$AZ62) | AG62: =CONCATENATE([1]Feuil1!BA62,[1]Feuil1!BB62) | AH62: =CONCATENATE([1]Feuil1!BC62,[1]Feuil1!BD62) | AI62: =CONCATENATE([1]Feuil1!$BE62) | AJ62: =CONCATENATE([1]Feuil1!$BF62,[1]Feuil1!$BG62) | AK62: =CONCATENATE([1]Feuil1!$BH62,[1]Feuil1!$BI62) | AL62: =CONCATENATE([1]Feuil1!$BJ62) | AM62: =CONCATENATE([1]Feuil1!$BK62,[1]Feuil1!$BL62) | AN62: =CONCATENATE([1]Feuil1!$BM62,[1]Feuil1!$BN62) | AO62: =CONCATENATE([1]Feuil1!$BO62) | AP62: =CONCATENATE([1]Feuil1!$BP62,[1]Feuil1!$BQ62) | AQ62: =CONCATENATE([1]Feuil1!$BR62,[1]Feuil1!$BS62) | AR62: =CONCATENATE([1]Feuil1!$BT62) | AS62: =CONCATENATE([1]Feuil1!$BU62,[1]Feuil1!$BV62) | AT62: =CONCATENATE([1]Feuil1!$BW62,[1]Feuil1!$BX62) | AU62: =CONCATENATE([1]Feuil1!$BY62) | AV62: =CONCATENATE([1]Feuil1!$BZ62,[1]Feuil1!$CA62) | AW62: =CONCATENATE([1]Feuil1!$CB62,[1]Feuil1!$CC62)
A63: =[1]Feuil1!$A63 -> 42825 | B63: =CONCATENATE([1]Feuil1!$B63) -> TP3 | C63: =CONCATENATE([1]Feuil1!$C63,[1]Feuil1!$D63) -> CB1 B | D63: =CONCATENATE([1]Feuil1!$E63,[1]Feuil1!$F63) -> CB1 C | E63: =CONCATENATE([1]Feuil1!$G63) -> TP4 | F63: =CONCATENATE([1]Feuil1!H63,[1]Feuil1!I63) -> CB1 A | G63: =CONCATENATE([1]Feuil1!$J63,[1]Feuil1!$K63) -> CB1 B | I63: =CONCATENATE([1]Feuil1!$M63,[1]Feuil1!$N63) | J63: =CONCATENATE([1]Feuil1!O63,[1]Feuil1!P63) -> BI H | K63: =CONCATENATE([1]Feuil1!$Q63) -> Thermo | L63: =CONCATENATE([1]Feuil1!R63,[1]Feuil1!S63) -> MPCI1 C | M63: =CONCATENATE([1]Feuil1!$T63,[1]Feuil1!$U63) -> CB1 G | N63: =CONCATENATE([1]Feuil1!$V63) | O63: =CONCATENATE([1]Feuil1!W63,[1]Feuil1!X63) | P63: =CONCATENATE([1]Feuil1!$Y63,[1]Feuil1!$Z63) | Q63: =CONCATENATE([1]Feuil1!$AA63) | R63: =CONCATENATE([1]Feuil1!AB63,[1]Feuil1!AC63) | S63: =CONCATENATE([1]Feuil1!$AD63,[1]Feuil1!$AE63) | T63: =CONCATENATE([1]Feuil1!$AF63) | U63: =CONCATENATE([1]Feuil1!AG63,[1]Feuil1!AH63) | V63: =CONCATENATE([1]Feuil1!$AI63,[1]Feuil1!$AJ63) | W63: =CONCATENATE([1]Feuil1!$AK63) | X63: =CONCATENATE([1]Feuil1!AL63,[1]Feuil1!AM63) | Y63: =CONCATENATE([1]Feuil1!AN63,[1]Feuil1!AO63) | Z63: =CONCATENATE([1]Feuil1!$AP63) | AA63: =CONCATENATE([1]Feuil1!AQ63,[1]Feuil1!AR63) | AB63: =CONCATENATE([1]Feuil1!AS63,[1]Feuil1!AT63) | AC63: =CONCATENATE([1]Feuil1!$AU63) -> Fraction C | AD63: =CONCATENATE([1]Feuil1!AV63,[1]Feuil1!AW63) -> DLCB2 | AE63: =CONCATENATE([1]Feuil1!AX63,[1]Feuil1!AY63) -> DLCB2 | AF63: =CONCATENATE([1]Feuil1!$AZ63) -> MITOSE | AG63: =CONCATENATE([1]Feuil1!BA63,[1]Feuil1!BB63) -> DLCB1 | AH63: =CONCATENATE([1]Feuil1!BC63,[1]Feuil1!BD63) -> BI G | AI63: =CONCATENATE([1]Feuil1!$BE63) | AJ63: =CONCATENATE([1]Feuil1!$BF63,[1]Feuil1!$BG63) | AK63: =CONCATENATE([1]Feuil1!$BH63,[1]Feuil1!$BI63) | AL63: =CONCATENATE([1]Feuil1!$BJ63) | AM63: =CONCATENATE([1]Feuil1!$BK63,[1]Feuil1!$BL63) | AN63: =CONCATENATE([1]Feuil1!$BM63,[1]Feuil1!$BN63) | AO63: =CONCATENATE([1]Feuil1!$BO63) | AP63: =CONCATENATE([1]Feuil1!$BP63,[1]Feuil1!$BQ63) | AQ63: =CONCATENATE([1]Feuil1!$BR63,[1]Feuil1!$BS63) | AR63: =CONCATENATE([1]Feuil1!$BT63) | AS63: =CONCATENATE([1]Feuil1!$BU63,[1]Feuil1!$BV63) | AT63: =CONCATENATE([1]Feuil1!$BW63,[1]Feuil1!$BX63) | AU63: =CONCATENATE([1]Feuil1!$BY63) | AV63: =CONCATENATE([1]Feuil1!$BZ63,[1]Feuil1!$CA63) | AW63: =CONCATENATE([1]Feuil1!$CB63,[1]Feuil1!$CC63)
B64: =CONCATENATE([1]Feuil1!$B64) | E64: =CONCATENATE([1]Feuil1!$G64) | K64: =CONCATENATE([1]Feuil1!$Q64) | N64: =CONCATENATE([1]Feuil1!$V64) | Q64: =CONCATENATE([1]Feuil1!$AA64) | T64: =CONCATENATE([1]Feuil1!$AF64) | W64: =CONCATENATE([1]Feuil1!$AK64) | Z64: =CONCATENATE([1]Feuil1!$AP64) | AC64: =CONCATENATE([1]Feuil1!$AU64) | AF64: =CONCATENATE([1]Feuil1!$AZ64) | AI64: =CONCATENATE([1]Feuil1!$BE64) | AL64: =CONCATENATE([1]Feuil1!$BJ64) | AO64: =CONCATENATE([1]Feuil1!$BO64) | AR64: =CONCATENATE([1]Feuil1!$BT64) | AU64: =CONCATENATE([1]Feuil1!$BY64)
A65: =[1]Feuil1!$A65 -> 42828 | B65: =CONCATENATE([1]Feuil1!$B65) | C65: =CONCATENATE([1]Feuil1!$C65,[1]Feuil1!$D65) | D65: =CONCATENATE([1]Feuil1!$E65,[1]Feuil1!$F65) -> DLMP1 | E65: =CONCATENATE([1]Feuil1!$G65) -> TP4 | F65: =CONCATENATE([1]Feuil1!H65,[1]Feuil1!I65) -> CB2 P | G65: =CONCATENATE([1]Feuil1!$J65,[1]Feuil1!$K65) -> CB2 Q | I65: =CONCATENATE([1]Feuil1!$M65,[1]Feuil1!$N65) -> CB2 R | J65: =CONCATENATE([1]Feuil1!O65,[1]Feuil1!P65) -> CB2 O | K65: =CONCATENATE([1]Feuil1!$Q65) | L65: =CONCATENATE([1]Feuil1!R65,[1]Feuil1!S65) | M65: =CONCATENATE([1]Feuil1!$T65,[1]Feuil1!$U65) | N65: =CONCATENATE([1]Feuil1!$V65) | O65: =CONCATENATE([1]Feuil1!W65,[1]Feuil1!X65) | P65: =CONCATENATE([1]Feuil1!$Y65,[1]Feuil1!$Z65) | Q65: =CONCATENATE([1]Feuil1!$AA65) | R65: =CONCATENATE([1]Feuil1!AB65,[1]Feuil1!AC65) | S65: =CONCATENATE([1]Feuil1!$AD65,[1]Feuil1!$AE65) | T65: =CONCATENATE([1]Feuil1!$AF65) | U65: =CONCATENATE([1]Feuil1!AG65,[1]Feuil1!AH65) | V65: =CONCATENATE([1]Feuil1!$AI65,[1]Feuil1!$AJ65) | W65: =CONCATENATE([1]Feuil1!$AK65) | X65: =CONCATENATE([1]Feuil1!AL65,[1]Feuil1!AM65) | Y65: =CONCATENATE([1]Feuil1!AN65,[1]Feuil1!AO65) | Z65: =CONCATENATE([1]Feuil1!$AP65) | AA65: =CONCATENATE([1]Feuil1!AQ65,[1]Feuil1!AR65) | AB65: =CONCATENATE([1]Feuil1!AS65,[1]Feuil1!AT65) | AC65: =CONCATENATE([1]Feuil1!$AU65) | AD65: =CONCATENATE([1]Feuil1!AV65,[1]Feuil1!AW65) | AE65: =CONCATENATE([1]Feuil1!AX65,[1]Feuil1!AY65) | AF65: =CONCATENATE([1]Feuil1!$AZ65) -> MITOSE | AG65: =CONCATENATE([1]Feuil1!BA65,[1]Feuil1!BB65) -> CB2 M | AH65: =CONCATENATE([1]Feuil1!BC65,[1]Feuil1!BD65) -> CB2 P | AI65: =CONCATENATE([1]Feuil1!$BE65) | AJ65: =CONCATENATE([1]Feuil1!$BF65,[1]Feuil1!$BG65) | AK65: =CONCATENATE([1]Feuil1!$BH65,[1]Feuil1!$BI65) | AL65: =CONCATENATE([1]Feuil1!$BJ65) | AM65: =CONCATENATE([1]Feuil1!$BK65,[1]Feuil1!$BL65) | AN65: =CONCATENATE([1]Feuil1!$BM65,[1]Feuil1!$BN65) | AO65: =CONCATENATE([1]Feuil1!$BO65) | AP65: =CONCATENATE([1]Feuil1!$BP65,[1]Feuil1!$BQ65) | AQ65: =CONCATENATE([1]Feuil1!$BR65,[1]Feuil1!$BS65) | AR65: =CONCATENATE([1]Feuil1!$BT65) | AS65: =CONCATENATE([1]Feuil1!$BU65,[1]Feuil1!$BV65) | AT65: =CONCATENATE([1]Feuil1!$BW65,[1]Feuil1!$BX65) | AU65: =CONCATENATE([1]Feuil1!$BY65) | AV65: =CONCATENATE([1]Feuil1!$BZ65,[1]Feuil1!$CA65) | AW65: =CONCATENATE([1]Feuil1!$CB65,[1]Feuil1!$CC65)
A66: =[1]Feuil1!$A66 -> 42829 | B66: =CONCATENATE([1]Feuil1!$B66) -> TP3 | C66: =CONCATENATE([1]Feuil1!$C66,[1]Feuil1!$D66) -> CB1 D | D66: =CONCATENATE([1]Feuil1!$E66,[1]Feuil1!$F66) -> CB1 E | E66: =CONCATENATE([1]Feuil1!$G66) -> TP4 | F66: =CONCATENATE([1]Feuil1!H66,[1]Feuil1!I66) -> DLCB1 | G66: =CONCATENATE([1]Feuil1!$J66,[1]Feuil1!$K66) | I66: =CONCATENATE([1]Feuil1!$M66,[1]Feuil1!$N66) -> DLCB2 | J66: =CONCATENATE([1]Feuil1!O66,[1]Feuil1!P66) | K66: =CONCATENATE([1]Feuil1!$Q66) -> Thermo | L66: =CONCATENATE([1]Feuil1!R66,[1]Feuil1!S66) -> CB1 C | M66: =CONCATENATE([1]Feuil1!$T66,[1]Feuil1!$U66) -> CB1 D | N66: =CONCATENATE([1]Feuil1!$V66) | O66: =CONCATENATE([1]Feuil1!W66,[1]Feuil1!X66) | P66: =CONCATENATE([1]Feuil1!$Y66,[1]Feuil1!$Z66) | Q66: =CONCATENATE([1]Feuil1!$AA66) | R66: =CONCATENATE([1]Feuil1!AB66,[1]Feuil1!AC66) | S66: =CONCATENATE([1]Feuil1!$AD66,[1]Feuil1!$AE66) | T66: =CONCATENATE([1]Feuil1!$AF66) | U66: =CONCATENATE([1]Feuil1!AG66,[1]Feuil1!AH66) | V66: =CONCATENATE([1]Feuil1!$AI66,[1]Feuil1!$AJ66) | W66: =CONCATENATE([1]Feuil1!$AK66) | X66: =CONCATENATE([1]Feuil1!AL66,[1]Feuil1!AM66) | Y66: =CONCATENATE([1]Feuil1!AN66,[1]Feuil1!AO66) | Z66: =CONCATENATE([1]Feuil1!$AP66) | AA66: =CONCATENATE([1]Feuil1!AQ66,[1]Feuil1!AR66) | AB66: =CONCATENATE([1]Feuil1!AS66,[1]Feuil1!AT66) | AC66: =CONCATENATE([1]Feuil1!$AU66) | AD66: =CONCATENATE([1]Feuil1!AV66,[1]Feuil1!AW66) | AE66: =CONCATENATE([1]Feuil1!AX66,[1]Feuil1!AY66) | AF66: =CONCATENATE([1]Feuil1!$AZ66) -> MITOSE | AG66: =CONCATENATE([1]Feuil1!BA66,[1]Feuil1!BB66) -> CB1 E | AH66: =CONCATENATE([1]Feuil1!BC66,[1]Feuil1!BD66) -> CB1 F | AI66: =CONCATENATE([1]Feuil1!$BE66) | AJ66: =CONCATENATE([1]Feuil1!$BF66,[1]Feuil1!$BG66) | AK66: =CONCATENATE([1]Feuil1!$BH66,[1]Feuil1!$BI66) | AL66: =CONCATENATE([1]Feuil1!$BJ66) | AM66: =CONCATENATE([1]Feuil1!$BK66,[1]Feuil1!$BL66) | AN66: =CONCATENATE([1]Feuil1!$BM66,[1]Feuil1!$BN66) | AO66: =CONCATENATE([1]Feuil1!$BO66) | AP66: =CONCATENATE([1]Feuil1!$BP66,[1]Feuil1!$BQ66) | AQ66: =CONCATENATE([1]Feuil1!$BR66,[1]Feuil1!$BS66) | AR66: =CONCATENATE([1]Feuil1!$BT66) | AS66: =CONCATENATE([1]Feuil1!$BU66,[1]Feuil1!$BV66) | AT66: =CONCATENATE([1]Feuil1!$BW66,[1]Feuil1!$BX66) | AU66: =CONCATENATE([1]Feuil1!$BY66) | AV66: =CONCATENATE([1]Feuil1!$BZ66,[1]Feuil1!$CA66) | AW66: =CONCATENATE([1]Feuil1!$CB66,[1]Feuil1!$CC66)
A67: =[1]Feuil1!$A67 -> 42830 | B67: =CONCATENATE([1]Feuil1!$B67) -> TP3 | C67: =CONCATENATE([1]Feuil1!$C67,[1]Feuil1!$D67) -> MPCI1 A | D67: =CONCATENATE([1]Feuil1!$E67,[1]Feuil1!$F67) -> MPCI1 B | E67: =CONCATENATE([1]Feuil1!$G67) -> TP4 | F67: =CONCATENATE([1]Feuil1!H67,[1]Feuil1!I67) -> CB2 M | G67: =CONCATENATE([1]Feuil1!$J67,[1]Feuil1!$K67) -> BI A | I67: =CONCATENATE([1]Feuil1!$M67,[1]Feuil1!$N67) -> CB2 N | J67: =CONCATENATE([1]Feuil1!O67,[1]Feuil1!P67) -> BI B | K67: =CONCATENATE([1]Feuil1!$Q67) -> Thermo | L67: =CONCATENATE([1]Feuil1!R67,[1]Feuil1!S67) -> MPCI1 E | M67: =CONCATENATE([1]Feuil1!$T67,[1]Feuil1!$U67) -> MPCI1 F | N67: =CONCATENATE([1]Feuil1!$V67) | O67: =CONCATENATE([1]Feuil1!W67,[1]Feuil1!X67) | P67: =CONCATENATE([1]Feuil1!$Y67,[1]Feuil1!$Z67) | Q67: =CONCATENATE([1]Feuil1!$AA67) | R67: =CONCATENATE([1]Feuil1!AB67,[1]Feuil1!AC67) | S67: =CONCATENATE([1]Feuil1!$AD67,[1]Feuil1!$AE67) | T67: =CONCATENATE([1]Feuil1!$AF67) | U67: =CONCATENATE([1]Feuil1!AG67,[1]Feuil1!AH67) | V67: =CONCATENATE([1]Feuil1!$AI67,[1]Feuil1!$AJ67) | W67: =CONCATENATE([1]Feuil1!$AK67) | X67: =CONCATENATE([1]Feuil1!AL67,[1]Feuil1!AM67) | Y67: =CONCATENATE([1]Feuil1!AN67,[1]Feuil1!AO67) | Z67: =CONCATENATE([1]Feuil1!$AP67) | AA67: =CONCATENATE([1]Feuil1!AQ67,[1]Feuil1!AR67) | AB67: =CONCATENATE([1]Feuil1!AS67,[1]Feuil1!AT67) | AC67: =CONCATENATE([1]Feuil1!$AU67) -> Fraction C | AD67: =CONCATENATE([1]Feuil1!AV67,[1]Feuil1!AW67) -> BI G | AE67: =CONCATENATE([1]Feuil1!AX67,[1]Feuil1!AY67) -> BI G | AF67: =CONCATENATE([1]Feuil1!$AZ67) -> MITOSE | AG67: =CONCATENATE([1]Feuil1!BA67,[1]Feuil1!BB67) -> BI C | AH67: =CONCATENATE([1]Feuil1!BC67,[1]Feuil1!BD67) -> BI E | AI67: =CONCATENATE([1]Feuil1!$BE67) | AJ67: =CONCATENATE([1]Feuil1!$BF67,[1]Feuil1!$BG67) | AK67: =CONCATENATE([1]Feuil1!$BH67,[1]Feuil1!$BI67) | AL67: =CONCATENATE([1]Feuil1!$BJ67) | AM67: =CONCATENATE([1]Feuil1!$BK67,[1]Feuil1!$BL67) | AN67: =CONCATENATE([1]Feuil1!$BM67,[1]Feuil1!$BN67) | AO67: =CONCATENATE([1]Feuil1!$BO67) | AP67: =CONCATENATE([1]Feuil1!$BP67,[1]Feuil1!$BQ67) | AQ67: =CONCATENATE([1]Feuil1!$BR67,[1]Feuil1!$BS67) | AR67: =CONCATENATE([1]Feuil1!$BT67) | AS67: =CONCATENATE([1]Feuil1!$BU67,[1]Feuil1!$BV67) | AT67: =CONCATENATE([1]Feuil1!$BW67,[1]Feuil1!$BX67) | AU67: =CONCATENATE([1]Feuil1!$BY67) | AV67: =CONCATENATE([1]Feuil1!$BZ67,[1]Feuil1!$CA67) | AW67: =CONCATENATE([1]Feuil1!$CB67,[1]Feuil1!$CC67)
A68: =[1]Feuil1!$A68 -> 42831 | B68: =CONCATENATE([1]Feuil1!$B68) | C68: =CONCATENATE([1]Feuil1!$C68,[1]Feuil1!$D68) | D68: =CONCATENATE([1]Feuil1!$E68,[1]Feuil1!$F68) | E68: =CONCATENATE([1]Feuil1!$G68) | F68: =CONCATENATE([1]Feuil1!H68,[1]Feuil1!I68) | G68: =CONCATENATE([1]Feuil1!$J68,[1]Feuil1!$K68) | I68: =CONCATENATE([1]Feuil1!$M68,[1]Feuil1!$N68) | J68: =CONCATENATE([1]Feuil1!O68,[1]Feuil1!P68) | K68: =CONCATENATE([1]Feuil1!$Q68) -> Thermo | L68: =CONCATENATE([1]Feuil1!R68,[1]Feuil1!S68) -> DLMP2 | M68: =CONCATENATE([1]Feuil1!$T68,[1]Feuil1!$U68) | N68: =CONCATENATE([1]Feuil1!$V68) | O68: =CONCATENATE([1]Feuil1!W68,[1]Feuil1!X68) | P68: =CONCATENATE([1]Feuil1!$Y68,[1]Feuil1!$Z68) | Q68: =CONCATENATE([1]Feuil1!$AA68) | R68: =CONCATENATE([1]Feuil1!AB68,[1]Feuil1!AC68) | S68: =CONCATENATE([1]Feuil1!$AD68,[1]Feuil1!$AE68) | T68: =CONCATENATE([1]Feuil1!$AF68) | U68: =CONCATENATE([1]Feuil1!AG68,[1]Feuil1!AH68) | V68: =CONCATENATE([1]Feuil1!$AI68,[1]Feuil1!$AJ68) | W68: =CONCATENATE([1]Feuil1!$AK68) | X68: =CONCATENATE([1]Feuil1!AL68,[1]Feuil1!AM68) | Y68: =CONCATENATE([1]Feuil1!AN68,[1]Feuil1!AO68) | Z68: =CONCATENATE([1]Feuil1!$AP68) | AA68: =CONCATENATE([1]Feuil1!AQ68,[1]Feuil1!AR68) | AB68: =CONCATENATE([1]Feuil1!AS68,[1]Feuil1!AT68) | AC68: =CONCATENATE([1]Feuil1!$AU68) | AD68: =CONCATENATE([1]Feuil1!AV68,[1]Feuil1!AW68) | AE68: =CONCATENATE([1]Feuil1!AX68,[1]Feuil1!AY68) | AF68: =CONCATENATE([1]Feuil1!$AZ68) | AG68: =CONCATENATE([1]Feuil1!BA68,[1]Feuil1!BB68) | AH68: =CONCATENATE([1]Feuil1!BC68,[1]Feuil1!BD68) | AI68: =CONCATENATE([1]Feuil1!$BE68) | AJ68: =CONCATENATE([1]Feuil1!$BF68,[1]Feuil1!$BG68) | AK68: =CONCATENATE([1]Feuil1!$BH68,[1]Feuil1!$BI68) | AL68: =CONCATENATE([1]Feuil1!$BJ68) | AM68: =CONCATENATE([1]Feuil1!$BK68,[1]Feuil1!$BL68) | AN68: =CONCATENATE([1]Feuil1!$BM68,[1]Feuil1!$BN68) | AO68: =CONCATENATE([1]Feuil1!$BO68) | AP68: =CONCATENATE([1]Feuil1!$BP68,[1]Feuil1!$BQ68) | AQ68: =CONCATENATE([1]Feuil1!$BR68,[1]Feuil1!$BS68) | AR68: =CONCATENATE([1]Feuil1!$BT68) | AS68: =CONCATENATE([1]Feuil1!$BU68,[1]Feuil1!$BV68) | AT68: =CONCATENATE([1]Feuil1!$BW68,[1]Feuil1!$BX68) | AU68: =CONCATENATE([1]Feuil1!$BY68) | AV68: =CONCATENATE([1]Feuil1!$BZ68,[1]Feuil1!$CA68) | AW68: =CONCATENATE([1]Feuil1!$CB68,[1]Feuil1!$CC68)
A69: =[1]Feuil1!$A69 -> 42832 | B69: =CONCATENATE([1]Feuil1!$B69) -> TP3 | C69: =CONCATENATE([1]Feuil1!$C69,[1]Feuil1!$D69) -> DLCB2 | D69: =CONCATENATE([1]Feuil1!$E69,[1]Feuil1!$F69) -> CB1 F | E69: =CONCATENATE([1]Feuil1!$G69) -> TP4 | F69: =CONCATENATE([1]Feuil1!H69,[1]Feuil1!I69) | G69: =CONCATENATE([1]Feuil1!$J69,[1]Feuil1!$K69) -> BI G | I69: =CONCATENATE([1]Feuil1!$M69,[1]Feuil1!$N69) | J69: =CONCATENATE([1]Feuil1!O69,[1]Feuil1!P69) | K69: =CONCATENATE([1]Feuil1!$Q69) -> Thermo | L69: =CONCATENATE([1]Feuil1!R69,[1]Feuil1!S69) -> MPCI1 D | M69: =CONCATENATE([1]Feuil1!$T69,[1]Feuil1!$U69) -> DLCB1 | N69: =CONCATENATE([1]Feuil1!$V69) | O69: =CONCATENATE([1]Feuil1!W69,[1]Feuil1!X69) | P69: =CONCATENATE([1]Feuil1!$Y69,[1]Feuil1!$Z69) | Q69: =CONCATENATE([1]Feuil1!$AA69) | R69: =CONCATENATE([1]Feuil1!AB69,[1]Feuil1!AC69) | S69: =CONCATENATE([1]Feuil1!$AD69,[1]Feuil1!$AE69) | T69: =CONCATENATE([1]Feuil1!$AF69) | U69: =CONCATENATE([1]Feuil1!AG69,[1]Feuil1!AH69) | V69: =CONCATENATE([1]Feuil1!$AI69,[1]Feuil1!$AJ69) | W69: =CONCATENATE([1]Feuil1!$AK69) | X69: =CONCATENATE([1]Feuil1!AL69,[1]Feuil1!AM69) | Y69: =CONCATENATE([1]Feuil1!AN69,[1]Feuil1!AO69) | Z69: =CONCATENATE([1]Feuil1!$AP69) | AA69: =CONCATENATE([1]Feuil1!AQ69,[1]Feuil1!AR69) | AB69: =CONCATENATE([1]Feuil1!AS69,[1]Feuil1!AT69) | AC69: =CONCATENATE([1]Feuil1!$AU69) | AD69: =CONCATENATE([1]Feuil1!AV69,[1]Feuil1!AW69) | AE69: =CONCATENATE([1]Feuil1!AX69,[1]Feuil1!AY69) | AF69: =CONCATENATE([1]Feuil1!$AZ69) -> MITOSE | AG69: =CONCATENATE([1]Feuil1!BA69,[1]Feuil1!BB69) | AH69: =CONCATENATE([1]Feuil1!BC69,[1]Feuil1!BD69) -> BI H | AI69: =CONCATENATE([1]Feuil1!$BE69) | AJ69: =CONCATENATE([1]Feuil1!$BF69,[1]Feuil1!$BG69) | AK69: =CONCATENATE([1]Feuil1!$BH69,[1]Feuil1!$BI69) | AL69: =CONCATENATE([1]Feuil1!$BJ69) | AM69: =CONCATENATE([1]Feuil1!$BK69,[1]Feuil1!$BL69) | AN69: =CONCATENATE([1]Feuil1!$BM69,[1]Feuil1!$BN69) | AO69: =CONCATENATE([1]Feuil1!$BO69) | AP69: =CONCATENATE([1]Feuil1!$BP69,[1]Feuil1!$BQ69) | AQ69: =CONCATENATE([1]Feuil1!$BR69,[1]Feuil1!$BS69) | AR69: =CONCATENATE([1]Feuil1!$BT69) | AS69: =CONCATENATE([1]Feuil1!$BU69,[1]Feuil1!$BV69) | AT69: =CONCATENATE([1]Feuil1!$BW69,[1]Feuil1!$BX69) | AU69: =CONCATENATE([1]Feuil1!$BY69) | AV69: =CONCATENATE([1]Feuil1!$BZ69,[1]Feuil1!$CA69) | AW69: =CONCATENATE([1]Feuil1!$CB69,[1]Feuil1!$CC69)
B70: =CONCATENATE([1]Feuil1!$B70) | E70: =CONCATENATE([1]Feuil1!$G70) | K70: =CONCATENATE([1]Feuil1!$Q70) | N70: =CONCATENATE([1]Feuil1!$V70) | Q70: =CONCATENATE([1]Feuil1!$AA70) | T70: =CONCATENATE([1]Feuil1!$AF70) | W70: =CONCATENATE([1]Feuil1!$AK70) | Z70: =CONCATENATE([1]Feuil1!$AP70) | AC70: =CONCATENATE([1]Feuil1!$AU70) | AF70: =CONCATENATE([1]Feuil1!$AZ70) | AI70: =CONCATENATE([1]Feuil1!$BE70) | AL70: =CONCATENATE([1]Feuil1!$BJ70) | AO70: =CONCATENATE([1]Feuil1!$BO70) | AR70: =CONCATENATE([1]Feuil1!$BT70) | AU70: =CONCATENATE([1]Feuil1!$BY70)
A71: =[1]Feuil1!$A71 -> 42835 | B71: =CONCATENATE([1]Feuil1!$B71) | C71: =CONCATENATE([1]Feuil1!$C71,[1]Feuil1!$D71) | D71: =CONCATENATE([1]Feuil1!$E71,[1]Feuil1!$F71) | E71: =CONCATENATE([1]Feuil1!$G71) | F71: =CONCATENATE([1]Feuil1!H71,[1]Feuil1!I71) | G71: =CONCATENATE([1]Feuil1!$J71,[1]Feuil1!$K71) | I71: =CONCATENATE([1]Feuil1!$M71,[1]Feuil1!$N71) | J71: =CONCATENATE([1]Feuil1!O71,[1]Feuil1!P71) | K71: =CONCATENATE([1]Feuil1!$Q71) | L71: =CONCATENATE([1]Feuil1!R71,[1]Feuil1!S71) | M71: =CONCATENATE([1]Feuil1!$T71,[1]Feuil1!$U71) | N71: =CONCATENATE([1]Feuil1!$V71) | O71: =CONCATENATE([1]Feuil1!W71,[1]Feuil1!X71) | P71: =CONCATENATE([1]Feuil1!$Y71,[1]Feuil1!$Z71) | Q71: =CONCATENATE([1]Feuil1!$AA71) | R71: =CONCATENATE([1]Feuil1!AB71,[1]Feuil1!AC71) | S71: =CONCATENATE([1]Feuil1!$AD71,[1]Feuil1!$AE71) | T71: =CONCATENATE([1]Feuil1!$AF71) | U71: =CONCATENATE([1]Feuil1!AG71,[1]Feuil1!AH71) | V71: =CONCATENATE([1]Feuil1!$AI71,[1]Feuil1!$AJ71) | W71: =CONCATENATE([1]Feuil1!$AK71) | X71: =CONCATENATE([1]Feuil1!AL71,[1]Feuil1!AM71) | Y71: =CONCATENATE([1]Feuil1!AN71,[1]Feuil1!AO71) | Z71: =CONCATENATE([1]Feuil1!$AP71) | AA71: =CONCATENATE([1]Feuil1!AQ71,[1]Feuil1!AR71) | AB71: =CONCATENATE([1]Feuil1!AS71,[1]Feuil1!AT71) | AC71: =CONCATENATE([1]Feuil1!$AU71) | AD71: =CONCATENATE([1]Feuil1!AV71,[1]Feuil1!AW71) | AE71: =CONCATENATE([1]Feuil1!AX71,[1]Feuil1!AY71) | AF71: =CONCATENATE([1]Feuil1!$AZ71) | AG71: =CONCATENATE([1]Feuil1!BA71,[1]Feuil1!BB71) | AH71: =CONCATENATE([1]Feuil1!BC71,[1]Feuil1!BD71) | AI71: =CONCATENATE([1]Feuil1!$BE71) | AJ71: =CONCATENATE([1]Feuil1!$BF71,[1]Feuil1!$BG71) | AK71: =CONCATENATE([1]Feuil1!$BH71,[1]Feuil1!$BI71) | AL71: =CONCATENATE([1]Feuil1!$BJ71) | AM71: =CONCATENATE([1]Feuil1!$BK71,[1]Feuil1!$BL71) | AN71: =CONCATENATE([1]Feuil1!$BM71,[1]Feuil1!$BN71) | AO71: =CONCATENATE([1]Feuil1!$BO71) | AP71: =CONCATENATE([1]Feuil1!$BP71,[1]Feuil1!$BQ71) | AQ71: =CONCATENATE([1]Feuil1!$BR71,[1]Feuil1!$BS71) | AR71: =CONCATENATE([1]Feuil1!$BT71) | AS71: =CONCATENATE([1]Feuil1!$BU71,[1]Feuil1!$BV71) | AT71: =CONCATENATE([1]Feuil1!$BW71,[1]Feuil1!$BX71) | AU71: =CONCATENATE([1]Feuil1!$BY71) | AV71: =CONCATENATE([1]Feuil1!$BZ71,[1]Feuil1!$CA71) | AW71: =CONCATENATE([1]Feuil1!$CB71,[1]Feuil1!$CC71)
A72: =[1]Feuil1!$A72 -> 42836 | B72: =CONCATENATE([1]Feuil1!$B72) | C72: =CONCATENATE([1]Feuil1!$C72,[1]Feuil1!$D72) | D72: =CONCATENATE([1]Feuil1!$E72,[1]Feuil1!$F72) | E72: =CONCATENATE([1]Feuil1!$G72) | F72: =CONCATENATE([1]Feuil1!H72,[1]Feuil1!I72) | G72: =CONCATENATE([1]Feuil1!$J72,[1]Feuil1!$K72) | I72: =CONCATENATE([1]Feuil1!$M72,[1]Feuil1!$N72) | J72: =CONCATENATE([1]Feuil1!O72,[1]Feuil1!P72) | K72: =CONCATENATE([1]Feuil1!$Q72) | L72: =CONCATENATE([1]Feuil1!R72,[1]Feuil1!S72) | M72: =CONCATENATE([1]Feuil1!$T72,[1]Feuil1!$U72) | N72: =CONCATENATE([1]Feuil1!$V72) | O72: =CONCATENATE([1]Feuil1!W72,[1]Feuil1!X72) | P72: =CONCATENATE([1]Feuil1!$Y72,[1]Feuil1!$Z72) | Q72: =CONCATENATE([1]Feuil1!$AA72) | R72: =CONCATENATE([1]Feuil1!AB72,[1]Feuil1!AC72) | S72: =CONCATENATE([1]Feuil1!$AD72,[1]Feuil1!$AE72) | T72: =CONCATENATE([1]Feuil1!$AF72) | U72: =CONCATENATE([1]Feuil1!AG72,[1]Feuil1!AH72) | V72: =CONCATENATE([1]Feuil1!$AI72,[1]Feuil1!$AJ72) | W72: =CONCATENATE([1]Feuil1!$AK72) | X72: =CONCATENATE([1]Feuil1!AL72,[1]Feuil1!AM72) | Y72: =CONCATENATE([1]Feuil1!AN72,[1]Feuil1!AO72) | Z72: =CONCATENATE([1]Feuil1!$AP72) | AA72: =CONCATENATE([1]Feuil1!AQ72,[1]Feuil1!AR72) | AB72: =CONCATENATE([1]Feuil1!AS72,[1]Feuil1!AT72) | AC72: =CONCATENATE([1]Feuil1!$AU72) | AD72: =CONCATENATE([1]Feuil1!AV72,[1]Feuil1!AW72) | AE72: =CONCATENATE([1]Feuil1!AX72,[1]Feuil1!AY72) | AF72: =CONCATENATE([1]Feuil1!$AZ72) | AG72: =CONCATENATE([1]Feuil1!BA72,[1]Feuil1!BB72) | AH72: =CONCATENATE([1]Feuil1!BC72,[1]Feuil1!BD72) | AI72: =CONCATENATE([1]Feuil1!$BE72) | AJ72: =CONCATENATE([1]Feuil1!$BF72,[1]Feuil1!$BG72) | AK72: =CONCATENATE([1]Feuil1!$BH72,[1]Feuil1!$BI72) | AL72: =CONCATENATE([1]Feuil1!$BJ72) | AM72: =CONCATENATE([1]Feuil1!$BK72,[1]Feuil1!$BL72) | AN72: =CONCATENATE([1]Feuil1!$BM72,[1]Feuil1!$BN72) | AO72: =CONCATENATE([1]Feuil1!$BO72) | AP72: =CONCATENATE([1]Feuil1!$BP72,[1]Feuil1!$BQ72) | AQ72: =CONCATENATE([1]Feuil1!$BR72,[1]Feuil1!$BS72) | AR72: =CONCATENATE([1]Feuil1!$BT72) | AS72: =CONCATENATE([1]Feuil1!$BU72,[1]Feuil1!$BV72) | AT72: =CONCATENATE([1]Feuil1!$BW72,[1]Feuil1!$BX72) | AU72: =CONCATENATE([1]Feuil1!$BY72) | AV72: =CONCATENATE([1]Feuil1!$BZ72,[1]Feuil1!$CA72) | AW72: =CONCATENATE([1]Feuil1!$CB72,[1]Feuil1!$CC72)
A73: =[1]Feuil1!$A73 -> 42837 | B73: =CONCATENATE([1]Feuil1!$B73) | C73: =CONCATENATE([1]Feuil1!$C73,[1]Feuil1!$D73) | D73: =CONCATENATE([1]Feuil1!$E73,[1]Feuil1!$F73) | E73: =CONCATENATE([1]Feuil1!$G73) | F73: =CONCATENATE([1]Feuil1!H73,[1]Feuil1!I73) | G73: =CONCATENATE([1]Feuil1!$J73,[1]Feuil1!$K73) | I73: =CONCATENATE([1]Feuil1!$M73,[1]Feuil1!$N73) | J73: =CONCATENATE([1]Feuil1!O73,[1]Feuil1!P73) | K73: =CONCATENATE([1]Feuil1!$Q73) | L73: =CONCATENATE([1]Feuil1!R73,[1]Feuil1!S73) | M73: =CONCATENATE([1]Feuil1!$T73,[1]Feuil1!$U73) | N73: =CONCATENATE([1]Feuil1!$V73) | O73: =CONCATENATE([1]Feuil1!W73,[1]Feuil1!X73) | P73: =CONCATENATE([1]Feuil1!$Y73,[1]Feuil1!$Z73) | Q73: =CONCATENATE([1]Feuil1!$AA73) | R73: =CONCATENATE([1]Feuil1!AB73,[1]Feuil1!AC73) | S73: =CONCATENATE([1]Feuil1!$AD73,[1]Feuil1!$AE73) | T73: =CONCATENATE([1]Feuil1!$AF73) | U73: =CONCATENATE([1]Feuil1!AG73,[1]Feuil1!AH73) | V73: =CONCATENATE([1]Feuil1!$AI73,[1]Feuil1!$AJ73) | W73: =CONCATENATE([1]Feuil1!$AK73) | X73: =CONCATENATE([1]Feuil1!AL73,[1]Feuil1!AM73) | Y73: =CONCATENATE([1]Feuil1!AN73,[1]Feuil1!AO73) | Z73: =CONCATENATE([1]Feuil1!$AP73) | AA73: =CONCATENATE([1]Feuil1!AQ73,[1]Feuil1!AR73) | AB73: =CONCATENATE([1]Feuil1!AS73,[1]Feuil1!AT73) | AC73: =CONCATENATE([1]Feuil1!$AU73) | AD73: =CONCATENATE([1]Feuil1!AV73,[1]Feuil1!AW73) | AE73: =CONCATENATE([1]Feuil1!AX73,[1]Feuil1!AY73) | AF73: =CONCATENATE([1]Feuil1!$AZ73) | AG73: =CONCATENATE([1]Feuil1!BA73,[1]Feuil1!BB73) | AH73: =CONCATENATE([1]Feuil1!BC73,[1]Feuil1!BD73) | AI73: =CONCATENATE([1]Feuil1!$BE73) | AJ73: =CONCATENATE([1]Feuil1!$BF73,[1]Feuil1!$BG73) | AK73: =CONCATENATE([1]Feuil1!$BH73,[1]Feuil1!$BI73) | AL73: =CONCATENATE([1]Feuil1!$BJ73) | AM73: =CONCATENATE([1]Feuil1!$BK73,[1]Feuil1!$BL73) | AN73: =CONCATENATE([1]Feuil1!$BM73,[1]Feuil1!$BN73) | AO73: =CONCATENATE([1]Feuil1!$BO73) | AP73: =CONCATENATE([1]Feuil1!$BP73,[1]Feuil1!$BQ73) | AQ73: =CONCATENATE([1]Feuil1!$BR73,[1]Feuil1!$BS73) | AR73: =CONCATENATE([1]Feuil1!$BT73) | AS73: =CONCATENATE([1]Feuil1!$BU73,[1]Feuil1!$BV73) | AT73: =CONCATENATE([1]Feuil1!$BW73,[1]Feuil1!$BX73) | AU73: =CONCATENATE([1]Feuil1!$BY73) | AV73: =CONCATENATE([1]Feuil1!$BZ73,[1]Feuil1!$CA73) | AW73: =CONCATENATE([1]Feuil1!$CB73,[1]Feuil1!$CC73)
A74: =[1]Feuil1!$A74 -> 42838 | B74: =CONCATENATE([1]Feuil1!$B74) | C74: =CONCATENATE([1]Feuil1!$C74,[1]Feuil1!$D74) | D74: =CONCATENATE([1]Feuil1!$E74,[1]Feuil1!$F74) | E74: =CONCATENATE([1]Feuil1!$G74) | F74: =CONCATENATE([1]Feuil1!H74,[1]Feuil1!I74) | G74: =CONCATENATE([1]Feuil1!$J74,[1]Feuil1!$K74) | I74: =CONCATENATE([1]Feuil1!$M74,[1]Feuil1!$N74) | J74: =CONCATENATE([1]Feuil1!O74,[1]Feuil1!P74) | K74: =CONCATENATE([1]Feuil1!$Q74) | L74: =CONCATENATE([1]Feuil1!R74,[1]Feuil1!S74) | M74: =CONCATENATE([1]Feuil1!$T74,[1]Feuil1!$U74) | N74: =CONCATENATE([1]Feuil1!$V74) | O74: =CONCATENATE([1]Feuil1!W74,[1]Feuil1!X74) | P74: =CONCATENATE([1]Feuil1!$Y74,[1]Feuil1!$Z74) | Q74: =CONCATENATE([1]Feuil1!$AA74) | R74: =CONCATENATE([1]Feuil1!AB74,[1]Feuil1!AC74) | S74: =CONCATENATE([1]Feuil1!$AD74,[1]Feuil1!$AE74) | T74: =CONCATENATE([1]Feuil1!$AF74) | U74: =CONCATENATE([1]Feuil1!AG74,[1]Feuil1!AH74) | V74: =CONCATENATE([1]Feuil1!$AI74,[1]Feuil1!$AJ74) | W74: =CONCATENATE([1]Feuil1!$AK74) | X74: =CONCATENATE([1]Feuil1!AL74,[1]Feuil1!AM74) | Y74: =CONCATENATE([1]Feuil1!AN74,[1]Feuil1!AO74) | Z74: =CONCATENATE([1]Feuil1!$AP74) | AA74: =CONCATENATE([1]Feuil1!AQ74,[1]Feuil1!AR74) | AB74: =CONCATENATE([1]Feuil1!AS74,[1]Feuil1!AT74) | AC74: =CONCATENATE([1]Feuil1!$AU74) | AD74: =CONCATENATE([1]Feuil1!AV74,[1]Feuil1!AW74) | AE74: =CONCATENATE([1]Feuil1!AX74,[1]Feuil1!AY74) | AF74: =CONCATENATE([1]Feuil1!$AZ74) | AG74: =CONCATENATE([1]Feuil1!BA74,[1]Feuil1!BB74) | AH74: =CONCATENATE([1]Feuil1!BC74,[1]Feuil1!BD74) | AI74: =CONCATENATE([1]Feuil1!$BE74) | AJ74: =CONCATENATE([1]Feuil1!$BF74,[1]Feuil1!$BG74) | AK74: =CONCATENATE([1]Feuil1!$BH74,[1]Feuil1!$BI74) | AL74: =CONCATENATE([1]Feuil1!$BJ74) | AM74: =CONCATENATE([1]Feuil1!$BK74,[1]Feuil1!$BL74) | AN74: =CONCATENATE([1]Feuil1!$BM74,[1]Feuil1!$BN74) | AO74: =CONCATENATE([1]Feuil1!$BO74) | AP74: =CONCATENATE([1]Feuil1!$BP74,[1]Feuil1!$BQ74) | AQ74: =CONCATENATE([1]Feuil1!$BR74,[1]Feuil1!$BS74) | AR74: =CONCATENATE([1]Feuil1!$BT74) | AS74: =CONCATENATE([1]Feuil1!$BU74,[1]Feuil1!$BV74) | AT74: =CONCATENATE([1]Feuil1!$BW74,[1]Feuil1!$BX74) | AU74: =CONCATENATE([1]Feuil1!$BY74) | AV74: =CONCATENATE([1]Feuil1!$BZ74,[1]Feuil1!$CA74) | AW74: =CONCATENATE([1]Feuil1!$CB74,[1]Feuil1!$CC74)
A75: =[1]Feuil1!$A75 -> 42839 | B75: =CONCATENATE([1]Feuil1!$B75) | C75: =CONCATENATE([1]Feuil1!$C75,[1]Feuil1!$D75) | D75: =CONCATENATE([1]Feuil1!$E75,[1]Feuil1!$F75) | E75: =CONCATENATE([1]Feuil1!$G75) | F75: =CONCATENATE([1]Feuil1!H75,[1]Feuil1!I75) | G75: =CONCATENATE([1]Feuil1!$J75,[1]Feuil1!$K75) | I75: =CONCATENATE([1]Feuil1!$M75,[1]Feuil1!$N75) | J75: =CONCATENATE([1]Feuil1!O75,[1]Feuil1!P75) | K75: =CONCATENATE([1]Feuil1!$Q75) | L75: =CONCATENATE([1]Feuil1!R75,[1]Feuil1!S75) | M75: =CONCATENATE([1]Feuil1!$T75,[1]Feuil1!$U75) | N75: =CONCATENATE([1]Feuil1!$V75) | O75: =CONCATENATE([1]Feuil1!W75,[1]Feuil1!X75) | P75: =CONCATENATE([1]Feuil1!$Y75,[1]Feuil1!$Z75) | Q75: =CONCATENATE([1]Feuil1!$AA75) | R75: =CONCATENATE([1]Feuil1!AB75,[1]Feuil1!AC75) | S75: =CONCATENATE([1]Feuil1!$AD75,[1]Feuil1!$AE75) | T75: =CONCATENATE([1]Feuil1!$AF75) | U75: =CONCATENATE([1]Feuil1!AG75,[1]Feuil1!AH75) | V75: =CONCATENATE([1]Feuil1!$AI75,[1]Feuil1!$AJ75) | W75: =CONCATENATE([1]Feuil1!$AK75) | X75: =CONCATENATE([1]Feuil1!AL75,[1]Feuil1!AM75) | Y75: =CONCATENATE([1]Feuil1!AN75,[1]Feuil1!AO75) | Z75: =CONCATENATE([1]Feuil1!$AP75) | AA75: =CONCATENATE([1]Feuil1!AQ75,[1]Feuil1!AR75) | AB75: =CONCATENATE([1]Feuil1!AS75,[1]Feuil1!AT75) | AC75: =CONCATENATE([1]Feuil1!$AU75) | AD75: =CONCATENATE([1]Feuil1!AV75,[1]Feuil1!AW75) | AE75: =CONCATENATE([1]Feuil1!AX75,[1]Feuil1!AY75) | AF75: =CONCATENATE([1]Feuil1!$AZ75) | AG75: =CONCATENATE([1]Feuil1!BA75,[1]Feuil1!BB75) | AH75: =CONCATENATE([1]Feuil1!BC75,[1]Feuil1!BD75) | AI75: =CONCATENATE([1]Feuil1!$BE75) | AJ75: =CONCATENATE([1]Feuil1!$BF75,[1]Feuil1!$BG75) | AK75: =CONCATENATE([1]Feuil1!$BH75,[1]Feuil1!$BI75) | AL75: =CONCATENATE([1]Feuil1!$BJ75) | AM75: =CONCATENATE([1]Feuil1!$BK75,[1]Feuil1!$BL75) | AN75: =CONCATENATE([1]Feuil1!$BM75,[1]Feuil1!$BN75) | AO75: =CONCATENATE([1]Feuil1!$BO75) | AP75: =CONCATENATE([1]Feuil1!$BP75,[1]Feuil1!$BQ75) | AQ75: =CONCATENATE([1]Feuil1!$BR75,[1]Feuil1!$BS75) | AR75: =CONCATENATE([1]Feuil1!$BT75) | AS75: =CONCATENATE([1]Feuil1!$BU75,[1]Feuil1!$BV75) | AT75: =CONCATENATE([1]Feuil1!$BW75,[1]Feuil1!$BX75) | AU75: =CONCATENATE([1]Feuil1!$BY75) | AV75: =CONCATENATE([1]Feuil1!$BZ75,[1]Feuil1!$CA75) | AW75: =CONCATENATE([1]Feuil1!$CB75,[1]Feuil1!$CC75)
B76: =CONCATENATE([1]Feuil1!$B76) | E76: =CONCATENATE([1]Feuil1!$G76) | K76: =CONCATENATE([1]Feuil1!$Q76) | N76: =CONCATENATE([1]Feuil1!$V76) | Q76: =CONCATENATE([1]Feuil1!$AA76) | T76: =CONCATENATE([1]Feuil1!$AF76) | W76: =CONCATENATE([1]Feuil1!$AK76) | Z76: =CONCATENATE([1]Feuil1!$AP76) | AC76: =CONCATENATE([1]Feuil1!$AU76) | AF76: =CONCATENATE([1]Feuil1!$AZ76) | AI76: =CONCATENATE([1]Feuil1!$BE76) | AL76: =CONCATENATE([1]Feuil1!$BJ76) | AO76: =CONCATENATE([1]Feuil1!$BO76) | AR76: =CONCATENATE([1]Feuil1!$BT76) | AU76: =CONCATENATE([1]Feuil1!$BY76)
A77: =[1]Feuil1!$A77 -> 42842 | B77: =CONCATENATE([1]Feuil1!$B77) | C77: =CONCATENATE([1]Feuil1!$C77,[1]Feuil1!$D77) | D77: =CONCATENATE([1]Feuil1!$E77,[1]Feuil1!$F77) | E77: =CONCATENATE([1]Feuil1!$G77) | F77: =CONCATENATE([1]Feuil1!H77,[1]Feuil1!I77) | G77: =CONCATENATE([1]Feuil1!$J77,[1]Feuil1!$K77) | I77: =CONCATENATE([1]Feuil1!$M77,[1]Feuil1!$N77) | J77: =CONCATENATE([1]Feuil1!O77,[1]Feuil1!P77) | K77: =CONCATENATE([1]Feuil1!$Q77) | L77: =CONCATENATE([1]Feuil1!R77,[1]Feuil1!S77) | M77: =CONCATENATE([1]Feuil1!$T77,[1]Feuil1!$U77) | N77: =CONCATENATE([1]Feuil1!$V77) | O77: =CONCATENATE([1]Feuil1!W77,[1]Feuil1!X77) | P77: =CONCATENATE([1]Feuil1!$Y77,[1]Feuil1!$Z77) | Q77: =CONCATENATE([1]Feuil1!$AA77) | R77: =CONCATENATE([1]Feuil1!AB77,[1]Feuil1!AC77) | S77: =CONCATENATE([1]Feuil1!$AD77,[1]Feuil1!$AE77) | T77: =CONCATENATE([1]Feuil1!$AF77) | U77: =CONCATENATE([1]Feuil1!AG77,[1]Feuil1!AH77) | V77: =CONCATENATE([1]Feuil1!$AI77,[1]Feuil1!$AJ77) | W77: =CONCATENATE([1]Feuil1!$AK77) | X77: =CONCATENATE([1]Feuil1!AL77,[1]Feuil1!AM77) | Y77: =CONCATENATE([1]Feuil1!AN77,[1]Feuil1!AO77) | Z77: =CONCATENATE([1]Feuil1!$AP77) | AA77: =CONCATENATE([1]Feuil1!AQ77,[1]Feuil1!AR77) | AB77: =CONCATENATE([1]Feuil1!AS77,[1]Feuil1!AT77) | AC77: =CONCATENATE([1]Feuil1!$AU77) | AD77: =CONCATENATE([1]Feuil1!AV77,[1]Feuil1!AW77) | AE77: =CONCATENATE([1]Feuil1!AX77,[1]Feuil1!AY77) | AF77: =CONCATENATE([1]Feuil1!$AZ77) | AG77: =CONCATENATE([1]Feuil1!BA77,[1]Feuil1!BB77) | AH77: =CONCATENATE([1]Feuil1!BC77,[1]Feuil1!BD77) | AI77: =CONCATENATE([1]Feuil1!$BE77) | AJ77: =CONCATENATE([1]Feuil1!$BF77,[1]Feuil1!$BG77) | AK77: =CONCATENATE([1]Feuil1!$BH77,[1]Feuil1!$BI77) | AL77: =CONCATENATE([1]Feuil1!$BJ77) | AM77: =CONCATENATE([1]Feuil1!$BK77,[1]Feuil1!$BL77) | AN77: =CONCATENATE([1]Feuil1!$BM77,[1]Feuil1!$BN77) | AO77: =CONCATENATE([1]Feuil1!$BO77) | AP77: =CONCATENATE([1]Feuil1!$BP77,[1]Feuil1!$BQ77) | AQ77: =CONCATENATE([1]Feuil1!$BR77,[1]Feuil1!$BS77) | AR77: =CONCATENATE([1]Feuil1!$BT77) | AS77: =CONCATENATE([1]Feuil1!$BU77,[1]Feuil1!$BV77) | AT77: =CONCATENATE([1]Feuil1!$BW77,[1]Feuil1!$BX77) | AU77: =CONCATENATE([1]Feuil1!$BY77) | AV77: =CONCATENATE([1]Feuil1!$BZ77,[1]Feuil1!$CA77) | AW77: =CONCATENATE([1]Feuil1!$CB77,[1]Feuil1!$CC77)
A78: =[1]Feuil1!$A78 -> 42843 | B78: =CONCATENATE([1]Feuil1!$B78) -> TP3 | C78: =CONCATENATE([1]Feuil1!$C78,[1]Feuil1!$D78) -> CB1 G | D78: =CONCATENATE([1]Feuil1!$E78,[1]Feuil1!$F78) -> CB1 H | E78: =CONCATENATE([1]Feuil1!$G78) | F78: =CONCATENATE([1]Feuil1!H78,[1]Feuil1!I78) -> CB1 H | G78: =CONCATENATE([1]Feuil1!$J78,[1]Feuil1!$K78) -> CB1 G | I78: =CONCATENATE([1]Feuil1!$M78,[1]Feuil1!$N78) | J78: =CONCATENATE([1]Feuil1!O78,[1]Feuil1!P78) | K78: =CONCATENATE([1]Feuil1!$Q78) -> Thermo | L78: =CONCATENATE([1]Feuil1!R78,[1]Feuil1!S78) -> CB1 E | M78: =CONCATENATE([1]Feuil1!$T78,[1]Feuil1!$U78) -> CB1 F | N78: =CONCATENATE([1]Feuil1!$V78) | O78: =CONCATENATE([1]Feuil1!W78,[1]Feuil1!X78) | P78: =CONCATENATE([1]Feuil1!$Y78,[1]Feuil1!$Z78) | Q78: =CONCATENATE([1]Feuil1!$AA78) | R78: =CONCATENATE([1]Feuil1!AB78,[1]Feuil1!AC78) | S78: =CONCATENATE([1]Feuil1!$AD78,[1]Feuil1!$AE78) | T78: =CONCATENATE([1]Feuil1!$AF78) | U78: =CONCATENATE([1]Feuil1!AG78,[1]Feuil1!AH78) | V78: =CONCATENATE([1]Feuil1!$AI78,[1]Feuil1!$AJ78) | W78: =CONCATENATE([1]Feuil1!$AK78) | X78: =CONCATENATE([1]Feuil1!AL78,[1]Feuil1!AM78) | Y78: =CONCATENATE([1]Feuil1!AN78,[1]Feuil1!AO78) | Z78: =CONCATENATE([1]Feuil1!$AP78) | AA78: =CONCATENATE([1]Feuil1!AQ78,[1]Feuil1!AR78) | AB78: =CONCATENATE([1]Feuil1!AS78,[1]Feuil1!AT78) | AC78: =CONCATENATE([1]Feuil1!$AU78) | AD78: =CONCATENATE([1]Feuil1!AV78,[1]Feuil1!AW78) -> CB2 P | AE78: =CONCATENATE([1]Feuil1!AX78,[1]Feuil1!AY78) -> CB2 P | AF78: =CONCATENATE([1]Feuil1!$AZ78) | AG78: =CONCATENATE([1]Feuil1!BA78,[1]Feuil1!BB78) | AH78: =CONCATENATE([1]Feuil1!BC78,[1]Feuil1!BD78) | AI78: =CONCATENATE([1]Feuil1!$BE78) | AJ78: =CONCATENATE([1]Feuil1!$BF78,[1]Feuil1!$BG78) | AK78: =CONCATENATE([1]Feuil1!$BH78,[1]Feuil1!$BI78) | AL78: =CONCATENATE([1]Feuil1!$BJ78) | AM78: =CONCATENATE([1]Feuil1!$BK78,[1]Feuil1!$BL78) | AN78: =CONCATENATE([1]Feuil1!$BM78,[1]Feuil1!$BN78) | AO78: =CONCATENATE([1]Feuil1!$BO78) | AP78: =CONCATENATE([1]Feuil1!$BP78,[1]Feuil1!$BQ78) | AQ78: =CONCATENATE([1]Feuil1!$BR78,[1]Feuil1!$BS78) | AR78: =CONCATENATE([1]Feuil1!$BT78) | AS78: =CONCATENATE([1]Feuil1!$BU78,[1]Feuil1!$BV78) | AT78: =CONCATENATE([1]Feuil1!$BW78,[1]Feuil1!$BX78) | AU78: =CONCATENATE([1]Feuil1!$BY78) | AV78: =CONCATENATE([1]Feuil1!$BZ78,[1]Feuil1!$CA78) | AW78: =CONCATENATE([1]Feuil1!$CB78,[1]Feuil1!$CC78)
A79: =[1]Feuil1!$A79 -> 42844 | B79: =CONCATENATE([1]Feuil1!$B79) | C79: =CONCATENATE([1]Feuil1!$C79,[1]Feuil1!$D79) | D79: =CONCATENATE([1]Feuil1!$E79,[1]Feuil1!$F79) | E79: =CONCATENATE([1]Feuil1!$G79) | F79: =CONCATENATE([1]Feuil1!H79,[1]Feuil1!I79) | G79: =CONCATENATE([1]Feuil1!$J79,[1]Feuil1!$K79) | I79: =CONCATENATE([1]Feuil1!$M79,[1]Feuil1!$N79) | J79: =CONCATENATE([1]Feuil1!O79,[1]Feuil1!P79) | K79: =CONCATENATE([1]Feuil1!$Q79) -> Thermo | L79: =CONCATENATE([1]Feuil1!R79,[1]Feuil1!S79) -> MPCI1 G | M79: =CONCATENATE([1]Feuil1!$T79,[1]Feuil1!$U79) -> MPCI1 H | N79: =CONCATENATE([1]Feuil1!$V79) | O79: =CONCATENATE([1]Feuil1!W79,[1]Feuil1!X79) | P79: =CONCATENATE([1]Feuil1!$Y79,[1]Feuil1!$Z79) | Q79: =CONCATENATE([1]Feuil1!$AA79) | R79: =CONCATENATE([1]Feuil1!AB79,[1]Feuil1!AC79) | S79: =CONCATENATE([1]Feuil1!$AD79,[1]Feuil1!$AE79) | T79: =CONCATENATE([1]Feuil1!$AF79) -> Oscillation | U79: =CONCATENATE([1]Feuil1!AG79,[1]Feuil1!AH79) -> MPCI1 C | V79: =CONCATENATE([1]Feuil1!$AI79,[1]Feuil1!$AJ79) | W79: =CONCATENATE([1]Feuil1!$AK79) | X79: =CONCATENATE([1]Feuil1!AL79,[1]Feuil1!AM79) | Y79: =CONCATENATE([1]Feuil1!AN79,[1]Feuil1!AO79) | Z79: =CONCATENATE([1]Feuil1!$AP79) | AA79: =CONCATENATE([1]Feuil1!AQ79,[1]Feuil1!AR79) | AB79: =CONCATENATE([1]Feuil1!AS79,[1]Feuil1!AT79) | AC79: =CONCATENATE([1]Feuil1!$AU79) | AD79: =CONCATENATE([1]Feuil1!AV79,[1]Feuil1!AW79) | AE79: =CONCATENATE([1]Feuil1!AX79,[1]Feuil1!AY79) | AF79: =CONCATENATE([1]Feuil1!$AZ79) | AG79: =CONCATENATE([1]Feuil1!BA79,[1]Feuil1!BB79) | AH79: =CONCATENATE([1]Feuil1!BC79,[1]Feuil1!BD79) | AI79: =CONCATENATE([1]Feuil1!$BE79) | AJ79: =CONCATENATE([1]Feuil1!$BF79,[1]Feuil1!$BG79) | AK79: =CONCATENATE([1]Feuil1!$BH79,[1]Feuil1!$BI79) | AL79: =CONCATENATE([1]Feuil1!$BJ79) | AM79: =CONCATENATE([1]Feuil1!$BK79,[1]Feuil1!$BL79) | AN79: =CONCATENATE([1]Feuil1!$BM79,[1]Feuil1!$BN79) | AO79: =CONCATENATE([1]Feuil1!$BO79) | AP79: =CONCATENATE([1]Feuil1!$BP79,[1]Feuil1!$BQ79) | AQ79: =CONCATENATE([1]Feuil1!$BR79,[1]Feuil1!$BS79) | AR79: =CONCATENATE([1]Feuil1!$BT79) | AS79: =CONCATENATE([1]Feuil1!$BU79,[1]Feuil1!$BV79) | AT79: =CONCATENATE([1]Feuil1!$BW79,[1]Feuil1!$BX79) | AU79: =CONCATENATE([1]Feuil1!$BY79) | AV79: =CONCATENATE([1]Feuil1!$BZ79,[1]Feuil1!$CA79) | AW79: =CONCATENATE([1]Feuil1!$CB79,[1]Feuil1!$CC79)
A80: =[1]Feuil1!$A80 -> 42845 | B80: =CONCATENATE([1]Feuil1!$B80) -> TP3 | C80: =CONCATENATE([1]Feuil1!$C80,[1]Feuil1!$D80) | D80: =CONCATENATE([1]Feuil1!$E80,[1]Feuil1!$F80) -> DLMP2 | E80: =CONCATENATE([1]Feuil1!$G80) | F80: =CONCATENATE([1]Feuil1!H80,[1]Feuil1!I80) | G80: =CONCATENATE([1]Feuil1!$J80,[1]Feuil1!$K80) | I80: =CONCATENATE([1]Feuil1!$M80,[1]Feuil1!$N80) | J80: =CONCATENATE([1]Feuil1!O80,[1]Feuil1!P80) | K80: =CONCATENATE([1]Feuil1!$Q80) -> Thermo | L80: =CONCATENATE([1]Feuil1!R80,[1]Feuil1!S80) -> DLMP1 | M80: =CONCATENATE([1]Feuil1!$T80,[1]Feuil1!$U80) | N80: =CONCATENATE([1]Feuil1!$V80) | O80: =CONCATENATE([1]Feuil1!W80,[1]Feuil1!X80) | P80: =CONCATENATE([1]Feuil1!$Y80,[1]Feuil1!$Z80) | Q80: =CONCATENATE([1]Feuil1!$AA80) | R80: =CONCATENATE([1]Feuil1!AB80,[1]Feuil1!AC80) | S80: =CONCATENATE([1]Feuil1!$AD80,[1]Feuil1!$AE80) | T80: =CONCATENATE([1]Feuil1!$AF80) | U80: =CONCATENATE([1]Feuil1!AG80,[1]Feuil1!AH80) | V80: =CONCATENATE([1]Feuil1!$AI80,[1]Feuil1!$AJ80) | W80: =CONCATENATE([1]Feuil1!$AK80) | X80: =CONCATENATE([1]Feuil1!AL80,[1]Feuil1!AM80) | Y80: =CONCATENATE([1]Feuil1!AN80,[1]Feuil1!AO80) | Z80: =CONCATENATE([1]Feuil1!$AP80) | AA80: =CONCATENATE([1]Feuil1!AQ80,[1]Feuil1!AR80) | AB80: =CONCATENATE([1]Feuil1!AS80,[1]Feuil1!AT80) | AC80: =CONCATENATE([1]Feuil1!$AU80) | AD80: =CONCATENATE([1]Feuil1!AV80,[1]Feuil1!AW80) -> BI E | AE80: =CONCATENATE([1]Feuil1!AX80,[1]Feuil1!AY80) -> BI E | AF80: =CONCATENATE([1]Feuil1!$AZ80) -> MITOSE | AG80: =CONCATENATE([1]Feuil1!BA80,[1]Feuil1!BB80) -> BI C | AH80: =CONCATENATE([1]Feuil1!BC80,[1]Feuil1!BD80) | AI80: =CONCATENATE([1]Feuil1!$BE80) | AJ80: =CONCATENATE([1]Feuil1!$BF80,[1]Feuil1!$BG80) | AK80: =CONCATENATE([1]Feuil1!$BH80,[1]Feuil1!$BI80) | AL80: =CONCATENATE([1]Feuil1!$BJ80) | AM80: =CONCATENATE([1]Feuil1!$BK80,[1]Feuil1!$BL80) | AN80: =CONCATENATE([1]Feuil1!$BM80,[1]Feuil1!$BN80) | AO80: =CONCATENATE([1]Feuil1!$BO80) | AP80: =CONCATENATE([1]Feuil1!$BP80,[1]Feuil1!$BQ80) | AQ80: =CONCATENATE([1]Feuil1!$BR80,[1]Feuil1!$BS80) | AR80: =CONCATENATE([1]Feuil1!$BT80) | AS80: =CONCATENATE([1]Feuil1!$BU80,[1]Feuil1!$BV80) | AT80: =CONCATENATE([1]Feuil1!$BW80,[1]Feuil1!$BX80) | AU80: =CONCATENATE([1]Feuil1!$BY80) | AV80: =CONCATENATE([1]Feuil1!$BZ80,[1]Feuil1!$CA80) | AW80: =CONCATENATE([1]Feuil1!$CB80,[1]Feuil1!$CC80)
A81: =[1]Feuil1!$A81 -> 42846 | B81: =CONCATENATE([1]Feuil1!$B81) | C81: =CONCATENATE([1]Feuil1!$C81,[1]Feuil1!$D81) | D81: =CONCATENATE([1]Feuil1!$E81,[1]Feuil1!$F81) | E81: =CONCATENATE([1]Feuil1!$G81) | F81: =CONCATENATE([1]Feuil1!H81,[1]Feuil1!I81) | G81: =CONCATENATE([1]Feuil1!$J81,[1]Feuil1!$K81) | I81: =CONCATENATE([1]Feuil1!$M81,[1]Feuil1!$N81) | J81: =CONCATENATE([1]Feuil1!O81,[1]Feuil1!P81) | K81: =CONCATENATE([1]Feuil1!$Q81) -> Thermo | L81: =CONCATENATE([1]Feuil1!R81,[1]Feuil1!S81) -> CB1 H | M81: =CONCATENATE([1]Feuil1!$T81,[1]Feuil1!$U81) -> DLCB2 | N81: =CONCATENATE([1]Feuil1!$V81) | O81: =CONCATENATE([1]Feuil1!W81,[1]Feuil1!X81) | P81: =CONCATENATE([1]Feuil1!$Y81,[1]Feuil1!$Z81) | Q81: =CONCATENATE([1]Feuil1!$AA81) | R81: =CONCATENATE([1]Feuil1!AB81,[1]Feuil1!AC81) | S81: =CONCATENATE([1]Feuil1!$AD81,[1]Feuil1!$AE81) | T81: =CONCATENATE([1]Feuil1!$AF81) | U81: =CONCATENATE([1]Feuil1!AG81,[1]Feuil1!AH81) -> MPCI2 J | V81: =CONCATENATE([1]Feuil1!$AI81,[1]Feuil1!$AJ81) | W81: =CONCATENATE([1]Feuil1!$AK81) | X81: =CONCATENATE([1]Feuil1!AL81,[1]Feuil1!AM81) | Y81: =CONCATENATE([1]Feuil1!AN81,[1]Feuil1!AO81) | Z81: =CONCATENATE([1]Feuil1!$AP81) | AA81: =CONCATENATE([1]Feuil1!AQ81,[1]Feuil1!AR81) | AB81: =CONCATENATE([1]Feuil1!AS81,[1]Feuil1!AT81) | AC81: =CONCATENATE([1]Feuil1!$AU81) | AD81: =CONCATENATE([1]Feuil1!AV81,[1]Feuil1!AW81) | AE81: =CONCATENATE([1]Feuil1!AX81,[1]Feuil1!AY81) | AF81: =CONCATENATE([1]Feuil1!$AZ81) -> MITOSE | AG81: =CONCATENATE([1]Feuil1!BA81,[1]Feuil1!BB81) -> DL BI A | AH81: =CONCATENATE([1]Feuil1!BC81,[1]Feuil1!BD81) -> BI B | AI81: =CONCATENATE([1]Feuil1!$BE81) | AJ81: =CONCATENATE([1]Feuil1!$BF81,[1]Feuil1!$BG81) | AK81: =CONCATENATE([1]Feuil1!$BH81,[1]Feuil1!$BI81) | AL81: =CONCATENATE([1]Feuil1!$BJ81) | AM81: =CONCATENATE([1]Feuil1!$BK81,[1]Feuil1!$BL81) | AN81: =CONCATENATE([1]Feuil1!$BM81,[1]Feuil1!$BN81) | AO81: =CONCATENATE([1]Feuil1!$BO81) | AP81: =CONCATENATE([1]Feuil1!$BP81,[1]Feuil1!$BQ81) | AQ81: =CONCATENATE([1]Feuil1!$BR81,[1]Feuil1!$BS81) | AR81: =CONCATENATE([1]Feuil1!$BT81) | AS81: =CONCATENATE([1]Feuil1!$BU81,[1]Feuil1!$BV81) | AT81: =CONCATENATE([1]Feuil1!$BW81,[1]Feuil1!$BX81) | AU81: =CONCATENATE([1]Feuil1!$BY81) | AV81: =CONCATENATE([1]Feuil1!$BZ81,[1]Feuil1!$CA81) | AW81: =CONCATENATE([1]Feuil1!$CB81,[1]Feuil1!$CC81)
B82: =CONCATENATE([1]Feuil1!$B82) | E82: =CONCATENATE([1]Feuil1!$G82) | K82: =CONCATENATE([1]Feuil1!$Q82) | N82: =CONCATENATE([1]Feuil1!$V82) | Q82: =CONCATENATE([1]Feuil1!$AA82) | T82: =CONCATENATE([1]Feuil1!$AF82) | W82: =CONCATENATE([1]Feuil1!$AK82) | Z82: =CONCATENATE([1]Feuil1!$AP82) | AC82: =CONCATENATE([1]Feuil1!$AU82) | AF82: =CONCATENATE([1]Feuil1!$AZ82) | AI82: =CONCATENATE([1]Feuil1!$BE82) | AL82: =CONCATENATE([1]Feuil1!$BJ82) | AO82: =CONCATENATE([1]Feuil1!$BO82) | AR82: =CONCATENATE([1]Feuil1!$BT82) | AU82: =CONCATENATE([1]Feuil1!$BY82)
A83: =[1]Feuil1!$A83 -> 42849 | B83: =CONCATENATE([1]Feuil1!$B83) | C83: =CONCATENATE([1]Feuil1!$C83,[1]Feuil1!$D83) | D83: =CONCATENATE([1]Feuil1!$E83,[1]Feuil1!$F83) | E83: =CONCATENATE([1]Feuil1!$G83) | F83: =CONCATENATE([1]Feuil1!H83,[1]Feuil1!I83) | G83: =CONCATENATE([1]Feuil1!$J83,[1]Feuil1!$K83) | I83: =CONCATENATE([1]Feuil1!$M83,[1]Feuil1!$N83) | J83: =CONCATENATE([1]Feuil1!O83,[1]Feuil1!P83) | K83: =CONCATENATE([1]Feuil1!$Q83) | L83: =CONCATENATE([1]Feuil1!R83,[1]Feuil1!S83) | M83: =CONCATENATE([1]Feuil1!$T83,[1]Feuil1!$U83) | N83: =CONCATENATE([1]Feuil1!$V83) | O83: =CONCATENATE([1]Feuil1!W83,[1]Feuil1!X83) | P83: =CONCATENATE([1]Feuil1!$Y83,[1]Feuil1!$Z83) | Q83: =CONCATENATE([1]Feuil1!$AA83) | R83: =CONCATENATE([1]Feuil1!AB83,[1]Feuil1!AC83) | S83: =CONCATENATE([1]Feuil1!$AD83,[1]Feuil1!$AE83) | T83: =CONCATENATE([1]Feuil1!$AF83) -> Oscillation | U83: =CONCATENATE([1]Feuil1!AG83,[1]Feuil1!AH83) -> MPCI2 M | V83: =CONCATENATE([1]Feuil1!$AI83,[1]Feuil1!$AJ83) -> MPCI2 N | W83: =CONCATENATE([1]Feuil1!$AK83) | X83: =CONCATENATE([1]Feuil1!AL83,[1]Feuil1!AM83) | Y83: =CONCATENATE([1]Feuil1!AN83,[1]Feuil1!AO83) | Z83: =CONCATENATE([1]Feuil1!$AP83) | AA83: =CONCATENATE([1]Feuil1!AQ83,[1]Feuil1!AR83) | AB83: =CONCATENATE([1]Feuil1!AS83,[1]Feuil1!AT83) | AC83: =CONCATENATE([1]Feuil1!$AU83) | AD83: =CONCATENATE([1]Feuil1!AV83,[1]Feuil1!AW83) -> CB2 Q | AE83: =CONCATENATE([1]Feuil1!AX83,[1]Feuil1!AY83) -> CB2 Q | AF83: =CONCATENATE([1]Feuil1!$AZ83) -> MITOSE | AG83: =CONCATENATE([1]Feuil1!BA83,[1]Feuil1!BB83) | AH83: =CONCATENATE([1]Feuil1!BC83,[1]Feuil1!BD83) -> CB2 R | AI83: =CONCATENATE([1]Feuil1!$BE83) | AJ83: =CONCATENATE([1]Feuil1!$BF83,[1]Feuil1!$BG83) | AK83: =CONCATENATE([1]Feuil1!$BH83,[1]Feuil1!$BI83) | AL83: =CONCATENATE([1]Feuil1!$BJ83) | AM83: =CONCATENATE([1]Feuil1!$BK83,[1]Feuil1!$BL83) | AN83: =CONCATENATE([1]Feuil1!$BM83,[1]Feuil1!$BN83) | AO83: =CONCATENATE([1]Feuil1!$BO83) | AP83: =CONCATENATE([1]Feuil1!$BP83,[1]Feuil1!$BQ83) | AQ83: =CONCATENATE([1]Feuil1!$BR83,[1]Feuil1!$BS83) | AR83: =CONCATENATE([1]Feuil1!$BT83) | AS83: =CONCATENATE([1]Feuil1!$BU83,[1]Feuil1!$BV83) | AT83: =CONCATENATE([1]Feuil1!$BW83,[1]Feuil1!$BX83) | AU83: =CONCATENATE([1]Feuil1!$BY83) | AV83: =CONCATENATE([1]Feuil1!$BZ83,[1]Feuil1!$CA83) | AW83: =CONCATENATE([1]Feuil1!$CB83,[1]Feuil1!$CC83)
A84: =[1]Feuil1!$A84 -> 42850 | B84: =CONCATENATE([1]Feuil1!$B84) | C84: =CONCATENATE([1]Feuil1!$C84,[1]Feuil1!$D84) | D84: =CONCATENATE([1]Feuil1!$E84,[1]Feuil1!$F84) | E84: =CONCATENATE([1]Feuil1!$G84) | F84: =CONCATENATE([1]Feuil1!H84,[1]Feuil1!I84) | G84: =CONCATENATE([1]Feuil1!$J84,[1]Feuil1!$K84) | I84: =CONCATENATE([1]Feuil1!$M84,[1]Feuil1!$N84) | J84: =CONCATENATE([1]Feuil1!O84,[1]Feuil1!P84) | K84: =CONCATENATE([1]Feuil1!$Q84) | L84: =CONCATENATE([1]Feuil1!R84,[1]Feuil1!S84) | M84: =CONCATENATE([1]Feuil1!$T84,[1]Feuil1!$U84) | N84: =CONCATENATE([1]Feuil1!$V84) -> Moteur | O84: =CONCATENATE([1]Feuil1!W84,[1]Feuil1!X84) -> CB1 A | P84: =CONCATENATE([1]Feuil1!$Y84,[1]Feuil1!$Z84) -> CB1 B | Q84: =CONCATENATE([1]Feuil1!$AA84) | R84: =CONCATENATE([1]Feuil1!AB84,[1]Feuil1!AC84) | S84: =CONCATENATE([1]Feuil1!$AD84,[1]Feuil1!$AE84) | T84: =CONCATENATE([1]Feuil1!$AF84) | U84: =CONCATENATE([1]Feuil1!AG84,[1]Feuil1!AH84) | V84: =CONCATENATE([1]Feuil1!$AI84,[1]Feuil1!$AJ84) | W84: =CONCATENATE([1]Feuil1!$AK84) | X84: =CONCATENATE([1]Feuil1!AL84,[1]Feuil1!AM84) | Y84: =CONCATENATE([1]Feuil1!AN84,[1]Feuil1!AO84) | Z84: =CONCATENATE([1]Feuil1!$AP84) | AA84: =CONCATENATE([1]Feuil1!AQ84,[1]Feuil1!AR84) | AB84: =CONCATENATE([1]Feuil1!AS84,[1]Feuil1!AT84) | AC84: =CONCATENATE([1]Feuil1!$AU84) | AD84: =CONCATENATE([1]Feuil1!AV84,[1]Feuil1!AW84) | AE84: =CONCATENATE([1]Feuil1!AX84,[1]Feuil1!AY84) | AF84: =CONCATENATE([1]Feuil1!$AZ84) | AG84: =CONCATENATE([1]Feuil1!BA84,[1]Feuil1!BB84) | AH84: =CONCATENATE([1]Feuil1!BC84,[1]Feuil1!BD84) | AI84: =CONCATENATE([1]Feuil1!$BE84) | AJ84: =CONCATENATE([1]Feuil1!$BF84,[1]Feuil1!$BG84) | AK84: =CONCATENATE([1]Feuil1!$BH84,[1]Feuil1!$BI84) | AL84: =CONCATENATE([1]Feuil1!$BJ84) | AM84: =CONCATENATE([1]Feuil1!$BK84,[1]Feuil1!$BL84) | AN84: =CONCATENATE([1]Feuil1!$BM84,[1]Feuil1!$BN84) | AO84: =CONCATENATE([1]Feuil1!$BO84) | AP84: =CONCATENATE([1]Feuil1!$BP84,[1]Feuil1!$BQ84) | AQ84: =CONCATENATE([1]Feuil1!$BR84,[1]Feuil1!$BS84) | AR84: =CONCATENATE([1]Feuil1!$BT84) | AS84: =CONCATENATE([1]Feuil1!$BU84,[1]Feuil1!$BV84) | AT84: =CONCATENATE([1]Feuil1!$BW84,[1]Feuil1!$BX84) | AU84: =CONCATENATE([1]Feuil1!$BY84) | AV84: =CONCATENATE([1]Feuil1!$BZ84,[1]Feuil1!$CA84) | AW84: =CONCATENATE([1]Feuil1!$CB84,[1]Feuil1!$CC84)
A85: =[1]Feuil1!$A85 -> 42851 | B85: =CONCATENATE([1]Feuil1!$B85) | C85: =CONCATENATE([1]Feuil1!$C85,[1]Feuil1!$D85) | D85: =CONCATENATE([1]Feuil1!$E85,[1]Feuil1!$F85) | E85: =CONCATENATE([1]Feuil1!$G85) | F85: =CONCATENATE([1]Feuil1!H85,[1]Feuil1!I85) | G85: =CONCATENATE([1]Feuil1!$J85,[1]Feuil1!$K85) | I85: =CONCATENATE([1]Feuil1!$M85,[1]Feuil1!$N85) | J85: =CONCATENATE([1]Feuil1!O85,[1]Feuil1!P85) | K85: =CONCATENATE([1]Feuil1!$Q85) | L85: =CONCATENATE([1]Feuil1!R85,[1]Feuil1!S85) | M85: =CONCATENATE([1]Feuil1!$T85,[1]Feuil1!$U85) | N85: =CONCATENATE([1]Feuil1!$V85) -> Moteur | O85: =CONCATENATE([1]Feuil1!W85,[1]Feuil1!X85) -> MPCI1 A | P85: =CONCATENATE([1]Feuil1!$Y85,[1]Feuil1!$Z85) -> MPCI1 B | Q85: =CONCATENATE([1]Feuil1!$AA85) | R85: =CONCATENATE([1]Feuil1!AB85,[1]Feuil1!AC85) | S85: =CONCATENATE([1]Feuil1!$AD85,[1]Feuil1!$AE85) | T85: =CONCATENATE([1]Feuil1!$AF85) -> Oscillation | U85: =CONCATENATE([1]Feuil1!AG85,[1]Feuil1!AH85) | V85: =CONCATENATE([1]Feuil1!$AI85,[1]Feuil1!$AJ85) -> MPCI1 D | W85: =CONCATENATE([1]Feuil1!$AK85) | X85: =CONCATENATE([1]Feuil1!AL85,[1]Feuil1!AM85) | Y85: =CONCATENATE([1]Feuil1!AN85,[1]Feuil1!AO85) | Z85: =CONCATENATE([1]Feuil1!$AP85) | AA85: =CONCATENATE([1]Feuil1!AQ85,[1]Feuil1!AR85) | AB85: =CONCATENATE([1]Feuil1!AS85,[1]Feuil1!AT85) | AC85: =CONCATENATE([1]Feuil1!$AU85) | AD85: =CONCATENATE([1]Feuil1!AV85,[1]Feuil1!AW85) -> CB2 R | AE85: =CONCATENATE([1]Feuil1!AX85,[1]Feuil1!AY85) -> CB2 R | AF85: =CONCATENATE([1]Feuil1!$AZ85) -> MITOSE | AG85: =CONCATENATE([1]Feuil1!BA85,[1]Feuil1!BB85) -> CB2 Q | AH85: =CONCATENATE([1]Feuil1!BC85,[1]Feuil1!BD85) | AI85: =CONCATENATE([1]Feuil1!$BE85) | AJ85: =CONCATENATE([1]Feuil1!$BF85,[1]Feuil1!$BG85) | AK85: =CONCATENATE([1]Feuil1!$BH85,[1]Feuil1!$BI85) | AL85: =CONCATENATE([1]Feuil1!$BJ85) | AM85: =CONCATENATE([1]Feuil1!$BK85,[1]Feuil1!$BL85) | AN85: =CONCATENATE([1]Feuil1!$BM85,[1]Feuil1!$BN85) | AO85: =CONCATENATE([1]Feuil1!$BO85) | AP85: =CONCATENATE([1]Feuil1!$BP85,[1]Feuil1!$BQ85) | AQ85: =CONCATENATE([1]Feuil1!$BR85,[1]Feuil1!$BS85) | AR85: =CONCATENATE([1]Feuil1!$BT85) | AS85: =CONCATENATE([1]Feuil1!$BU85,[1]Feuil1!$BV85) | AT85: =CONCATENATE([1]Feuil1!$BW85,[1]Feuil1!$BX85) | AU85: =CONCATENATE([1]Feuil1!$BY85) | AV85: =CONCATENATE([1]Feuil1!$BZ85,[1]Feuil1!$CA85) | AW85: =CONCATENATE([1]Feuil1!$CB85,[1]Feuil1!$CC85)
A86: =[1]Feuil1!$A86 -> 42852 | B86: =CONCATENATE([1]Feuil1!$B86) | C86: =CONCATENATE([1]Feuil1!$C86,[1]Feuil1!$D86) | D86: =CONCATENATE([1]Feuil1!$E86,[1]Feuil1!$F86) | E86: =CONCATENATE([1]Feuil1!$G86) | F86: =CONCATENATE([1]Feuil1!H86,[1]Feuil1!I86) | G86: =CONCATENATE([1]Feuil1!$J86,[1]Feuil1!$K86) | I86: =CONCATENATE([1]Feuil1!$M86,[1]Feuil1!$N86) | J86: =CONCATENATE([1]Feuil1!O86,[1]Feuil1!P86) | K86: =CONCATENATE([1]Feuil1!$Q86) | L86: =CONCATENATE([1]Feuil1!R86,[1]Feuil1!S86) | M86: =CONCATENATE([1]Feuil1!$T86,[1]Feuil1!$U86) | N86: =CONCATENATE([1]Feuil1!$V86) -> Moteur | O86: =CONCATENATE([1]Feuil1!W86,[1]Feuil1!X86) -> DLMP1 | P86: =CONCATENATE([1]Feuil1!$Y86,[1]Feuil1!$Z86) | Q86: =CONCATENATE([1]Feuil1!$AA86) | R86: =CONCATENATE([1]Feuil1!AB86,[1]Feuil1!AC86) | S86: =CONCATENATE([1]Feuil1!$AD86,[1]Feuil1!$AE86) | T86: =CONCATENATE([1]Feuil1!$AF86) -> Oscillation | U86: =CONCATENATE([1]Feuil1!AG86,[1]Feuil1!AH86) -> DLMP2 | V86: =CONCATENATE([1]Feuil1!$AI86,[1]Feuil1!$AJ86) | W86: =CONCATENATE([1]Feuil1!$AK86) | X86: =CONCATENATE([1]Feuil1!AL86,[1]Feuil1!AM86) | Y86: =CONCATENATE([1]Feuil1!AN86,[1]Feuil1!AO86) | Z86: =CONCATENATE([1]Feuil1!$AP86) | AA86: =CONCATENATE([1]Feuil1!AQ86,[1]Feuil1!AR86) | AB86: =CONCATENATE([1]Feuil1!AS86,[1]Feuil1!AT86) | AC86: =CONCATENATE([1]Feuil1!$AU86) | AD86: =CONCATENATE([1]Feuil1!AV86,[1]Feuil1!AW86) | AE86: =CONCATENATE([1]Feuil1!AX86,[1]Feuil1!AY86) | AF86: =CONCATENATE([1]Feuil1!$AZ86) | AG86: =CONCATENATE([1]Feuil1!BA86,[1]Feuil1!BB86) | AH86: =CONCATENATE([1]Feuil1!BC86,[1]Feuil1!BD86) | AI86: =CONCATENATE([1]Feuil1!$BE86) | AJ86: =CONCATENATE([1]Feuil1!$BF86,[1]Feuil1!$BG86) | AK86: =CONCATENATE([1]Feuil1!$BH86,[1]Feuil1!$BI86) | AL86: =CONCATENATE([1]Feuil1!$BJ86) | AM86: =CONCATENATE([1]Feuil1!$BK86,[1]Feuil1!$BL86) | AN86: =CONCATENATE([1]Feuil1!$BM86,[1]Feuil1!$BN86) | AO86: =CONCATENATE([1]Feuil1!$BO86) | AP86: =CONCATENATE([1]Feuil1!$BP86,[1]Feuil1!$BQ86) | AQ86: =CONCATENATE([1]Feuil1!$BR86,[1]Feuil1!$BS86) | AR86: =CONCATENATE([1]Feuil1!$BT86) | AS86: =CONCATENATE([1]Feuil1!$BU86,[1]Feuil1!$BV86) | AT86: =CONCATENATE([1]Feuil1!$BW86,[1]Feuil1!$BX86) | AU86: =CONCATENATE([1]Feuil1!$BY86) | AV86: =CONCATENATE([1]Feuil1!$BZ86,[1]Feuil1!$CA86) | AW86: =CONCATENATE([1]Feuil1!$CB86,[1]Feuil1!$CC86)
A87: =[1]Feuil1!$A87 -> 42853 | B87: =CONCATENATE([1]Feuil1!$B87) | C87: =CONCATENATE([1]Feuil1!$C87,[1]Feuil1!$D87) | D87: =CONCATENATE([1]Feuil1!$E87,[1]Feuil1!$F87) | E87: =CONCATENATE([1]Feuil1!$G87) | F87: =CONCATENATE([1]Feuil1!H87,[1]Feuil1!I87) | G87: =CONCATENATE([1]Feuil1!$J87,[1]Feuil1!$K87) | I87: =CONCATENATE([1]Feuil1!$M87,[1]Feuil1!$N87) | J87: =CONCATENATE([1]Feuil1!O87,[1]Feuil1!P87) | K87: =CONCATENATE([1]Feuil1!$Q87) | L87: =CONCATENATE([1]Feuil1!R87,[1]Feuil1!S87) | M87: =CONCATENATE([1]Feuil1!$T87,[1]Feuil1!$U87) | N87: =CONCATENATE([1]Feuil1!$V87) -> Moteur | O87: =CONCATENATE([1]Feuil1!W87,[1]Feuil1!X87) -> MPCI1 C | P87: =CONCATENATE([1]Feuil1!$Y87,[1]Feuil1!$Z87) -> DLCB1 | Q87: =CONCATENATE([1]Feuil1!$AA87) | R87: =CONCATENATE([1]Feuil1!AB87,[1]Feuil1!AC87) | S87: =CONCATENATE([1]Feuil1!$AD87,[1]Feuil1!$AE87) | T87: =CONCATENATE([1]Feuil1!$AF87) -> Oscillation | U87: =CONCATENATE([1]Feuil1!AG87,[1]Feuil1!AH87) -> MPCI1 G | V87: =CONCATENATE([1]Feuil1!$AI87,[1]Feuil1!$AJ87) | W87: =CONCATENATE([1]Feuil1!$AK87) | X87: =CONCATENATE([1]Feuil1!AL87,[1]Feuil1!AM87) | Y87: =CONCATENATE([1]Feuil1!AN87,[1]Feuil1!AO87) | Z87: =CONCATENATE([1]Feuil1!$AP87) | AA87: =CONCATENATE([1]Feuil1!AQ87,[1]Feuil1!AR87) | AB87: =CONCATENATE([1]Feuil1!AS87,[1]Feuil1!AT87) | AC87: =CONCATENATE([1]Feuil1!$AU87) | AD87: =CONCATENATE([1]Feuil1!AV87,[1]Feuil1!AW87) -> DL BI A | AE87: =CONCATENATE([1]Feuil1!AX87,[1]Feuil1!AY87) -> DL BI A | AF87: =CONCATENATE([1]Feuil1!$AZ87) -> MITOSE | AG87: =CONCATENATE([1]Feuil1!BA87,[1]Feuil1!BB87) | AH87: =CONCATENATE([1]Feuil1!BC87,[1]Feuil1!BD87) -> BI F | AI87: =CONCATENATE([1]Feuil1!$BE87) | AJ87: =CONCATENATE([1]Feuil1!$BF87,[1]Feuil1!$BG87) | AK87: =CONCATENATE([1]Feuil1!$BH87,[1]Feuil1!$BI87) | AL87: =CONCATENATE([1]Feuil1!$BJ87) | AM87: =CONCATENATE([1]Feuil1!$BK87,[1]Feuil1!$BL87) | AN87: =CONCATENATE([1]Feuil1!$BM87,[1]Feuil1!$BN87) | AO87: =CONCATENATE([1]Feuil1!$BO87) | AP87: =CONCATENATE([1]Feuil1!$BP87,[1]Feuil1!$BQ87) | AQ87: =CONCATENATE([1]Feuil1!$BR87,[1]Feuil1!$BS87) | AR87: =CONCATENATE([1]Feuil1!$BT87) | AS87: =CONCATENATE([1]Feuil1!$BU87,[1]Feuil1!$BV87) | AT87: =CONCATENATE([1]Feuil1!$BW87,[1]Feuil1!$BX87) | AU87: =CONCATENATE([1]Feuil1!$BY87) | AV87: =CONCATENATE([1]Feuil1!$BZ87,[1]Feuil1!$CA87) | AW87: =CONCATENATE([1]Feuil1!$CB87,[1]Feuil1!$CC87)
B88: =CONCATENATE([1]Feuil1!$B88) | E88: =CONCATENATE([1]Feuil1!$G88) | K88: =CONCATENATE([1]Feuil1!$Q88) | N88: =CONCATENATE([1]Feuil1!$V88) | Q88: =CONCATENATE([1]Feuil1!$AA88) | T88: =CONCATENATE([1]Feuil1!$AF88) | W88: =CONCATENATE([1]Feuil1!$AK88) | Z88: =CONCATENATE([1]Feuil1!$AP88) | AC88: =CONCATENATE([1]Feuil1!$AU88) | AF88: =CONCATENATE([1]Feuil1!$AZ88) | AI88: =CONCATENATE([1]Feuil1!$BE88) | AL88: =CONCATENATE([1]Feuil1!$BJ88) | AO88: =CONCATENATE([1]Feuil1!$BO88) | AR88: =CONCATENATE([1]Feuil1!$BT88) | AU88: =CONCATENATE([1]Feuil1!$BY88)
A89: =[1]Feuil1!$A89 -> 42856 | B89: =CONCATENATE([1]Feuil1!$B89) | C89: =CONCATENATE([1]Feuil1!$C89,[1]Feuil1!$D89) | D89: =CONCATENATE([1]Feuil1!$E89,[1]Feuil1!$F89) | E89: =CONCATENATE([1]Feuil1!$G89) | F89: =CONCATENATE([1]Feuil1!H89,[1]Feuil1!I89) | G89: =CONCATENATE([1]Feuil1!$J89,[1]Feuil1!$K89) | I89: =CONCATENATE([1]Feuil1!$M89,[1]Feuil1!$N89) | J89: =CONCATENATE([1]Feuil1!O89,[1]Feuil1!P89) | K89: =CONCATENATE([1]Feuil1!$Q89) | L89: =CONCATENATE([1]Feuil1!R89,[1]Feuil1!S89) | M89: =CONCATENATE([1]Feuil1!$T89,[1]Feuil1!$U89) | N89: =CONCATENATE([1]Feuil1!$V89) | O89: =CONCATENATE([1]Feuil1!W89,[1]Feuil1!X89) | P89: =CONCATENATE([1]Feuil1!$Y89,[1]Feuil1!$Z89) | Q89: =CONCATENATE([1]Feuil1!$AA89) | R89: =CONCATENATE([1]Feuil1!AB89,[1]Feuil1!AC89) | S89: =CONCATENATE([1]Feuil1!$AD89,[1]Feuil1!$AE89) | T89: =CONCATENATE([1]Feuil1!$AF89) | U89: =CONCATENATE([1]Feuil1!AG89,[1]Feuil1!AH89) | V89: =CONCATENATE([1]Feuil1!$AI89,[1]Feuil1!$AJ89) | W89: =CONCATENATE([1]Feuil1!$AK89) | X89: =CONCATENATE([1]Feuil1!AL89,[1]Feuil1!AM89) | Y89: =CONCATENATE([1]Feuil1!AN89,[1]Feuil1!AO89) | Z89: =CONCATENATE([1]Feuil1!$AP89) | AA89: =CONCATENATE([1]Feuil1!AQ89,[1]Feuil1!AR89) | AB89: =CONCATENATE([1]Feuil1!AS89,[1]Feuil1!AT89) | AC89: =CONCATENATE([1]Feuil1!$AU89) | AD89: =CONCATENATE([1]Feuil1!AV89,[1]Feuil1!AW89) | AE89: =CONCATENATE([1]Feuil1!AX89,[1]Feuil1!AY89) | AF89: =CONCATENATE([1]Feuil1!$AZ89) | AG89: =CONCATENATE([1]Feuil1!BA89,[1]Feuil1!BB89) | AH89: =CONCATENATE([1]Feuil1!BC89,[1]Feuil1!BD89) | AI89: =CONCATENATE([1]Feuil1!$BE89) | AJ89: =CONCATENATE([1]Feuil1!$BF89,[1]Feuil1!$BG89) | AK89: =CONCATENATE([1]Feuil1!$BH89,[1]Feuil1!$BI89) | AL89: =CONCATENATE([1]Feuil1!$BJ89) | AM89: =CONCATENATE([1]Feuil1!$BK89,[1]Feuil1!$BL89) | AN89: =CONCATENATE([1]Feuil1!$BM89,[1]Feuil1!$BN89) | AO89: =CONCATENATE([1]Feuil1!$BO89) | AP89: =CONCATENATE([1]Feuil1!$BP89,[1]Feuil1!$BQ89) | AQ89: =CONCATENATE([1]Feuil1!$BR89,[1]Feuil1!$BS89) | AR89: =CONCATENATE([1]Feuil1!$BT89) | AS89: =CONCATENATE([1]Feuil1!$BU89,[1]Feuil1!$BV89) | AT89: =CONCATENATE([1]Feuil1!$BW89,[1]Feuil1!$BX89) | AU89: =CONCATENATE([1]Feuil1!$BY89) | AV89: =CONCATENATE([1]Feuil1!$BZ89,[1]Feuil1!$CA89) | AW89: =CONCATENATE([1]Feuil1!$CB89,[1]Feuil1!$CC89)
A90: =[1]Feuil1!$A90 -> 42857 | B90: =CONCATENATE([1]Feuil1!$B90) | C90: =CONCATENATE([1]Feuil1!$C90,[1]Feuil1!$D90) | D90: =CONCATENATE([1]Feuil1!$E90,[1]Feuil1!$F90) | E90: =CONCATENATE([1]Feuil1!$G90) | F90: =CONCATENATE([1]Feuil1!H90,[1]Feuil1!I90) | G90: =CONCATENATE([1]Feuil1!$J90,[1]Feuil1!$K90) | I90: =CONCATENATE([1]Feuil1!$M90,[1]Feuil1!$N90) | J90: =CONCATENATE([1]Feuil1!O90,[1]Feuil1!P90) | K90: =CONCATENATE([1]Feuil1!$Q90) | L90: =CONCATENATE([1]Feuil1!R90,[1]Feuil1!S90) | M90: =CONCATENATE([1]Feuil1!$T90,[1]Feuil1!$U90) | N90: =CONCATENATE([1]Feuil1!$V90) -> Moteur | O90: =CONCATENATE([1]Feuil1!W90,[1]Feuil1!X90) -> CB1 C | P90: =CONCATENATE([1]Feuil1!$Y90,[1]Feuil1!$Z90) -> CB1 D | Q90: =CONCATENATE([1]Feuil1!$AA90) | R90: =CONCATENATE([1]Feuil1!AB90,[1]Feuil1!AC90) | S90: =CONCATENATE([1]Feuil1!$AD90,[1]Feuil1!$AE90) | T90: =CONCATENATE([1]Feuil1!$AF90) -> Oscillation | U90: =CONCATENATE([1]Feuil1!AG90,[1]Feuil1!AH90) -> MPCI2 I | V90: =CONCATENATE([1]Feuil1!$AI90,[1]Feuil1!$AJ90) -> MPCI2 P | W90: =CONCATENATE([1]Feuil1!$AK90) | X90: =CONCATENATE([1]Feuil1!AL90,[1]Feuil1!AM90) | Y90: =CONCATENATE([1]Feuil1!AN90,[1]Feuil1!AO90) | Z90: =CONCATENATE([1]Feuil1!$AP90) | AA90: =CONCATENATE([1]Feuil1!AQ90,[1]Feuil1!AR90) | AB90: =CONCATENATE([1]Feuil1!AS90,[1]Feuil1!AT90) | AC90: =CONCATENATE([1]Feuil1!$AU90) | AD90: =CONCATENATE([1]Feuil1!AV90,[1]Feuil1!AW90) | AE90: =CONCATENATE([1]Feuil1!AX90,[1]Feuil1!AY90) | AF90: =CONCATENATE([1]Feuil1!$AZ90) | AG90: =CONCATENATE([1]Feuil1!BA90,[1]Feuil1!BB90) | AH90: =CONCATENATE([1]Feuil1!BC90,[1]Feuil1!BD90) | AI90: =CONCATENATE([1]Feuil1!$BE90) | AJ90: =CONCATENATE([1]Feuil1!$BF90,[1]Feuil1!$BG90) | AK90: =CONCATENATE([1]Feuil1!$BH90,[1]Feuil1!$BI90) | AL90: =CONCATENATE([1]Feuil1!$BJ90) | AM90: =CONCATENATE([1]Feuil1!$BK90,[1]Feuil1!$BL90) | AN90: =CONCATENATE([1]Feuil1!$BM90,[1]Feuil1!$BN90) | AO90: =CONCATENATE([1]Feuil1!$BO90) | AP90: =CONCATENATE([1]Feuil1!$BP90,[1]Feuil1!$BQ90) | AQ90: =CONCATENATE([1]Feuil1!$BR90,[1]Feuil1!$BS90) | AR90: =CONCATENATE([1]Feuil1!$BT90) | AS90: =CONCATENATE([1]Feuil1!$BU90,[1]Feuil1!$BV90) | AT90: =CONCATENATE([1]Feuil1!$BW90,[1]Feuil1!$BX90) | AU90: =CONCATENATE([1]Feuil1!$BY90) | AV90: =CONCATENATE([1]Feuil1!$BZ90,[1]Feuil1!$CA90) | AW90: =CONCATENATE([1]Feuil1!$CB90,[1]Feuil1!$CC90)
A91: =[1]Feuil1!$A91 -> 42858 | B91: =CONCATENATE([1]Feuil1!$B91) | C91: =CONCATENATE([1]Feuil1!$C91,[1]Feuil1!$D91) | D91: =CONCATENATE([1]Feuil1!$E91,[1]Feuil1!$F91) | E91: =CONCATENATE([1]Feuil1!$G91) | F91: =CONCATENATE([1]Feuil1!H91,[1]Feuil1!I91) | G91: =CONCATENATE([1]Feuil1!$J91,[1]Feuil1!$K91) | I91: =CONCATENATE([1]Feuil1!$M91,[1]Feuil1!$N91) | J91: =CONCATENATE([1]Feuil1!O91,[1]Feuil1!P91) | K91: =CONCATENATE([1]Feuil1!$Q91) | L91: =CONCATENATE([1]Feuil1!R91,[1]Feuil1!S91) | M91: =CONCATENATE([1]Feuil1!$T91,[1]Feuil1!$U91) | N91: =CONCATENATE([1]Feuil1!$V91) -> Moteur | O91: =CONCATENATE([1]Feuil1!W91,[1]Feuil1!X91) -> MPCI1 E | P91: =CONCATENATE([1]Feuil1!$Y91,[1]Feuil1!$Z91) -> MPCI1 F | Q91: =CONCATENATE([1]Feuil1!$AA91) | R91: =CONCATENATE([1]Feuil1!AB91,[1]Feuil1!AC91) | S91: =CONCATENATE([1]Feuil1!$AD91,[1]Feuil1!$AE91) | T91: =CONCATENATE([1]Feuil1!$AF91) -> Oscillation | U91: =CONCATENATE([1]Feuil1!AG91,[1]Feuil1!AH91) -> MPCI1 A | V91: =CONCATENATE([1]Feuil1!$AI91,[1]Feuil1!$AJ91) -> MPCI1 B | W91: =CONCATENATE([1]Feuil1!$AK91) | X91: =CONCATENATE([1]Feuil1!AL91,[1]Feuil1!AM91) | Y91: =CONCATENATE([1]Feuil1!AN91,[1]Feuil1!AO91) | Z91: =CONCATENATE([1]Feuil1!$AP91) | AA91: =CONCATENATE([1]Feuil1!AQ91,[1]Feuil1!AR91) | AB91: =CONCATENATE([1]Feuil1!AS91,[1]Feuil1!AT91) | AC91: =CONCATENATE([1]Feuil1!$AU91) | AD91: =CONCATENATE([1]Feuil1!AV91,[1]Feuil1!AW91) -> BI F | AE91: =CONCATENATE([1]Feuil1!AX91,[1]Feuil1!AY91) -> BI F | AF91: =CONCATENATE([1]Feuil1!$AZ91) | AG91: =CONCATENATE([1]Feuil1!BA91,[1]Feuil1!BB91) | AH91: =CONCATENATE([1]Feuil1!BC91,[1]Feuil1!BD91) | AI91: =CONCATENATE([1]Feuil1!$BE91) | AJ91: =CONCATENATE([1]Feuil1!$BF91,[1]Feuil1!$BG91) | AK91: =CONCATENATE([1]Feuil1!$BH91,[1]Feuil1!$BI91) | AL91: =CONCATENATE([1]Feuil1!$BJ91) | AM91: =CONCATENATE([1]Feuil1!$BK91,[1]Feuil1!$BL91) | AN91: =CONCATENATE([1]Feuil1!$BM91,[1]Feuil1!$BN91) | AO91: =CONCATENATE([1]Feuil1!$BO91) | AP91: =CONCATENATE([1]Feuil1!$BP91,[1]Feuil1!$BQ91) | AQ91: =CONCATENATE([1]Feuil1!$BR91,[1]Feuil1!$BS91) | AR91: =CONCATENATE([1]Feuil1!$BT91) | AS91: =CONCATENATE([1]Feuil1!$BU91,[1]Feuil1!$BV91) | AT91: =CONCATENATE([1]Feuil1!$BW91,[1]Feuil1!$BX91) | AU91: =CONCATENATE([1]Feuil1!$BY91) | AV91: =CONCATENATE([1]Feuil1!$BZ91,[1]Feuil1!$CA91) | AW91: =CONCATENATE([1]Feuil1!$CB91,[1]Feuil1!$CC91)
A92: =[1]Feuil1!$A92 -> 42859 | B92: =CONCATENATE([1]Feuil1!$B92) | C92: =CONCATENATE([1]Feuil1!$C92,[1]Feuil1!$D92) | D92: =CONCATENATE([1]Feuil1!$E92,[1]Feuil1!$F92) | E92: =CONCATENATE([1]Feuil1!$G92) | F92: =CONCATENATE([1]Feuil1!H92,[1]Feuil1!I92) | G92: =CONCATENATE([1]Feuil1!$J92,[1]Feuil1!$K92) | I92: =CONCATENATE([1]Feuil1!$M92,[1]Feuil1!$N92) | J92: =CONCATENATE([1]Feuil1!O92,[1]Feuil1!P92) | K92: =CONCATENATE([1]Feuil1!$Q92) | L92: =CONCATENATE([1]Feuil1!R92,[1]Feuil1!S92) | M92: =CONCATENATE([1]Feuil1!$T92,[1]Feuil1!$U92) | N92: =CONCATENATE([1]Feuil1!$V92) | O92: =CONCATENATE([1]Feuil1!W92,[1]Feuil1!X92) | P92: =CONCATENATE([1]Feuil1!$Y92,[1]Feuil1!$Z92) | Q92: =CONCATENATE([1]Feuil1!$AA92) | R92: =CONCATENATE([1]Feuil1!AB92,[1]Feuil1!AC92) | S92: =CONCATENATE([1]Feuil1!$AD92,[1]Feuil1!$AE92) | T92: =CONCATENATE([1]Feuil1!$AF92) | U92: =CONCATENATE([1]Feuil1!AG92,[1]Feuil1!AH92) | V92: =CONCATENATE([1]Feuil1!$AI92,[1]Feuil1!$AJ92) | W92: =CONCATENATE([1]Feuil1!$AK92) | X92: =CONCATENATE([1]Feuil1!AL92,[1]Feuil1!AM92) | Y92: =CONCATENATE([1]Feuil1!AN92,[1]Feuil1!AO92) | Z92: =CONCATENATE([1]Feuil1!$AP92) | AA92: =CONCATENATE([1]Feuil1!AQ92,[1]Feuil1!AR92) | AB92: =CONCATENATE([1]Feuil1!AS92,[1]Feuil1!AT92) | AC92: =CONCATENATE([1]Feuil1!$AU92) | AD92: =CONCATENATE([1]Feuil1!AV92,[1]Feuil1!AW92) | AE92: =CONCATENATE([1]Feuil1!AX92,[1]Feuil1!AY92) | AF92: =CONCATENATE([1]Feuil1!$AZ92) | AG92: =CONCATENATE([1]Feuil1!BA92,[1]Feuil1!BB92) | AH92: =CONCATENATE([1]Feuil1!BC92,[1]Feuil1!BD92) | AI92: =CONCATENATE([1]Feuil1!$BE92) | AJ92: =CONCATENATE([1]Feuil1!$BF92,[1]Feuil1!$BG92) | AK92: =CONCATENATE([1]Feuil1!$BH92,[1]Feuil1!$BI92) | AL92: =CONCATENATE([1]Feuil1!$BJ92) | AM92: =CONCATENATE([1]Feuil1!$BK92,[1]Feuil1!$BL92) | AN92: =CONCATENATE([1]Feuil1!$BM92,[1]Feuil1!$BN92) | AO92: =CONCATENATE([1]Feuil1!$BO92) | AP92: =CONCATENATE([1]Feuil1!$BP92,[1]Feuil1!$BQ92) | AQ92: =CONCATENATE([1]Feuil1!$BR92,[1]Feuil1!$BS92) | AR92: =CONCATENATE([1]Feuil1!$BT92) | AS92: =CONCATENATE([1]Feuil1!$BU92,[1]Feuil1!$BV92) | AT92: =CONCATENATE([1]Feuil1!$BW92,[1]Feuil1!$BX92) | AU92: =CONCATENATE([1]Feuil1!$BY92) | AV92: =CONCATENATE([1]Feuil1!$BZ92,[1]Feuil1!$CA92) | AW92: =CONCATENATE([1]Feuil1!$CB92,[1]Feuil1!$CC92)
A93: =[1]Feuil1!$A93 -> 42860 | B93: =CONCATENATE([1]Feuil1!$B93) | C93: =CONCATENATE([1]Feuil1!$C93,[1]Feuil1!$D93) | D93: =CONCATENATE([1]Feuil1!$E93,[1]Feuil1!$F93) | E93: =CONCATENATE([1]Feuil1!$G93) | F93: =CONCATENATE([1]Feuil1!H93,[1]Feuil1!I93) | G93: =CONCATENATE([1]Feuil1!$J93,[1]Feuil1!$K93) | I93: =CONCATENATE([1]Feuil1!$M93,[1]Feuil1!$N93) | J93: =CONCATENATE([1]Feuil1!O93,[1]Feuil1!P93) | K93: =CONCATENATE([1]Feuil1!$Q93) | L93: =CONCATENATE([1]Feuil1!R93,[1]Feuil1!S93) | M93: =CONCATENATE([1]Feuil1!$T93,[1]Feuil1!$U93) | N93: =CONCATENATE([1]Feuil1!$V93) | O93: =CONCATENATE([1]Feuil1!W93,[1]Feuil1!X93) -> CB1 G | P93: =CONCATENATE([1]Feuil1!$Y93,[1]Feuil1!$Z93) -> CB1 H | Q93: =CONCATENATE([1]Feuil1!$AA93) | R93: =CONCATENATE([1]Feuil1!AB93,[1]Feuil1!AC93) | S93: =CONCATENATE([1]Feuil1!$AD93,[1]Feuil1!$AE93) | T93: =CONCATENATE([1]Feuil1!$AF93) -> Oscillation | U93: =CONCATENATE([1]Feuil1!AG93,[1]Feuil1!AH93) -> MPCI2 O | V93: =CONCATENATE([1]Feuil1!$AI93,[1]Feuil1!$AJ93) | W93: =CONCATENATE([1]Feuil1!$AK93) | X93: =CONCATENATE([1]Feuil1!AL93,[1]Feuil1!AM93) | Y93: =CONCATENATE([1]Feuil1!AN93,[1]Feuil1!AO93) | Z93: =CONCATENATE([1]Feuil1!$AP93) | AA93: =CONCATENATE([1]Feuil1!AQ93,[1]Feuil1!AR93) | AB93: =CONCATENATE([1]Feuil1!AS93,[1]Feuil1!AT93) | AC93: =CONCATENATE([1]Feuil1!$AU93) | AD93: =CONCATENATE([1]Feuil1!AV93,[1]Feuil1!AW93) | AE93: =CONCATENATE([1]Feuil1!AX93,[1]Feuil1!AY93) | AF93: =CONCATENATE([1]Feuil1!$AZ93) | AG93: =CONCATENATE([1]Feuil1!BA93,[1]Feuil1!BB93) | AH93: =CONCATENATE([1]Feuil1!BC93,[1]Feuil1!BD93) | AI93: =CONCATENATE([1]Feuil1!$BE93) | AJ93: =CONCATENATE([1]Feuil1!$BF93,[1]Feuil1!$BG93) | AK93: =CONCATENATE([1]Feuil1!$BH93,[1]Feuil1!$BI93) | AL93: =CONCATENATE([1]Feuil1!$BJ93) | AM93: =CONCATENATE([1]Feuil1!$BK93,[1]Feuil1!$BL93) | AN93: =CONCATENATE([1]Feuil1!$BM93,[1]Feuil1!$BN93) | AO93: =CONCATENATE([1]Feuil1!$BO93) | AP93: =CONCATENATE([1]Feuil1!$BP93,[1]Feuil1!$BQ93) | AQ93: =CONCATENATE([1]Feuil1!$BR93,[1]Feuil1!$BS93) | AR93: =CONCATENATE([1]Feuil1!$BT93) | AS93: =CONCATENATE([1]Feuil1!$BU93,[1]Feuil1!$BV93) | AT93: =CONCATENATE([1]Feuil1!$BW93,[1]Feuil1!$BX93) | AU93: =CONCATENATE([1]Feuil1!$BY93) | AV93: =CONCATENATE([1]Feuil1!$BZ93,[1]Feuil1!$CA93) | AW93: =CONCATENATE([1]Feuil1!$CB93,[1]Feuil1!$CC93)
B94: =CONCATENATE([1]Feuil1!$B94) | E94: =CONCATENATE([1]Feuil1!$G94) | K94: =CONCATENATE([1]Feuil1!$Q94) | N94: =CONCATENATE([1]Feuil1!$V94) | Q94: =CONCATENATE([1]Feuil1!$AA94) | T94: =CONCATENATE([1]Feuil1!$AF94) | W94: =CONCATENATE([1]Feuil1!$AK94) | Z94: =CONCATENATE([1]Feuil1!$AP94) | AC94: =CONCATENATE([1]Feuil1!$AU94) | AF94: =CONCATENATE([1]Feuil1!$AZ94) | AI94: =CONCATENATE([1]Feuil1!$BE94) | AL94: =CONCATENATE([1]Feuil1!$BJ94) | AO94: =CONCATENATE([1]Feuil1!$BO94) | AR94: =CONCATENATE([1]Feuil1!$BT94) | AU94: =CONCATENATE([1]Feuil1!$BY94)
A95: =[1]Feuil1!$A95 -> 42863 | B95: =CONCATENATE([1]Feuil1!$B95) | C95: =CONCATENATE([1]Feuil1!$C95,[1]Feuil1!$D95) | D95: =CONCATENATE([1]Feuil1!$E95,[1]Feuil1!$F95) | E95: =CONCATENATE([1]Feuil1!$G95) | F95: =CONCATENATE([1]Feuil1!H95,[1]Feuil1!I95) | G95: =CONCATENATE([1]Feuil1!$J95,[1]Feuil1!$K95) | I95: =CONCATENATE([1]Feuil1!$M95,[1]Feuil1!$N95) | J95: =CONCATENATE([1]Feuil1!O95,[1]Feuil1!P95) | K95: =CONCATENATE([1]Feuil1!$Q95) | L95: =CONCATENATE([1]Feuil1!R95,[1]Feuil1!S95) | M95: =CONCATENATE([1]Feuil1!$T95,[1]Feuil1!$U95) | N95: =CONCATENATE([1]Feuil1!$V95) | O95: =CONCATENATE([1]Feuil1!W95,[1]Feuil1!X95) | P95: =CONCATENATE([1]Feuil1!$Y95,[1]Feuil1!$Z95) | Q95: =CONCATENATE([1]Feuil1!$AA95) | R95: =CONCATENATE([1]Feuil1!AB95,[1]Feuil1!AC95) | S95: =CONCATENATE([1]Feuil1!$AD95,[1]Feuil1!$AE95) | T95: =CONCATENATE([1]Feuil1!$AF95) | U95: =CONCATENATE([1]Feuil1!AG95,[1]Feuil1!AH95) | V95: =CONCATENATE([1]Feuil1!$AI95,[1]Feuil1!$AJ95) | W95: =CONCATENATE([1]Feuil1!$AK95) | X95: =CONCATENATE([1]Feuil1!AL95,[1]Feuil1!AM95) | Y95: =CONCATENATE([1]Feuil1!AN95,[1]Feuil1!AO95) | Z95: =CONCATENATE([1]Feuil1!$AP95) | AA95: =CONCATENATE([1]Feuil1!AQ95,[1]Feuil1!AR95) | AB95: =CONCATENATE([1]Feuil1!AS95,[1]Feuil1!AT95) | AC95: =CONCATENATE([1]Feuil1!$AU95) | AD95: =CONCATENATE([1]Feuil1!AV95,[1]Feuil1!AW95) | AE95: =CONCATENATE([1]Feuil1!AX95,[1]Feuil1!AY95) | AF95: =CONCATENATE([1]Feuil1!$AZ95) | AG95: =CONCATENATE([1]Feuil1!BA95,[1]Feuil1!BB95) | AH95: =CONCATENATE([1]Feuil1!BC95,[1]Feuil1!BD95) | AI95: =CONCATENATE([1]Feuil1!$BE95) | AJ95: =CONCATENATE([1]Feuil1!$BF95,[1]Feuil1!$BG95) | AK95: =CONCATENATE([1]Feuil1!$BH95,[1]Feuil1!$BI95) | AL95: =CONCATENATE([1]Feuil1!$BJ95) | AM95: =CONCATENATE([1]Feuil1!$BK95,[1]Feuil1!$BL95) | AN95: =CONCATENATE([1]Feuil1!$BM95,[1]Feuil1!$BN95) | AO95: =CONCATENATE([1]Feuil1!$BO95) | AP95: =CONCATENATE([1]Feuil1!$BP95,[1]Feuil1!$BQ95) | AQ95: =CONCATENATE([1]Feuil1!$BR95,[1]Feuil1!$BS95) | AR95: =CONCATENATE([1]Feuil1!$BT95) | AS95: =CONCATENATE([1]Feuil1!$BU95,[1]Feuil1!$BV95) | AT95: =CONCATENATE([1]Feuil1!$BW95,[1]Feuil1!$BX95) | AU95: =CONCATENATE([1]Feuil1!$BY95) | AV95: =CONCATENATE([1]Feuil1!$BZ95,[1]Feuil1!$CA95) | AW95: =CONCATENATE([1]Feuil1!$CB95,[1]Feuil1!$CC95)
A96: =[1]Feuil1!$A96 -> 42864 | B96: =CONCATENATE([1]Feuil1!$B96) | C96: =CONCATENATE([1]Feuil1!$C96,[1]Feuil1!$D96) | D96: =CONCATENATE([1]Feuil1!$E96,[1]Feuil1!$F96) | E96: =CONCATENATE([1]Feuil1!$G96) | F96: =CONCATENATE([1]Feuil1!H96,[1]Feuil1!I96) | G96: =CONCATENATE([1]Feuil1!$J96,[1]Feuil1!$K96) | I96: =CONCATENATE([1]Feuil1!$M96,[1]Feuil1!$N96) | J96: =CONCATENATE([1]Feuil1!O96,[1]Feuil1!P96) | K96: =CONCATENATE([1]Feuil1!$Q96) | L96: =CONCATENATE([1]Feuil1!R96,[1]Feuil1!S96) | M96: =CONCATENATE([1]Feuil1!$T96,[1]Feuil1!$U96) | N96: =CONCATENATE([1]Feuil1!$V96) -> Moteur | O96: =CONCATENATE([1]Feuil1!W96,[1]Feuil1!X96) -> CB1 E | P96: =CONCATENATE([1]Feuil1!$Y96,[1]Feuil1!$Z96) -> CB1 F | Q96: =CONCATENATE([1]Feuil1!$AA96) | R96: =CONCATENATE([1]Feuil1!AB96,[1]Feuil1!AC96) | S96: =CONCATENATE([1]Feuil1!$AD96,[1]Feuil1!$AE96) | T96: =CONCATENATE([1]Feuil1!$AF96) | U96: =CONCATENATE([1]Feuil1!AG96,[1]Feuil1!AH96) -> MPCI2 K | V96: =CONCATENATE([1]Feuil1!$AI96,[1]Feuil1!$AJ96) -> MPCI2 L | W96: =CONCATENATE([1]Feuil1!$AK96) | X96: =CONCATENATE([1]Feuil1!AL96,[1]Feuil1!AM96) | Y96: =CONCATENATE([1]Feuil1!AN96,[1]Feuil1!AO96) | Z96: =CONCATENATE([1]Feuil1!$AP96) | AA96: =CONCATENATE([1]Feuil1!AQ96,[1]Feuil1!AR96) | AB96: =CONCATENATE([1]Feuil1!AS96,[1]Feuil1!AT96) | AC96: =CONCATENATE([1]Feuil1!$AU96) | AD96: =CONCATENATE([1]Feuil1!AV96,[1]Feuil1!AW96) | AE96: =CONCATENATE([1]Feuil1!AX96,[1]Feuil1!AY96) | AF96: =CONCATENATE([1]Feuil1!$AZ96) | AG96: =CONCATENATE([1]Feuil1!BA96,[1]Feuil1!BB96) | AH96: =CONCATENATE([1]Feuil1!BC96,[1]Feuil1!BD96) | AI96: =CONCATENATE([1]Feuil1!$BE96) | AJ96: =CONCATENATE([1]Feuil1!$BF96,[1]Feuil1!$BG96) | AK96: =CONCATENATE([1]Feuil1!$BH96,[1]Feuil1!$BI96) | AL96: =CONCATENATE([1]Feuil1!$BJ96) | AM96: =CONCATENATE([1]Feuil1!$BK96,[1]Feuil1!$BL96) | AN96: =CONCATENATE([1]Feuil1!$BM96,[1]Feuil1!$BN96) | AO96: =CONCATENATE([1]Feuil1!$BO96) | AP96: =CONCATENATE([1]Feuil1!$BP96,[1]Feuil1!$BQ96) | AQ96: =CONCATENATE([1]Feuil1!$BR96,[1]Feuil1!$BS96) | AR96: =CONCATENATE([1]Feuil1!$BT96) | AS96: =CONCATENATE([1]Feuil1!$BU96,[1]Feuil1!$BV96) | AT96: =CONCATENATE([1]Feuil1!$BW96,[1]Feuil1!$BX96) | AU96: =CONCATENATE([1]Feuil1!$BY96) | AV96: =CONCATENATE([1]Feuil1!$BZ96,[1]Feuil1!$CA96) | AW96: =CONCATENATE([1]Feuil1!$CB96,[1]Feuil1!$CC96)
A97: =[1]Feuil1!$A97 -> 42865 | B97: =CONCATENATE([1]Feuil1!$B97) | C97: =CONCATENATE([1]Feuil1!$C97,[1]Feuil1!$D97) | D97: =CONCATENATE([1]Feuil1!$E97,[1]Feuil1!$F97) | E97: =CONCATENATE([1]Feuil1!$G97) | F97: =CONCATENATE([1]Feuil1!H97,[1]Feuil1!I97) | G97: =CONCATENATE([1]Feuil1!$J97,[1]Feuil1!$K97) | I97: =CONCATENATE([1]Feuil1!$M97,[1]Feuil1!$N97) | J97: =CONCATENATE([1]Feuil1!O97,[1]Feuil1!P97) | K97: =CONCATENATE([1]Feuil1!$Q97) | L97: =CONCATENATE([1]Feuil1!R97,[1]Feuil1!S97) | M97: =CONCATENATE([1]Feuil1!$T97,[1]Feuil1!$U97) | N97: =CONCATENATE([1]Feuil1!$V97) -> Moteur | O97: =CONCATENATE([1]Feuil1!W97,[1]Feuil1!X97) -> MPCI1 G | P97: =CONCATENATE([1]Feuil1!$Y97,[1]Feuil1!$Z97) -> MPCI1 H | Q97: =CONCATENATE([1]Feuil1!$AA97) | R97: =CONCATENATE([1]Feuil1!AB97,[1]Feuil1!AC97) | S97: =CONCATENATE([1]Feuil1!$AD97,[1]Feuil1!$AE97) | T97: =CONCATENATE([1]Feuil1!$AF97) -> Oscillation | U97: =CONCATENATE([1]Feuil1!AG97,[1]Feuil1!AH97) -> MPCI1 E | V97: =CONCATENATE([1]Feuil1!$AI97,[1]Feuil1!$AJ97) -> MPCI1 F | W97: =CONCATENATE([1]Feuil1!$AK97) | X97: =CONCATENATE([1]Feuil1!AL97,[1]Feuil1!AM97) | Y97: =CONCATENATE([1]Feuil1!AN97,[1]Feuil1!AO97) | Z97: =CONCATENATE([1]Feuil1!$AP97) | AA97: =CONCATENATE([1]Feuil1!AQ97,[1]Feuil1!AR97) | AB97: =CONCATENATE([1]Feuil1!AS97,[1]Feuil1!AT97) | AC97: =CONCATENATE([1]Feuil1!$AU97) | AD97: =CONCATENATE([1]Feuil1!AV97,[1]Feuil1!AW97) -> CB2 O | AE97: =CONCATENATE([1]Feuil1!AX97,[1]Feuil1!AY97) -> CB2 O | AF97: =CONCATENATE([1]Feuil1!$AZ97) | AG97: =CONCATENATE([1]Feuil1!BA97,[1]Feuil1!BB97) | AH97: =CONCATENATE([1]Feuil1!BC97,[1]Feuil1!BD97) | AI97: =CONCATENATE([1]Feuil1!$BE97) | AJ97: =CONCATENATE([1]Feuil1!$BF97,[1]Feuil1!$BG97) | AK97: =CONCATENATE([1]Feuil1!$BH97,[1]Feuil1!$BI97) | AL97: =CONCATENATE([1]Feuil1!$BJ97) | AM97: =CONCATENATE([1]Feuil1!$BK97,[1]Feuil1!$BL97) | AN97: =CONCATENATE([1]Feuil1!$BM97,[1]Feuil1!$BN97) | AO97: =CONCATENATE([1]Feuil1!$BO97) | AP97: =CONCATENATE([1]Feuil1!$BP97,[1]Feuil1!$BQ97) | AQ97: =CONCATENATE([1]Feuil1!$BR97,[1]Feuil1!$BS97) | AR97: =CONCATENATE([1]Feuil1!$BT97) | AS97: =CONCATENATE([1]Feuil1!$BU97,[1]Feuil1!$BV97) | AT97: =CONCATENATE([1]Feuil1!$BW97,[1]Feuil1!$BX97) | AU97: =CONCATENATE([1]Feuil1!$BY97) | AV97: =CONCATENATE([1]Feuil1!$BZ97,[1]Feuil1!$CA97) | AW97: =CONCATENATE([1]Feuil1!$CB97,[1]Feuil1!$CC97)
A98: =[1]Feuil1!$A98 -> 42866 | B98: =CONCATENATE([1]Feuil1!$B98) | C98: =CONCATENATE([1]Feuil1!$C98,[1]Feuil1!$D98) | D98: =CONCATENATE([1]Feuil1!$E98,[1]Feuil1!$F98) | E98: =CONCATENATE([1]Feuil1!$G98) | F98: =CONCATENATE([1]Feuil1!H98,[1]Feuil1!I98) | G98: =CONCATENATE([1]Feuil1!$J98,[1]Feuil1!$K98) | I98: =CONCATENATE([1]Feuil1!$M98,[1]Feuil1!$N98) | J98: =CONCATENATE([1]Feuil1!O98,[1]Feuil1!P98) | K98: =CONCATENATE([1]Feuil1!$Q98) | L98: =CONCATENATE([1]Feuil1!R98,[1]Feuil1!S98) | M98: =CONCATENATE([1]Feuil1!$T98,[1]Feuil1!$U98) | N98: =CONCATENATE([1]Feuil1!$V98) -> Moteur | O98: =CONCATENATE([1]Feuil1!W98,[1]Feuil1!X98) -> DLMP2 | P98: =CONCATENATE([1]Feuil1!$Y98,[1]Feuil1!$Z98) | Q98: =CONCATENATE([1]Feuil1!$AA98) | R98: =CONCATENATE([1]Feuil1!AB98,[1]Feuil1!AC98) | S98: =CONCATENATE([1]Feuil1!$AD98,[1]Feuil1!$AE98) | T98: =CONCATENATE([1]Feuil1!$AF98) -> Oscillation | U98: =CONCATENATE([1]Feuil1!AG98,[1]Feuil1!AH98) -> DLMP1 | V98: =CONCATENATE([1]Feuil1!$AI98,[1]Feuil1!$AJ98) | W98: =CONCATENATE([1]Feuil1!$AK98) | X98: =CONCATENATE([1]Feuil1!AL98,[1]Feuil1!AM98) | Y98: =CONCATENATE([1]Feuil1!AN98,[1]Feuil1!AO98) | Z98: =CONCATENATE([1]Feuil1!$AP98) | AA98: =CONCATENATE([1]Feuil1!AQ98,[1]Feuil1!AR98) | AB98: =CONCATENATE([1]Feuil1!AS98,[1]Feuil1!AT98) | AC98: =CONCATENATE([1]Feuil1!$AU98) | AD98: =CONCATENATE([1]Feuil1!AV98,[1]Feuil1!AW98) | AE98: =CONCATENATE([1]Feuil1!AX98,[1]Feuil1!AY98) | AF98: =CONCATENATE([1]Feuil1!$AZ98) | AG98: =CONCATENATE([1]Feuil1!BA98,[1]Feuil1!BB98) | AH98: =CONCATENATE([1]Feuil1!BC98,[1]Feuil1!BD98) | AI98: =CONCATENATE([1]Feuil1!$BE98) | AJ98: =CONCATENATE([1]Feuil1!$BF98,[1]Feuil1!$BG98) | AK98: =CONCATENATE([1]Feuil1!$BH98,[1]Feuil1!$BI98) | AL98: =CONCATENATE([1]Feuil1!$BJ98) | AM98: =CONCATENATE([1]Feuil1!$BK98,[1]Feuil1!$BL98) | AN98: =CONCATENATE([1]Feuil1!$BM98,[1]Feuil1!$BN98) | AO98: =CONCATENATE([1]Feuil1!$BO98) | AP98: =CONCATENATE([1]Feuil1!$BP98,[1]Feuil1!$BQ98) | AQ98: =CONCATENATE([1]Feuil1!$BR98,[1]Feuil1!$BS98) | AR98: =CONCATENATE([1]Feuil1!$BT98) | AS98: =CONCATENATE([1]Feuil1!$BU98,[1]Feuil1!$BV98) | AT98: =CONCATENATE([1]Feuil1!$BW98,[1]Feuil1!$BX98) | AU98: =CONCATENATE([1]Feuil1!$BY98) | AV98: =CONCATENATE([1]Feuil1!$BZ98,[1]Feuil1!$CA98) | AW98: =CONCATENATE([1]Feuil1!$CB98,[1]Feuil1!$CC98)
A99: =[1]Feuil1!$A99 -> 42867 | B99: =CONCATENATE([1]Feuil1!$B99) | C99: =CONCATENATE([1]Feuil1!$C99,[1]Feuil1!$D99) | D99: =CONCATENATE([1]Feuil1!$E99,[1]Feuil1!$F99) | E99: =CONCATENATE([1]Feuil1!$G99) | F99: =CONCATENATE([1]Feuil1!H99,[1]Feuil1!I99) | G99: =CONCATENATE([1]Feuil1!$J99,[1]Feuil1!$K99) | I99: =CONCATENATE([1]Feuil1!$M99,[1]Feuil1!$N99) | J99: =CONCATENATE([1]Feuil1!O99,[1]Feuil1!P99) | K99: =CONCATENATE([1]Feuil1!$Q99) | L99: =CONCATENATE([1]Feuil1!R99,[1]Feuil1!S99) | M99: =CONCATENATE([1]Feuil1!$T99,[1]Feuil1!$U99) | N99: =CONCATENATE([1]Feuil1!$V99) -> Moteur | O99: =CONCATENATE([1]Feuil1!W99,[1]Feuil1!X99) -> MPCI1 D | P99: =CONCATENATE([1]Feuil1!$Y99,[1]Feuil1!$Z99) -> DLCB2 | Q99: =CONCATENATE([1]Feuil1!$AA99) | R99: =CONCATENATE([1]Feuil1!AB99,[1]Feuil1!AC99) | S99: =CONCATENATE([1]Feuil1!$AD99,[1]Feuil1!$AE99) | T99: =CONCATENATE([1]Feuil1!$AF99) -> Oscillation | U99: =CONCATENATE([1]Feuil1!AG99,[1]Feuil1!AH99) -> MPCI1 H | V99: =CONCATENATE([1]Feuil1!$AI99,[1]Feuil1!$AJ99) | W99: =CONCATENATE([1]Feuil1!$AK99) | X99: =CONCATENATE([1]Feuil1!AL99,[1]Feuil1!AM99) | Y99: =CONCATENATE([1]Feuil1!AN99,[1]Feuil1!AO99) | Z99: =CONCATENATE([1]Feuil1!$AP99) | AA99: =CONCATENATE([1]Feuil1!AQ99,[1]Feuil1!AR99) | AB99: =CONCATENATE([1]Feuil1!AS99,[1]Feuil1!AT99) | AC99: =CONCATENATE([1]Feuil1!$AU99) | AD99: =CONCATENATE([1]Feuil1!AV99,[1]Feuil1!AW99) | AE99: =CONCATENATE([1]Feuil1!AX99,[1]Feuil1!AY99) | AF99: =CONCATENATE([1]Feuil1!$AZ99) | AG99: =CONCATENATE([1]Feuil1!BA99,[1]Feuil1!BB99) | AH99: =CONCATENATE([1]Feuil1!BC99,[1]Feuil1!BD99) | AI99: =CONCATENATE([1]Feuil1!$BE99) | AJ99: =CONCATENATE([1]Feuil1!$BF99,[1]Feuil1!$BG99) | AK99: =CONCATENATE([1]Feuil1!$BH99,[1]Feuil1!$BI99) | AL99: =CONCATENATE([1]Feuil1!$BJ99) | AM99: =CONCATENATE([1]Feuil1!$BK99,[1]Feuil1!$BL99) | AN99: =CONCATENATE([1]Feuil1!$BM99,[1]Feuil1!$BN99) | AO99: =CONCATENATE([1]Feuil1!$BO99) | AP99: =CONCATENATE([1]Feuil1!$BP99,[1]Feuil1!$BQ99) | AQ99: =CONCATENATE([1]Feuil1!$BR99,[1]Feuil1!$BS99) | AR99: =CONCATENATE([1]Feuil1!$BT99) | AS99: =CONCATENATE([1]Feuil1!$BU99,[1]Feuil1!$BV99) | AT99: =CONCATENATE([1]Feuil1!$BW99,[1]Feuil1!$BX99) | AU99: =CONCATENATE([1]Feuil1!$BY99) | AV99: =CONCATENATE([1]Feuil1!$BZ99,[1]Feuil1!$CA99) | AW99: =CONCATENATE([1]Feuil1!$CB99,[1]Feuil1!$CC99)
A101: =[1]Feuil1!$A101 -> 42870 | B101: TP3
A102: =[1]Feuil1!$A102 -> 42871
...

Sheet Feuil1
C1: CH202 TP1 | D1: CH202 TP2 | E1: CH202 TP3 | F1: CH201 TP1 | G1: CH201 TP2 | H1: CH201 TP3 | I1: CH201 TP4 | J1: Ph201 Press | K1: Ph201 Therm | L1: Ph201 Mot | M1: PH202 RUGO | N1: PH202 Frott | O1: PH202 Oscil | P1: BI202 ANA | Q1: BI202 FRAC | R1: BI202 MIT | S1: BI203diversité | T1: BI203 PHYLOGE
A2: 1 | B2: CB1 A | C2: =COUNTIFS('2EME SEM'!$C$11:$D$33,B2) -> 1 | D2: =COUNTIFS('2EME SEM'!$C$39:$D$57,B2) -> 1 | E2: =COUNTIFS('2EME SEM'!$C$59:$D$81,B2) -> 1 | F2: =COUNTIFS('2EME SEM'!$F$17:$J$33,B2) -> 1 | G2: =COUNTIFS('2EME SEM'!$F$35:$J$45,B2) -> 1 | H2: =COUNTIFS('2EME SEM'!$F$47:$J$57,B2) -> 1 | I2: =COUNTIFS('2EME SEM'!$F$59:$J$78,B2) -> 1 | J2: =COUNTIFS('2EME SEM'!$L$41:$M$58,$B2) -> 1 | K2: =COUNTIFS('2EME SEM'!$L$59:$M$81,$B2) -> 1 | L2: =COUNTIFS('2EME SEM'!$O$83:$P$99,$B2) -> 1
B3: CB1 B | C3: =COUNTIFS('2EME SEM'!$C$11:$D$33,B3) -> 1 | D3: =COUNTIFS('2EME SEM'!$C$39:$D$57,B3) -> 1 | E3: =COUNTIFS('2EME SEM'!$C$59:$D$81,B3) -> 1 | F3: =COUNTIFS('2EME SEM'!$F$17:$J$33,B3) -> 1 | G3: =COUNTIFS('2EME SEM'!$F$35:$J$45,B3) -> 1 | H3: =COUNTIFS('2EME SEM'!$F$47:$J$57,B3) -> 1 | I3: =COUNTIFS('2EME SEM'!$F$59:$J$78,B3) -> 1 | J3: =COUNTIFS('2EME SEM'!$L$41:$M$58,$B3) -> 1 | K3: =COUNTIFS('2EME SEM'!$L$59:$M$81,$B3) -> 1 | L3: =COUNTIFS('2EME SEM'!$O$83:$P$99,$B3) -> 1
A4: 2 | B4: CB1 C | C4: =COUNTIFS('2EME SEM'!$C$11:$D$33,B4) -> 1 | D4: =COUNTIFS('2EME SEM'!$C$39:$D$57,B4) -> 1 | E4: =COUNTIFS('2EME SEM'!$C$59:$D$81,B4) -> 1 | F4: =COUNTIFS('2EME SEM'!$F$17:$J$33,B4) -> 1 | G4: =COUNTIFS('2EME SEM'!$F$35:$J$45,B4) -> 1 | H4: =COUNTIFS('2EME SEM'!$F$47:$J$57,B4) -> 1 | I4: =COUNTIFS('2EME SEM'!$F$59:$J$78,B4) -> 1 | J4: =COUNTIFS('2EME SEM'!$L$41:$M$58,$B4) -> 1 | K4: =COUNTIFS('2EME SEM'!$L$59:$M$81,$B4) -> 1 | L4: =COUNTIFS('2EME SEM'!$O$83:$P$99,$B4) -> 1
B5: CB1 D | C5: =COUNTIFS('2EME SEM'!$C$11:$D$33,B5) -> 1 | D5: =COUNTIFS('2EME SEM'!$C$39:$D$57,B5) -> 1 | E5: =COUNTIFS('2EME SEM'!$C$59:$D$81,B5) -> 1 | F5: =COUNTIFS('2EME SEM'!$F$17:$J$33,B5) -> 1 | G5: =COUNTIFS('2EME SEM'!$F$35:$J$45,B5) -> 1 | H5: =COUNTIFS('2EME SEM'!$F$47:$J$57,B5) -> 1 | I5: =COUNTIFS('2EME SEM'!$F$59:$J$78,B5) -> 1 | J5: =COUNTIFS('2EME SEM'!$L$41:$M$58,$B5) -> 1 | K5: =COUNTIFS('2EME SEM'!$L$59:$M$81,$B5) -> 1 | L5: =COUNTIFS('2EME SEM'!$O$83:$P$99,$B5) -> 1
A6: 3 | B6: CB1 E | C6: =COUNTIFS('2EME SEM'!$C$11:$D$33,B6) -> 1 | D6: =COUNTIFS('2EME SEM'!$C$39:$D$57,B6) -> 1 | E6: =COUNTIFS('2EME SEM'!$C$59:$D$81,B6) -> 1 | F6: =COUNTIFS('2EME SEM'!$F$17:$J$33,B6) -> 1 | G6: =COUNTIFS('2EME SEM'!$F$35:$J$45,B6) -> 1 | H6: =COUNTIFS('2EME SEM'!$F$47:$J$57,B6) -> 1 | I6: =COUNTIFS('2EME SEM'!$F$59:$J$78,B6) -> 1 | J6: =COUNTIFS('2EME SEM'!$L$41:$M$58,$B6) -> 1 | K6: =COUNTIFS('2EME SEM'!$L$59:$M$81,$B6) -> 1 | L6: =COUNTIFS('2EME SEM'!$O$83:$P$99,$B6) -> 1
B7: CB1 F | C7: =COUNTIFS('2EME SEM'!$C$11:$D$33,B7) -> 1 | D7: =COUNTIFS('2EME SEM'!$C$39:$D$57,B7) -> 1 | E7: =COUNTIFS('2EME SEM'!$C$59:$D$81,B7) -> 1 | F7: =COUNTIFS('2EME SEM'!$F$17:$J$33,B7) -> 1 | G7: =COUNTIFS('2EME SEM'!$F$35:$J$45,B7) -> 1 | H7: =COUNTIFS('2EME SEM'!$F$47:$J$57,B7) -> 1 | I7: =COUNTIFS('2EME SEM'!$F$59:$J$78,B7) -> 1 | J7: =COUNTIFS('2EME SEM'!$L$41:$M$58,$B7) -> 1 | K7: =COUNTIFS('2EME SEM'!$L$59:$M$81,$B7) -> 1 | L7: =COUNTIFS('2EME SEM'!$O$83:$P$99,$B7) -> 1
A8: 4 | B8: CB1 G | C8: =COUNTIFS('2EME SEM'!$C$11:$D$33,B8) -> 1 | D8: =COUNTIFS('2EME SEM'!$C$39:$D$57,B8) -> 1 | E8: =COUNTIFS('2EME SEM'!$C$59:$D$81,B8) -> 1 | F8: =COUNTIFS('2EME SEM'!$F$17:$J$33,B8) -> 1 | G8: =COUNTIFS('2EME SEM'!$F$35:$J$45,B8) -> 1 | H8: =COUNTIFS('2EME SEM'!$F$47:$J$57,B8) -> 1 | I8: =COUNTIFS('2EME SEM'!$F$59:$J$78,B8) -> 1 | J8: =COUNTIFS('2EME SEM'!$L$41:$M$58,$B8) -> 1 | K8: =COUNTIFS('2EME SEM'!$L$59:$M$81,$B8) -> 1 | L8: =COUNTIFS('2EME SEM'!$O$83:$P$99,$B8) -> 1
B9: CB1 H | C9: =COUNTIFS('2EME SEM'!$C$11:$D$33,B9) -> 1 | D9: =COUNTIFS('2EME SEM'!$C$39:$D$57,B9) -> 1 | E9: =COUNTIFS('2EME SEM'!$C$59:$D$81,B9) -> 1 | F9: =COUNTIFS('2EME SEM'!$F$17:$J$33,B9) -> 1 | G9: =COUNTIFS('2EME SEM'!$F$35:$J$45,B9) -> 1 | H9: =COUNTIFS('2EME SEM'!$F$47:$J$57,B9) -> 1 | I9: =COUNTIFS('2EME SEM'!$F$59:$J$78,B9) -> 1 | J9: =COUNTIFS('2EME SEM'!$L$41:$M$58,$B9) -> 1 | K9: =COUNTIFS('2EME SEM'!$L$59:$M$81,$B9) -> 1 | L9: =COUNTIFS('2EME SEM'!$O$83:$P$99,$B9) -> 1
A10: 5 | B10: CB2 I | F10: =COUNTIFS('2EME SEM'!$F$17:$J$33,B10) -> 0 | G10: =COUNTIFS('2EME SEM'!$F$35:$J$45,B10) -> 0 | H10: =COUNTIFS('2EME SEM'!$F$47:$J$57,B10) -> 0 | I10: =COUNTIFS('2EME SEM'!$F$59:$J$78,B10) -> 0
B11: CB2 J | F11: =COUNTIFS('2EME SEM'!$F$17:$J$33,B11) -> 1 | G11: =COUNTIFS('2EME SEM'!$F$35:$J$45,B11) -> 1 | H11: =COUNTIFS('2EME SEM'!$F$47:$J$57,B11) -> 1 | I11: =COUNTIFS('2EME SEM'!$F$59:$J$78,B11) -> 1
A12: 6 | B12: CB2 K | F12: =COUNTIFS('2EME SEM'!$F$17:$J$33,B12) -> 1 | G12: =COUNTIFS('2EME SEM'!$F$35:$J$45,B12) -> 1 | H12: =COUNTIFS('2EME SEM'!$F$47:$J$57,B12) -> 1 | I12: =COUNTIFS('2EME SEM'!$F$59:$J$78,B12) -> 1
