Workbook

Sheet 2EME SEM
B2: CH202 | E2: CH201 | K2: PH201 | Q2: PH202 | W2: BI 202 | AI2: BI 203 | AR2: G290
A3: 2015/2016 | C3: Descartes RC 12 | F3: Descartes RC 14 | I3: Descartes RC 15 | L3: Bat E201 | O3: Bât BUFFON 205 | R3: Bât E 202 | U3: Bât E 203 | X3: Descartes 217 | AA3: Descartes 209 | AD3: Descartes 213 | AG3: BUFFON 423 | AJ3: BUFFON 423 | AM3: Descartes 211 | AP3: Descartes 213 | AS3: BAT E 306 | AV3: BAT E 307 | AX3: Bourgogne | BA3: Aquitaine
B4: TP | C4: =CONCATENATE([1]Feuil1!$C$4,[1]Feuil1!$D$4) -> 8h30/12h30 | D4: =CONCATENATE([1]Feuil1!$E$4,[1]Feuil1!$F$4) -> 12h30/17h30 | E4: TP | F4: 9h-12h | G4: 13h30-16h30 | I4: 9h-12h | J4: 13h30-16h30 | K4: TP | L4: 9h à 12h | M4: 13h30 à 16h30 | N4: TP | O4: 9h à 12h | P4: 13h30 à 16h30 | Q4: TP | R4: 9h à 12h | S4: 13h30 à 16h30 | U4: 9h à 12h | V4: 13h30 à 16h30 | W4: TP | X4: =CONCATENATE([1]Feuil1!AL$4,[1]Feuil1!AM$4) -> 9h00/12h00 | Y4: =CONCATENATE([1]Feuil1!AN$4,[1]Feuil1!AO$4) -> 12h30/16h30 | AA4: 8h30-12h30 | AB4: 13h30-17h30 | AC4: TP | AD4: 8h30-12h30 | AE4: 13H30 - 16H30 | AF4: TP | AG4: 8h30-12h30 | AH4: 13h30-17h30 | AI4: TP | AJ4: 8h30-12h30 | AK4: 13h30-17h30 | AL4: TP | AM4: 8h30-12h30 | AN4: 13h30-17h30 | AO4: TP | AP4: 8h30-12h30 | AQ4: 13h30-17h30 | AR4: TP | AS4: 8h30-12h30 | AT4: 13h30-17h30 | AU4: TP | AV4: 8h30-12h30 | AW4: 13h30-17h30 | AX4: TP | AY4: 8h30-12h30 | AZ4: 13h30-17h30 | BA4: TP | BB4: 8h30-12h30 | BC4: 13h30-17h30
A5: =[1]Feuil1!$A5 -> 42758 | B5: =CONCATENATE([1]Feuil1!$B5) -> TP1 | C5: =CONCATENATE([1]Feuil1!$C5,[1]Feuil1!$D5) | D5: =CONCATENATE([1]Feuil1!$E5,[1]Feuil1!$F5) | E5: =CONCATENATE([1]Feuil1!$G5) | F5: =CONCATENATE([1]Feuil1!H5,[1]Feuil1!I5) | G5: =CONCATENATE([1]Feuil1!$J5,[1]Feuil1!$K5) | I5: =CONCATENATE([1]Feuil1!$M5,[1]Feuil1!$N5) | J5: =CONCATENATE([1]Feuil1!O5,[1]Feuil1!P5) | K5: =CONCATENATE([1]Feuil1!$Q5) | L5: =CONCATENATE([1]Feuil1!R5,[1]Feuil1!S5) | M5: =CONCATENATE([1]Feuil1!$T5,[1]Feuil1!$U5) | N5: =CONCATENATE([1]Feuil1!$V5) | O5: =CONCATENATE([1]Feuil1!W5,[1]Feuil1!X5) | P5: =CONCATENATE([1]Feuil1!$Y5,[1]Feuil1!$Z5) | Q5: =CONCATENATE([1]Feuil1!$AA5) | R5: =CONCATENATE([1]Feuil1!AB5,[1]Feuil1!AC5) | S5: =CONCATENATE([1]Feuil1!$AD5,[1]Feuil1!$AE5) | T5: =CONCATENATE([1]Feuil1!$AF5) | U5: =CONCATENATE([1]Feuil1!AG5,[1]Feuil1!AH5) | V5: =CONCATENATE([1]Feuil1!$AI5,[1]Feuil1!$AJ5) | W5: =CONCATENATE([1]Feuil1!$AK5) -> ANA. CELL. | X5: =CONCATENATE([1]Feuil1!AL5,[1]Feuil1!AM5) -> CB2 I | Y5: =CONCATENATE([1]Feuil1!AN5,[1]Feuil1!AO5) -> CB2 J | Z5: =CONCATENATE([1]Feuil1!$AP5) | AA5: =CONCATENATE([1]Feuil1!AQ5,[1]Feuil1!AR5) -> CB2 K | AB5: =CONCATENATE([1]Feuil1!AS5,[1]Feuil1!AT5) -> CB2 L | AC5: =CONCATENATE([1]Feuil1!$AU5) | AD5: =CONCATENATE([1]Feuil1!AV5,[1]Feuil1!AW5) | AE5: =CONCATENATE([1]Feuil1!AX5,[1]Feuil1!AY5) | AF5: =CONCATENATE([1]Feuil1!$AZ5) | AG5: =CONCATENATE([1]Feuil1!BA5,[1]Feuil1!BB5) | AH5: =CONCATENATE([1]Feuil1!BC5,[1]Feuil1!BD5) | AI5: =CONCATENATE([1]Feuil1!$BE5) | AJ5: =CONCATENATE([1]Feuil1!$BF5,[1]Feuil1!$BG5) | AK5: =CONCATENATE([1]Feuil1!$BH5,[1]Feuil1!$BI5) | AL5: =CONCATENATE([1]Feuil1!$BJ5) | AM5: =CONCATENATE([1]Feuil1!$BK5,[1]Feuil1!$BL5) | AN5: =CONCATENATE([1]Feuil1!$BM5,[1]Feuil1!$BN5) | AO5: =CONCATENATE([1]Feuil1!$BO5) | AP5: =CONCATENATE([1]Feuil1!$BP5,[1]Feuil1!$BQ5) | AQ5: =CONCATENATE([1]Feuil1!$BR5,[1]Feuil1!$BS5) | AR5: =CONCATENATE([1]Feuil1!$BT5) | AS5: =CONCATENATE([1]Feuil1!$BU5,[1]Feuil1!$BV5) | AT5: =CONCATENATE([1]Feuil1!$BW5,[1]Feuil1!$BX5) | AU5: =CONCATENATE([1]Feuil1!$BY5) | AV5: =CONCATENATE([1]Feuil1!$BZ5,[1]Feuil1!$CA5) | AW5: =CONCATENATE([1]Feuil1!$CB5,[1]Feuil1!$CC5)
A6: =[1]Feuil1!$A6 -> 42759 | B6: =CONCATENATE([1]Feuil1!$B6) | C6: =CONCATENATE([1]Feuil1!$C6,[1]Feuil1!$D6) | D6: =CONCATENATE([1]Feuil1!$E6,[1]Feuil1!$F6) | E6: =CONCATENATE([1]Feuil1!$G6) | F6: =CONCATENATE([1]Feuil1!H6,[1]Feuil1!I6) | G6: =CONCATENATE([1]Feuil1!$J6,[1]Feuil1!$K6) | I6: =CONCATENATE([1]Feuil1!$M6,[1]Feuil1!$N6) | J6: =CONCATENATE([1]Feuil1!O6,[1]Feuil1!P6) | K6: =CONCATENATE([1]Feuil1!$Q6) | L6: =CONCATENATE([1]Feuil1!R6,[1]Feuil1!S6) | M6: =CONCATENATE([1]Feuil1!$T6,[1]Feuil1!$U6) | N6: =CONCATENATE([1]Feuil1!$V6) | O6: =CONCATENATE([1]Feuil1!W6,[1]Feuil1!X6) | P6: =CONCATENATE([1]Feuil1!$Y6,[1]Feuil1!$Z6) | Q6: =CONCATENATE([1]Feuil1!$AA6) | R6: =CONCATENATE([1]Feuil1!AB6,[1]Feuil1!AC6) | S6: =CONCATENATE([1]Feuil1!$AD6,[1]Feuil1!$AE6) | T6: =CONCATENATE([1]Feuil1!$AF6) | U6: =CONCATENATE([1]Feuil1!AG6,[1]Feuil1!AH6) | V6: =CONCATENATE([1]Feuil1!$AI6,[1]Feuil1!$AJ6) | W6: =CONCATENATE([1]Feuil1!$AK6) -> ANA. CELL. | X6: =CONCATENATE([1]Feuil1!AL6,[1]Feuil1!AM6) -> CB1 B | Y6: =CONCATENATE([1]Feuil1!AN6,[1]Feuil1!AO6) -> CB1 D | Z6: =CONCATENATE([1]Feuil1!$AP6) | AA6: =CONCATENATE([1]Feuil1!AQ6,[1]Feuil1!AR6) | AB6: =CONCATENATE([1]Feuil1!AS6,[1]Feuil1!AT6) -> CB1 F | AC6: =CONCATENATE([1]Feuil1!$AU6) | AD6: =CONCATENATE([1]Feuil1!AV6,[1]Feuil1!AW6) | AE6: =CONCATENATE([1]Feuil1!AX6,[1]Feuil1!AY6) | AF6: =CONCATENATE([1]Feuil1!$AZ6) | AG6: =CONCATENATE([1]Feuil1!BA6,[1]Feuil1!BB6) | AH6: =CONCATENATE([1]Feuil1!BC6,[1]Feuil1!BD6) | AI6: =CONCATENATE([1]Feuil1!$BE6) | AJ6: =CONCATENATE([1]Feuil1!$BF6,[1]Feuil1!$BG6) | AK6: =CONCATENATE([1]Feuil1!$BH6,[1]Feuil1!$BI6) | AL6: =CONCATENATE([1]Feuil1!$BJ6) | AM6: =CONCATENATE([1]Feuil1!$BK6,[1]Feuil1!$BL6) | AN6: =CONCATENATE([1]Feuil1!$BM6,[1]Feuil1!$BN6) | AO6: =CONCATENATE([1]Feuil1!$BO6) | AP6: =CONCATENATE([1]Feuil1!$BP6,[1]Feuil1!$BQ6) | AQ6: =CONCATENATE([1]Feuil1!$BR6,[1]Feuil1!$BS6) | AR6: =CONCATENATE([1]Feuil1!$BT6) | AS6: =CONCATENATE([1]Feuil1!$BU6,[1]Feuil1!$BV6) | AT6: =CONCATENATE([1]Feuil1!$BW6,[1]Feuil1!$BX6) | AU6: =CONCATENATE([1]Feuil1!$BY6) | AV6: =CONCATENATE([1]Feuil1!$BZ6,[1]Feuil1!$CA6) | AW6: =CONCATENATE([1]Feuil1!$CB6,[1]Feuil1!$CC6)
A7: =[1]Feuil1!$A7 -> 42760 | B7: =CONCATENATE([1]Feuil1!$B7) | C7: =CONCATENATE([1]Feuil1!$C7,[1]Feuil1!$D7) | D7: =CONCATENATE([1]Feuil1!$E7,[1]Feuil1!$F7) | E7: =CONCATENATE([1]Feuil1!$G7) | F7: =CONCATENATE([1]Feuil1!H7,[1]Feuil1!I7) | G7: =CONCATENATE([1]Feuil1!$J7,[1]Feuil1!$K7) | I7: =CONCATENATE([1]Feuil1!$M7,[1]Feuil1!$N7) | J7: =CONCATENATE([1]Feuil1!O7,[1]Feuil1!P7) | K7: =CONCATENATE([1]Feuil1!$Q7) | L7: =CONCATENATE([1]Feuil1!R7,[1]Feuil1!S7) | M7: =CONCATENATE([1]Feuil1!$T7,[1]Feuil1!$U7) | N7: =CONCATENATE([1]Feuil1!$V7) | O7: =CONCATENATE([1]Feuil1!W7,[1]Feuil1!X7) | P7: =CONCATENATE([1]Feuil1!$Y7,[1]Feuil1!$Z7) | Q7: =CONCATENATE([1]Feuil1!$AA7) | R7: =CONCATENATE([1]Feuil1!AB7,[1]Feuil1!AC7) | S7: =CONCATENATE([1]Feuil1!$AD7,[1]Feuil1!$AE7) | T7: =CONCATENATE([1]Feuil1!$AF7) | U7: =CONCATENATE([1]Feuil1!AG7,[1]Feuil1!AH7) | V7: =CONCATENATE([1]Feuil1!$AI7,[1]Feuil1!$AJ7) | W7: =CONCATENATE([1]Feuil1!$AK7) -> ANA. CELL. | X7: =CONCATENATE([1]Feuil1!AL7,[1]Feuil1!AM7) -> DL BI A | Y7: =CONCATENATE([1]Feuil1!AN7,[1]Feuil1!AO7) -> BI F | Z7: =CONCATENATE([1]Feuil1!$AP7) | AA7: =CONCATENATE([1]Feuil1!AQ7,[1]Feuil1!AR7) -> BI C | AB7: =CONCATENATE([1]Feuil1!AS7,[1]Feuil1!AT7) -> CB2 M | AC7: =CONCATENATE([1]Feuil1!$AU7) | AD7: =CONCATENATE([1]Feuil1!AV7,[1]Feuil1!AW7) | AE7: =CONCATENATE([1]Feuil1!AX7,[1]Feuil1!AY7) | AF7: =CONCATENATE([1]Feuil1!$AZ7) | AG7: =CONCATENATE([1]Feuil1!BA7,[1]Feuil1!BB7) | AH7: =CONCATENATE([1]Feuil1!BC7,[1]Feuil1!BD7) | AI7: =CONCATENATE([1]Feuil1!$BE7) | AJ7: =CONCATENATE([1]Feuil1!$BF7,[1]Feuil1!$BG7) | AK7: =CONCATENATE([1]Feuil1!$BH7,[1]Feuil1!$BI7) | AL7: =CONCATENATE([1]Feuil1!$BJ7) | AM7: =CONCATENATE([1]Feuil1!$BK7,[1]Feuil1!$BL7) | AN7: =CONCATENATE([1]Feuil1!$BM7,[1]Feuil1!$BN7) | AO7: =CONCATENATE([1]Feuil1!$BO7) | AP7: =CONCATENATE([1]Feuil1!$BP7,[1]Feuil1!$BQ7) | AQ7: =CONCATENATE([1]Feuil1!$BR7,[1]Feuil1!$BS7) | AR7: =CONCATENATE([1]Feuil1!$BT7) | AS7: =CONCATENATE([1]Feuil1!$BU7,[1]Feuil1!$BV7) | AT7: =CONCATENATE([1]Feuil1!$BW7,[1]Feuil1!$BX7) | AU7: =CONCATENATE([1]Feuil1!$BY7) | AV7: =CONCATENATE([1]Feuil1!$BZ7,[1]Feuil1!$CA7) | AW7: =CONCATENATE([1]Feuil1!$CB7,[1]Feuil1!$CC7)
A8: =[1]Feuil1!$A8 -> 42761 | B8: =CONCATENATE([1]Feuil1!$B8) | C8: =CONCATENATE([1]Feuil1!$C8,[1]Feuil1!$D8) | D8: =CONCATENATE([1]Feuil1!$E8,[1]Feuil1!$F8) | E8: =CONCATENATE([1]Feuil1!$G8) | F8: =CONCATENATE([1]Feuil1!H8,[1]Feuil1!I8) | G8: =CONCATENATE([1]Feuil1!$J8,[1]Feuil1!$K8) | I8: =CONCATENATE([1]Feuil1!$M8,[1]Feuil1!$N8) | J8: =CONCATENATE([1]Feuil1!O8,[1]Feuil1!P8) | K8: =CONCATENATE([1]Feuil1!$Q8) | L8: =CONCATENATE([1]Feuil1!R8,[1]Feuil1!S8) | M8: =CONCATENATE([1]Feuil1!$T8,[1]Feuil1!$U8) | N8: =CONCATENATE([1]Feuil1!$V8) | O8: =CONCATENATE([1]Feuil1!W8,[1]Feuil1!X8) | P8: =CONCATENATE([1]Feuil1!$Y8,[1]Feuil1!$Z8) | Q8: =CONCATENATE([1]Feuil1!$AA8) | R8: =CONCATENATE([1]Feuil1!AB8,[1]Feuil1!AC8) | S8: =CONCATENATE([1]Feuil1!$AD8,[1]Feuil1!$AE8) | T8: =CONCATENATE([1]Feuil1!$AF8) | U8: =CONCATENATE([1]Feuil1!AG8,[1]Feuil1!AH8) | V8: =CONCATENATE([1]Feuil1!$AI8,[1]Feuil1!$AJ8) | W8: =CONCATENATE([1]Feuil1!$AK8) | X8: =CONCATENATE([1]Feuil1!AL8,[1]Feuil1!AM8) | Y8: =CONCATENATE([1]Feuil1!AN8,[1]Feuil1!AO8) | Z8: =CONCATENATE([1]Feuil1!$AP8) | AA8: =CONCATENATE([1]Feuil1!AQ8,[1]Feuil1!AR8) | AB8: =CONCATENATE([1]Feuil1!AS8,[1]Feuil1!AT8) | AC8: =CONCATENATE([1]Feuil1!$AU8) | AD8: =CONCATENATE([1]Feuil1!AV8,[1]Feuil1!AW8) | AE8: =CONCATENATE([1]Feuil1!AX8,[1]Feuil1!AY8) | AF8: =CONCATENATE([1]Feuil1!$AZ8) | AG8: =CONCATENATE([1]Feuil1!BA8,[1]Feuil1!BB8) | AH8: =CONCATENATE([1]Feuil1!BC8,[1]Feuil1!BD8) | AI8: =CONCATENATE([1]Feuil1!$BE8) | AJ8: =CONCATENATE([1]Feuil1!$BF8,[1]Feuil1!$BG8) | AK8: =CONCATENATE([1]Feuil1!$BH8,[1]Feuil1!$BI8) | AL8: =CONCATENATE([1]Feuil1!$BJ8) | AM8: =CONCATENATE([1]Feuil1!$BK8,[1]Feuil1!$BL8) | AN8: =CONCATENATE([1]Feuil1!$BM8,[1]Feuil1!$BN8) | AO8: =CONCATENATE([1]Feuil1!$BO8) | AP8: =CONCATENATE([1]Feuil1!$BP8,[1]Feuil1!$BQ8) | AQ8: =CONCATENATE([1]Feuil1!$BR8,[1]Feuil1!$BS8) | AR8: =CONCATENATE([1]Feuil1!$BT8) | AS8: =CONCATENATE([1]Feuil1!$BU8,[1]Feuil1!$BV8) | AT8: =CONCATENATE([1]Feuil1!$BW8,[1]Feuil1!$BX8) | AU8: =CONCATENATE([1]Feuil1!$BY8) | AV8: =CONCATENATE([1]Feuil1!$BZ8,[1]Feuil1!$CA8) | AW8: =CONCATENATE([1]Feuil1!$CB8,[1]Feuil1!$CC8)
A9: =[1]Feuil1!$A9 -> 42762 | B9: =CONCATENATE([1]Feuil1!$B9) | C9: =CONCATENATE([1]Feuil1!$C9,[1]Feuil1!$D9) | D9: =CONCATENATE([1]Feuil1!$E9,[1]Feuil1!$F9) | E9: =CONCATENATE([1]Feuil1!$G9) | F9: =CONCATENATE([1]Feuil1!H9,[1]Feuil1!I9) | G9: =CONCATENATE([1]Feuil1!$J9,[1]Feuil1!$K9) | I9: =CONCATENATE([1]Feuil1!$M9,[1]Feuil1!$N9) | J9: =CONCATENATE([1]Feuil1!O9,[1]Feuil1!P9) | K9: =CONCATENATE([1]Feuil1!$Q9) | L9: =CONCATENATE([1]Feuil1!R9,[1]Feuil1!S9) | M9: =CONCATENATE([1]Feuil1!$T9,[1]Feuil1!$U9) | N9: =CONCATENATE([1]Feuil1!$V9) | O9: =CONCATENATE([1]Feuil1!W9,[1]Feuil1!X9) | P9: =CONCATENATE([1]Feuil1!$Y9,[1]Feuil1!$Z9) | Q9: =CONCATENATE([1]Feuil1!$AA9) | R9: =CONCATENATE([1]Feuil1!AB9,[1]Feuil1!AC9) | S9: =CONCATENATE([1]Feuil1!$AD9,[1]Feuil1!$AE9) | T9: =CONCATENATE([1]Feuil1!$AF9) | U9: =CONCATENATE([1]Feuil1!AG9,[1]Feuil1!AH9) | V9: =CONCATENATE([1]Feuil1!$AI9,[1]Feuil1!$AJ9) | W9: =CONCATENATE([1]Feuil1!$AK9) -> ANA. CELL. | X9: =CONCATENATE([1]Feuil1!AL9,[1]Feuil1!AM9) | Y9: =CONCATENATE([1]Feuil1!AN9,[1]Feuil1!AO9) -> CB1 C | Z9: =CONCATENATE([1]Feuil1!$AP9) | AA9: =CONCATENATE([1]Feuil1!AQ9,[1]Feuil1!AR9) -> CB1 A | AB9: =CONCATENATE([1]Feuil1!AS9,[1]Feuil1!AT9) -> CB1 E | AC9: =CONCATENATE([1]Feuil1!$AU9) | AD9: =CONCATENATE([1]Feuil1!AV9,[1]Feuil1!AW9) | AE9: =CONCATENATE([1]Feuil1!AX9,[1]Feuil1!AY9) | AF9: =CONCATENATE([1]Feuil1!$AZ9) | AG9: =CONCATENATE([1]Feuil1!BA9,[1]Feuil1!BB9) | AH9: =CONCATENATE([1]Feuil1!BC9,[1]Feuil1!BD9) | AI9: =CONCATENATE([1]Feuil1!$BE9) | AJ9: =CONCATENATE([1]Feuil1!$BF9,[1]Feuil1!$BG9) | AK9: =CONCATENATE([1]Feuil1!$BH9,[1]Feuil1!$BI9) | AL9: =CONCATENATE([1]Feuil1!$BJ9) | AM9: =CONCATENATE([1]Feuil1!$BK9,[1]Feuil1!$BL9) | AN9: =CONCATENATE([1]Feuil1!$BM9,[1]Feuil1!$BN9) | AO9: =CONCATENATE([1]Feuil1!$BO9) | AP9: =CONCATENATE([1]Feuil1!$BP9,[1]Feuil1!$BQ9) | AQ9: =CONCATENATE([1]Feuil1!$BR9,[1]Feuil1!$BS9) | AR9: =CONCATENATE([1]Feuil1!$BT9) | AS9: =CONCATENATE([1]Feuil1!$BU9,[1]Feuil1!$BV9) | AT9: =CONCATENATE([1]Feuil1!$BW9,[1]Feuil1!$BX9) | AU9: =CONCATENATE([1]Feuil1!$BY9) | AV9: =CONCATENATE([1]Feuil1!$BZ9,[1]Feuil1!$CA9) | AW9: =CONCATENATE([1]Feuil1!$CB9,[1]Feuil1!$CC9)
B10: =CONCATENATE([1]Feuil1!$B10) | E10: =CONCATENATE([1]Feuil1!$G10) | K10: =CONCATENATE([1]Feuil1!$Q10) | N10: =CONCATENATE([1]Feuil1!$V10) | Q10: =CONCATENATE([1]Feuil1!$AA10) | T10: =CONCATENATE([1]Feuil1!$AF10) | W10: =CONCATENATE([1]Feuil1!$AK10) | Z10: =CONCATENATE([1]Feuil1!$AP10) | AC10: =CONCATENATE([1]Feuil1!$AU10) | AF10: =CONCATENATE([1]Feuil1!$AZ10) | AI10: =CONCATENATE([1]Feuil1!$BE10) | AL10: =CONCATENATE([1]Feuil1!$BJ10) | AO10: =CONCATENATE([1]Feuil1!$BO10) | AR10: =CONCATENATE([1]Feuil1!$BT10) | AU10: =CONCATENATE([1]Feuil1!$BY10)
A11: =[1]Feuil1!$A11 -> 42765 | B11: =CONCATENATE([1]Feuil1!$B11) | C11: =CONCATENATE([1]Feuil1!$C11,[1]Feuil1!$D11) | D11: =CONCATENATE([1]Feuil1!$E11,[1]Feuil1!$F11) | E11: =CONCATENATE([1]Feuil1!$G11) | F11: =CONCATENATE([1]Feuil1!H11,[1]Feuil1!I11) | G11: =CONCATENATE([1]Feuil1!$J11,[1]Feuil1!$K11) | I11: =CONCATENATE([1]Feuil1!$M11,[1]Feuil1!$N11) | J11: =CONCATENATE([1]Feuil1!O11,[1]Feuil1!P11) | K11: =CONCATENATE([1]Feuil1!$Q11) | L11: =CONCATENATE([1]Feuil1!R11,[1]Feuil1!S11) | M11: =CONCATENATE([1]Feuil1!$T11,[1]Feuil1!$U11) | N11: =CONCATENATE([1]Feuil1!$V11) | O11: =CONCATENATE([1]Feuil1!W11,[1]Feuil1!X11) | P11: =CONCATENATE([1]Feuil1!$Y11,[1]Feuil1!$Z11) | Q11: =CONCATENATE([1]Feuil1!$AA11) | R11: =CONCATENATE([1]Feuil1!AB11,[1]Feuil1!AC11) | S11: =CONCATENATE([1]Feuil1!$AD11,[1]Feuil1!$AE11) | T11: =CONCATENATE([1]Feuil1!$AF11) | U11: =CONCATENATE([1]Feuil1!AG11,[1]Feuil1!AH11) | V11: =CONCATENATE([1]Feuil1!$AI11,[1]Feuil1!$AJ11) | W11: =CONCATENATE([1]Feuil1!$AK11) -> ANA. CELL. | X11: =CONCATENATE([1]Feuil1!AL11,[1]Feuil1!AM11) -> CB2 N | Y11: =CONCATENATE([1]Feuil1!AN11,[1]Feuil1!AO11) -> CB2 O | Z11: =CONCATENATE([1]Feuil1!$AP11) | AA11: =CONCATENATE([1]Feuil1!AQ11,[1]Feuil1!AR11) -> CB2 P | AB11: =CONCATENATE([1]Feuil1!AS11,[1]Feuil1!AT11) -> CB2 Q | AC11: =CONCATENATE([1]Feuil1!$AU11) | AD11: =CONCATENATE([1]Feuil1!AV11,[1]Feuil1!AW11) | AE11: =CONCATENATE([1]Feuil1!AX11,[1]Feuil1!AY11) | AF11: =CONCATENATE([1]Feuil1!$AZ11) | AG11: =CONCATENATE([1]Feuil1!BA11,[1]Feuil1!BB11) | AH11: =CONCATENATE([1]Feuil1!BC11,[1]Feuil1!BD11) | AI11: =CONCATENATE([1]Feuil1!$BE11) | AJ11: =CONCATENATE([1]Feuil1!$BF11,[1]Feuil1!$BG11) | AK11: =CONCATENATE([1]Feuil1!$BH11,[1]Feuil1!$BI11) | AL11: =CONCATENATE([1]Feuil1!$BJ11) | AM11: =CONCATENATE([1]Feuil1!$BK11,[1]Feuil1!$BL11) | AN11: =CONCATENATE([1]Feuil1!$BM11,[1]Feuil1!$BN11) | AO11: =CONCATENATE([1]Feuil1!$BO11) | AP11: =CONCATENATE([1]Feuil1!$BP11,[1]Feuil1!$BQ11) | AQ11: =CONCATENATE([1]Feuil1!$BR11,[1]Feuil1!$BS11) | AR11: =CONCATENATE([1]Feuil1!$BT11) | AS11: =CONCATENATE([1]Feuil1!$BU11,[1]Feuil1!$BV11) | AT11: =CONCATENATE([1]Feuil1!$BW11,[1]Feuil1!$BX11) | AU11: =CONCATENATE([1]Feuil1!$BY11) | AV11: =CONCATENATE([1]Feuil1!$BZ11,[1]Feuil1!$CA11) | AW11: =CONCATENATE([1]Feuil1!$CB11,[1]Feuil1!$CC11)
A12: =[1]Feuil1!$A12 -> 42766 | B12: =CONCATENATE([1]Feuil1!$B12) -> TP1 | C12: =CONCATENATE([1]Feuil1!$C12,[1]Feuil1!$D12) -> CB1 A | D12: =CONCATENATE([1]Feuil1!$E12,[1]Feuil1!$F12) -> CB1 B | E12: =CONCATENATE([1]Feuil1!$G12) | F12: =CONCATENATE([1]Feuil1!H12,[1]Feuil1!I12) | G12: =CONCATENATE([1]Feuil1!$J12,[1]Feuil1!$K12) | I12: =CONCATENATE([1]Feuil1!$M12,[1]Feuil1!$N12) | J12: =CONCATENATE([1]Feuil1!O12,[1]Feuil1!P12) | K12: =CONCATENATE([1]Feuil1!$Q12) | L12: =CONCATENATE([1]Feuil1!R12,[1]Feuil1!S12) | M12: =CONCATENATE([1]Feuil1!$T12,[1]Feuil1!$U12) | N12: =CONCATENATE([1]Feuil1!$V12) | O12: =CONCATENATE([1]Feuil1!W12,[1]Feuil1!X12) | P12: =CONCATENATE([1]Feuil1!$Y12,[1]Feuil1!$Z12) | Q12: =CONCATENATE([1]Feuil1!$AA12) | R12: =CONCATENATE([1]Feuil1!AB12,[1]Feuil1!AC12) | S12: =CONCATENATE([1]Feuil1!$AD12,[1]Feuil1!$AE12) | T12: =CONCATENATE([1]Feuil1!$AF12) | U12: =CONCATENATE([1]Feuil1!AG12,[1]Feuil1!AH12) | V12: =CONCATENATE([1]Feuil1!$AI12,[1]Feuil1!$AJ12) | W12: =CONCATENATE([1]Feuil1!$AK12) -> ANA. CELL. | X12: =CONCATENATE([1]Feuil1!AL12,[1]Feuil1!AM12) -> DLCB1 | Y12: =CONCATENATE([1]Feuil1!AN12,[1]Feuil1!AO12) | Z12: =CONCATENATE([1]Feuil1!$AP12) | AA12: =CONCATENATE([1]Feuil1!AQ12,[1]Feuil1!AR12) | AB12: =CONCATENATE([1]Feuil1!AS12,[1]Feuil1!AT12) | AC12: =CONCATENATE([1]Feuil1!$AU12) | AD12: =CONCATENATE([1]Feuil1!AV12,[1]Feuil1!AW12) | AE12: =CONCATENATE([1]Feuil1!AX12,[1]Feuil1!AY12) | AF12: =CONCATENATE([1]Feuil1!$AZ12) | AG12: =CONCATENATE([1]Feuil1!BA12,[1]Feuil1!BB12) | AH12: =CONCATENATE([1]Feuil1!BC12,[1]Feuil1!BD12) | AI12: =CONCATENATE([1]Feuil1!$BE12) | AJ12: =CONCATENATE([1]Feuil1!$BF12,[1]Feuil1!$BG12) | AK12: =CONCATENATE([1]Feuil1!$BH12,[1]Feuil1!$BI12) | AL12: =CONCATENATE([1]Feuil1!$BJ12) | AM12: =CONCATENATE([1]Feuil1!$BK12,[1]Feuil1!$BL12) | AN12: =CONCATENATE([1]Feuil1!$BM12,[1]Feuil1!$BN12) | AO12: =CONCATENATE([1]Feuil1!$BO12) | AP12: =CONCATENATE([1]Feuil1!$BP12,[1]Feuil1!$BQ12) | AQ12: =CONCATENATE([1]Feuil1!$BR12,[1]Feuil1!$BS12) | AR12: =CONCATENATE([1]Feuil1!$BT12) | AS12: =CONCATENATE([1]Feuil1!$BU12,[1]Feuil1!$BV12) | AT12: =CONCATENATE([1]Feuil1!$BW12,[1]Feuil1!$BX12) | AU12: =CONCATENATE([1]Feuil1!$BY12) | AV12: =CONCATENATE([1]Feuil1!$BZ12,[1]Feuil1!$CA12) | AW12: =CONCATENATE([1]Feuil1!$CB12,[1]Feuil1!$CC12)
A13: =[1]Feuil1!$A13 -> 42767 | B13: =CONCATENATE([1]Feuil1!$B13) -> TP1 | C13: =CONCATENATE([1]Feuil1!$C13,[1]Feuil1!$D13) -> MPCI1 A | D13: =CONCATENATE([1]Feuil1!$E13,[1]Feuil1!$F13) -> MPCI1 B | E13: =CONCATENATE([1]Feuil1!$G13) | F13: =CONCATENATE([1]Feuil1!H13,[1]Feuil1!I13) | G13: =CONCATENATE([1]Feuil1!$J13,[1]Feuil1!$K13) | I13: =CONCATENATE([1]Feuil1!$M13,[1]Feuil1!$N13) | J13: =CONCATENATE([1]Feuil1!O13,[1]Feuil1!P13) | K13: =CONCATENATE([1]Feuil1!$Q13) | L13: =CONCATENATE([1]Feuil1!R13,[1]Feuil1!S13) | M13: =CONCATENATE([1]Feuil1!$T13,[1]Feuil1!$U13) | N13: =CONCATENATE([1]Feuil1!$V13) | O13: =CONCATENATE([1]Feuil1!W13,[1]Feuil1!X13) | P13: =CONCATENATE([1]Feuil1!$Y13,[1]Feuil1!$Z13) | Q13: =CONCATENATE([1]Feuil1!$AA13) | R13: =CONCATENATE([1]Feuil1!AB13,[1]Feuil1!AC13) | S13: =CONCATENATE([1]Feuil1!$AD13,[1]Feuil1!$AE13) | T13: =CONCATENATE([1]Feuil1!$AF13) | U13: =CONCATENATE([1]Feuil1!AG13,[1]Feuil1!AH13) | V13: =CONCATENATE([1]Feuil1!$AI13,[1]Feuil1!$AJ13) | W13: =CONCATENATE([1]Feuil1!$AK13) -> ANA. CELL. | X13: =CONCATENATE([1]Feuil1!AL13,[1]Feuil1!AM13) -> BI D | Y13: =CONCATENATE([1]Feuil1!AN13,[1]Feuil1!AO13) -> DL BI F | Z13: =CONCATENATE([1]Feuil1!$AP13) | AA13: =CONCATENATE([1]Feuil1!AQ13,[1]Feuil1!AR13) -> BI B | AB13: =CONCATENATE([1]Feuil1!AS13,[1]Feuil1!AT13) -> CB2 R | AC13: =CONCATENATE([1]Feuil1!$AU13) | AD13: =CONCATENATE([1]Feuil1!AV13,[1]Feuil1!AW13) | AE13: =CONCATENATE([1]Feuil1!AX13,[1]Feuil1!AY13) | AF13: =CONCATENATE([1]Feuil1!$AZ13) | AG13: =CONCATENATE([1]Feuil1!BA13,[1]Feuil1!BB13) | AH13: =CONCATENATE([1]Feuil1!BC13,[1]Feuil1!BD13) | AI13: =CONCATENATE([1]Feuil1!$BE13) | AK13: =CONCATENATE([1]Feuil1!$BH13,[1]Feuil1!$BI13) | AL13: =CONCATENATE([1]Feuil1!$BJ13) | AM13: =CONCATENATE([1]Feuil1!$BK13,[1]Feuil1!$BL13) | AN13: =CONCATENATE([1]Feuil1!$BM13,[1]Feuil1!$BN13) | AO13: =CONCATENATE([1]Feuil1!$BO13) | AP13: =CONCATENATE([1]Feuil1!$BP13,[1]Feuil1!$BQ13) | AQ13: =CONCATENATE([1]Feuil1!$BR13,[1]Feuil1!$BS13) | AR13: =CONCATENATE([1]Feuil1!$BT13) | AS13: =CONCATENATE([1]Feuil1!$BU13,[1]Feuil1!$BV13) | AT13: =CONCATENATE([1]Feuil1!$BW13,[1]Feuil1!$BX13) | AU13: =CONCATENATE([1]Feuil1!$BY13) | AV13: =CONCATENATE([1]Feuil1!$BZ13,[1]Feuil1!$CA13) | AW13: =CONCATENATE([1]Feuil1!$CB13,[1]Feuil1!$CC13)
A14: =[1]Feuil1!$A14 -> 42768 | B14: =CONCATENATE([1]Feuil1!$B14) | C14: =CONCATENATE([1]Feuil1!$C14,[1]Feuil1!$D14) | D14: =CONCATENATE([1]Feuil1!$E14,[1]Feuil1!$F14) | E14: =CONCATENATE([1]Feuil1!$G14) | F14: =CONCATENATE([1]Feuil1!H14,[1]Feuil1!I14) | G14: =CONCATENATE([1]Feuil1!$J14,[1]Feuil1!$K14) | I14: =CONCATENATE([1]Feuil1!$M14,[1]Feuil1!$N14) | J14: =CONCATENATE([1]Feuil1!O14,[1]Feuil1!P14) | K14: =CONCATENATE([1]Feuil1!$Q14) | L14: =CONCATENATE([1]Feuil1!R14,[1]Feuil1!S14) | M14: =CONCATENATE([1]Feuil1!$T14,[1]Feuil1!$U14) | N14: =CONCATENATE([1]Feuil1!$V14) | O14: =CONCATENATE([1]Feuil1!W14,[1]Feuil1!X14) | P14: =CONCATENATE([1]Feuil1!$Y14,[1]Feuil1!$Z14) | Q14: =CONCATENATE([1]Feuil1!$AA14) | R14: =CONCATENATE([1]Feuil1!AB14,[1]Feuil1!AC14) | S14: =CONCATENATE([1]Feuil1!$AD14,[1]Feuil1!$AE14) | T14: =CONCATENATE([1]Feuil1!$AF14) | U14: =CONCATENATE([1]Feuil1!AG14,[1]Feuil1!AH14) | V14: =CONCATENATE([1]Feuil1!$AI14,[1]Feuil1!$AJ14) | W14: =CONCATENATE([1]Feuil1!$AK14) | X14: =CONCATENATE([1]Feuil1!AL14,[1]Feuil1!AM14) | Y14: =CONCATENATE([1]Feuil1!AN14,[1]Feuil1!AO14) | Z14: =CONCATENATE([1]Feuil1!$AP14) | AA14: =CONCATENATE([1]Feuil1!AQ14,[1]Feuil1!AR14) | AB14: =CONCATENATE([1]Feuil1!AS14,[1]Feuil1!AT14) | AC14: =CONCATENATE([1]Feuil1!$AU14) | AD14: =CONCATENATE([1]Feuil1!AV14,[1]Feuil1!AW14) | AE14: =CONCATENATE([1]Feuil1!AX14,[1]Feuil1!AY14) | AF14: =CONCATENATE([1]Feuil1!$AZ14) | AG14: =CONCATENATE([1]Feuil1!BA14,[1]Feuil1!BB14) | AH14: =CONCATENATE([1]Feuil1!BC14,[1]Feuil1!BD14) | AI14: =CONCATENATE([1]Feuil1!$BE14) | AJ14: =CONCATENATE([1]Feuil1!$BF13,[1]Feuil1!$BG13) | AK14: =CONCATENATE([1]Feuil1!$BH14,[1]Feuil1!$BI14) | AL14: =CONCATENATE([1]Feuil1!$BJ14) | AM14: =CONCATENATE([1]Feuil1!$BK14,[1]Feuil1!$BL14) | AN14: =CONCATENATE([1]Feuil1!$BM14,[1]Feuil1!$BN14) | AO14: =CONCATENATE([1]Feuil1!$BO14) | AP14: =CONCATENATE([1]Feuil1!$BP14,[1]Feuil1!$BQ14) | AQ14: =CONCATENATE([1]Feuil1!$BR14,[1]Feuil1!$BS14) | AR14: =CONCATENATE([1]Feuil1!$BT14) | AS14: =CONCATENATE([1]Feuil1!$BU14,[1]Feuil1!$BV14) | AT14: =CONCATENATE([1]Feuil1!$BW14,[1]Feuil1!$BX14) | AU14: =CONCATENATE([1]Feuil1!$BY14) | AV14: =CONCATENATE([1]Feuil1!$BZ14,[1]Feuil1!$CA14) | AW14: =CONCATENATE([1]Feuil1!$CB14,[1]Feuil1!$CC14)
A15: =[1]Feuil1!$A15 -> 42769 | B15: =CONCATENATE([1]Feuil1!$B15) -> TP1 | C15: =CONCATENATE([1]Feuil1!$C15,[1]Feuil1!$D15) -> CB1 C | D15: =CONCATENATE([1]Feuil1!$E15,[1]Feuil1!$F15) -> CB1 D | E15: =CONCATENATE([1]Feuil1!$G15) | F15: =CONCATENATE([1]Feuil1!H15,[1]Feuil1!I15) | G15: =CONCATENATE([1]Feuil1!$J15,[1]Feuil1!$K15) | I15: =CONCATENATE([1]Feuil1!$M15,[1]Feuil1!$N15) | J15: =CONCATENATE([1]Feuil1!O15,[1]Feuil1!P15) | K15: =CONCATENATE([1]Feuil1!$Q15) | L15: =CONCATENATE([1]Feuil1!R15,[1]Feuil1!S15) | M15: =CONCATENATE([1]Feuil1!$T15,[1]Feuil1!$U15) | N15: =CONCATENATE([1]Feuil1!$V15) | O15: =CONCATENATE([1]Feuil1!W15,[1]Feuil1!X15) | P15: =CONCATENATE([1]Feuil1!$Y15,[1]Feuil1!$Z15) | Q15: =CONCATENATE([1]Feuil1!$AA15) | R15: =CONCATENATE([1]Feuil1!AB15,[1]Feuil1!AC15) | S15: =CONCATENATE([1]Feuil1!$AD15,[1]Feuil1!$AE15) | T15: =CONCATENATE([1]Feuil1!$AF15) | U15: =CONCATENATE([1]Feuil1!AG15,[1]Feuil1!AH15) | V15: =CONCATENATE([1]Feuil1!$AI15,[1]Feuil1!$AJ15) | W15: =CONCATENATE([1]Feuil1!$AK15) -> ANA. CELL. | X15: =CONCATENATE([1]Feuil1!AL15,[1]Feuil1!AM15) -> DLCB2 | Y15: =CONCATENATE([1]Feuil1!AN15,[1]Feuil1!AO15) -> BI G | Z15: =CONCATENATE([1]Feuil1!$AP15) | AA15: =CONCATENATE([1]Feuil1!AQ15,[1]Feuil1!AR15) | AB15: =CONCATENATE([1]Feuil1!AS15,[1]Feuil1!AT15) -> BI H | AC15: =CONCATENATE([1]Feuil1!$AU15) | AD15: =CONCATENATE([1]Feuil1!AV15,[1]Feuil1!AW15) | AE15: =CONCATENATE([1]Feuil1!AX15,[1]Feuil1!AY15) | AF15: =CONCATENATE([1]Feuil1!$AZ15) | AG15: =CONCATENATE([1]Feuil1!BA15,[1]Feuil1!BB15) | AH15: =CONCATENATE([1]Feuil1!BC15,[1]Feuil1!BD15) | AI15: =CONCATENATE([1]Feuil1!$BE15) | AJ15: =CONCATENATE([1]Feuil1!$BF15,[1]Feuil1!$BG15) | AK15: =CONCATENATE([1]Feuil1!$BH15,[1]Feuil1!$BI15) | AL15: =CONCATENATE([1]Feuil1!$BJ15) | AM15: =CONCATENATE([1]Feuil1!$BK15,[1]Feuil1!$BL15) | AN15: =CONCATENATE([1]Feuil1!$BM15,[1]Feuil1!$BN15) | AO15: =CONCATENATE([1]Feuil1!$BO15) | AP15: =CONCATENATE([1]Feuil1!$BP15,[1]Feuil1!$BQ15) | AQ15: =CONCATENATE([1]Feuil1!$BR15,[1]Feuil1!$BS15) | AR15: =CONCATENATE([1]Feuil1!$BT15) | AS15: =CONCATENATE([1]Feuil1!$BU15,[1]Feuil1!$BV15) | AT15: =CONCATENATE([1]Feuil1!$BW15,[1]Feuil1!$BX15) | AU15: =CONCATENATE([1]Feuil1!$BY15) | AV15: =CONCATENATE([1]Feuil1!$BZ15,[1]Feuil1!$CA15) | AW15: =CONCATENATE([1]Feuil1!$CB15,[1]Feuil1!$CC15)
B16: =CONCATENATE([1]Feuil1!$B16) | E16: =CONCATENATE([1]Feuil1!$G16) | K16: =CONCATENATE([1]Feuil1!$Q16) | N16: =CONCATENATE([1]Feuil1!$V16) | Q16: =CONCATENATE([1]Feuil1!$AA16) | T16: =CONCATENATE([1]Feuil1!$AF16) | W16: =CONCATENATE([1]Feuil1!$AK16) | Z16: =CONCATENATE([1]Feuil1!$AP16) | AC16: =CONCATENATE([1]Feuil1!$AU16) | AF16: =CONCATENATE([1]Feuil1!$AZ16) | AI16: =CONCATENATE([1]Feuil1!$BE16) | AL16: =CONCATENATE([1]Feuil1!$BJ16) | AO16: =CONCATENATE([1]Feuil1!$BO16) | AR16: =CONCATENATE([1]Feuil1!$BT16) | AU16: =CONCATENATE([1]Feuil1!$BY16)
A17: =[1]Feuil1!$A17 -> 42772 | B17: =CONCATENATE([1]Feuil1!$B17) -> TP1 | C17: =CONCATENATE([1]Feuil1!$C17,[1]Feuil1!$D17) | D17: =CONCATENATE([1]Feuil1!$E17,[1]Feuil1!$F17) -> DLMP1 | E17: =CONCATENATE([1]Feuil1!$G17) -> TP1 | F17: =CONCATENATE([1]Feuil1!H17,[1]Feuil1!I17) -> CB2 M | G17: =CONCATENATE([1]Feuil1!$J17,[1]Feuil1!$K17) -> CB2 N | I17: =CONCATENATE([1]Feuil1!$M17,[1]Feuil1!$N17) -> CB2 O | J17: =CONCATENATE([1]Feuil1!O17,[1]Feuil1!P17) -> CB2 P | K17: =CONCATENATE([1]Feuil1!$Q17) | L17: =CONCATENATE([1]Feuil1!R17,[1]Feuil1!S17) | M17: =CONCATENATE([1]Feuil1!$T17,[1]Feuil1!$U17) | N17: =CONCATENATE([1]Feuil1!$V17) | O17: =CONCATENATE([1]Feuil1!W17,[1]Feuil1!X17) | P17: =CONCATENATE([1]Feuil1!$Y17,[1]Feuil1!$Z17) | Q17: =CONCATENATE([1]Feuil1!$AA17) | R17: =CONCATENATE([1]Feuil1!AB17,[1]Feuil1!AC17) | S17: =CONCATENATE([1]Feuil1!$AD17,[1]Feuil1!$AE17) | T17: =CONCATENATE([1]Feuil1!$AF17) | U17: =CONCATENATE([1]Feuil1!AG17,[1]Feuil1!AH17) | V17: =CONCATENATE([1]Feuil1!$AI17,[1]Feuil1!$AJ17) | W17: =CONCATENATE([1]Feuil1!$AK17) | X17: =CONCATENATE([1]Feuil1!AL17,[1]Feuil1!AM17) | Y17: =CONCATENATE([1]Feuil1!AN17,[1]Feuil1!AO17) | Z17: =CONCATENATE([1]Feuil1!$AP17) | AA17: =CONCATENATE([1]Feuil1!AQ17,[1]Feuil1!AR17) | AB17: =CONCATENATE([1]Feuil1!AS17,[1]Feuil1!AT17) | AC17: =CONCATENATE([1]Feuil1!$AU17) | AD17: =CONCATENATE([1]Feuil1!AV17,[1]Feuil1!AW17) | AE17: =CONCATENATE([1]Feuil1!AX17,[1]Feuil1!AY17) | AF17: =CONCATENATE([1]Feuil1!$AZ17) | AG17: =CONCATENATE([1]Feuil1!BA17,[1]Feuil1!BB17) | AH17: =CONCATENATE([1]Feuil1!BC17,[1]Feuil1!BD17) | AI17: =CONCATENATE([1]Feuil1!$BE17) | AJ17: =CONCATENATE([1]Feuil1!$BF17,[1]Feuil1!$BG17) | AK17: =CONCATENATE([1]Feuil1!$BH17,[1]Feuil1!$BI17) | AL17: =CONCATENATE([1]Feuil1!$BJ17) | AM17: =CONCATENATE([1]Feuil1!$BK17,[1]Feuil1!$BL17) -> CB2 I | AN17: =CONCATENATE([1]Feuil1!$BM17,[1]Feuil1!$BN17) -> CB2 J | AO17: =CONCATENATE([1]Feuil1!$BO17) | AP17: =CONCATENATE([1]Feuil1!$BP17,[1]Feuil1!$BQ17) -> CB2 K | AQ17: =CONCATENATE([1]Feuil1!$BR17,[1]Feuil1!$BS17) -> CB2 L | AR17: =CONCATENATE([1]Feuil1!$BT17) | AS17: =CONCATENATE([1]Feuil1!$BU17,[1]Feuil1!$BV17) | AT17: =CONCATENATE([1]Feuil1!$BW17,[1]Feuil1!$BX17) | AU17: =CONCATENATE([1]Feuil1!$BY17) | AV17: =CONCATENATE([1]Feuil1!$BZ17,[1]Feuil1!$CA17) | AW17: =CONCATENATE([1]Feuil1!$CB17,[1]Feuil1!$CC17)
A18: =[1]Feuil1!$A18 -> 42773 | B18: =CONCATENATE([1]Feuil1!$B18) -> TP1 | C18: =CONCATENATE([1]Feuil1!$C18,[1]Feuil1!$D18) -> DLCB1 | D18: =CONCATENATE([1]Feuil1!$E18,[1]Feuil1!$F18) -> CB1 E | E18: =CONCATENATE([1]Feuil1!$G18) -> TP1 | F18: =CONCATENATE([1]Feuil1!H18,[1]Feuil1!I18) -> CB1 A | G18: =CONCATENATE([1]Feuil1!$J18,[1]Feuil1!$K18) -> CB1 B | I18: =CONCATENATE([1]Feuil1!$M18,[1]Feuil1!$N18) -> CB1 C | J18: =CONCATENATE([1]Feuil1!O18,[1]Feuil1!P18) -> CB1 D | K18: =CONCATENATE([1]Feuil1!$Q18) | L18: =CONCATENATE([1]Feuil1!R18,[1]Feuil1!S18) | M18: =CONCATENATE([1]Feuil1!$T18,[1]Feuil1!$U18) | N18: =CONCATENATE([1]Feuil1!$V18) | O18: =CONCATENATE([1]Feuil1!W18,[1]Feuil1!X18) | P18: =CONCATENATE([1]Feuil1!$Y18,[1]Feuil1!$Z18) | Q18: =CONCATENATE([1]Feuil1!$AA18) | R18: =CONCATENATE([1]Feuil1!AB18,[1]Feuil1!AC18) | S18: =CONCATENATE([1]Feuil1!$AD18,[1]Feuil1!$AE18) | T18: =CONCATENATE([1]Feuil1!$AF18) | U18: =CONCATENATE([1]Feuil1!AG18,[1]Feuil1!AH18) | V18: =CONCATENATE([1]Feuil1!$AI18,[1]Feuil1!$AJ18) | W18: =CONCATENATE([1]Feuil1!$AK18) | X18: =CONCATENATE([1]Feuil1!AL18,[1]Feuil1!AM18) | Y18: =CONCATENATE([1]Feuil1!AN18,[1]Feuil1!AO18) | Z18: =CONCATENATE([1]Feuil1!$AP18) | AA18: =CONCATENATE([1]Feuil1!AQ18,[1]Feuil1!AR18) | AB18: =CONCATENATE([1]Feuil1!AS18,[1]Feuil1!AT18) | AC18: =CONCATENATE([1]Feuil1!$AU18) | AD18: =CONCATENATE([1]Feuil1!AV18,[1]Feuil1!AW18) | AE18: =CONCATENATE([1]Feuil1!AX18,[1]Feuil1!AY18) | AF18: =CONCATENATE([1]Feuil1!$AZ18) | AG18: =CONCATENATE([1]Feuil1!BA18,[1]Feuil1!BB18) | AH18: =CONCATENATE([1]Feuil1!BC18,[1]Feuil1!BD18) | AI18: =CONCATENATE([1]Feuil1!$BE18) | AJ18: =CONCATENATE([1]Feuil1!$BF18,[1]Feuil1!$BG18) | AK18: =CONCATENATE([1]Feuil1!$BH18,[1]Feuil1!$BI18) | AL18: =CONCATENATE([1]Feuil1!$BJ18) | AM18: =CONCATENATE([1]Feuil1!$BK18,[1]Feuil1!$BL18) -> DL BI A | AN18: =CONCATENATE([1]Feuil1!$BM18,[1]Feuil1!$BN18) -> BI F | AO18: =CONCATENATE([1]Feuil1!$BO18) | AP18: =CONCATENATE([1]Feuil1!$BP18,[1]Feuil1!$BQ18) -> BI B | AQ18: =CONCATENATE([1]Feuil1!$BR18,[1]Feuil1!$BS18) -> CB2 M | AR18: =CONCATENATE([1]Feuil1!$BT18) | AS18: =CONCATENATE([1]Feuil1!$BU18,[1]Feuil1!$BV18) | AT18: =CONCATENATE([1]Feuil1!$BW18,[1]Feuil1!$BX18) | AU18: =CONCATENATE([1]Feuil1!$BY18) | AV18: =CONCATENATE([1]Feuil1!$BZ18,[1]Feuil1!$CA18) | AW18: =CONCATENATE([1]Feuil1!$CB18,[1]Feuil1!$CC18)
A19: =[1]Feuil1!$A19 -> 42774 | B19: =CONCATENATE([1]Feuil1!$B19) -> TP1 | C19: =CONCATENATE([1]Feuil1!$C19,[1]Feuil1!$D19) -> MPCI1 G | D19: =CONCATENATE([1]Feuil1!$E19,[1]Feuil1!$F19) -> MPCI1 H | E19: =CONCATENATE([1]Feuil1!$G19) -> TP1 | F19: =CONCATENATE([1]Feuil1!H19,[1]Feuil1!I19) -> BI B | G19: =CONCATENATE([1]Feuil1!$J19,[1]Feuil1!$K19) -> CB2 J | I19: =CONCATENATE([1]Feuil1!$M19,[1]Feuil1!$N19) -> CB2 K | J19: =CONCATENATE([1]Feuil1!O19,[1]Feuil1!P19) -> CB2 L | K19: =CONCATENATE([1]Feuil1!$Q19) | L19: =CONCATENATE([1]Feuil1!R19,[1]Feuil1!S19) | M19: =CONCATENATE([1]Feuil1!$T19,[1]Feuil1!$U19) | N19: =CONCATENATE([1]Feuil1!$V19) | O19: =CONCATENATE([1]Feuil1!W19,[1]Feuil1!X19) | P19: =CONCATENATE([1]Feuil1!$Y19,[1]Feuil1!$Z19) | Q19: =CONCATENATE([1]Feuil1!$AA19) | R19: =CONCATENATE([1]Feuil1!AB19,[1]Feuil1!AC19) | S19: =CONCATENATE([1]Feuil1!$AD19,[1]Feuil1!$AE19) | T19: =CONCATENATE([1]Feuil1!$AF19) | U19: =CONCATENATE([1]Feuil1!AG19,[1]Feuil1!AH19) | V19: =CONCATENATE([1]Feuil1!$AI19,[1]Feuil1!$AJ19) | W19: =CONCATENATE([1]Feuil1!$AK19) | X19: =CONCATENATE([1]Feuil1!AL19,[1]Feuil1!AM19) | Y19: =CONCATENATE([1]Feuil1!AN19,[1]Feuil1!AO19) | Z19: =CONCATENATE([1]Feuil1!$AP19) | AA19: =CONCATENATE([1]Feuil1!AQ19,[1]Feuil1!AR19) | AB19: =CONCATENATE([1]Feuil1!AS19,[1]Feuil1!AT19) | AC19: =CONCATENATE([1]Feuil1!$AU19) | AD19: =CONCATENATE([1]Feuil1!AV19,[1]Feuil1!AW19) | AE19: =CONCATENATE([1]Feuil1!AX19,[1]Feuil1!AY19) | AF19: =CONCATENATE([1]Feuil1!$AZ19) | AG19: =CONCATENATE([1]Feuil1!BA19,[1]Feuil1!BB19) | AH19: =CONCATENATE([1]Feuil1!BC19,[1]Feuil1!BD19) | AI19: =CONCATENATE([1]Feuil1!$BE19) | AJ19: =CONCATENATE([1]Feuil1!$BF19,[1]Feuil1!$BG19) | AK19: =CONCATENATE([1]Feuil1!$BH19,[1]Feuil1!$BI19) | AL19: =CONCATENATE([1]Feuil1!$BJ19) | AM19: =CONCATENATE([1]Feuil1!$BK19,[1]Feuil1!$BL19) | AN19: =CONCATENATE([1]Feuil1!$BM19,[1]Feuil1!$BN19) | AO19: =CONCATENATE([1]Feuil1!$BO19) | AP19: =CONCATENATE([1]Feuil1!$BP19,[1]Feuil1!$BQ19) | AQ19: =CONCATENATE([1]Feuil1!$BR19,[1]Feuil1!$BS19) | AR19: =CONCATENATE([1]Feuil1!$BT19) | AS19: =CONCATENATE([1]Feuil1!$BU19,[1]Feuil1!$BV19) | AT19: =CONCATENATE([1]Feuil1!$BW19,[1]Feuil1!$BX19) | AU19: =CONCATENATE([1]Feuil1!$BY19) | AV19: =CONCATENATE([1]Feuil1!$BZ19,[1]Feuil1!$CA19) | AW19: =CONCATENATE([1]Feuil1!$CB19,[1]Feuil1!$CC19)
A20: =[1]Feuil1!$A20 -> 42775 | B20: =CONCATENATE([1]Feuil1!$B20) | C20: =CONCATENATE([1]Feuil1!$C20,[1]Feuil1!$D20) | D20: =CONCATENATE([1]Feuil1!$E20,[1]Feuil1!$F20) | E20: =CONCATENATE([1]Feuil1!$G20) | F20: =CONCATENATE([1]Feuil1!H20,[1]Feuil1!I20) | G20: =CONCATENATE([1]Feuil1!$J20,[1]Feuil1!$K20) | I20: =CONCATENATE([1]Feuil1!$M20,[1]Feuil1!$N20) | J20: =CONCATENATE([1]Feuil1!O20,[1]Feuil1!P20) | K20: =CONCATENATE([1]Feuil1!$Q20) | L20: =CONCATENATE([1]Feuil1!R20,[1]Feuil1!S20) | M20: =CONCATENATE([1]Feuil1!$T20,[1]Feuil1!$U20) | N20: =CONCATENATE([1]Feuil1!$V20) | O20: =CONCATENATE([1]Feuil1!W20,[1]Feuil1!X20) | P20: =CONCATENATE([1]Feuil1!$Y20,[1]Feuil1!$Z20) | Q20: =CONCATENATE([1]Feuil1!$AA20) | R20: =CONCATENATE([1]Feuil1!AB20,[1]Feuil1!AC20) | S20: =CONCATENATE([1]Feuil1!$AD20,[1]Feuil1!$AE20) | T20: =CONCATENATE([1]Feuil1!$AF20) | U20: =CONCATENATE([1]Feuil1!AG20,[1]Feuil1!AH20) | V20: =CONCATENATE([1]Feuil1!$AI20,[1]Feuil1!$AJ20) | W20: =CONCATENATE([1]Feuil1!$AK20) | X20: =CONCATENATE([1]Feuil1!AL20,[1]Feuil1!AM20) | Y20: =CONCATENATE([1]Feuil1!AN20,[1]Feuil1!AO20) | Z20: =CONCATENATE([1]Feuil1!$AP20) | AA20: =CONCATENATE([1]Feuil1!AQ20,[1]Feuil1!AR20) | AB20: =CONCATENATE([1]Feuil1!AS20,[1]Feuil1!AT20) | AC20: =CONCATENATE([1]Feuil1!$AU20) | AD20: =CONCATENATE([1]Feuil1!AV20,[1]Feuil1!AW20) | AE20: =CONCATENATE([1]Feuil1!AX20,[1]Feuil1!AY20) | AF20: =CONCATENATE([1]Feuil1!$AZ20) | AG20: =CONCATENATE([1]Feuil1!BA20,[1]Feuil1!BB20) | AH20: =CONCATENATE([1]Feuil1!BC20,[1]Feuil1!BD20) | AI20: =CONCATENATE([1]Feuil1!$BE20) | AJ20: =CONCATENATE([1]Feuil1!$BF20,[1]Feuil1!$BG20) | AK20: =CONCATENATE([1]Feuil1!$BH20,[1]Feuil1!$BI20) | AL20: =CONCATENATE([1]Feuil1!$BJ20) | AM20: =CONCATENATE([1]Feuil1!$BK20,[1]Feuil1!$BL20) | AN20: =CONCATENATE([1]Feuil1!$BM20,[1]Feuil1!$BN20) | AO20: =CONCATENATE([1]Feuil1!$BO20) | AP20: =CONCATENATE([1]Feuil1!$BP20,[1]Feuil1!$BQ20) | AQ20: =CONCATENATE([1]Feuil1!$BR20,[1]Feuil1!$BS20) | AR20: =CONCATENATE([1]Feuil1!$BT20) | AS20: =CONCATENATE([1]Feuil1!$BU20,[1]Feuil1!$BV20) | AT20: =CONCATENATE([1]Feuil1!$BW20,[1]Feuil1!$BX20) | AU20: =CONCATENATE([1]Feuil1!$BY20) | AV20: =CONCATENATE([1]Feuil1!$BZ20,[1]Feuil1!$CA20) | AW20: =CONCATENATE([1]Feuil1!$CB20,[1]Feuil1!$CC20)
A21: =[1]Feuil1!$A21 -> 42776 | B21: =CONCATENATE([1]Feuil1!$B21) -> TP1 | C21: =CONCATENATE([1]Feuil1!$C21,[1]Feuil1!$D21) -> CB1 F | D21: =CONCATENATE([1]Feuil1!$E21,[1]Feuil1!$F21) -> DLCB2 | E21: =CONCATENATE([1]Feuil1!$G21) -> TP1 | F21: =CONCATENATE([1]Feuil1!H21,[1]Feuil1!I21) -> DLCB2 | G21: =CONCATENATE([1]Feuil1!$J21,[1]Feuil1!$K21) -> DLCB1 | I21: =CONCATENATE([1]Feuil1!$M21,[1]Feuil1!$N21) -> CB1 E | J21: =CONCATENATE([1]Feuil1!O21,[1]Feuil1!P21) -> CB1 F | K21: =CONCATENATE([1]Feuil1!$Q21) | L21: =CONCATENATE([1]Feuil1!R21,[1]Feuil1!S21) | M21: =CONCATENATE([1]Feuil1!$T21,[1]Feuil1!$U21) | N21: =CONCATENATE([1]Feuil1!$V21) | O21: =CONCATENATE([1]Feuil1!W21,[1]Feuil1!X21) | P21: =CONCATENATE([1]Feuil1!$Y21,[1]Feuil1!$Z21) | Q21: =CONCATENATE([1]Feuil1!$AA21) | R21: =CONCATENATE([1]Feuil1!AB21,[1]Feuil1!AC21) | S21: =CONCATENATE([1]Feuil1!$AD21,[1]Feuil1!$AE21) | T21: =CONCATENATE([1]Feuil1!$AF21) | U21: =CONCATENATE([1]Feuil1!AG21,[1]Feuil1!AH21) | V21: =CONCATENATE([1]Feuil1!$AI21,[1]Feuil1!$AJ21) | W21: =CONCATENATE([1]Feuil1!$AK21) | X21: =CONCATENATE([1]Feuil1!AL21,[1]Feuil1!AM21) | Y21: =CONCATENATE([1]Feuil1!AN21,[1]Feuil1!AO21) | Z21: =CONCATENATE([1]Feuil1!$AP21) | AA21: =CONCATENATE([1]Feuil1!AQ21,[1]Feuil1!AR21) | AB21: =CONCATENATE([1]Feuil1!AS21,[1]Feuil1!AT21) | AC21: =CONCATENATE([1]Feuil1!$AU21) | AD21: =CONCATENATE([1]Feuil1!AV21,[1]Feuil1!AW21) | AE21: =CONCATENATE([1]Feuil1!AX21,[1]Feuil1!AY21) | AF21: =CONCATENATE([1]Feuil1!$AZ21) | AG21: =CONCATENATE([1]Feuil1!BA21,[1]Feuil1!BB21) | AH21: =CONCATENATE([1]Feuil1!BC21,[1]Feuil1!BD21) | AI21: =CONCATENATE([1]Feuil1!$BE21) | AJ21: =CONCATENATE([1]Feuil1!$BF21,[1]Feuil1!$BG21) | AK21: =CONCATENATE([1]Feuil1!$BH21,[1]Feuil1!$BI21) | AL21: =CONCATENATE([1]Feuil1!$BJ21) | AM21: =CONCATENATE([1]Feuil1!$BK21,[1]Feuil1!$BL21) | AN21: =CONCATENATE([1]Feuil1!$BM21,[1]Feuil1!$BN21) -> BI G | AO21: =CONCATENATE([1]Feuil1!$BO21) | AP21: =CONCATENATE([1]Feuil1!$BP21,[1]Feuil1!$BQ21) | AQ21: =CONCATENATE([1]Feuil1!$BR21,[1]Feuil1!$BS21) -> BI H | AR21: =CONCATENATE([1]Feuil1!$BT21) | AS21: =CONCATENATE([1]Feuil1!$BU21,[1]Feuil1!$BV21) | AT21: =CONCATENATE([1]Feuil1!$BW21,[1]Feuil1!$BX21) | AU21: =CONCATENATE([1]Feuil1!$BY21) | AV21: =CONCATENATE([1]Feuil1!$BZ21,[1]Feuil1!$CA21) | AW21: =CONCATENATE([1]Feuil1!$CB21,[1]Feuil1!$CC21)
B22: =CONCATENATE([1]Feuil1!$B22) | E22: =CONCATENATE([1]Feuil1!$G22) | K22: =CONCATENATE([1]Feuil1!$Q22) | N22: =CONCATENATE([1]Feuil1!$V22) | Q22: =CONCATENATE([1]Feuil1!$AA22) | T22: =CONCATENATE([1]Feuil1!$AF22) | W22: =CONCATENATE([1]Feuil1!$AK22) | Z22: =CONCATENATE([1]Feuil1!$AP22) | AC22: =CONCATENATE([1]Feuil1!$AU22) | AF22: =CONCATENATE([1]Feuil1!$AZ22) | AI22: =CONCATENATE([1]Feuil1!$BE22) | AL22: =CONCATENATE([1]Feuil1!$BJ22) | AO22: =CONCATENATE([1]Feuil1!$BO22) | AR22: =CONCATENATE([1]Feuil1!$BT22) | AU22: =CONCATENATE([1]Feuil1!$BY22)
A23: =[1]Feuil1!$A23 -> 42779 | B23: =CONCATENATE([1]Feuil1!$B23) | C23: =CONCATENATE([1]Feuil1!$C23,[1]Feuil1!$D23) | D23: =CONCATENATE([1]Feuil1!$E23,[1]Feuil1!$F23) | E23: =CONCATENATE([1]Feuil1!$G23) | F23: =CONCATENATE([1]Feuil1!H23,[1]Feuil1!I23) | G23: =CONCATENATE([1]Feuil1!$J23,[1]Feuil1!$K23) | I23: =CONCATENATE([1]Feuil1!$M23,[1]Feuil1!$N23) | J23: =CONCATENATE([1]Feuil1!O23,[1]Feuil1!P23) | K23: =CONCATENATE([1]Feuil1!$Q23) | L23: =CONCATENATE([1]Feuil1!R23,[1]Feuil1!S23) | M23: =CONCATENATE([1]Feuil1!$T23,[1]Feuil1!$U23) | N23: =CONCATENATE([1]Feuil1!$V23) | O23: =CONCATENATE([1]Feuil1!W23,[1]Feuil1!X23) | P23: =CONCATENATE([1]Feuil1!$Y23,[1]Feuil1!$Z23) | Q23: =CONCATENATE([1]Feuil1!$AA23) | R23: =CONCATENATE([1]Feuil1!AB23,[1]Feuil1!AC23) | S23: =CONCATENATE([1]Feuil1!$AD23,[1]Feuil1!$AE23) | T23: =CONCATENATE([1]Feuil1!$AF23) | U23: =CONCATENATE([1]Feuil1!AG23,[1]Feuil1!AH23) | V23: =CONCATENATE([1]Feuil1!$AI23,[1]Feuil1!$AJ23) | W23: =CONCATENATE([1]Feuil1!$AK23) | X23: =CONCATENATE([1]Feuil1!AL23,[1]Feuil1!AM23) | Y23: =CONCATENATE([1]Feuil1!AN23,[1]Feuil1!AO23) | Z23: =CONCATENATE([1]Feuil1!$AP23) | AA23: =CONCATENATE([1]Feuil1!AQ23,[1]Feuil1!AR23) | AB23: =CONCATENATE([1]Feuil1!AS23,[1]Feuil1!AT23) | AC23: =CONCATENATE([1]Feuil1!$AU23) | AD23: =CONCATENATE([1]Feuil1!AV23,[1]Feuil1!AW23) | AE23: =CONCATENATE([1]Feuil1!AX23,[1]Feuil1!AY23) | AF23: =CONCATENATE([1]Feuil1!$AZ23) | AG23: =CONCATENATE([1]Feuil1!BA23,[1]Feuil1!BB23) | AH23: =CONCATENATE([1]Feuil1!BC23,[1]Feuil1!BD23) | AI23: =CONCATENATE([1]Feuil1!$BE23) | AJ23: =CONCATENATE([1]Feuil1!$BF23,[1]Feuil1!$BG23) | AK23: =CONCATENATE([1]Feuil1!$BH23,[1]Feuil1!$BI23) | AL23: =CONCATENATE([1]Feuil1!$BJ23) | AM23: =CONCATENATE([1]Feuil1!$BK23,[1]Feuil1!$BL23) | AN23: =CONCATENATE([1]Feuil1!$BM23,[1]Feuil1!$BN23) | AO23: =CONCATENATE([1]Feuil1!$BO23) | AP23: =CONCATENATE([1]Feuil1!$BP23,[1]Feuil1!$BQ23) | AQ23: =CONCATENATE([1]Feuil1!$BR23,[1]Feuil1!$BS23) | AR23: =CONCATENATE([1]Feuil1!$BT23) | AS23: =CONCATENATE([1]Feuil1!$BU23,[1]Feuil1!$BV23) | AT23: =CONCATENATE([1]Feuil1!$BW23,[1]Feuil1!$BX23) | AU23: =CONCATENATE([1]Feuil1!$BY23) | AV23: =CONCATENATE([1]Feuil1!$BZ23,[1]Feuil1!$CA23) | AW23: =CONCATENATE([1]Feuil1!$CB23,[1]Feuil1!$CC23)
A24: =[1]Feuil1!$A24 -> 42780 | B24: =CONCATENATE([1]Feuil1!$B24) | C24: =CONCATENATE([1]Feuil1!$C24,[1]Feuil1!$D24) | D24: =CONCATENATE([1]Feuil1!$E24,[1]Feuil1!$F24) | E24: =CONCATENATE([1]Feuil1!$G24) | F24: =CONCATENATE([1]Feuil1!H24,[1]Feuil1!I24) | G24: =CONCATENATE([1]Feuil1!$J24,[1]Feuil1!$K24) | I24: =CONCATENATE([1]Feuil1!$M24,[1]Feuil1!$N24) | J24: =CONCATENATE([1]Feuil1!O24,[1]Feuil1!P24) | K24: =CONCATENATE([1]Feuil1!$Q24) | L24: =CONCATENATE([1]Feuil1!R24,[1]Feuil1!S24) | M24: =CONCATENATE([1]Feuil1!$T24,[1]Feuil1!$U24) | N24: =CONCATENATE([1]Feuil1!$V24) | O24: =CONCATENATE([1]Feuil1!W24,[1]Feuil1!X24) | P24: =CONCATENATE([1]Feuil1!$Y24,[1]Feuil1!$Z24) | Q24: =CONCATENATE([1]Feuil1!$AA24) | R24: =CONCATENATE([1]Feuil1!AB24,[1]Feuil1!AC24) | S24: =CONCATENATE([1]Feuil1!$AD24,[1]Feuil1!$AE24) | T24: =CONCATENATE([1]Feuil1!$AF24) | U24: =CONCATENATE([1]Feuil1!AG24,[1]Feuil1!AH24) | V24: =CONCATENATE([1]Feuil1!$AI24,[1]Feuil1!$AJ24) | W24: =CONCATENATE([1]Feuil1!$AK24) | X24: =CONCATENATE([1]Feuil1!AL24,[1]Feuil1!AM24) | Y24: =CONCATENATE([1]Feuil1!AN24,[1]Feuil1!AO24) | Z24: =CONCATENATE([1]Feuil1!$AP24) | AA24: =CONCATENATE([1]Feuil1!AQ24,[1]Feuil1!AR24) | AB24: =CONCATENATE([1]Feuil1!AS24,[1]Feuil1!AT24) | AC24: =CONCATENATE([1]Feuil1!$AU24) | AD24: =CONCATENATE([1]Feuil1!AV24,[1]Feuil1!AW24) | AE24: =CONCATENATE([1]Feuil1!AX24,[1]Feuil1!AY24) | AF24: =CONCATENATE([1]Feuil1!$AZ24) | AG24: =CONCATENATE([1]Feuil1!BA24,[1]Feuil1!BB24) | AH24: =CONCATENATE([1]Feuil1!BC24,[1]Feuil1!BD24) | AI24: =CONCATENATE([1]Feuil1!$BE24) | AJ24: =CONCATENATE([1]Feuil1!$BF24,[1]Feuil1!$BG24) | AK24: =CONCATENATE([1]Feuil1!$BH24,[1]Feuil1!$BI24) | AL24: =CONCATENATE([1]Feuil1!$BJ24) | AM24: =CONCATENATE([1]Feuil1!$BK24,[1]Feuil1!$BL24) | AN24: =CONCATENATE([1]Feuil1!$BM24,[1]Feuil1!$BN24) | AO24: =CONCATENATE([1]Feuil1!$BO24) | AP24: =CONCATENATE([1]Feuil1!$BP24,[1]Feuil1!$BQ24) | AQ24: =CONCATENATE([1]Feuil1!$BR24,[1]Feuil1!$BS24) | AR24: =CONCATENATE([1]Feuil1!$BT24) | AS24: =CONCATENATE([1]Feuil1!$BU24,[1]Feuil1!$BV24) | AT24: =CONCATENATE([1]Feuil1!$BW24,[1]Feuil1!$BX24) | AU24: =CONCATENATE([1]Feuil1!$BY24) | AV24: =CONCATENATE([1]Feuil1!$BZ24,[1]Feuil1!$CA24) | AW24: =CONCATENATE([1]Feuil1!$CB24,[1]Feuil1!$CC24)
A25: =[1]Feuil1!$A25 -> 42781 | B25: =CONCATENATE([1]Feuil1!$B25) | C25: =CONCATENATE([1]Feuil1!$C25,[1]Feuil1!$D25) | D25: =CONCATENATE([1]Feuil1!$E25,[1]Feuil1!$F25) | E25: =CONCATENATE([1]Feuil1!$G25) | F25: =CONCATENATE([1]Feuil1!H25,[1]Feuil1!I25) | G25: =CONCATENATE([1]Feuil1!$J25,[1]Feuil1!$K25) | I25: =CONCATENATE([1]Feuil1!$M25,[1]Feuil1!$N25) | J25: =CONCATENATE([1]Feuil1!O25,[1]Feuil1!P25) | K25: =CONCATENATE([1]Feuil1!$Q25) | L25: =CONCATENATE([1]Feuil1!R25,[1]Feuil1!S25) | M25: =CONCATENATE([1]Feuil1!$T25,[1]Feuil1!$U25) | N25: =CONCATENATE([1]Feuil1!$V25) | O25: =CONCATENATE([1]Feuil1!W25,[1]Feuil1!X25) | P25: =CONCATENATE([1]Feuil1!$Y25,[1]Feuil1!$Z25) | Q25: =CONCATENATE([1]Feuil1!$AA25) | R25: =CONCATENATE([1]Feuil1!AB25,[1]Feuil1!AC25) | S25: =CONCATENATE([1]Feuil1!$AD25,[1]Feuil1!$AE25) | T25: =CONCATENATE([1]Feuil1!$AF25) | U25: =CONCATENATE([1]Feuil1!AG25,[1]Feuil1!AH25) | V25: =CONCATENATE([1]Feuil1!$AI25,[1]Feuil1!$AJ25) | W25: =CONCATENATE([1]Feuil1!$AK25) | X25: =CONCATENATE([1]Feuil1!AL25,[1]Feuil1!AM25) | Y25: =CONCATENATE([1]Feuil1!AN25,[1]Feuil1!AO25) | Z25: =CONCATENATE([1]Feuil1!$AP25) | AA25: =CONCATENATE([1]Feuil1!AQ25,[1]Feuil1!AR25) | AB25: =CONCATENATE([1]Feuil1!AS25,[1]Feuil1!AT25) | AC25: =CONCATENATE([1]Feuil1!$AU25) | AD25: =CONCATENATE([1]Feuil1!AV25,[1]Feuil1!AW25) | AE25: =CONCATENATE([1]Feuil1!AX25,[1]Feuil1!AY25) | AF25: =CONCATENATE([1]Feuil1!$AZ25) | AG25: =CONCATENATE([1]Feuil1!BA25,[1]Feuil1!BB25) | AH25: =CONCATENATE([1]Feuil1!BC25,[1]Feuil1!BD25) | AI25: =CONCATENATE([1]Feuil1!$BE25) | AJ25: =CONCATENATE([1]Feuil1!$BF25,[1]Feuil1!$BG25) | AK25: =CONCATENATE([1]Feuil1!$BH25,[1]Feuil1!$BI25) | AL25: =CONCATENATE([1]Feuil1!$BJ25) | AM25: =CONCATENATE([1]Feuil1!$BK25,[1]Feuil1!$BL25) | AN25: =CONCATENATE([1]Feuil1!$BM25,[1]Feuil1!$BN25) | AO25: =CONCATENATE([1]Feuil1!$BO25) | AP25: =CONCATENATE([1]Feuil1!$BP25,[1]Feuil1!$BQ25) | AQ25: =CONCATENATE([1]Feuil1!$BR25,[1]Feuil1!$BS25) | AR25: =CONCATENATE([1]Feuil1!$BT25) | AS25: =CONCATENATE([1]Feuil1!$BU25,[1]Feuil1!$BV25) | AT25: =CONCATENATE([1]Feuil1!$BW25,[1]Feuil1!$BX25) | AU25: =CONCATENATE([1]Feuil1!$BY25) | AV25: =CONCATENATE([1]Feuil1!$BZ25,[1]Feuil1!$CA25) | AW25: =CONCATENATE([1]Feuil1!$CB25,[1]Feuil1!$CC25)
A26: =[1]Feuil1!$A26 -> 42782 | B26: =CONCATENATE([1]Feuil1!$B26) | C26: =CONCATENATE([1]Feuil1!$C26,[1]Feuil1!$D26) | D26: =CONCATENATE([1]Feuil1!$E26,[1]Feuil1!$F26) | E26: =CONCATENATE([1]Feuil1!$G26) | F26: =CONCATENATE([1]Feuil1!H26,[1]Feuil1!I26) | G26: =CONCATENATE([1]Feuil1!$J26,[1]Feuil1!$K26) | I26: =CONCATENATE([1]Feuil1!$M26,[1]Feuil1!$N26) | J26: =CONCATENATE([1]Feuil1!O26,[1]Feuil1!P26) | K26: =CONCATENATE([1]Feuil1!$Q26) | L26: =CONCATENATE([1]Feuil1!R26,[1]Feuil1!S26) | M26: =CONCATENATE([1]Feuil1!$T26,[1]Feuil1!$U26) | N26: =CONCATENATE([1]Feuil1!$V26) | O26: =CONCATENATE([1]Feuil1!W26,[1]Feuil1!X26) | P26: =CONCATENATE([1]Feuil1!$Y26,[1]Feuil1!$Z26) | Q26: =CONCATENATE([1]Feuil1!$AA26) | R26: =CONCATENATE([1]Feuil1!AB26,[1]Feuil1!AC26) | S26: =CONCATENATE([1]Feuil1!$AD26,[1]Feuil1!$AE26) | T26: =CONCATENATE([1]Feuil1!$AF26) | U26: =CONCATENATE([1]Feuil1!AG26,[1]Feuil1!AH26) | V26: =CONCATENATE([1]Feuil1!$AI26,[1]Feuil1!$AJ26) | W26: =CONCATENATE([1]Feuil1!$AK26) | X26: =CONCATENATE([1]Feuil1!AL26,[1]Feuil1!AM26) | Y26: =CONCATENATE([1]Feuil1!AN26,[1]Feuil1!AO26) | Z26: =CONCATENATE([1]Feuil1!$AP26) | AA26: =CONCATENATE([1]Feuil1!AQ26,[1]Feuil1!AR26) | AB26: =CONCATENATE([1]Feuil1!AS26,[1]Feuil1!AT26) | AC26: =CONCATENATE([1]Feuil1!$AU26) | AD26: =CONCATENATE([1]Feuil1!AV26,[1]Feuil1!AW26) | AE26: =CONCATENATE([1]Feuil1!AX26,[1]Feuil1!AY26) | AF26: =CONCATENATE([1]Feuil1!$AZ26) | AG26: =CONCATENATE([1]Feuil1!BA26,[1]Feuil1!BB26) | AH26: =CONCATENATE([1]Feuil1!BC26,[1]Feuil1!BD26) | AI26: =CONCATENATE([1]Feuil1!$BE26) | AJ26: =CONCATENATE([1]Feuil1!$BF26,[1]Feuil1!$BG26) | AK26: =CONCATENATE([1]Feuil1!$BH26,[1]Feuil1!$BI26) | AL26: =CONCATENATE([1]Feuil1!$BJ26) | AM26: =CONCATENATE([1]Feuil1!$BK26,[1]Feuil1!$BL26) | AN26: =CONCATENATE([1]Feuil1!$BM26,[1]Feuil1!$BN26) | AO26: =CONCATENATE([1]Feuil1!$BO26) | AP26: =CONCATENATE([1]Feuil1!$BP26,[1]Feuil1!$BQ26) | AQ26: =CONCATENATE([1]Feuil1!$BR26,[1]Feuil1!$BS26) | AR26: =CONCATENATE([1]Feuil1!$BT26) | AS26: =CONCATENATE([1]Feuil1!$BU26,[1]Feuil1!$BV26) | AT26: =CONCATENATE([1]Feuil1!$BW26,[1]Feuil1!$BX26) | AU26: =CONCATENATE([1]Feuil1!$BY26) | AV26: =CONCATENATE([1]Feuil1!$BZ26,[1]Feuil1!$CA26) | AW26: =CONCATENATE([1]Feuil1!$CB26,[1]Feuil1!$CC26)
A27: =[1]Feuil1!$A27 -> 42783 | B27: =CONCATENATE([1]Feuil1!$B27) | C27: =CONCATENATE([1]Feuil1!$C27,[1]Feuil1!$D27) | D27: =CONCATENATE([1]Feuil1!$E27,[1]Feuil1!$F27) | E27: =CONCATENATE([1]Feuil1!$G27) | F27: =CONCATENATE([1]Feuil1!H27,[1]Feuil1!I27) | G27: =CONCATENATE([1]Feuil1!$J27,[1]Feuil1!$K27) | I27: =CONCATENATE([1]Feuil1!$M27,[1]Feuil1!$N27) | J27: =CONCATENATE([1]Feuil1!O27,[1]Feuil1!P27) | K27: =CONCATENATE([1]Feuil1!$Q27) | L27: =CONCATENATE([1]Feuil1!R27,[1]Feuil1!S27) | M27: =CONCATENATE([1]Feuil1!$T27,[1]Feuil1!$U27) | N27: =CONCATENATE([1]Feuil1!$V27) | O27: =CONCATENATE([1]Feuil1!W27,[1]Feuil1!X27) | P27: =CONCATENATE([1]Feuil1!$Y27,[1]Feuil1!$Z27) | Q27: =CONCATENATE([1]Feuil1!$AA27) | R27: =CONCATENATE([1]Feuil1!AB27,[1]Feuil1!AC27) | S27: =CONCATENATE([1]Feuil1!$AD27,[1]Feuil1!$AE27) | T27: =CONCATENATE([1]Feuil1!$AF27) | U27: =CONCATENATE([1]Feuil1!AG27,[1]Feuil1!AH27) | V27: =CONCATENATE([1]Feuil1!$AI27,[1]Feuil1!$AJ27) | W27: =CONCATENATE([1]Feuil1!$AK27) | X27: =CONCATENATE([1]Feuil1!AL27,[1]Feuil1!AM27) | Y27: =CONCATENATE([1]Feuil1!AN27,[1]Feuil1!AO27) | Z27: =CONCATENATE([1]Feuil1!$AP27) | AA27: =CONCATENATE([1]Feuil1!AQ27,[1]Feuil1!AR27) | AB27: =CONCATENATE([1]Feuil1!AS27,[1]Feuil1!AT27) | AC27: =CONCATENATE([1]Feuil1!$AU27) | AD27: =CONCATENATE([1]Feuil1!AV27,[1]Feuil1!AW27) | AE27: =CONCATENATE([1]Feuil1!AX27,[1]Feuil1!AY27) | AF27: =CONCATENATE([1]Feuil1!$AZ27) | AG27: =CONCATENATE([1]Feuil1!BA27,[1]Feuil1!BB27) | AH27: =CONCATENATE([1]Feuil1!BC27,[1]Feuil1!BD27) | AI27: =CONCATENATE([1]Feuil1!$BE27) | AJ27: =CONCATENATE([1]Feuil1!$BF27,[1]Feuil1!$BG27) | AK27: =CONCATENATE([1]Feuil1!$BH27,[1]Feuil1!$BI27) | AL27: =CONCATENATE([1]Feuil1!$BJ27) | AM27: =CONCATENATE([1]Feuil1!$BK27,[1]Feuil1!$BL27) | AN27: =CONCATENATE([1]Feuil1!$BM27,[1]Feuil1!$BN27) | AO27: =CONCATENATE([1]Feuil1!$BO27) | AP27: =CONCATENATE([1]Feuil1!$BP27,[1]Feuil1!$BQ27) | AQ27: =CONCATENATE([1]Feuil1!$BR27,[1]Feuil1!$BS27) | AR27: =CONCATENATE([1]Feuil1!$BT27) | AS27: =CONCATENATE([1]Feuil1!$BU27,[1]Feuil1!$BV27) | AT27: =CONCATENATE([1]Feuil1!$BW27,[1]Feuil1!$BX27) | AU27: =CONCATENATE([1]Feuil1!$BY27) | AV27: =CONCATENATE([1]Feuil1!$BZ27,[1]Feuil1!$CA27) | AW27: =CONCATENATE([1]Feuil1!$CB27,[1]Feuil1!$CC27)
B28: =CONCATENATE([1]Feuil1!$B28) | E28: =CONCATENATE([1]Feuil1!$G28) | K28: =CONCATENATE([1]Feuil1!$Q28) | N28: =CONCATENATE([1]Feuil1!$V28) | Q28: =CONCATENATE([1]Feuil1!$AA28) | T28: =CONCATENATE([1]Feuil1!$AF28) | W28: =CONCATENATE([1]Feuil1!$AK28) | Z28: =CONCATENATE([1]Feuil1!$AP28) | AC28: =CONCATENATE([1]Feuil1!$AU28) | AF28: =CONCATENATE([1]Feuil1!$AZ28) | AI28: =CONCATENATE([1]Feuil1!$BE28) | AL28: =CONCATENATE([1]Feuil1!$BJ28) | AO28: =CONCATENATE([1]Feuil1!$BO28) | AR28: =CONCATENATE([1]Feuil1!$BT28) | AU28: =CONCATENATE([1]Feuil1!$BY28)
A29: =[1]Feuil1!$A29 -> 42786 | B29: =CONCATENATE([1]Feuil1!$B29) -> TP1 | C29: =CONCATENATE([1]Feuil1!$C29,[1]Feuil1!$D29) | D29: =CONCATENATE([1]Feuil1!$E29,[1]Feuil1!$F29) -> DLMP2 | E29: =CONCATENATE([1]Feuil1!$G29) -> TP1 | F29: =CONCATENATE([1]Feuil1!H29,[1]Feuil1!I29) -> CB2 Q | G29: =CONCATENATE([1]Feuil1!$J29,[1]Feuil1!$K29) -> CB2 R | I29: =CONCATENATE([1]Feuil1!$M29,[1]Feuil1!$N29) | J29: =CONCATENATE([1]Feuil1!O29,[1]Feuil1!P29) | K29: =CONCATENATE([1]Feuil1!$Q29) | L29: =CONCATENATE([1]Feuil1!R29,[1]Feuil1!S29) | M29: =CONCATENATE([1]Feuil1!$T29,[1]Feuil1!$U29) | N29: =CONCATENATE([1]Feuil1!$V29) | O29: =CONCATENATE([1]Feuil1!W29,[1]Feuil1!X29) | P29: =CONCATENATE([1]Feuil1!$Y29,[1]Feuil1!$Z29) | Q29: =CONCATENATE([1]Feuil1!$AA29) -> Rugosité | R29: =CONCATENATE([1]Feuil1!AB29,[1]Feuil1!AC29) -> MPCI2 I | S29: =CONCATENATE([1]Feuil1!$AD29,[1]Feuil1!$AE29) -> MPCI2 J | T29: =CONCATENATE([1]Feuil1!$AF29) -> Rugosité | U29: =CONCATENATE([1]Feuil1!AG29,[1]Feuil1!AH29) -> MPCI2 M | V29: =CONCATENATE([1]Feuil1!$AI29,[1]Feuil1!$AJ29) -> MPCI2 N | W29: =CONCATENATE([1]Feuil1!$AK29) | X29: =CONCATENATE([1]Feuil1!AL29,[1]Feuil1!AM29) | Y29: =CONCATENATE([1]Feuil1!AN29,[1]Feuil1!AO29) | Z29: =CONCATENATE([1]Feuil1!$AP29) | AA29: =CONCATENATE([1]Feuil1!AQ29,[1]Feuil1!AR29) | AB29: =CONCATENATE([1]Feuil1!AS29,[1]Feuil1!AT29) | AC29: =CONCATENATE([1]Feuil1!$AU29) -> Fraction C | AD29: =CONCATENATE([1]Feuil1!AV29,[1]Feuil1!AW29) -> CB2 I | AE29: =CONCATENATE([1]Feuil1!AX29,[1]Feuil1!AY29) -> CB2 I | AF29: =CONCATENATE([1]Feuil1!$AZ29) | AG29: =CONCATENATE([1]Feuil1!BA29,[1]Feuil1!BB29) | AH29: =CONCATENATE([1]Feuil1!BC29,[1]Feuil1!BD29) | AI29: =CONCATENATE([1]Feuil1!$BE29) -> Phylogénie | AJ29: =CONCATENATE([1]Feuil1!$BF29,[1]Feuil1!$BG29) -> CB2 K | AK29: =CONCATENATE([1]Feuil1!$BH29,[1]Feuil1!$BI29) -> CB2 J | AL29: =CONCATENATE([1]Feuil1!$BJ29) | AM29: =CONCATENATE([1]Feuil1!$BK29,[1]Feuil1!$BL29) -> CB2 N | AN29: =CONCATENATE([1]Feuil1!$BM29,[1]Feuil1!$BN29) -> CB2 O | AO29: =CONCATENATE([1]Feuil1!$BO29) | AP29: =CONCATENATE([1]Feuil1!$BP29,[1]Feuil1!$BQ29) -> CB2 P | AQ29: =CONCATENATE([1]Feuil1!$BR29,[1]Feuil1!$BS29) -> CB2 Q | AR29: =CONCATENATE([1]Feuil1!$BT29) | AS29: =CONCATENATE([1]Feuil1!$BU29,[1]Feuil1!$BV29) -> CB2 O | AT29: =CONCATENATE([1]Feuil1!$BW29,[1]Feuil1!$BX29) -> CB2 P | AU29: =CONCATENATE([1]Feuil1!$BY29) | AV29: =CONCATENATE([1]Feuil1!$BZ29,[1]Feuil1!$CA29) | AW29: =CONCATENATE([1]Feuil1!$CB29,[1]Feuil1!$CC29)
A30: =[1]Feuil1!$A30 -> 42787 | B30: =CONCATENATE([1]Feuil1!$B30) -> TP1 | C30: =CONCATENATE([1]Feuil1!$C30,[1]Feuil1!$D30) -> CB1 G | D30: =CONCATENATE([1]Feuil1!$E30,[1]Feuil1!$F30) -> CB1 H | E30: =CONCATENATE([1]Feuil1!$G30) -> TP1 | F30: =CONCATENATE([1]Feuil1!H30,[1]Feuil1!I30) | G30: =CONCATENATE([1]Feuil1!$J30,[1]Feuil1!$K30) | I30: =CONCATENATE([1]Feuil1!$M30,[1]Feuil1!$N30) -> CB1 H | J30: =CONCATENATE([1]Feuil1!O30,[1]Feuil1!P30) -> CB1 G | K30: =CONCATENATE([1]Feuil1!$Q30) | L30: =CONCATENATE([1]Feuil1!R30,[1]Feuil1!S30) | M30: =CONCATENATE([1]Feuil1!$T30,[1]Feuil1!$U30) | N30: =CONCATENATE([1]Feuil1!$V30) | O30: =CONCATENATE([1]Feuil1!W30,[1]Feuil1!X30) | P30: =CONCATENATE([1]Feuil1!$Y30,[1]Feuil1!$Z30) | Q30: =CONCATENATE([1]Feuil1!$AA30) | R30: =CONCATENATE([1]Feuil1!AB30,[1]Feuil1!AC30) | S30: =CONCATENATE([1]Feuil1!$AD30,[1]Feuil1!$AE30) | T30: =CONCATENATE([1]Feuil1!$AF30) | U30: =CONCATENATE([1]Feuil1!AG30,[1]Feuil1!AH30) | V30: =CONCATENATE([1]Feuil1!$AI30,[1]Feuil1!$AJ30) | W30: =CONCATENATE([1]Feuil1!$AK30) | X30: =CONCATENATE([1]Feuil1!AL30,[1]Feuil1!AM30) | Y30: =CONCATENATE([1]Feuil1!AN30,[1]Feuil1!AO30) | Z30: =CONCATENATE([1]Feuil1!$AP30) | AA30: =CONCATENATE([1]Feuil1!AQ30,[1]Feuil1!AR30) | AB30: =CONCATENATE([1]Feuil1!AS30,[1]Feuil1!AT30) | AC30: =CONCATENATE([1]Feuil1!$AU30) -> Fraction C | AD30: =CONCATENATE([1]Feuil1!AV30,[1]Feuil1!AW30) -> CB1 C | AE30: =CONCATENATE([1]Feuil1!AX30,[1]Feuil1!AY30) -> CB1 C | AF30: =CONCATENATE([1]Feuil1!$AZ30) | AG30: =CONCATENATE([1]Feuil1!BA30,[1]Feuil1!BB30) | AH30: =CONCATENATE([1]Feuil1!BC30,[1]Feuil1!BD30) | AI30: =CONCATENATE([1]Feuil1!$BE30) | AJ30: =CONCATENATE([1]Feuil1!$BF30,[1]Feuil1!$BG30) | AK30: =CONCATENATE([1]Feuil1!$BH30,[1]Feuil1!$BI30) | AL30: =CONCATENATE([1]Feuil1!$BJ30) | AM30: =CONCATENATE([1]Feuil1!$BK30,[1]Feuil1!$BL30) | AN30: =CONCATENATE([1]Feuil1!$BM30,[1]Feuil1!$BN30) | AO30: =CONCATENATE([1]Feuil1!$BO30) | AP30: =CONCATENATE([1]Feuil1!$BP30,[1]Feuil1!$BQ30) | AQ30: =CONCATENATE([1]Feuil1!$BR30,[1]Feuil1!$BS30) | AR30: =CONCATENATE([1]Feuil1!$BT30) | AS30: =CONCATENATE([1]Feuil1!$BU30,[1]Feuil1!$BV30) | AT30: =CONCATENATE([1]Feuil1!$BW30,[1]Feuil1!$BX30) | AU30: =CONCATENATE([1]Feuil1!$BY30) | AV30: =CONCATENATE([1]Feuil1!$BZ30,[1]Feuil1!$CA30) | AW30: =CONCATENATE([1]Feuil1!$CB30,[1]Feuil1!$CC30)
A31: =[1]Feuil1!$A31 -> 42788 | B31: =CONCATENATE([1]Feuil1!$B31) | C31: =CONCATENATE([1]Feuil1!$C31,[1]Feuil1!$D31) | D31: =CONCATENATE([1]Feuil1!$E31,[1]Feuil1!$F31) | E31: =CONCATENATE([1]Feuil1!$G31) -> TP1 | F31: =CONCATENATE([1]Feuil1!H31,[1]Feuil1!I31) -> CB2 I | G31: =CONCATENATE([1]Feuil1!$J31,[1]Feuil1!$K31) -> BI A | I31: =CONCATENATE([1]Feuil1!$M31,[1]Feuil1!$N31) -> BI G | J31: =CONCATENATE([1]Feuil1!O31,[1]Feuil1!P31) -> BI H | K31: =CONCATENATE([1]Feuil1!$Q31) | L31: =CONCATENATE([1]Feuil1!R31,[1]Feuil1!S31) | M31: =CONCATENATE([1]Feuil1!$T31,[1]Feuil1!$U31) | N31: =CONCATENATE([1]Feuil1!$V31) | O31: =CONCATENATE([1]Feuil1!W31,[1]Feuil1!X31) | P31: =CONCATENATE([1]Feuil1!$Y31,[1]Feuil1!$Z31) | Q31: =CONCATENATE([1]Feuil1!$AA31) -> Rugosité | R31: =CONCATENATE([1]Feuil1!AB31,[1]Feuil1!AC31) -> MPCI1 A | S31: =CONCATENATE([1]Feuil1!$AD31,[1]Feuil1!$AE31) -> MPCI1 B | T31: =CONCATENATE([1]Feuil1!$AF31) -> Rugosité | U31: =CONCATENATE([1]Feuil1!AG31,[1]Feuil1!AH31) -> MPCI1 C | V31: =CONCATENATE([1]Feuil1!$AI31,[1]Feuil1!$AJ31) -> MPCI1 D | W31: =CONCATENATE([1]Feuil1!$AK31) | X31: =CONCATENATE([1]Feuil1!AL31,[1]Feuil1!AM31) | Y31: =CONCATENATE([1]Feuil1!AN31,[1]Feuil1!AO31) | Z31: =CONCATENATE([1]Feuil1!$AP31) | AA31: =CONCATENATE([1]Feuil1!AQ31,[1]Feuil1!AR31) | AB31: =CONCATENATE([1]Feuil1!AS31,[1]Feuil1!AT31) | AC31: =CONCATENATE([1]Feuil1!$AU31) -> Fraction C | AD31: =CONCATENATE([1]Feuil1!AV31,[1]Feuil1!AW31) -> BI B | AE31: =CONCATENATE([1]Feuil1!AX31,[1]Feuil1!AY31) -> BI B | AF31: =CONCATENATE([1]Feuil1!$AZ31) | AG31: =CONCATENATE([1]Feuil1!BA31,[1]Feuil1!BB31) | AH31: =CONCATENATE([1]Feuil1!BC31,[1]Feuil1!BD31) | AI31: =CONCATENATE([1]Feuil1!$BE31) -> Phylogénie | AJ31: =CONCATENATE([1]Feuil1!$BF31,[1]Feuil1!$BG31) -> BI F | AK31: =CONCATENATE([1]Feuil1!$BH31,[1]Feuil1!$BI31) -> DL BI B | AL31: =CONCATENATE([1]Feuil1!$BJ31) | AM31: =CONCATENATE([1]Feuil1!$BK31,[1]Feuil1!$BL31) -> BI E | AN31: =CONCATENATE([1]Feuil1!$BM31,[1]Feuil1!$BN31) -> CB2 R | AO31: =CONCATENATE([1]Feuil1!$BO31) | AP31: =CONCATENATE([1]Feuil1!$BP31,[1]Feuil1!$BQ31) | AQ31: =CONCATENATE([1]Feuil1!$BR31,[1]Feuil1!$BS31) | AR31: =CONCATENATE([1]Feuil1!$BT31) | AS31: =CONCATENATE([1]Feuil1!$BU31,[1]Feuil1!$BV31) | AT31: =CONCATENATE([1]Feuil1!$BW31,[1]Feuil1!$BX31) -> DL BI E | AU31: =CONCATENATE([1]Feuil1!$BY31) | AV31: =CONCATENATE([1]Feuil1!$BZ31,[1]Feuil1!$CA31) | AW31: =CONCATENATE([1]Feuil1!$CB31,[1]Feuil1!$CC31) -> BI F
A32: =[1]Feuil1!$A32 -> 42789 | B32: =CONCATENATE([1]Feuil1!$B32) | C32: =CONCATENATE([1]Feuil1!$C32,[1]Feuil1!$D32) | D32: =CONCATENATE([1]Feuil1!$E32,[1]Feuil1!$F32) | E32: =CONCATENATE([1]Feuil1!$G32) | F32: =CONCATENATE([1]Feuil1!H32,[1]Feuil1!I32) | G32: =CONCATENATE([1]Feuil1!$J32,[1]Feuil1!$K32) | I32: =CONCATENATE([1]Feuil1!$M32,[1]Feuil1!$N32) | J32: =CONCATENATE([1]Feuil1!O32,[1]Feuil1!P32) | K32: =CONCATENATE([1]Feuil1!$Q32) | L32: =CONCATENATE([1]Feuil1!R32,[1]Feuil1!S32) | M32: =CONCATENATE([1]Feuil1!$T32,[1]Feuil1!$U32) | N32: =CONCATENATE([1]Feuil1!$V32) | O32: =CONCATENATE([1]Feuil1!W32,[1]Feuil1!X32) | P32: =CONCATENATE([1]Feuil1!$Y32,[1]Feuil1!$Z32) | Q32: =CONCATENATE([1]Feuil1!$AA32) -> Rugosité | R32: =CONCATENATE([1]Feuil1!AB32,[1]Feuil1!AC32) -> DLMP1 | S32: =CONCATENATE([1]Feuil1!$AD32,[1]Feuil1!$AE32) | T32: =CONCATENATE([1]Feuil1!$AF32) -> Rugosité | U32: =CONCATENATE([1]Feuil1!AG32,[1]Feuil1!AH32) -> DLMP2 | V32: =CONCATENATE([1]Feuil1!$AI32,[1]Feuil1!$AJ32) | W32: =CONCATENATE([1]Feuil1!$AK32) | X32: =CONCATENATE([1]Feuil1!AL32,[1]Feuil1!AM32) | Y32: =CONCATENATE([1]Feuil1!AN32,[1]Feuil1!AO32) | Z32: =CONCATENATE([1]Feuil1!$AP32) | AA32: =CONCATENATE([1]Feuil1!AQ32,[1]Feuil1!AR32) | AB32: =CONCATENATE([1]Feuil1!AS32,[1]Feuil1!AT32) | AC32: =CONCATENATE([1]Feuil1!$AU32) | AD32: =CONCATENATE([1]Feuil1!AV32,[1]Feuil1!AW32) | AE32: =CONCATENATE([1]Feuil1!AX32,[1]Feuil1!AY32) | AF32: =CONCATENATE([1]Feuil1!$AZ32) | AG32: =CONCATENATE([1]Feuil1!BA32,[1]Feuil1!BB32) | AH32: =CONCATENATE([1]Feuil1!BC32,[1]Feuil1!BD32) | AI32: =CONCATENATE([1]Feuil1!$BE32) | AJ32: =CONCATENATE([1]Feuil1!$BF32,[1]Feuil1!$BG32) | AK32: =CONCATENATE([1]Feuil1!$BH32,[1]Feuil1!$BI32) | AL32: =CONCATENATE([1]Feuil1!$BJ32) | AM32: =CONCATENATE([1]Feuil1!$BK32,[1]Feuil1!$BL32) | AN32: =CONCATENATE([1]Feuil1!$BM32,[1]Feuil1!$BN32) | AO32: =CONCATENATE([1]Feuil1!$BO32) | AP32: =CONCATENATE([1]Feuil1!$BP32,[1]Feuil1!$BQ32) | AQ32: =CONCATENATE([1]Feuil1!$BR32,[1]Feuil1!$BS32) | AR32: =CONCATENATE([1]Feuil1!$BT32) | AS32: =CONCATENATE([1]Feuil1!$BU32,[1]Feuil1!$BV32) | AT32: =CONCATENATE([1]Feuil1!$BW32,[1]Feuil1!$BX32) | AU32: =CONCATENATE([1]Feuil1!$BY32) | AV32: =CONCATENATE([1]Feuil1!$BZ32,[1]Feuil1!$CA32) | AW32: =CONCATENATE([1]Feuil1!$CB32,[1]Feuil1!$CC32)
