Workbook

Sheet VERIFICATEUR
C1: CH 100 | I1: ='[1]Constructon S1'!O1 -> MT100 | M1: ='[1]Constructon S1'!X1 -> BIO 100 | X1: MT BIO | AG1: ='[1]Constructon S1'!BO1 -> PH 100 | AR1: ='[1]Constructon S1'!CM1 -> MTMP
C2: ='[1]Constructon S1'!C2 -> 0 | D2: ='[1]Constructon S1'!D2 -> Descartes RC 12 | F2: ='[1]Constructon S1'!I2 -> Descartes RC 14 | J2: ='[1]Constructon S1'!O2 -> Descartes RC 15 | N2: ='[1]Constructon S1'!X2 -> Descartes 211 | P2: ='[1]Constructon S1'!AD2 -> Descartes 213 | S2: ='[1]Constructon S1'!AJ2 -> Descartes 217 | U2: ='[1]Constructon S1'!AP2 -> Descartes 209 | Y2: ='[1]Constructon S1'!AV2 -> Descartes 216 | AB2: ='[1]Constructon S1'!BB2 -> Acquitaine | AD2: ='[1]Constructon S1'!BH2 -> Bourgogne | AH2: ='[1]Constructon S1'!BO2 -> E201 | AJ2: ='[1]Constructon S1'!BU2 -> E202 | AM2: ='[1]Constructon S1'!CA2 -> E203 | AO2: ='[1]Constructon S1'!CG2 -> E205 | AS2: ='[1]Constructon S1'!CM2 -> BUFFON RC13 | AV2: ='[1]Constructon S1'!CS2 -> BUFFON RC18 | AY2: ='[1]Constructon S1'!CY2 -> BUFFON 220
C3: ='[1]Constructon S1'!C3 -> N° TP | D3: =CONCATENATE('[1]Constructon S1'!D3,"/",'[1]Constructon S1'!$E$3) -> 8h30/12h30 | E3: =CONCATENATE('[1]Constructon S1'!$F$3,"/",'[1]Constructon S1'!$G$3) -> 13h30/17h30 | F3: =CONCATENATE('[1]Constructon S1'!$I$3,"/",'[1]Constructon S1'!$J$3) -> 8h30/12h30 | G3: =CONCATENATE('[1]Constructon S1'!$K$3,"/",'[1]Constructon S1'!$L$3) -> 13h30/17h30 | I3: ='[1]Constructon S1'!N3 -> N° TP | J3: =CONCATENATE('[1]Constructon S1'!$O$3,"/",'[1]Constructon S1'!$P$3) -> 9h00/12h00 | K3: =CONCATENATE('[1]Constructon S1'!$Q$3,"/",'[1]Constructon S1'!$R$3) -> 13h30/16h30 | M3: ='[1]Constructon S1'!W3 -> N° TP | N3: ='[1]Constructon S1'!X3 -> 8h30 -12h30 | O3: ='[1]Constructon S1'!Z3 -> 13H30 -17H30 | P3: ='[1]Constructon S1'!AD3 -> 8h30 -12h30 | Q3: ='[1]Constructon S1'!AF3 -> 13H30 -17H30 | R3: ='[1]Constructon S1'!AI3 -> N° TP | S3: ='[1]Constructon S1'!AJ3 -> 8h30 -12h30 | T3: ='[1]Constructon S1'!AL3 -> 13H30 -17H30 | U3: ='[1]Constructon S1'!AP3 -> 8h30 -12h30 | V3: ='[1]Constructon S1'!AR3 -> 13H30 -17H30 | X3: ='[1]Constructon S1'!AU3 -> N° TP | Y3: ='[1]Constructon S1'!AV3 -> 9h30 -12h30 | Z3: ='[1]Constructon S1'!AX3 -> 13H30 -16H30 | AA3: ='[1]Constructon S1'!BA3 -> N° TP | AB3: ='[1]Constructon S1'!BB3 -> 9h30 -12h30 | AC3: ='[1]Constructon S1'!BD3 -> 13H30 -17H30 | AD3: ='[1]Constructon S1'!BH3 -> 9h30 -12h30 | AE3: ='[1]Constructon S1'!BJ3 -> 13H30 -17H30 | AG3: ='[1]Constructon S1'!BN3 -> N° TP | AH3: ='[1]Constructon S1'!BO3 -> 9h00 -12h00 | AI3: ='[1]Constructon S1'!BQ3 -> 13H30 -16H30 | AJ3: ='[1]Constructon S1'!BU3 -> 9h00 -12h00 | AK3: ='[1]Constructon S1'!BW3 -> 13H30 -16H30 | AL3: ='[1]Constructon S1'!BZ3 -> N° TP | AM3: ='[1]Constructon S1'!CA3 -> 9h00 -12h00 | AN3: ='[1]Constructon S1'!CC3 -> 13H30 -16H30 | AO3: ='[1]Constructon S1'!CG3 -> 9h00 -12h00 | AP3: ='[1]Constructon S1'!CI3 -> 13H30 -16H30 | AR3: ='[1]Constructon S1'!CL3 -> N° TP | AS3: ='[1]Constructon S1'!CM3 -> 9h00 -12h00 | AT3: ='[1]Constructon S1'!CO3 -> 13H30 -16H30 | AU3: ='[1]Constructon S1'!CR3 -> N° TP | AV3: ='[1]Constructon S1'!CS3 -> 8h00 -11h00 | AW3: ='[1]Constructon S1'!CU3 -> 13H30 -16H30 | AX3: ='[1]Constructon S1'!CX3 -> N° TP | AY3: ='[1]Constructon S1'!CY3 -> 9h00 -12h00 | AZ3: ='[1]Constructon S1'!DA3 -> 13H30 -16H30
A4: ='[1]Constructon S1'!A4 -> 37 | B4: ='[1]Constructon S1'!B4 -> 42625 | C4: ='[1]Constructon S1'!C4 -> 0 | D4: =CONCATENATE('[1]Constructon S1'!D4," ", '[1]Constructon S1'!E4) | E4: =CONCATENATE('[1]Constructon S1'!F4," ", '[1]Constructon S1'!G4) | F4: =CONCATENATE('[1]Constructon S1'!I4," ",'[1]Constructon S1'!J4) | G4: =CONCATENATE('[1]Constructon S1'!K4," ",'[1]Constructon S1'!L4) | I4: ='[1]Constructon S1'!N4 -> 0 | J4: =CONCATENATE('[1]Constructon S1'!O4," ",'[1]Constructon S1'!P4) | K4: =CONCATENATE('[1]Constructon S1'!Q4," ",'[1]Constructon S1'!R4) | M4: ='[1]Constructon S1'!W4 -> 0 | N4: =CONCATENATE('[1]Constructon S1'!X4," ",'[1]Constructon S1'!Y4) | O4: =CONCATENATE('[1]Constructon S1'!Z4," ",'[1]Constructon S1'!AA4) | P4: =CONCATENATE('[1]Constructon S1'!AD4," ",'[1]Constructon S1'!AE4) | Q4: =CONCATENATE('[1]Constructon S1'!AF4," ",'[1]Constructon S1'!AG4) | R4: ='[1]Constructon S1'!AI4 -> 0 | S4: =CONCATENATE('[1]Constructon S1'!AJ4," ",'[1]Constructon S1'!AK4) | T4: =CONCATENATE('[1]Constructon S1'!AL4," ",'[1]Constructon S1'!AM4) | U4: =CONCATENATE('[1]Constructon S1'!AP4," ",'[1]Constructon S1'!AQ4) | V4: =CONCATENATE('[1]Constructon S1'!AR4," ",'[1]Constructon S1'!AS4) | X4: =CONCATENATE('[1]Constructon S1'!AU4) | Y4: =CONCATENATE('[1]Constructon S1'!AV4," ",'[1]Constructon S1'!AW4) | Z4: =CONCATENATE('[1]Constructon S1'!AX4," ",'[1]Constructon S1'!AY4) | AA4: =CONCATENATE('[1]Constructon S1'!BA4) | AB4: =CONCATENATE('[1]Constructon S1'!BB4," ",'[1]Constructon S1'!BC4) | AC4: =CONCATENATE('[1]Constructon S1'!BD4," ",'[1]Constructon S1'!BE4) | AD4: =CONCATENATE('[1]Constructon S1'!BH4," ",'[1]Constructon S1'!BI4) | AE4: =CONCATENATE('[1]Constructon S1'!BJ4," ",'[1]Constructon S1'!BK4) | AG4: =CONCATENATE('[1]Constructon S1'!BN4) | AH4: =CONCATENATE('[1]Constructon S1'!BO4," ",'[1]Constructon S1'!BP4) | AI4: =CONCATENATE('[1]Constructon S1'!BQ4," ",'[1]Constructon S1'!BR4) | AJ4: =CONCATENATE('[1]Constructon S1'!BU4," ",'[1]Constructon S1'!BV4) | AK4: =CONCATENATE('[1]Constructon S1'!BW4," ",'[1]Constructon S1'!BX4) | AL4: =CONCATENATE('[1]Constructon S1'!BZ4) | AM4: =CONCATENATE('[1]Constructon S1'!CA4," ",'[1]Constructon S1'!CB4) | AN4: =CONCATENATE('[1]Constructon S1'!CC4," ",'[1]Constructon S1'!CD4) | AO4: =CONCATENATE('[1]Constructon S1'!CG4," ",'[1]Constructon S1'!CH4) | AP4: =CONCATENATE('[1]Constructon S1'!CI4," ",'[1]Constructon S1'!CJ4) | AR4: =CONCATENATE('[1]Constructon S1'!CL4) | AS4: =CONCATENATE('[1]Constructon S1'!CM4," ",'[1]Constructon S1'!CN4) | AT4: =CONCATENATE('[1]Constructon S1'!CO4," ",'[1]Constructon S1'!CP4) | AU4: =CONCATENATE('[1]Constructon S1'!CR4) | AV4: =CONCATENATE('[1]Constructon S1'!CS4," ",'[1]Constructon S1'!CT4) | AW4: =CONCATENATE('[1]Constructon S1'!CU4," ",'[1]Constructon S1'!CV4) | AX4: =CONCATENATE('[1]Constructon S1'!CX4) | AY4: =CONCATENATE('[1]Constructon S1'!CY4," ",'[1]Constructon S1'!CZ4) | AZ4: =CONCATENATE('[1]Constructon S1'!DA4," ",'[1]Constructon S1'!DB4)
A5: ='[1]Constructon S1'!A5 -> 37 | B5: ='[1]Constructon S1'!B5 -> 42626 | C5: ='[1]Constructon S1'!C5 -> 0 | D5: =CONCATENATE('[1]Constructon S1'!D5," ", '[1]Constructon S1'!E5) | E5: =CONCATENATE('[1]Constructon S1'!F5," ", '[1]Constructon S1'!G5) | F5: =CONCATENATE('[1]Constructon S1'!I5," ",'[1]Constructon S1'!J5) | G5: =CONCATENATE('[1]Constructon S1'!K5," ",'[1]Constructon S1'!L5) | I5: ='[1]Constructon S1'!N5 -> 0 | J5: =CONCATENATE('[1]Constructon S1'!O5," ",'[1]Constructon S1'!P5) | K5: =CONCATENATE('[1]Constructon S1'!Q5," ",'[1]Constructon S1'!R5) | M5: ='[1]Constructon S1'!W5 -> 0 | N5: =CONCATENATE('[1]Constructon S1'!X5," ",'[1]Constructon S1'!Y5) | O5: =CONCATENATE('[1]Constructon S1'!Z5," ",'[1]Constructon S1'!AA5) | P5: =CONCATENATE('[1]Constructon S1'!AD5," ",'[1]Constructon S1'!AE5) | Q5: =CONCATENATE('[1]Constructon S1'!AF5," ",'[1]Constructon S1'!AG5) | R5: ='[1]Constructon S1'!AI5 -> 0 | S5: =CONCATENATE('[1]Constructon S1'!AJ5," ",'[1]Constructon S1'!AK5) | T5: =CONCATENATE('[1]Constructon S1'!AL5," ",'[1]Constructon S1'!AM5) | U5: =CONCATENATE('[1]Constructon S1'!AP5," ",'[1]Constructon S1'!AQ5) | V5: =CONCATENATE('[1]Constructon S1'!AR5," ",'[1]Constructon S1'!AS5) | X5: =CONCATENATE('[1]Constructon S1'!AU5) | Y5: =CONCATENATE('[1]Constructon S1'!AV5," ",'[1]Constructon S1'!AW5) | Z5: =CONCATENATE('[1]Constructon S1'!AX5," ",'[1]Constructon S1'!AY5) | AA5: =CONCATENATE('[1]Constructon S1'!BA5) | AB5: =CONCATENATE('[1]Constructon S1'!BB5," ",'[1]Constructon S1'!BC5) | AC5: =CONCATENATE('[1]Constructon S1'!BD5," ",'[1]Constructon S1'!BE5) | AD5: =CONCATENATE('[1]Constructon S1'!BH5," ",'[1]Constructon S1'!BI5) | AE5: =CONCATENATE('[1]Constructon S1'!BJ5," ",'[1]Constructon S1'!BK5) | AG5: =CONCATENATE('[1]Constructon S1'!BN5) | AH5: =CONCATENATE('[1]Constructon S1'!BO5," ",'[1]Constructon S1'!BP5) | AI5: =CONCATENATE('[1]Constructon S1'!BQ5," ",'[1]Constructon S1'!BR5) | AJ5: =CONCATENATE('[1]Constructon S1'!BU5," ",'[1]Constructon S1'!BV5) | AK5: =CONCATENATE('[1]Constructon S1'!BW5," ",'[1]Constructon S1'!BX5) | AL5: =CONCATENATE('[1]Constructon S1'!BZ5) | AM5: =CONCATENATE('[1]Constructon S1'!CA5," ",'[1]Constructon S1'!CB5) | AN5: =CONCATENATE('[1]Constructon S1'!CC5," ",'[1]Constructon S1'!CD5) | AO5: =CONCATENATE('[1]Constructon S1'!CG5," ",'[1]Constructon S1'!CH5) | AP5: =CONCATENATE('[1]Constructon S1'!CI5," ",'[1]Constructon S1'!CJ5) | AR5: =CONCATENATE('[1]Constructon S1'!CL5) | AS5: =CONCATENATE('[1]Constructon S1'!CM5," ",'[1]Constructon S1'!CN5) | AT5: =CONCATENATE('[1]Constructon S1'!CO5," ",'[1]Constructon S1'!CP5) | AU5: =CONCATENATE('[1]Constructon S1'!CR5) | AV5: =CONCATENATE('[1]Constructon S1'!CS5," ",'[1]Constructon S1'!CT5) | AW5: =CONCATENATE('[1]Constructon S1'!CU5," ",'[1]Constructon S1'!CV5) | AX5: =CONCATENATE('[1]Constructon S1'!CX5) | AY5: =CONCATENATE('[1]Constructon S1'!CY5," ",'[1]Constructon S1'!CZ5) | AZ5: =CONCATENATE('[1]Constructon S1'!DA5," ",'[1]Constructon S1'!DB5)
A6: ='[1]Constructon S1'!A6 -> 37 | B6: ='[1]Constructon S1'!B6 -> 42627 | C6: ='[1]Constructon S1'!C6 -> 0 | D6: =CONCATENATE('[1]Constructon S1'!D6," ", '[1]Constructon S1'!E6) | E6: =CONCATENATE('[1]Constructon S1'!F6," ", '[1]Constructon S1'!G6) | F6: =CONCATENATE('[1]Constructon S1'!I6," ",'[1]Constructon S1'!J6) | G6: =CONCATENATE('[1]Constructon S1'!K6," ",'[1]Constructon S1'!L6) | I6: ='[1]Constructon S1'!N6 -> 0 | J6: =CONCATENATE('[1]Constructon S1'!O6," ",'[1]Constructon S1'!P6) | K6: =CONCATENATE('[1]Constructon S1'!Q6," ",'[1]Constructon S1'!R6) | M6: ='[1]Constructon S1'!W6 -> 0 | N6: =CONCATENATE('[1]Constructon S1'!X6," ",'[1]Constructon S1'!Y6) | O6: =CONCATENATE('[1]Constructon S1'!Z6," ",'[1]Constructon S1'!AA6) | P6: =CONCATENATE('[1]Constructon S1'!AD6," ",'[1]Constructon S1'!AE6) | Q6: =CONCATENATE('[1]Constructon S1'!AF6," ",'[1]Constructon S1'!AG6) | R6: ='[1]Constructon S1'!AI6 -> 0 | S6: =CONCATENATE('[1]Constructon S1'!AJ6," ",'[1]Constructon S1'!AK6) | T6: =CONCATENATE('[1]Constructon S1'!AL6," ",'[1]Constructon S1'!AM6) | U6: =CONCATENATE('[1]Constructon S1'!AP6," ",'[1]Constructon S1'!AQ6) | V6: =CONCATENATE('[1]Constructon S1'!AR6," ",'[1]Constructon S1'!AS6) | X6: =CONCATENATE('[1]Constructon S1'!AU6) | Y6: =CONCATENATE('[1]Constructon S1'!AV6," ",'[1]Constructon S1'!AW6) | Z6: =CONCATENATE('[1]Constructon S1'!AX6," ",'[1]Constructon S1'!AY6) | AA6: =CONCATENATE('[1]Constructon S1'!BA6) | AB6: =CONCATENATE('[1]Constructon S1'!BB6," ",'[1]Constructon S1'!BC6) | AC6: =CONCATENATE('[1]Constructon S1'!BD6," ",'[1]Constructon S1'!BE6) | AD6: =CONCATENATE('[1]Constructon S1'!BH6," ",'[1]Constructon S1'!BI6) | AE6: =CONCATENATE('[1]Constructon S1'!BJ6," ",'[1]Constructon S1'!BK6) | AG6: =CONCATENATE('[1]Constructon S1'!BN6) | AH6: =CONCATENATE('[1]Constructon S1'!BO6," ",'[1]Constructon S1'!BP6) | AI6: =CONCATENATE('[1]Constructon S1'!BQ6," ",'[1]Constructon S1'!BR6) | AJ6: =CONCATENATE('[1]Constructon S1'!BU6," ",'[1]Constructon S1'!BV6) | AK6: =CONCATENATE('[1]Constructon S1'!BW6," ",'[1]Constructon S1'!BX6) | AL6: =CONCATENATE('[1]Constructon S1'!BZ6) | AM6: =CONCATENATE('[1]Constructon S1'!CA6," ",'[1]Constructon S1'!CB6) | AN6: =CONCATENATE('[1]Constructon S1'!CC6," ",'[1]Constructon S1'!CD6) | AO6: =CONCATENATE('[1]Constructon S1'!CG6," ",'[1]Constructon S1'!CH6) | AP6: =CONCATENATE('[1]Constructon S1'!CI6," ",'[1]Constructon S1'!CJ6) | AR6: =CONCATENATE('[1]Constructon S1'!CL6) | AS6: =CONCATENATE('[1]Constructon S1'!CM6," ",'[1]Constructon S1'!CN6) | AT6: =CONCATENATE('[1]Constructon S1'!CO6," ",'[1]Constructon S1'!CP6) | AU6: =CONCATENATE('[1]Constructon S1'!CR6) | AV6: =CONCATENATE('[1]Constructon S1'!CS6," ",'[1]Constructon S1'!CT6) | AW6: =CONCATENATE('[1]Constructon S1'!CU6," ",'[1]Constructon S1'!CV6) | AX6: =CONCATENATE('[1]Constructon S1'!CX6) | AY6: =CONCATENATE('[1]Constructon S1'!CY6," ",'[1]Constructon S1'!CZ6) | AZ6: =CONCATENATE('[1]Constructon S1'!DA6," ",'[1]Constructon S1'!DB6)
A7: ='[1]Constructon S1'!A7 -> 37 | B7: ='[1]Constructon S1'!B7 -> 42628 | C7: ='[1]Constructon S1'!C7 -> 0 | D7: =CONCATENATE('[1]Constructon S1'!D7," ", '[1]Constructon S1'!E7) | E7: =CONCATENATE('[1]Constructon S1'!F7," ", '[1]Constructon S1'!G7) | F7: =CONCATENATE('[1]Constructon S1'!I7," ",'[1]Constructon S1'!J7) | G7: =CONCATENATE('[1]Constructon S1'!K7," ",'[1]Constructon S1'!L7) | I7: ='[1]Constructon S1'!N7 -> 0 | J7: =CONCATENATE('[1]Constructon S1'!O7," ",'[1]Constructon S1'!P7) | K7: =CONCATENATE('[1]Constructon S1'!Q7," ",'[1]Constructon S1'!R7) | M7: ='[1]Constructon S1'!W7 -> 0 | N7: =CONCATENATE('[1]Constructon S1'!X7," ",'[1]Constructon S1'!Y7) | O7: =CONCATENATE('[1]Constructon S1'!Z7," ",'[1]Constructon S1'!AA7) | P7: =CONCATENATE('[1]Constructon S1'!AD7," ",'[1]Constructon S1'!AE7) | Q7: =CONCATENATE('[1]Constructon S1'!AF7," ",'[1]Constructon S1'!AG7) | R7: ='[1]Constructon S1'!AI7 -> 0 | S7: =CONCATENATE('[1]Constructon S1'!AJ7," ",'[1]Constructon S1'!AK7) | T7: =CONCATENATE('[1]Constructon S1'!AL7," ",'[1]Constructon S1'!AM7) | U7: =CONCATENATE('[1]Constructon S1'!AP7," ",'[1]Constructon S1'!AQ7) | V7: =CONCATENATE('[1]Constructon S1'!AR7," ",'[1]Constructon S1'!AS7) | X7: =CONCATENATE('[1]Constructon S1'!AU7) | Y7: =CONCATENATE('[1]Constructon S1'!AV7," ",'[1]Constructon S1'!AW7) | Z7: =CONCATENATE('[1]Constructon S1'!AX7," ",'[1]Constructon S1'!AY7) | AA7: =CONCATENATE('[1]Constructon S1'!BA7) | AB7: =CONCATENATE('[1]Constructon S1'!BB7," ",'[1]Constructon S1'!BC7) | AC7: =CONCATENATE('[1]Constructon S1'!BD7," ",'[1]Constructon S1'!BE7) | AD7: =CONCATENATE('[1]Constructon S1'!BH7," ",'[1]Constructon S1'!BI7) | AE7: =CONCATENATE('[1]Constructon S1'!BJ7," ",'[1]Constructon S1'!BK7) | AG7: =CONCATENATE('[1]Constructon S1'!BN7) | AH7: =CONCATENATE('[1]Constructon S1'!BO7," ",'[1]Constructon S1'!BP7) | AI7: =CONCATENATE('[1]Constructon S1'!BQ7," ",'[1]Constructon S1'!BR7) | AJ7: =CONCATENATE('[1]Constructon S1'!BU7," ",'[1]Constructon S1'!BV7) | AK7: =CONCATENATE('[1]Constructon S1'!BW7," ",'[1]Constructon S1'!BX7) | AL7: =CONCATENATE('[1]Constructon S1'!BZ7) | AM7: =CONCATENATE('[1]Constructon S1'!CA7," ",'[1]Constructon S1'!CB7) | AN7: =CONCATENATE('[1]Constructon S1'!CC7," ",'[1]Constructon S1'!CD7) | AO7: =CONCATENATE('[1]Constructon S1'!CG7," ",'[1]Constructon S1'!CH7) | AP7: =CONCATENATE('[1]Constructon S1'!CI7," ",'[1]Constructon S1'!CJ7) | AR7: =CONCATENATE('[1]Constructon S1'!CL7) | AS7: =CONCATENATE('[1]Constructon S1'!CM7," ",'[1]Constructon S1'!CN7) | AT7: =CONCATENATE('[1]Constructon S1'!CO7," ",'[1]Constructon S1'!CP7) | AU7: =CONCATENATE('[1]Constructon S1'!CR7) | AV7: =CONCATENATE('[1]Constructon S1'!CS7," ",'[1]Constructon S1'!CT7) | AW7: =CONCATENATE('[1]Constructon S1'!CU7," ",'[1]Constructon S1'!CV7) | AX7: =CONCATENATE('[1]Constructon S1'!CX7) | AY7: =CONCATENATE('[1]Constructon S1'!CY7," ",'[1]Constructon S1'!CZ7) | AZ7: =CONCATENATE('[1]Constructon S1'!DA7," ",'[1]Constructon S1'!DB7)
A8: ='[1]Constructon S1'!A8 -> 37 | B8: ='[1]Constructon S1'!B8 -> 42629 | C8: ='[1]Constructon S1'!C8 -> 0 | D8: =CONCATENATE('[1]Constructon S1'!D8," ", '[1]Constructon S1'!E8) | E8: =CONCATENATE('[1]Constructon S1'!F8," ", '[1]Constructon S1'!G8) | F8: =CONCATENATE('[1]Constructon S1'!I8," ",'[1]Constructon S1'!J8) | G8: =CONCATENATE('[1]Constructon S1'!K8," ",'[1]Constructon S1'!L8) | I8: ='[1]Constructon S1'!N8 -> 0 | J8: =CONCATENATE('[1]Constructon S1'!O8," ",'[1]Constructon S1'!P8) | K8: =CONCATENATE('[1]Constructon S1'!Q8," ",'[1]Constructon S1'!R8) | M8: ='[1]Constructon S1'!W8 -> 0 | N8: =CONCATENATE('[1]Constructon S1'!X8," ",'[1]Constructon S1'!Y8) | O8: =CONCATENATE('[1]Constructon S1'!Z8," ",'[1]Constructon S1'!AA8) | P8: =CONCATENATE('[1]Constructon S1'!AD8," ",'[1]Constructon S1'!AE8) | Q8: =CONCATENATE('[1]Constructon S1'!AF8," ",'[1]Constructon S1'!AG8) | R8: ='[1]Constructon S1'!AI8 -> 0 | S8: =CONCATENATE('[1]Constructon S1'!AJ8," ",'[1]Constructon S1'!AK8) | T8: =CONCATENATE('[1]Constructon S1'!AL8," ",'[1]Constructon S1'!AM8) | U8: =CONCATENATE('[1]Constructon S1'!AP8," ",'[1]Constructon S1'!AQ8) | V8: =CONCATENATE('[1]Constructon S1'!AR8," ",'[1]Constructon S1'!AS8) | X8: =CONCATENATE('[1]Constructon S1'!AU8) | Y8: =CONCATENATE('[1]Constructon S1'!AV8," ",'[1]Constructon S1'!AW8) | Z8: =CONCATENATE('[1]Constructon S1'!AX8," ",'[1]Constructon S1'!AY8) | AA8: =CONCATENATE('[1]Constructon S1'!BA8) | AB8: =CONCATENATE('[1]Constructon S1'!BB8," ",'[1]Constructon S1'!BC8) | AC8: =CONCATENATE('[1]Constructon S1'!BD8," ",'[1]Constructon S1'!BE8) | AD8: =CONCATENATE('[1]Constructon S1'!BH8," ",'[1]Constructon S1'!BI8) | AE8: =CONCATENATE('[1]Constructon S1'!BJ8," ",'[1]Constructon S1'!BK8) | AG8: =CONCATENATE('[1]Constructon S1'!BN8) | AH8: =CONCATENATE('[1]Constructon S1'!BO8," ",'[1]Constructon S1'!BP8) | AI8: =CONCATENATE('[1]Constructon S1'!BQ8," ",'[1]Constructon S1'!BR8) | AJ8: =CONCATENATE('[1]Constructon S1'!BU8," ",'[1]Constructon S1'!BV8) | AK8: =CONCATENATE('[1]Constructon S1'!BW8," ",'[1]Constructon S1'!BX8) | AL8: =CONCATENATE('[1]Constructon S1'!BZ8) | AM8: =CONCATENATE('[1]Constructon S1'!CA8," ",'[1]Constructon S1'!CB8) | AN8: =CONCATENATE('[1]Constructon S1'!CC8," ",'[1]Constructon S1'!CD8) | AO8: =CONCATENATE('[1]Constructon S1'!CG8," ",'[1]Constructon S1'!CH8) | AP8: =CONCATENATE('[1]Constructon S1'!CI8," ",'[1]Constructon S1'!CJ8) | AR8: =CONCATENATE('[1]Constructon S1'!CL8) | AS8: =CONCATENATE('[1]Constructon S1'!CM8," ",'[1]Constructon S1'!CN8) | AT8: =CONCATENATE('[1]Constructon S1'!CO8," ",'[1]Constructon S1'!CP8) | AU8: =CONCATENATE('[1]Constructon S1'!CR8) | AV8: =CONCATENATE('[1]Constructon S1'!CS8," ",'[1]Constructon S1'!CT8) | AW8: =CONCATENATE('[1]Constructon S1'!CU8," ",'[1]Constructon S1'!CV8) | AX8: =CONCATENATE('[1]Constructon S1'!CX8) | AY8: =CONCATENATE('[1]Constructon S1'!CY8," ",'[1]Constructon S1'!CZ8) | AZ8: =CONCATENATE('[1]Constructon S1'!DA8," ",'[1]Constructon S1'!DB8)
C9: =CONCATENATE('[1]Constructon S1'!C9) | I9: =CONCATENATE('[1]Constructon S1'!N9) | M9: =CONCATENATE('[1]Constructon S1'!W9) | R9: =CONCATENATE('[1]Constructon S1'!AI9) | X9: =CONCATENATE('[1]Constructon S1'!AU9) | AA9: =CONCATENATE('[1]Constructon S1'!BA9) | AG9: =CONCATENATE('[1]Constructon S1'!BN9) | AL9: =CONCATENATE('[1]Constructon S1'!BZ9) | AR9: =CONCATENATE('[1]Constructon S1'!CL9) | AU9: =CONCATENATE('[1]Constructon S1'!CR9) | AX9: =CONCATENATE('[1]Constructon S1'!CX9)
A10: ='[1]Constructon S1'!A10 -> 38 | B10: ='[1]Constructon S1'!B10 -> 42632 | C10: =CONCATENATE('[1]Constructon S1'!C10) | D10: =CONCATENATE('[1]Constructon S1'!D10," ", '[1]Constructon S1'!E10) | E10: =CONCATENATE('[1]Constructon S1'!F10," ", '[1]Constructon S1'!G10) | F10: =CONCATENATE('[1]Constructon S1'!I10," ",'[1]Constructon S1'!J10) | G10: =CONCATENATE('[1]Constructon S1'!K10," ",'[1]Constructon S1'!L10) | I10: =CONCATENATE('[1]Constructon S1'!N10) | J10: =CONCATENATE('[1]Constructon S1'!O10," ",'[1]Constructon S1'!P10) | K10: =CONCATENATE('[1]Constructon S1'!Q10," ",'[1]Constructon S1'!R10) | M10: =CONCATENATE('[1]Constructon S1'!W10) | N10: =CONCATENATE('[1]Constructon S1'!X10," ",'[1]Constructon S1'!Y10) | O10: =CONCATENATE('[1]Constructon S1'!Z10," ",'[1]Constructon S1'!AA10) | P10: =CONCATENATE('[1]Constructon S1'!AD10," ",'[1]Constructon S1'!AE10) | Q10: =CONCATENATE('[1]Constructon S1'!AF10," ",'[1]Constructon S1'!AG10) | R10: =CONCATENATE('[1]Constructon S1'!AI10) | S10: =CONCATENATE('[1]Constructon S1'!AJ10," ",'[1]Constructon S1'!AK10) | T10: =CONCATENATE('[1]Constructon S1'!AL10," ",'[1]Constructon S1'!AM10) | U10: =CONCATENATE('[1]Constructon S1'!AP10," ",'[1]Constructon S1'!AQ10) | V10: =CONCATENATE('[1]Constructon S1'!AR10," ",'[1]Constructon S1'!AS10) | X10: =CONCATENATE('[1]Constructon S1'!AU10) | Y10: =CONCATENATE('[1]Constructon S1'!AV10," ",'[1]Constructon S1'!AW10) | Z10: =CONCATENATE('[1]Constructon S1'!AX10," ",'[1]Constructon S1'!AY10) | AA10: =CONCATENATE('[1]Constructon S1'!BA10) | AB10: =CONCATENATE('[1]Constructon S1'!BB10," ",'[1]Constructon S1'!BC10) | AC10: =CONCATENATE('[1]Constructon S1'!BD10," ",'[1]Constructon S1'!BE10) | AD10: =CONCATENATE('[1]Constructon S1'!BH10," ",'[1]Constructon S1'!BI10) | AE10: =CONCATENATE('[1]Constructon S1'!BJ10," ",'[1]Constructon S1'!BK10) | AG10: =CONCATENATE('[1]Constructon S1'!BN10) | AH10: =CONCATENATE('[1]Constructon S1'!BO10," ",'[1]Constructon S1'!BP10) | AI10: =CONCATENATE('[1]Constructon S1'!BQ10," ",'[1]Constructon S1'!BR10) | AJ10: =CONCATENATE('[1]Constructon S1'!BU10," ",'[1]Constructon S1'!BV10) | AK10: =CONCATENATE('[1]Constructon S1'!BW10," ",'[1]Constructon S1'!BX10) | AL10: =CONCATENATE('[1]Constructon S1'!BZ10) | AM10: =CONCATENATE('[1]Constructon S1'!CA10," ",'[1]Constructon S1'!CB10) | AN10: =CONCATENATE('[1]Constructon S1'!CC10," ",'[1]Constructon S1'!CD10) | AO10: =CONCATENATE('[1]Constructon S1'!CG10," ",'[1]Constructon S1'!CH10) | AP10: =CONCATENATE('[1]Constructon S1'!CI10," ",'[1]Constructon S1'!CJ10) | AR10: =CONCATENATE('[1]Constructon S1'!CL10) | AS10: =CONCATENATE('[1]Constructon S1'!CM10," ",'[1]Constructon S1'!CN10) | AT10: =CONCATENATE('[1]Constructon S1'!CO10," ",'[1]Constructon S1'!CP10) | AU10: =CONCATENATE('[1]Constructon S1'!CR10) | AV10: =CONCATENATE('[1]Constructon S1'!CS10," ",'[1]Constructon S1'!CT10) | AW10: =CONCATENATE('[1]Constructon S1'!CU10," ",'[1]Constructon S1'!CV10) | AX10: =CONCATENATE('[1]Constructon S1'!CX10) | AY10: =CONCATENATE('[1]Constructon S1'!CY10," ",'[1]Constructon S1'!CZ10) | AZ10: =CONCATENATE('[1]Constructon S1'!DA10," ",'[1]Constructon S1'!DB10)
A11: ='[1]Constructon S1'!A11 -> 38 | B11: ='[1]Constructon S1'!B11 -> 42633 | C11: =CONCATENATE('[1]Constructon S1'!C11) | D11: =CONCATENATE('[1]Constructon S1'!D11," ", '[1]Constructon S1'!E11) | E11: =CONCATENATE('[1]Constructon S1'!F11," ", '[1]Constructon S1'!G11) | F11: =CONCATENATE('[1]Constructon S1'!I11," ",'[1]Constructon S1'!J11) | G11: =CONCATENATE('[1]Constructon S1'!K11," ",'[1]Constructon S1'!L11) | I11: =CONCATENATE('[1]Constructon S1'!N11) | J11: =CONCATENATE('[1]Constructon S1'!O11," ",'[1]Constructon S1'!P11) | K11: =CONCATENATE('[1]Constructon S1'!Q11," ",'[1]Constructon S1'!R11) | M11: =CONCATENATE('[1]Constructon S1'!W11) | N11: =CONCATENATE('[1]Constructon S1'!X11," ",'[1]Constructon S1'!Y11) | O11: =CONCATENATE('[1]Constructon S1'!Z11," ",'[1]Constructon S1'!AA11) | P11: =CONCATENATE('[1]Constructon S1'!AD11," ",'[1]Constructon S1'!AE11) | Q11: =CONCATENATE('[1]Constructon S1'!AF11," ",'[1]Constructon S1'!AG11) | R11: =CONCATENATE('[1]Constructon S1'!AI11) -> AC Nucléique | S11: =CONCATENATE('[1]Constructon S1'!AJ11," ",'[1]Constructon S1'!AK11) -> CB2 K | T11: =CONCATENATE('[1]Constructon S1'!AL11," ",'[1]Constructon S1'!AM11) -> CB2 L | U11: =CONCATENATE('[1]Constructon S1'!AP11," ",'[1]Constructon S1'!AQ11) -> CB2 M | V11: =CONCATENATE('[1]Constructon S1'!AR11," ",'[1]Constructon S1'!AS11) -> CB2 N | X11: =CONCATENATE('[1]Constructon S1'!AU11) -> MT Initiation | Y11: =CONCATENATE('[1]Constructon S1'!AV11," ",'[1]Constructon S1'!AW11) | Z11: =CONCATENATE('[1]Constructon S1'!AX11," ",'[1]Constructon S1'!AY11) | AA11: =CONCATENATE('[1]Constructon S1'!BA11) | AB11: =CONCATENATE('[1]Constructon S1'!BB11," ",'[1]Constructon S1'!BC11) | AC11: =CONCATENATE('[1]Constructon S1'!BD11," ",'[1]Constructon S1'!BE11) | AD11: =CONCATENATE('[1]Constructon S1'!BH11," ",'[1]Constructon S1'!BI11) | AE11: =CONCATENATE('[1]Constructon S1'!BJ11," ",'[1]Constructon S1'!BK11) | AG11: =CONCATENATE('[1]Constructon S1'!BN11) | AH11: =CONCATENATE('[1]Constructon S1'!BO11," ",'[1]Constructon S1'!BP11) | AI11: =CONCATENATE('[1]Constructon S1'!BQ11," ",'[1]Constructon S1'!BR11) | AJ11: =CONCATENATE('[1]Constructon S1'!BU11," ",'[1]Constructon S1'!BV11) | AK11: =CONCATENATE('[1]Constructon S1'!BW11," ",'[1]Constructon S1'!BX11) | AL11: =CONCATENATE('[1]Constructon S1'!BZ11) | AM11: =CONCATENATE('[1]Constructon S1'!CA11," ",'[1]Constructon S1'!CB11) | AN11: =CONCATENATE('[1]Constructon S1'!CC11," ",'[1]Constructon S1'!CD11) | AO11: =CONCATENATE('[1]Constructon S1'!CG11," ",'[1]Constructon S1'!CH11) | AP11: =CONCATENATE('[1]Constructon S1'!CI11," ",'[1]Constructon S1'!CJ11) | AR11: =CONCATENATE('[1]Constructon S1'!CL11) | AS11: =CONCATENATE('[1]Constructon S1'!CM11," ",'[1]Constructon S1'!CN11) | AT11: =CONCATENATE('[1]Constructon S1'!CO11," ",'[1]Constructon S1'!CP11) | AU11: =CONCATENATE('[1]Constructon S1'!CR11) | AV11: =CONCATENATE('[1]Constructon S1'!CS11," ",'[1]Constructon S1'!CT11) | AW11: =CONCATENATE('[1]Constructon S1'!CU11," ",'[1]Constructon S1'!CV11) | AX11: =CONCATENATE('[1]Constructon S1'!CX11) | AY11: =CONCATENATE('[1]Constructon S1'!CY11," ",'[1]Constructon S1'!CZ11) | AZ11: =CONCATENATE('[1]Constructon S1'!DA11," ",'[1]Constructon S1'!DB11)
A12: ='[1]Constructon S1'!A12 -> 38 | B12: ='[1]Constructon S1'!B12 -> 42634 | C12: =CONCATENATE('[1]Constructon S1'!C12) | D12: =CONCATENATE('[1]Constructon S1'!D12," ", '[1]Constructon S1'!E12) | E12: =CONCATENATE('[1]Constructon S1'!F12," ", '[1]Constructon S1'!G12) | F12: =CONCATENATE('[1]Constructon S1'!I12," ",'[1]Constructon S1'!J12) | G12: =CONCATENATE('[1]Constructon S1'!K12," ",'[1]Constructon S1'!L12) | I12: =CONCATENATE('[1]Constructon S1'!N12) | J12: =CONCATENATE('[1]Constructon S1'!O12," ",'[1]Constructon S1'!P12) | K12: =CONCATENATE('[1]Constructon S1'!Q12," ",'[1]Constructon S1'!R12) | M12: =CONCATENATE('[1]Constructon S1'!W12) | N12: =CONCATENATE('[1]Constructon S1'!X12," ",'[1]Constructon S1'!Y12) | O12: =CONCATENATE('[1]Constructon S1'!Z12," ",'[1]Constructon S1'!AA12) | P12: =CONCATENATE('[1]Constructon S1'!AD12," ",'[1]Constructon S1'!AE12) | Q12: =CONCATENATE('[1]Constructon S1'!AF12," ",'[1]Constructon S1'!AG12) | R12: =CONCATENATE('[1]Constructon S1'!AI12) -> AC Nucléique | S12: =CONCATENATE('[1]Constructon S1'!AJ12," ",'[1]Constructon S1'!AK12) -> CB1 I | T12: =CONCATENATE('[1]Constructon S1'!AL12," ",'[1]Constructon S1'!AM12) -> CB1 J | U12: =CONCATENATE('[1]Constructon S1'!AP12," ",'[1]Constructon S1'!AQ12) | V12: =CONCATENATE('[1]Constructon S1'!AR12," ",'[1]Constructon S1'!AS12) | X12: =CONCATENATE('[1]Constructon S1'!AU12) -> MT Initiation | Y12: =CONCATENATE('[1]Constructon S1'!AV12," ",'[1]Constructon S1'!AW12) -> CB1 B | Z12: =CONCATENATE('[1]Constructon S1'!AX12," ",'[1]Constructon S1'!AY12) -> CB1 I | AA12: =CONCATENATE('[1]Constructon S1'!BA12) | AB12: =CONCATENATE('[1]Constructon S1'!BB12," ",'[1]Constructon S1'!BC12) | AC12: =CONCATENATE('[1]Constructon S1'!BD12," ",'[1]Constructon S1'!BE12) | AD12: =CONCATENATE('[1]Constructon S1'!BH12," ",'[1]Constructon S1'!BI12) | AE12: =CONCATENATE('[1]Constructon S1'!BJ12," ",'[1]Constructon S1'!BK12) | AG12: =CONCATENATE('[1]Constructon S1'!BN12) | AH12: =CONCATENATE('[1]Constructon S1'!BO12," ",'[1]Constructon S1'!BP12) | AI12: =CONCATENATE('[1]Constructon S1'!BQ12," ",'[1]Constructon S1'!BR12) | AJ12: =CONCATENATE('[1]Constructon S1'!BU12," ",'[1]Constructon S1'!BV12) | AK12: =CONCATENATE('[1]Constructon S1'!BW12," ",'[1]Constructon S1'!BX12) | AL12: =CONCATENATE('[1]Constructon S1'!BZ12) | AM12: =CONCATENATE('[1]Constructon S1'!CA12," ",'[1]Constructon S1'!CB12) | AN12: =CONCATENATE('[1]Constructon S1'!CC12," ",'[1]Constructon S1'!CD12) | AO12: =CONCATENATE('[1]Constructon S1'!CG12," ",'[1]Constructon S1'!CH12) | AP12: =CONCATENATE('[1]Constructon S1'!CI12," ",'[1]Constructon S1'!CJ12) | AR12: =CONCATENATE('[1]Constructon S1'!CL12) | AS12: =CONCATENATE('[1]Constructon S1'!CM12," ",'[1]Constructon S1'!CN12) | AT12: =CONCATENATE('[1]Constructon S1'!CO12," ",'[1]Constructon S1'!CP12) | AU12: =CONCATENATE('[1]Constructon S1'!CR12) | AV12: =CONCATENATE('[1]Constructon S1'!CS12," ",'[1]Constructon S1'!CT12) | AW12: =CONCATENATE('[1]Constructon S1'!CU12," ",'[1]Constructon S1'!CV12) | AX12: =CONCATENATE('[1]Constructon S1'!CX12) | AY12: =CONCATENATE('[1]Constructon S1'!CY12," ",'[1]Constructon S1'!CZ12) | AZ12: =CONCATENATE('[1]Constructon S1'!DA12," ",'[1]Constructon S1'!DB12)
A13: ='[1]Constructon S1'!A13 -> 38 | B13: ='[1]Constructon S1'!B13 -> 42635 | C13: =CONCATENATE('[1]Constructon S1'!C13) | D13: =CONCATENATE('[1]Constructon S1'!D13," ", '[1]Constructon S1'!E13) | E13: =CONCATENATE('[1]Constructon S1'!F13," ", '[1]Constructon S1'!G13) | F13: =CONCATENATE('[1]Constructon S1'!I13," ",'[1]Constructon S1'!J13) | G13: =CONCATENATE('[1]Constructon S1'!K13," ",'[1]Constructon S1'!L13) | I13: =CONCATENATE('[1]Constructon S1'!N13) | J13: =CONCATENATE('[1]Constructon S1'!O13," ",'[1]Constructon S1'!P13) | K13: =CONCATENATE('[1]Constructon S1'!Q13," ",'[1]Constructon S1'!R13) | M13: =CONCATENATE('[1]Constructon S1'!W13) | N13: =CONCATENATE('[1]Constructon S1'!X13," ",'[1]Constructon S1'!Y13) | O13: =CONCATENATE('[1]Constructon S1'!Z13," ",'[1]Constructon S1'!AA13) | P13: =CONCATENATE('[1]Constructon S1'!AD13," ",'[1]Constructon S1'!AE13) | Q13: =CONCATENATE('[1]Constructon S1'!AF13," ",'[1]Constructon S1'!AG13) | R13: =CONCATENATE('[1]Constructon S1'!AI13) | S13: =CONCATENATE('[1]Constructon S1'!AJ13," ",'[1]Constructon S1'!AK13) -> CB2 O | T13: =CONCATENATE('[1]Constructon S1'!AL13," ",'[1]Constructon S1'!AM13) | U13: =CONCATENATE('[1]Constructon S1'!AP13," ",'[1]Constructon S1'!AQ13) -> CB2 P | V13: =CONCATENATE('[1]Constructon S1'!AR13," ",'[1]Constructon S1'!AS13) | X13: =CONCATENATE('[1]Constructon S1'!AU13) -> MT Initiation | Y13: =CONCATENATE('[1]Constructon S1'!AV13," ",'[1]Constructon S1'!AW13) | Z13: =CONCATENATE('[1]Constructon S1'!AX13," ",'[1]Constructon S1'!AY13) | AA13: =CONCATENATE('[1]Constructon S1'!BA13) | AB13: =CONCATENATE('[1]Constructon S1'!BB13," ",'[1]Constructon S1'!BC13) | AC13: =CONCATENATE('[1]Constructon S1'!BD13," ",'[1]Constructon S1'!BE13) | AD13: =CONCATENATE('[1]Constructon S1'!BH13," ",'[1]Constructon S1'!BI13) | AE13: =CONCATENATE('[1]Constructon S1'!BJ13," ",'[1]Constructon S1'!BK13) | AG13: =CONCATENATE('[1]Constructon S1'!BN13) | AH13: =CONCATENATE('[1]Constructon S1'!BO13," ",'[1]Constructon S1'!BP13) | AI13: =CONCATENATE('[1]Constructon S1'!BQ13," ",'[1]Constructon S1'!BR13) | AJ13: =CONCATENATE('[1]Constructon S1'!BU13," ",'[1]Constructon S1'!BV13) | AK13: =CONCATENATE('[1]Constructon S1'!BW13," ",'[1]Constructon S1'!BX13) | AL13: =CONCATENATE('[1]Constructon S1'!BZ13) | AM13: =CONCATENATE('[1]Constructon S1'!CA13," ",'[1]Constructon S1'!CB13) | AN13: =CONCATENATE('[1]Constructon S1'!CC13," ",'[1]Constructon S1'!CD13) | AO13: =CONCATENATE('[1]Constructon S1'!CG13," ",'[1]Constructon S1'!CH13) | AP13: =CONCATENATE('[1]Constructon S1'!CI13," ",'[1]Constructon S1'!CJ13) | AR13: =CONCATENATE('[1]Constructon S1'!CL13) | AS13: =CONCATENATE('[1]Constructon S1'!CM13," ",'[1]Constructon S1'!CN13) | AT13: =CONCATENATE('[1]Constructon S1'!CO13," ",'[1]Constructon S1'!CP13) | AU13: =CONCATENATE('[1]Constructon S1'!CR13) | AV13: =CONCATENATE('[1]Constructon S1'!CS13," ",'[1]Constructon S1'!CT13) | AW13: =CONCATENATE('[1]Constructon S1'!CU13," ",'[1]Constructon S1'!CV13) | AX13: =CONCATENATE('[1]Constructon S1'!CX13) | AY13: =CONCATENATE('[1]Constructon S1'!CY13," ",'[1]Constructon S1'!CZ13) | AZ13: =CONCATENATE('[1]Constructon S1'!DA13," ",'[1]Constructon S1'!DB13)
A14: ='[1]Constructon S1'!A14 -> 38 | B14: ='[1]Constructon S1'!B14 -> 42636 | C14: =CONCATENATE('[1]Constructon S1'!C14) | D14: =CONCATENATE('[1]Constructon S1'!D14," ", '[1]Constructon S1'!E14) | E14: =CONCATENATE('[1]Constructon S1'!F14," ", '[1]Constructon S1'!G14) | F14: =CONCATENATE('[1]Constructon S1'!I14," ",'[1]Constructon S1'!J14) | G14: =CONCATENATE('[1]Constructon S1'!K14," ",'[1]Constructon S1'!L14) | I14: =CONCATENATE('[1]Constructon S1'!N14) | J14: =CONCATENATE('[1]Constructon S1'!O14," ",'[1]Constructon S1'!P14) | K14: =CONCATENATE('[1]Constructon S1'!Q14," ",'[1]Constructon S1'!R14) | M14: =CONCATENATE('[1]Constructon S1'!W14) | N14: =CONCATENATE('[1]Constructon S1'!X14," ",'[1]Constructon S1'!Y14) | O14: =CONCATENATE('[1]Constructon S1'!Z14," ",'[1]Constructon S1'!AA14) | P14: =CONCATENATE('[1]Constructon S1'!AD14," ",'[1]Constructon S1'!AE14) | Q14: =CONCATENATE('[1]Constructon S1'!AF14," ",'[1]Constructon S1'!AG14) | R14: =CONCATENATE('[1]Constructon S1'!AI14) -> AC Nucléique | S14: =CONCATENATE('[1]Constructon S1'!AJ14," ",'[1]Constructon S1'!AK14) -> BI A | T14: =CONCATENATE('[1]Constructon S1'!AL14," ",'[1]Constructon S1'!AM14) -> BI B | U14: =CONCATENATE('[1]Constructon S1'!AP14," ",'[1]Constructon S1'!AQ14) -> BI C | V14: =CONCATENATE('[1]Constructon S1'!AR14," ",'[1]Constructon S1'!AS14) -> BI D | X14: =CONCATENATE('[1]Constructon S1'!AU14) -> MT Initiation | Y14: =CONCATENATE('[1]Constructon S1'!AV14," ",'[1]Constructon S1'!AW14) -> BI H | Z14: =CONCATENATE('[1]Constructon S1'!AX14," ",'[1]Constructon S1'!AY14) -> BI G | AA14: =CONCATENATE('[1]Constructon S1'!BA14) | AB14: =CONCATENATE('[1]Constructon S1'!BB14," ",'[1]Constructon S1'!BC14) | AC14: =CONCATENATE('[1]Constructon S1'!BD14," ",'[1]Constructon S1'!BE14) | AD14: =CONCATENATE('[1]Constructon S1'!BH14," ",'[1]Constructon S1'!BI14) | AE14: =CONCATENATE('[1]Constructon S1'!BJ14," ",'[1]Constructon S1'!BK14) | AG14: =CONCATENATE('[1]Constructon S1'!BN14) | AH14: =CONCATENATE('[1]Constructon S1'!BO14," ",'[1]Constructon S1'!BP14) | AI14: =CONCATENATE('[1]Constructon S1'!BQ14," ",'[1]Constructon S1'!BR14) | AJ14: =CONCATENATE('[1]Constructon S1'!BU14," ",'[1]Constructon S1'!BV14) | AK14: =CONCATENATE('[1]Constructon S1'!BW14," ",'[1]Constructon S1'!BX14) | AL14: =CONCATENATE('[1]Constructon S1'!BZ14) | AM14: =CONCATENATE('[1]Constructon S1'!CA14," ",'[1]Constructon S1'!CB14) | AN14: =CONCATENATE('[1]Constructon S1'!CC14," ",'[1]Constructon S1'!CD14) | AO14: =CONCATENATE('[1]Constructon S1'!CG14," ",'[1]Constructon S1'!CH14) | AP14: =CONCATENATE('[1]Constructon S1'!CI14," ",'[1]Constructon S1'!CJ14) | AR14: =CONCATENATE('[1]Constructon S1'!CL14) | AS14: =CONCATENATE('[1]Constructon S1'!CM14," ",'[1]Constructon S1'!CN14) | AT14: =CONCATENATE('[1]Constructon S1'!CO14," ",'[1]Constructon S1'!CP14) | AU14: =CONCATENATE('[1]Constructon S1'!CR14) | AV14: =CONCATENATE('[1]Constructon S1'!CS14," ",'[1]Constructon S1'!CT14) | AW14: =CONCATENATE('[1]Constructon S1'!CU14," ",'[1]Constructon S1'!CV14) | AX14: =CONCATENATE('[1]Constructon S1'!CX14) | AY14: =CONCATENATE('[1]Constructon S1'!CY14," ",'[1]Constructon S1'!CZ14) | AZ14: =CONCATENATE('[1]Constructon S1'!DA14," ",'[1]Constructon S1'!DB14)
C15: =CONCATENATE('[1]Constructon S1'!C15) | I15: =CONCATENATE('[1]Constructon S1'!N15) | M15: =CONCATENATE('[1]Constructon S1'!W15) | R15: =CONCATENATE('[1]Constructon S1'!AI15) | X15: =CONCATENATE('[1]Constructon S1'!AU15) | AA15: =CONCATENATE('[1]Constructon S1'!BA15) | AG15: =CONCATENATE('[1]Constructon S1'!BN15) | AL15: =CONCATENATE('[1]Constructon S1'!BZ15) | AR15: =CONCATENATE('[1]Constructon S1'!CL15) | AU15: =CONCATENATE('[1]Constructon S1'!CR15) | AX15: =CONCATENATE('[1]Constructon S1'!CX15)
A16: ='[1]Constructon S1'!A16 -> 39 | B16: ='[1]Constructon S1'!B16 -> 42639 | C16: =CONCATENATE('[1]Constructon S1'!C16) | D16: =CONCATENATE('[1]Constructon S1'!D16," ", '[1]Constructon S1'!E16) | E16: =CONCATENATE('[1]Constructon S1'!F16," ", '[1]Constructon S1'!G16) | F16: =CONCATENATE('[1]Constructon S1'!I16," ",'[1]Constructon S1'!J16) | G16: =CONCATENATE('[1]Constructon S1'!K16," ",'[1]Constructon S1'!L16) | I16: =CONCATENATE('[1]Constructon S1'!N16) | J16: =CONCATENATE('[1]Constructon S1'!O16," ",'[1]Constructon S1'!P16) | K16: =CONCATENATE('[1]Constructon S1'!Q16," ",'[1]Constructon S1'!R16) | M16: =CONCATENATE('[1]Constructon S1'!W16) | N16: =CONCATENATE('[1]Constructon S1'!X16," ",'[1]Constructon S1'!Y16) | O16: =CONCATENATE('[1]Constructon S1'!Z16," ",'[1]Constructon S1'!AA16) | P16: =CONCATENATE('[1]Constructon S1'!AD16," ",'[1]Constructon S1'!AE16) | Q16: =CONCATENATE('[1]Constructon S1'!AF16," ",'[1]Constructon S1'!AG16) | R16: =CONCATENATE('[1]Constructon S1'!AI16) | S16: =CONCATENATE('[1]Constructon S1'!AJ16," ",'[1]Constructon S1'!AK16) | T16: =CONCATENATE('[1]Constructon S1'!AL16," ",'[1]Constructon S1'!AM16) | U16: =CONCATENATE('[1]Constructon S1'!AP16," ",'[1]Constructon S1'!AQ16) | V16: =CONCATENATE('[1]Constructon S1'!AR16," ",'[1]Constructon S1'!AS16) | X16: =CONCATENATE('[1]Constructon S1'!AU16) | Y16: =CONCATENATE('[1]Constructon S1'!AV16," ",'[1]Constructon S1'!AW16) | Z16: =CONCATENATE('[1]Constructon S1'!AX16," ",'[1]Constructon S1'!AY16) | AA16: =CONCATENATE('[1]Constructon S1'!BA16) | AB16: =CONCATENATE('[1]Constructon S1'!BB16," ",'[1]Constructon S1'!BC16) | AC16: =CONCATENATE('[1]Constructon S1'!BD16," ",'[1]Constructon S1'!BE16) | AD16: =CONCATENATE('[1]Constructon S1'!BH16," ",'[1]Constructon S1'!BI16) | AE16: =CONCATENATE('[1]Constructon S1'!BJ16," ",'[1]Constructon S1'!BK16) | AG16: =CONCATENATE('[1]Constructon S1'!BN16) | AH16: =CONCATENATE('[1]Constructon S1'!BO16," ",'[1]Constructon S1'!BP16) | AI16: =CONCATENATE('[1]Constructon S1'!BQ16," ",'[1]Constructon S1'!BR16) | AJ16: =CONCATENATE('[1]Constructon S1'!BU16," ",'[1]Constructon S1'!BV16) | AK16: =CONCATENATE('[1]Constructon S1'!BW16," ",'[1]Constructon S1'!BX16) | AL16: =CONCATENATE('[1]Constructon S1'!BZ16) | AM16: =CONCATENATE('[1]Constructon S1'!CA16," ",'[1]Constructon S1'!CB16) | AN16: =CONCATENATE('[1]Constructon S1'!CC16," ",'[1]Constructon S1'!CD16) | AO16: =CONCATENATE('[1]Constructon S1'!CG16," ",'[1]Constructon S1'!CH16) | AP16: =CONCATENATE('[1]Constructon S1'!CI16," ",'[1]Constructon S1'!CJ16) | AR16: =CONCATENATE('[1]Constructon S1'!CL16) -> Balistique | AS16: =CONCATENATE('[1]Constructon S1'!CM16," ",'[1]Constructon S1'!CN16) -> MPCI1 A | AT16: =CONCATENATE('[1]Constructon S1'!CO16," ",'[1]Constructon S1'!CP16) -> MPCI1 B | AU16: =CONCATENATE('[1]Constructon S1'!CR16) -> force | AV16: =CONCATENATE('[1]Constructon S1'!CS16," ",'[1]Constructon S1'!CT16) -> MPCI1 C | AW16: =CONCATENATE('[1]Constructon S1'!CU16," ",'[1]Constructon S1'!CV16) | AX16: =CONCATENATE('[1]Constructon S1'!CX16) -> Opt ondu | AY16: =CONCATENATE('[1]Constructon S1'!CY16," ",'[1]Constructon S1'!CZ16) -> MPCI1 E | AZ16: =CONCATENATE('[1]Constructon S1'!DA16," ",'[1]Constructon S1'!DB16) -> MPCI1 F
A17: ='[1]Constructon S1'!A17 -> 39 | B17: ='[1]Constructon S1'!B17 -> 42640 | C17: =CONCATENATE('[1]Constructon S1'!C17) | D17: =CONCATENATE('[1]Constructon S1'!D17," ", '[1]Constructon S1'!E17) | E17: =CONCATENATE('[1]Constructon S1'!F17," ", '[1]Constructon S1'!G17) | F17: =CONCATENATE('[1]Constructon S1'!I17," ",'[1]Constructon S1'!J17) | G17: =CONCATENATE('[1]Constructon S1'!K17," ",'[1]Constructon S1'!L17) | I17: =CONCATENATE('[1]Constructon S1'!N17) | J17: =CONCATENATE('[1]Constructon S1'!O17," ",'[1]Constructon S1'!P17) | K17: =CONCATENATE('[1]Constructon S1'!Q17," ",'[1]Constructon S1'!R17) | M17: =CONCATENATE('[1]Constructon S1'!W17) | N17: =CONCATENATE('[1]Constructon S1'!X17," ",'[1]Constructon S1'!Y17) | O17: =CONCATENATE('[1]Constructon S1'!Z17," ",'[1]Constructon S1'!AA17) | P17: =CONCATENATE('[1]Constructon S1'!AD17," ",'[1]Constructon S1'!AE17) | Q17: =CONCATENATE('[1]Constructon S1'!AF17," ",'[1]Constructon S1'!AG17) | R17: =CONCATENATE('[1]Constructon S1'!AI17) -> AC Nucléique | S17: =CONCATENATE('[1]Constructon S1'!AJ17," ",'[1]Constructon S1'!AK17) -> CB2 Q | T17: =CONCATENATE('[1]Constructon S1'!AL17," ",'[1]Constructon S1'!AM17) -> CB2 R | U17: =CONCATENATE('[1]Constructon S1'!AP17," ",'[1]Constructon S1'!AQ17) -> CB2 S | V17: =CONCATENATE('[1]Constructon S1'!AR17," ",'[1]Constructon S1'!AS17) -> CB2 T | X17: =CONCATENATE('[1]Constructon S1'!AU17) -> MT Initiation | Y17: =CONCATENATE('[1]Constructon S1'!AV17," ",'[1]Constructon S1'!AW17) -> CB2 P | Z17: =CONCATENATE('[1]Constructon S1'!AX17," ",'[1]Constructon S1'!AY17) -> CB2 O | AA17: =CONCATENATE('[1]Constructon S1'!BA17) | AB17: =CONCATENATE('[1]Constructon S1'!BB17," ",'[1]Constructon S1'!BC17) | AC17: =CONCATENATE('[1]Constructon S1'!BD17," ",'[1]Constructon S1'!BE17) | AD17: =CONCATENATE('[1]Constructon S1'!BH17," ",'[1]Constructon S1'!BI17) | AE17: =CONCATENATE('[1]Constructon S1'!BJ17," ",'[1]Constructon S1'!BK17) | AG17: =CONCATENATE('[1]Constructon S1'!BN17) -> Elec 1 | AH17: =CONCATENATE('[1]Constructon S1'!BO17," ",'[1]Constructon S1'!BP17) -> CB2 K | AI17: =CONCATENATE('[1]Constructon S1'!BQ17," ",'[1]Constructon S1'!BR17) -> CB2 L | AJ17: =CONCATENATE('[1]Constructon S1'!BU17," ",'[1]Constructon S1'!BV17) -> CB2 M | AK17: =CONCATENATE('[1]Constructon S1'!BW17," ",'[1]Constructon S1'!BX17) -> CB2 N | AL17: =CONCATENATE('[1]Constructon S1'!BZ17) | AM17: =CONCATENATE('[1]Constructon S1'!CA17," ",'[1]Constructon S1'!CB17) | AN17: =CONCATENATE('[1]Constructon S1'!CC17," ",'[1]Constructon S1'!CD17) | AO17: =CONCATENATE('[1]Constructon S1'!CG17," ",'[1]Constructon S1'!CH17) | AP17: =CONCATENATE('[1]Constructon S1'!CI17," ",'[1]Constructon S1'!CJ17) | AR17: =CONCATENATE('[1]Constructon S1'!CL17) -> Balistique | AS17: =CONCATENATE('[1]Constructon S1'!CM17," ",'[1]Constructon S1'!CN17) -> MPCI1 C | AT17: =CONCATENATE('[1]Constructon S1'!CO17," ",'[1]Constructon S1'!CP17) | AU17: =CONCATENATE('[1]Constructon S1'!CR17) -> force | AV17: =CONCATENATE('[1]Constructon S1'!CS17," ",'[1]Constructon S1'!CT17) -> MPCI1 H | AW17: =CONCATENATE('[1]Constructon S1'!CU17," ",'[1]Constructon S1'!CV17) | AX17: =CONCATENATE('[1]Constructon S1'!CX17) -> Opt ondu | AY17: =CONCATENATE('[1]Constructon S1'!CY17," ",'[1]Constructon S1'!CZ17) -> MPCI1 B | AZ17: =CONCATENATE('[1]Constructon S1'!DA17," ",'[1]Constructon S1'!DB17)
A18: ='[1]Constructon S1'!A18 -> 39 | B18: ='[1]Constructon S1'!B18 -> 42641 | C18: =CONCATENATE('[1]Constructon S1'!C18) | D18: =CONCATENATE('[1]Constructon S1'!D18," ", '[1]Constructon S1'!E18) | E18: =CONCATENATE('[1]Constructon S1'!F18," ", '[1]Constructon S1'!G18) | F18: =CONCATENATE('[1]Constructon S1'!I18," ",'[1]Constructon S1'!J18) | G18: =CONCATENATE('[1]Constructon S1'!K18," ",'[1]Constructon S1'!L18) | I18: =CONCATENATE('[1]Constructon S1'!N18) | J18: =CONCATENATE('[1]Constructon S1'!O18," ",'[1]Constructon S1'!P18) | K18: =CONCATENATE('[1]Constructon S1'!Q18," ",'[1]Constructon S1'!R18) | M18: =CONCATENATE('[1]Constructon S1'!W18) | N18: =CONCATENATE('[1]Constructon S1'!X18," ",'[1]Constructon S1'!Y18) | O18: =CONCATENATE('[1]Constructon S1'!Z18," ",'[1]Constructon S1'!AA18) | P18: =CONCATENATE('[1]Constructon S1'!AD18," ",'[1]Constructon S1'!AE18) | Q18: =CONCATENATE('[1]Constructon S1'!AF18," ",'[1]Constructon S1'!AG18) | R18: =CONCATENATE('[1]Constructon S1'!AI18) -> AC Nucléique | S18: =CONCATENATE('[1]Constructon S1'!AJ18," ",'[1]Constructon S1'!AK18) -> CB1 E | T18: =CONCATENATE('[1]Constructon S1'!AL18," ",'[1]Constructon S1'!AM18) -> CB1 F | U18: =CONCATENATE('[1]Constructon S1'!AP18," ",'[1]Constructon S1'!AQ18) | V18: =CONCATENATE('[1]Constructon S1'!AR18," ",'[1]Constructon S1'!AS18) | X18: =CONCATENATE('[1]Constructon S1'!AU18) -> MT Initiation | Y18: =CONCATENATE('[1]Constructon S1'!AV18," ",'[1]Constructon S1'!AW18) -> CB1 G | Z18: =CONCATENATE('[1]Constructon S1'!AX18," ",'[1]Constructon S1'!AY18) -> CB1 H | AA18: =CONCATENATE('[1]Constructon S1'!BA18) | AB18: =CONCATENATE('[1]Constructon S1'!BB18," ",'[1]Constructon S1'!BC18) | AC18: =CONCATENATE('[1]Constructon S1'!BD18," ",'[1]Constructon S1'!BE18) | AD18: =CONCATENATE('[1]Constructon S1'!BH18," ",'[1]Constructon S1'!BI18) | AE18: =CONCATENATE('[1]Constructon S1'!BJ18," ",'[1]Constructon S1'!BK18) | AG18: =CONCATENATE('[1]Constructon S1'!BN18) -> Elec 1 | AH18: =CONCATENATE('[1]Constructon S1'!BO18," ",'[1]Constructon S1'!BP18) -> CB1 A | AI18: =CONCATENATE('[1]Constructon S1'!BQ18," ",'[1]Constructon S1'!BR18) -> CB1 B | AJ18: =CONCATENATE('[1]Constructon S1'!BU18," ",'[1]Constructon S1'!BV18) -> CB1 C | AK18: =CONCATENATE('[1]Constructon S1'!BW18," ",'[1]Constructon S1'!BX18) -> CB1 D | AL18: =CONCATENATE('[1]Constructon S1'!BZ18) | AM18: =CONCATENATE('[1]Constructon S1'!CA18," ",'[1]Constructon S1'!CB18) | AN18: =CONCATENATE('[1]Constructon S1'!CC18," ",'[1]Constructon S1'!CD18) | AO18: =CONCATENATE('[1]Constructon S1'!CG18," ",'[1]Constructon S1'!CH18) | AP18: =CONCATENATE('[1]Constructon S1'!CI18," ",'[1]Constructon S1'!CJ18) | AR18: =CONCATENATE('[1]Constructon S1'!CL18) | AS18: =CONCATENATE('[1]Constructon S1'!CM18," ",'[1]Constructon S1'!CN18) | AT18: =CONCATENATE('[1]Constructon S1'!CO18," ",'[1]Constructon S1'!CP18) | AU18: =CONCATENATE('[1]Constructon S1'!CR18) | AV18: =CONCATENATE('[1]Constructon S1'!CS18," ",'[1]Constructon S1'!CT18) | AW18: =CONCATENATE('[1]Constructon S1'!CU18," ",'[1]Constructon S1'!CV18) | AX18: =CONCATENATE('[1]Constructon S1'!CX18) | AY18: =CONCATENATE('[1]Constructon S1'!CY18," ",'[1]Constructon S1'!CZ18) | AZ18: =CONCATENATE('[1]Constructon S1'!DA18," ",'[1]Constructon S1'!DB18)
A19: ='[1]Constructon S1'!A19 -> 39 | B19: ='[1]Constructon S1'!B19 -> 42642 | C19: =CONCATENATE('[1]Constructon S1'!C19) | D19: =CONCATENATE('[1]Constructon S1'!D19," ", '[1]Constructon S1'!E19) | E19: =CONCATENATE('[1]Constructon S1'!F19," ", '[1]Constructon S1'!G19) | F19: =CONCATENATE('[1]Constructon S1'!I19," ",'[1]Constructon S1'!J19) | G19: =CONCATENATE('[1]Constructon S1'!K19," ",'[1]Constructon S1'!L19) | I19: =CONCATENATE('[1]Constructon S1'!N19) | J19: =CONCATENATE('[1]Constructon S1'!O19," ",'[1]Constructon S1'!P19) | K19: =CONCATENATE('[1]Constructon S1'!Q19," ",'[1]Constructon S1'!R19) | M19: =CONCATENATE('[1]Constructon S1'!W19) | N19: =CONCATENATE('[1]Constructon S1'!X19," ",'[1]Constructon S1'!Y19) | O19: =CONCATENATE('[1]Constructon S1'!Z19," ",'[1]Constructon S1'!AA19) | P19: =CONCATENATE('[1]Constructon S1'!AD19," ",'[1]Constructon S1'!AE19) | Q19: =CONCATENATE('[1]Constructon S1'!AF19," ",'[1]Constructon S1'!AG19) | R19: =CONCATENATE('[1]Constructon S1'!AI19) | S19: =CONCATENATE('[1]Constructon S1'!AJ19," ",'[1]Constructon S1'!AK19) | T19: =CONCATENATE('[1]Constructon S1'!AL19," ",'[1]Constructon S1'!AM19) | U19: =CONCATENATE('[1]Constructon S1'!AP19," ",'[1]Constructon S1'!AQ19) | V19: =CONCATENATE('[1]Constructon S1'!AR19," ",'[1]Constructon S1'!AS19) | X19: =CONCATENATE('[1]Constructon S1'!AU19) -> MT Initiation | Y19: =CONCATENATE('[1]Constructon S1'!AV19," ",'[1]Constructon S1'!AW19) -> CB2 Q | Z19: =CONCATENATE('[1]Constructon S1'!AX19," ",'[1]Constructon S1'!AY19) | AA19: =CONCATENATE('[1]Constructon S1'!BA19) | AB19: =CONCATENATE('[1]Constructon S1'!BB19," ",'[1]Constructon S1'!BC19) | AC19: =CONCATENATE('[1]Constructon S1'!BD19," ",'[1]Constructon S1'!BE19) | AD19: =CONCATENATE('[1]Constructon S1'!BH19," ",'[1]Constructon S1'!BI19) | AE19: =CONCATENATE('[1]Constructon S1'!BJ19," ",'[1]Constructon S1'!BK19) | AG19: =CONCATENATE('[1]Constructon S1'!BN19) -> Elec 1 | AH19: =CONCATENATE('[1]Constructon S1'!BO19," ",'[1]Constructon S1'!BP19) -> CB2 O | AI19: =CONCATENATE('[1]Constructon S1'!BQ19," ",'[1]Constructon S1'!BR19) | AJ19: =CONCATENATE('[1]Constructon S1'!BU19," ",'[1]Constructon S1'!BV19) -> CB2 P | AK19: =CONCATENATE('[1]Constructon S1'!BW19," ",'[1]Constructon S1'!BX19) | AL19: =CONCATENATE('[1]Constructon S1'!BZ19) | AM19: =CONCATENATE('[1]Constructon S1'!CA19," ",'[1]Constructon S1'!CB19) | AN19: =CONCATENATE('[1]Constructon S1'!CC19," ",'[1]Constructon S1'!CD19) | AO19: =CONCATENATE('[1]Constructon S1'!CG19," ",'[1]Constructon S1'!CH19) | AP19: =CONCATENATE('[1]Constructon S1'!CI19," ",'[1]Constructon S1'!CJ19) | AR19: =CONCATENATE('[1]Constructon S1'!CL19) | AS19: =CONCATENATE('[1]Constructon S1'!CM19," ",'[1]Constructon S1'!CN19) | AT19: =CONCATENATE('[1]Constructon S1'!CO19," ",'[1]Constructon S1'!CP19) | AU19: =CONCATENATE('[1]Constructon S1'!CR19) | AV19: =CONCATENATE('[1]Constructon S1'!CS19," ",'[1]Constructon S1'!CT19) | AW19: =CONCATENATE('[1]Constructon S1'!CU19," ",'[1]Constructon S1'!CV19) | AX19: =CONCATENATE('[1]Constructon S1'!CX19) | AY19: =CONCATENATE('[1]Constructon S1'!CY19," ",'[1]Constructon S1'!CZ19) | AZ19: =CONCATENATE('[1]Constructon S1'!DA19," ",'[1]Constructon S1'!DB19)
A20: ='[1]Constructon S1'!A20 -> 39 | B20: ='[1]Constructon S1'!B20 -> 42643 | C20: =CONCATENATE('[1]Constructon S1'!C20) | D20: =CONCATENATE('[1]Constructon S1'!D20," ", '[1]Constructon S1'!E20) | E20: =CONCATENATE('[1]Constructon S1'!F20," ", '[1]Constructon S1'!G20) | F20: =CONCATENATE('[1]Constructon S1'!I20," ",'[1]Constructon S1'!J20) | G20: =CONCATENATE('[1]Constructon S1'!K20," ",'[1]Constructon S1'!L20) | I20: =CONCATENATE('[1]Constructon S1'!N20) | J20: =CONCATENATE('[1]Constructon S1'!O20," ",'[1]Constructon S1'!P20) | K20: =CONCATENATE('[1]Constructon S1'!Q20," ",'[1]Constructon S1'!R20) | M20: =CONCATENATE('[1]Constructon S1'!W20) | N20: =CONCATENATE('[1]Constructon S1'!X20," ",'[1]Constructon S1'!Y20) | O20: =CONCATENATE('[1]Constructon S1'!Z20," ",'[1]Constructon S1'!AA20) | P20: =CONCATENATE('[1]Constructon S1'!AD20," ",'[1]Constructon S1'!AE20) | Q20: =CONCATENATE('[1]Constructon S1'!AF20," ",'[1]Constructon S1'!AG20) | R20: =CONCATENATE('[1]Constructon S1'!AI20) -> AC Nucléique | S20: =CONCATENATE('[1]Constructon S1'!AJ20," ",'[1]Constructon S1'!AK20) -> BI E | T20: =CONCATENATE('[1]Constructon S1'!AL20," ",'[1]Constructon S1'!AM20) -> BI F | U20: =CONCATENATE('[1]Constructon S1'!AP20," ",'[1]Constructon S1'!AQ20) -> BI G | V20: =CONCATENATE('[1]Constructon S1'!AR20," ",'[1]Constructon S1'!AS20) -> BI H | X20: =CONCATENATE('[1]Constructon S1'!AU20) -> MT Initiation | Y20: =CONCATENATE('[1]Constructon S1'!AV20," ",'[1]Constructon S1'!AW20) -> BI F | Z20: =CONCATENATE('[1]Constructon S1'!AX20," ",'[1]Constructon S1'!AY20) -> BI E | AA20: =CONCATENATE('[1]Constructon S1'!BA20) | AB20: =CONCATENATE('[1]Constructon S1'!BB20," ",'[1]Constructon S1'!BC20) | AC20: =CONCATENATE('[1]Constructon S1'!BD20," ",'[1]Constructon S1'!BE20) | AD20: =CONCATENATE('[1]Constructon S1'!BH20," ",'[1]Constructon S1'!BI20) | AE20: =CONCATENATE('[1]Constructon S1'!BJ20," ",'[1]Constructon S1'!BK20) | AG20: =CONCATENATE('[1]Constructon S1'!BN20) -> Elec 1 | AH20: =CONCATENATE('[1]Constructon S1'!BO20," ",'[1]Constructon S1'!BP20) | AI20: =CONCATENATE('[1]Constructon S1'!BQ20," ",'[1]Constructon S1'!BR20) | AJ20: =CONCATENATE('[1]Constructon S1'!BU20," ",'[1]Constructon S1'!BV20) -> CB1 F | AK20: =CONCATENATE('[1]Constructon S1'!BW20," ",'[1]Constructon S1'!BX20) | AL20: =CONCATENATE('[1]Constructon S1'!BZ20) | AM20: =CONCATENATE('[1]Constructon S1'!CA20," ",'[1]Constructon S1'!CB20) | AN20: =CONCATENATE('[1]Constructon S1'!CC20," ",'[1]Constructon S1'!CD20) | AO20: =CONCATENATE('[1]Constructon S1'!CG20," ",'[1]Constructon S1'!CH20) | AP20: =CONCATENATE('[1]Constructon S1'!CI20," ",'[1]Constructon S1'!CJ20) | AR20: =CONCATENATE('[1]Constructon S1'!CL20) | AS20: =CONCATENATE('[1]Constructon S1'!CM20," ",'[1]Constructon S1'!CN20) | AT20: =CONCATENATE('[1]Constructon S1'!CO20," ",'[1]Constructon S1'!CP20) | AU20: =CONCATENATE('[1]Constructon S1'!CR20) | AV20: =CONCATENATE('[1]Constructon S1'!CS20," ",'[1]Constructon S1'!CT20) | AW20: =CONCATENATE('[1]Constructon S1'!CU20," ",'[1]Constructon S1'!CV20) | AX20: =CONCATENATE('[1]Constructon S1'!CX20) | AY20: =CONCATENATE('[1]Constructon S1'!CY20," ",'[1]Constructon S1'!CZ20) | AZ20: =CONCATENATE('[1]Constructon S1'!DA20," ",'[1]Constructon S1'!DB20)
C21: =CONCATENATE('[1]Constructon S1'!C21) | I21: =CONCATENATE('[1]Constructon S1'!N21) | M21: =CONCATENATE('[1]Constructon S1'!W21) | R21: =CONCATENATE('[1]Constructon S1'!AI21) | X21: =CONCATENATE('[1]Constructon S1'!AU21) | AA21: =CONCATENATE('[1]Constructon S1'!BA21) | AG21: =CONCATENATE('[1]Constructon S1'!BN21) | AL21: =CONCATENATE('[1]Constructon S1'!BZ21) | AR21: =CONCATENATE('[1]Constructon S1'!CL21) | AU21: =CONCATENATE('[1]Constructon S1'!CR21) | AX21: =CONCATENATE('[1]Constructon S1'!CX21)
A22: ='[1]Constructon S1'!A22 -> 40 | B22: ='[1]Constructon S1'!B22 -> 42646 | C22: =CONCATENATE('[1]Constructon S1'!C22) -> TP 1 CH100 | D22: =CONCATENATE('[1]Constructon S1'!D22," ", '[1]Constructon S1'!E22) | E22: =CONCATENATE('[1]Constructon S1'!F22," ", '[1]Constructon S1'!G22) -> MPCI1 B | F22: =CONCATENATE('[1]Constructon S1'!I22," ",'[1]Constructon S1'!J22) | G22: =CONCATENATE('[1]Constructon S1'!K22," ",'[1]Constructon S1'!L22) -> MPCI1 A | I22: =CONCATENATE('[1]Constructon S1'!N22) | J22: =CONCATENATE('[1]Constructon S1'!O22," ",'[1]Constructon S1'!P22) | K22: =CONCATENATE('[1]Constructon S1'!Q22," ",'[1]Constructon S1'!R22) | M22: =CONCATENATE('[1]Constructon S1'!W22) | N22: =CONCATENATE('[1]Constructon S1'!X22," ",'[1]Constructon S1'!Y22) | O22: =CONCATENATE('[1]Constructon S1'!Z22," ",'[1]Constructon S1'!AA22) | P22: =CONCATENATE('[1]Constructon S1'!AD22," ",'[1]Constructon S1'!AE22) | Q22: =CONCATENATE('[1]Constructon S1'!AF22," ",'[1]Constructon S1'!AG22) | R22: =CONCATENATE('[1]Constructon S1'!AI22) | S22: =CONCATENATE('[1]Constructon S1'!AJ22," ",'[1]Constructon S1'!AK22) | T22: =CONCATENATE('[1]Constructon S1'!AL22," ",'[1]Constructon S1'!AM22) | U22: =CONCATENATE('[1]Constructon S1'!AP22," ",'[1]Constructon S1'!AQ22) | V22: =CONCATENATE('[1]Constructon S1'!AR22," ",'[1]Constructon S1'!AS22) | X22: =CONCATENATE('[1]Constructon S1'!AU22) | Y22: =CONCATENATE('[1]Constructon S1'!AV22," ",'[1]Constructon S1'!AW22) | Z22: =CONCATENATE('[1]Constructon S1'!AX22," ",'[1]Constructon S1'!AY22) | AA22: =CONCATENATE('[1]Constructon S1'!BA22) | AB22: =CONCATENATE('[1]Constructon S1'!BB22," ",'[1]Constructon S1'!BC22) | AC22: =CONCATENATE('[1]Constructon S1'!BD22," ",'[1]Constructon S1'!BE22) | AD22: =CONCATENATE('[1]Constructon S1'!BH22," ",'[1]Constructon S1'!BI22) | AE22: =CONCATENATE('[1]Constructon S1'!BJ22," ",'[1]Constructon S1'!BK22) | AG22: =CONCATENATE('[1]Constructon S1'!BN22) | AH22: =CONCATENATE('[1]Constructon S1'!BO22," ",'[1]Constructon S1'!BP22) | AI22: =CONCATENATE('[1]Constructon S1'!BQ22," ",'[1]Constructon S1'!BR22) | AJ22: =CONCATENATE('[1]Constructon S1'!BU22," ",'[1]Constructon S1'!BV22) | AK22: =CONCATENATE('[1]Constructon S1'!BW22," ",'[1]Constructon S1'!BX22) | AL22: =CONCATENATE('[1]Constructon S1'!BZ22) | AM22: =CONCATENATE('[1]Constructon S1'!CA22," ",'[1]Constructon S1'!CB22) | AN22: =CONCATENATE('[1]Constructon S1'!CC22," ",'[1]Constructon S1'!CD22) | AO22: =CONCATENATE('[1]Constructon S1'!CG22," ",'[1]Constructon S1'!CH22) | AP22: =CONCATENATE('[1]Constructon S1'!CI22," ",'[1]Constructon S1'!CJ22) | AR22: =CONCATENATE('[1]Constructon S1'!CL22) -> Balistique | AS22: =CONCATENATE('[1]Constructon S1'!CM22," ",'[1]Constructon S1'!CN22) -> MPCI1 G | AT22: =CONCATENATE('[1]Constructon S1'!CO22," ",'[1]Constructon S1'!CP22) -> MPCI1 D | AU22: =CONCATENATE('[1]Constructon S1'!CR22) -> force | AV22: =CONCATENATE('[1]Constructon S1'!CS22," ",'[1]Constructon S1'!CT22) -> MPCI1 E | AW22: =CONCATENATE('[1]Constructon S1'!CU22," ",'[1]Constructon S1'!CV22) | AX22: =CONCATENATE('[1]Constructon S1'!CX22) -> Opt ondu | AY22: =CONCATENATE('[1]Constructon S1'!CY22," ",'[1]Constructon S1'!CZ22) -> MPCI1 C | AZ22: =CONCATENATE('[1]Constructon S1'!DA22," ",'[1]Constructon S1'!DB22) -> MPCI1 G
A23: ='[1]Constructon S1'!A23 -> 40 | B23: ='[1]Constructon S1'!B23 -> 42647 | C23: =CONCATENATE('[1]Constructon S1'!C23) -> TP 1 CH100 | D23: =CONCATENATE('[1]Constructon S1'!D23," ", '[1]Constructon S1'!E23) -> CB2 R | E23: =CONCATENATE('[1]Constructon S1'!F23," ", '[1]Constructon S1'!G23) -> CB2 Q | F23: =CONCATENATE('[1]Constructon S1'!I23," ",'[1]Constructon S1'!J23) -> CB2 T | G23: =CONCATENATE('[1]Constructon S1'!K23," ",'[1]Constructon S1'!L23) -> CB2 S | I23: =CONCATENATE('[1]Constructon S1'!N23) -> TP1 MT100 | J23: =CONCATENATE('[1]Constructon S1'!O23," ",'[1]Constructon S1'!P23) -> CB2 K | K23: =CONCATENATE('[1]Constructon S1'!Q23," ",'[1]Constructon S1'!R23) -> CB2 L | M23: =CONCATENATE('[1]Constructon S1'!W23) | N23: =CONCATENATE('[1]Constructon S1'!X23," ",'[1]Constructon S1'!Y23) | O23: =CONCATENATE('[1]Constructon S1'!Z23," ",'[1]Constructon S1'!AA23) | P23: =CONCATENATE('[1]Constructon S1'!AD23," ",'[1]Constructon S1'!AE23) | Q23: =CONCATENATE('[1]Constructon S1'!AF23," ",'[1]Constructon S1'!AG23) | R23: =CONCATENATE('[1]Constructon S1'!AI23) | S23: =CONCATENATE('[1]Constructon S1'!AJ23," ",'[1]Constructon S1'!AK23) | T23: =CONCATENATE('[1]Constructon S1'!AL23," ",'[1]Constructon S1'!AM23) | U23: =CONCATENATE('[1]Constructon S1'!AP23," ",'[1]Constructon S1'!AQ23) | V23: =CONCATENATE('[1]Constructon S1'!AR23," ",'[1]Constructon S1'!AS23) | X23: =CONCATENATE('[1]Constructon S1'!AU23) -> MT Initiation | Y23: =CONCATENATE('[1]Constructon S1'!AV23," ",'[1]Constructon S1'!AW23) -> CB2 N | Z23: =CONCATENATE('[1]Constructon S1'!AX23," ",'[1]Constructon S1'!AY23) -> CB2 M | AA23: =CONCATENATE('[1]Constructon S1'!BA23) | AB23: =CONCATENATE('[1]Constructon S1'!BB23," ",'[1]Constructon S1'!BC23) | AC23: =CONCATENATE('[1]Constructon S1'!BD23," ",'[1]Constructon S1'!BE23) | AD23: =CONCATENATE('[1]Constructon S1'!BH23," ",'[1]Constructon S1'!BI23) | AE23: =CONCATENATE('[1]Constructon S1'!BJ23," ",'[1]Constructon S1'!BK23) | AG23: =CONCATENATE('[1]Constructon S1'!BN23) -> Elec 1 | AH23: =CONCATENATE('[1]Constructon S1'!BO23," ",'[1]Constructon S1'!BP23) -> CB2 Q | AI23: =CONCATENATE('[1]Constructon S1'!BQ23," ",'[1]Constructon S1'!BR23) -> CB2 R | AJ23: =CONCATENATE('[1]Constructon S1'!BU23," ",'[1]Constructon S1'!BV23) -> CB2 S | AK23: =CONCATENATE('[1]Constructon S1'!BW23," ",'[1]Constructon S1'!BX23) -> CB2 T | AL23: =CONCATENATE('[1]Constructon S1'!BZ23) | AM23: =CONCATENATE('[1]Constructon S1'!CA23," ",'[1]Constructon S1'!CB23) | AN23: =CONCATENATE('[1]Constructon S1'!CC23," ",'[1]Constructon S1'!CD23) | AO23: =CONCATENATE('[1]Constructon S1'!CG23," ",'[1]Constructon S1'!CH23) | AP23: =CONCATENATE('[1]Constructon S1'!CI23," ",'[1]Constructon S1'!CJ23) | AR23: =CONCATENATE('[1]Constructon S1'!CL23) -> Balistique | AS23: =CONCATENATE('[1]Constructon S1'!CM23," ",'[1]Constructon S1'!CN23) -> MPCI1 E | AT23: =CONCATENATE('[1]Constructon S1'!CO23," ",'[1]Constructon S1'!CP23) | AU23: =CONCATENATE('[1]Constructon S1'!CR23) -> force | AV23: =CONCATENATE('[1]Constructon S1'!CS23," ",'[1]Constructon S1'!CT23) -> MPCI1 A | AW23: =CONCATENATE('[1]Constructon S1'!CU23," ",'[1]Constructon S1'!CV23) | AX23: =CONCATENATE('[1]Constructon S1'!CX23) -> Opt ondu | AY23: =CONCATENATE('[1]Constructon S1'!CY23," ",'[1]Constructon S1'!CZ23) -> MPCI1 D | AZ23: =CONCATENATE('[1]Constructon S1'!DA23," ",'[1]Constructon S1'!DB23)
A24: ='[1]Constructon S1'!A24 -> 40 | B24: ='[1]Constructon S1'!B24 -> 42648 | C24: =CONCATENATE('[1]Constructon S1'!C24) -> TP 1 CH100 | D24: =CONCATENATE('[1]Constructon S1'!D24," ", '[1]Constructon S1'!E24) -> CB1 E | E24: =CONCATENATE('[1]Constructon S1'!F24," ", '[1]Constructon S1'!G24) -> CB1 A | F24: =CONCATENATE('[1]Constructon S1'!I24," ",'[1]Constructon S1'!J24) -> CB1 F | G24: =CONCATENATE('[1]Constructon S1'!K24," ",'[1]Constructon S1'!L24) -> CB1 C | I24: =CONCATENATE('[1]Constructon S1'!N24) -> TP1 MT100 | J24: =CONCATENATE('[1]Constructon S1'!O24," ",'[1]Constructon S1'!P24) | K24: =CONCATENATE('[1]Constructon S1'!Q24," ",'[1]Constructon S1'!R24) | M24: =CONCATENATE('[1]Constructon S1'!W24) | N24: =CONCATENATE('[1]Constructon S1'!X24," ",'[1]Constructon S1'!Y24) | O24: =CONCATENATE('[1]Constructon S1'!Z24," ",'[1]Constructon S1'!AA24) | P24: =CONCATENATE('[1]Constructon S1'!AD24," ",'[1]Constructon S1'!AE24) | Q24: =CONCATENATE('[1]Constructon S1'!AF24," ",'[1]Constructon S1'!AG24) | R24: =CONCATENATE('[1]Constructon S1'!AI24) -> AC Nucléique | S24: =CONCATENATE('[1]Constructon S1'!AJ24," ",'[1]Constructon S1'!AK24) -> CB1 A | T24: =CONCATENATE('[1]Constructon S1'!AL24," ",'[1]Constructon S1'!AM24) -> CB1 B | U24: =CONCATENATE('[1]Constructon S1'!AP24," ",'[1]Constructon S1'!AQ24) | V24: =CONCATENATE('[1]Constructon S1'!AR24," ",'[1]Constructon S1'!AS24) | X24: =CONCATENATE('[1]Constructon S1'!AU24) -> MT Initiation | Y24: =CONCATENATE('[1]Constructon S1'!AV24," ",'[1]Constructon S1'!AW24) -> CB1 C | Z24: =CONCATENATE('[1]Constructon S1'!AX24," ",'[1]Constructon S1'!AY24) -> CB1 D | AA24: =CONCATENATE('[1]Constructon S1'!BA24) | AB24: =CONCATENATE('[1]Constructon S1'!BB24," ",'[1]Constructon S1'!BC24) | AC24: =CONCATENATE('[1]Constructon S1'!BD24," ",'[1]Constructon S1'!BE24) | AD24: =CONCATENATE('[1]Constructon S1'!BH24," ",'[1]Constructon S1'!BI24) | AE24: =CONCATENATE('[1]Constructon S1'!BJ24," ",'[1]Constructon S1'!BK24) | AG24: =CONCATENATE('[1]Constructon S1'!BN24) -> Elec 1 | AH24: =CONCATENATE('[1]Constructon S1'!BO24," ",'[1]Constructon S1'!BP24) -> CB1 G | AI24: =CONCATENATE('[1]Constructon S1'!BQ24," ",'[1]Constructon S1'!BR24) -> CB1 H | AJ24: =CONCATENATE('[1]Constructon S1'!BU24," ",'[1]Constructon S1'!BV24) -> CB1 I | AK24: =CONCATENATE('[1]Constructon S1'!BW24," ",'[1]Constructon S1'!BX24) | AL24: =CONCATENATE('[1]Constructon S1'!BZ24) | AM24: =CONCATENATE('[1]Constructon S1'!CA24," ",'[1]Constructon S1'!CB24) | AN24: =CONCATENATE('[1]Constructon S1'!CC24," ",'[1]Constructon S1'!CD24) | AO24: =CONCATENATE('[1]Constructon S1'!CG24," ",'[1]Constructon S1'!CH24) | AP24: =CONCATENATE('[1]Constructon S1'!CI24," ",'[1]Constructon S1'!CJ24) | AR24: =CONCATENATE('[1]Constructon S1'!CL24) | AS24: =CONCATENATE('[1]Constructon S1'!CM24," ",'[1]Constructon S1'!CN24) | AT24: =CONCATENATE('[1]Constructon S1'!CO24," ",'[1]Constructon S1'!CP24) | AU24: =CONCATENATE('[1]Constructon S1'!CR24) | AV24: =CONCATENATE('[1]Constructon S1'!CS24," ",'[1]Constructon S1'!CT24) | AW24: =CONCATENATE('[1]Constructon S1'!CU24," ",'[1]Constructon S1'!CV24) | AX24: =CONCATENATE('[1]Constructon S1'!CX24) | AY24: =CONCATENATE('[1]Constructon S1'!CY24," ",'[1]Constructon S1'!CZ24) | AZ24: =CONCATENATE('[1]Constructon S1'!DA24," ",'[1]Constructon S1'!DB24)
A25: ='[1]Constructon S1'!A25 -> 40 | B25: ='[1]Constructon S1'!B25 -> 42649 | C25: =CONCATENATE('[1]Constructon S1'!C25) -> TP 1 CH100 | D25: =CONCATENATE('[1]Constructon S1'!D25," ", '[1]Constructon S1'!E25) -> CB2 O | E25: =CONCATENATE('[1]Constructon S1'!F25," ", '[1]Constructon S1'!G25) | F25: =CONCATENATE('[1]Constructon S1'!I25," ",'[1]Constructon S1'!J25) -> CB2 P | G25: =CONCATENATE('[1]Constructon S1'!K25," ",'[1]Constructon S1'!L25) | I25: =CONCATENATE('[1]Constructon S1'!N25) -> TP1 MT100 | J25: =CONCATENATE('[1]Constructon S1'!O25," ",'[1]Constructon S1'!P25) | K25: =CONCATENATE('[1]Constructon S1'!Q25," ",'[1]Constructon S1'!R25) | M25: =CONCATENATE('[1]Constructon S1'!W25) | N25: =CONCATENATE('[1]Constructon S1'!X25," ",'[1]Constructon S1'!Y25) | O25: =CONCATENATE('[1]Constructon S1'!Z25," ",'[1]Constructon S1'!AA25) | P25: =CONCATENATE('[1]Constructon S1'!AD25," ",'[1]Constructon S1'!AE25) | Q25: =CONCATENATE('[1]Constructon S1'!AF25," ",'[1]Constructon S1'!AG25) | R25: =CONCATENATE('[1]Constructon S1'!AI25) | S25: =CONCATENATE('[1]Constructon S1'!AJ25," ",'[1]Constructon S1'!AK25) | T25: =CONCATENATE('[1]Constructon S1'!AL25," ",'[1]Constructon S1'!AM25) | U25: =CONCATENATE('[1]Constructon S1'!AP25," ",'[1]Constructon S1'!AQ25) | V25: =CONCATENATE('[1]Constructon S1'!AR25," ",'[1]Constructon S1'!AS25) | X25: =CONCATENATE('[1]Constructon S1'!AU25) -> MT Initiation | Y25: =CONCATENATE('[1]Constructon S1'!AV25," ",'[1]Constructon S1'!AW25) -> CB2 K | Z25: =CONCATENATE('[1]Constructon S1'!AX25," ",'[1]Constructon S1'!AY25) | AA25: =CONCATENATE('[1]Constructon S1'!BA25) | AB25: =CONCATENATE('[1]Constructon S1'!BB25," ",'[1]Constructon S1'!BC25) | AC25: =CONCATENATE('[1]Constructon S1'!BD25," ",'[1]Constructon S1'!BE25) | AD25: =CONCATENATE('[1]Constructon S1'!BH25," ",'[1]Constructon S1'!BI25) | AE25: =CONCATENATE('[1]Constructon S1'!BJ25," ",'[1]Constructon S1'!BK25) | AG25: =CONCATENATE('[1]Constructon S1'!BN25) | AH25: =CONCATENATE('[1]Constructon S1'!BO25," ",'[1]Constructon S1'!BP25) | AI25: =CONCATENATE('[1]Constructon S1'!BQ25," ",'[1]Constructon S1'!BR25) | AJ25: =CONCATENATE('[1]Constructon S1'!BU25," ",'[1]Constructon S1'!BV25) | AK25: =CONCATENATE('[1]Constructon S1'!BW25," ",'[1]Constructon S1'!BX25) | AL25: =CONCATENATE('[1]Constructon S1'!BZ25) | AM25: =CONCATENATE('[1]Constructon S1'!CA25," ",'[1]Constructon S1'!CB25) | AN25: =CONCATENATE('[1]Constructon S1'!CC25," ",'[1]Constructon S1'!CD25) | AO25: =CONCATENATE('[1]Constructon S1'!CG25," ",'[1]Constructon S1'!CH25) | AP25: =CONCATENATE('[1]Constructon S1'!CI25," ",'[1]Constructon S1'!CJ25) | AR25: =CONCATENATE('[1]Constructon S1'!CL25) | AS25: =CONCATENATE('[1]Constructon S1'!CM25," ",'[1]Constructon S1'!CN25) | AT25: =CONCATENATE('[1]Constructon S1'!CO25," ",'[1]Constructon S1'!CP25) | AU25: =CONCATENATE('[1]Constructon S1'!CR25) | AV25: =CONCATENATE('[1]Constructon S1'!CS25," ",'[1]Constructon S1'!CT25) | AW25: =CONCATENATE('[1]Constructon S1'!CU25," ",'[1]Constructon S1'!CV25) | AX25: =CONCATENATE('[1]Constructon S1'!CX25) | AY25: =CONCATENATE('[1]Constructon S1'!CY25," ",'[1]Constructon S1'!CZ25) | AZ25: =CONCATENATE('[1]Constructon S1'!DA25," ",'[1]Constructon S1'!DB25)
A26: ='[1]Constructon S1'!A26 -> 40 | B26: ='[1]Constructon S1'!B26 -> 42650 | C26: =CONCATENATE('[1]Constructon S1'!C26) -> TP 1 CH100 | D26: =CONCATENATE('[1]Constructon S1'!D26," ", '[1]Constructon S1'!E26) -> CB1 D | E26: =CONCATENATE('[1]Constructon S1'!F26," ", '[1]Constructon S1'!G26) -> BI A | F26: =CONCATENATE('[1]Constructon S1'!I26," ",'[1]Constructon S1'!J26) -> CB1 H | G26: =CONCATENATE('[1]Constructon S1'!K26," ",'[1]Constructon S1'!L26) -> BI B | I26: =CONCATENATE('[1]Constructon S1'!N26) -> TP1 MT100 | J26: =CONCATENATE('[1]Constructon S1'!O26," ",'[1]Constructon S1'!P26) -> CB1 A | K26: =CONCATENATE('[1]Constructon S1'!Q26," ",'[1]Constructon S1'!R26) | M26: =CONCATENATE('[1]Constructon S1'!W26) | N26: =CONCATENATE('[1]Constructon S1'!X26," ",'[1]Constructon S1'!Y26) | O26: =CONCATENATE('[1]Constructon S1'!Z26," ",'[1]Constructon S1'!AA26) | P26: =CONCATENATE('[1]Constructon S1'!AD26," ",'[1]Constructon S1'!AE26) | Q26: =CONCATENATE('[1]Constructon S1'!AF26," ",'[1]Constructon S1'!AG26) | R26: =CONCATENATE('[1]Constructon S1'!AI26) | S26: =CONCATENATE('[1]Constructon S1'!AJ26," ",'[1]Constructon S1'!AK26) | T26: =CONCATENATE('[1]Constructon S1'!AL26," ",'[1]Constructon S1'!AM26) | U26: =CONCATENATE('[1]Constructon S1'!AP26," ",'[1]Constructon S1'!AQ26) | V26: =CONCATENATE('[1]Constructon S1'!AR26," ",'[1]Constructon S1'!AS26) | X26: =CONCATENATE('[1]Constructon S1'!AU26) -> MT Initiation | Y26: =CONCATENATE('[1]Constructon S1'!AV26," ",'[1]Constructon S1'!AW26) -> BI D | Z26: =CONCATENATE('[1]Constructon S1'!AX26," ",'[1]Constructon S1'!AY26) -> BI C | AA26: =CONCATENATE('[1]Constructon S1'!BA26) | AB26: =CONCATENATE('[1]Constructon S1'!BB26," ",'[1]Constructon S1'!BC26) | AC26: =CONCATENATE('[1]Constructon S1'!BD26," ",'[1]Constructon S1'!BE26) | AD26: =CONCATENATE('[1]Constructon S1'!BH26," ",'[1]Constructon S1'!BI26) | AE26: =CONCATENATE('[1]Constructon S1'!BJ26," ",'[1]Constructon S1'!BK26) | AG26: =CONCATENATE('[1]Constructon S1'!BN26) | AH26: =CONCATENATE('[1]Constructon S1'!BO26," ",'[1]Constructon S1'!BP26) | AI26: =CONCATENATE('[1]Constructon S1'!BQ26," ",'[1]Constructon S1'!BR26) | AJ26: =CONCATENATE('[1]Constructon S1'!BU26," ",'[1]Constructon S1'!BV26) -> CB1 E | AK26: =CONCATENATE('[1]Constructon S1'!BW26," ",'[1]Constructon S1'!BX26) | AL26: =CONCATENATE('[1]Constructon S1'!BZ26) | AM26: =CONCATENATE('[1]Constructon S1'!CA26," ",'[1]Constructon S1'!CB26) | AN26: =CONCATENATE('[1]Constructon S1'!CC26," ",'[1]Constructon S1'!CD26) | AO26: =CONCATENATE('[1]Constructon S1'!CG26," ",'[1]Constructon S1'!CH26) | AP26: =CONCATENATE('[1]Constructon S1'!CI26," ",'[1]Constructon S1'!CJ26) | AR26: =CONCATENATE('[1]Constructon S1'!CL26) | AS26: =CONCATENATE('[1]Constructon S1'!CM26," ",'[1]Constructon S1'!CN26) | AT26: =CONCATENATE('[1]Constructon S1'!CO26," ",'[1]Constructon S1'!CP26) | AU26: =CONCATENATE('[1]Constructon S1'!CR26) | AV26: =CONCATENATE('[1]Constructon S1'!CS26," ",'[1]Constructon S1'!CT26) | AW26: =CONCATENATE('[1]Constructon S1'!CU26," ",'[1]Constructon S1'!CV26) | AX26: =CONCATENATE('[1]Constructon S1'!CX26) | AY26: =CONCATENATE('[1]Constructon S1'!CY26," ",'[1]Constructon S1'!CZ26) | AZ26: =CONCATENATE('[1]Constructon S1'!DA26," ",'[1]Constructon S1'!DB26)
C27: =CONCATENATE('[1]Constructon S1'!C27) | I27: =CONCATENATE('[1]Constructon S1'!N27) | M27: =CONCATENATE('[1]Constructon S1'!W27) | R27: =CONCATENATE('[1]Constructon S1'!AI27) | X27: =CONCATENATE('[1]Constructon S1'!AU27) | AA27: =CONCATENATE('[1]Constructon S1'!BA27) | AG27: =CONCATENATE('[1]Constructon S1'!BN27) | AL27: =CONCATENATE('[1]Constructon S1'!BZ27) | AR27: =CONCATENATE('[1]Constructon S1'!CL27) | AU27: =CONCATENATE('[1]Constructon S1'!CR27) | AX27: =CONCATENATE('[1]Constructon S1'!CX27)
A28: ='[1]Constructon S1'!A28 -> 41 | B28: ='[1]Constructon S1'!B28 -> 42653 | C28: =CONCATENATE('[1]Constructon S1'!C28) -> TP 1 CH100 | D28: =CONCATENATE('[1]Constructon S1'!D28," ", '[1]Constructon S1'!E28) -> MPCI1 D | E28: =CONCATENATE('[1]Constructon S1'!F28," ", '[1]Constructon S1'!G28) -> MPCI1 C | F28: =CONCATENATE('[1]Constructon S1'!I28," ",'[1]Constructon S1'!J28) -> MPCI1 E | G28: =CONCATENATE('[1]Constructon S1'!K28," ",'[1]Constructon S1'!L28) -> MPCI1 F | I28: =CONCATENATE('[1]Constructon S1'!N28) | J28: =CONCATENATE('[1]Constructon S1'!O28," ",'[1]Constructon S1'!P28) | K28: =CONCATENATE('[1]Constructon S1'!Q28," ",'[1]Constructon S1'!R28) | M28: =CONCATENATE('[1]Constructon S1'!W28) | N28: =CONCATENATE('[1]Constructon S1'!X28," ",'[1]Constructon S1'!Y28) | O28: =CONCATENATE('[1]Constructon S1'!Z28," ",'[1]Constructon S1'!AA28) | P28: =CONCATENATE('[1]Constructon S1'!AD28," ",'[1]Constructon S1'!AE28) | Q28: =CONCATENATE('[1]Constructon S1'!AF28," ",'[1]Constructon S1'!AG28) | R28: =CONCATENATE('[1]Constructon S1'!AI28) | S28: =CONCATENATE('[1]Constructon S1'!AJ28," ",'[1]Constructon S1'!AK28) | T28: =CONCATENATE('[1]Constructon S1'!AL28," ",'[1]Constructon S1'!AM28) | U28: =CONCATENATE('[1]Constructon S1'!AP28," ",'[1]Constructon S1'!AQ28) | V28: =CONCATENATE('[1]Constructon S1'!AR28," ",'[1]Constructon S1'!AS28) | X28: =CONCATENATE('[1]Constructon S1'!AU28) | Y28: =CONCATENATE('[1]Constructon S1'!AV28," ",'[1]Constructon S1'!AW28) | Z28: =CONCATENATE('[1]Constructon S1'!AX28," ",'[1]Constructon S1'!AY28) | AA28: =CONCATENATE('[1]Constructon S1'!BA28) | AB28: =CONCATENATE('[1]Constructon S1'!BB28," ",'[1]Constructon S1'!BC28) | AC28: =CONCATENATE('[1]Constructon S1'!BD28," ",'[1]Constructon S1'!BE28) | AD28: =CONCATENATE('[1]Constructon S1'!BH28," ",'[1]Constructon S1'!BI28) | AE28: =CONCATENATE('[1]Constructon S1'!BJ28," ",'[1]Constructon S1'!BK28) | AG28: =CONCATENATE('[1]Constructon S1'!BN28) | AH28: =CONCATENATE('[1]Constructon S1'!BO28," ",'[1]Constructon S1'!BP28) | AI28: =CONCATENATE('[1]Constructon S1'!BQ28," ",'[1]Constructon S1'!BR28) | AJ28: =CONCATENATE('[1]Constructon S1'!BU28," ",'[1]Constructon S1'!BV28) | AK28: =CONCATENATE('[1]Constructon S1'!BW28," ",'[1]Constructon S1'!BX28) | AL28: =CONCATENATE('[1]Constructon S1'!BZ28) -> Opt 1 | AM28: =CONCATENATE('[1]Constructon S1'!CA28," ",'[1]Constructon S1'!CB28) -> MPCI1 A | AN28: =CONCATENATE('[1]Constructon S1'!CC28," ",'[1]Constructon S1'!CD28) -> MPCI1 G | AO28: =CONCATENATE('[1]Constructon S1'!CG28," ",'[1]Constructon S1'!CH28) -> MPCI1 B | AP28: =CONCATENATE('[1]Constructon S1'!CI28," ",'[1]Constructon S1'!CJ28) -> MPCI1 D | AR28: =CONCATENATE('[1]Constructon S1'!CL28) -> Balistique | AS28: =CONCATENATE('[1]Constructon S1'!CM28," ",'[1]Constructon S1'!CN28) -> MPCI1 F | AT28: =CONCATENATE('[1]Constructon S1'!CO28," ",'[1]Constructon S1'!CP28) -> MPCI1 H | AU28: =CONCATENATE('[1]Constructon S1'!CR28) -> force | AV28: =CONCATENATE('[1]Constructon S1'!CS28," ",'[1]Constructon S1'!CT28) -> MPCI1 G | AW28: =CONCATENATE('[1]Constructon S1'!CU28," ",'[1]Constructon S1'!CV28) | AX28: =CONCATENATE('[1]Constructon S1'!CX28) -> Opt ondu | AY28: =CONCATENATE('[1]Constructon S1'!CY28," ",'[1]Constructon S1'!CZ28) -> MPCI1 H | AZ28: =CONCATENATE('[1]Constructon S1'!DA28," ",'[1]Constructon S1'!DB28) -> MPCI1 A
A29: ='[1]Constructon S1'!A29 -> 41 | B29: ='[1]Constructon S1'!B29 -> 42654 | C29: =CONCATENATE('[1]Constructon S1'!C29) -> TP 1 CH100 | D29: =CONCATENATE('[1]Constructon S1'!D29," ", '[1]Constructon S1'!E29) -> BI C | E29: =CONCATENATE('[1]Constructon S1'!F29," ", '[1]Constructon S1'!G29) -> CB2 K | F29: =CONCATENATE('[1]Constructon S1'!I29," ",'[1]Constructon S1'!J29) -> BI D | G29: =CONCATENATE('[1]Constructon S1'!K29," ",'[1]Constructon S1'!L29) -> CB2 M | I29: =CONCATENATE('[1]Constructon S1'!N29) -> TP1 MT100 | J29: =CONCATENATE('[1]Constructon S1'!O29," ",'[1]Constructon S1'!P29) -> CB2 Q | K29: =CONCATENATE('[1]Constructon S1'!Q29," ",'[1]Constructon S1'!R29) -> CB2 S | M29: =CONCATENATE('[1]Constructon S1'!W29) | N29: =CONCATENATE('[1]Constructon S1'!X29," ",'[1]Constructon S1'!Y29) | O29: =CONCATENATE('[1]Constructon S1'!Z29," ",'[1]Constructon S1'!AA29) | P29: =CONCATENATE('[1]Constructon S1'!AD29," ",'[1]Constructon S1'!AE29) | Q29: =CONCATENATE('[1]Constructon S1'!AF29," ",'[1]Constructon S1'!AG29) | R29: =CONCATENATE('[1]Constructon S1'!AI29) | S29: =CONCATENATE('[1]Constructon S1'!AJ29," ",'[1]Constructon S1'!AK29) | T29: =CONCATENATE('[1]Constructon S1'!AL29," ",'[1]Constructon S1'!AM29) | U29: =CONCATENATE('[1]Constructon S1'!AP29," ",'[1]Constructon S1'!AQ29) | V29: =CONCATENATE('[1]Constructon S1'!AR29," ",'[1]Constructon S1'!AS29) | X29: =CONCATENATE('[1]Constructon S1'!AU29) -> MT Initiation | Y29: =CONCATENATE('[1]Constructon S1'!AV29," ",'[1]Constructon S1'!AW29) -> CB2 L | Z29: =CONCATENATE('[1]Constructon S1'!AX29," ",'[1]Constructon S1'!AY29) | AA29: =CONCATENATE('[1]Constructon S1'!BA29) -> MT Protéine | AB29: =CONCATENATE('[1]Constructon S1'!BB29," ",'[1]Constructon S1'!BC29) | AC29: =CONCATENATE('[1]Constructon S1'!BD29," ",'[1]Constructon S1'!BE29) -> CB2 R | AD29: =CONCATENATE('[1]Constructon S1'!BH29," ",'[1]Constructon S1'!BI29) | AE29: =CONCATENATE('[1]Constructon S1'!BJ29," ",'[1]Constructon S1'!BK29) -> CB2 Q | AG29: =CONCATENATE('[1]Constructon S1'!BN29) -> Elec 2 | AH29: =CONCATENATE('[1]Constructon S1'!BO29," ",'[1]Constructon S1'!BP29) -> CB2 K | AI29: =CONCATENATE('[1]Constructon S1'!BQ29," ",'[1]Constructon S1'!BR29) -> CB2 L | AJ29: =CONCATENATE('[1]Constructon S1'!BU29," ",'[1]Constructon S1'!BV29) -> CB2 M | AK29: =CONCATENATE('[1]Constructon S1'!BW29," ",'[1]Constructon S1'!BX29) -> CB2 N | AL29: =CONCATENATE('[1]Constructon S1'!BZ29) | AM29: =CONCATENATE('[1]Constructon S1'!CA29," ",'[1]Constructon S1'!CB29) | AN29: =CONCATENATE('[1]Constructon S1'!CC29," ",'[1]Constructon S1'!CD29) | AO29: =CONCATENATE('[1]Constructon S1'!CG29," ",'[1]Constructon S1'!CH29) | AP29: =CONCATENATE('[1]Constructon S1'!CI29," ",'[1]Constructon S1'!CJ29) | AR29: =CONCATENATE('[1]Constructon S1'!CL29) | AS29: =CONCATENATE('[1]Constructon S1'!CM29," ",'[1]Constructon S1'!CN29) | AT29: =CONCATENATE('[1]Constructon S1'!CO29," ",'[1]Constructon S1'!CP29) | AU29: =CONCATENATE('[1]Constructon S1'!CR29) | AV29: =CONCATENATE('[1]Constructon S1'!CS29," ",'[1]Constructon S1'!CT29) -> MPCI1 F | AW29: =CONCATENATE('[1]Constructon S1'!CU29," ",'[1]Constructon S1'!CV29) | AX29: =CONCATENATE('[1]Constructon S1'!CX29) | AY29: =CONCATENATE('[1]Constructon S1'!CY29," ",'[1]Constructon S1'!CZ29) | AZ29: =CONCATENATE('[1]Constructon S1'!DA29," ",'[1]Constructon S1'!DB29)
A30: ='[1]Constructon S1'!A30 -> 41 | B30: ='[1]Constructon S1'!B30 -> 42655 | C30: =CONCATENATE('[1]Constructon S1'!C30) -> TP 1 CH100 | D30: =CONCATENATE('[1]Constructon S1'!D30," ", '[1]Constructon S1'!E30) -> CB1 B | E30: =CONCATENATE('[1]Constructon S1'!F30," ", '[1]Constructon S1'!G30) -> CB1 G | F30: =CONCATENATE('[1]Constructon S1'!I30," ",'[1]Constructon S1'!J30) -> CB1 J | G30: =CONCATENATE('[1]Constructon S1'!K30," ",'[1]Constructon S1'!L30) -> CB1 I | I30: =CONCATENATE('[1]Constructon S1'!N30) -> TP1 MT100 | J30: =CONCATENATE('[1]Constructon S1'!O30," ",'[1]Constructon S1'!P30) -> CB1 F | K30: =CONCATENATE('[1]Constructon S1'!Q30," ",'[1]Constructon S1'!R30) -> CB1 E | M30: =CONCATENATE('[1]Constructon S1'!W30) | N30: =CONCATENATE('[1]Constructon S1'!X30," ",'[1]Constructon S1'!Y30) | O30: =CONCATENATE('[1]Constructon S1'!Z30," ",'[1]Constructon S1'!AA30) | P30: =CONCATENATE('[1]Constructon S1'!AD30," ",'[1]Constructon S1'!AE30) | Q30: =CONCATENATE('[1]Constructon S1'!AF30," ",'[1]Constructon S1'!AG30) | R30: =CONCATENATE('[1]Constructon S1'!AI30) -> AC Nucléique | S30: =CONCATENATE('[1]Constructon S1'!AJ30," ",'[1]Constructon S1'!AK30) -> CB1 D | T30: =CONCATENATE('[1]Constructon S1'!AL30," ",'[1]Constructon S1'!AM30) -> CB1 C | U30: =CONCATENATE('[1]Constructon S1'!AP30," ",'[1]Constructon S1'!AQ30) -> CB1 I | V30: =CONCATENATE('[1]Constructon S1'!AR30," ",'[1]Constructon S1'!AS30) | X30: =CONCATENATE('[1]Constructon S1'!AU30) -> MT Initiation | Y30: =CONCATENATE('[1]Constructon S1'!AV30," ",'[1]Constructon S1'!AW30) -> CB1 E | Z30: =CONCATENATE('[1]Constructon S1'!AX30," ",'[1]Constructon S1'!AY30) | AA30: =CONCATENATE('[1]Constructon S1'!BA30) -> MT Protéine | AB30: =CONCATENATE('[1]Constructon S1'!BB30," ",'[1]Constructon S1'!BC30) | AC30: =CONCATENATE('[1]Constructon S1'!BD30," ",'[1]Constructon S1'!BE30) | AD30: =CONCATENATE('[1]Constructon S1'!BH30," ",'[1]Constructon S1'!BI30) | AE30: =CONCATENATE('[1]Constructon S1'!BJ30," ",'[1]Constructon S1'!BK30) -> CB1 J | AG30: =CONCATENATE('[1]Constructon S1'!BN30) -> Elec 2 | AH30: =CONCATENATE('[1]Constructon S1'!BO30," ",'[1]Constructon S1'!BP30) -> CB1 A | AI30: =CONCATENATE('[1]Constructon S1'!BQ30," ",'[1]Constructon S1'!BR30) -> CB1 B | AJ30: =CONCATENATE('[1]Constructon S1'!BU30," ",'[1]Constructon S1'!BV30) -> CB1 C | AK30: =CONCATENATE('[1]Constructon S1'!BW30," ",'[1]Constructon S1'!BX30) -> CB1 D | AL30: =CONCATENATE('[1]Constructon S1'!BZ30) -> Opt 1 | AM30: =CONCATENATE('[1]Constructon S1'!CA30," ",'[1]Constructon S1'!CB30) -> MPCI2 I | AN30: =CONCATENATE('[1]Constructon S1'!CC30," ",'[1]Constructon S1'!CD30) -> MPCI2 J | AO30: =CONCATENATE('[1]Constructon S1'!CG30," ",'[1]Constructon S1'!CH30) -> MPCI2 K | AP30: =CONCATENATE('[1]Constructon S1'!CI30," ",'[1]Constructon S1'!CJ30) -> MPCI2 L | AR30: =CONCATENATE('[1]Constructon S1'!CL30) | AS30: =CONCATENATE('[1]Constructon S1'!CM30," ",'[1]Constructon S1'!CN30) | AT30: =CONCATENATE('[1]Constructon S1'!CO30," ",'[1]Constructon S1'!CP30) | AU30: =CONCATENATE('[1]Constructon S1'!CR30) | AV30: =CONCATENATE('[1]Constructon S1'!CS30," ",'[1]Constructon S1'!CT30) | AW30: =CONCATENATE('[1]Constructon S1'!CU30," ",'[1]Constructon S1'!CV30) | AX30: =CONCATENATE('[1]Constructon S1'!CX30) | AY30: =CONCATENATE('[1]Constructon S1'!CY30," ",'[1]Constructon S1'!CZ30) | AZ30: =CONCATENATE('[1]Constructon S1'!DA30," ",'[1]Constructon S1'!DB30)
A31: ='[1]Constructon S1'!A31 -> 41 | B31: ='[1]Constructon S1'!B31 -> 42656 | C31: =CONCATENATE('[1]Constructon S1'!C31) | D31: =CONCATENATE('[1]Constructon S1'!D31," ", '[1]Constructon S1'!E31) | E31: =CONCATENATE('[1]Constructon S1'!F31," ", '[1]Constructon S1'!G31) | F31: =CONCATENATE('[1]Constructon S1'!I31," ",'[1]Constructon S1'!J31) | G31: =CONCATENATE('[1]Constructon S1'!K31," ",'[1]Constructon S1'!L31) | I31: =CONCATENATE('[1]Constructon S1'!N31) -> TP1 MT100 | J31: =CONCATENATE('[1]Constructon S1'!O31," ",'[1]Constructon S1'!P31) -> CB2 R | K31: =CONCATENATE('[1]Constructon S1'!Q31," ",'[1]Constructon S1'!R31) | M31: =CONCATENATE('[1]Constructon S1'!W31) | N31: =CONCATENATE('[1]Constructon S1'!X31," ",'[1]Constructon S1'!Y31) | O31: =CONCATENATE('[1]Constructon S1'!Z31," ",'[1]Constructon S1'!AA31) | P31: =CONCATENATE('[1]Constructon S1'!AD31," ",'[1]Constructon S1'!AE31) | Q31: =CONCATENATE('[1]Constructon S1'!AF31," ",'[1]Constructon S1'!AG31) | R31: =CONCATENATE('[1]Constructon S1'!AI31) | S31: =CONCATENATE('[1]Constructon S1'!AJ31," ",'[1]Constructon S1'!AK31) | T31: =CONCATENATE('[1]Constructon S1'!AL31," ",'[1]Constructon S1'!AM31) | U31: =CONCATENATE('[1]Constructon S1'!AP31," ",'[1]Constructon S1'!AQ31) | V31: =CONCATENATE('[1]Constructon S1'!AR31," ",'[1]Constructon S1'!AS31) | X31: =CONCATENATE('[1]Constructon S1'!AU31) | Y31: =CONCATENATE('[1]Constructon S1'!AV31," ",'[1]Constructon S1'!AW31) | Z31: =CONCATENATE('[1]Constructon S1'!AX31," ",'[1]Constructon S1'!AY31) | AA31: =CONCATENATE('[1]Constructon S1'!BA31) -> MT Protéine | AB31: =CONCATENATE('[1]Constructon S1'!BB31," ",'[1]Constructon S1'!BC31) -> CB2 K | AC31: =CONCATENATE('[1]Constructon S1'!BD31," ",'[1]Constructon S1'!BE31) | AD31: =CONCATENATE('[1]Constructon S1'!BH31," ",'[1]Constructon S1'!BI31) -> CB2 L | AE31: =CONCATENATE('[1]Constructon S1'!BJ31," ",'[1]Constructon S1'!BK31) | AG31: =CONCATENATE('[1]Constructon S1'!BN31) -> Elec 2 | AH31: =CONCATENATE('[1]Constructon S1'!BO31," ",'[1]Constructon S1'!BP31) -> CB2 O | AI31: =CONCATENATE('[1]Constructon S1'!BQ31," ",'[1]Constructon S1'!BR31) | AJ31: =CONCATENATE('[1]Constructon S1'!BU31," ",'[1]Constructon S1'!BV31) -> CB2 P | AK31: =CONCATENATE('[1]Constructon S1'!BW31," ",'[1]Constructon S1'!BX31) | AL31: =CONCATENATE('[1]Constructon S1'!BZ31) | AM31: =CONCATENATE('[1]Constructon S1'!CA31," ",'[1]Constructon S1'!CB31) | AN31: =CONCATENATE('[1]Constructon S1'!CC31," ",'[1]Constructon S1'!CD31) | AO31: =CONCATENATE('[1]Constructon S1'!CG31," ",'[1]Constructon S1'!CH31) | AP31: =CONCATENATE('[1]Constructon S1'!CI31," ",'[1]Constructon S1'!CJ31) | AR31: =CONCATENATE('[1]Constructon S1'!CL31) | AS31: =CONCATENATE('[1]Constructon S1'!CM31," ",'[1]Constructon S1'!CN31) | AT31: =CONCATENATE('[1]Constructon S1'!CO31," ",'[1]Constructon S1'!CP31) | AU31: =CONCATENATE('[1]Constructon S1'!CR31) | AV31: =CONCATENATE('[1]Constructon S1'!CS31," ",'[1]Constructon S1'!CT31) | AW31: =CONCATENATE('[1]Constructon S1'!CU31," ",'[1]Constructon S1'!CV31) | AX31: =CONCATENATE('[1]Constructon S1'!CX31) | AY31: =CONCATENATE('[1]Constructon S1'!CY31," ",'[1]Constructon S1'!CZ31) | AZ31: =CONCATENATE('[1]Constructon S1'!DA31," ",'[1]Constructon S1'!DB31)
A32: ='[1]Constructon S1'!A32 -> 41 | B32: ='[1]Constructon S1'!B32 -> 42657 | C32: =CONCATENATE('[1]Constructon S1'!C32) -> TP 1 CH100 | D32: =CONCATENATE('[1]Constructon S1'!D32," ", '[1]Constructon S1'!E32) -> BI E | E32: =CONCATENATE('[1]Constructon S1'!F32," ", '[1]Constructon S1'!G32) -> MPCI2 I | F32: =CONCATENATE('[1]Constructon S1'!I32," ",'[1]Constructon S1'!J32) -> BI F | G32: =CONCATENATE('[1]Constructon S1'!K32," ",'[1]Constructon S1'!L32) -> MPCI2 J | I32: =CONCATENATE('[1]Constructon S1'!N32) -> TP1 MT100 | J32: =CONCATENATE('[1]Constructon S1'!O32," ",'[1]Constructon S1'!P32) -> CB1 C | K32: =CONCATENATE('[1]Constructon S1'!Q32," ",'[1]Constructon S1'!R32) | M32: =CONCATENATE('[1]Constructon S1'!W32) | N32: =CONCATENATE('[1]Constructon S1'!X32," ",'[1]Constructon S1'!Y32) | O32: =CONCATENATE('[1]Constructon S1'!Z32," ",'[1]Constructon S1'!AA32) | P32: =CONCATENATE('[1]Constructon S1'!AD32," ",'[1]Constructon S1'!AE32) | Q32: =CONCATENATE('[1]Constructon S1'!AF32," ",'[1]Constructon S1'!AG32) | R32: =CONCATENATE('[1]Constructon S1'!AI32) | S32: =CONCATENATE('[1]Constructon S1'!AJ32," ",'[1]Constructon S1'!AK32) | T32: =CONCATENATE('[1]Constructon S1'!AL32," ",'[1]Constructon S1'!AM32) | U32: =CONCATENATE('[1]Constructon S1'!AP32," ",'[1]Constructon S1'!AQ32) | V32: =CONCATENATE('[1]Constructon S1'!AR32," ",'[1]Constructon S1'!AS32) | X32: =CONCATENATE('[1]Constructon S1'!AU32) -> MT Initiation | Y32: =CONCATENATE('[1]Constructon S1'!AV32," ",'[1]Constructon S1'!AW32) -> BI B | Z32: =CONCATENATE('[1]Constructon S1'!AX32," ",'[1]Constructon S1'!AY32) -> BI A | AA32: =CONCATENATE('[1]Constructon S1'!BA32) -> MT Protéine | AB32: =CONCATENATE('[1]Constructon S1'!BB32," ",'[1]Constructon S1'!BC32) -> BI A | AC32: =CONCATENATE('[1]Constructon S1'!BD32," ",'[1]Constructon S1'!BE32) -> BI B | AD32: =CONCATENATE('[1]Constructon S1'!BH32," ",'[1]Constructon S1'!BI32) | AE32: =CONCATENATE('[1]Constructon S1'!BJ32," ",'[1]Constructon S1'!BK32) -> BI D | AG32: =CONCATENATE('[1]Constructon S1'!BN32) -> Elec 2 | AH32: =CONCATENATE('[1]Constructon S1'!BO32," ",'[1]Constructon S1'!BP32) | AI32: =CONCATENATE('[1]Constructon S1'!BQ32," ",'[1]Constructon S1'!BR32) | AJ32: =CONCATENATE('[1]Constructon S1'!BU32," ",'[1]Constructon S1'!BV32) -> CB1 F | AK32: =CONCATENATE('[1]Constructon S1'!BW32," ",'[1]Constructon S1'!BX32) | AL32: =CONCATENATE('[1]Constructon S1'!BZ32) | AM32: =CONCATENATE('[1]Constructon S1'!CA32," ",'[1]Constructon S1'!CB32) | AN32: =CONCATENATE('[1]Constructon S1'!CC32," ",'[1]Constructon S1'!CD32) | AO32: =CONCATENATE('[1]Constructon S1'!CG32," ",'[1]Constructon S1'!CH32) | AP32: =CONCATENATE('[1]Constructon S1'!CI32," ",'[1]Constructon S1'!CJ32) | AR32: =CONCATENATE('[1]Constructon S1'!CL32) | AS32: =CONCATENATE('[1]Constructon S1'!CM32," ",'[1]Constructon S1'!CN32) | AT32: =CONCATENATE('[1]Constructon S1'!CO32," ",'[1]Constructon S1'!CP32) | AU32: =CONCATENATE('[1]Constructon S1'!CR32) | AV32: =CONCATENATE('[1]Constructon S1'!CS32," ",'[1]Constructon S1'!CT32) | AW32: =CONCATENATE('[1]Constructon S1'!CU32," ",'[1]Constructon S1'!CV32) | AX32: =CONCATENATE('[1]Constructon S1'!CX32) | AY32: =CONCATENATE('[1]Constructon S1'!CY32," ",'[1]Constructon S1'!CZ32) | AZ32: =CONCATENATE('[1]Constructon S1'!DA32," ",'[1]Constructon S1'!DB32)
C33: =CONCATENATE('[1]Constructon S1'!C33) | I33: =CONCATENATE('[1]Constructon S1'!N33) | M33: =CONCATENATE('[1]Constructon S1'!W33) | R33: =CONCATENATE('[1]Constructon S1'!AI33) | X33: =CONCATENATE('[1]Constructon S1'!AU33) | AA33: =CONCATENATE('[1]Constructon S1'!BA33) | AG33: =CONCATENATE('[1]Constructon S1'!BN33) | AL33: =CONCATENATE('[1]Constructon S1'!BZ33) | AR33: =CONCATENATE('[1]Constructon S1'!CL33) | AU33: =CONCATENATE('[1]Constructon S1'!CR33) | AX33: =CONCATENATE('[1]Constructon S1'!CX33)
A34: ='[1]Constructon S1'!A34 -> 42 | B34: ='[1]Constructon S1'!B34 -> 42660 | C34: =CONCATENATE('[1]Constructon S1'!C34) | D34: =CONCATENATE('[1]Constructon S1'!D34," ", '[1]Constructon S1'!E34) | E34: =CONCATENATE('[1]Constructon S1'!F34," ", '[1]Constructon S1'!G34) | F34: =CONCATENATE('[1]Constructon S1'!I34," ",'[1]Constructon S1'!J34) | G34: =CONCATENATE('[1]Constructon S1'!K34," ",'[1]Constructon S1'!L34) | I34: =CONCATENATE('[1]Constructon S1'!N34) | J34: =CONCATENATE('[1]Constructon S1'!O34," ",'[1]Constructon S1'!P34) | K34: =CONCATENATE('[1]Constructon S1'!Q34," ",'[1]Constructon S1'!R34) | M34: =CONCATENATE('[1]Constructon S1'!W34) | N34: =CONCATENATE('[1]Constructon S1'!X34," ",'[1]Constructon S1'!Y34) | O34: =CONCATENATE('[1]Constructon S1'!Z34," ",'[1]Constructon S1'!AA34) | P34: =CONCATENATE('[1]Constructon S1'!AD34," ",'[1]Constructon S1'!AE34) | Q34: =CONCATENATE('[1]Constructon S1'!AF34," ",'[1]Constructon S1'!AG34) | R34: =CONCATENATE('[1]Constructon S1'!AI34) | S34: =CONCATENATE('[1]Constructon S1'!AJ34," ",'[1]Constructon S1'!AK34) | T34: =CONCATENATE('[1]Constructon S1'!AL34," ",'[1]Constructon S1'!AM34) | U34: =CONCATENATE('[1]Constructon S1'!AP34," ",'[1]Constructon S1'!AQ34) | V34: =CONCATENATE('[1]Constructon S1'!AR34," ",'[1]Constructon S1'!AS34) | X34: =CONCATENATE('[1]Constructon S1'!AU34) | Y34: =CONCATENATE('[1]Constructon S1'!AV34," ",'[1]Constructon S1'!AW34) | Z34: =CONCATENATE('[1]Constructon S1'!AX34," ",'[1]Constructon S1'!AY34) | AA34: =CONCATENATE('[1]Constructon S1'!BA34) | AB34: =CONCATENATE('[1]Constructon S1'!BB34," ",'[1]Constructon S1'!BC34) | AC34: =CONCATENATE('[1]Constructon S1'!BD34," ",'[1]Constructon S1'!BE34) | AD34: =CONCATENATE('[1]Constructon S1'!BH34," ",'[1]Constructon S1'!BI34) | AE34: =CONCATENATE('[1]Constructon S1'!BJ34," ",'[1]Constructon S1'!BK34) | AG34: =CONCATENATE('[1]Constructon S1'!BN34) | AH34: =CONCATENATE('[1]Constructon S1'!BO34," ",'[1]Constructon S1'!BP34) | AI34: =CONCATENATE('[1]Constructon S1'!BQ34," ",'[1]Constructon S1'!BR34) | AJ34: =CONCATENATE('[1]Constructon S1'!BU34," ",'[1]Constructon S1'!BV34) | AK34: =CONCATENATE('[1]Constructon S1'!BW34," ",'[1]Constructon S1'!BX34) | AL34: =CONCATENATE('[1]Constructon S1'!BZ34) -> Opt 1 | AM34: =CONCATENATE('[1]Constructon S1'!CA34," ",'[1]Constructon S1'!CB34) -> MPCI1 E | AN34: =CONCATENATE('[1]Constructon S1'!CC34," ",'[1]Constructon S1'!CD34) -> MPCI1 F | AO34: =CONCATENATE('[1]Constructon S1'!CG34," ",'[1]Constructon S1'!CH34) -> MPCI1 C | AP34: =CONCATENATE('[1]Constructon S1'!CI34," ",'[1]Constructon S1'!CJ34) -> MPCI1 H | AR34: =CONCATENATE('[1]Constructon S1'!CL34) -> Oscillation | AS34: =CONCATENATE('[1]Constructon S1'!CM34," ",'[1]Constructon S1'!CN34) -> MPCI1 B | AT34: =CONCATENATE('[1]Constructon S1'!CO34," ",'[1]Constructon S1'!CP34) -> MPCI1 A | AU34: =CONCATENATE('[1]Constructon S1'!CR34) | AV34: =CONCATENATE('[1]Constructon S1'!CS34," ",'[1]Constructon S1'!CT34) -> MPCI1 D | AW34: =CONCATENATE('[1]Constructon S1'!CU34," ",'[1]Constructon S1'!CV34) | AX34: =CONCATENATE('[1]Constructon S1'!CX34) | AY34: =CONCATENATE('[1]Constructon S1'!CY34," ",'[1]Constructon S1'!CZ34) | AZ34: =CONCATENATE('[1]Constructon S1'!DA34," ",'[1]Constructon S1'!DB34)
A35: ='[1]Constructon S1'!A35 -> 42 | B35: ='[1]Constructon S1'!B35 -> 42661 | C35: =CONCATENATE('[1]Constructon S1'!C35) -> TP 1 CH100 | D35: =CONCATENATE('[1]Constructon S1'!D35," ", '[1]Constructon S1'!E35) -> MPCI1 G | E35: =CONCATENATE('[1]Constructon S1'!F35," ", '[1]Constructon S1'!G35) -> CB2 N | F35: =CONCATENATE('[1]Constructon S1'!I35," ",'[1]Constructon S1'!J35) -> MPCI1 H | G35: =CONCATENATE('[1]Constructon S1'!K35," ",'[1]Constructon S1'!L35) -> CB2 L | I35: =CONCATENATE('[1]Constructon S1'!N35) -> TP1 MT100 | J35: =CONCATENATE('[1]Constructon S1'!O35," ",'[1]Constructon S1'!P35) -> CB2 O | K35: =CONCATENATE('[1]Constructon S1'!Q35," ",'[1]Constructon S1'!R35) -> CB2 P | M35: =CONCATENATE('[1]Constructon S1'!W35) | N35: =CONCATENATE('[1]Constructon S1'!X35," ",'[1]Constructon S1'!Y35) | O35: =CONCATENATE('[1]Constructon S1'!Z35," ",'[1]Constructon S1'!AA35) | P35: =CONCATENATE('[1]Constructon S1'!AD35," ",'[1]Constructon S1'!AE35) | Q35: =CONCATENATE('[1]Constructon S1'!AF35," ",'[1]Constructon S1'!AG35) | R35: =CONCATENATE('[1]Constructon S1'!AI35) | S35: =CONCATENATE('[1]Constructon S1'!AJ35," ",'[1]Constructon S1'!AK35) | T35: =CONCATENATE('[1]Constructon S1'!AL35," ",'[1]Constructon S1'!AM35) | U35: =CONCATENATE('[1]Constructon S1'!AP35," ",'[1]Constructon S1'!AQ35) | V35: =CONCATENATE('[1]Constructon S1'!AR35," ",'[1]Constructon S1'!AS35) | X35: =CONCATENATE('[1]Constructon S1'!AU35) | Y35: =CONCATENATE('[1]Constructon S1'!AV35," ",'[1]Constructon S1'!AW35) -> BI G | Z35: =CONCATENATE('[1]Constructon S1'!AX35," ",'[1]Constructon S1'!AY35) -> CB2 S | AA35: =CONCATENATE('[1]Constructon S1'!BA35) -> MT Protéine | AB35: =CONCATENATE('[1]Constructon S1'!BB35," ",'[1]Constructon S1'!BC35) -> CB2 P | AC35: =CONCATENATE('[1]Constructon S1'!BD35," ",'[1]Constructon S1'!BE35) -> CB2 O | AD35: =CONCATENATE('[1]Constructon S1'!BH35," ",'[1]Constructon S1'!BI35) -> CB2 N | AE35: =CONCATENATE('[1]Constructon S1'!BJ35," ",'[1]Constructon S1'!BK35) -> CB2 M | AG35: =CONCATENATE('[1]Constructon S1'!BN35) -> Elec 2 | AH35: =CONCATENATE('[1]Constructon S1'!BO35," ",'[1]Constructon S1'!BP35) -> CB2 Q | AI35: =CONCATENATE('[1]Constructon S1'!BQ35," ",'[1]Constructon S1'!BR35) | AJ35: =CONCATENATE('[1]Constructon S1'!BU35," ",'[1]Constructon S1'!BV35) -> CB2 R | AK35: =CONCATENATE('[1]Constructon S1'!BW35," ",'[1]Constructon S1'!BX35) | AL35: =CONCATENATE('[1]Constructon S1'!BZ35) | AM35: =CONCATENATE('[1]Constructon S1'!CA35," ",'[1]Constructon S1'!CB35) | AN35: =CONCATENATE('[1]Constructon S1'!CC35," ",'[1]Constructon S1'!CD35) | AO35: =CONCATENATE('[1]Constructon S1'!CG35," ",'[1]Constructon S1'!CH35) | AP35: =CONCATENATE('[1]Constructon S1'!CI35," ",'[1]Constructon S1'!CJ35) | AR35: =CONCATENATE('[1]Constructon S1'!CL35) -> Oscillation | AS35: =CONCATENATE('[1]Constructon S1'!CM35," ",'[1]Constructon S1'!CN35) -> MPCI1 F | AT35: =CONCATENATE('[1]Constructon S1'!CO35," ",'[1]Constructon S1'!CP35) | AU35: =CONCATENATE('[1]Constructon S1'!CR35) | AV35: =CONCATENATE('[1]Constructon S1'!CS35," ",'[1]Constructon S1'!CT35) -> MPCI1 B | AW35: =CONCATENATE('[1]Constructon S1'!CU35," ",'[1]Constructon S1'!CV35) | AX35: =CONCATENATE('[1]Constructon S1'!CX35) | AY35: =CONCATENATE('[1]Constructon S1'!CY35," ",'[1]Constructon S1'!CZ35) | AZ35: =CONCATENATE('[1]Constructon S1'!DA35," ",'[1]Constructon S1'!DB35)
A36: ='[1]Constructon S1'!A36 -> 42 | B36: ='[1]Constructon S1'!B36 -> 42662 | C36: =CONCATENATE('[1]Constructon S1'!C36) -> TP 1 CH100 | D36: =CONCATENATE('[1]Constructon S1'!D36," ", '[1]Constructon S1'!E36) -> MPCI2 K | E36: =CONCATENATE('[1]Constructon S1'!F36," ", '[1]Constructon S1'!G36) -> MPCI2 L | F36: =CONCATENATE('[1]Constructon S1'!I36," ",'[1]Constructon S1'!J36) -> MPCI2 N | G36: =CONCATENATE('[1]Constructon S1'!K36," ",'[1]Constructon S1'!L36) -> MPCI2 M | I36: =CONCATENATE('[1]Constructon S1'!N36) -> TP1 MT100 | J36: =CONCATENATE('[1]Constructon S1'!O36," ",'[1]Constructon S1'!P36) -> CB1 D | K36: =CONCATENATE('[1]Constructon S1'!Q36," ",'[1]Constructon S1'!R36) -> CB1 I | M36: =CONCATENATE('[1]Constructon S1'!W36) | N36: =CONCATENATE('[1]Constructon S1'!X36," ",'[1]Constructon S1'!Y36) | O36: =CONCATENATE('[1]Constructon S1'!Z36," ",'[1]Constructon S1'!AA36) | P36: =CONCATENATE('[1]Constructon S1'!AD36," ",'[1]Constructon S1'!AE36) | Q36: =CONCATENATE('[1]Constructon S1'!AF36," ",'[1]Constructon S1'!AG36) | R36: =CONCATENATE('[1]Constructon S1'!AI36) -> AC Nucléique | S36: =CONCATENATE('[1]Constructon S1'!AJ36," ",'[1]Constructon S1'!AK36) -> CB1 H | T36: =CONCATENATE('[1]Constructon S1'!AL36," ",'[1]Constructon S1'!AM36) -> CB1 G | U36: =CONCATENATE('[1]Constructon S1'!AP36," ",'[1]Constructon S1'!AQ36) -> CB1 B | V36: =CONCATENATE('[1]Constructon S1'!AR36," ",'[1]Constructon S1'!AS36) | X36: =CONCATENATE('[1]Constructon S1'!AU36) -> MT Initiation | Y36: =CONCATENATE('[1]Constructon S1'!AV36," ",'[1]Constructon S1'!AW36) -> CB1 J | Z36: =CONCATENATE('[1]Constructon S1'!AX36," ",'[1]Constructon S1'!AY36) -> CB1 A | AA36: =CONCATENATE('[1]Constructon S1'!BA36) -> MT Protéine | AB36: =CONCATENATE('[1]Constructon S1'!BB36," ",'[1]Constructon S1'!BC36) | AC36: =CONCATENATE('[1]Constructon S1'!BD36," ",'[1]Constructon S1'!BE36) | AD36: =CONCATENATE('[1]Constructon S1'!BH36," ",'[1]Constructon S1'!BI36) | AE36: =CONCATENATE('[1]Constructon S1'!BJ36," ",'[1]Constructon S1'!BK36) -> CB1 C | AG36: =CONCATENATE('[1]Constructon S1'!BN36) -> Elec 2 | AH36: =CONCATENATE('[1]Constructon S1'!BO36," ",'[1]Constructon S1'!BP36) -> CB1 G | AI36: =CONCATENATE('[1]Constructon S1'!BQ36," ",'[1]Constructon S1'!BR36) -> CB1 H | AJ36: =CONCATENATE('[1]Constructon S1'!BU36," ",'[1]Constructon S1'!BV36) -> CB1 I | AK36: =CONCATENATE('[1]Constructon S1'!BW36," ",'[1]Constructon S1'!BX36) -> CB1 J | AL36: =CONCATENATE('[1]Constructon S1'!BZ36) -> Opt 1 | AM36: =CONCATENATE('[1]Constructon S1'!CA36," ",'[1]Constructon S1'!CB36) -> MPCI2 M | AN36: =CONCATENATE('[1]Constructon S1'!CC36," ",'[1]Constructon S1'!CD36) -> MPCI2 N | AO36: =CONCATENATE('[1]Constructon S1'!CG36," ",'[1]Constructon S1'!CH36) -> MPCI2 O | AP36: =CONCATENATE('[1]Constructon S1'!CI36," ",'[1]Constructon S1'!CJ36) -> MPCI2 P | AR36: =CONCATENATE('[1]Constructon S1'!CL36) | AS36: =CONCATENATE('[1]Constructon S1'!CM36," ",'[1]Constructon S1'!CN36) | AT36: =CONCATENATE('[1]Constructon S1'!CO36," ",'[1]Constructon S1'!CP36) | AU36: =CONCATENATE('[1]Constructon S1'!CR36) | AV36: =CONCATENATE('[1]Constructon S1'!CS36," ",'[1]Constructon S1'!CT36) | AW36: =CONCATENATE('[1]Constructon S1'!CU36," ",'[1]Constructon S1'!CV36) | AX36: =CONCATENATE('[1]Constructon S1'!CX36) | AY36: =CONCATENATE('[1]Constructon S1'!CY36," ",'[1]Constructon S1'!CZ36) | AZ36: =CONCATENATE('[1]Constructon S1'!DA36," ",'[1]Constructon S1'!DB36)
A37: ='[1]Constructon S1'!A37 -> 42 | B37: ='[1]Constructon S1'!B37 -> 42663 | C37: =CONCATENATE('[1]Constructon S1'!C37) | D37: =CONCATENATE('[1]Constructon S1'!D37," ", '[1]Constructon S1'!E37) | E37: =CONCATENATE('[1]Constructon S1'!F37," ", '[1]Constructon S1'!G37) | F37: =CONCATENATE('[1]Constructon S1'!I37," ",'[1]Constructon S1'!J37) | G37: =CONCATENATE('[1]Constructon S1'!K37," ",'[1]Constructon S1'!L37) | I37: =CONCATENATE('[1]Constructon S1'!N37) | J37: =CONCATENATE('[1]Constructon S1'!O37," ",'[1]Constructon S1'!P37) | K37: =CONCATENATE('[1]Constructon S1'!Q37," ",'[1]Constructon S1'!R37) | M37: =CONCATENATE('[1]Constructon S1'!W37) | N37: =CONCATENATE('[1]Constructon S1'!X37," ",'[1]Constructon S1'!Y37) | O37: =CONCATENATE('[1]Constructon S1'!Z37," ",'[1]Constructon S1'!AA37) | P37: =CONCATENATE('[1]Constructon S1'!AD37," ",'[1]Constructon S1'!AE37) | Q37: =CONCATENATE('[1]Constructon S1'!AF37," ",'[1]Constructon S1'!AG37) | R37: =CONCATENATE('[1]Constructon S1'!AI37) | S37: =CONCATENATE('[1]Constructon S1'!AJ37," ",'[1]Constructon S1'!AK37) | T37: =CONCATENATE('[1]Constructon S1'!AL37," ",'[1]Constructon S1'!AM37) | U37: =CONCATENATE('[1]Constructon S1'!AP37," ",'[1]Constructon S1'!AQ37) | V37: =CONCATENATE('[1]Constructon S1'!AR37," ",'[1]Constructon S1'!AS37) | X37: =CONCATENATE('[1]Constructon S1'!AU37) | Y37: =CONCATENATE('[1]Constructon S1'!AV37," ",'[1]Constructon S1'!AW37) -> CB2 R | Z37: =CONCATENATE('[1]Constructon S1'!AX37," ",'[1]Constructon S1'!AY37) | AA37: =CONCATENATE('[1]Constructon S1'!BA37) | AB37: =CONCATENATE('[1]Constructon S1'!BB37," ",'[1]Constructon S1'!BC37) | AC37: =CONCATENATE('[1]Constructon S1'!BD37," ",'[1]Constructon S1'!BE37) | AD37: =CONCATENATE('[1]Constructon S1'!BH37," ",'[1]Constructon S1'!BI37) | AE37: =CONCATENATE('[1]Constructon S1'!BJ37," ",'[1]Constructon S1'!BK37) | AG37: =CONCATENATE('[1]Constructon S1'!BN37) | AH37: =CONCATENATE('[1]Constructon S1'!BO37," ",'[1]Constructon S1'!BP37) | AI37: =CONCATENATE('[1]Constructon S1'!BQ37," ",'[1]Constructon S1'!BR37) | AJ37: =CONCATENATE('[1]Constructon S1'!BU37," ",'[1]Constructon S1'!BV37) | AK37: =CONCATENATE('[1]Constructon S1'!BW37," ",'[1]Constructon S1'!BX37) | AL37: =CONCATENATE('[1]Constructon S1'!BZ37) | AM37: =CONCATENATE('[1]Constructon S1'!CA37," ",'[1]Constructon S1'!CB37) | AN37: =CONCATENATE('[1]Constructon S1'!CC37," ",'[1]Constructon S1'!CD37) | AO37: =CONCATENATE('[1]Constructon S1'!CG37," ",'[1]Constructon S1'!CH37) | AP37: =CONCATENATE('[1]Constructon S1'!CI37," ",'[1]Constructon S1'!CJ37) | AR37: =CONCATENATE('[1]Constructon S1'!CL37) | AS37: =CONCATENATE('[1]Constructon S1'!CM37," ",'[1]Constructon S1'!CN37) | AT37: =CONCATENATE('[1]Constructon S1'!CO37," ",'[1]Constructon S1'!CP37) | AU37: =CONCATENATE('[1]Constructon S1'!CR37) | AV37: =CONCATENATE('[1]Constructon S1'!CS37," ",'[1]Constructon S1'!CT37) | AW37: =CONCATENATE('[1]Constructon S1'!CU37," ",'[1]Constructon S1'!CV37) | AX37: =CONCATENATE('[1]Constructon S1'!CX37) | AY37: =CONCATENATE('[1]Constructon S1'!CY37," ",'[1]Constructon S1'!CZ37) | AZ37: =CONCATENATE('[1]Constructon S1'!DA37," ",'[1]Constructon S1'!DB37)
A38: ='[1]Constructon S1'!A38 -> 42 | B38: ='[1]Constructon S1'!B38 -> 42664 | C38: =CONCATENATE('[1]Constructon S1'!C38) -> TP 1 CH100 | D38: =CONCATENATE('[1]Constructon S1'!D38," ", '[1]Constructon S1'!E38) -> BI G | E38: =CONCATENATE('[1]Constructon S1'!F38," ", '[1]Constructon S1'!G38) -> MPCI2 O | F38: =CONCATENATE('[1]Constructon S1'!I38," ",'[1]Constructon S1'!J38) -> BI H | G38: =CONCATENATE('[1]Constructon S1'!K38," ",'[1]Constructon S1'!L38) -> MPCI2 P | I38: =CONCATENATE('[1]Constructon S1'!N38) -> TP1 MT100 | J38: =CONCATENATE('[1]Constructon S1'!O38," ",'[1]Constructon S1'!P38) -> CB1 H | K38: =CONCATENATE('[1]Constructon S1'!Q38," ",'[1]Constructon S1'!R38) | M38: =CONCATENATE('[1]Constructon S1'!W38) | N38: =CONCATENATE('[1]Constructon S1'!X38," ",'[1]Constructon S1'!Y38) | O38: =CONCATENATE('[1]Constructon S1'!Z38," ",'[1]Constructon S1'!AA38) | P38: =CONCATENATE('[1]Constructon S1'!AD38," ",'[1]Constructon S1'!AE38) | Q38: =CONCATENATE('[1]Constructon S1'!AF38," ",'[1]Constructon S1'!AG38) | R38: =CONCATENATE('[1]Constructon S1'!AI38) | S38: =CONCATENATE('[1]Constructon S1'!AJ38," ",'[1]Constructon S1'!AK38) | T38: =CONCATENATE('[1]Constructon S1'!AL38," ",'[1]Constructon S1'!AM38) | U38: =CONCATENATE('[1]Constructon S1'!AP38," ",'[1]Constructon S1'!AQ38) | V38: =CONCATENATE('[1]Constructon S1'!AR38," ",'[1]Constructon S1'!AS38) | X38: =CONCATENATE('[1]Constructon S1'!AU38) | Y38: =CONCATENATE('[1]Constructon S1'!AV38," ",'[1]Constructon S1'!AW38) -> CB1 F | Z38: =CONCATENATE('[1]Constructon S1'!AX38," ",'[1]Constructon S1'!AY38) | AA38: =CONCATENATE('[1]Constructon S1'!BA38) -> MT Protéine | AB38: =CONCATENATE('[1]Constructon S1'!BB38," ",'[1]Constructon S1'!BC38) -> BI E | AC38: =CONCATENATE('[1]Constructon S1'!BD38," ",'[1]Constructon S1'!BE38) -> BI H | AD38: =CONCATENATE('[1]Constructon S1'!BH38," ",'[1]Constructon S1'!BI38) -> BI F | AE38: =CONCATENATE('[1]Constructon S1'!BJ38," ",'[1]Constructon S1'!BK38) | AG38: =CONCATENATE('[1]Constructon S1'!BN38) | AH38: =CONCATENATE('[1]Constructon S1'!BO38," ",'[1]Constructon S1'!BP38) | AI38: =CONCATENATE('[1]Constructon S1'!BQ38," ",'[1]Constructon S1'!BR38) | AJ38: =CONCATENATE('[1]Constructon S1'!BU38," ",'[1]Constructon S1'!BV38) -> CB1 E | AK38: =CONCATENATE('[1]Constructon S1'!BW38," ",'[1]Constructon S1'!BX38) | AL38: =CONCATENATE('[1]Constructon S1'!BZ38) | AM38: =CONCATENATE('[1]Constructon S1'!CA38," ",'[1]Constructon S1'!CB38) | AN38: =CONCATENATE('[1]Constructon S1'!CC38," ",'[1]Constructon S1'!CD38) | AO38: =CONCATENATE('[1]Constructon S1'!CG38," ",'[1]Constructon S1'!CH38) | AP38: =CONCATENATE('[1]Constructon S1'!CI38," ",'[1]Constructon S1'!CJ38) | AR38: =CONCATENATE('[1]Constructon S1'!CL38) | AS38: =CONCATENATE('[1]Constructon S1'!CM38," ",'[1]Constructon S1'!CN38) | AT38: =CONCATENATE('[1]Constructon S1'!CO38," ",'[1]Constructon S1'!CP38) | AU38: =CONCATENATE('[1]Constructon S1'!CR38) | AV38: =CONCATENATE('[1]Constructon S1'!CS38," ",'[1]Constructon S1'!CT38) | AW38: =CONCATENATE('[1]Constructon S1'!CU38," ",'[1]Constructon S1'!CV38) | AX38: =CONCATENATE('[1]Constructon S1'!CX38) | AY38: =CONCATENATE('[1]Constructon S1'!CY38," ",'[1]Constructon S1'!CZ38) | AZ38: =CONCATENATE('[1]Constructon S1'!DA38," ",'[1]Constructon S1'!DB38)
C39: =CONCATENATE('[1]Constructon S1'!C39) | I39: =CONCATENATE('[1]Constructon S1'!N39) | M39: =CONCATENATE('[1]Constructon S1'!W39) | R39: =CONCATENATE('[1]Constructon S1'!AI39) | X39: =CONCATENATE('[1]Constructon S1'!AU39) | AA39: =CONCATENATE('[1]Constructon S1'!BA39) | AG39: =CONCATENATE('[1]Constructon S1'!BN39) | AL39: =CONCATENATE('[1]Constructon S1'!BZ39) | AR39: =CONCATENATE('[1]Constructon S1'!CL39) | AU39: =CONCATENATE('[1]Constructon S1'!CR39) | AX39: =CONCATENATE('[1]Constructon S1'!CX39)
A40: ='[1]Constructon S1'!A40 -> 43 | B40: ='[1]Constructon S1'!B40 -> 42667 | C40: =CONCATENATE('[1]Constructon S1'!C40) | D40: =CONCATENATE('[1]Constructon S1'!D40," ", '[1]Constructon S1'!E40) | E40: =CONCATENATE('[1]Constructon S1'!F40," ", '[1]Constructon S1'!G40) | F40: =CONCATENATE('[1]Constructon S1'!I40," ",'[1]Constructon S1'!J40) | G40: =CONCATENATE('[1]Constructon S1'!K40," ",'[1]Constructon S1'!L40) | I40: =CONCATENATE('[1]Constructon S1'!N40) | J40: =CONCATENATE('[1]Constructon S1'!O40," ",'[1]Constructon S1'!P40) | K40: =CONCATENATE('[1]Constructon S1'!Q40," ",'[1]Constructon S1'!R40) | M40: =CONCATENATE('[1]Constructon S1'!W40) | N40: =CONCATENATE('[1]Constructon S1'!X40," ",'[1]Constructon S1'!Y40) | O40: =CONCATENATE('[1]Constructon S1'!Z40," ",'[1]Constructon S1'!AA40) | P40: =CONCATENATE('[1]Constructon S1'!AD40," ",'[1]Constructon S1'!AE40) | Q40: =CONCATENATE('[1]Constructon S1'!AF40," ",'[1]Constructon S1'!AG40) | R40: =CONCATENATE('[1]Constructon S1'!AI40) | S40: =CONCATENATE('[1]Constructon S1'!AJ40," ",'[1]Constructon S1'!AK40) | T40: =CONCATENATE('[1]Constructon S1'!AL40," ",'[1]Constructon S1'!AM40) | U40: =CONCATENATE('[1]Constructon S1'!AP40," ",'[1]Constructon S1'!AQ40) | V40: =CONCATENATE('[1]Constructon S1'!AR40," ",'[1]Constructon S1'!AS40) | X40: =CONCATENATE('[1]Constructon S1'!AU40) | Y40: =CONCATENATE('[1]Constructon S1'!AV40," ",'[1]Constructon S1'!AW40) | Z40: =CONCATENATE('[1]Constructon S1'!AX40," ",'[1]Constructon S1'!AY40) | AA40: =CONCATENATE('[1]Constructon S1'!BA40) | AB40: =CONCATENATE('[1]Constructon S1'!BB40," ",'[1]Constructon S1'!BC40) | AC40: =CONCATENATE('[1]Constructon S1'!BD40," ",'[1]Constructon S1'!BE40) | AD40: =CONCATENATE('[1]Constructon S1'!BH40," ",'[1]Constructon S1'!BI40) | AE40: =CONCATENATE('[1]Constructon S1'!BJ40," ",'[1]Constructon S1'!BK40) | AG40: =CONCATENATE('[1]Constructon S1'!BN40) | AH40: =CONCATENATE('[1]Constructon S1'!BO40," ",'[1]Constructon S1'!BP40) | AI40: =CONCATENATE('[1]Constructon S1'!BQ40," ",'[1]Constructon S1'!BR40) | AJ40: =CONCATENATE('[1]Constructon S1'!BU40," ",'[1]Constructon S1'!BV40) | AK40: =CONCATENATE('[1]Constructon S1'!BW40," ",'[1]Constructon S1'!BX40) | AL40: =CONCATENATE('[1]Constructon S1'!BZ40) | AM40: =CONCATENATE('[1]Constructon S1'!CA40," ",'[1]Constructon S1'!CB40) | AN40: =CONCATENATE('[1]Constructon S1'!CC40," ",'[1]Constructon S1'!CD40) | AO40: =CONCATENATE('[1]Constructon S1'!CG40," ",'[1]Constructon S1'!CH40) | AP40: =CONCATENATE('[1]Constructon S1'!CI40," ",'[1]Constructon S1'!CJ40) | AR40: =CONCATENATE('[1]Constructon S1'!CL40) | AS40: =CONCATENATE('[1]Constructon S1'!CM40," ",'[1]Constructon S1'!CN40) | AT40: =CONCATENATE('[1]Constructon S1'!CO40," ",'[1]Constructon S1'!CP40) | AU40: =CONCATENATE('[1]Constructon S1'!CR40) | AV40: =CONCATENATE('[1]Constructon S1'!CS40," ",'[1]Constructon S1'!CT40) | AW40: =CONCATENATE('[1]Constructon S1'!CU40," ",'[1]Constructon S1'!CV40) | AX40: =CONCATENATE('[1]Constructon S1'!CX40) | AY40: =CONCATENATE('[1]Constructon S1'!CY40," ",'[1]Constructon S1'!CZ40) | AZ40: =CONCATENATE('[1]Constructon S1'!DA40," ",'[1]Constructon S1'!DB40)
A41: ='[1]Constructon S1'!A41 -> 43 | B41: ='[1]Constructon S1'!B41 -> 42668 | C41: =CONCATENATE('[1]Constructon S1'!C41) | D41: =CONCATENATE('[1]Constructon S1'!D41," ", '[1]Constructon S1'!E41) | E41: =CONCATENATE('[1]Constructon S1'!F41," ", '[1]Constructon S1'!G41) | F41: =CONCATENATE('[1]Constructon S1'!I41," ",'[1]Constructon S1'!J41) | G41: =CONCATENATE('[1]Constructon S1'!K41," ",'[1]Constructon S1'!L41) | I41: =CONCATENATE('[1]Constructon S1'!N41) | J41: =CONCATENATE('[1]Constructon S1'!O41," ",'[1]Constructon S1'!P41) | K41: =CONCATENATE('[1]Constructon S1'!Q41," ",'[1]Constructon S1'!R41) | M41: =CONCATENATE('[1]Constructon S1'!W41) | N41: =CONCATENATE('[1]Constructon S1'!X41," ",'[1]Constructon S1'!Y41) | O41: =CONCATENATE('[1]Constructon S1'!Z41," ",'[1]Constructon S1'!AA41) | P41: =CONCATENATE('[1]Constructon S1'!AD41," ",'[1]Constructon S1'!AE41) | Q41: =CONCATENATE('[1]Constructon S1'!AF41," ",'[1]Constructon S1'!AG41) | R41: =CONCATENATE('[1]Constructon S1'!AI41) | S41: =CONCATENATE('[1]Constructon S1'!AJ41," ",'[1]Constructon S1'!AK41) | T41: =CONCATENATE('[1]Constructon S1'!AL41," ",'[1]Constructon S1'!AM41) | U41: =CONCATENATE('[1]Constructon S1'!AP41," ",'[1]Constructon S1'!AQ41) | V41: =CONCATENATE('[1]Constructon S1'!AR41," ",'[1]Constructon S1'!AS41) | X41: =CONCATENATE('[1]Constructon S1'!AU41) | Y41: =CONCATENATE('[1]Constructon S1'!AV41," ",'[1]Constructon S1'!AW41) | Z41: =CONCATENATE('[1]Constructon S1'!AX41," ",'[1]Constructon S1'!AY41) | AA41: =CONCATENATE('[1]Constructon S1'!BA41) | AB41: =CONCATENATE('[1]Constructon S1'!BB41," ",'[1]Constructon S1'!BC41) | AC41: =CONCATENATE('[1]Constructon S1'!BD41," ",'[1]Constructon S1'!BE41) | AD41: =CONCATENATE('[1]Constructon S1'!BH41," ",'[1]Constructon S1'!BI41) | AE41: =CONCATENATE('[1]Constructon S1'!BJ41," ",'[1]Constructon S1'!BK41) | AG41: =CONCATENATE('[1]Constructon S1'!BN41) | AH41: =CONCATENATE('[1]Constructon S1'!BO41," ",'[1]Constructon S1'!BP41) | AI41: =CONCATENATE('[1]Constructon S1'!BQ41," ",'[1]Constructon S1'!BR41) | AJ41: =CONCATENATE('[1]Constructon S1'!BU41," ",'[1]Constructon S1'!BV41) | AK41: =CONCATENATE('[1]Constructon S1'!BW41," ",'[1]Constructon S1'!BX41) | AL41: =CONCATENATE('[1]Constructon S1'!BZ41) | AM41: =CONCATENATE('[1]Constructon S1'!CA41," ",'[1]Constructon S1'!CB41) | AN41: =CONCATENATE('[1]Constructon S1'!CC41," ",'[1]Constructon S1'!CD41) | AO41: =CONCATENATE('[1]Constructon S1'!CG41," ",'[1]Constructon S1'!CH41) | AP41: =CONCATENATE('[1]Constructon S1'!CI41," ",'[1]Constructon S1'!CJ41) | AR41: =CONCATENATE('[1]Constructon S1'!CL41) | AS41: =CONCATENATE('[1]Constructon S1'!CM41," ",'[1]Constructon S1'!CN41) | AT41: =CONCATENATE('[1]Constructon S1'!CO41," ",'[1]Constructon S1'!CP41) | AU41: =CONCATENATE('[1]Constructon S1'!CR41) | AV41: =CONCATENATE('[1]Constructon S1'!CS41," ",'[1]Constructon S1'!CT41) | AW41: =CONCATENATE('[1]Constructon S1'!CU41," ",'[1]Constructon S1'!CV41) | AX41: =CONCATENATE('[1]Constructon S1'!CX41) | AY41: =CONCATENATE('[1]Constructon S1'!CY41," ",'[1]Constructon S1'!CZ41) | AZ41: =CONCATENATE('[1]Constructon S1'!DA41," ",'[1]Constructon S1'!DB41)
A42: ='[1]Constructon S1'!A42 -> 43 | B42: ='[1]Constructon S1'!B42 -> 42669 | C42: =CONCATENATE('[1]Constructon S1'!C42) | D42: =CONCATENATE('[1]Constructon S1'!D42," ", '[1]Constructon S1'!E42) | E42: =CONCATENATE('[1]Constructon S1'!F42," ", '[1]Constructon S1'!G42) | F42: =CONCATENATE('[1]Constructon S1'!I42," ",'[1]Constructon S1'!J42) | G42: =CONCATENATE('[1]Constructon S1'!K42," ",'[1]Constructon S1'!L42) | I42: =CONCATENATE('[1]Constructon S1'!N42) | J42: =CONCATENATE('[1]Constructon S1'!O42," ",'[1]Constructon S1'!P42) | K42: =CONCATENATE('[1]Constructon S1'!Q42," ",'[1]Constructon S1'!R42) | M42: =CONCATENATE('[1]Constructon S1'!W42) | N42: =CONCATENATE('[1]Constructon S1'!X42," ",'[1]Constructon S1'!Y42) | O42: =CONCATENATE('[1]Constructon S1'!Z42," ",'[1]Constructon S1'!AA42) | P42: =CONCATENATE('[1]Constructon S1'!AD42," ",'[1]Constructon S1'!AE42) | Q42: =CONCATENATE('[1]Constructon S1'!AF42," ",'[1]Constructon S1'!AG42) | R42: =CONCATENATE('[1]Constructon S1'!AI42) | S42: =CONCATENATE('[1]Constructon S1'!AJ42," ",'[1]Constructon S1'!AK42) | T42: =CONCATENATE('[1]Constructon S1'!AL42," ",'[1]Constructon S1'!AM42) | U42: =CONCATENATE('[1]Constructon S1'!AP42," ",'[1]Constructon S1'!AQ42) | V42: =CONCATENATE('[1]Constructon S1'!AR42," ",'[1]Constructon S1'!AS42) | X42: =CONCATENATE('[1]Constructon S1'!AU42) | Y42: =CONCATENATE('[1]Constructon S1'!AV42," ",'[1]Constructon S1'!AW42) | Z42: =CONCATENATE('[1]Constructon S1'!AX42," ",'[1]Constructon S1'!AY42) | AA42: =CONCATENATE('[1]Constructon S1'!BA42) | AB42: =CONCATENATE('[1]Constructon S1'!BB42," ",'[1]Constructon S1'!BC42) | AC42: =CONCATENATE('[1]Constructon S1'!BD42," ",'[1]Constructon S1'!BE42) | AD42: =CONCATENATE('[1]Constructon S1'!BH42," ",'[1]Constructon S1'!BI42) | AE42: =CONCATENATE('[1]Constructon S1'!BJ42," ",'[1]Constructon S1'!BK42) | AG42: =CONCATENATE('[1]Constructon S1'!BN42) | AH42: =CONCATENATE('[1]Constructon S1'!BO42," ",'[1]Constructon S1'!BP42) | AI42: =CONCATENATE('[1]Constructon S1'!BQ42," ",'[1]Constructon S1'!BR42) | AJ42: =CONCATENATE('[1]Constructon S1'!BU42," ",'[1]Constructon S1'!BV42) | AK42: =CONCATENATE('[1]Constructon S1'!BW42," ",'[1]Constructon S1'!BX42) | AL42: =CONCATENATE('[1]Constructon S1'!BZ42) | AM42: =CONCATENATE('[1]Constructon S1'!CA42," ",'[1]Constructon S1'!CB42) | AN42: =CONCATENATE('[1]Constructon S1'!CC42," ",'[1]Constructon S1'!CD42) | AO42: =CONCATENATE('[1]Constructon S1'!CG42," ",'[1]Constructon S1'!CH42) | AP42: =CONCATENATE('[1]Constructon S1'!CI42," ",'[1]Constructon S1'!CJ42) | AR42: =CONCATENATE('[1]Constructon S1'!CL42) | AS42: =CONCATENATE('[1]Constructon S1'!CM42," ",'[1]Constructon S1'!CN42) | AT42: =CONCATENATE('[1]Constructon S1'!CO42," ",'[1]Constructon S1'!CP42) | AU42: =CONCATENATE('[1]Constructon S1'!CR42) | AV42: =CONCATENATE('[1]Constructon S1'!CS42," ",'[1]Constructon S1'!CT42) | AW42: =CONCATENATE('[1]Constructon S1'!CU42," ",'[1]Constructon S1'!CV42) | AX42: =CONCATENATE('[1]Constructon S1'!CX42) | AY42: =CONCATENATE('[1]Constructon S1'!CY42," ",'[1]Constructon S1'!CZ42) | AZ42: =CONCATENATE('[1]Constructon S1'!DA42," ",'[1]Constructon S1'!DB42)
A43: ='[1]Constructon S1'!A43 -> 43 | B43: ='[1]Constructon S1'!B43 -> 42670 | C43: =CONCATENATE('[1]Constructon S1'!C43) | D43: =CONCATENATE('[1]Constructon S1'!D43," ", '[1]Constructon S1'!E43) | E43: =CONCATENATE('[1]Constructon S1'!F43," ", '[1]Constructon S1'!G43) | F43: =CONCATENATE('[1]Constructon S1'!I43," ",'[1]Constructon S1'!J43) | G43: =CONCATENATE('[1]Constructon S1'!K43," ",'[1]Constructon S1'!L43) | I43: =CONCATENATE('[1]Constructon S1'!N43) | J43: =CONCATENATE('[1]Constructon S1'!O43," ",'[1]Constructon S1'!P43) | K43: =CONCATENATE('[1]Constructon S1'!Q43," ",'[1]Constructon S1'!R43) | M43: =CONCATENATE('[1]Constructon S1'!W43) | N43: =CONCATENATE('[1]Constructon S1'!X43," ",'[1]Constructon S1'!Y43) | O43: =CONCATENATE('[1]Constructon S1'!Z43," ",'[1]Constructon S1'!AA43) | P43: =CONCATENATE('[1]Constructon S1'!AD43," ",'[1]Constructon S1'!AE43) | Q43: =CONCATENATE('[1]Constructon S1'!AF43," ",'[1]Constructon S1'!AG43) | R43: =CONCATENATE('[1]Constructon S1'!AI43) | S43: =CONCATENATE('[1]Constructon S1'!AJ43," ",'[1]Constructon S1'!AK43) | T43: =CONCATENATE('[1]Constructon S1'!AL43," ",'[1]Constructon S1'!AM43) | U43: =CONCATENATE('[1]Constructon S1'!AP43," ",'[1]Constructon S1'!AQ43) | V43: =CONCATENATE('[1]Constructon S1'!AR43," ",'[1]Constructon S1'!AS43) | X43: =CONCATENATE('[1]Constructon S1'!AU43) | Y43: =CONCATENATE('[1]Constructon S1'!AV43," ",'[1]Constructon S1'!AW43) | Z43: =CONCATENATE('[1]Constructon S1'!AX43," ",'[1]Constructon S1'!AY43) | AA43: =CONCATENATE('[1]Constructon S1'!BA43) | AB43: =CONCATENATE('[1]Constructon S1'!BB43," ",'[1]Constructon S1'!BC43) | AC43: =CONCATENATE('[1]Constructon S1'!BD43," ",'[1]Constructon S1'!BE43) | AD43: =CONCATENATE('[1]Constructon S1'!BH43," ",'[1]Constructon S1'!BI43) | AE43: =CONCATENATE('[1]Constructon S1'!BJ43," ",'[1]Constructon S1'!BK43) | AG43: =CONCATENATE('[1]Constructon S1'!BN43) | AH43: =CONCATENATE('[1]Constructon S1'!BO43," ",'[1]Constructon S1'!BP43) | AI43: =CONCATENATE('[1]Constructon S1'!BQ43," ",'[1]Constructon S1'!BR43) | AJ43: =CONCATENATE('[1]Constructon S1'!BU43," ",'[1]Constructon S1'!BV43) | AK43: =CONCATENATE('[1]Constructon S1'!BW43," ",'[1]Constructon S1'!BX43) | AL43: =CONCATENATE('[1]Constructon S1'!BZ43) | AM43: =CONCATENATE('[1]Constructon S1'!CA43," ",'[1]Constructon S1'!CB43) | AN43: =CONCATENATE('[1]Constructon S1'!CC43," ",'[1]Constructon S1'!CD43) | AO43: =CONCATENATE('[1]Constructon S1'!CG43," ",'[1]Constructon S1'!CH43) | AP43: =CONCATENATE('[1]Constructon S1'!CI43," ",'[1]Constructon S1'!CJ43) | AR43: =CONCATENATE('[1]Constructon S1'!CL43) | AS43: =CONCATENATE('[1]Constructon S1'!CM43," ",'[1]Constructon S1'!CN43) | AT43: =CONCATENATE('[1]Constructon S1'!CO43," ",'[1]Constructon S1'!CP43) | AU43: =CONCATENATE('[1]Constructon S1'!CR43) | AV43: =CONCATENATE('[1]Constructon S1'!CS43," ",'[1]Constructon S1'!CT43) | AW43: =CONCATENATE('[1]Constructon S1'!CU43," ",'[1]Constructon S1'!CV43) | AX43: =CONCATENATE('[1]Constructon S1'!CX43) | AY43: =CONCATENATE('[1]Constructon S1'!CY43," ",'[1]Constructon S1'!CZ43) | AZ43: =CONCATENATE('[1]Constructon S1'!DA43," ",'[1]Constructon S1'!DB43)
A44: ='[1]Constructon S1'!A44 -> 43 | B44: ='[1]Constructon S1'!B44 -> 42671 | C44: =CONCATENATE('[1]Constructon S1'!C44) | D44: =CONCATENATE('[1]Constructon S1'!D44," ", '[1]Constructon S1'!E44) | E44: =CONCATENATE('[1]Constructon S1'!F44," ", '[1]Constructon S1'!G44) | F44: =CONCATENATE('[1]Constructon S1'!I44," ",'[1]Constructon S1'!J44) | G44: =CONCATENATE('[1]Constructon S1'!K44," ",'[1]Constructon S1'!L44) | I44: =CONCATENATE('[1]Constructon S1'!N44) | J44: =CONCATENATE('[1]Constructon S1'!O44," ",'[1]Constructon S1'!P44) | K44: =CONCATENATE('[1]Constructon S1'!Q44," ",'[1]Constructon S1'!R44) | M44: =CONCATENATE('[1]Constructon S1'!W44) | N44: =CONCATENATE('[1]Constructon S1'!X44," ",'[1]Constructon S1'!Y44) | O44: =CONCATENATE('[1]Constructon S1'!Z44," ",'[1]Constructon S1'!AA44) | P44: =CONCATENATE('[1]Constructon S1'!AD44," ",'[1]Constructon S1'!AE44) | Q44: =CONCATENATE('[1]Constructon S1'!AF44," ",'[1]Constructon S1'!AG44) | R44: =CONCATENATE('[1]Constructon S1'!AI44) | S44: =CONCATENATE('[1]Constructon S1'!AJ44," ",'[1]Constructon S1'!AK44) | T44: =CONCATENATE('[1]Constructon S1'!AL44," ",'[1]Constructon S1'!AM44) | U44: =CONCATENATE('[1]Constructon S1'!AP44," ",'[1]Constructon S1'!AQ44) | V44: =CONCATENATE('[1]Constructon S1'!AR44," ",'[1]Constructon S1'!AS44) | X44: =CONCATENATE('[1]Constructon S1'!AU44) | Y44: =CONCATENATE('[1]Constructon S1'!AV44," ",'[1]Constructon S1'!AW44) | Z44: =CONCATENATE('[1]Constructon S1'!AX44," ",'[1]Constructon S1'!AY44) | AA44: =CONCATENATE('[1]Constructon S1'!BA44) | AB44: =CONCATENATE('[1]Constructon S1'!BB44," ",'[1]Constructon S1'!BC44) | AC44: =CONCATENATE('[1]Constructon S1'!BD44," ",'[1]Constructon S1'!BE44) | AD44: =CONCATENATE('[1]Constructon S1'!BH44," ",'[1]Constructon S1'!BI44) | AE44: =CONCATENATE('[1]Constructon S1'!BJ44," ",'[1]Constructon S1'!BK44) | AG44: =CONCATENATE('[1]Constructon S1'!BN44) | AH44: =CONCATENATE('[1]Constructon S1'!BO44," ",'[1]Constructon S1'!BP44) | AI44: =CONCATENATE('[1]Constructon S1'!BQ44," ",'[1]Constructon S1'!BR44) | AJ44: =CONCATENATE('[1]Constructon S1'!BU44," ",'[1]Constructon S1'!BV44) | AK44: =CONCATENATE('[1]Constructon S1'!BW44," ",'[1]Constructon S1'!BX44) | AL44: =CONCATENATE('[1]Constructon S1'!BZ44) | AM44: =CONCATENATE('[1]Constructon S1'!CA44," ",'[1]Constructon S1'!CB44) | AN44: =CONCATENATE('[1]Constructon S1'!CC44," ",'[1]Constructon S1'!CD44) | AO44: =CONCATENATE('[1]Constructon S1'!CG44," ",'[1]Constructon S1'!CH44) | AP44: =CONCATENATE('[1]Constructon S1'!CI44," ",'[1]Constructon S1'!CJ44) | AR44: =CONCATENATE('[1]Constructon S1'!CL44) | AS44: =CONCATENATE('[1]Constructon S1'!CM44," ",'[1]Constructon S1'!CN44) | AT44: =CONCATENATE('[1]Constructon S1'!CO44," ",'[1]Constructon S1'!CP44) | AU44: =CONCATENATE('[1]Constructon S1'!CR44) | AV44: =CONCATENATE('[1]Constructon S1'!CS44," ",'[1]Constructon S1'!CT44) | AW44: =CONCATENATE('[1]Constructon S1'!CU44," ",'[1]Constructon S1'!CV44) | AX44: =CONCATENATE('[1]Constructon S1'!CX44) | AY44: =CONCATENATE('[1]Constructon S1'!CY44," ",'[1]Constructon S1'!CZ44) | AZ44: =CONCATENATE('[1]Constructon S1'!DA44," ",'[1]Constructon S1'!DB44)
C45: =CONCATENATE('[1]Constructon S1'!C45) | I45: =CONCATENATE('[1]Constructon S1'!N45) | M45: =CONCATENATE('[1]Constructon S1'!W45) | R45: =CONCATENATE('[1]Constructon S1'!AI45) | X45: =CONCATENATE('[1]Constructon S1'!AU45) | AA45: =CONCATENATE('[1]Constructon S1'!BA45) | AG45: =CONCATENATE('[1]Constructon S1'!BN45) | AL45: =CONCATENATE('[1]Constructon S1'!BZ45) | AR45: =CONCATENATE('[1]Constructon S1'!CL45) | AU45: =CONCATENATE('[1]Constructon S1'!CR45) | AX45: =CONCATENATE('[1]Constructon S1'!CX45)
A46: ='[1]Constructon S1'!A46 -> 44 | B46: ='[1]Constructon S1'!B46 -> 42674 | C46: =CONCATENATE('[1]Constructon S1'!C46) | D46: =CONCATENATE('[1]Constructon S1'!D46," ", '[1]Constructon S1'!E46) | E46: =CONCATENATE('[1]Constructon S1'!F46," ", '[1]Constructon S1'!G46) | F46: =CONCATENATE('[1]Constructon S1'!I46," ",'[1]Constructon S1'!J46) | G46: =CONCATENATE('[1]Constructon S1'!K46," ",'[1]Constructon S1'!L46) | I46: =CONCATENATE('[1]Constructon S1'!N46) | J46: =CONCATENATE('[1]Constructon S1'!O46," ",'[1]Constructon S1'!P46) | K46: =CONCATENATE('[1]Constructon S1'!Q46," ",'[1]Constructon S1'!R46) | M46: =CONCATENATE('[1]Constructon S1'!W46) | N46: =CONCATENATE('[1]Constructon S1'!X46," ",'[1]Constructon S1'!Y46) | O46: =CONCATENATE('[1]Constructon S1'!Z46," ",'[1]Constructon S1'!AA46) | P46: =CONCATENATE('[1]Constructon S1'!AD46," ",'[1]Constructon S1'!AE46) | Q46: =CONCATENATE('[1]Constructon S1'!AF46," ",'[1]Constructon S1'!AG46) | R46: =CONCATENATE('[1]Constructon S1'!AI46) | S46: =CONCATENATE('[1]Constructon S1'!AJ46," ",'[1]Constructon S1'!AK46) | T46: =CONCATENATE('[1]Constructon S1'!AL46," ",'[1]Constructon S1'!AM46) | U46: =CONCATENATE('[1]Constructon S1'!AP46," ",'[1]Constructon S1'!AQ46) | V46: =CONCATENATE('[1]Constructon S1'!AR46," ",'[1]Constructon S1'!AS46) | X46: =CONCATENATE('[1]Constructon S1'!AU46) | Y46: =CONCATENATE('[1]Constructon S1'!AV46," ",'[1]Constructon S1'!AW46) | Z46: =CONCATENATE('[1]Constructon S1'!AX46," ",'[1]Constructon S1'!AY46) | AA46: =CONCATENATE('[1]Constructon S1'!BA46) | AB46: =CONCATENATE('[1]Constructon S1'!BB46," ",'[1]Constructon S1'!BC46) | AC46: =CONCATENATE('[1]Constructon S1'!BD46," ",'[1]Constructon S1'!BE46) | AD46: =CONCATENATE('[1]Constructon S1'!BH46," ",'[1]Constructon S1'!BI46) | AE46: =CONCATENATE('[1]Constructon S1'!BJ46," ",'[1]Constructon S1'!BK46) | AG46: =CONCATENATE('[1]Constructon S1'!BN46) | AH46: =CONCATENATE('[1]Constructon S1'!BO46," ",'[1]Constructon S1'!BP46) | AI46: =CONCATENATE('[1]Constructon S1'!BQ46," ",'[1]Constructon S1'!BR46) | AJ46: =CONCATENATE('[1]Constructon S1'!BU46," ",'[1]Constructon S1'!BV46) | AK46: =CONCATENATE('[1]Constructon S1'!BW46," ",'[1]Constructon S1'!BX46) | AL46: =CONCATENATE('[1]Constructon S1'!BZ46) | AM46: =CONCATENATE('[1]Constructon S1'!CA46," ",'[1]Constructon S1'!CB46) | AN46: =CONCATENATE('[1]Constructon S1'!CC46," ",'[1]Constructon S1'!CD46) | AO46: =CONCATENATE('[1]Constructon S1'!CG46," ",'[1]Constructon S1'!CH46) | AP46: =CONCATENATE('[1]Constructon S1'!CI46," ",'[1]Constructon S1'!CJ46) | AR46: =CONCATENATE('[1]Constructon S1'!CL46) | AS46: =CONCATENATE('[1]Constructon S1'!CM46," ",'[1]Constructon S1'!CN46) | AT46: =CONCATENATE('[1]Constructon S1'!CO46," ",'[1]Constructon S1'!CP46) | AU46: =CONCATENATE('[1]Constructon S1'!CR46) | AV46: =CONCATENATE('[1]Constructon S1'!CS46," ",'[1]Constructon S1'!CT46) | AW46: =CONCATENATE('[1]Constructon S1'!CU46," ",'[1]Constructon S1'!CV46) | AX46: =CONCATENATE('[1]Constructon S1'!CX46) | AY46: =CONCATENATE('[1]Constructon S1'!CY46," ",'[1]Constructon S1'!CZ46) | AZ46: =CONCATENATE('[1]Constructon S1'!DA46," ",'[1]Constructon S1'!DB46)
A47: ='[1]Constructon S1'!A47 -> 44 | B47: ='[1]Constructon S1'!B47 -> 42675 | C47: =CONCATENATE('[1]Constructon S1'!C47) | D47: =CONCATENATE('[1]Constructon S1'!D47," ", '[1]Constructon S1'!E47) | E47: =CONCATENATE('[1]Constructon S1'!F47," ", '[1]Constructon S1'!G47) | F47: =CONCATENATE('[1]Constructon S1'!I47," ",'[1]Constructon S1'!J47) | G47: =CONCATENATE('[1]Constructon S1'!K47," ",'[1]Constructon S1'!L47) | I47: =CONCATENATE('[1]Constructon S1'!N47) | J47: =CONCATENATE('[1]Constructon S1'!O47," ",'[1]Constructon S1'!P47) | K47: =CONCATENATE('[1]Constructon S1'!Q47," ",'[1]Constructon S1'!R47) | M47: =CONCATENATE('[1]Constructon S1'!W47) | N47: =CONCATENATE('[1]Constructon S1'!X47," ",'[1]Constructon S1'!Y47) | O47: =CONCATENATE('[1]Constructon S1'!Z47," ",'[1]Constructon S1'!AA47) | P47: =CONCATENATE('[1]Constructon S1'!AD47," ",'[1]Constructon S1'!AE47) | Q47: =CONCATENATE('[1]Constructon S1'!AF47," ",'[1]Constructon S1'!AG47) | R47: =CONCATENATE('[1]Constructon S1'!AI47) | S47: =CONCATENATE('[1]Constructon S1'!AJ47," ",'[1]Constructon S1'!AK47) | T47: =CONCATENATE('[1]Constructon S1'!AL47," ",'[1]Constructon S1'!AM47) | U47: =CONCATENATE('[1]Constructon S1'!AP47," ",'[1]Constructon S1'!AQ47) | V47: =CONCATENATE('[1]Constructon S1'!AR47," ",'[1]Constructon S1'!AS47) | X47: =CONCATENATE('[1]Constructon S1'!AU47) | Y47: =CONCATENATE('[1]Constructon S1'!AV47," ",'[1]Constructon S1'!AW47) | Z47: =CONCATENATE('[1]Constructon S1'!AX47," ",'[1]Constructon S1'!AY47) | AA47: =CONCATENATE('[1]Constructon S1'!BA47) | AB47: =CONCATENATE('[1]Constructon S1'!BB47," ",'[1]Constructon S1'!BC47) | AC47: =CONCATENATE('[1]Constructon S1'!BD47," ",'[1]Constructon S1'!BE47) | AD47: =CONCATENATE('[1]Constructon S1'!BH47," ",'[1]Constructon S1'!BI47) | AE47: =CONCATENATE('[1]Constructon S1'!BJ47," ",'[1]Constructon S1'!BK47) | AG47: =CONCATENATE('[1]Constructon S1'!BN47) | AH47: =CONCATENATE('[1]Constructon S1'!BO47," ",'[1]Constructon S1'!BP47) | AI47: =CONCATENATE('[1]Constructon S1'!BQ47," ",'[1]Constructon S1'!BR47) | AJ47: =CONCATENATE('[1]Constructon S1'!BU47," ",'[1]Constructon S1'!BV47) | AK47: =CONCATENATE('[1]Constructon S1'!BW47," ",'[1]Constructon S1'!BX47) | AL47: =CONCATENATE('[1]Constructon S1'!BZ47) | AM47: =CONCATENATE('[1]Constructon S1'!CA47," ",'[1]Constructon S1'!CB47) | AN47: =CONCATENATE('[1]Constructon S1'!CC47," ",'[1]Constructon S1'!CD47) | AO47: =CONCATENATE('[1]Constructon S1'!CG47," ",'[1]Constructon S1'!CH47) | AP47: =CONCATENATE('[1]Constructon S1'!CI47," ",'[1]Constructon S1'!CJ47) | AR47: =CONCATENATE('[1]Constructon S1'!CL47) | AS47: =CONCATENATE('[1]Constructon S1'!CM47," ",'[1]Constructon S1'!CN47) | AT47: =CONCATENATE('[1]Constructon S1'!CO47," ",'[1]Constructon S1'!CP47) | AU47: =CONCATENATE('[1]Constructon S1'!CR47) | AV47: =CONCATENATE('[1]Constructon S1'!CS47," ",'[1]Constructon S1'!CT47) | AW47: =CONCATENATE('[1]Constructon S1'!CU47," ",'[1]Constructon S1'!CV47) | AX47: =CONCATENATE('[1]Constructon S1'!CX47) | AY47: =CONCATENATE('[1]Constructon S1'!CY47," ",'[1]Constructon S1'!CZ47) | AZ47: =CONCATENATE('[1]Constructon S1'!DA47," ",'[1]Constructon S1'!DB47)
A48: ='[1]Constructon S1'!A48 -> 44 | B48: ='[1]Constructon S1'!B48 -> 42676 | C48: =CONCATENATE('[1]Constructon S1'!C48) | D48: =CONCATENATE('[1]Constructon S1'!D48," ", '[1]Constructon S1'!E48) | E48: =CONCATENATE('[1]Constructon S1'!F48," ", '[1]Constructon S1'!G48) | F48: =CONCATENATE('[1]Constructon S1'!I48," ",'[1]Constructon S1'!J48) | G48: =CONCATENATE('[1]Constructon S1'!K48," ",'[1]Constructon S1'!L48) | I48: =CONCATENATE('[1]Constructon S1'!N48) | J48: =CONCATENATE('[1]Constructon S1'!O48," ",'[1]Constructon S1'!P48) -> CB1 B | K48: =CONCATENATE('[1]Constructon S1'!Q48," ",'[1]Constructon S1'!R48) -> CB1 G | M48: =CONCATENATE('[1]Constructon S1'!W48) | N48: =CONCATENATE('[1]Constructon S1'!X48," ",'[1]Constructon S1'!Y48) | O48: =CONCATENATE('[1]Constructon S1'!Z48," ",'[1]Constructon S1'!AA48) | P48: =CONCATENATE('[1]Constructon S1'!AD48," ",'[1]Constructon S1'!AE48) | Q48: =CONCATENATE('[1]Constructon S1'!AF48," ",'[1]Constructon S1'!AG48) | R48: =CONCATENATE('[1]Constructon S1'!AI48) | S48: =CONCATENATE('[1]Constructon S1'!AJ48," ",'[1]Constructon S1'!AK48) | T48: =CONCATENATE('[1]Constructon S1'!AL48," ",'[1]Constructon S1'!AM48) | U48: =CONCATENATE('[1]Constructon S1'!AP48," ",'[1]Constructon S1'!AQ48) | V48: =CONCATENATE('[1]Constructon S1'!AR48," ",'[1]Constructon S1'!AS48) | X48: =CONCATENATE('[1]Constructon S1'!AU48) | Y48: =CONCATENATE('[1]Constructon S1'!AV48," ",'[1]Constructon S1'!AW48) | Z48: =CONCATENATE('[1]Constructon S1'!AX48," ",'[1]Constructon S1'!AY48) | AA48: =CONCATENATE('[1]Constructon S1'!BA48) | AB48: =CONCATENATE('[1]Constructon S1'!BB48," ",'[1]Constructon S1'!BC48) | AC48: =CONCATENATE('[1]Constructon S1'!BD48," ",'[1]Constructon S1'!BE48) | AD48: =CONCATENATE('[1]Constructon S1'!BH48," ",'[1]Constructon S1'!BI48) | AE48: =CONCATENATE('[1]Constructon S1'!BJ48," ",'[1]Constructon S1'!BK48) | AG48: =CONCATENATE('[1]Constructon S1'!BN48) | AH48: =CONCATENATE('[1]Constructon S1'!BO48," ",'[1]Constructon S1'!BP48) | AI48: =CONCATENATE('[1]Constructon S1'!BQ48," ",'[1]Constructon S1'!BR48) | AJ48: =CONCATENATE('[1]Constructon S1'!BU48," ",'[1]Constructon S1'!BV48) | AK48: =CONCATENATE('[1]Constructon S1'!BW48," ",'[1]Constructon S1'!BX48) -> CB1 J | AL48: =CONCATENATE('[1]Constructon S1'!BZ48) | AM48: =CONCATENATE('[1]Constructon S1'!CA48," ",'[1]Constructon S1'!CB48) | AN48: =CONCATENATE('[1]Constructon S1'!CC48," ",'[1]Constructon S1'!CD48) | AO48: =CONCATENATE('[1]Constructon S1'!CG48," ",'[1]Constructon S1'!CH48) | AP48: =CONCATENATE('[1]Constructon S1'!CI48," ",'[1]Constructon S1'!CJ48) | AR48: =CONCATENATE('[1]Constructon S1'!CL48) | AS48: =CONCATENATE('[1]Constructon S1'!CM48," ",'[1]Constructon S1'!CN48) | AT48: =CONCATENATE('[1]Constructon S1'!CO48," ",'[1]Constructon S1'!CP48) | AU48: =CONCATENATE('[1]Constructon S1'!CR48) | AV48: =CONCATENATE('[1]Constructon S1'!CS48," ",'[1]Constructon S1'!CT48) | AW48: =CONCATENATE('[1]Constructon S1'!CU48," ",'[1]Constructon S1'!CV48) | AX48: =CONCATENATE('[1]Constructon S1'!CX48) | AY48: =CONCATENATE('[1]Constructon S1'!CY48," ",'[1]Constructon S1'!CZ48) | AZ48: =CONCATENATE('[1]Constructon S1'!DA48," ",'[1]Constructon S1'!DB48)
A49: ='[1]Constructon S1'!A49 -> 44 | B49: ='[1]Constructon S1'!B49 -> 42677 | C49: =CONCATENATE('[1]Constructon S1'!C49) | D49: =CONCATENATE('[1]Constructon S1'!D49," ", '[1]Constructon S1'!E49) | E49: =CONCATENATE('[1]Constructon S1'!F49," ", '[1]Constructon S1'!G49) | F49: =CONCATENATE('[1]Constructon S1'!I49," ",'[1]Constructon S1'!J49) | G49: =CONCATENATE('[1]Constructon S1'!K49," ",'[1]Constructon S1'!L49) | I49: =CONCATENATE('[1]Constructon S1'!N49) | J49: =CONCATENATE('[1]Constructon S1'!O49," ",'[1]Constructon S1'!P49) | K49: =CONCATENATE('[1]Constructon S1'!Q49," ",'[1]Constructon S1'!R49) | M49: =CONCATENATE('[1]Constructon S1'!W49) | N49: =CONCATENATE('[1]Constructon S1'!X49," ",'[1]Constructon S1'!Y49) | O49: =CONCATENATE('[1]Constructon S1'!Z49," ",'[1]Constructon S1'!AA49) | P49: =CONCATENATE('[1]Constructon S1'!AD49," ",'[1]Constructon S1'!AE49) | Q49: =CONCATENATE('[1]Constructon S1'!AF49," ",'[1]Constructon S1'!AG49) | R49: =CONCATENATE('[1]Constructon S1'!AI49) | S49: =CONCATENATE('[1]Constructon S1'!AJ49," ",'[1]Constructon S1'!AK49) | T49: =CONCATENATE('[1]Constructon S1'!AL49," ",'[1]Constructon S1'!AM49) | U49: =CONCATENATE('[1]Constructon S1'!AP49," ",'[1]Constructon S1'!AQ49) | V49: =CONCATENATE('[1]Constructon S1'!AR49," ",'[1]Constructon S1'!AS49) | X49: =CONCATENATE('[1]Constructon S1'!AU49) | Y49: =CONCATENATE('[1]Constructon S1'!AV49," ",'[1]Constructon S1'!AW49) | Z49: =CONCATENATE('[1]Constructon S1'!AX49," ",'[1]Constructon S1'!AY49) | AA49: =CONCATENATE('[1]Constructon S1'!BA49) | AB49: =CONCATENATE('[1]Constructon S1'!BB49," ",'[1]Constructon S1'!BC49) | AC49: =CONCATENATE('[1]Constructon S1'!BD49," ",'[1]Constructon S1'!BE49) | AD49: =CONCATENATE('[1]Constructon S1'!BH49," ",'[1]Constructon S1'!BI49) | AE49: =CONCATENATE('[1]Constructon S1'!BJ49," ",'[1]Constructon S1'!BK49) | AG49: =CONCATENATE('[1]Constructon S1'!BN49) | AH49: =CONCATENATE('[1]Constructon S1'!BO49," ",'[1]Constructon S1'!BP49) | AI49: =CONCATENATE('[1]Constructon S1'!BQ49," ",'[1]Constructon S1'!BR49) | AJ49: =CONCATENATE('[1]Constructon S1'!BU49," ",'[1]Constructon S1'!BV49) | AK49: =CONCATENATE('[1]Constructon S1'!BW49," ",'[1]Constructon S1'!BX49) | AL49: =CONCATENATE('[1]Constructon S1'!BZ49) | AM49: =CONCATENATE('[1]Constructon S1'!CA49," ",'[1]Constructon S1'!CB49) | AN49: =CONCATENATE('[1]Constructon S1'!CC49," ",'[1]Constructon S1'!CD49) | AO49: =CONCATENATE('[1]Constructon S1'!CG49," ",'[1]Constructon S1'!CH49) | AP49: =CONCATENATE('[1]Constructon S1'!CI49," ",'[1]Constructon S1'!CJ49) | AR49: =CONCATENATE('[1]Constructon S1'!CL49) | AS49: =CONCATENATE('[1]Constructon S1'!CM49," ",'[1]Constructon S1'!CN49) | AT49: =CONCATENATE('[1]Constructon S1'!CO49," ",'[1]Constructon S1'!CP49) | AU49: =CONCATENATE('[1]Constructon S1'!CR49) | AV49: =CONCATENATE('[1]Constructon S1'!CS49," ",'[1]Constructon S1'!CT49) | AW49: =CONCATENATE('[1]Constructon S1'!CU49," ",'[1]Constructon S1'!CV49) | AX49: =CONCATENATE('[1]Constructon S1'!CX49) | AY49: =CONCATENATE('[1]Constructon S1'!CY49," ",'[1]Constructon S1'!CZ49) | AZ49: =CONCATENATE('[1]Constructon S1'!DA49," ",'[1]Constructon S1'!DB49)
A50: ='[1]Constructon S1'!A50 -> 44 | B50: ='[1]Constructon S1'!B50 -> 42678 | C50: =CONCATENATE('[1]Constructon S1'!C50) -> TP2 ch100 | D50: =CONCATENATE('[1]Constructon S1'!D50," ", '[1]Constructon S1'!E50) -> CB1 A | E50: =CONCATENATE('[1]Constructon S1'!F50," ", '[1]Constructon S1'!G50) -> BI A | F50: =CONCATENATE('[1]Constructon S1'!I50," ",'[1]Constructon S1'!J50) -> CB1 B | G50: =CONCATENATE('[1]Constructon S1'!K50," ",'[1]Constructon S1'!L50) -> BI B | I50: =CONCATENATE('[1]Constructon S1'!N50) | J50: =CONCATENATE('[1]Constructon S1'!O50," ",'[1]Constructon S1'!P50) | K50: =CONCATENATE('[1]Constructon S1'!Q50," ",'[1]Constructon S1'!R50) | M50: =CONCATENATE('[1]Constructon S1'!W50) | N50: =CONCATENATE('[1]Constructon S1'!X50," ",'[1]Constructon S1'!Y50) | O50: =CONCATENATE('[1]Constructon S1'!Z50," ",'[1]Constructon S1'!AA50) | P50: =CONCATENATE('[1]Constructon S1'!AD50," ",'[1]Constructon S1'!AE50) | Q50: =CONCATENATE('[1]Constructon S1'!AF50," ",'[1]Constructon S1'!AG50) | R50: =CONCATENATE('[1]Constructon S1'!AI50) | S50: =CONCATENATE('[1]Constructon S1'!AJ50," ",'[1]Constructon S1'!AK50) | T50: =CONCATENATE('[1]Constructon S1'!AL50," ",'[1]Constructon S1'!AM50) | U50: =CONCATENATE('[1]Constructon S1'!AP50," ",'[1]Constructon S1'!AQ50) | V50: =CONCATENATE('[1]Constructon S1'!AR50," ",'[1]Constructon S1'!AS50) | X50: =CONCATENATE('[1]Constructon S1'!AU50) | Y50: =CONCATENATE('[1]Constructon S1'!AV50," ",'[1]Constructon S1'!AW50) | Z50: =CONCATENATE('[1]Constructon S1'!AX50," ",'[1]Constructon S1'!AY50) | AA50: =CONCATENATE('[1]Constructon S1'!BA50) -> MT Protéine | AB50: =CONCATENATE('[1]Constructon S1'!BB50," ",'[1]Constructon S1'!BC50) -> BI C | AC50: =CONCATENATE('[1]Constructon S1'!BD50," ",'[1]Constructon S1'!BE50) -> BI G | AD50: =CONCATENATE('[1]Constructon S1'!BH50," ",'[1]Constructon S1'!BI50) | AE50: =CONCATENATE('[1]Constructon S1'!BJ50," ",'[1]Constructon S1'!BK50) | AG50: =CONCATENATE('[1]Constructon S1'!BN50) | AH50: =CONCATENATE('[1]Constructon S1'!BO50," ",'[1]Constructon S1'!BP50) | AI50: =CONCATENATE('[1]Constructon S1'!BQ50," ",'[1]Constructon S1'!BR50) | AJ50: =CONCATENATE('[1]Constructon S1'!BU50," ",'[1]Constructon S1'!BV50) | AK50: =CONCATENATE('[1]Constructon S1'!BW50," ",'[1]Constructon S1'!BX50) | AL50: =CONCATENATE('[1]Constructon S1'!BZ50) | AM50: =CONCATENATE('[1]Constructon S1'!CA50," ",'[1]Constructon S1'!CB50) | AN50: =CONCATENATE('[1]Constructon S1'!CC50," ",'[1]Constructon S1'!CD50) | AO50: =CONCATENATE('[1]Constructon S1'!CG50," ",'[1]Constructon S1'!CH50) | AP50: =CONCATENATE('[1]Constructon S1'!CI50," ",'[1]Constructon S1'!CJ50) | AR50: =CONCATENATE('[1]Constructon S1'!CL50) | AS50: =CONCATENATE('[1]Constructon S1'!CM50," ",'[1]Constructon S1'!CN50) | AT50: =CONCATENATE('[1]Constructon S1'!CO50," ",'[1]Constructon S1'!CP50) | AU50: =CONCATENATE('[1]Constructon S1'!CR50) | AV50: =CONCATENATE('[1]Constructon S1'!CS50," ",'[1]Constructon S1'!CT50) | AW50: =CONCATENATE('[1]Constructon S1'!CU50," ",'[1]Constructon S1'!CV50) | AX50: =CONCATENATE('[1]Constructon S1'!CX50) | AY50: =CONCATENATE('[1]Constructon S1'!CY50," ",'[1]Constructon S1'!CZ50) | AZ50: =CONCATENATE('[1]Constructon S1'!DA50," ",'[1]Constructon S1'!DB50)
C51: =CONCATENATE('[1]Constructon S1'!C51) | I51: =CONCATENATE('[1]Constructon S1'!N51) | M51: =CONCATENATE('[1]Constructon S1'!W51) | R51: =CONCATENATE('[1]Constructon S1'!AI51) | X51: =CONCATENATE('[1]Constructon S1'!AU51) | AA51: =CONCATENATE('[1]Constructon S1'!BA51) | AG51: =CONCATENATE('[1]Constructon S1'!BN51) | AL51: =CONCATENATE('[1]Constructon S1'!BZ51) | AR51: =CONCATENATE('[1]Constructon S1'!CL51) | AU51: =CONCATENATE('[1]Constructon S1'!CR51) | AX51: =CONCATENATE('[1]Constructon S1'!CX51)
A52: ='[1]Constructon S1'!A52 -> 45 | B52: ='[1]Constructon S1'!B52 -> 42681 | C52: =CONCATENATE('[1]Constructon S1'!C52) -> TP2 ch100 | D52: =CONCATENATE('[1]Constructon S1'!D52," ", '[1]Constructon S1'!E52) -> MPCI1 A | E52: =CONCATENATE('[1]Constructon S1'!F52," ", '[1]Constructon S1'!G52) -> MPCI1 B | F52: =CONCATENATE('[1]Constructon S1'!I52," ",'[1]Constructon S1'!J52) -> MPCI1 C | G52: =CONCATENATE('[1]Constructon S1'!K52," ",'[1]Constructon S1'!L52) -> MPCI1 D | I52: =CONCATENATE('[1]Constructon S1'!N52) | J52: =CONCATENATE('[1]Constructon S1'!O52," ",'[1]Constructon S1'!P52) | K52: =CONCATENATE('[1]Constructon S1'!Q52," ",'[1]Constructon S1'!R52) | M52: =CONCATENATE('[1]Constructon S1'!W52) | N52: =CONCATENATE('[1]Constructon S1'!X52," ",'[1]Constructon S1'!Y52) | O52: =CONCATENATE('[1]Constructon S1'!Z52," ",'[1]Constructon S1'!AA52) | P52: =CONCATENATE('[1]Constructon S1'!AD52," ",'[1]Constructon S1'!AE52) | Q52: =CONCATENATE('[1]Constructon S1'!AF52," ",'[1]Constructon S1'!AG52) | R52: =CONCATENATE('[1]Constructon S1'!AI52) | S52: =CONCATENATE('[1]Constructon S1'!AJ52," ",'[1]Constructon S1'!AK52) | T52: =CONCATENATE('[1]Constructon S1'!AL52," ",'[1]Constructon S1'!AM52) | U52: =CONCATENATE('[1]Constructon S1'!AP52," ",'[1]Constructon S1'!AQ52) | V52: =CONCATENATE('[1]Constructon S1'!AR52," ",'[1]Constructon S1'!AS52) | X52: =CONCATENATE('[1]Constructon S1'!AU52) | Y52: =CONCATENATE('[1]Constructon S1'!AV52," ",'[1]Constructon S1'!AW52) | Z52: =CONCATENATE('[1]Constructon S1'!AX52," ",'[1]Constructon S1'!AY52) | AA52: =CONCATENATE('[1]Constructon S1'!BA52) | AB52: =CONCATENATE('[1]Constructon S1'!BB52," ",'[1]Constructon S1'!BC52) | AC52: =CONCATENATE('[1]Constructon S1'!BD52," ",'[1]Constructon S1'!BE52) | AD52: =CONCATENATE('[1]Constructon S1'!BH52," ",'[1]Constructon S1'!BI52) | AE52: =CONCATENATE('[1]Constructon S1'!BJ52," ",'[1]Constructon S1'!BK52) | AG52: =CONCATENATE('[1]Constructon S1'!BN52) | AH52: =CONCATENATE('[1]Constructon S1'!BO52," ",'[1]Constructon S1'!BP52) | AI52: =CONCATENATE('[1]Constructon S1'!BQ52," ",'[1]Constructon S1'!BR52) | AJ52: =CONCATENATE('[1]Constructon S1'!BU52," ",'[1]Constructon S1'!BV52) | AK52: =CONCATENATE('[1]Constructon S1'!BW52," ",'[1]Constructon S1'!BX52) | AL52: =CONCATENATE('[1]Constructon S1'!BZ52) -> Opt 2 | AM52: =CONCATENATE('[1]Constructon S1'!CA52," ",'[1]Constructon S1'!CB52) -> MPCI1 G | AN52: =CONCATENATE('[1]Constructon S1'!CC52," ",'[1]Constructon S1'!CD52) -> MPCI1 H | AO52: =CONCATENATE('[1]Constructon S1'!CG52," ",'[1]Constructon S1'!CH52) -> MPCI1 E | AP52: =CONCATENATE('[1]Constructon S1'!CI52," ",'[1]Constructon S1'!CJ52) -> MPCI1 F | AR52: =CONCATENATE('[1]Constructon S1'!CL52) -> Oscillation | AS52: =CONCATENATE('[1]Constructon S1'!CM52," ",'[1]Constructon S1'!CN52) -> MPCI1 D | AT52: =CONCATENATE('[1]Constructon S1'!CO52," ",'[1]Constructon S1'!CP52) -> MPCI1 E | AU52: =CONCATENATE('[1]Constructon S1'!CR52) | AV52: =CONCATENATE('[1]Constructon S1'!CS52," ",'[1]Constructon S1'!CT52) | AW52: =CONCATENATE('[1]Constructon S1'!CU52," ",'[1]Constructon S1'!CV52) | AX52: =CONCATENATE('[1]Constructon S1'!CX52) | AY52: =CONCATENATE('[1]Constructon S1'!CY52," ",'[1]Constructon S1'!CZ52) | AZ52: =CONCATENATE('[1]Constructon S1'!DA52," ",'[1]Constructon S1'!DB52)
A53: ='[1]Constructon S1'!A53 -> 45 | B53: ='[1]Constructon S1'!B53 -> 42682 | C53: =CONCATENATE('[1]Constructon S1'!C53) -> TP2 ch100 | D53: =CONCATENATE('[1]Constructon S1'!D53," ", '[1]Constructon S1'!E53) -> CB2 T | E53: =CONCATENATE('[1]Constructon S1'!F53," ", '[1]Constructon S1'!G53) -> CB2 S | F53: =CONCATENATE('[1]Constructon S1'!I53," ",'[1]Constructon S1'!J53) -> CB2 R | G53: =CONCATENATE('[1]Constructon S1'!K53," ",'[1]Constructon S1'!L53) -> CB2 Q | I53: =CONCATENATE('[1]Constructon S1'!N53) -> TP1 MT100 | J53: =CONCATENATE('[1]Constructon S1'!O53," ",'[1]Constructon S1'!P53) -> CB2 M | K53: =CONCATENATE('[1]Constructon S1'!Q53," ",'[1]Constructon S1'!R53) -> CB2 N | M53: =CONCATENATE('[1]Constructon S1'!W53) -> In Vitro | N53: =CONCATENATE('[1]Constructon S1'!X53," ",'[1]Constructon S1'!Y53) -> CB2 K | O53: =CONCATENATE('[1]Constructon S1'!Z53," ",'[1]Constructon S1'!AA53) -> CB2 K | P53: =CONCATENATE('[1]Constructon S1'!AD53," ",'[1]Constructon S1'!AE53) -> CB2 L | Q53: =CONCATENATE('[1]Constructon S1'!AF53," ",'[1]Constructon S1'!AG53) -> CB2 L | R53: =CONCATENATE('[1]Constructon S1'!AI53) | S53: =CONCATENATE('[1]Constructon S1'!AJ53," ",'[1]Constructon S1'!AK53) | T53: =CONCATENATE('[1]Constructon S1'!AL53," ",'[1]Constructon S1'!AM53) | U53: =CONCATENATE('[1]Constructon S1'!AP53," ",'[1]Constructon S1'!AQ53) | V53: =CONCATENATE('[1]Constructon S1'!AR53," ",'[1]Constructon S1'!AS53) | X53: =CONCATENATE('[1]Constructon S1'!AU53) | Y53: =CONCATENATE('[1]Constructon S1'!AV53," ",'[1]Constructon S1'!AW53) | Z53: =CONCATENATE('[1]Constructon S1'!AX53," ",'[1]Constructon S1'!AY53) | AA53: =CONCATENATE('[1]Constructon S1'!BA53) -> MT Protéine | AB53: =CONCATENATE('[1]Constructon S1'!BB53," ",'[1]Constructon S1'!BC53) | AC53: =CONCATENATE('[1]Constructon S1'!BD53," ",'[1]Constructon S1'!BE53) | AD53: =CONCATENATE('[1]Constructon S1'!BH53," ",'[1]Constructon S1'!BI53) | AE53: =CONCATENATE('[1]Constructon S1'!BJ53," ",'[1]Constructon S1'!BK53) | AG53: =CONCATENATE('[1]Constructon S1'!BN53) | AH53: =CONCATENATE('[1]Constructon S1'!BO53," ",'[1]Constructon S1'!BP53) | AI53: =CONCATENATE('[1]Constructon S1'!BQ53," ",'[1]Constructon S1'!BR53) | AJ53: =CONCATENATE('[1]Constructon S1'!BU53," ",'[1]Constructon S1'!BV53) | AK53: =CONCATENATE('[1]Constructon S1'!BW53," ",'[1]Constructon S1'!BX53) | AL53: =CONCATENATE('[1]Constructon S1'!BZ53) | AM53: =CONCATENATE('[1]Constructon S1'!CA53," ",'[1]Constructon S1'!CB53) | AN53: =CONCATENATE('[1]Constructon S1'!CC53," ",'[1]Constructon S1'!CD53) | AO53: =CONCATENATE('[1]Constructon S1'!CG53," ",'[1]Constructon S1'!CH53) | AP53: =CONCATENATE('[1]Constructon S1'!CI53," ",'[1]Constructon S1'!CJ53) | AR53: =CONCATENATE('[1]Constructon S1'!CL53) -> Oscillation | AS53: =CONCATENATE('[1]Constructon S1'!CM53," ",'[1]Constructon S1'!CN53) -> MPCI1 C | AT53: =CONCATENATE('[1]Constructon S1'!CO53," ",'[1]Constructon S1'!CP53) | AU53: =CONCATENATE('[1]Constructon S1'!CR53) | AV53: =CONCATENATE('[1]Constructon S1'!CS53," ",'[1]Constructon S1'!CT53) | AW53: =CONCATENATE('[1]Constructon S1'!CU53," ",'[1]Constructon S1'!CV53) | AX53: =CONCATENATE('[1]Constructon S1'!CX53) | AY53: =CONCATENATE('[1]Constructon S1'!CY53," ",'[1]Constructon S1'!CZ53) | AZ53: =CONCATENATE('[1]Constructon S1'!DA53," ",'[1]Constructon S1'!DB53)
A54: ='[1]Constructon S1'!A54 -> 45 | B54: ='[1]Constructon S1'!B54 -> 42683 | C54: =CONCATENATE('[1]Constructon S1'!C54) -> TP2 ch100 | D54: =CONCATENATE('[1]Constructon S1'!D54," ", '[1]Constructon S1'!E54) -> CB1 C | E54: =CONCATENATE('[1]Constructon S1'!F54," ", '[1]Constructon S1'!G54) -> CB1 E | F54: =CONCATENATE('[1]Constructon S1'!I54," ",'[1]Constructon S1'!J54) -> CB1 D | G54: =CONCATENATE('[1]Constructon S1'!K54," ",'[1]Constructon S1'!L54) -> CB1 F | I54: =CONCATENATE('[1]Constructon S1'!N54) -> TP1 MT100 | J54: =CONCATENATE('[1]Constructon S1'!O54," ",'[1]Constructon S1'!P54) -> CB1 J | K54: =CONCATENATE('[1]Constructon S1'!Q54," ",'[1]Constructon S1'!R54) | M54: =CONCATENATE('[1]Constructon S1'!W54) -> In Vitro | N54: =CONCATENATE('[1]Constructon S1'!X54," ",'[1]Constructon S1'!Y54) -> CB1 A | O54: =CONCATENATE('[1]Constructon S1'!Z54," ",'[1]Constructon S1'!AA54) -> CB1 A | P54: =CONCATENATE('[1]Constructon S1'!AD54," ",'[1]Constructon S1'!AE54) -> CB1 B | Q54: =CONCATENATE('[1]Constructon S1'!AF54," ",'[1]Constructon S1'!AG54) -> CB1 B | R54: =CONCATENATE('[1]Constructon S1'!AI54) | S54: =CONCATENATE('[1]Constructon S1'!AJ54," ",'[1]Constructon S1'!AK54) | T54: =CONCATENATE('[1]Constructon S1'!AL54," ",'[1]Constructon S1'!AM54) | U54: =CONCATENATE('[1]Constructon S1'!AP54," ",'[1]Constructon S1'!AQ54) | V54: =CONCATENATE('[1]Constructon S1'!AR54," ",'[1]Constructon S1'!AS54) | X54: =CONCATENATE('[1]Constructon S1'!AU54) | Y54: =CONCATENATE('[1]Constructon S1'!AV54," ",'[1]Constructon S1'!AW54) | Z54: =CONCATENATE('[1]Constructon S1'!AX54," ",'[1]Constructon S1'!AY54) | AA54: =CONCATENATE('[1]Constructon S1'!BA54) -> MT Protéine | AB54: =CONCATENATE('[1]Constructon S1'!BB54," ",'[1]Constructon S1'!BC54) -> CB1 G | AC54: =CONCATENATE('[1]Constructon S1'!BD54," ",'[1]Constructon S1'!BE54) -> CB1 H | AD54: =CONCATENATE('[1]Constructon S1'!BH54," ",'[1]Constructon S1'!BI54) | AE54: =CONCATENATE('[1]Constructon S1'!BJ54," ",'[1]Constructon S1'!BK54) | AG54: =CONCATENATE('[1]Constructon S1'!BN54) | AH54: =CONCATENATE('[1]Constructon S1'!BO54," ",'[1]Constructon S1'!BP54) | AI54: =CONCATENATE('[1]Constructon S1'!BQ54," ",'[1]Constructon S1'!BR54) | AJ54: =CONCATENATE('[1]Constructon S1'!BU54," ",'[1]Constructon S1'!BV54) | AK54: =CONCATENATE('[1]Constructon S1'!BW54," ",'[1]Constructon S1'!BX54) | AL54: =CONCATENATE('[1]Constructon S1'!BZ54) -> Opt 2 | AM54: =CONCATENATE('[1]Constructon S1'!CA54," ",'[1]Constructon S1'!CB54) -> MPCI2 I | AN54: =CONCATENATE('[1]Constructon S1'!CC54," ",'[1]Constructon S1'!CD54) -> MPCI2 J | AO54: =CONCATENATE('[1]Constructon S1'!CG54," ",'[1]Constructon S1'!CH54) -> MPCI2 K | AP54: =CONCATENATE('[1]Constructon S1'!CI54," ",'[1]Constructon S1'!CJ54) -> MPCI2 L | AR54: =CONCATENATE('[1]Constructon S1'!CL54) | AS54: =CONCATENATE('[1]Constructon S1'!CM54," ",'[1]Constructon S1'!CN54) | AT54: =CONCATENATE('[1]Constructon S1'!CO54," ",'[1]Constructon S1'!CP54) | AU54: =CONCATENATE('[1]Constructon S1'!CR54) | AV54: =CONCATENATE('[1]Constructon S1'!CS54," ",'[1]Constructon S1'!CT54) | AW54: =CONCATENATE('[1]Constructon S1'!CU54," ",'[1]Constructon S1'!CV54) | AX54: =CONCATENATE('[1]Constructon S1'!CX54) | AY54: =CONCATENATE('[1]Constructon S1'!CY54," ",'[1]Constructon S1'!CZ54) | AZ54: =CONCATENATE('[1]Constructon S1'!DA54," ",'[1]Constructon S1'!DB54)
A55: ='[1]Constructon S1'!A55 -> 45 | B55: ='[1]Constructon S1'!B55 -> 42684 | C55: =CONCATENATE('[1]Constructon S1'!C55) -> TP2 ch100 | D55: =CONCATENATE('[1]Constructon S1'!D55," ", '[1]Constructon S1'!E55) -> CB2 N | E55: =CONCATENATE('[1]Constructon S1'!F55," ", '[1]Constructon S1'!G55) | F55: =CONCATENATE('[1]Constructon S1'!I55," ",'[1]Constructon S1'!J55) -> CB2 L | G55: =CONCATENATE('[1]Constructon S1'!K55," ",'[1]Constructon S1'!L55) | I55: =CONCATENATE('[1]Constructon S1'!N55) | J55: =CONCATENATE('[1]Constructon S1'!O55," ",'[1]Constructon S1'!P55) | K55: =CONCATENATE('[1]Constructon S1'!Q55," ",'[1]Constructon S1'!R55) | M55: =CONCATENATE('[1]Constructon S1'!W55) | N55: =CONCATENATE('[1]Constructon S1'!X55," ",'[1]Constructon S1'!Y55) | O55: =CONCATENATE('[1]Constructon S1'!Z55," ",'[1]Constructon S1'!AA55) | P55: =CONCATENATE('[1]Constructon S1'!AD55," ",'[1]Constructon S1'!AE55) | Q55: =CONCATENATE('[1]Constructon S1'!AF55," ",'[1]Constructon S1'!AG55) | R55: =CONCATENATE('[1]Constructon S1'!AI55) | S55: =CONCATENATE('[1]Constructon S1'!AJ55," ",'[1]Constructon S1'!AK55) | T55: =CONCATENATE('[1]Constructon S1'!AL55," ",'[1]Constructon S1'!AM55) | U55: =CONCATENATE('[1]Constructon S1'!AP55," ",'[1]Constructon S1'!AQ55) | V55: =CONCATENATE('[1]Constructon S1'!AR55," ",'[1]Constructon S1'!AS55) | X55: =CONCATENATE('[1]Constructon S1'!AU55) | Y55: =CONCATENATE('[1]Constructon S1'!AV55," ",'[1]Constructon S1'!AW55) | Z55: =CONCATENATE('[1]Constructon S1'!AX55," ",'[1]Constructon S1'!AY55) | AA55: =CONCATENATE('[1]Constructon S1'!BA55) | AC55: =CONCATENATE('[1]Constructon S1'!BD55," ",'[1]Constructon S1'!BE55) | AD55: =CONCATENATE('[1]Constructon S1'!BH55," ",'[1]Constructon S1'!BI55) | AE55: =CONCATENATE('[1]Constructon S1'!BJ55," ",'[1]Constructon S1'!BK55) | AG55: =CONCATENATE('[1]Constructon S1'!BN55) | AH55: =CONCATENATE('[1]Constructon S1'!BO55," ",'[1]Constructon S1'!BP55) | AI55: =CONCATENATE('[1]Constructon S1'!BQ55," ",'[1]Constructon S1'!BR55) | AJ55: =CONCATENATE('[1]Constructon S1'!BU55," ",'[1]Constructon S1'!BV55) | AK55: =CONCATENATE('[1]Constructon S1'!BW55," ",'[1]Constructon S1'!BX55) | AL55: =CONCATENATE('[1]Constructon S1'!BZ55) | AM55: =CONCATENATE('[1]Constructon S1'!CA55," ",'[1]Constructon S1'!CB55) | AN55: =CONCATENATE('[1]Constructon S1'!CC55," ",'[1]Constructon S1'!CD55) | AO55: =CONCATENATE('[1]Constructon S1'!CG55," ",'[1]Constructon S1'!CH55) | AP55: =CONCATENATE('[1]Constructon S1'!CI55," ",'[1]Constructon S1'!CJ55) | AR55: =CONCATENATE('[1]Constructon S1'!CL55) | AS55: =CONCATENATE('[1]Constructon S1'!CM55," ",'[1]Constructon S1'!CN55) | AT55: =CONCATENATE('[1]Constructon S1'!CO55," ",'[1]Constructon S1'!CP55) | AU55: =CONCATENATE('[1]Constructon S1'!CR55) | AV55: =CONCATENATE('[1]Constructon S1'!CS55," ",'[1]Constructon S1'!CT55) | AW55: =CONCATENATE('[1]Constructon S1'!CU55," ",'[1]Constructon S1'!CV55) | AX55: =CONCATENATE('[1]Constructon S1'!CX55) | AY55: =CONCATENATE('[1]Constructon S1'!CY55," ",'[1]Constructon S1'!CZ55) | AZ55: =CONCATENATE('[1]Constructon S1'!DA55," ",'[1]Constructon S1'!DB55)
A56: ='[1]Constructon S1'!A56 -> 45 | B56: ='[1]Constructon S1'!B56 -> 42685 | C56: =CONCATENATE('[1]Constructon S1'!C56) | D56: =CONCATENATE('[1]Constructon S1'!D56," ", '[1]Constructon S1'!E56) | E56: =CONCATENATE('[1]Constructon S1'!F56," ", '[1]Constructon S1'!G56) | F56: =CONCATENATE('[1]Constructon S1'!I56," ",'[1]Constructon S1'!J56) | G56: =CONCATENATE('[1]Constructon S1'!K56," ",'[1]Constructon S1'!L56) | I56: =CONCATENATE('[1]Constructon S1'!N56) | J56: =CONCATENATE('[1]Constructon S1'!O56," ",'[1]Constructon S1'!P56) | K56: =CONCATENATE('[1]Constructon S1'!Q56," ",'[1]Constructon S1'!R56) | M56: =CONCATENATE('[1]Constructon S1'!W56) | N56: =CONCATENATE('[1]Constructon S1'!X56," ",'[1]Constructon S1'!Y56) | O56: =CONCATENATE('[1]Constructon S1'!Z56," ",'[1]Constructon S1'!AA56) | P56: =CONCATENATE('[1]Constructon S1'!AD56," ",'[1]Constructon S1'!AE56) | Q56: =CONCATENATE('[1]Constructon S1'!AF56," ",'[1]Constructon S1'!AG56) | R56: =CONCATENATE('[1]Constructon S1'!AI56) | S56: =CONCATENATE('[1]Constructon S1'!AJ56," ",'[1]Constructon S1'!AK56) | T56: =CONCATENATE('[1]Constructon S1'!AL56," ",'[1]Constructon S1'!AM56) | U56: =CONCATENATE('[1]Constructon S1'!AP56," ",'[1]Constructon S1'!AQ56) | V56: =CONCATENATE('[1]Constructon S1'!AR56," ",'[1]Constructon S1'!AS56) | X56: =CONCATENATE('[1]Constructon S1'!AU56) | Y56: =CONCATENATE('[1]Constructon S1'!AV56," ",'[1]Constructon S1'!AW56) | Z56: =CONCATENATE('[1]Constructon S1'!AX56," ",'[1]Constructon S1'!AY56) | AA56: =CONCATENATE('[1]Constructon S1'!BA56) | AB56: =CONCATENATE('[1]Constructon S1'!BB56," ",'[1]Constructon S1'!BC56) | AC56: =CONCATENATE('[1]Constructon S1'!BD56," ",'[1]Constructon S1'!BE56) | AD56: =CONCATENATE('[1]Constructon S1'!BH56," ",'[1]Constructon S1'!BI56) | AE56: =CONCATENATE('[1]Constructon S1'!BJ56," ",'[1]Constructon S1'!BK56) | AG56: =CONCATENATE('[1]Constructon S1'!BN56) | AH56: =CONCATENATE('[1]Constructon S1'!BO56," ",'[1]Constructon S1'!BP56) | AI56: =CONCATENATE('[1]Constructon S1'!BQ56," ",'[1]Constructon S1'!BR56) | AJ56: =CONCATENATE('[1]Constructon S1'!BU56," ",'[1]Constructon S1'!BV56) | AK56: =CONCATENATE('[1]Constructon S1'!BW56," ",'[1]Constructon S1'!BX56) | AL56: =CONCATENATE('[1]Constructon S1'!BZ56) | AM56: =CONCATENATE('[1]Constructon S1'!CA56," ",'[1]Constructon S1'!CB56) | AN56: =CONCATENATE('[1]Constructon S1'!CC56," ",'[1]Constructon S1'!CD56) | AO56: =CONCATENATE('[1]Constructon S1'!CG56," ",'[1]Constructon S1'!CH56) | AP56: =CONCATENATE('[1]Constructon S1'!CI56," ",'[1]Constructon S1'!CJ56) | AR56: =CONCATENATE('[1]Constructon S1'!CL56) | AS56: =CONCATENATE('[1]Constructon S1'!CM56," ",'[1]Constructon S1'!CN56) | AT56: =CONCATENATE('[1]Constructon S1'!CO56," ",'[1]Constructon S1'!CP56) | AU56: =CONCATENATE('[1]Constructon S1'!CR56) | AV56: =CONCATENATE('[1]Constructon S1'!CS56," ",'[1]Constructon S1'!CT56) | AW56: =CONCATENATE('[1]Constructon S1'!CU56," ",'[1]Constructon S1'!CV56) | AX56: =CONCATENATE('[1]Constructon S1'!CX56) | AY56: =CONCATENATE('[1]Constructon S1'!CY56," ",'[1]Constructon S1'!CZ56) | AZ56: =CONCATENATE('[1]Constructon S1'!DA56," ",'[1]Constructon S1'!DB56)
C57: =CONCATENATE('[1]Constructon S1'!C57) | I57: =CONCATENATE('[1]Constructon S1'!N57) | M57: =CONCATENATE('[1]Constructon S1'!W57) | R57: =CONCATENATE('[1]Constructon S1'!AI57) | X57: =CONCATENATE('[1]Constructon S1'!AU57) | AA57: =CONCATENATE('[1]Constructon S1'!BA57) | AG57: =CONCATENATE('[1]Constructon S1'!BN57) | AL57: =CONCATENATE('[1]Constructon S1'!BZ57) | AR57: =CONCATENATE('[1]Constructon S1'!CL57) | AU57: =CONCATENATE('[1]Constructon S1'!CR57) | AX57: =CONCATENATE('[1]Constructon S1'!CX57)
A58: ='[1]Constructon S1'!A58 -> 46 | B58: ='[1]Constructon S1'!B58 -> 42688 | C58: =CONCATENATE('[1]Constructon S1'!C58) -> TP2 ch100 | D58: =CONCATENATE('[1]Constructon S1'!D58," ", '[1]Constructon S1'!E58) -> MPCI1 E | E58: =CONCATENATE('[1]Constructon S1'!F58," ", '[1]Constructon S1'!G58) -> MPCI1 F | F58: =CONCATENATE('[1]Constructon S1'!I58," ",'[1]Constructon S1'!J58) -> MPCI1 H | G58: =CONCATENATE('[1]Constructon S1'!K58," ",'[1]Constructon S1'!L58) -> MPCI1 G | I58: =CONCATENATE('[1]Constructon S1'!N58) | J58: =CONCATENATE('[1]Constructon S1'!O58," ",'[1]Constructon S1'!P58) | K58: =CONCATENATE('[1]Constructon S1'!Q58," ",'[1]Constructon S1'!R58) | M58: =CONCATENATE('[1]Constructon S1'!W58) | N58: =CONCATENATE('[1]Constructon S1'!X58," ",'[1]Constructon S1'!Y58) | O58: =CONCATENATE('[1]Constructon S1'!Z58," ",'[1]Constructon S1'!AA58) | P58: =CONCATENATE('[1]Constructon S1'!AD58," ",'[1]Constructon S1'!AE58) | Q58: =CONCATENATE('[1]Constructon S1'!AF58," ",'[1]Constructon S1'!AG58) | R58: =CONCATENATE('[1]Constructon S1'!AI58) | S58: =CONCATENATE('[1]Constructon S1'!AJ58," ",'[1]Constructon S1'!AK58) | T58: =CONCATENATE('[1]Constructon S1'!AL58," ",'[1]Constructon S1'!AM58) | U58: =CONCATENATE('[1]Constructon S1'!AP58," ",'[1]Constructon S1'!AQ58) | V58: =CONCATENATE('[1]Constructon S1'!AR58," ",'[1]Constructon S1'!AS58) | X58: =CONCATENATE('[1]Constructon S1'!AU58) | Y58: =CONCATENATE('[1]Constructon S1'!AV58," ",'[1]Constructon S1'!AW58) | Z58: =CONCATENATE('[1]Constructon S1'!AX58," ",'[1]Constructon S1'!AY58) | AA58: =CONCATENATE('[1]Constructon S1'!BA58) | AB58: =CONCATENATE('[1]Constructon S1'!BB58," ",'[1]Constructon S1'!BC58) | AC58: =CONCATENATE('[1]Constructon S1'!BD58," ",'[1]Constructon S1'!BE58) | AD58: =CONCATENATE('[1]Constructon S1'!BH58," ",'[1]Constructon S1'!BI58) | AE58: =CONCATENATE('[1]Constructon S1'!BJ58," ",'[1]Constructon S1'!BK58) | AG58: =CONCATENATE('[1]Constructon S1'!BN58) | AH58: =CONCATENATE('[1]Constructon S1'!BO58," ",'[1]Constructon S1'!BP58) | AI58: =CONCATENATE('[1]Constructon S1'!BQ58," ",'[1]Constructon S1'!BR58) | AJ58: =CONCATENATE('[1]Constructon S1'!BU58," ",'[1]Constructon S1'!BV58) | AK58: =CONCATENATE('[1]Constructon S1'!BW58," ",'[1]Constructon S1'!BX58) | AL58: =CONCATENATE('[1]Constructon S1'!BZ58) -> Opt 2 | AM58: =CONCATENATE('[1]Constructon S1'!CA58," ",'[1]Constructon S1'!CB58) -> MPCI1 A | AN58: =CONCATENATE('[1]Constructon S1'!CC58," ",'[1]Constructon S1'!CD58) -> MPCI1 B | AO58: =CONCATENATE('[1]Constructon S1'!CG58," ",'[1]Constructon S1'!CH58) -> MPCI1 C | AP58: =CONCATENATE('[1]Constructon S1'!CI58," ",'[1]Constructon S1'!CJ58) -> MPCI1 D | AR58: =CONCATENATE('[1]Constructon S1'!CL58) -> Oscillation | AS58: =CONCATENATE('[1]Constructon S1'!CM58," ",'[1]Constructon S1'!CN58) -> MPCI1 G | AT58: =CONCATENATE('[1]Constructon S1'!CO58," ",'[1]Constructon S1'!CP58) -> MPCI1 H | AU58: =CONCATENATE('[1]Constructon S1'!CR58) | AV58: =CONCATENATE('[1]Constructon S1'!CS58," ",'[1]Constructon S1'!CT58) | AW58: =CONCATENATE('[1]Constructon S1'!CU58," ",'[1]Constructon S1'!CV58) | AX58: =CONCATENATE('[1]Constructon S1'!CX58) | AY58: =CONCATENATE('[1]Constructon S1'!CY58," ",'[1]Constructon S1'!CZ58) | AZ58: =CONCATENATE('[1]Constructon S1'!DA58," ",'[1]Constructon S1'!DB58)
A59: ='[1]Constructon S1'!A59 -> 46 | B59: ='[1]Constructon S1'!B59 -> 42689 | C59: =CONCATENATE('[1]Constructon S1'!C59) -> TP2 ch100 | D59: =CONCATENATE('[1]Constructon S1'!D59," ", '[1]Constructon S1'!E59) -> BI C | E59: =CONCATENATE('[1]Constructon S1'!F59," ", '[1]Constructon S1'!G59) -> CB2 O | F59: =CONCATENATE('[1]Constructon S1'!I59," ",'[1]Constructon S1'!J59) -> BI D | G59: =CONCATENATE('[1]Constructon S1'!K59," ",'[1]Constructon S1'!L59) -> CB2 P | I59: =CONCATENATE('[1]Constructon S1'!N59) -> TP2 MT100 | J59: =CONCATENATE('[1]Constructon S1'!O59," ",'[1]Constructon S1'!P59) -> CB2 K | K59: =CONCATENATE('[1]Constructon S1'!Q59," ",'[1]Constructon S1'!R59) -> CB2 L | M59: =CONCATENATE('[1]Constructon S1'!W59) -> In Vitro | N59: =CONCATENATE('[1]Constructon S1'!X59," ",'[1]Constructon S1'!Y59) -> CB2 M | O59: =CONCATENATE('[1]Constructon S1'!Z59," ",'[1]Constructon S1'!AA59) -> CB2 M | P59: =CONCATENATE('[1]Constructon S1'!AD59," ",'[1]Constructon S1'!AE59) -> CB2 N | Q59: =CONCATENATE('[1]Constructon S1'!AF59," ",'[1]Constructon S1'!AG59) -> CB2 N | R59: =CONCATENATE('[1]Constructon S1'!AI59) | S59: =CONCATENATE('[1]Constructon S1'!AJ59," ",'[1]Constructon S1'!AK59) | T59: =CONCATENATE('[1]Constructon S1'!AL59," ",'[1]Constructon S1'!AM59) | U59: =CONCATENATE('[1]Constructon S1'!AP59," ",'[1]Constructon S1'!AQ59) | V59: =CONCATENATE('[1]Constructon S1'!AR59," ",'[1]Constructon S1'!AS59) | X59: =CONCATENATE('[1]Constructon S1'!AU59) | Y59: =CONCATENATE('[1]Constructon S1'!AV59," ",'[1]Constructon S1'!AW59) | Z59: =CONCATENATE('[1]Constructon S1'!AX59," ",'[1]Constructon S1'!AY59) | AA59: =CONCATENATE('[1]Constructon S1'!BA59) | AB59: =CONCATENATE('[1]Constructon S1'!BB59," ",'[1]Constructon S1'!BC59) | AD59: =CONCATENATE('[1]Constructon S1'!BH59," ",'[1]Constructon S1'!BI59) | AE59: =CONCATENATE('[1]Constructon S1'!BJ59," ",'[1]Constructon S1'!BK59) | AG59: =CONCATENATE('[1]Constructon S1'!BN59) | AH59: =CONCATENATE('[1]Constructon S1'!BO59," ",'[1]Constructon S1'!BP59) | AI59: =CONCATENATE('[1]Constructon S1'!BQ59," ",'[1]Constructon S1'!BR59) | AJ59: =CONCATENATE('[1]Constructon S1'!BU59," ",'[1]Constructon S1'!BV59) | AK59: =CONCATENATE('[1]Constructon S1'!BW59," ",'[1]Constructon S1'!BX59) | AL59: =CONCATENATE('[1]Constructon S1'!BZ59) | AM59: =CONCATENATE('[1]Constructon S1'!CA59," ",'[1]Constructon S1'!CB59) | AN59: =CONCATENATE('[1]Constructon S1'!CC59," ",'[1]Constructon S1'!CD59) | AO59: =CONCATENATE('[1]Constructon S1'!CG59," ",'[1]Constructon S1'!CH59) | AP59: =CONCATENATE('[1]Constructon S1'!CI59," ",'[1]Constructon S1'!CJ59) | AR59: =CONCATENATE('[1]Constructon S1'!CL59) | AS59: =CONCATENATE('[1]Constructon S1'!CM59," ",'[1]Constructon S1'!CN59) | AT59: =CONCATENATE('[1]Constructon S1'!CO59," ",'[1]Constructon S1'!CP59) | AU59: =CONCATENATE('[1]Constructon S1'!CR59) | AV59: =CONCATENATE('[1]Constructon S1'!CS59," ",'[1]Constructon S1'!CT59) | AW59: =CONCATENATE('[1]Constructon S1'!CU59," ",'[1]Constructon S1'!CV59) | AX59: =CONCATENATE('[1]Constructon S1'!CX59) | AY59: =CONCATENATE('[1]Constructon S1'!CY59," ",'[1]Constructon S1'!CZ59) | AZ59: =CONCATENATE('[1]Constructon S1'!DA59," ",'[1]Constructon S1'!DB59)
A60: ='[1]Constructon S1'!A60 -> 46 | B60: ='[1]Constructon S1'!B60 -> 42690 | C60: =CONCATENATE('[1]Constructon S1'!C60) -> TP2 ch100 | D60: =CONCATENATE('[1]Constructon S1'!D60," ", '[1]Constructon S1'!E60) -> CB1 G | E60: =CONCATENATE('[1]Constructon S1'!F60," ", '[1]Constructon S1'!G60) -> MPCI2 I | F60: =CONCATENATE('[1]Constructon S1'!I60," ",'[1]Constructon S1'!J60) -> CB1 H | G60: =CONCATENATE('[1]Constructon S1'!K60," ",'[1]Constructon S1'!L60) -> MPCI2 J | I60: =CONCATENATE('[1]Constructon S1'!N60) -> TP2 MT100 | J60: =CONCATENATE('[1]Constructon S1'!O60," ",'[1]Constructon S1'!P60) -> CB1 A | K60: =CONCATENATE('[1]Constructon S1'!Q60," ",'[1]Constructon S1'!R60) -> CB1 B | M60: =CONCATENATE('[1]Constructon S1'!W60) -> In Vitro | N60: =CONCATENATE('[1]Constructon S1'!X60," ",'[1]Constructon S1'!Y60) -> CB1 I | O60: =CONCATENATE('[1]Constructon S1'!Z60," ",'[1]Constructon S1'!AA60) -> CB1 I | P60: =CONCATENATE('[1]Constructon S1'!AD60," ",'[1]Constructon S1'!AE60) -> CB1 J | Q60: =CONCATENATE('[1]Constructon S1'!AF60," ",'[1]Constructon S1'!AG60) -> CB1 J | R60: =CONCATENATE('[1]Constructon S1'!AI60) | S60: =CONCATENATE('[1]Constructon S1'!AJ60," ",'[1]Constructon S1'!AK60) | T60: =CONCATENATE('[1]Constructon S1'!AL60," ",'[1]Constructon S1'!AM60) | U60: =CONCATENATE('[1]Constructon S1'!AP60," ",'[1]Constructon S1'!AQ60) -> CB1 D | V60: =CONCATENATE('[1]Constructon S1'!AR60," ",'[1]Constructon S1'!AS60) | X60: =CONCATENATE('[1]Constructon S1'!AU60) | Y60: =CONCATENATE('[1]Constructon S1'!AV60," ",'[1]Constructon S1'!AW60) | Z60: =CONCATENATE('[1]Constructon S1'!AX60," ",'[1]Constructon S1'!AY60) | AA60: =CONCATENATE('[1]Constructon S1'!BA60) -> MT Protéine | AB60: =CONCATENATE('[1]Constructon S1'!BB60," ",'[1]Constructon S1'!BC60) -> CB1 E | AC60: =CONCATENATE('[1]Constructon S1'!BD60," ",'[1]Constructon S1'!BE60) -> CB1 F | AD60: =CONCATENATE('[1]Constructon S1'!BH60," ",'[1]Constructon S1'!BI60) | AE60: =CONCATENATE('[1]Constructon S1'!BJ60," ",'[1]Constructon S1'!BK60) -> CB1 A | AG60: =CONCATENATE('[1]Constructon S1'!BN60) | AH60: =CONCATENATE('[1]Constructon S1'!BO60," ",'[1]Constructon S1'!BP60) | AI60: =CONCATENATE('[1]Constructon S1'!BQ60," ",'[1]Constructon S1'!BR60) | AJ60: =CONCATENATE('[1]Constructon S1'!BU60," ",'[1]Constructon S1'!BV60) | AK60: =CONCATENATE('[1]Constructon S1'!BW60," ",'[1]Constructon S1'!BX60) | AL60: =CONCATENATE('[1]Constructon S1'!BZ60) -> Opt 2 | AM60: =CONCATENATE('[1]Constructon S1'!CA60," ",'[1]Constructon S1'!CB60) -> MPCI2 M | AN60: =CONCATENATE('[1]Constructon S1'!CC60," ",'[1]Constructon S1'!CD60) -> MPCI2 O | AO60: =CONCATENATE('[1]Constructon S1'!CG60," ",'[1]Constructon S1'!CH60) -> MPCI2 N | AP60: =CONCATENATE('[1]Constructon S1'!CI60," ",'[1]Constructon S1'!CJ60) -> MPCI2 P | AR60: =CONCATENATE('[1]Constructon S1'!CL60) | AS60: =CONCATENATE('[1]Constructon S1'!CM60," ",'[1]Constructon S1'!CN60) | AT60: =CONCATENATE('[1]Constructon S1'!CO60," ",'[1]Constructon S1'!CP60) | AU60: =CONCATENATE('[1]Constructon S1'!CR60) | AV60: =CONCATENATE('[1]Constructon S1'!CS60," ",'[1]Constructon S1'!CT60) | AW60: =CONCATENATE('[1]Constructon S1'!CU60," ",'[1]Constructon S1'!CV60) | AX60: =CONCATENATE('[1]Constructon S1'!CX60) | AY60: =CONCATENATE('[1]Constructon S1'!CY60," ",'[1]Constructon S1'!CZ60) | AZ60: =CONCATENATE('[1]Constructon S1'!DA60," ",'[1]Constructon S1'!DB60)
A61: ='[1]Constructon S1'!A61 -> 46 | B61: ='[1]Constructon S1'!B61 -> 42691 | C61: =CONCATENATE('[1]Constructon S1'!C61) | D61: =CONCATENATE('[1]Constructon S1'!D61," ", '[1]Constructon S1'!E61) | E61: =CONCATENATE('[1]Constructon S1'!F61," ", '[1]Constructon S1'!G61) | F61: =CONCATENATE('[1]Constructon S1'!I61," ",'[1]Constructon S1'!J61) | G61: =CONCATENATE('[1]Constructon S1'!K61," ",'[1]Constructon S1'!L61) | I61: =CONCATENATE('[1]Constructon S1'!N61) -> TP2 MT100 | J61: =CONCATENATE('[1]Constructon S1'!O61," ",'[1]Constructon S1'!P61) -> CB2 O | K61: =CONCATENATE('[1]Constructon S1'!Q61," ",'[1]Constructon S1'!R61) | M61: =CONCATENATE('[1]Constructon S1'!W61) | N61: =CONCATENATE('[1]Constructon S1'!X61," ",'[1]Constructon S1'!Y61) | O61: =CONCATENATE('[1]Constructon S1'!Z61," ",'[1]Constructon S1'!AA61) | P61: =CONCATENATE('[1]Constructon S1'!AD61," ",'[1]Constructon S1'!AE61) | Q61: =CONCATENATE('[1]Constructon S1'!AF61," ",'[1]Constructon S1'!AG61) | R61: =CONCATENATE('[1]Constructon S1'!AI61) | S61: =CONCATENATE('[1]Constructon S1'!AJ61," ",'[1]Constructon S1'!AK61) | T61: =CONCATENATE('[1]Constructon S1'!AL61," ",'[1]Constructon S1'!AM61) | U61: =CONCATENATE('[1]Constructon S1'!AP61," ",'[1]Constructon S1'!AQ61) | V61: =CONCATENATE('[1]Constructon S1'!AR61," ",'[1]Constructon S1'!AS61) | X61: =CONCATENATE('[1]Constructon S1'!AU61) | Y61: =CONCATENATE('[1]Constructon S1'!AV61," ",'[1]Constructon S1'!AW61) | Z61: =CONCATENATE('[1]Constructon S1'!AX61," ",'[1]Constructon S1'!AY61) | AA61: =CONCATENATE('[1]Constructon S1'!BA61) | AB61: =CONCATENATE('[1]Constructon S1'!BB61," ",'[1]Constructon S1'!BC61) | AC61: =CONCATENATE('[1]Constructon S1'!BD61," ",'[1]Constructon S1'!BE61) | AD61: =CONCATENATE('[1]Constructon S1'!BH61," ",'[1]Constructon S1'!BI61) | AE61: =CONCATENATE('[1]Constructon S1'!BJ61," ",'[1]Constructon S1'!BK61) | AG61: =CONCATENATE('[1]Constructon S1'!BN61) | AH61: =CONCATENATE('[1]Constructon S1'!BO61," ",'[1]Constructon S1'!BP61) | AI61: =CONCATENATE('[1]Constructon S1'!BQ61," ",'[1]Constructon S1'!BR61) | AJ61: =CONCATENATE('[1]Constructon S1'!BU61," ",'[1]Constructon S1'!BV61) | AK61: =CONCATENATE('[1]Constructon S1'!BW61," ",'[1]Constructon S1'!BX61) | AL61: =CONCATENATE('[1]Constructon S1'!BZ61) | AM61: =CONCATENATE('[1]Constructon S1'!CA61," ",'[1]Constructon S1'!CB61) | AN61: =CONCATENATE('[1]Constructon S1'!CC61," ",'[1]Constructon S1'!CD61) | AO61: =CONCATENATE('[1]Constructon S1'!CG61," ",'[1]Constructon S1'!CH61) | AP61: =CONCATENATE('[1]Constructon S1'!CI61," ",'[1]Constructon S1'!CJ61) | AR61: =CONCATENATE('[1]Constructon S1'!CL61) | AS61: =CONCATENATE('[1]Constructon S1'!CM61," ",'[1]Constructon S1'!CN61) | AT61: =CONCATENATE('[1]Constructon S1'!CO61," ",'[1]Constructon S1'!CP61) | AU61: =CONCATENATE('[1]Constructon S1'!CR61) | AV61: =CONCATENATE('[1]Constructon S1'!CS61," ",'[1]Constructon S1'!CT61) | AW61: =CONCATENATE('[1]Constructon S1'!CU61," ",'[1]Constructon S1'!CV61) | AX61: =CONCATENATE('[1]Constructon S1'!CX61) | AY61: =CONCATENATE('[1]Constructon S1'!CY61," ",'[1]Constructon S1'!CZ61) | AZ61: =CONCATENATE('[1]Constructon S1'!DA61," ",'[1]Constructon S1'!DB61)
A62: ='[1]Constructon S1'!A62 -> 46 | B62: ='[1]Constructon S1'!B62 -> 42692 | C62: =CONCATENATE('[1]Constructon S1'!C62) -> TP2 ch100 | D62: =CONCATENATE('[1]Constructon S1'!D62," ", '[1]Constructon S1'!E62) -> CB1 I | E62: =CONCATENATE('[1]Constructon S1'!F62," ", '[1]Constructon S1'!G62) -> MPCI2 K | F62: =CONCATENATE('[1]Constructon S1'!I62," ",'[1]Constructon S1'!J62) -> CB1 J | G62: =CONCATENATE('[1]Constructon S1'!K62," ",'[1]Constructon S1'!L62) -> MPCI2 L | I62: =CONCATENATE('[1]Constructon S1'!N62) -> TP2 MT100 | J62: =CONCATENATE('[1]Constructon S1'!O62," ",'[1]Constructon S1'!P62) -> CB1 C | K62: =CONCATENATE('[1]Constructon S1'!Q62," ",'[1]Constructon S1'!R62) | M62: =CONCATENATE('[1]Constructon S1'!W62) -> In Vitro | N62: =CONCATENATE('[1]Constructon S1'!X62," ",'[1]Constructon S1'!Y62) -> BI A | O62: =CONCATENATE('[1]Constructon S1'!Z62," ",'[1]Constructon S1'!AA62) -> BI A | P62: =CONCATENATE('[1]Constructon S1'!AD62," ",'[1]Constructon S1'!AE62) -> BI B | Q62: =CONCATENATE('[1]Constructon S1'!AF62," ",'[1]Constructon S1'!AG62) -> BI B | R62: =CONCATENATE('[1]Constructon S1'!AI62) | S62: =CONCATENATE('[1]Constructon S1'!AJ62," ",'[1]Constructon S1'!AK62) | T62: =CONCATENATE('[1]Constructon S1'!AL62," ",'[1]Constructon S1'!AM62) | U62: =CONCATENATE('[1]Constructon S1'!AP62," ",'[1]Constructon S1'!AQ62) | V62: =CONCATENATE('[1]Constructon S1'!AR62," ",'[1]Constructon S1'!AS62) | X62: =CONCATENATE('[1]Constructon S1'!AU62) | Y62: =CONCATENATE('[1]Constructon S1'!AV62," ",'[1]Constructon S1'!AW62) | Z62: =CONCATENATE('[1]Constructon S1'!AX62," ",'[1]Constructon S1'!AY62) | AA62: =CONCATENATE('[1]Constructon S1'!BA62) | AB62: =CONCATENATE('[1]Constructon S1'!BB62," ",'[1]Constructon S1'!BC62) | AC62: =CONCATENATE('[1]Constructon S1'!BD62," ",'[1]Constructon S1'!BE62) | AD62: =CONCATENATE('[1]Constructon S1'!BH62," ",'[1]Constructon S1'!BI62) | AE62: =CONCATENATE('[1]Constructon S1'!BJ62," ",'[1]Constructon S1'!BK62) | AG62: =CONCATENATE('[1]Constructon S1'!BN62) | AH62: =CONCATENATE('[1]Constructon S1'!BO62," ",'[1]Constructon S1'!BP62) | AI62: =CONCATENATE('[1]Constructon S1'!BQ62," ",'[1]Constructon S1'!BR62) | AJ62: =CONCATENATE('[1]Constructon S1'!BU62," ",'[1]Constructon S1'!BV62) | AK62: =CONCATENATE('[1]Constructon S1'!BW62," ",'[1]Constructon S1'!BX62) | AL62: =CONCATENATE('[1]Constructon S1'!BZ62) | AM62: =CONCATENATE('[1]Constructon S1'!CA62," ",'[1]Constructon S1'!CB62) | AN62: =CONCATENATE('[1]Constructon S1'!CC62," ",'[1]Constructon S1'!CD62) | AO62: =CONCATENATE('[1]Constructon S1'!CG62," ",'[1]Constructon S1'!CH62) | AP62: =CONCATENATE('[1]Constructon S1'!CI62," ",'[1]Constructon S1'!CJ62) | AR62: =CONCATENATE('[1]Constructon S1'!CL62) | AS62: =CONCATENATE('[1]Constructon S1'!CM62," ",'[1]Constructon S1'!CN62) | AT62: =CONCATENATE('[1]Constructon S1'!CO62," ",'[1]Constructon S1'!CP62) | AU62: =CONCATENATE('[1]Constructon S1'!CR62) | AV62: =CONCATENATE('[1]Constructon S1'!CS62," ",'[1]Constructon S1'!CT62) | AW62: =CONCATENATE('[1]Constructon S1'!CU62," ",'[1]Constructon S1'!CV62) | AX62: =CONCATENATE('[1]Constructon S1'!CX62) | AY62: =CONCATENATE('[1]Constructon S1'!CY62," ",'[1]Constructon S1'!CZ62) | AZ62: =CONCATENATE('[1]Constructon S1'!DA62," ",'[1]Constructon S1'!DB62)
C63: =CONCATENATE('[1]Constructon S1'!C63) | I63: =CONCATENATE('[1]Constructon S1'!N63) | M63: =CONCATENATE('[1]Constructon S1'!W63) | R63: =CONCATENATE('[1]Constructon S1'!AI63) | X63: =CONCATENATE('[1]Constructon S1'!AU63) | AA63: =CONCATENATE('[1]Constructon S1'!BA63) | AG63: =CONCATENATE('[1]Constructon S1'!BN63) | AL63: =CONCATENATE('[1]Constructon S1'!BZ63) | AR63: =CONCATENATE('[1]Constructon S1'!CL63) | AU63: =CONCATENATE('[1]Constructon S1'!CR63) | AX63: =CONCATENATE('[1]Constructon S1'!CX63)
A64: ='[1]Constructon S1'!A64 -> 47 | B64: ='[1]Constructon S1'!B64 -> 42695 | C64: =CONCATENATE('[1]Constructon S1'!C64) | D64: =CONCATENATE('[1]Constructon S1'!D64," ", '[1]Constructon S1'!E64) | E64: =CONCATENATE('[1]Constructon S1'!F64," ", '[1]Constructon S1'!G64) | F64: =CONCATENATE('[1]Constructon S1'!I64," ",'[1]Constructon S1'!J64) | G64: =CONCATENATE('[1]Constructon S1'!K64," ",'[1]Constructon S1'!L64) | I64: =CONCATENATE('[1]Constructon S1'!N64) | J64: =CONCATENATE('[1]Constructon S1'!O64," ",'[1]Constructon S1'!P64) | K64: =CONCATENATE('[1]Constructon S1'!Q64," ",'[1]Constructon S1'!R64) | M64: =CONCATENATE('[1]Constructon S1'!W64) | N64: =CONCATENATE('[1]Constructon S1'!X64," ",'[1]Constructon S1'!Y64) | O64: =CONCATENATE('[1]Constructon S1'!Z64," ",'[1]Constructon S1'!AA64) | P64: =CONCATENATE('[1]Constructon S1'!AD64," ",'[1]Constructon S1'!AE64) | Q64: =CONCATENATE('[1]Constructon S1'!AF64," ",'[1]Constructon S1'!AG64) | R64: =CONCATENATE('[1]Constructon S1'!AI64) | S64: =CONCATENATE('[1]Constructon S1'!AJ64," ",'[1]Constructon S1'!AK64) | T64: =CONCATENATE('[1]Constructon S1'!AL64," ",'[1]Constructon S1'!AM64) | U64: =CONCATENATE('[1]Constructon S1'!AP64," ",'[1]Constructon S1'!AQ64) | V64: =CONCATENATE('[1]Constructon S1'!AR64," ",'[1]Constructon S1'!AS64) | X64: =CONCATENATE('[1]Constructon S1'!AU64) | Y64: =CONCATENATE('[1]Constructon S1'!AV64," ",'[1]Constructon S1'!AW64) | Z64: =CONCATENATE('[1]Constructon S1'!AX64," ",'[1]Constructon S1'!AY64) | AA64: =CONCATENATE('[1]Constructon S1'!BA64) | AB64: =CONCATENATE('[1]Constructon S1'!BB64," ",'[1]Constructon S1'!BC64) | AC64: =CONCATENATE('[1]Constructon S1'!BD64," ",'[1]Constructon S1'!BE64) | AD64: =CONCATENATE('[1]Constructon S1'!BH64," ",'[1]Constructon S1'!BI64) | AE64: =CONCATENATE('[1]Constructon S1'!BJ64," ",'[1]Constructon S1'!BK64) | AG64: =CONCATENATE('[1]Constructon S1'!BN64) -> Elec 1 | AH64: =CONCATENATE('[1]Constructon S1'!BO64," ",'[1]Constructon S1'!BP64) -> MPCI1 A | AI64: =CONCATENATE('[1]Constructon S1'!BQ64," ",'[1]Constructon S1'!BR64) -> MPCI1 B | AJ64: =CONCATENATE('[1]Constructon S1'!BU64," ",'[1]Constructon S1'!BV64) -> MPCI1 C | AK64: =CONCATENATE('[1]Constructon S1'!BW64," ",'[1]Constructon S1'!BX64) -> MPCI1 D | AL64: =CONCATENATE('[1]Constructon S1'!BZ64) | AM64: =CONCATENATE('[1]Constructon S1'!CA64," ",'[1]Constructon S1'!CB64) | AN64: =CONCATENATE('[1]Constructon S1'!CC64," ",'[1]Constructon S1'!CD64) | AO64: =CONCATENATE('[1]Constructon S1'!CG64," ",'[1]Constructon S1'!CH64) | AP64: =CONCATENATE('[1]Constructon S1'!CI64," ",'[1]Constructon S1'!CJ64) | AR64: =CONCATENATE('[1]Constructon S1'!CL64) | AS64: =CONCATENATE('[1]Constructon S1'!CM64," ",'[1]Constructon S1'!CN64) | AT64: =CONCATENATE('[1]Constructon S1'!CO64," ",'[1]Constructon S1'!CP64) | AU64: =CONCATENATE('[1]Constructon S1'!CR64) | AV64: =CONCATENATE('[1]Constructon S1'!CS64," ",'[1]Constructon S1'!CT64) | AW64: =CONCATENATE('[1]Constructon S1'!CU64," ",'[1]Constructon S1'!CV64) | AX64: =CONCATENATE('[1]Constructon S1'!CX64) | AY64: =CONCATENATE('[1]Constructon S1'!CY64," ",'[1]Constructon S1'!CZ64) | AZ64: =CONCATENATE('[1]Constructon S1'!DA64," ",'[1]Constructon S1'!DB64)
A65: ='[1]Constructon S1'!A65 -> 47 | B65: ='[1]Constructon S1'!B65 -> 42696 | C65: =CONCATENATE('[1]Constructon S1'!C65) -> TP2 ch100 | D65: =CONCATENATE('[1]Constructon S1'!D65," ", '[1]Constructon S1'!E65) -> BI E | E65: =CONCATENATE('[1]Constructon S1'!F65," ", '[1]Constructon S1'!G65) -> CB2 K | F65: =CONCATENATE('[1]Constructon S1'!I65," ",'[1]Constructon S1'!J65) -> BI F | G65: =CONCATENATE('[1]Constructon S1'!K65," ",'[1]Constructon S1'!L65) -> CB2 M | I65: =CONCATENATE('[1]Constructon S1'!N65) -> TP2 MT100 | J65: =CONCATENATE('[1]Constructon S1'!O65," ",'[1]Constructon S1'!P65) -> CB2 T | K65: =CONCATENATE('[1]Constructon S1'!Q65," ",'[1]Constructon S1'!R65) -> CB2 Q | M65: =CONCATENATE('[1]Constructon S1'!W65) -> In Vitro | N65: =CONCATENATE('[1]Constructon S1'!X65," ",'[1]Constructon S1'!Y65) -> CB2 R | O65: =CONCATENATE('[1]Constructon S1'!Z65," ",'[1]Constructon S1'!AA65) -> CB2 R | P65: =CONCATENATE('[1]Constructon S1'!AD65," ",'[1]Constructon S1'!AE65) -> CB2 S | Q65: =CONCATENATE('[1]Constructon S1'!AF65," ",'[1]Constructon S1'!AG65) -> CB2 S | R65: =CONCATENATE('[1]Constructon S1'!AI65) | S65: =CONCATENATE('[1]Constructon S1'!AJ65," ",'[1]Constructon S1'!AK65) | T65: =CONCATENATE('[1]Constructon S1'!AL65," ",'[1]Constructon S1'!AM65) | U65: =CONCATENATE('[1]Constructon S1'!AP65," ",'[1]Constructon S1'!AQ65) | V65: =CONCATENATE('[1]Constructon S1'!AR65," ",'[1]Constructon S1'!AS65) | X65: =CONCATENATE('[1]Constructon S1'!AU65) | Y65: =CONCATENATE('[1]Constructon S1'!AV65," ",'[1]Constructon S1'!AW65) | Z65: =CONCATENATE('[1]Constructon S1'!AX65," ",'[1]Constructon S1'!AY65) | AA65: =CONCATENATE('[1]Constructon S1'!BA65) | AB65: =CONCATENATE('[1]Constructon S1'!BB65," ",'[1]Constructon S1'!BC65) | AC65: =CONCATENATE('[1]Constructon S1'!BD65," ",'[1]Constructon S1'!BE65) | AD65: =CONCATENATE('[1]Constructon S1'!BH65," ",'[1]Constructon S1'!BI65) | AE65: =CONCATENATE('[1]Constructon S1'!BJ65," ",'[1]Constructon S1'!BK65) | AG65: =CONCATENATE('[1]Constructon S1'!BN65) | AH65: =CONCATENATE('[1]Constructon S1'!BO65," ",'[1]Constructon S1'!BP65) | AI65: =CONCATENATE('[1]Constructon S1'!BQ65," ",'[1]Constructon S1'!BR65) | AJ65: =CONCATENATE('[1]Constructon S1'!BU65," ",'[1]Constructon S1'!BV65) | AK65: =CONCATENATE('[1]Constructon S1'!BW65," ",'[1]Constructon S1'!BX65) | AL65: =CONCATENATE('[1]Constructon S1'!BZ65) -> Opt 1 | AM65: =CONCATENATE('[1]Constructon S1'!CA65," ",'[1]Constructon S1'!CB65) -> CB2 K | AN65: =CONCATENATE('[1]Constructon S1'!CC65," ",'[1]Constructon S1'!CD65) -> CB2 L | AO65: =CONCATENATE('[1]Constructon S1'!CG65," ",'[1]Constructon S1'!CH65) -> CB2 M | AP65: =CONCATENATE('[1]Constructon S1'!CI65," ",'[1]Constructon S1'!CJ65) -> CB2 N | AR65: =CONCATENATE('[1]Constructon S1'!CL65) | AS65: =CONCATENATE('[1]Constructon S1'!CM65," ",'[1]Constructon S1'!CN65) | AT65: =CONCATENATE('[1]Constructon S1'!CO65," ",'[1]Constructon S1'!CP65) | AU65: =CONCATENATE('[1]Constructon S1'!CR65) | AV65: =CONCATENATE('[1]Constructon S1'!CS65," ",'[1]Constructon S1'!CT65) | AW65: =CONCATENATE('[1]Constructon S1'!CU65," ",'[1]Constructon S1'!CV65) | AX65: =CONCATENATE('[1]Constructon S1'!CX65) | AY65: =CONCATENATE('[1]Constructon S1'!CY65," ",'[1]Constructon S1'!CZ65) | AZ65: =CONCATENATE('[1]Constructon S1'!DA65," ",'[1]Constructon S1'!DB65)
A66: ='[1]Constructon S1'!A66 -> 47 | B66: ='[1]Constructon S1'!B66 -> 42697 | C66: =CONCATENATE('[1]Constructon S1'!C66) -> TP2 ch100 | D66: =CONCATENATE('[1]Constructon S1'!D66," ", '[1]Constructon S1'!E66) -> MPCI2 M | E66: =CONCATENATE('[1]Constructon S1'!F66," ", '[1]Constructon S1'!G66) -> MPCI2 N | F66: =CONCATENATE('[1]Constructon S1'!I66," ",'[1]Constructon S1'!J66) -> MPCI2 O | G66: =CONCATENATE('[1]Constructon S1'!K66," ",'[1]Constructon S1'!L66) -> MPCI2 P | I66: =CONCATENATE('[1]Constructon S1'!N66) -> TP2 MT100 | J66: =CONCATENATE('[1]Constructon S1'!O66," ",'[1]Constructon S1'!P66) -> CB1 E | K66: =CONCATENATE('[1]Constructon S1'!Q66," ",'[1]Constructon S1'!R66) -> CB1 F | M66: =CONCATENATE('[1]Constructon S1'!W66) -> In Vitro | N66: =CONCATENATE('[1]Constructon S1'!X66," ",'[1]Constructon S1'!Y66) -> CB1 C | O66: =CONCATENATE('[1]Constructon S1'!Z66," ",'[1]Constructon S1'!AA66) -> CB1 C | P66: =CONCATENATE('[1]Constructon S1'!AD66," ",'[1]Constructon S1'!AE66) -> CB1 D | Q66: =CONCATENATE('[1]Constructon S1'!AF66," ",'[1]Constructon S1'!AG66) -> CB1 D | R66: =CONCATENATE('[1]Constructon S1'!AI66) | S66: =CONCATENATE('[1]Constructon S1'!AJ66," ",'[1]Constructon S1'!AK66) | T66: =CONCATENATE('[1]Constructon S1'!AL66," ",'[1]Constructon S1'!AM66) | U66: =CONCATENATE('[1]Constructon S1'!AP66," ",'[1]Constructon S1'!AQ66) | V66: =CONCATENATE('[1]Constructon S1'!AR66," ",'[1]Constructon S1'!AS66) | X66: =CONCATENATE('[1]Constructon S1'!AU66) | Y66: =CONCATENATE('[1]Constructon S1'!AV66," ",'[1]Constructon S1'!AW66) | Z66: =CONCATENATE('[1]Constructon S1'!AX66," ",'[1]Constructon S1'!AY66) | AA66: =CONCATENATE('[1]Constructon S1'!BA66) | AB66: =CONCATENATE('[1]Constructon S1'!BB66," ",'[1]Constructon S1'!BC66) | AC66: =CONCATENATE('[1]Constructon S1'!BD66," ",'[1]Constructon S1'!BE66) | AD66: =CONCATENATE('[1]Constructon S1'!BH66," ",'[1]Constructon S1'!BI66) | AE66: =CONCATENATE('[1]Constructon S1'!BJ66," ",'[1]Constructon S1'!BK66) | AG66: =CONCATENATE('[1]Constructon S1'!BN66) -> Elec 1 | AH66: =CONCATENATE('[1]Constructon S1'!BO66," ",'[1]Constructon S1'!BP66) -> MPCI2 I | AI66: =CONCATENATE('[1]Constructon S1'!BQ66," ",'[1]Constructon S1'!BR66) -> MPCI2 K | AJ66: =CONCATENATE('[1]Constructon S1'!BU66," ",'[1]Constructon S1'!BV66) -> MPCI2 J | AK66: =CONCATENATE('[1]Constructon S1'!BW66," ",'[1]Constructon S1'!BX66) -> MPCI2 L | AL66: =CONCATENATE('[1]Constructon S1'!BZ66) -> Opt 1 | AM66: =CONCATENATE('[1]Constructon S1'!CA66," ",'[1]Constructon S1'!CB66) -> CB1 H | AN66: =CONCATENATE('[1]Constructon S1'!CC66," ",'[1]Constructon S1'!CD66) -> CB1 J | AO66: =CONCATENATE('[1]Constructon S1'!CG66," ",'[1]Constructon S1'!CH66) -> CB1 I | AP66: =CONCATENATE('[1]Constructon S1'!CI66," ",'[1]Constructon S1'!CJ66) -> CB1 G | AR66: =CONCATENATE('[1]Constructon S1'!CL66) | AS66: =CONCATENATE('[1]Constructon S1'!CM66," ",'[1]Constructon S1'!CN66) | AT66: =CONCATENATE('[1]Constructon S1'!CO66," ",'[1]Constructon S1'!CP66) | AU66: =CONCATENATE('[1]Constructon S1'!CR66) | AV66: =CONCATENATE('[1]Constructon S1'!CS66," ",'[1]Constructon S1'!CT66) | AW66: =CONCATENATE('[1]Constructon S1'!CU66," ",'[1]Constructon S1'!CV66) | AX66: =CONCATENATE('[1]Constructon S1'!CX66) | AY66: =CONCATENATE('[1]Constructon S1'!CY66," ",'[1]Constructon S1'!CZ66) | AZ66: =CONCATENATE('[1]Constructon S1'!DA66," ",'[1]Constructon S1'!DB66)
A67: ='[1]Constructon S1'!A67 -> 47 | B67: ='[1]Constructon S1'!B67 -> 42698 | C67: =CONCATENATE('[1]Constructon S1'!C67) | D67: =CONCATENATE('[1]Constructon S1'!D67," ", '[1]Constructon S1'!E67) | E67: =CONCATENATE('[1]Constructon S1'!F67," ", '[1]Constructon S1'!G67) | F67: =CONCATENATE('[1]Constructon S1'!I67," ",'[1]Constructon S1'!J67) | G67: =CONCATENATE('[1]Constructon S1'!K67," ",'[1]Constructon S1'!L67) | I67: =CONCATENATE('[1]Constructon S1'!N67) -> TP2 MT100 | J67: =CONCATENATE('[1]Constructon S1'!O67," ",'[1]Constructon S1'!P67) -> CB2 R | K67: =CONCATENATE('[1]Constructon S1'!Q67," ",'[1]Constructon S1'!R67) | M67: =CONCATENATE('[1]Constructon S1'!W67) | N67: =CONCATENATE('[1]Constructon S1'!X67," ",'[1]Constructon S1'!Y67) | O67: =CONCATENATE('[1]Constructon S1'!Z67," ",'[1]Constructon S1'!AA67) | P67: =CONCATENATE('[1]Constructon S1'!AD67," ",'[1]Constructon S1'!AE67) | Q67: =CONCATENATE('[1]Constructon S1'!AF67," ",'[1]Constructon S1'!AG67) | R67: =CONCATENATE('[1]Constructon S1'!AI67) | S67: =CONCATENATE('[1]Constructon S1'!AJ67," ",'[1]Constructon S1'!AK67) | T67: =CONCATENATE('[1]Constructon S1'!AL67," ",'[1]Constructon S1'!AM67) | U67: =CONCATENATE('[1]Constructon S1'!AP67," ",'[1]Constructon S1'!AQ67) | V67: =CONCATENATE('[1]Constructon S1'!AR67," ",'[1]Constructon S1'!AS67) | X67: =CONCATENATE('[1]Constructon S1'!AU67) | Y67: =CONCATENATE('[1]Constructon S1'!AV67," ",'[1]Constructon S1'!AW67) | Z67: =CONCATENATE('[1]Constructon S1'!AX67," ",'[1]Constructon S1'!AY67) | AA67: =CONCATENATE('[1]Constructon S1'!BA67) | AB67: =CONCATENATE('[1]Constructon S1'!BB67," ",'[1]Constructon S1'!BC67) | AC67: =CONCATENATE('[1]Constructon S1'!BD67," ",'[1]Constructon S1'!BE67) | AD67: =CONCATENATE('[1]Constructon S1'!BH67," ",'[1]Constructon S1'!BI67) | AE67: =CONCATENATE('[1]Constructon S1'!BJ67," ",'[1]Constructon S1'!BK67) | AG67: =CONCATENATE('[1]Constructon S1'!BN67) | AH67: =CONCATENATE('[1]Constructon S1'!BO67," ",'[1]Constructon S1'!BP67) | AI67: =CONCATENATE('[1]Constructon S1'!BQ67," ",'[1]Constructon S1'!BR67) | AJ67: =CONCATENATE('[1]Constructon S1'!BU67," ",'[1]Constructon S1'!BV67) | AK67: =CONCATENATE('[1]Constructon S1'!BW67," ",'[1]Constructon S1'!BX67) | AL67: =CONCATENATE('[1]Constructon S1'!BZ67) -> Opt 1 | AM67: =CONCATENATE('[1]Constructon S1'!CA67," ",'[1]Constructon S1'!CB67) -> CB2 O | AN67: =CONCATENATE('[1]Constructon S1'!CC67," ",'[1]Constructon S1'!CD67) | AO67: =CONCATENATE('[1]Constructon S1'!CG67," ",'[1]Constructon S1'!CH67) -> CB2 P | AP67: =CONCATENATE('[1]Constructon S1'!CI67," ",'[1]Constructon S1'!CJ67) | AR67: =CONCATENATE('[1]Constructon S1'!CL67) | AS67: =CONCATENATE('[1]Constructon S1'!CM67," ",'[1]Constructon S1'!CN67) | AT67: =CONCATENATE('[1]Constructon S1'!CO67," ",'[1]Constructon S1'!CP67) | AU67: =CONCATENATE('[1]Constructon S1'!CR67) | AV67: =CONCATENATE('[1]Constructon S1'!CS67," ",'[1]Constructon S1'!CT67) | AW67: =CONCATENATE('[1]Constructon S1'!CU67," ",'[1]Constructon S1'!CV67) | AX67: =CONCATENATE('[1]Constructon S1'!CX67) | AY67: =CONCATENATE('[1]Constructon S1'!CY67," ",'[1]Constructon S1'!CZ67) | AZ67: =CONCATENATE('[1]Constructon S1'!DA67," ",'[1]Constructon S1'!DB67)
A68: ='[1]Constructon S1'!A68 -> 47 | B68: ='[1]Constructon S1'!B68 -> 42699 | C68: =CONCATENATE('[1]Constructon S1'!C68) -> TP2 ch100 | D68: =CONCATENATE('[1]Constructon S1'!D68," ", '[1]Constructon S1'!E68) -> BI G | E68: =CONCATENATE('[1]Constructon S1'!F68," ", '[1]Constructon S1'!G68) | F68: =CONCATENATE('[1]Constructon S1'!I68," ",'[1]Constructon S1'!J68) -> BI H | G68: =CONCATENATE('[1]Constructon S1'!K68," ",'[1]Constructon S1'!L68) | I68: =CONCATENATE('[1]Constructon S1'!N68) -> TP2 MT100 | J68: =CONCATENATE('[1]Constructon S1'!O68," ",'[1]Constructon S1'!P68) -> CB1 D | K68: =CONCATENATE('[1]Constructon S1'!Q68," ",'[1]Constructon S1'!R68) | M68: =CONCATENATE('[1]Constructon S1'!W68) -> In Vitro | N68: =CONCATENATE('[1]Constructon S1'!X68," ",'[1]Constructon S1'!Y68) -> BI C | O68: =CONCATENATE('[1]Constructon S1'!Z68," ",'[1]Constructon S1'!AA68) -> BI C | P68: =CONCATENATE('[1]Constructon S1'!AD68," ",'[1]Constructon S1'!AE68) -> BI D | Q68: =CONCATENATE('[1]Constructon S1'!AF68," ",'[1]Constructon S1'!AG68) -> BI D | R68: =CONCATENATE('[1]Constructon S1'!AI68) | S68: =CONCATENATE('[1]Constructon S1'!AJ68," ",'[1]Constructon S1'!AK68) | T68: =CONCATENATE('[1]Constructon S1'!AL68," ",'[1]Constructon S1'!AM68) | U68: =CONCATENATE('[1]Constructon S1'!AP68," ",'[1]Constructon S1'!AQ68) | V68: =CONCATENATE('[1]Constructon S1'!AR68," ",'[1]Constructon S1'!AS68) | X68: =CONCATENATE('[1]Constructon S1'!AU68) | Y68: =CONCATENATE('[1]Constructon S1'!AV68," ",'[1]Constructon S1'!AW68) | Z68: =CONCATENATE('[1]Constructon S1'!AX68," ",'[1]Constructon S1'!AY68) | AA68: =CONCATENATE('[1]Constructon S1'!BA68) | AB68: =CONCATENATE('[1]Constructon S1'!BB68," ",'[1]Constructon S1'!BC68) | AC68: =CONCATENATE('[1]Constructon S1'!BD68," ",'[1]Constructon S1'!BE68) | AD68: =CONCATENATE('[1]Constructon S1'!BH68," ",'[1]Constructon S1'!BI68) | AE68: =CONCATENATE('[1]Constructon S1'!BJ68," ",'[1]Constructon S1'!BK68) | AG68: =CONCATENATE('[1]Constructon S1'!BN68) | AH68: =CONCATENATE('[1]Constructon S1'!BO68," ",'[1]Constructon S1'!BP68) | AI68: =CONCATENATE('[1]Constructon S1'!BQ68," ",'[1]Constructon S1'!BR68) | AJ68: =CONCATENATE('[1]Constructon S1'!BU68," ",'[1]Constructon S1'!BV68) | AK68: =CONCATENATE('[1]Constructon S1'!BW68," ",'[1]Constructon S1'!BX68) | AL68: =CONCATENATE('[1]Constructon S1'!BZ68) -> Opt 1 | AM68: =CONCATENATE('[1]Constructon S1'!CA68," ",'[1]Constructon S1'!CB68) -> CB1 A | AN68: =CONCATENATE('[1]Constructon S1'!CC68," ",'[1]Constructon S1'!CD68) | AO68: =CONCATENATE('[1]Constructon S1'!CG68," ",'[1]Constructon S1'!CH68) -> CB1 B | AP68: =CONCATENATE('[1]Constructon S1'!CI68," ",'[1]Constructon S1'!CJ68) | AR68: =CONCATENATE('[1]Constructon S1'!CL68) | AS68: =CONCATENATE('[1]Constructon S1'!CM68," ",'[1]Constructon S1'!CN68) | AT68: =CONCATENATE('[1]Constructon S1'!CO68," ",'[1]Constructon S1'!CP68) | AU68: =CONCATENATE('[1]Constructon S1'!CR68) | AV68: =CONCATENATE('[1]Constructon S1'!CS68," ",'[1]Constructon S1'!CT68) | AW68: =CONCATENATE('[1]Constructon S1'!CU68," ",'[1]Constructon S1'!CV68) | AX68: =CONCATENATE('[1]Constructon S1'!CX68) | AY68: =CONCATENATE('[1]Constructon S1'!CY68," ",'[1]Constructon S1'!CZ68) | AZ68: =CONCATENATE('[1]Constructon S1'!DA68," ",'[1]Constructon S1'!DB68)
C69: =CONCATENATE('[1]Constructon S1'!C69) | I69: =CONCATENATE('[1]Constructon S1'!N69) | M69: =CONCATENATE('[1]Constructon S1'!W69) | R69: =CONCATENATE('[1]Constructon S1'!AI69) | X69: =CONCATENATE('[1]Constructon S1'!AU69) | AA69: =CONCATENATE('[1]Constructon S1'!BA69) | AG69: =CONCATENATE('[1]Constructon S1'!BN69) | AL69: =CONCATENATE('[1]Constructon S1'!BZ69) | AR69: =CONCATENATE('[1]Constructon S1'!CL69) | AU69: =CONCATENATE('[1]Constructon S1'!CR69) | AX69: =CONCATENATE('[1]Constructon S1'!CX69)
A70: ='[1]Constructon S1'!A70 -> 48 | B70: ='[1]Constructon S1'!B70 -> 42702 | C70: =CONCATENATE('[1]Constructon S1'!C70) | D70: =CONCATENATE('[1]Constructon S1'!D70," ", '[1]Constructon S1'!E70) | E70: =CONCATENATE('[1]Constructon S1'!F70," ", '[1]Constructon S1'!G70) | F70: =CONCATENATE('[1]Constructon S1'!I70," ",'[1]Constructon S1'!J70) | G70: =CONCATENATE('[1]Constructon S1'!K70," ",'[1]Constructon S1'!L70) | I70: =CONCATENATE('[1]Constructon S1'!N70) | J70: =CONCATENATE('[1]Constructon S1'!O70," ",'[1]Constructon S1'!P70) | K70: =CONCATENATE('[1]Constructon S1'!Q70," ",'[1]Constructon S1'!R70) | M70: =CONCATENATE('[1]Constructon S1'!W70) | N70: =CONCATENATE('[1]Constructon S1'!X70," ",'[1]Constructon S1'!Y70) | O70: =CONCATENATE('[1]Constructon S1'!Z70," ",'[1]Constructon S1'!AA70) | P70: =CONCATENATE('[1]Constructon S1'!AD70," ",'[1]Constructon S1'!AE70) | Q70: =CONCATENATE('[1]Constructon S1'!AF70," ",'[1]Constructon S1'!AG70) | R70: =CONCATENATE('[1]Constructon S1'!AI70) | S70: =CONCATENATE('[1]Constructon S1'!AJ70," ",'[1]Constructon S1'!AK70) | T70: =CONCATENATE('[1]Constructon S1'!AL70," ",'[1]Constructon S1'!AM70) | U70: =CONCATENATE('[1]Constructon S1'!AP70," ",'[1]Constructon S1'!AQ70) | V70: =CONCATENATE('[1]Constructon S1'!AR70," ",'[1]Constructon S1'!AS70) | X70: =CONCATENATE('[1]Constructon S1'!AU70) | Y70: =CONCATENATE('[1]Constructon S1'!AV70," ",'[1]Constructon S1'!AW70) | Z70: =CONCATENATE('[1]Constructon S1'!AX70," ",'[1]Constructon S1'!AY70) | AA70: =CONCATENATE('[1]Constructon S1'!BA70) | AB70: =CONCATENATE('[1]Constructon S1'!BB70," ",'[1]Constructon S1'!BC70) | AC70: =CONCATENATE('[1]Constructon S1'!BD70," ",'[1]Constructon S1'!BE70) | AD70: =CONCATENATE('[1]Constructon S1'!BH70," ",'[1]Constructon S1'!BI70) | AE70: =CONCATENATE('[1]Constructon S1'!BJ70," ",'[1]Constructon S1'!BK70) | AG70: =CONCATENATE('[1]Constructon S1'!BN70) -> Elec 1 | AH70: =CONCATENATE('[1]Constructon S1'!BO70," ",'[1]Constructon S1'!BP70) -> MPCI1 E | AI70: =CONCATENATE('[1]Constructon S1'!BQ70," ",'[1]Constructon S1'!BR70) -> MPCI1 F | AJ70: =CONCATENATE('[1]Constructon S1'!BU70," ",'[1]Constructon S1'!BV70) -> MPCI1 G | AK70: =CONCATENATE('[1]Constructon S1'!BW70," ",'[1]Constructon S1'!BX70) -> MPCI1 H | AL70: =CONCATENATE('[1]Constructon S1'!BZ70) | AM70: =CONCATENATE('[1]Constructon S1'!CA70," ",'[1]Constructon S1'!CB70) | AN70: =CONCATENATE('[1]Constructon S1'!CC70," ",'[1]Constructon S1'!CD70) | AO70: =CONCATENATE('[1]Constructon S1'!CG70," ",'[1]Constructon S1'!CH70) | AP70: =CONCATENATE('[1]Constructon S1'!CI70," ",'[1]Constructon S1'!CJ70) | AR70: =CONCATENATE('[1]Constructon S1'!CL70) | AS70: =CONCATENATE('[1]Constructon S1'!CM70," ",'[1]Constructon S1'!CN70) | AT70: =CONCATENATE('[1]Constructon S1'!CO70," ",'[1]Constructon S1'!CP70) | AU70: =CONCATENATE('[1]Constructon S1'!CR70) | AV70: =CONCATENATE('[1]Constructon S1'!CS70," ",'[1]Constructon S1'!CT70) | AW70: =CONCATENATE('[1]Constructon S1'!CU70," ",'[1]Constructon S1'!CV70) | AX70: =CONCATENATE('[1]Constructon S1'!CX70) | AY70: =CONCATENATE('[1]Constructon S1'!CY70," ",'[1]Constructon S1'!CZ70) | AZ70: =CONCATENATE('[1]Constructon S1'!DA70," ",'[1]Constructon S1'!DB70)
A71: ='[1]Constructon S1'!A71 -> 48 | B71: ='[1]Constructon S1'!B71 -> 42703 | C71: =CONCATENATE('[1]Constructon S1'!C71) -> TP3 CH100 | D71: =CONCATENATE('[1]Constructon S1'!D71," ", '[1]Constructon S1'!E71) -> BI A | E71: =CONCATENATE('[1]Constructon S1'!F71," ", '[1]Constructon S1'!G71) -> CB2 K | F71: =CONCATENATE('[1]Constructon S1'!I71," ",'[1]Constructon S1'!J71) -> BI B | G71: =CONCATENATE('[1]Constructon S1'!K71," ",'[1]Constructon S1'!L71) -> CB2 L | I71: =CONCATENATE('[1]Constructon S1'!N71) -> TP2 MT100 | J71: =CONCATENATE('[1]Constructon S1'!O71," ",'[1]Constructon S1'!P71) -> CB2 M | K71: =CONCATENATE('[1]Constructon S1'!Q71," ",'[1]Constructon S1'!R71) -> CB2 S | M71: =CONCATENATE('[1]Constructon S1'!W71) -> In Vitro | N71: =CONCATENATE('[1]Constructon S1'!X71," ",'[1]Constructon S1'!Y71) -> CB2 O | O71: =CONCATENATE('[1]Constructon S1'!Z71," ",'[1]Constructon S1'!AA71) -> CB2 O | P71: =CONCATENATE('[1]Constructon S1'!AD71," ",'[1]Constructon S1'!AE71) -> CB2 P | Q71: =CONCATENATE('[1]Constructon S1'!AF71," ",'[1]Constructon S1'!AG71) -> CB2 P | R71: =CONCATENATE('[1]Constructon S1'!AI71) | S71: =CONCATENATE('[1]Constructon S1'!AJ71," ",'[1]Constructon S1'!AK71) | T71: =CONCATENATE('[1]Constructon S1'!AL71," ",'[1]Constructon S1'!AM71) | U71: =CONCATENATE('[1]Constructon S1'!AP71," ",'[1]Constructon S1'!AQ71) | V71: =CONCATENATE('[1]Constructon S1'!AR71," ",'[1]Constructon S1'!AS71) | X71: =CONCATENATE('[1]Constructon S1'!AU71) | Y71: =CONCATENATE('[1]Constructon S1'!AV71," ",'[1]Constructon S1'!AW71) | Z71: =CONCATENATE('[1]Constructon S1'!AX71," ",'[1]Constructon S1'!AY71) | AA71: =CONCATENATE('[1]Constructon S1'!BA71) | AB71: =CONCATENATE('[1]Constructon S1'!BB71," ",'[1]Constructon S1'!BC71) | AC71: =CONCATENATE('[1]Constructon S1'!BD71," ",'[1]Constructon S1'!BE71) | AD71: =CONCATENATE('[1]Constructon S1'!BH71," ",'[1]Constructon S1'!BI71) | AE71: =CONCATENATE('[1]Constructon S1'!BJ71," ",'[1]Constructon S1'!BK71) | AG71: =CONCATENATE('[1]Constructon S1'!BN71) | AH71: =CONCATENATE('[1]Constructon S1'!BO71," ",'[1]Constructon S1'!BP71) | AI71: =CONCATENATE('[1]Constructon S1'!BQ71," ",'[1]Constructon S1'!BR71) | AJ71: =CONCATENATE('[1]Constructon S1'!BU71," ",'[1]Constructon S1'!BV71) | AK71: =CONCATENATE('[1]Constructon S1'!BW71," ",'[1]Constructon S1'!BX71) | AL71: =CONCATENATE('[1]Constructon S1'!BZ71) -> Opt 1 | AM71: =CONCATENATE('[1]Constructon S1'!CA71," ",'[1]Constructon S1'!CB71) -> CB2 Q | AN71: =CONCATENATE('[1]Constructon S1'!$CC$71," ",'[1]Constructon S1'!$CD$71) -> CB2 R | AO71: =CONCATENATE('[1]Constructon S1'!CG71," ",'[1]Constructon S1'!CH71) -> CB2 S | AP71: =CONCATENATE('[1]Constructon S1'!CI71," ",'[1]Constructon S1'!CJ71) -> CB2 T | AR71: =CONCATENATE('[1]Constructon S1'!CL71) | AS71: =CONCATENATE('[1]Constructon S1'!CM71," ",'[1]Constructon S1'!CN71) | AT71: =CONCATENATE('[1]Constructon S1'!CO71," ",'[1]Constructon S1'!CP71) | AU71: =CONCATENATE('[1]Constructon S1'!CR71) | AV71: =CONCATENATE('[1]Constructon S1'!CS71," ",'[1]Constructon S1'!CT71) | AW71: =CONCATENATE('[1]Constructon S1'!CU71," ",'[1]Constructon S1'!CV71) | AX71: =CONCATENATE('[1]Constructon S1'!CX71) | AY71: =CONCATENATE('[1]Constructon S1'!CY71," ",'[1]Constructon S1'!CZ71) | AZ71: =CONCATENATE('[1]Constructon S1'!DA71," ",'[1]Constructon S1'!DB71)
A72: ='[1]Constructon S1'!A72 -> 48 | B72: ='[1]Constructon S1'!B72 -> 42704 | C72: =CONCATENATE('[1]Constructon S1'!C72) -> TP3 CH100 | D72: =CONCATENATE('[1]Constructon S1'!D72," ", '[1]Constructon S1'!E72) -> CB1 A | E72: =CONCATENATE('[1]Constructon S1'!F72," ", '[1]Constructon S1'!G72) -> CB1 B | F72: =CONCATENATE('[1]Constructon S1'!I72," ",'[1]Constructon S1'!J72) -> CB1 D | G72: =CONCATENATE('[1]Constructon S1'!K72," ",'[1]Constructon S1'!L72) -> CB1 C | I72: =CONCATENATE('[1]Constructon S1'!N72) -> TP2 MT100 | J72: =CONCATENATE('[1]Constructon S1'!O72," ",'[1]Constructon S1'!P72) -> CB1 I | K72: =CONCATENATE('[1]Constructon S1'!Q72," ",'[1]Constructon S1'!R72) -> CB1 J | M72: =CONCATENATE('[1]Constructon S1'!W72) -> In Vitro | N72: =CONCATENATE('[1]Constructon S1'!X72," ",'[1]Constructon S1'!Y72) -> CB1 G | O72: =CONCATENATE('[1]Constructon S1'!Z72," ",'[1]Constructon S1'!AA72) -> CB1 G | P72: =CONCATENATE('[1]Constructon S1'!AD72," ",'[1]Constructon S1'!AE72) -> CB1 H | Q72: =CONCATENATE('[1]Constructon S1'!AF72," ",'[1]Constructon S1'!AG72) -> CB1 H | R72: =CONCATENATE('[1]Constructon S1'!AI72) | S72: =CONCATENATE('[1]Constructon S1'!AJ72," ",'[1]Constructon S1'!AK72) | T72: =CONCATENATE('[1]Constructon S1'!AL72," ",'[1]Constructon S1'!AM72) | U72: =CONCATENATE('[1]Constructon S1'!AP72," ",'[1]Constructon S1'!AQ72) | V72: =CONCATENATE('[1]Constructon S1'!AR72," ",'[1]Constructon S1'!AS72) | X72: =CONCATENATE('[1]Constructon S1'!AU72) | Y72: =CONCATENATE('[1]Constructon S1'!AV72," ",'[1]Constructon S1'!AW72) | Z72: =CONCATENATE('[1]Constructon S1'!AX72," ",'[1]Constructon S1'!AY72) | AA72: =CONCATENATE('[1]Constructon S1'!BA72) | AB72: =CONCATENATE('[1]Constructon S1'!BB72," ",'[1]Constructon S1'!BC72) | AC72: =CONCATENATE('[1]Constructon S1'!BD72," ",'[1]Constructon S1'!BE72) | AD72: =CONCATENATE('[1]Constructon S1'!BH72," ",'[1]Constructon S1'!BI72) | AE72: =CONCATENATE('[1]Constructon S1'!BJ72," ",'[1]Constructon S1'!BK72) | AG72: =CONCATENATE('[1]Constructon S1'!BN72) -> Elec 1 | AH72: =CONCATENATE('[1]Constructon S1'!BO72," ",'[1]Constructon S1'!BP72) -> MPCI2 N | AI72: =CONCATENATE('[1]Constructon S1'!BQ72," ",'[1]Constructon S1'!BR72) -> MPCI2 M | AJ72: =CONCATENATE('[1]Constructon S1'!BU72," ",'[1]Constructon S1'!BV72) -> MPCI2 P | AK72: =CONCATENATE('[1]Constructon S1'!BW72," ",'[1]Constructon S1'!BX72) -> MPCI2 O | AL72: =CONCATENATE('[1]Constructon S1'!BZ72) -> Opt 1 | AM72: =CONCATENATE('[1]Constructon S1'!CA72," ",'[1]Constructon S1'!CB72) -> CB1 C | AN72: =CONCATENATE('[1]Constructon S1'!CC72," ",'[1]Constructon S1'!CD72) -> CB1 D | AO72: =CONCATENATE('[1]Constructon S1'!CG72," ",'[1]Constructon S1'!CH72) -> CB1 F | AP72: =CONCATENATE('[1]Constructon S1'!CI72," ",'[1]Constructon S1'!CJ72) -> CB1 E | AR72: =CONCATENATE('[1]Constructon S1'!CL72) | AS72: =CONCATENATE('[1]Constructon S1'!CM72," ",'[1]Constructon S1'!CN72) | AT72: =CONCATENATE('[1]Constructon S1'!CO72," ",'[1]Constructon S1'!CP72) | AU72: =CONCATENATE('[1]Constructon S1'!CR72) | AV72: =CONCATENATE('[1]Constructon S1'!CS72," ",'[1]Constructon S1'!CT72) | AW72: =CONCATENATE('[1]Constructon S1'!CU72," ",'[1]Constructon S1'!CV72) | AX72: =CONCATENATE('[1]Constructon S1'!CX72) | AY72: =CONCATENATE('[1]Constructon S1'!CY72," ",'[1]Constructon S1'!CZ72) | AZ72: =CONCATENATE('[1]Constructon S1'!DA72," ",'[1]Constructon S1'!DB72)
A73: ='[1]Constructon S1'!A73 -> 48 | B73: ='[1]Constructon S1'!B73 -> 42705 | C73: =CONCATENATE('[1]Constructon S1'!C73) -> TP3 CH100 | D73: =CONCATENATE('[1]Constructon S1'!D73," ", '[1]Constructon S1'!E73) -> CB2 M | E73: =CONCATENATE('[1]Constructon S1'!F73," ", '[1]Constructon S1'!G73) | F73: =CONCATENATE('[1]Constructon S1'!I73," ",'[1]Constructon S1'!J73) -> CB2 N | G73: =CONCATENATE('[1]Constructon S1'!K73," ",'[1]Constructon S1'!L73) | I73: =CONCATENATE('[1]Constructon S1'!N73) | J73: =CONCATENATE('[1]Constructon S1'!O73," ",'[1]Constructon S1'!P73) | K73: =CONCATENATE('[1]Constructon S1'!Q73," ",'[1]Constructon S1'!R73) | M73: =CONCATENATE('[1]Constructon S1'!W73) | N73: =CONCATENATE('[1]Constructon S1'!X73," ",'[1]Constructon S1'!Y73) | O73: =CONCATENATE('[1]Constructon S1'!Z73," ",'[1]Constructon S1'!AA73) | P73: =CONCATENATE('[1]Constructon S1'!AD73," ",'[1]Constructon S1'!AE73) | Q73: =CONCATENATE('[1]Constructon S1'!AF73," ",'[1]Constructon S1'!AG73) | R73: =CONCATENATE('[1]Constructon S1'!AI73) | S73: =CONCATENATE('[1]Constructon S1'!AJ73," ",'[1]Constructon S1'!AK73) | T73: =CONCATENATE('[1]Constructon S1'!AL73," ",'[1]Constructon S1'!AM73) | U73: =CONCATENATE('[1]Constructon S1'!AP73," ",'[1]Constructon S1'!AQ73) | V73: =CONCATENATE('[1]Constructon S1'!AR73," ",'[1]Constructon S1'!AS73) | X73: =CONCATENATE('[1]Constructon S1'!AU73) | Y73: =CONCATENATE('[1]Constructon S1'!AV73," ",'[1]Constructon S1'!AW73) | Z73: =CONCATENATE('[1]Constructon S1'!AX73," ",'[1]Constructon S1'!AY73) | AA73: =CONCATENATE('[1]Constructon S1'!BA73) | AB73: =CONCATENATE('[1]Constructon S1'!BB73," ",'[1]Constructon S1'!BC73) | AC73: =CONCATENATE('[1]Constructon S1'!BD73," ",'[1]Constructon S1'!BE73) | AD73: =CONCATENATE('[1]Constructon S1'!BH73," ",'[1]Constructon S1'!BI73) | AE73: =CONCATENATE('[1]Constructon S1'!BJ73," ",'[1]Constructon S1'!BK73) | AG73: =CONCATENATE('[1]Constructon S1'!BN73) | AH73: =CONCATENATE('[1]Constructon S1'!BO73," ",'[1]Constructon S1'!BP73) | AI73: =CONCATENATE('[1]Constructon S1'!BQ73," ",'[1]Constructon S1'!BR73) | AJ73: =CONCATENATE('[1]Constructon S1'!BU73," ",'[1]Constructon S1'!BV73) | AK73: =CONCATENATE('[1]Constructon S1'!BW73," ",'[1]Constructon S1'!BX73) | AL73: =CONCATENATE('[1]Constructon S1'!BZ73) | AM73: =CONCATENATE('[1]Constructon S1'!CA73," ",'[1]Constructon S1'!CB73) | AN73: =CONCATENATE('[1]Constructon S1'!CC73," ",'[1]Constructon S1'!CD73) | AO73: =CONCATENATE('[1]Constructon S1'!CG73," ",'[1]Constructon S1'!CH73) | AP73: =CONCATENATE('[1]Constructon S1'!CI73," ",'[1]Constructon S1'!CJ73) | AR73: =CONCATENATE('[1]Constructon S1'!CL73) | AS73: =CONCATENATE('[1]Constructon S1'!CM73," ",'[1]Constructon S1'!CN73) | AT73: =CONCATENATE('[1]Constructon S1'!CO73," ",'[1]Constructon S1'!CP73) | AU73: =CONCATENATE('[1]Constructon S1'!CR73) | AV73: =CONCATENATE('[1]Constructon S1'!CS73," ",'[1]Constructon S1'!CT73) | AW73: =CONCATENATE('[1]Constructon S1'!CU73," ",'[1]Constructon S1'!CV73) | AX73: =CONCATENATE('[1]Constructon S1'!CX73) | AY73: =CONCATENATE('[1]Constructon S1'!CY73," ",'[1]Constructon S1'!CZ73) | AZ73: =CONCATENATE('[1]Constructon S1'!DA73," ",'[1]Constructon S1'!DB73)
