Workbook

Sheet VERIFICATEUR
C1: CH 100 | I1: ='[1]Constructon S1'!O1 -> MT100 | M1: ='[1]Constructon S1'!X1 -> BIO 100 | X1: MT BIO | AG1: ='[1]Constructon S1'!BO1 -> PH 100 | AR1: ='[1]Constructon S1'!CM1 -> MTMP
C2: ='[1]Constructon S1'!C2 -> 0 | D2: ='[1]Constructon S1'!D2 -> Descartes RC 12 | F2: ='[1]Constructon S1'!I2 -> Descartes RC 14 | J2: ='[1]Constructon S1'!O2 -> Descartes RC 15 | N2: ='[1]Constructon S1'!X2 -> Descartes 211 | P2: ='[1]Constructon S1'!AD2 -> Descartes 213 | S2: ='[1]Constructon S1'!AJ2 -> Descartes 217 | U2: ='[1]Constructon S1'!AP2 -> Descartes 209 | Y2: ='[1]Constructon S1'!AV2 -> Descartes 216 | AB2: ='[1]Constructon S1'!BB2 -> Acquitaine | AD2: ='[1]Constructon S1'!BH2 -> Bourgogne | AH2: ='[1]Constructon S1'!BO2 -> E201 | AJ2: ='[1]Constructon S1'!BU2 -> E202 | AM2: ='[1]Constructon S1'!CA2 -> E203 | AO2: ='[1]Constructon S1'!CG2 -> E205 | AS2: ='[1]Constructon S1'!CM2 -> BUFFON RC13 | AV2: ='[1]Constructon S1'!CS2 -> BUFFON RC18 | AY2: ='[1]Constructon S1'!CY2 -> BUFFON 220
C3: ='[1]Constructon S1'!C3 -> N° TP | D3: =CONCATENATE('[1]Constructon S1'!D3,"/",'[1]Constructon S1'!$E$3) -> 8h30/12h30 | E3: =CONCATENATE('[1]Constructon S1'!$F$3,"/",'[1]Constructon S1'!$G$3) -> 13h30/17h30 | F3: =CONCATENATE('[1]Constructon S1'!$I$3,"/",'[1]Constructon S1'!$J$3) -> 8h30/12h30 | G3: =CONCATENATE('[1]Constructon S1'!$K$3,"/",'[1]Constructon S1'!$L$3) -> 13h30/17h30 | I3: ='[1]Constructon S1'!N3 -> N° TP | J3: =CONCATENATE('[1]Constructon S1'!$O$3,"/",'[1]Constructon S1'!$P$3) -> 9h00/12h00 | K3: =CONCATENATE('[1]Constructon S1'!$Q$3,"/",'[1]Constructon S1'!$R$3) -> 13h30/16h30 | M3: ='[1]Constructon S1'!W3 -> N° TP | N3: ='[1]Constructon S1'!X3 -> 8h30 -12h30 | O3: ='[1]Constructon S1'!Z3 -> 13H30 -17H30 | P3: ='[1]Constructon S1'!AD3 -> 8h30 -12h30 | Q3: ='[1]Constructon S1'!AF3 -> 13H30 -17H30 | R3: ='[1]Constructon S1'!AI3 -> N° TP | S3: ='[1]Constructon S1'!AJ3 -> 8h30 -12h30 | T3: ='[1]Constructon S1'!AL3 -> 13H30 -17H30 | U3: ='[1]Constructon S1'!AP3 -> 8h30 -12h30 | V3: ='[1]Constructon S1'!AR3 -> 13H30 -17H30 | X3: ='[1]Constructon S1'!AU3 -> N° TP | Y3: ='[1]Constructon S1'!AV3 -> 9h30 -12h30 | Z3: ='[1]Constructon S1'!AX3 -> 13H30 -16H30 | AA3: ='[1]Constructon S1'!BA3 -> N° TP | AB3: ='[1]Constructon S1'!BB3 -> 9h30 -12h30 | AC3: ='[1]Constructon S1'!BD3 -> 13H30 -17H30 | AD3: ='[1]Constructon S1'!BH3 -> 9h30 -12h30 | AE3: ='[1]Constructon S1'!BJ3 -> 13H30 -17H30 | AG3: ='[1]Constructon S1'!BN3 -> N° TP | AH3: ='[1]Constructon S1'!BO3 -> 9h00 -12h00 | AI3: ='[1]Constructon S1'!BQ3 -> 13H30 -16H30 | AJ3: ='[1]Constructon S1'!BU3 -> 9h00 -12h00 | AK3: ='[1]Constructon S1'!BW3 -> 13H30 -16H30 | AL3: ='[1]Constructon S1'!BZ3 -> N° TP | AM3: ='[1]Constructon S1'!CA3 -> 9h00 -12h00 | AN3: ='[1]Constructon S1'!CC3 -> 13H30 -16H30 | AO3: ='[1]Constructon S1'!CG3 -> 9h00 -12h00 | AP3: ='[1]Constructon S1'!CI3 -> 13H30 -16H30 | AR3: ='[1]Constructon S1'!CL3 -> N° TP | AS3: ='[1]Constructon S1'!CM3 -> 9h00 -12h00 | AT3: ='[1]Constructon S1'!CO3 -> 13H30 -16H30 | AU3: ='[1]Constructon S1'!CR3 -> N° TP | AV3: ='[1]Constructon S1'!CS3 -> 8h00 -11h00 | AW3: ='[1]Constructon S1'!CU3 -> 13H30 -16H30 | AX3: ='[1]Constructon S1'!CX3 -> N° TP | AY3: ='[1]Constructon S1'!CY3 -> 9h00 -12h00 | AZ3: ='[1]Constructon S1'!DA3 -> 13H30 -16H30
A4: ='[1]Constructon S1'!A4 -> 37 | B4: ='[1]Constructon S1'!B4 -> 42625 | C4: ='[1]Constructon S1'!C4 -> 0 | D4: =CONCATENATE('[1]Constructon S1'!D4," ", '[1]Constructon S1'!E4) | E4: =CONCATENATE('[1]Constructon S1'!F4," ", '[1]Constructon S1'!G4) | F4: =CONCATENATE('[1]Constructon S1'!I4," ",'[1]Constructon S1'!J4) | G4: =CONCATENATE('[1]Constructon S1'!K4," ",'[1]Constructon S1'!L4) | I4: ='[1]Constructon S1'!N4 -> 0 | J4: =CONCATENATE('[1]Constructon S1'!O4," ",'[1]Constructon S1'!P4) | K4: =CONCATENATE('[1]Constructon S1'!Q4," ",'[1]Constructon S1'!R4) | M4: ='[1]Constructon S1'!W4 -> 0 | N4: =CONCATENATE('[1]Constructon S1'!X4," ",'[1]Constructon S1'!Y4) | O4: =CONCATENATE('[1]Constructon S1'!Z4," ",'[1]Constructon S1'!AA4) | P4: =CONCATENATE('[1]Constructon S1'!AD4," ",'[1]Constructon S1'!AE4) | Q4: =CONCATENATE('[1]Constructon S1'!AF4," ",'[1]Constructon S1'!AG4) | R4: ='[1]Constructon S1'!AI4 -> 0 | S4: =CONCATENATE('[1]Constructon S1'!AJ4," ",'[1]Constructon S1'!AK4) | T4: =CONCATENATE('[1]Constructon S1'!AL4," ",'[1]Constructon S1'!AM4) | U4: =CONCATENATE('[1]Constructon S1'!AP4," ",'[1]Constructon S1'!AQ4) | V4: =CONCATENATE('[1]Constructon S1'!AR4," ",'[1]Constructon S1'!AS4) | X4: =CONCATENATE('[1]Constructon S1'!AU4) | Y4: =CONCATENATE('[1]Constructon S1'!AV4," ",'[1]Constructon S1'!AW4) | Z4: =CONCATENATE('[1]Constructon S1'!AX4," ",'[1]Constructon S1'!AY4) | AA4: =CONCATENATE('[1]Constructon S1'!BA4) | AB4: =CONCATENATE('[1]Constructon S1'!BB4," ",'[1]Constructon S1'!BC4) | AC4: =CONCATENATE('[1]Constructon S1'!BD4," ",'[1]Constructon S1'!BE4) | AD4: =CONCATENATE('[1]Constructon S1'!BH4," ",'[1]Constructon S1'!BI4) | AE4: =CONCATENATE('[1]Constructon S1'!BJ4," ",'[1]Constructon S1'!BK4) | AG4: =CONCATENATE('[1]Constructon S1'!BN4) | AH4: =CONCATENATE('[1]Constructon S1'!BO4," ",'[1]Constructon S1'!BP4) | AI4: =CONCATENATE('[1]Constructon S1'!BQ4," ",'[1]Constructon S1'!BR4) | AJ4: =CONCATENATE('[1]Constructon S1'!BU4," ",'[1]Constructon S1'!BV4) | AK4: =CONCATENATE('[1]Constructon S1'!BW4," ",'[1]Constructon S1'!BX4) | AL4: =CONCATENATE('[1]Constructon S1'!BZ4) | AM4: =CONCATENATE('[1]Constructon S1'!CA4," ",'[1]Constructon S1'!CB4) | AN4: =CONCATENATE('[1]Constructon S1'!CC4," ",'[1]Constructon S1'!CD4) | AO4: =CONCATENATE('[1]Constructon S1'!CG4," ",'[1]Constructon S1'!CH4) | AP4: =CONCATENATE('[1]Constructon S1'!CI4," ",'[1]Constructon S1'!CJ4) | AR4: =CONCATENATE('[1]Constructon S1'!CL4) | AS4: =CONCATENATE('[1]Constructon S1'!CM4," ",'[1]Constructon S1'!CN4) | AT4: =CONCATENATE('[1]Constructon S1'!CO4," ",'[1]Constructon S1'!CP4) | AU4: =CONCATENATE('[1]Constructon S1'!CR4) | AV4: =CONCATENATE('[1]Constructon S1'!CS4," ",'[1]Constructon S1'!CT4) | AW4: =CONCATENATE('[1]Constructon S1'!CU4," ",'[1]Constructon S1'!CV4) | AX4: =CONCATENATE('[1]Constructon S1'!CX4) | AY4: =CONCATENATE('[1]Constructon S1'!CY4," ",'[1]Constructon S1'!CZ4) | AZ4: =CONCATENATE('[1]Constructon S1'!DA4," ",'[1]Constructon S1'!DB4)
A5: ='[1]Constructon S1'!A5 -> 37 | B5: ='[1]Constructon S1'!B5 -> 42626 | C5: ='[1]Constructon S1'!C5 -> 0 | D5: =CONCATENATE('[1]Constructon S1'!D5," ", '[1]Constructon S1'!E5) | E5: =CONCATENATE('[1]Constructon S1'!F5," ", '[1]Constructon S1'!G5) | F5: =CONCATENATE('[1]Constructon S1'!I5," ",'[1]Constructon S1'!J5) | G5: =CONCATENATE('[1]Constructon S1'!K5," ",'[1]Constructon S1'!L5) | I5: ='[1]Constructon S1'!N5 -> 0 | J5: =CONCATENATE('[1]Constructon S1'!O5," ",'[1]Constructon S1'!P5) | K5: =CONCATENATE('[1]Constructon S1'!Q5," ",'[1]Constructon S1'!R5) | M5: ='[1]Constructon S1'!W5 -> 0 | N5: =CONCATENATE('[1]Constructon S1'!X5," ",'[1]Constructon S1'!Y5) | O5: =CONCATENATE('[1]Constructon S1'!Z5," ",'[1]Constructon S1'!AA5) | P5: =CONCATENATE('[1]Constructon S1'!AD5," ",'[1]Constructon S1'!AE5) | Q5: =CONCATENATE('[1]Constructon S1'!AF5," ",'[1]Constructon S1'!AG5) | R5: ='[1]Constructon S1'!AI5 -> 0 | S5: =CONCATENATE('[1]Constructon S1'!AJ5," ",'[1]Constructon S1'!AK5) | T5: =CONCATENATE('[1]Constructon S1'!AL5," ",'[1]Constructon S1'!AM5) | U5: =CONCATENATE('[1]Constructon S1'!AP5," ",'[1]Constructon S1'!AQ5) | V5: =CONCATENATE('[1]Constructon S1'!AR5," ",'[1]Constructon S1'!AS5) | X5: =CONCATENATE('[1]Constructon S1'!AU5) | Y5: =CONCATENATE('[1]Constructon S1'!AV5," ",'[1]Constructon S1'!AW5) | Z5: =CONCATENATE('[1]Constructon S1'!AX5," ",'[1]Constructon S1'!AY5) | AA5: =CONCATENATE('[1]Constructon S1'!BA5) | AB5: =CONCATENATE('[1]Constructon S1'!BB5," ",'[1]Constructon S1'!BC5) | AC5: =CONCATENATE('[1]Constructon S1'!BD5," ",'[1]Constructon S1'!BE5) | AD5: =CONCATENATE('[1]Constructon S1'!BH5," ",'[1]Constructon S1'!BI5) | AE5: =CONCATENATE('[1]Constructon S1'!BJ5," ",'[1]Constructon S1'!BK5) | AG5: =CONCATENATE('[1]Constructon S1'!BN5) | AH5: =CONCATENATE('[1]Constructon S1'!BO5," ",'[1]Constructon S1'!BP5) | AI5: =CONCATENATE('[1]Constructon S1'!BQ5," ",'[1]Constructon S1'!BR5) | AJ5: =CONCATENATE('[1]Constructon S1'!BU5," ",'[1]Constructon S1'!BV5) | AK5: =CONCATENATE('[1]Constructon S1'!BW5," ",'[1]Constructon S1'!BX5) | AL5: =CONCATENATE('[1]Constructon S1'!BZ5) | AM5: =CONCATENATE('[1]Constructon S1'!CA5," ",'[1]Constructon S1'!CB5) | AN5: =CONCATENATE('[1]Constructon S1'!CC5," ",'[1]Constructon S1'!CD5) | AO5: =CONCATENATE('[1]Constructon S1'!CG5," ",'[1]Constructon S1'!CH5) | AP5: =CONCATENATE('[1]Constructon S1'!CI5," ",'[1]Constructon S1'!CJ5) | AR5: =CONCATENATE('[1]Constructon S1'!CL5) | AS5: =CONCATENATE('[1]Constructon S1'!CM5," ",'[1]Constructon S1'!CN5) | AT5: =CONCATENATE('[1]Constructon S1'!CO5," ",'[1]Constructon S1'!CP5) | AU5: =CONCATENATE('[1]Constructon S1'!CR5) | AV5: =CONCATENATE('[1]Constructon S1'!CS5," ",'[1]Constructon S1'!CT5) | AW5: =CONCATENATE('[1]Constructon S1'!CU5," ",'[1]Constructon S1'!CV5) | AX5: =CONCATENATE('[1]Constructon S1'!CX5) | AY5: =CONCATENATE('[1]Constructon S1'!CY5," ",'[1]Constructon S1'!CZ5) | AZ5: =CONCATENATE('[1]Constructon S1'!DA5," ",'[1]Constructon S1'!DB5)
A6: ='[1]Constructon S1'!A6 -> 37 | B6: ='[1]Constructon S1'!B6 -> 42627 | C6: ='[1]Constructon S1'!C6 -> 0 | D6: =CONCATENATE('[1]Constructon S1'!D6," ", '[1]Constructon S1'!E6) | E6: =CONCATENATE('[1]Constructon S1'!F6," ", '[1]Constructon S1'!G6) | F6: =CONCATENATE('[1]Constructon S1'!I6," ",'[1]Constructon S1'!J6) | G6: =CONCATENATE('[1]Constructon S1'!K6," ",'[1]Constructon S1'!L6) | I6: ='[1]Constructon S1'!N6 -> 0 | J6: =CONCATENATE('[1]Constructon S1'!O6," ",'[1]Constructon S1'!P6) | K6: =CONCATENATE('[1]Constructon S1'!Q6," ",'[1]Constructon S1'!R6) | M6: ='[1]Constructon S1'!W6 -> 0 | N6: =CONCATENATE('[1]Constructon S1'!X6," ",'[1]Constructon S1'!Y6) | O6: =CONCATENATE('[1]Constructon S1'!Z6," ",'[1]Constructon S1'!AA6) | P6: =CONCATENATE('[1]Constructon S1'!AD6," ",'[1]Constructon S1'!AE6) | Q6: =CONCATENATE('[1]Constructon S1'!AF6," ",'[1]Constructon S1'!AG6) | R6: ='[1]Constructon S1'!AI6 -> 0 | S6: =CONCATENATE('[1]Constructon S1'!AJ6," ",'[1]Constructon S1'!AK6) | T6: =CONCATENATE('[1]Constructon S1'!AL6," ",'[1]Constructon S1'!AM6) | U6: =CONCATENATE('[1]Constructon S1'!AP6," ",'[1]Constructon S1'!AQ6) | V6: =CONCATENATE('[1]Constructon S1'!AR6," ",'[1]Constructon S1'!AS6) | X6: =CONCATENATE('[1]Constructon S1'!AU6) | Y6: =CONCATENATE('[1]Constructon S1'!AV6," ",'[1]Constructon S1'!AW6) | Z6: =CONCATENATE('[1]Constructon S1'!AX6," ",'[1]Constructon S1'!AY6) | AA6: =CONCATENATE('[1]Constructon S1'!BA6) | AB6: =CONCATENATE('[1]Constructon S1'!BB6," ",'[1]Constructon S1'!BC6) | AC6: =CONCATENATE('[1]Constructon S1'!BD6," ",'[1]Constructon S1'!BE6) | AD6: =CONCATENATE('[1]Constructon S1'!BH6," ",'[1]Constructon S1'!BI6) | AE6: =CONCATENATE('[1]Constructon S1'!BJ6," ",'[1]Constructon S1'!BK6) | AG6: =CONCATENATE('[1]Constructon S1'!BN6) | AH6: =CONCATENATE('[1]Constructon S1'!BO6," ",'[1]Constructon S1'!BP6) | AI6: =CONCATENATE('[1]Constructon S1'!BQ6," ",'[1]Constructon S1'!BR6) | AJ6: =CONCATENATE('[1]Constructon S1'!BU6," ",'[1]Constructon S1'!BV6) | AK6: =CONCATENATE('[1]Constructon S1'!BW6," ",'[1]Constructon S1'!BX6) | AL6: =CONCATENATE('[1]Constructon S1'!BZ6) | AM6: =CONCATENATE('[1]Constructon S1'!CA6," ",'[1]Constructon S1'!CB6) | AN6: =CONCATENATE('[1]Constructon S1'!CC6," ",'[1]Constructon S1'!CD6) | AO6: =CONCATENATE('[1]Constructon S1'!CG6," ",'[1]Constructon S1'!CH6) | AP6: =CONCATENATE('[1]Constructon S1'!CI6," ",'[1]Constructon S1'!CJ6) | AR6: =CONCATENATE('[1]Constructon S1'!CL6) | AS6: =CONCATENATE('[1]Constructon S1'!CM6," ",'[1]Constructon S1'!CN6) | AT6: =CONCATENATE('[1]Constructon S1'!CO6," ",'[1]Constructon S1'!CP6) | AU6: =CONCATENATE('[1]Constructon S1'!CR6) | AV6: =CONCATENATE('[1]Constructon S1'!CS6," ",'[1]Constructon S1'!CT6) | AW6: =CONCATENATE('[1]Constructon S1'!CU6," ",'[1]Constructon S1'!CV6) | AX6: =CONCATENATE('[1]Constructon S1'!CX6) | AY6: =CONCATENATE('[1]Constructon S1'!CY6," ",'[1]Constructon S1'!CZ6) | AZ6: =CONCATENATE('[1]Constructon S1'!DA6," ",'[1]Constructon S1'!DB6)
A7: ='[1]Constructon S1'!A7 -> 37 | B7: ='[1]Constructon S1'!B7 -> 42628 | C7: ='[1]Constructon S1'!C7 -> 0 | D7: =CONCATENATE('[1]Constructon S1'!D7," ", '[1]Constructon S1'!E7) | E7: =CONCATENATE('[1]Constructon S1'!F7," ", '[1]Constructon S1'!G7) | F7: =CONCATENATE('[1]Constructon S1'!I7," ",'[1]Constructon S1'!J7) | G7: =CONCATENATE('[1]Constructon S1'!K7," ",'[1]Constructon S1'!L7) | I7: ='[1]Constructon S1'!N7 -> 0 | J7: =CONCATENATE('[1]Constructon S1'!O7," ",'[1]Constructon S1'!P7) | K7: =CONCATENATE('[1]Constructon S1'!Q7," ",'[1]Constructon S1'!R7) | M7: ='[1]Constructon S1'!W7 -> 0 | N7: =CONCATENATE('[1]Constructon S1'!X7," ",'[1]Constructon S1'!Y7) | O7: =CONCATENATE('[1]Constructon S1'!Z7," ",'[1]Constructon S1'!AA7) | P7: =CONCATENATE('[1]Constructon S1'!AD7," ",'[1]Constructon S1'!AE7) | Q7: =CONCATENATE('[1]Constructon S1'!AF7," ",'[1]Constructon S1'!AG7) | R7: ='[1]Constructon S1'!AI7 -> 0 | S7: =CONCATENATE('[1]Constructon S1'!AJ7," ",'[1]Constructon S1'!AK7) | T7: =CONCATENATE('[1]Constructon S1'!AL7," ",'[1]Constructon S1'!AM7) | U7: =CONCATENATE('[1]Constructon S1'!AP7," ",'[1]Constructon S1'!AQ7) | V7: =CONCATENATE('[1]Constructon S1'!AR7," ",'[1]Constructon S1'!AS7) | X7: =CONCATENATE('[1]Constructon S1'!AU7) | Y7: =CONCATENATE('[1]Constructon S1'!AV7," ",'[1]Constructon S1'!AW7) | Z7: =CONCATENATE('[1]Constructon S1'!AX7," ",'[1]Constructon S1'!AY7) | AA7: =CONCATENATE('[1]Constructon S1'!BA7) | AB7: =CONCATENATE('[1]Constructon S1'!BB7," ",'[1]Constructon S1'!BC7) | AC7: =CONCATENATE('[1]Constructon S1'!BD7," ",'[1]Constructon S1'!BE7) | AD7: =CONCATENATE('[1]Constructon S1'!BH7," ",'[1]Constructon S1'!BI7) | AE7: =CONCATENATE('[1]Constructon S1'!BJ7," ",'[1]Constructon S1'!BK7) | AG7: =CONCATENATE('[1]Constructon S1'!BN7) | AH7: =CONCATENATE('[1]Constructon S1'!BO7," ",'[1]Constructon S1'!BP7) | AI7: =CONCATENATE('[1]Constructon S1'!BQ7," ",'[1]Constructon S1'!BR7) | AJ7: =CONCATENATE('[1]Constructon S1'!BU7," ",'[1]Constructon S1'!BV7) | AK7: =CONCATENATE('[1]Constructon S1'!BW7," ",'[1]Constructon S1'!BX7) | AL7: =CONCATENATE('[1]Constructon S1'!BZ7) | AM7: =CONCATENATE('[1]Constructon S1'!CA7," ",'[1]Constructon S1'!CB7) | AN7: =CONCATENATE('[1]Constructon S1'!CC7," ",'[1]Constructon S1'!CD7) | AO7: =CONCATENATE('[1]Constructon S1'!CG7," ",'[1]Constructon S1'!CH7) | AP7: =CONCATENATE('[1]Constructon S1'!CI7," ",'[1]Constructon S1'!CJ7) | AR7: =CONCATENATE('[1]Constructon S1'!CL7) | AS7: =CONCATENATE('[1]Constructon S1'!CM7," ",'[1]Constructon S1'!CN7) | AT7: =CONCATENATE('[1]Constructon S1'!CO7," ",'[1]Constructon S1'!CP7) | AU7: =CONCATENATE('[1]Constructon S1'!CR7) | AV7: =CONCATENATE('[1]Constructon S1'!CS7," ",'[1]Constructon S1'!CT7) | AW7: =CONCATENATE('[1]Constructon S1'!CU7," ",'[1]Constructon S1'!CV7) | AX7: =CONCATENATE('[1]Constructon S1'!CX7) | AY7: =CONCATENATE('[1]Constructon S1'!CY7," ",'[1]Constructon S1'!CZ7) | AZ7: =CONCATENATE('[1]Constructon S1'!DA7," ",'[1]Constructon S1'!DB7)
A8: ='[1]Constructon S1'!A8 -> 37 | B8: ='[1]Constructon S1'!B8 -> 42629 | C8: ='[1]Constructon S1'!C8 -> 0 | D8: =CONCATENATE('[1]Constructon S1'!D8," ", '[1]Constructon S1'!E8) | E8: =CONCATENATE('[1]Constructon S1'!F8," ", '[1]Constructon S1'!G8) | F8: =CONCATENATE('[1]Constructon S1'!I8," ",'[1]Constructon S1'!J8) | G8: =CONCATENATE('[1]Constructon S1'!K8," ",'[1]Constructon S1'!L8) | I8: ='[1]Constructon S1'!N8 -> 0 | J8: =CONCATENATE('[1]Constructon S1'!O8," ",'[1]Constructon S1'!P8) | K8: =CONCATENATE('[1]Constructon S1'!Q8," ",'[1]Constructon S1'!R8) | M8: ='[1]Constructon S1'!W8 -> 0 | N8: =CONCATENATE('[1]Constructon S1'!X8," ",'[1]Constructon S1'!Y8) | O8: =CONCATENATE('[1]Constructon S1'!Z8," ",'[1]Constructon S1'!AA8) | P8: =CONCATENATE('[1]Constructon S1'!AD8," ",'[1]Constructon S1'!AE8) | Q8: =CONCATENATE('[1]Constructon S1'!AF8," ",'[1]Constructon S1'!AG8) | R8: ='[1]Constructon S1'!AI8 -> 0 | S8: =CONCATENATE('[1]Constructon S1'!AJ8," ",'[1]Constructon S1'!AK8) | T8: =CONCATENATE('[1]Constructon S1'!AL8," ",'[1]Constructon S1'!AM8) | U8: =CONCATENATE('[1]Constructon S1'!AP8," ",'[1]Constructon S1'!AQ8) | V8: =CONCATENATE('[1]Constructon S1'!AR8," ",'[1]Constructon S1'!AS8) | X8: =CONCATENATE('[1]Constructon S1'!AU8) | Y8: =CONCATENATE('[1]Constructon S1'!AV8," ",'[1]Constructon S1'!AW8) | Z8: =CONCATENATE('[1]Constructon S1'!AX8," ",'[1]Constructon S1'!AY8) | AA8: =CONCATENATE('[1]Constructon S1'!BA8) | AB8: =CONCATENATE('[1]Constructon S1'!BB8," ",'[1]Constructon S1'!BC8) | AC8: =CONCATENATE('[1]Constructon S1'!BD8," ",'[1]Constructon S1'!BE8) | AD8: =CONCATENATE('[1]Constructon S1'!BH8," ",'[1]Constructon S1'!BI8) | AE8: =CONCATENATE('[1]Constructon S1'!BJ8," ",'[1]Constructon S1'!BK8) | AG8: =CONCATENATE('[1]Constructon S1'!BN8) | AH8: =CONCATENATE('[1]Constructon S1'!BO8," ",'[1]Constructon S1'!BP8) | AI8: =CONCATENATE('[1]Constructon S1'!BQ8," ",'[1]Constructon S1'!BR8) | AJ8: =CONCATENATE('[1]Constructon S1'!BU8," ",'[1]Constructon S1'!BV8) | AK8: =CONCATENATE('[1]Constructon S1'!BW8," ",'[1]Constructon S1'!BX8) | AL8: =CONCATENATE('[1]Constructon S1'!BZ8) | AM8: =CONCATENATE('[1]Constructon S1'!CA8," ",'[1]Constructon S1'!CB8) | AN8: =CONCATENATE('[1]Constructon S1'!CC8," ",'[1]Constructon S1'!CD8) | AO8: =CONCATENATE('[1]Constructon S1'!CG8," ",'[1]Constructon S1'!CH8) | AP8: =CONCATENATE('[1]Constructon S1'!CI8," ",'[1]Constructon S1'!CJ8) | AR8: =CONCATENATE('[1]Constructon S1'!CL8) | AS8: =CONCATENATE('[1]Constructon S1'!CM8," ",'[1]Constructon S1'!CN8) | AT8: =CONCATENATE('[1]Constructon S1'!CO8," ",'[1]Constructon S1'!CP8) | AU8: =CONCATENATE('[1]Constructon S1'!CR8) | AV8: =CONCATENATE('[1]Constructon S1'!CS8," ",'[1]Constructon S1'!CT8) | AW8: =CONCATENATE('[1]Constructon S1'!CU8," ",'[1]Constructon S1'!CV8) | AX8: =CONCATENATE('[1]Constructon S1'!CX8) | AY8: =CONCATENATE('[1]Constructon S1'!CY8," ",'[1]Constructon S1'!CZ8) | AZ8: =CONCATENATE('[1]Constructon S1'!DA8," ",'[1]Constructon S1'!DB8)
C9: =CONCATENATE('[1]Constructon S1'!C9) | I9: =CONCATENATE('[1]Constructon S1'!N9) | M9: =CONCATENATE('[1]Constructon S1'!W9) | R9: =CONCATENATE('[1]Constructon S1'!AI9) | X9: =CONCATENATE('[1]Constructon S1'!AU9) | AA9: =CONCATENATE('[1]Constructon S1'!BA9) | AG9: =CONCATENATE('[1]Constructon S1'!BN9) | AL9: =CONCATENATE('[1]Constructon S1'!BZ9) | AR9: =CONCATENATE('[1]Constructon S1'!CL9) | AU9: =CONCATENATE('[1]Constructon S1'!CR9) | AX9: =CONCATENATE('[1]Constructon S1'!CX9)
A10: ='[1]Constructon S1'!A10 -> 38 | B10: ='[1]Constructon S1'!B10 -> 42632 | C10: =CONCATENATE('[1]Constructon S1'!C10) | D10: =CONCATENATE('[1]Constructon S1'!D10," ", '[1]Constructon S1'!E10) | E10: =CONCATENATE('[1]Constructon S1'!F10," ", '[1]Constructon S1'!G10) | F10: =CONCATENATE('[1]Constructon S1'!I10," ",'[1]Constructon S1'!J10) | G10: =CONCATENATE('[1]Constructon S1'!K10," ",'[1]Constructon S1'!L10) | I10: =CONCATENATE('[1]Constructon S1'!N10) | J10: =CONCATENATE('[1]Constructon S1'!O10," ",'[1]Constructon S1'!P10) | K10: =CONCATENATE('[1]Constructon S1'!Q10," ",'[1]Constructon S1'!R10) | M10: =CONCATENATE('[1]Constructon S1'!W10) | N10: =CONCATENATE('[1]Constructon S1'!X10," ",'[1]Constructon S1'!Y10) | O10: =CONCATENATE('[1]Constructon S1'!Z10," ",'[1]Constructon S1'!AA10) | P10: =CONCATENATE('[1]Constructon S1'!AD10," ",'[1]Constructon S1'!AE10) | Q10: =CONCATENATE('[1]Constructon S1'!AF10," ",'[1]Constructon S1'!AG10) | R10: =CONCATENATE('[1]Constructon S1'!AI10) | S10: =CONCATENATE('[1]Constructon S1'!AJ10," ",'[1]Constructon S1'!AK10) | T10: =CONCATENATE('[1]Constructon S1'!AL10," ",'[1]Constructon S1'!AM10) | U10: =CONCATENATE('[1]Constructon S1'!AP10," ",'[1]Constructon S1'!AQ10) | V10: =CONCATENATE('[1]Constructon S1'!AR10," ",'[1]Constructon S1'!AS10) | X10: =CONCATENATE('[1]Constructon S1'!AU10) | Y10: =CONCATENATE('[1]Constructon S1'!AV10," ",'[1]Constructon S1'!AW10) | Z10: =CONCATENATE('[1]Constructon S1'!AX10," ",'[1]Constructon S1'!AY10) | AA10: =CONCATENATE('[1]Constructon S1'!BA10) | AB10: =CONCATENATE('[1]Constructon S1'!BB10," ",'[1]Constructon S1'!BC10) | AC10: =CONCATENATE('[1]Constructon S1'!BD10," ",'[1]Constructon S1'!BE10) | AD10: =CONCATENATE('[1]Constructon S1'!BH10," ",'[1]Constructon S1'!BI10) | AE10: =CONCATENATE('[1]Constructon S1'!BJ10," ",'[1]Constructon S1'!BK10) | AG10: =CONCATENATE('[1]Constructon S1'!BN10) | AH10: =CONCATENATE('[1]Constructon S1'!BO10," ",'[1]Constructon S1'!BP10) | AI10: =CONCATENATE('[1]Constructon S1'!BQ10," ",'[1]Constructon S1'!BR10) | AJ10: =CONCATENATE('[1]Constructon S1'!BU10," ",'[1]Constructon S1'!BV10) | AK10: =CONCATENATE('[1]Constructon S1'!BW10," ",'[1]Constructon S1'!BX10) | AL10: =CONCATENATE('[1]Constructon S1'!BZ10) | AM10: =CONCATENATE('[1]Constructon S1'!CA10," ",'[1]Constructon S1'!CB10) | AN10: =CONCATENATE('[1]Constructon S1'!CC10," ",'[1]Constructon S1'!CD10) | AO10: =CONCATENATE('[1]Constructon S1'!CG10," ",'[1]Constructon S1'!CH10) | AP10: =CONCATENATE('[1]Constructon S1'!CI10," ",'[1]Constructon S1'!CJ10) | AR10: =CONCATENATE('[1]Constructon S1'!CL10) | AS10: =CONCATENATE('[1]Constructon S1'!CM10," ",'[1]Constructon S1'!CN10) | AT10: =CONCATENATE('[1]Constructon S1'!CO10," ",'[1]Constructon S1'!CP10) | AU10: =CONCATENATE('[1]Constructon S1'!CR10) | AV10: =CONCATENATE('[1]Constructon S1'!CS10," ",'[1]Constructon S1'!CT10) | AW10: =CONCATENATE('[1]Constructon S1'!CU10," ",'[1]Constructon S1'!CV10) | AX10: =CONCATENATE('[1]Constructon S1'!CX10) | AY10: =CONCATENATE('[1]Constructon S1'!CY10," ",'[1]Constructon S1'!CZ10) | AZ10: =CONCATENATE('[1]Constructon S1'!DA10," ",'[1]Constructon S1'!DB10)
A11: ='[1]Constructon S1'!A11 -> 38 | B11: ='[1]Constructon S1'!B11 -> 42633 | C11: =CONCATENATE('[1]Constructon S1'!C11) | D11: =CONCATENATE('[1]Constructon S1'!D11," ", '[1]Constructon S1'!E11) | E11: =CONCATENATE('[1]Constructon S1'!F11," ", '[1]Constructon S1'!G11) | F11: =CONCATENATE('[1]Constructon S1'!I11," ",'[1]Constructon S1'!J11) | G11: =CONCATENATE('[1]Constructon S1'!K11," ",'[1]Constructon S1'!L11) | I11: =CONCATENATE('[1]Constructon S1'!N11) | J11: =CONCATENATE('[1]Constructon S1'!O11," ",'[1]Constructon S1'!P11) | K11: =CONCATENATE('[1]Constructon S1'!Q11," ",'[1]Constructon S1'!R11) | M11: =CONCATENATE('[1]Constructon S1'!W11) | N11: =CONCATENATE('[1]Constructon S1'!X11," ",'[1]Constructon S1'!Y11) | O11: =CONCATENATE('[1]Constructon S1'!Z11," ",'[1]Constructon S1'!AA11) | P11: =CONCATENATE('[1]Constructon S1'!AD11," ",'[1]Constructon S1'!AE11) | Q11: =CONCATENATE('[1]Constructon S1'!AF11," ",'[1]Constructon S1'!AG11) | R11: =CONCATENATE('[1]Constructon S1'!AI11) -> AC Nucléique | S11: =CONCATENATE('[1]Constructon S1'!AJ11," ",'[1]Constructon S1'!AK11) -> CB2 K | T11: =CONCATENATE('[1]Constructon S1'!AL11," ",'[1]Constructon S1'!AM11) -> CB2 L | U11: =CONCATENATE('[1]Constructon S1'!AP11," ",'[1]Constructon S1'!AQ11) -> CB2 M | V11: =CONCATENATE('[1]Constructon S1'!AR11," ",'[1]Constructon S1'!AS11) -> CB2 N | X11: =CONCATENATE('[1]Constructon S1'!AU11) -> MT Initiation | Y11: =CONCATENATE('[1]Constructon S1'!AV11," ",'[1]Constructon S1'!AW11) | Z11: =CONCATENATE('[1]Constructon S1'!AX11," ",'[1]Constructon S1'!AY11) | AA11: =CONCATENATE('[1]Constructon S1'!BA11) | AB11: =CONCATENATE('[1]Constructon S1'!BB11," ",'[1]Constructon S1'!BC11) | AC11: =CONCATENATE('[1]Constructon S1'!BD11," ",'[1]Constructon S1'!BE11) | AD11: =CONCATENATE('[1]Constructon S1'!BH11," ",'[1]Constructon S1'!BI11) | AE11: =CONCATENATE('[1]Constructon S1'!BJ11," ",'[1]Constructon S1'!BK11) | AG11: =CONCATENATE('[1]Constructon S1'!BN11) | AH11: =CONCATENATE('[1]Constructon S1'!BO11," ",'[1]Constructon S1'!BP11) | AI11: =CONCATENATE('[1]Constructon S1'!BQ11," ",'[1]Constructon S1'!BR11) | AJ11: =CONCATENATE('[1]Constructon S1'!BU11," ",'[1]Constructon S1'!BV11) | AK11: =CONCATENATE('[1]Constructon S1'!BW11," ",'[1]Constructon S1'!BX11) | AL11: =CONCATENATE('[1]Constructon S1'!BZ11) | AM11: =CONCATENATE('[1]Constructon S1'!CA11," ",'[1]Constructon S1'!CB11) | AN11: =CONCATENATE('[1]Constructon S1'!CC11," ",'[1]Constructon S1'!CD11) | AO11: =CONCATENATE('[1]Constructon S1'!CG11," ",'[1]Constructon S1'!CH11) | AP11: =CONCATENATE('[1]Constructon S1'!CI11," ",'[1]Constructon S1'!CJ11) | AR11: =CONCATENATE('[1]Constructon S1'!CL11) | AS11: =CONCATENATE('[1]Constructon S1'!CM11," ",'[1]Constructon S1'!CN11) | AT11: =CONCATENATE('[1]Constructon S1'!CO11," ",'[1]Constructon S1'!CP11) | AU11: =CONCATENATE('[1]Constructon S1'!CR11) | AV11: =CONCATENATE('[1]Constructon S1'!CS11," ",'[1]Constructon S1'!CT11) | AW11: =CONCATENATE('[1]Constructon S1'!CU11," ",'[1]Constructon S1'!CV11) | AX11: =CONCATENATE('[1]Constructon S1'!CX11) | AY11: =CONCATENATE('[1]Constructon S1'!CY11," ",'[1]Constructon S1'!CZ11) | AZ11: =CONCATENATE('[1]Constructon S1'!DA11," ",'[1]Constructon S1'!DB11)
A12: ='[1]Constructon S1'!A12 -> 38 | B12: ='[1]Constructon S1'!B12 -> 42634 | C12: =CONCATENATE('[1]Constructon S1'!C12) | D12: =CONCATENATE('[1]Constructon S1'!D12," ", '[1]Constructon S1'!E12) | E12: =CONCATENATE('[1]Constructon S1'!F12," ", '[1]Constructon S1'!G12) | F12: =CONCATENATE('[1]Constructon S1'!I12," ",'[1]Constructon S1'!J12) | G12: =CONCATENATE('[1]Constructon S1'!K12," ",'[1]Constructon S1'!L12) | I12: =CONCATENATE('[1]Constructon S1'!N12) | J12: =CONCATENATE('[1]Constructon S1'!O12," ",'[1]Constructon S1'!P12) | K12: =CONCATENATE('[1]Constructon S1'!Q12," ",'[1]Constructon S1'!R12) | M12: =CONCATENATE('[1]Constructon S1'!W12) | N12: =CONCATENATE('[1]Constructon S1'!X12," ",'[1]Constructon S1'!Y12) | O12: =CONCATENATE('[1]Constructon S1'!Z12," ",'[1]Constructon S1'!AA12) | P12: =CONCATENATE('[1]Constructon S1'!AD12," ",'[1]Constructon S1'!AE12) | Q12: =CONCATENATE('[1]Constructon S1'!AF12," ",'[1]Constructon S1'!AG12) | R12: =CONCATENATE('[1]Constructon S1'!AI12) -> AC Nucléique | S12: =CONCATENATE('[1]Constructon S1'!AJ12," ",'[1]Constructon S1'!AK12) -> CB1 I | T12: =CONCATENATE('[1]Constructon S1'!AL12," ",'[1]Constructon S1'!AM12) -> CB1 J | U12: =CONCATENATE('[1]Constructon S1'!AP12," ",'[1]Constructon S1'!AQ12) | V12: =CONCATENATE('[1]Constructon S1'!AR12," ",'[1]Constructon S1'!AS12) | X12: =CONCATENATE('[1]Constructon S1'!AU12) -> MT Initiation | Y12: =CONCATENATE('[1]Constructon S1'!AV12," ",'[1]Constructon S1'!AW12) -> CB1 B | Z12: =CONCATENATE('[1]Constructon S1'!AX12," ",'[1]Constructon S1'!AY12) -> CB1 I | AA12: =CONCATENATE('[1]Constructon S1'!BA12) | AB12: =CONCATENATE('[1]Constructon S1'!BB12," ",'[1]Constructon S1'!BC12) | AC12: =CONCATENATE('[1]Constructon S1'!BD12," ",'[1]Constructon S1'!BE12) | AD12: =CONCATENATE('[1]Constructon S1'!BH12," ",'[1]Constructon S1'!BI12) | AE12: =CONCATENATE('[1]Constructon S1'!BJ12," ",'[1]Constructon S1'!BK12) | AG12: =CONCATENATE('[1]Constructon S1'!BN12) | AH12: =CONCATENATE('[1]Constructon S1'!BO12," ",'[1]Constructon S1'!BP12) | AI12: =CONCATENATE('[1]Constructon S1'!BQ12," ",'[1]Constructon S1'!BR12) | AJ12: =CONCATENATE('[1]Constructon S1'!BU12," ",'[1]Constructon S1'!BV12) | AK12: =CONCATENATE('[1]Constructon S1'!BW12," ",'[1]Constructon S1'!BX12) | AL12: =CONCATENATE('[1]Constructon S1'!BZ12) | AM12: =CONCATENATE('[1]Constructon S1'!CA12," ",'[1]Constructon S1'!CB12) | AN12: =CONCATENATE('[1]Constructon S1'!CC12," ",'[1]Constructon S1'!CD12) | AO12: =CONCATENATE('[1]Constructon S1'!CG12," ",'[1]Constructon S1'!CH12) | AP12: =CONCATENATE('[1]Constructon S1'!CI12," ",'[1]Constructon S1'!CJ12) | AR12: =CONCATENATE('[1]Constructon S1'!CL12) | AS12: =CONCATENATE('[1]Constructon S1'!CM12," ",'[1]Constructon S1'!CN12) | AT12: =CONCATENATE('[1]Constructon S1'!CO12," ",'[1]Constructon S1'!CP12) | AU12: =CONCATENATE('[1]Constructon S1'!CR12) | AV12: =CONCATENATE('[1]Constructon S1'!CS12," ",'[1]Constructon S1'!CT12) | AW12: =CONCATENATE('[1]Constructon S1'!CU12," ",'[1]Constructon S1'!CV12) | AX12: =CONCATENATE('[1]Constructon S1'!CX12) | AY12: =CONCATENATE('[1]Constructon S1'!CY12," ",'[1]Constructon S1'!CZ12) | AZ12: =CONCATENATE('[1]Constructon S1'!DA12," ",'[1]Constructon S1'!DB12)
A13: ='[1]Constructon S1'!A13 -> 38 | B13: ='[1]Constructon S1'!B13 -> 42635 | C13: =CONCATENATE('[1]Constructon S1'!C13) | D13: =CONCATENATE('[1]Constructon S1'!D13," ", '[1]Constructon S1'!E13) | E13: =CONCATENATE('[1]Constructon S1'!F13," ", '[1]Constructon S1'!G13) | F13: =CONCATENATE('[1]Constructon S1'!I13," ",'[1]Constructon S1'!J13) | G13: =CONCATENATE('[1]Constructon S1'!K13," ",'[1]Constructon S1'!L13) | I13: =CONCATENATE('[1]Constructon S1'!N13) | J13: =CONCATENATE('[1]Constructon S1'!O13," ",'[1]Constructon S1'!P13) | K13: =CONCATENATE('[1]Constructon S1'!Q13," ",'[1]Constructon S1'!R13) | M13: =CONCATENATE('[1]Constructon S1'!W13) | N13: =CONCATENATE('[1]Constructon S1'!X13," ",'[1]Constructon S1'!Y13) | O13: =CONCATENATE('[1]Constructon S1'!Z13," ",'[1]Constructon S1'!AA13) | P13: =CONCATENATE('[1]Constructon S1'!AD13," ",'[1]Constructon S1'!AE13) | Q13: =CONCATENATE('[1]Constructon S1'!AF13," ",'[1]Constructon S1'!AG13) | R13: =CONCATENATE('[1]Constructon S1'!AI13) | S13: =CONCATENATE('[1]Constructon S1'!AJ13," ",'[1]Constructon S1'!AK13) -> CB2 O | T13: =CONCATENATE('[1]Constructon S1'!AL13," ",'[1]Constructon S1'!AM13) | U13: =CONCATENATE('[1]Constructon S1'!AP13," ",'[1]Constructon S1'!AQ13) -> CB2 P | V13: =CONCATENATE('[1]Constructon S1'!AR13," ",'[1]Constructon S1'!AS13) | X13: =CONCATENATE('[1]Constructon S1'!AU13) -> MT Initiation | Y13: =CONCATENATE('[1]Constructon S1'!AV13," ",'[1]Constructon S1'!AW13) | Z13: =CONCATENATE('[1]Constructon S1'!AX13," ",'[1]Constructon S1'!AY13) | AA13: =CONCATENATE('[1]Constructon S1'!BA13) | AB13: =CONCATENATE('[1]Constructon S1'!BB13," ",'[1]Constructon S1'!BC13) | AC13: =CONCATENATE('[1]Constructon S1'!BD13," ",'[1]Constructon S1'!BE13) | AD13: =CONCATENATE('[1]Constructon S1'!BH13," ",'[1]Constructon S1'!BI13) | AE13: =CONCATENATE('[1]Constructon S1'!BJ13," ",'[1]Constructon S1'!BK13) | AG13: =CONCATENATE('[1]Constructon S1'!BN13) | AH13: =CONCATENATE('[1]Constructon S1'!BO13," ",'[1]Constructon S1'!BP13) | AI13: =CONCATENATE('[1]Constructon S1'!BQ13," ",'[1]Constructon S1'!BR13) | AJ13: =CONCATENATE('[1]Constructon S1'!BU13," ",'[1]Constructon S1'!BV13) | AK13: =CONCATENATE('[1]Constructon S1'!BW13," ",'[1]Constructon S1'!BX13) | AL13: =CONCATENATE('[1]Constructon S1'!BZ13) | AM13: =CONCATENATE('[1]Constructon S1'!CA13," ",'[1]Constructon S1'!CB13) | AN13: =CONCATENATE('[1]Constructon S1'!CC13," ",'[1]Constructon S1'!CD13) | AO13: =CONCATENATE('[1]Constructon S1'!CG13," ",'[1]Constructon S1'!CH13) | AP13: =CONCATENATE('[1]Constructon S1'!CI13," ",'[1]Constructon S1'!CJ13) | AR13: =CONCATENATE('[1]Constructon S1'!CL13) | AS13: =CONCATENATE('[1]Constructon S1'!CM13," ",'[1]Constructon S1'!CN13) | AT13: =CONCATENATE('[1]Constructon S1'!CO13," ",'[1]Constructon S1'!CP13) | AU13: =CONCATENATE('[1]Constructon S1'!CR13) | AV13: =CONCATENATE('[1]Constructon S1'!CS13," ",'[1]Constructon S1'!CT13) | AW13: =CONCATENATE('[1]Constructon S1'!CU13," ",'[1]Constructon S1'!CV13) | AX13: =CONCATENATE('[1]Constructon S1'!CX13) | AY13: =CONCATENATE('[1]Constructon S1'!CY13," ",'[1]Constructon S1'!CZ13) | AZ13: =CONCATENATE('[1]Constructon S1'!DA13," ",'[1]Constructon S1'!DB13)
A14: ='[1]Constructon S1'!A14 -> 38 | B14: ='[1]Constructon S1'!B14 -> 42636 | C14: =CONCATENATE('[1]Constructon S1'!C14) | D14: =CONCATENATE('[1]Constructon S1'!D14," ", '[1]Constructon S1'!E14) | E14: =CONCATENATE('[1]Constructon S1'!F14," ", '[1]Constructon S1'!G14) | F14: =CONCATENATE('[1]Constructon S1'!I14," ",'[1]Constructon S1'!J14) | G14: =CONCATENATE('[1]Constructon S1'!K14," ",'[1]Constructon S1'!L14) | I14: =CONCATENATE('[1]Constructon S1'!N14) | J14: =CONCATENATE('[1]Constructon S1'!O14," ",'[1]Constructon S1'!P14) | K14: =CONCATENATE('[1]Constructon S1'!Q14," ",'[1]Constructon S1'!R14) | M14: =CONCATENATE('[1]Constructon S1'!W14) | N14: =CONCATENATE('[1]Constructon S1'!X14," ",'[1]Constructon S1'!Y14) | O14: =CONCATENATE('[1]Constructon S1'!Z14," ",'[1]Constructon S1'!AA14) | P14: =CONCATENATE('[1]Constructon S1'!AD14," ",'[1]Constructon S1'!AE14) | Q14: =CONCATENATE('[1]Constructon S1'!AF14," ",'[1]Constructon S1'!AG14) | R14: =CONCATENATE('[1]Constructon S1'!AI14) -> AC Nucléique | S14: =CONCATENATE('[1]Constructon S1'!AJ14," ",'[1]Constructon S1'!AK14) -> BI A | T14: =CONCATENATE('[1]Constructon S1'!AL14," ",'[1]Constructon S1'!AM14) -> BI B | U14: =CONCATENATE('[1]Constructon S1'!AP14," ",'[1]Constructon S1'!AQ14) -> BI C | V14: =CONCATENATE('[1]Constructon S1'!AR14," ",'[1]Constructon S1'!AS14) -> BI D | X14: =CONCATENATE('[1]Constructon S1'!AU14) -> MT Initiation | Y14: =CONCATENATE('[1]Constructon S1'!AV14," ",'[1]Constructon S1'!AW14) -> BI H | Z14: =CONCATENATE('[1]Constructon S1'!AX14," ",'[1]Constructon S1'!AY14) -> BI G | AA14: =CONCATENATE('[1]Constructon S1'!BA14) | AB14: =CONCATENATE('[1]Constructon S1'!BB14," ",'[1]Constructon S1'!BC14) | AC14: =CONCATENATE('[1]Constructon S1'!BD14," ",'[1]Constructon S1'!BE14) | AD14: =CONCATENATE('[1]Constructon S1'!BH14," ",'[1]Constructon S1'!BI14) | AE14: =CONCATENATE('[1]Constructon S1'!BJ14," ",'[1]Constructon S1'!BK14) | AG14: =CONCATENATE('[1]Constructon S1'!BN14) | AH14: =CONCATENATE('[1]Constructon S1'!BO14," ",'[1]Constructon S1'!BP14) | AI14: =CONCATENATE('[1]Constructon S1'!BQ14," ",'[1]Constructon S1'!BR14) | AJ14: =CONCATENATE('[1]Constructon S1'!BU14," ",'[1]Constructon S1'!BV14) | AK14: =CONCATENATE('[1]Constructon S1'!BW14," ",'[1]Constructon S1'!BX14) | AL14: =CONCATENATE('[1]Constructon S1'!BZ14) | AM14: =CONCATENATE('[1]Constructon S1'!CA14," ",'[1]Constructon S1'!CB14) | AN14: =CONCATENATE('[1]Constructon S1'!CC14," ",'[1]Constructon S1'!CD14) | AO14: =CONCATENATE('[1]Constructon S1'!CG14," ",'[1]Constructon S1'!CH14) | AP14: =CONCATENATE('[1]Constructon S1'!CI14," ",'[1]Constructon S1'!CJ14) | AR14: =CONCATENATE('[1]Constructon S1'!CL14) | AS14: =CONCATENATE('[1]Constructon S1'!CM14," ",'[1]Constructon S1'!CN14) | AT14: =CONCATENATE('[1]Constructon S1'!CO14," ",'[1]Constructon S1'!CP14) | AU14: =CONCATENATE('[1]Constructon S1'!CR14) | AV14: =CONCATENATE('[1]Constructon S1'!CS14," ",'[1]Constructon S1'!CT14) | AW14: =CONCATENATE('[1]Constructon S1'!CU14," ",'[1]Constructon S1'!CV14) | AX14: =CONCATENATE('[1]Constructon S1'!CX14) | AY14: =CONCATENATE('[1]Constructon S1'!CY14," ",'[1]Constructon S1'!CZ14) | AZ14: =CONCATENATE('[1]Constructon S1'!DA14," ",'[1]Constructon S1'!DB14)
C15: =CONCATENATE('[1]Constructon S1'!C15) | I15: =CONCATENATE('[1]Constructon S1'!N15) | M15: =CONCATENATE('[1]Constructon S1'!W15) | R15: =CONCATENATE('[1]Constructon S1'!AI15) | X15: =CONCATENATE('[1]Constructon S1'!AU15) | AA15: =CONCATENATE('[1]Constructon S1'!BA15) | AG15: =CONCATENATE('[1]Constructon S1'!BN15) | AL15: =CONCATENATE('[1]Constructon S1'!BZ15) | AR15: =CONCATENATE('[1]Constructon S1'!CL15) | AU15: =CONCATENATE('[1]Constructon S1'!CR15) | AX15: =CONCATENATE('[1]Constructon S1'!CX15)
A16: ='[1]Constructon S1'!A16 -> 39 | B16: ='[1]Constructon S1'!B16 -> 42639 | C16: =CONCATENATE('[1]Constructon S1'!C16) | D16: =CONCATENATE('[1]Constructon S1'!D16," ", '[1]Constructon S1'!E16) | E16: =CONCATENATE('[1]Constructon S1'!F16," ", '[1]Constructon S1'!G16) | F16: =CONCATENATE('[1]Constructon S1'!I16," ",'[1]Constructon S1'!J16) | G16: =CONCATENATE('[1]Constructon S1'!K16," ",'[1]Constructon S1'!L16) | I16: =CONCATENATE('[1]Constructon S1'!N16) | J16: =CONCATENATE('[1]Constructon S1'!O16," ",'[1]Constructon S1'!P16) | K16: =CONCATENATE('[1]Constructon S1'!Q16," ",'[1]Constructon S1'!R16) | M16: =CONCATENATE('[1]Constructon S1'!W16) | N16: =CONCATENATE('[1]Constructon S1'!X16," ",'[1]Constructon S1'!Y16) | O16: =CONCATENATE('[1]Constructon S1'!Z16," ",'[1]Constructon S1'!AA16) | P16: =CONCATENATE('[1]Constructon S1'!AD16," ",'[1]Constructon S1'!AE16) | Q16: =CONCATENATE('[1]Constructon S1'!AF16," ",'[1]Constructon S1'!AG16) | R16: =CONCATENATE('[1]Constructon S1'!AI16) | S16: =CONCATENATE('[1]Constructon S1'!AJ16," ",'[1]Constructon S1'!AK16) | T16: =CONCATENATE('[1]Constructon S1'!AL16," ",'[1]Constructon S1'!AM16) | U16: =CONCATENATE('[1]Constructon S1'!AP16," ",'[1]Constructon S1'!AQ16) | V16: =CONCATENATE('[1]Constructon S1'!AR16," ",'[1]Constructon S1'!AS16) | X16: =CONCATENATE('[1]Constructon S1'!AU16) | Y16: =CONCATENATE('[1]Constructon S1'!AV16," ",'[1]Constructon S1'!AW16) | Z16: =CONCATENATE('[1]Constructon S1'!AX16," ",'[1]Constructon S1'!AY16) | AA16: =CONCATENATE('[1]Constructon S1'!BA16) | AB16: =CONCATENATE('[1]Constructon S1'!BB16," ",'[1]Constructon S1'!BC16) | AC16: =CONCATENATE('[1]Constructon S1'!BD16," ",'[1]Constructon S1'!BE16) | AD16: =CONCATENATE('[1]Constructon S1'!BH16," ",'[1]Constructon S1'!BI16) | AE16: =CONCATENATE('[1]Constructon S1'!BJ16," ",'[1]Constructon S1'!BK16) | AG16: =CONCATENATE('[1]Constructon S1'!BN16) | AH16: =CONCATENATE('[1]Constructon S1'!BO16," ",'[1]Constructon S1'!BP16) | AI16: =CONCATENATE('[1]Constructon S1'!BQ16," ",'[1]Constructon S1'!BR16) | AJ16: =CONCATENATE('[1]Constructon S1'!BU16," ",'[1]Constructon S1'!BV16) | AK16: =CONCATENATE('[1]Constructon S1'!BW16," ",'[1]Constructon S1'!BX16) | AL16: =CONCATENATE('[1]Constructon S1'!BZ16) | AM16: =CONCATENATE('[1]Constructon S1'!CA16," ",'[1]Constructon S1'!CB16) | AN16: =CONCATENATE('[1]Constructon S1'!CC16," ",'[1]Constructon S1'!CD16) | AO16: =CONCATENATE('[1]Constructon S1'!CG16," ",'[1]Constructon S1'!CH16) | AP16: =CONCATENATE('[1]Constructon S1'!CI16," ",'[1]Constructon S1'!CJ16) | AR16: =CONCATENATE('[1]Constructon S1'!CL16) -> Balistique | AS16: =CONCATENATE('[1]Constructon S1'!CM16," ",'[1]Constructon S1'!CN16) -> MPCI1 A | AT16: =CONCATENATE('[1]Constructon S1'!CO16," ",'[1]Constructon S1'!CP16) -> MPCI1 B | AU16: =CONCATENATE('[1]Constructon S1'!CR16) -> force | AV16: =CONCATENATE('[1]Constructon S1'!CS16," ",'[1]Constructon S1'!CT16) -> MPCI1 C | AW16: =CONCATENATE('[1]Constructon S1'!CU16," ",'[1]Constructon S1'!CV16) | AX16: =CONCATENATE('[1]Constructon S1'!CX16) -> Opt ondu | AY16: =CONCATENATE('[1]Constructon S1'!CY16," ",'[1]Constructon S1'!CZ16) -> MPCI1 E | AZ16: =CONCATENATE('[1]Constructon S1'!DA16," ",'[1]Constructon S1'!DB16) -> MPCI1 F
A17: ='[1]Constructon S1'!A17 -> 39 | B17: ='[1]Constructon S1'!B17 -> 42640 | C17: =CONCATENATE('[1]Constructon S1'!C17) | D17: =CONCATENATE('[1]Constructon S1'!D17," ", '[1]Constructon S1'!E17) | E17: =CONCATENATE('[1]Constructon S1'!F17," ", '[1]Constructon S1'!G17) | F17: =CONCATENATE('[1]Constructon S1'!I17," ",'[1]Constructon S1'!J17) | G17: =CONCATENATE('[1]Constructon S1'!K17," ",'[1]Constructon S1'!L17) | I17: =CONCATENATE('[1]Constructon S1'!N17) | J17: =CONCATENATE('[1]Constructon S1'!O17," ",'[1]Constructon S1'!P17) | K17: =CONCATENATE('[1]Constructon S1'!Q17," ",'[1]Constructon S1'!R17) | M17: =CONCATENATE('[1]Constructon S1'!W17) | N17: =CONCATENATE('[1]Constructon S1'!X17," ",'[1]Constructon S1'!Y17) | O17: =CONCATENATE('[1]Constructon S1'!Z17," ",'[1]Constructon S1'!AA17) | P17: =CONCATENATE('[1]Constructon S1'!AD17," ",'[1]Constructon S1'!AE17) | Q17: =CONCATENATE('[1]Constructon S1'!AF17," ",'[1]Constructon S1'!AG17) | R17: =CONCATENATE('[1]Constructon S1'!AI17) -> AC Nucléique | S17: =CONCATENATE('[1]Constructon S1'!AJ17," ",'[1]Constructon S1'!AK17) -> CB2 Q | T17: =CONCATENATE('[1]Constructon S1'!AL17," ",'[1]Constructon S1'!AM17) -> CB2 R | U17: =CONCATENATE('[1]Constructon S1'!AP17," ",'[1]Constructon S1'!AQ17) -> CB2 S | V17: =CONCATENATE('[1]Constructon S1'!AR17," ",'[1]Constructon S1'!AS17) -> CB2 T | X17: =CONCATENATE('[1]Constructon S1'!AU17) -> MT Initiation | Y17: =CONCATENATE('[1]Constructon S1'!AV17," ",'[1]Constructon S1'!AW17) -> CB2 P | Z17: =CONCATENATE('[1]Constructon S1'!AX17," ",'[1]Constructon S1'!AY17) -> CB2 O | AA17: =CONCATENATE('[1]Constructon S1'!BA17) | AB17: =CONCATENATE('[1]Constructon S1'!BB17," ",'[1]Constructon S1'!BC17) | AC17: =CONCATENATE('[1]Constructon S1'!BD17," ",'[1]Constructon S1'!BE17) | AD17: =CONCATENATE('[1]Constructon S1'!BH17," ",'[1]Constructon S1'!BI17) | AE17: =CONCATENATE('[1]Constructon S1'!BJ17," ",'[1]Constructon S1'!BK17) | AG17: =CONCATENATE('[1]Constructon S1'!BN17) -> Elec 1 | AH17: =CONCATENATE('[1]Constructon S1'!BO17," ",'[1]Constructon S1'!BP17) -> CB2 K | AI17: =CONCATENATE('[1]Constructon S1'!BQ17," ",'[1]Constructon S1'!BR17) -> CB2 L | AJ17: =CONCATENATE('[1]Constructon S1'!BU17," ",'[1]Constructon S1'!BV17) -> CB2 M | AK17: =CONCATENATE('[1]Constructon S1'!BW17," ",'[1]Constructon S1'!BX17) -> CB2 N | AL17: =CONCATENATE('[1]Constructon S1'!BZ17) | AM17: =CONCATENATE('[1]Constructon S1'!CA17," ",'[1]Constructon S1'!CB17) | AN17: =CONCATENATE('[1]Constructon S1'!CC17," ",'[1]Constructon S1'!CD17) | AO17: =CONCATENATE('[1]Constructon S1'!CG17," ",'[1]Constructon S1'!CH17) | AP17: =CONCATENATE('[1]Constructon S1'!CI17," ",'[1]Constructon S1'!CJ17) | AR17: =CONCATENATE('[1]Constructon S1'!CL17) -> Balistique | AS17: =CONCATENATE('[1]Constructon S1'!CM17," ",'[1]Constructon S1'!CN17) -> MPCI1 C | AT17: =CONCATENATE('[1]Constructon S1'!CO17," ",'[1]Constructon S1'!CP17) | AU17: =CONCATENATE('[1]Constructon S1'!CR17) -> force | AV17: =CONCATENATE('[1]Constructon S1'!CS17," ",'[1]Constructon S1'!CT17) -> MPCI1 H | AW17: =CONCATENATE('[1]Constructon S1'!CU17," ",'[1]Constructon S1'!CV17) | AX17: =CONCATENATE('[1]Constructon S1'!CX17) -> Opt ondu | AY17: =CONCATENATE('[1]Constructon S1'!CY17," ",'[1]Constructon S1'!CZ17) -> MPCI1 B | AZ17: =CONCATENATE('[1]Constructon S1'!DA17," ",'[1]Constructon S1'!DB17)
A18: ='[1]Constructon S1'!A18 -> 39 | B18: ='[1]Constructon S1'!B18 -> 42641 | C18: =CONCATENATE('[1]Constructon S1'!C18) | D18: =CONCATENATE('[1]Constructon S1'!D18," ", '[1]Constructon S1'!E18) | E18: =CONCATENATE('[1]Constructon S1'!F18," ", '[1]Constructon S1'!G18) | F18: =CONCATENATE('[1]Constructon S1'!I18," ",'[1]Constructon S1'!J18) | G18: =CONCATENATE('[1]Constructon S1'!K18," ",'[1]Constructon S1'!L18) | I18: =CONCATENATE('[1]Constructon S1'!N18) | J18: =CONCATENATE('[1]Constructon S1'!O18," ",'[1]Constructon S1'!P18) | K18: =CONCATENATE('[1]Constructon S1'!Q18," ",'[1]Constructon S1'!R18) | M18: =CONCATENATE('[1]Constructon S1'!W18) | N18: =CONCATENATE('[1]Constructon S1'!X18," ",'[1]Constructon S1'!Y18) | O18: =CONCATENATE('[1]Constructon S1'!Z18," ",'[1]Constructon S1'!AA18) | P18: =CONCATENATE('[1]Constructon S1'!AD18," ",'[1]Constructon S1'!AE18) | Q18: =CONCATENATE('[1]Constructon S1'!AF18," ",'[1]Constructon S1'!AG18) | R18: =CONCATENATE('[1]Constructon S1'!AI18) -> AC Nucléique | S18: =CONCATENATE('[1]Constructon S1'!AJ18," ",'[1]Constructon S1'!AK18) -> CB1 E | T18: =CONCATENATE('[1]Constructon S1'!AL18," ",'[1]Constructon S1'!AM18) -> CB1 F | U18: =CONCATENATE('[1]Constructon S1'!AP18," ",'[1]Constructon S1'!AQ18) | V18: =CONCATENATE('[1]Constructon S1'!AR18," ",'[1]Constructon S1'!AS18) | X18: =CONCATENATE('[1]Constructon S1'!AU18) -> MT Initiation | Y18: =CONCATENATE('[1]Constructon S1'!AV18," ",'[1]Constructon S1'!AW18) -> CB1 G | Z18: =CONCATENATE('[1]Constructon S1'!AX18," ",'[1]Constructon S1'!AY18) -> CB1 H | AA18: =CONCATENATE('[1]Constructon S1'!BA18) | AB18: =CONCATENATE('[1]Constructon S1'!BB18," ",'[1]Constructon S1'!BC18) | AC18: =CONCATENATE('[1]Constructon S1'!BD18," ",'[1]Constructon S1'!BE18) | AD18: =CONCATENATE('[1]Constructon S1'!BH18," ",'[1]Constructon S1'!BI18) | AE18: =CONCATENATE('[1]Constructon S1'!BJ18," ",'[1]Constructon S1'!BK18) | AG18: =CONCATENATE('[1]Constructon S1'!BN18) -> Elec 1 | AH18: =CONCATENATE('[1]Constructon S1'!BO18," ",'[1]Constructon S1'!BP18) -> CB1 A | AI18: =CONCATENATE('[1]Constructon S1'!BQ18," ",'[1]Constructon S1'!BR18) -> CB1 B | AJ18: =CONCATENATE('[1]Constructon S1'!BU18," ",'[1]Constructon S1'!BV18) -> CB1 C | AK18: =CONCATENATE('[1]Constructon S1'!BW18," ",'[1]Constructon S1'!BX18) -> CB1 D | AL18: =CONCATENATE('[1]Constructon S1'!BZ18) | AM18: =CONCATENATE('[1]Constructon S1'!CA18," ",'[1]Constructon S1'!CB18) | AN18: =CONCATENATE('[1]Constructon S1'!CC18," ",'[1]Constructon S1'!CD18) | AO18: =CONCATENATE('[1]Constructon S1'!CG18," ",'[1]Constructon S1'!CH18) | AP18: =CONCATENATE('[1]Constructon S1'!CI18," ",'[1]Constructon S1'!CJ18) | AR18: =CONCATENATE('[1]Constructon S1'!CL18) | AS18: =CONCATENATE('[1]Constructon S1'!CM18," ",'[1]Constructon S1'!CN18) | AT18: =CONCATENATE('[1]Constructon S1'!CO18," ",'[1]Constructon S1'!CP18) | AU18: =CONCATENATE('[1]Constructon S1'!CR18) | AV18: =CONCATENATE('[1]Constructon S1'!CS18," ",'[1]Constructon S1'!CT18) | AW18: =CONCATENATE('[1]Constructon S1'!CU18," ",'[1]Constructon S1'!CV18) | AX18: =CONCATENATE('[1]Constructon S1'!CX18) | AY18: =CONCATENATE('[1]Constructon S1'!CY18," ",'[1]Constructon S1'!CZ18) | AZ18: =CONCATENATE('[1]Constructon S1'!DA18," ",'[1]Constructon S1'!DB18)
A19: ='[1]Constructon S1'!A19 -> 39 | B19: ='[1]Constructon S1'!B19 -> 42642 | C19: =CONCATENATE('[1]Constructon S1'!C19) | D19: =CONCATENATE('[1]Constructon S1'!D19," ", '[1]Constructon S1'!E19) | E19: =CONCATENATE('[1]Constructon S1'!F19," ", '[1]Constructon S1'!G19) | F19: =CONCATENATE('[1]Constructon S1'!I19," ",'[1]Constructon S1'!J19) | G19: =CONCATENATE('[1]Constructon S1'!K19," ",'[1]Constructon S1'!L19) | I19: =CONCATENATE('[1]Constructon S1'!N19) | J19: =CONCATENATE('[1]Constructon S1'!O19," ",'[1]Constructon S1'!P19) | K19: =CONCATENATE('[1]Constructon S1'!Q19," ",'[1]Constructon S1'!R19) | M19: =CONCATENATE('[1]Constructon S1'!W19) | N19: =CONCATENATE('[1]Constructon S1'!X19," ",'[1]Constructon S1'!Y19) | O19: =CONCATENATE('[1]Constructon S1'!Z19," ",'[1]Constructon S1'!AA19) | P19: =CONCATENATE('[1]Constructon S1'!AD19," ",'[1]Constructon S1'!AE19) | Q19: =CONCATENATE('[1]Constructon S1'!AF19," ",'[1]Constructon S1'!AG19) | R19: =CONCATENATE('[1]Constructon S1'!AI19) | S19: =CONCATENATE('[1]Constructon S1'!AJ19," ",'[1]Constructon S1'!AK19) | T19: =CONCATENATE('[1]Constructon S1'!AL19," ",'[1]Constructon S1'!AM19) | U19: =CONCATENATE('[1]Constructon S1'!AP19," ",'[1]Constructon S1'!AQ19) | V19: =CONCATENATE('[1]Constructon S1'!AR19," ",'[1]Constructon S1'!AS19) | X19: =CONCATENATE('[1]Constructon S1'!AU19) -> MT Initiation | Y19: =CONCATENATE('[1]Constructon S1'!AV19," ",'[1]Constructon S1'!AW19) -> CB2 Q | Z19: =CONCATENATE('[1]Constructon S1'!AX19," ",'[1]Constructon S1'!AY19) | AA19: =CONCATENATE('[1]Constructon S1'!BA19) | AB19: =CONCATENATE('[1]Constructon S1'!BB19," ",'[1]Constructon S1'!BC19) | AC19: =CONCATENATE('[1]Constructon S1'!BD19," ",'[1]Constructon S1'!BE19) | AD19: =CONCATENATE('[1]Constructon S1'!BH19," ",'[1]Constructon S1'!BI19) | AE19: =CONCATENATE('[1]Constructon S1'!BJ19," ",'[1]Constructon S1'!BK19) | AG19: =CONCATENATE('[1]Constructon S1'!BN19) -> Elec 1 | AH19: =CONCATENATE('[1]Constructon S1'!BO19," ",'[1]Constructon S1'!BP19) -> CB2 O | AI19: =CONCATENATE('[1]Constructon S1'!BQ19," ",'[1]Constructon S1'!BR19) | AJ19: =CONCATENATE('[1]Constructon S1'!BU19," ",'[1]Constructon S1'!BV19) -> CB2 P | AK19: =CONCATENATE('[1]Constructon S1'!BW19," ",'[1]Constructon S1'!BX19) | AL19: =CONCATENATE('[1]Constructon S1'!BZ19) | AM19: =CONCATENATE('[1]Constructon S1'!CA19," ",'[1]Constructon S1'!CB19) | AN19: =CONCATENATE('[1]Constructon S1'!CC19," ",'[1]Constructon S1'!CD19) | AO19: =CONCATENATE('[1]Constructon S1'!CG19," ",'[1]Constructon S1'!CH19) | AP19: =CONCATENATE('[1]Constructon S1'!CI19," ",'[1]Constructon S1'!CJ19) | AR19: =CONCATENATE('[1]Constructon S1'!CL19) | AS19: =CONCATENATE('[1]Constructon S1'!CM19," ",'[1]Constructon S1'!CN19) | AT19: =CONCATENATE('[1]Constructon S1'!CO19," ",'[1]Constructon S1'!CP19) | AU19: =CONCATENATE('[1]Constructon S1'!CR19) | AV19: =CONCATENATE('[1]Constructon S1'!CS19," ",'[1]Constructon S1'!CT19) | AW19: =CONCATENATE('[1]Constructon S1'!CU19," ",'[1]Constructon S1'!CV19) | AX19: =CONCATENATE('[1]Constructon S1'!CX19) | AY19: =CONCATENATE('[1]Constructon S1'!CY19," ",'[1]Constructon S1'!CZ19) | AZ19: =CONCATENATE('[1]Constructon S1'!DA19," ",'[1]Constructon S1'!DB19)
A20: ='[1]Constructon S1'!A20 -> 39 | B20: ='[1]Constructon S1'!B20 -> 42643 | C20: =CONCATENATE('[1]Constructon S1'!C20) | D20: =CONCATENATE('[1]Constructon S1'!D20," ", '[1]Constructon S1'!E20) | E20: =CONCATENATE('[1]Constructon S1'!F20," ", '[1]Constructon S1'!G20) | F20: =CONCATENATE('[1]Constructon S1'!I20," ",'[1]Constructon S1'!J20) | G20: =CONCATENATE('[1]Constructon S1'!K20," ",'[1]Constructon S1'!L20) | I20: =CONCATENATE('[1]Constructon S1'!N20) | J20: =CONCATENATE('[1]Constructon S1'!O20," ",'[1]Constructon S1'!P20) | K20: =CONCATENATE('[1]Constructon S1'!Q20," ",'[1]Constructon S1'!R20) | M20: =CONCATENATE('[1]Constructon S1'!W20) | N20: =CONCATENATE('[1]Constructon S1'!X20," ",'[1]Constructon S1'!Y20) | O20: =CONCATENATE('[1]Constructon S1'!Z20," ",'[1]Constructon S1'!AA20) | P20: =CONCATENATE('[1]Constructon S1'!AD20," ",'[1]Constructon S1'!AE20) | Q20: =CONCATENATE('[1]Constructon S1'!AF20," ",'[1]Constructon S1'!AG20) | R20: =CONCATENATE('[1]Constructon S1'!AI20) -> AC Nucléique | S20: =CONCATENATE('[1]Constructon S1'!AJ20," ",'[1]Constructon S1'!AK20) -> BI E | T20: =CONCATENATE('[1]Constructon S1'!AL20," ",'[1]Constructon S1'!AM20) -> BI F | U20: =CONCATENATE('[1]Constructon S1'!AP20," ",'[1]Constructon S1'!AQ20) -> BI G | V20: =CONCATENATE('[1]Constructon S1'!AR20," ",'[1]Constructon S1'!AS20) -> BI H | X20: =CONCATENATE('[1]Constructon S1'!AU20) -> MT Initiation | Y20: =CONCATENATE('[1]Constructon S1'!AV20," ",'[1]Constructon S1'!AW20) -> BI F | Z20: =CONCATENATE('[1]Constructon S1'!AX20," ",'[1]Constructon S1'!AY20) -> BI E | AA20: =CONCATENATE('[1]Constructon S1'!BA20) | AB20: =CONCATENATE('[1]Constructon S1'!BB20," ",'[1]Constructon S1'!BC20) | AC20: =CONCATENATE('[1]Constructon S1'!BD20," ",'[1]Constructon S1'!BE20) | AD20: =CONCATENATE('[1]Constructon S1'!BH20," ",'[1]Constructon S1'!BI20) | AE20: =CONCATENATE('[1]Constructon S1'!BJ20," ",'[1]Constructon S1'!BK20) | AG20: =CONCATENATE('[1]Constructon S1'!BN20) -> Elec 1 | AH20: =CONCATENATE('[1]Constructon S1'!BO20," ",'[1]Constructon S1'!BP20) | AI20: =CONCATENATE('[1]Constructon S1'!BQ20," ",'[1]Constructon S1'!BR20) | AJ20: =CONCATENATE('[1]Constructon S1'!BU20," ",'[1]Constructon S1'!BV20) -> CB1 F | AK20: =CONCATENATE('[1]Constructon S1'!BW20," ",'[1]Constructon S1'!BX20) | AL20: =CONCATENATE('[1]Constructon S1'!BZ20) | AM20: =CONCATENATE('[1]Constructon S1'!CA20," ",'[1]Constructon S1'!CB20) | AN20: =CONCATENATE('[1]Constructon S1'!CC20," ",'[1]Constructon S1'!CD20) | AO20: =CONCATENATE('[1]Constructon S1'!CG20," ",'[1]Constructon S1'!CH20) | AP20: =CONCATENATE('[1]Constructon S1'!CI20," ",'[1]Constructon S1'!CJ20) | AR20: =CONCATENATE('[1]Constructon S1'!CL20) | AS20: =CONCATENATE('[1]Constructon S1'!CM20," ",'[1]Constructon S1'!CN20) | AT20: =CONCATENATE('[1]Constructon S1'!CO20," ",'[1]Constructon S1'!CP20) | AU20: =CONCATENATE('[1]Constructon S1'!CR20) | AV20: =CONCATENATE('[1]Constructon S1'!CS20," ",'[1]Constructon S1'!CT20) | AW20: =CONCATENATE('[1]Constructon S1'!CU20," ",'[1]Constructon S1'!CV20) | AX20: =CONCATENATE('[1]Constructon S1'!CX20) | AY20: =CONCATENATE('[1]Constructon S1'!CY20," ",'[1]Constructon S1'!CZ20) | AZ20: =CONCATENATE('[1]Constructon S1'!DA20," ",'[1]Constructon S1'!DB20)
C21: =CONCATENATE('[1]Constructon S1'!C21) | I21: =CONCATENATE('[1]Constructon S1'!N21) | M21: =CONCATENATE('[1]Constructon S1'!W21) | R21: =CONCATENATE('[1]Constructon S1'!AI21) | X21: =CONCATENATE('[1]Constructon S1'!AU21) | AA21: =CONCATENATE('[1]Constructon S1'!BA21) | AG21: =CONCATENATE('[1]Constructon S1'!BN21) | AL21: =CONCATENATE('[1]Constructon S1'!BZ21) | AR21: =CONCATENATE('[1]Constructon S1'!CL21) | AU21: =CONCATENATE('[1]Constructon S1'!CR21) | AX21: =CONCATENATE('[1]Constructon S1'!CX21)
A22: ='[1]Constructon S1'!A22 -> 40 | B22: ='[1]Constructon S1'!B22 -> 42646 | C22: =CONCATENATE('[1]Constructon S1'!C22) -> TP 1 CH100 | D22: =CONCATENATE('[1]Constructon S1'!D22," ", '[1]Constructon S1'!E22) | E22: =CONCATENATE('[1]Constructon S1'!F22," ", '[1]Constructon S1'!G22) -> MPCI1 B | F22: =CONCATENATE('[1]Constructon S1'!I22," ",'[1]Constructon S1'!J22) | G22: =CONCATENATE('[1]Constructon S1'!K22," ",'[1]Constructon S1'!L22) -> MPCI1 A | I22: =CONCATENATE('[1]Constructon S1'!N22) | J22: =CONCATENATE('[1]Constructon S1'!O22," ",'[1]Constructon S1'!P22) | K22: =CONCATENATE('[1]Constructon S1'!Q22," ",'[1]Constructon S1'!R22) | M22: =CONCATENATE('[1]Constructon S1'!W22) | N22: =CONCATENATE('[1]Constructon S1'!X22," ",'[1]Constructon S1'!Y22) | O22: =CONCATENATE('[1]Constructon S1'!Z22," ",'[1]Constructon S1'!AA22) | P22: =CONCATENATE('[1]Constructon S1'!AD22," ",'[1]Constructon S1'!AE22) | Q22: =CONCATENATE('[1]Constructon S1'!AF22," ",'[1]Constructon S1'!AG22) | R22: =CONCATENATE('[1]Constructon S1'!AI22) | S22: =CONCATENATE('[1]Constructon S1'!AJ22," ",'[1]Constructon S1'!AK22) | T22: =CONCATENATE('[1]Constructon S1'!AL22," ",'[1]Constructon S1'!AM22) | U22: =CONCATENATE('[1]Constructon S1'!AP22," ",'[1]Constructon S1'!AQ22) | V22: =CONCATENATE('[1]Constructon S1'!AR22," ",'[1]Constructon S1'!AS22) | X22: =CONCATENATE('[1]Constructon S1'!AU22) | Y22: =CONCATENATE('[1]Constructon S1'!AV22," ",'[1]Constructon S1'!AW22) | Z22: =CONCATENATE('[1]Constructon S1'!AX22," ",'[1]Constructon S1'!AY22) | AA22: =CONCATENATE('[1]Constructon S1'!BA22) | AB22: =CONCATENATE('[1]Constructon S1'!BB22," ",'[1]Constructon S1'!BC22) | AC22: =CONCATENATE('[1]Constructon S1'!BD22," ",'[1]Constructon S1'!BE22) | AD22: =CONCATENATE('[1]Constructon S1'!BH22," ",'[1]Constructon S1'!BI22) | AE22: =CONCATENATE('[1]Constructon S1'!BJ22," ",'[1]Constructon S1'!BK22) | AG22: =CONCATENATE('[1]Constructon S1'!BN22) | AH22: =CONCATENATE('[1]Constructon S1'!BO22," ",'[1]Constructon S1'!BP22) | AI22: =CONCATENATE('[1]Constructon S1'!BQ22," ",'[1]Constructon S1'!BR22) | AJ22: =CONCATENATE('[1]Constructon S1'!BU22," ",'[1]Constructon S1'!BV22) | AK22: =CONCATENATE('[1]Constructon S1'!BW22," ",'[1]Constructon S1'!BX22) | AL22: =CONCATENATE('[1]Constructon S1'!BZ22) | AM22: =CONCATENATE('[1]Constructon S1'!CA22," ",'[1]Constructon S1'!CB22) | AN22: =CONCATENATE('[1]Constructon S1'!CC22," ",'[1]Constructon S1'!CD22) | AO22: =CONCATENATE('[1]Constructon S1'!CG22," ",'[1]Constructon S1'!CH22) | AP22: =CONCATENATE('[1]Constructon S1'!CI22," ",'[1]Constructon S1'!CJ22) | AR22: =CONCATENATE('[1]Constructon S1'!CL22) -> Balistique | AS22: =CONCATENATE('[1]Constructon S1'!CM22," ",'[1]Constructon S1'!CN22) -> MPCI1 G | AT22: =CONCATENATE('[1]Constructon S1'!CO22," ",'[1]Constructon S1'!CP22) -> MPCI1 D | AU22: =CONCATENATE('[1]Constructon S1'!CR22) -> force | AV22: =CONCATENATE('[1]Constructon S1'!CS22," ",'[1]Constructon S1'!CT22) -> MPCI1 E | AW22: =CONCATENATE('[1]Constructon S1'!CU22," ",'[1]Constructon S1'!CV22) | AX22: =CONCATENATE('[1]Constructon S1'!CX22) -> Opt ondu | AY22: =CONCATENATE('[1]Constructon S1'!CY22," ",'[1]Constructon S1'!CZ22) -> MPCI1 C | AZ22: =CONCATENATE('[1]Constructon S1'!DA22," ",'[1]Constructon S1'!DB22) -> MPCI1 G
A23: ='[1]Constructon S1'!A23 -> 40 | B23: ='[1]Constructon S1'!B23 -> 42647 | C23: =CONCATENATE('[1]Constructon S1'!C23) -> TP 1 CH100 | D23: =CONCATENATE('[1]Constructon S1'!D23," ", '[1]Constructon S1'!E23) -> CB2 R | E23: =CONCATENATE('[1]Constructon S1'!F23," ", '[1]Constructon S1'!G23) -> CB2 Q | F23: =CONCATENATE('[1]Constructon S1'!I23," ",'[1]Constructon S1'!J23) -> CB2 T | G23: =CONCATENATE('[1]Constructon S1'!K23," ",'[1]Constructon S1'!L23) -> CB2 S | I23: =CONCATENATE('[1]Constructon S1'!N23) -> TP1 MT100 | J23: =CONCATENATE('[1]Constructon S1'!O23," ",'[1]Constructon S1'!P23) -> CB2 K | K23: =CONCATENATE('[1]Constructon S1'!Q23," ",'[1]Constructon S1'!R23) -> CB2 L | M23: =CONCATENATE('[1]Constructon S1'!W23) | N23: =CONCATENATE('[1]Constructon S1'!X23," ",'[1]Constructon S1'!Y23) | O23: =CONCATENATE('[1]Constructon S1'!Z23," ",'[1]Constructon S1'!AA23) | P23: =CONCATENATE('[1]Constructon S1'!AD23," ",'[1]Constructon S1'!AE23) | Q23: =CONCATENATE('[1]Constructon S1'!AF23," ",'[1]Constructon S1'!AG23) | R23: =CONCATENATE('[1]Constructon S1'!AI23) | S23: =CONCATENATE('[1]Constructon S1'!AJ23," ",'[1]Constructon S1'!AK23) | T23: =CONCATENATE('[1]Constructon S1'!AL23," ",'[1]Constructon S1'!AM23) | U23: =CONCATENATE('[1]Constructon S1'!AP23," ",'[1]Constructon S1'!AQ23) | V23: =CONCATENATE('[1]Constructon S1'!AR23," ",'[1]Constructon S1'!AS23) | X23: =CONCATENATE('[1]Constructon S1'!AU23) -> MT Initiation | Y23: =CONCATENATE('[1]Constructon S1'!AV23," ",'[1]Constructon S1'!AW23) -> CB2 N | Z23: =CONCATENATE('[1]Constructon S1'!AX23," ",'[1]Constructon S1'!AY23) -> CB2 M | AA23: =CONCATENATE('[1]Constructon S1'!BA23) | AB23: =CONCATENATE('[1]Constructon S1'!BB23," ",'[1]Constructon S1'!BC23) | AC23: =CONCATENATE('[1]Constructon S1'!BD23," ",'[1]Constructon S1'!BE23) | AD23: =CONCATENATE('[1]Constructon S1'!BH23," ",'[1]Constructon S1'!BI23) | AE23: =CONCATENATE('[1]Constructon S1'!BJ23," ",'[1]Constructon S1'!BK23) | AG23: =CONCATENATE('[1]Constructon S1'!BN23) -> Elec 1 | AH23: =CONCATENATE('[1]Constructon S1'!BO23," ",'[1]Constructon S1'!BP23) -> CB2 Q | AI23: =CONCATENATE('[1]Constructon S1'!BQ23," ",'[1]Constructon S1'!BR23) -> CB2 R | AJ23: =CONCATENATE('[1]Constructon S1'!BU23," ",'[1]Constructon S1'!BV23) -> CB2 S | AK23: =CONCATENATE('[1]Constructon S1'!BW23," ",'[1]Constructon S1'!BX23) -> CB2 T | AL23: =CONCATENATE('[1]Constructon S1'!BZ23) | AM23: =CONCATENATE('[1]Constructon S1'!CA23," ",'[1]Constructon S1'!CB23) | AN23: =CONCATENATE('[1]Constructon S1'!CC23," ",'[1]Constructon S1'!CD23) | AO23: =CONCATENATE('[1]Constructon S1'!CG23," ",'[1]Constructon S1'!CH23) | AP23: =CONCATENATE('[1]Constructon S1'!CI23," ",'[1]Constructon S1'!CJ23) | AR23: =CONCATENATE('[1]Constructon S1'!CL23) -> Balistique | AS23: =CONCATENATE('[1]Constructon S1'!CM23," ",'[1]Constructon S1'!CN23) -> MPCI1 E | AT23: =CONCATENATE('[1]Constructon S1'!CO23," ",'[1]Constructon S1'!CP23) | AU23: =CONCATENATE('[1]Constructon S1'!CR23) -> force | AV23: =CONCATENATE('[1]Constructon S1'!CS23," ",'[1]Constructon S1'!CT23) -> MPCI1 A | AW23: =CONCATENATE('[1]Constructon S1'!CU23," ",'[1]Constructon S1'!CV23) | AX23: =CONCATENATE('[1]Constructon S1'!CX23) -> Opt ondu | AY23: =CONCATENATE('[1]Constructon S1'!CY23," ",'[1]Constructon S1'!CZ23) -> MPCI1 D | AZ23: =CONCATENATE('[1]Constructon S1'!DA23," ",'[1]Constructon S1'!DB23)
