Workbook
Name T_ART_PAN: Base_Panneau!$A$1:$K$125
Name T_ART_PAN_COD: Base_Panneau!$B$1:$B$125
Name T_ART_PAN_DIS: Base_Panneau!$H$1:$H$125
Name T_ART_PAN_EPA: Base_Panneau!$G$1:$G$125
Name T_ART_PAN_KRA: Base_Panneau!$J$1:$J$125
Name T_ART_PAN_LIB: Base_Panneau!$D$1:$D$125
Name T_ART_PAN_MAT: Base_Panneau!$I$1:$I$125
Name T_ART_PAN_RTH: Base_Panneau!$A$1:$A$125

Sheet Resistance Thermique
G2: Résistance Thermique R (m².K/W)
B5: Isolant Panneau :
B6: 1. Indiquer le R mini attendu : | G6: 3
B8: 2. Indiquer le R maxi attendu : | G8: 8
B10: 3. Indiqur l'épaisseur max de mise en œuvre disponible (en mm) : | G10: 140
B12: 4. Selectionner la Matière
B14: 5. Choisir avec ou sans Kraft :
B17: Résultat :
C18: Libéllé | D18: R | E18: Epaisseur | F18: Code ACEM | G18: Dispo.
C19: {=IFERROR(INDEX(T_ART_PAN_LIB,SMALL(IF(T_ART_PAN_RTH>=Table_Panneau!$B$15,IF(T_ART_PAN_RTH<=Table_Panneau!$B$19,IF(T_ART_PAN_MAT=Table_Panneau!$D$15,IF(T_ART_PAN_KRA=Table_Panneau!$D$23,IF(T_ART_PAN_EPA<=Table_Panneau!$B$23,ROW(T_ART_PAN_RTH),""))))),ROW(1:1))),"")} -> PX KRAFT TP238 F.DENSITE 100MM 5PX 600*1350 4,05M2 | D19: {=IFERROR(INDEX(T_ART_PAN_RTH,SMALL(IF(T_ART_PAN_RTH>=Table_Panneau!$B$15,IF(T_ART_PAN_RTH<=Table_Panneau!$B$19,IF(T_ART_PAN_MAT=Table_Panneau!$D$15,IF(T_ART_PAN_KRA=Table_Panneau!$D$23,IF(T_ART_PAN_EPA<=Table_Panneau!$B$23,ROW(T_ART_PAN_RTH),""))))),ROW(1:1))),"")} -> 3.15 | E19: {=IFERROR(INDEX(T_ART_PAN_EPA,SMALL(IF(T_ART_PAN_RTH>=Table_Panneau!$B$15,IF(T_ART_PAN_RTH<=Table_Panneau!$B$19,IF(T_ART_PAN_MAT=Table_Panneau!$D$15,IF(T_ART_PAN_KRA=Table_Panneau!$D$23,IF(T_ART_PAN_EPA<=Table_Panneau!$B$23,ROW(T_ART_PAN_RTH),""))))),ROW(1:1))),"")} -> 100 | F19: {=IFERROR(INDEX(T_ART_PAN_COD,SMALL(IF(T_ART_PAN_RTH>=Table_Panneau!$B$15,IF(T_ART_PAN_RTH<=Table_Panneau!$B$19,IF(T_ART_PAN_MAT=Table_Panneau!$D$15,IF(T_ART_PAN_KRA=Table_Panneau!$D$23,IF(T_ART_PAN_EPA<=Table_Panneau!$B$23,ROW(T_ART_PAN_RTH),""))))),ROW(1:1))),"")} -> 300295 | G19: {=IFERROR(INDEX(T_ART_PAN_DIS,SMALL(IF(T_ART_PAN_RTH>=Table_Panneau!$B$15,IF(T_ART_PAN_RTH<=Table_Panneau!$B$19,IF(T_ART_PAN_MAT=Table_Panneau!$D$15,IF(T_ART_PAN_KRA=Table_Panneau!$D$23,IF(T_ART_PAN_EPA<=Table_Panneau!$B$23,ROW(T_ART_PAN_RTH),""))))),ROW(1:1))),"")} -> D
C20: {=IFERROR(INDEX(T_ART_PAN_LIB,SMALL(IF(T_ART_PAN_RTH>=Table_Panneau!$B$15,IF(T_ART_PAN_RTH<=Table_Panneau!$B$19,IF(T_ART_PAN_MAT=Table_Panneau!$D$15,IF(T_ART_PAN_KRA=Table_Panneau!$D$23,IF(T_ART_PAN_EPA<=Table_Panneau!$B$23,ROW(T_ART_PAN_RTH),""))))),ROW(2:2))),"")} -> LDV RLX KRAFT TI 212 140MM 1200*7500 9,00M2 R=3,5 | D20: {=IFERROR(INDEX(T_ART_PAN_RTH,SMALL(IF(T_ART_PAN_RTH>=Table_Panneau!$B$15,IF(T_ART_PAN_RTH<=Table_Panneau!$B$19,IF(T_ART_PAN_MAT=Table_Panneau!$D$15,IF(T_ART_PAN_KRA=Table_Panneau!$D$23,IF(T_ART_PAN_EPA<=Table_Panneau!$B$23,ROW(T_ART_PAN_RTH),""))))),ROW(2:2))),"")} -> 3.5 | E20: {=IFERROR(INDEX(T_ART_PAN_EPA,SMALL(IF(T_ART_PAN_RTH>=Table_Panneau!$B$15,IF(T_ART_PAN_RTH<=Table_Panneau!$B$19,IF(T_ART_PAN_MAT=Table_Panneau!$D$15,IF(T_ART_PAN_KRA=Table_Panneau!$D$23,IF(T_ART_PAN_EPA<=Table_Panneau!$B$23,ROW(T_ART_PAN_RTH),""))))),ROW(2:2))),"")} -> 140 | F20: {=IFERROR(INDEX(T_ART_PAN_COD,SMALL(IF(T_ART_PAN_RTH>=Table_Panneau!$B$15,IF(T_ART_PAN_RTH<=Table_Panneau!$B$19,IF(T_ART_PAN_MAT=Table_Panneau!$D$15,IF(T_ART_PAN_KRA=Table_Panneau!$D$23,IF(T_ART_PAN_EPA<=Table_Panneau!$B$23,ROW(T_ART_PAN_RTH),""))))),ROW(2:2))),"")} -> 300263 | G20: {=IFERROR(INDEX(T_ART_PAN_DIS,SMALL(IF(T_ART_PAN_RTH>=Table_Panneau!$B$15,IF(T_ART_PAN_RTH<=Table_Panneau!$B$19,IF(T_ART_PAN_MAT=Table_Panneau!$D$15,IF(T_ART_PAN_KRA=Table_Panneau!$D$23,IF(T_ART_PAN_EPA<=Table_Panneau!$B$23,ROW(T_ART_PAN_RTH),""))))),ROW(2:2))),"")} -> C
C21: {=IFERROR(INDEX(T_ART_PAN_LIB,SMALL(IF(T_ART_PAN_RTH>=Table_Panneau!$B$15,IF(T_ART_PAN_RTH<=Table_Panneau!$B$19,IF(T_ART_PAN_MAT=Table_Panneau!$D$15,IF(T_ART_PAN_KRA=Table_Panneau!$D$23,IF(T_ART_PAN_EPA<=Table_Panneau!$B$23,ROW(T_ART_PAN_RTH),""))))),ROW(3:3))),"")} -> PX KRAFT TP238 F.DENSITE 120MM 4PX 600*1350 3,24M2 | D21: {=IFERROR(INDEX(T_ART_PAN_RTH,SMALL(IF(T_ART_PAN_RTH>=Table_Panneau!$B$15,IF(T_ART_PAN_RTH<=Table_Panneau!$B$19,IF(T_ART_PAN_MAT=Table_Panneau!$D$15,IF(T_ART_PAN_KRA=Table_Panneau!$D$23,IF(T_ART_PAN_EPA<=Table_Panneau!$B$23,ROW(T_ART_PAN_RTH),""))))),ROW(3:3))),"")} -> 3.75 | E21: {=IFERROR(INDEX(T_ART_PAN_EPA,SMALL(IF(T_ART_PAN_RTH>=Table_Panneau!$B$15,IF(T_ART_PAN_RTH<=Table_Panneau!$B$19,IF(T_ART_PAN_MAT=Table_Panneau!$D$15,IF(T_ART_PAN_KRA=Table_Panneau!$D$23,IF(T_ART_PAN_EPA<=Table_Panneau!$B$23,ROW(T_ART_PAN_RTH),""))))),ROW(3:3))),"")} -> 120 | F21: {=IFERROR(INDEX(T_ART_PAN_COD,SMALL(IF(T_ART_PAN_RTH>=Table_Panneau!$B$15,IF(T_ART_PAN_RTH<=Table_Panneau!$B$19,IF(T_ART_PAN_MAT=Table_Panneau!$D$15,IF(T_ART_PAN_KRA=Table_Panneau!$D$23,IF(T_ART_PAN_EPA<=Table_Panneau!$B$23,ROW(T_ART_PAN_RTH),""))))),ROW(3:3))),"")} -> 031990 | G21: {=IFERROR(INDEX(T_ART_PAN_DIS,SMALL(IF(T_ART_PAN_RTH>=Table_Panneau!$B$15,IF(T_ART_PAN_RTH<=Table_Panneau!$B$19,IF(T_ART_PAN_MAT=Table_Panneau!$D$15,IF(T_ART_PAN_KRA=Table_Panneau!$D$23,IF(T_ART_PAN_EPA<=Table_Panneau!$B$23,ROW(T_ART_PAN_RTH),""))))),ROW(3:3))),"")} -> D
C22: {=IFERROR(INDEX(T_ART_PAN_LIB,SMALL(IF(T_ART_PAN_RTH>=Table_Panneau!$B$15,IF(T_ART_PAN_RTH<=Table_Panneau!$B$19,IF(T_ART_PAN_MAT=Table_Panneau!$D$15,IF(T_ART_PAN_KRA=Table_Panneau!$D$23,IF(T_ART_PAN_EPA<=Table_Panneau!$B$23,ROW(T_ART_PAN_RTH),""))))),ROW(4:4))),"")} -> PX KRAFT TP238 F.DENSITE 140MM 4PX 600*1350 3,24M2 | D22: {=IFERROR(INDEX(T_ART_PAN_RTH,SMALL(IF(T_ART_PAN_RTH>=Table_Panneau!$B$15,IF(T_ART_PAN_RTH<=Table_Panneau!$B$19,IF(T_ART_PAN_MAT=Table_Panneau!$D$15,IF(T_ART_PAN_KRA=Table_Panneau!$D$23,IF(T_ART_PAN_EPA<=Table_Panneau!$B$23,ROW(T_ART_PAN_RTH),""))))),ROW(4:4))),"")} -> 4.4 | E22: {=IFERROR(INDEX(T_ART_PAN_EPA,SMALL(IF(T_ART_PAN_RTH>=Table_Panneau!$B$15,IF(T_ART_PAN_RTH<=Table_Panneau!$B$19,IF(T_ART_PAN_MAT=Table_Panneau!$D$15,IF(T_ART_PAN_KRA=Table_Panneau!$D$23,IF(T_ART_PAN_EPA<=Table_Panneau!$B$23,ROW(T_ART_PAN_RTH),""))))),ROW(4:4))),"")} -> 140 | F22: {=IFERROR(INDEX(T_ART_PAN_COD,SMALL(IF(T_ART_PAN_RTH>=Table_Panneau!$B$15,IF(T_ART_PAN_RTH<=Table_Panneau!$B$19,IF(T_ART_PAN_MAT=Table_Panneau!$D$15,IF(T_ART_PAN_KRA=Table_Panneau!$D$23,IF(T_ART_PAN_EPA<=Table_Panneau!$B$23,ROW(T_ART_PAN_RTH),""))))),ROW(4:4))),"")} -> 301991 | G22: {=IFERROR(INDEX(T_ART_PAN_DIS,SMALL(IF(T_ART_PAN_RTH>=Table_Panneau!$B$15,IF(T_ART_PAN_RTH<=Table_Panneau!$B$19,IF(T_ART_PAN_MAT=Table_Panneau!$D$15,IF(T_ART_PAN_KRA=Table_Panneau!$D$23,IF(T_ART_PAN_EPA<=Table_Panneau!$B$23,ROW(T_ART_PAN_RTH),""))))),ROW(4:4))),"")} -> D
C23: {=IFERROR(INDEX(T_ART_PAN_LIB,SMALL(IF(T_ART_PAN_RTH>=Table_Panneau!$B$15,IF(T_ART_PAN_RTH<=Table_Panneau!$B$19,IF(T_ART_PAN_MAT=Table_Panneau!$D$15,IF(T_ART_PAN_KRA=Table_Panneau!$D$23,IF(T_ART_PAN_EPA<=Table_Panneau!$B$23,ROW(T_ART_PAN_RTH),""))))),ROW(5:5))),"")} | D23: {=IFERROR(INDEX(T_ART_PAN_RTH,SMALL(IF(T_ART_PAN_RTH>=Table_Panneau!$B$15,IF(T_ART_PAN_RTH<=Table_Panneau!$B$19,IF(T_ART_PAN_MAT=Table_Panneau!$D$15,IF(T_ART_PAN_KRA=Table_Panneau!$D$23,IF(T_ART_PAN_EPA<=Table_Panneau!$B$23,ROW(T_ART_PAN_RTH),""))))),ROW(5:5))),"")} | E23: {=IFERROR(INDEX(T_ART_PAN_EPA,SMALL(IF(T_ART_PAN_RTH>=Table_Panneau!$B$15,IF(T_ART_PAN_RTH<=Table_Panneau!$B$19,IF(T_ART_PAN_MAT=Table_Panneau!$D$15,IF(T_ART_PAN_KRA=Table_Panneau!$D$23,IF(T_ART_PAN_EPA<=Table_Panneau!$B$23,ROW(T_ART_PAN_RTH),""))))),ROW(5:5))),"")} | F23: {=IFERROR(INDEX(T_ART_PAN_COD,SMALL(IF(T_ART_PAN_RTH>=Table_Panneau!$B$15,IF(T_ART_PAN_RTH<=Table_Panneau!$B$19,IF(T_ART_PAN_MAT=Table_Panneau!$D$15,IF(T_ART_PAN_KRA=Table_Panneau!$D$23,IF(T_ART_PAN_EPA<=Table_Panneau!$B$23,ROW(T_ART_PAN_RTH),""))))),ROW(5:5))),"")} | G23: {=IFERROR(INDEX(T_ART_PAN_DIS,SMALL(IF(T_ART_PAN_RTH>=Table_Panneau!$B$15,IF(T_ART_PAN_RTH<=Table_Panneau!$B$19,IF(T_ART_PAN_MAT=Table_Panneau!$D$15,IF(T_ART_PAN_KRA=Table_Panneau!$D$23,IF(T_ART_PAN_EPA<=Table_Panneau!$B$23,ROW(T_ART_PAN_RTH),""))))),ROW(5:5))),"")}
C24: {=IFERROR(INDEX(T_ART_PAN_LIB,SMALL(IF(T_ART_PAN_RTH>=Table_Panneau!$B$15,IF(T_ART_PAN_RTH<=Table_Panneau!$B$19,IF(T_ART_PAN_MAT=Table_Panneau!$D$15,IF(T_ART_PAN_KRA=Table_Panneau!$D$23,IF(T_ART_PAN_EPA<=Table_Panneau!$B$23,ROW(T_ART_PAN_RTH),""))))),ROW(6:6))),"")} | D24: {=IFERROR(INDEX(T_ART_PAN_RTH,SMALL(IF(T_ART_PAN_RTH>=Table_Panneau!$B$15,IF(T_ART_PAN_RTH<=Table_Panneau!$B$19,IF(T_ART_PAN_MAT=Table_Panneau!$D$15,IF(T_ART_PAN_KRA=Table_Panneau!$D$23,IF(T_ART_PAN_EPA<=Table_Panneau!$B$23,ROW(T_ART_PAN_RTH),""))))),ROW(6:6))),"")} | E24: {=IFERROR(INDEX(T_ART_PAN_EPA,SMALL(IF(T_ART_PAN_RTH>=Table_Panneau!$B$15,IF(T_ART_PAN_RTH<=Table_Panneau!$B$19,IF(T_ART_PAN_MAT=Table_Panneau!$D$15,IF(T_ART_PAN_KRA=Table_Panneau!$D$23,IF(T_ART_PAN_EPA<=Table_Panneau!$B$23,ROW(T_ART_PAN_RTH),""))))),ROW(6:6))),"")} | F24: {=IFERROR(INDEX(T_ART_PAN_COD,SMALL(IF(T_ART_PAN_RTH>=Table_Panneau!$B$15,IF(T_ART_PAN_RTH<=Table_Panneau!$B$19,IF(T_ART_PAN_MAT=Table_Panneau!$D$15,IF(T_ART_PAN_KRA=Table_Panneau!$D$23,IF(T_ART_PAN_EPA<=Table_Panneau!$B$23,ROW(T_ART_PAN_RTH),""))))),ROW(6:6))),"")} | G24: {=IFERROR(INDEX(T_ART_PAN_DIS,SMALL(IF(T_ART_PAN_RTH>=Table_Panneau!$B$15,IF(T_ART_PAN_RTH<=Table_Panneau!$B$19,IF(T_ART_PAN_MAT=Table_Panneau!$D$15,IF(T_ART_PAN_KRA=Table_Panneau!$D$23,IF(T_ART_PAN_EPA<=Table_Panneau!$B$23,ROW(T_ART_PAN_RTH),""))))),ROW(6:6))),"")}
C25: {=IFERROR(INDEX(T_ART_PAN_LIB,SMALL(IF(T_ART_PAN_RTH>=Table_Panneau!$B$15,IF(T_ART_PAN_RTH<=Table_Panneau!$B$19,IF(T_ART_PAN_MAT=Table_Panneau!$D$15,IF(T_ART_PAN_KRA=Table_Panneau!$D$23,IF(T_ART_PAN_EPA<=Table_Panneau!$B$23,ROW(T_ART_PAN_RTH),""))))),ROW(7:7))),"")} | D25: {=IFERROR(INDEX(T_ART_PAN_RTH,SMALL(IF(T_ART_PAN_RTH>=Table_Panneau!$B$15,IF(T_ART_PAN_RTH<=Table_Panneau!$B$19,IF(T_ART_PAN_MAT=Table_Panneau!$D$15,IF(T_ART_PAN_KRA=Table_Panneau!$D$23,IF(T_ART_PAN_EPA<=Table_Panneau!$B$23,ROW(T_ART_PAN_RTH),""))))),ROW(7:7))),"")} | E25: {=IFERROR(INDEX(T_ART_PAN_EPA,SMALL(IF(T_ART_PAN_RTH>=Table_Panneau!$B$15,IF(T_ART_PAN_RTH<=Table_Panneau!$B$19,IF(T_ART_PAN_MAT=Table_Panneau!$D$15,IF(T_ART_PAN_KRA=Table_Panneau!$D$23,IF(T_ART_PAN_EPA<=Table_Panneau!$B$23,ROW(T_ART_PAN_RTH),""))))),ROW(7:7))),"")} | F25: {=IFERROR(INDEX(T_ART_PAN_COD,SMALL(IF(T_ART_PAN_RTH>=Table_Panneau!$B$15,IF(T_ART_PAN_RTH<=Table_Panneau!$B$19,IF(T_ART_PAN_MAT=Table_Panneau!$D$15,IF(T_ART_PAN_KRA=Table_Panneau!$D$23,IF(T_ART_PAN_EPA<=Table_Panneau!$B$23,ROW(T_ART_PAN_RTH),""))))),ROW(7:7))),"")} | G25: {=IFERROR(INDEX(T_ART_PAN_DIS,SMALL(IF(T_ART_PAN_RTH>=Table_Panneau!$B$15,IF(T_ART_PAN_RTH<=Table_Panneau!$B$19,IF(T_ART_PAN_MAT=Table_Panneau!$D$15,IF(T_ART_PAN_KRA=Table_Panneau!$D$23,IF(T_ART_PAN_EPA<=Table_Panneau!$B$23,ROW(T_ART_PAN_RTH),""))))),ROW(7:7))),"")}
C26: {=IFERROR(INDEX(T_ART_PAN_LIB,SMALL(IF(T_ART_PAN_RTH>=Table_Panneau!$B$15,IF(T_ART_PAN_RTH<=Table_Panneau!$B$19,IF(T_ART_PAN_MAT=Table_Panneau!$D$15,IF(T_ART_PAN_KRA=Table_Panneau!$D$23,IF(T_ART_PAN_EPA<=Table_Panneau!$B$23,ROW(T_ART_PAN_RTH),""))))),ROW(8:8))),"")} | D26: {=IFERROR(INDEX(T_ART_PAN_RTH,SMALL(IF(T_ART_PAN_RTH>=Table_Panneau!$B$15,IF(T_ART_PAN_RTH<=Table_Panneau!$B$19,IF(T_ART_PAN_MAT=Table_Panneau!$D$15,IF(T_ART_PAN_KRA=Table_Panneau!$D$23,IF(T_ART_PAN_EPA<=Table_Panneau!$B$23,ROW(T_ART_PAN_RTH),""))))),ROW(8:8))),"")} | E26: {=IFERROR(INDEX(T_ART_PAN_EPA,SMALL(IF(T_ART_PAN_RTH>=Table_Panneau!$B$15,IF(T_ART_PAN_RTH<=Table_Panneau!$B$19,IF(T_ART_PAN_MAT=Table_Panneau!$D$15,IF(T_ART_PAN_KRA=Table_Panneau!$D$23,IF(T_ART_PAN_EPA<=Table_Panneau!$B$23,ROW(T_ART_PAN_RTH),""))))),ROW(8:8))),"")} | F26: {=IFERROR(INDEX(T_ART_PAN_COD,SMALL(IF(T_ART_PAN_RTH>=Table_Panneau!$B$15,IF(T_ART_PAN_RTH<=Table_Panneau!$B$19,IF(T_ART_PAN_MAT=Table_Panneau!$D$15,IF(T_ART_PAN_KRA=Table_Panneau!$D$23,IF(T_ART_PAN_EPA<=Table_Panneau!$B$23,ROW(T_ART_PAN_RTH),""))))),ROW(8:8))),"")} | G26: {=IFERROR(INDEX(T_ART_PAN_DIS,SMALL(IF(T_ART_PAN_RTH>=Table_Panneau!$B$15,IF(T_ART_PAN_RTH<=Table_Panneau!$B$19,IF(T_ART_PAN_MAT=Table_Panneau!$D$15,IF(T_ART_PAN_KRA=Table_Panneau!$D$23,IF(T_ART_PAN_EPA<=Table_Panneau!$B$23,ROW(T_ART_PAN_RTH),""))))),ROW(8:8))),"")}
C27: {=IFERROR(INDEX(T_ART_PAN_LIB,SMALL(IF(T_ART_PAN_RTH>=Table_Panneau!$B$15,IF(T_ART_PAN_RTH<=Table_Panneau!$B$19,IF(T_ART_PAN_MAT=Table_Panneau!$D$15,IF(T_ART_PAN_KRA=Table_Panneau!$D$23,IF(T_ART_PAN_EPA<=Table_Panneau!$B$23,ROW(T_ART_PAN_RTH),""))))),ROW(9:9))),"")} | D27: {=IFERROR(INDEX(T_ART_PAN_RTH,SMALL(IF(T_ART_PAN_RTH>=Table_Panneau!$B$15,IF(T_ART_PAN_RTH<=Table_Panneau!$B$19,IF(T_ART_PAN_MAT=Table_Panneau!$D$15,IF(T_ART_PAN_KRA=Table_Panneau!$D$23,IF(T_ART_PAN_EPA<=Table_Panneau!$B$23,ROW(T_ART_PAN_RTH),""))))),ROW(9:9))),"")} | E27: {=IFERROR(INDEX(T_ART_PAN_EPA,SMALL(IF(T_ART_PAN_RTH>=Table_Panneau!$B$15,IF(T_ART_PAN_RTH<=Table_Panneau!$B$19,IF(T_ART_PAN_MAT=Table_Panneau!$D$15,IF(T_ART_PAN_KRA=Table_Panneau!$D$23,IF(T_ART_PAN_EPA<=Table_Panneau!$B$23,ROW(T_ART_PAN_RTH),""))))),ROW(9:9))),"")} | F27: {=IFERROR(INDEX(T_ART_PAN_COD,SMALL(IF(T_ART_PAN_RTH>=Table_Panneau!$B$15,IF(T_ART_PAN_RTH<=Table_Panneau!$B$19,IF(T_ART_PAN_MAT=Table_Panneau!$D$15,IF(T_ART_PAN_KRA=Table_Panneau!$D$23,IF(T_ART_PAN_EPA<=Table_Panneau!$B$23,ROW(T_ART_PAN_RTH),""))))),ROW(9:9))),"")} | G27: {=IFERROR(INDEX(T_ART_PAN_DIS,SMALL(IF(T_ART_PAN_RTH>=Table_Panneau!$B$15,IF(T_ART_PAN_RTH<=Table_Panneau!$B$19,IF(T_ART_PAN_MAT=Table_Panneau!$D$15,IF(T_ART_PAN_KRA=Table_Panneau!$D$23,IF(T_ART_PAN_EPA<=Table_Panneau!$B$23,ROW(T_ART_PAN_RTH),""))))),ROW(9:9))),"")}
C28: {=IFERROR(INDEX(T_ART_PAN_LIB,SMALL(IF(T_ART_PAN_RTH>=Table_Panneau!$B$15,IF(T_ART_PAN_RTH<=Table_Panneau!$B$19,IF(T_ART_PAN_MAT=Table_Panneau!$D$15,IF(T_ART_PAN_KRA=Table_Panneau!$D$23,IF(T_ART_PAN_EPA<=Table_Panneau!$B$23,ROW(T_ART_PAN_RTH),""))))),ROW(10:10))),"")} | D28: {=IFERROR(INDEX(T_ART_PAN_RTH,SMALL(IF(T_ART_PAN_RTH>=Table_Panneau!$B$15,IF(T_ART_PAN_RTH<=Table_Panneau!$B$19,IF(T_ART_PAN_MAT=Table_Panneau!$D$15,IF(T_ART_PAN_KRA=Table_Panneau!$D$23,IF(T_ART_PAN_EPA<=Table_Panneau!$B$23,ROW(T_ART_PAN_RTH),""))))),ROW(10:10))),"")} | E28: {=IFERROR(INDEX(T_ART_PAN_EPA,SMALL(IF(T_ART_PAN_RTH>=Table_Panneau!$B$15,IF(T_ART_PAN_RTH<=Table_Panneau!$B$19,IF(T_ART_PAN_MAT=Table_Panneau!$D$15,IF(T_ART_PAN_KRA=Table_Panneau!$D$23,IF(T_ART_PAN_EPA<=Table_Panneau!$B$23,ROW(T_ART_PAN_RTH),""))))),ROW(10:10))),"")} | F28: {=IFERROR(INDEX(T_ART_PAN_COD,SMALL(IF(T_ART_PAN_RTH>=Table_Panneau!$B$15,IF(T_ART_PAN_RTH<=Table_Panneau!$B$19,IF(T_ART_PAN_MAT=Table_Panneau!$D$15,IF(T_ART_PAN_KRA=Table_Panneau!$D$23,IF(T_ART_PAN_EPA<=Table_Panneau!$B$23,ROW(T_ART_PAN_RTH),""))))),ROW(10:10))),"")} | G28: {=IFERROR(INDEX(T_ART_PAN_DIS,SMALL(IF(T_ART_PAN_RTH>=Table_Panneau!$B$15,IF(T_ART_PAN_RTH<=Table_Panneau!$B$19,IF(T_ART_PAN_MAT=Table_Panneau!$D$15,IF(T_ART_PAN_KRA=Table_Panneau!$D$23,IF(T_ART_PAN_EPA<=Table_Panneau!$B$23,ROW(T_ART_PAN_RTH),""))))),ROW(10:10))),"")}
C29: {=IFERROR(INDEX(T_ART_PAN_LIB,SMALL(IF(T_ART_PAN_RTH>=Table_Panneau!$B$15,IF(T_ART_PAN_RTH<=Table_Panneau!$B$19,IF(T_ART_PAN_MAT=Table_Panneau!$D$15,IF(T_ART_PAN_KRA=Table_Panneau!$D$23,IF(T_ART_PAN_EPA<=Table_Panneau!$B$23,ROW(T_ART_PAN_RTH),""))))),ROW(11:11))),"")} | D29: {=IFERROR(INDEX(T_ART_PAN_RTH,SMALL(IF(T_ART_PAN_RTH>=Table_Panneau!$B$15,IF(T_ART_PAN_RTH<=Table_Panneau!$B$19,IF(T_ART_PAN_MAT=Table_Panneau!$D$15,IF(T_ART_PAN_KRA=Table_Panneau!$D$23,IF(T_ART_PAN_EPA<=Table_Panneau!$B$23,ROW(T_ART_PAN_RTH),""))))),ROW(11:11))),"")} | E29: {=IFERROR(INDEX(T_ART_PAN_EPA,SMALL(IF(T_ART_PAN_RTH>=Table_Panneau!$B$15,IF(T_ART_PAN_RTH<=Table_Panneau!$B$19,IF(T_ART_PAN_MAT=Table_Panneau!$D$15,IF(T_ART_PAN_KRA=Table_Panneau!$D$23,IF(T_ART_PAN_EPA<=Table_Panneau!$B$23,ROW(T_ART_PAN_RTH),""))))),ROW(11:11))),"")} | F29: {=IFERROR(INDEX(T_ART_PAN_COD,SMALL(IF(T_ART_PAN_RTH>=Table_Panneau!$B$15,IF(T_ART_PAN_RTH<=Table_Panneau!$B$19,IF(T_ART_PAN_MAT=Table_Panneau!$D$15,IF(T_ART_PAN_KRA=Table_Panneau!$D$23,IF(T_ART_PAN_EPA<=Table_Panneau!$B$23,ROW(T_ART_PAN_RTH),""))))),ROW(11:11))),"")} | G29: {=IFERROR(INDEX(T_ART_PAN_DIS,SMALL(IF(T_ART_PAN_RTH>=Table_Panneau!$B$15,IF(T_ART_PAN_RTH<=Table_Panneau!$B$19,IF(T_ART_PAN_MAT=Table_Panneau!$D$15,IF(T_ART_PAN_KRA=Table_Panneau!$D$23,IF(T_ART_PAN_EPA<=Table_Panneau!$B$23,ROW(T_ART_PAN_RTH),""))))),ROW(11:11))),"")}
C30: {=IFERROR(INDEX(T_ART_PAN_LIB,SMALL(IF(T_ART_PAN_RTH>=Table_Panneau!$B$15,IF(T_ART_PAN_RTH<=Table_Panneau!$B$19,IF(T_ART_PAN_MAT=Table_Panneau!$D$15,IF(T_ART_PAN_KRA=Table_Panneau!$D$23,IF(T_ART_PAN_EPA<=Table_Panneau!$B$23,ROW(T_ART_PAN_RTH),""))))),ROW(12:12))),"")} | D30: {=IFERROR(INDEX(T_ART_PAN_RTH,SMALL(IF(T_ART_PAN_RTH>=Table_Panneau!$B$15,IF(T_ART_PAN_RTH<=Table_Panneau!$B$19,IF(T_ART_PAN_MAT=Table_Panneau!$D$15,IF(T_ART_PAN_KRA=Table_Panneau!$D$23,IF(T_ART_PAN_EPA<=Table_Panneau!$B$23,ROW(T_ART_PAN_RTH),""))))),ROW(12:12))),"")} | E30: {=IFERROR(INDEX(T_ART_PAN_EPA,SMALL(IF(T_ART_PAN_RTH>=Table_Panneau!$B$15,IF(T_ART_PAN_RTH<=Table_Panneau!$B$19,IF(T_ART_PAN_MAT=Table_Panneau!$D$15,IF(T_ART_PAN_KRA=Table_Panneau!$D$23,IF(T_ART_PAN_EPA<=Table_Panneau!$B$23,ROW(T_ART_PAN_RTH),""))))),ROW(12:12))),"")} | F30: {=IFERROR(INDEX(T_ART_PAN_COD,SMALL(IF(T_ART_PAN_RTH>=Table_Panneau!$B$15,IF(T_ART_PAN_RTH<=Table_Panneau!$B$19,IF(T_ART_PAN_MAT=Table_Panneau!$D$15,IF(T_ART_PAN_KRA=Table_Panneau!$D$23,IF(T_ART_PAN_EPA<=Table_Panneau!$B$23,ROW(T_ART_PAN_RTH),""))))),ROW(12:12))),"")} | G30: {=IFERROR(INDEX(T_ART_PAN_DIS,SMALL(IF(T_ART_PAN_RTH>=Table_Panneau!$B$15,IF(T_ART_PAN_RTH<=Table_Panneau!$B$19,IF(T_ART_PAN_MAT=Table_Panneau!$D$15,IF(T_ART_PAN_KRA=Table_Panneau!$D$23,IF(T_ART_PAN_EPA<=Table_Panneau!$B$23,ROW(T_ART_PAN_RTH),""))))),ROW(12:12))),"")}
C31: {=IFERROR(INDEX(T_ART_PAN_LIB,SMALL(IF(T_ART_PAN_RTH>=Table_Panneau!$B$15,IF(T_ART_PAN_RTH<=Table_Panneau!$B$19,IF(T_ART_PAN_MAT=Table_Panneau!$D$15,IF(T_ART_PAN_KRA=Table_Panneau!$D$23,IF(T_ART_PAN_EPA<=Table_Panneau!$B$23,ROW(T_ART_PAN_RTH),""))))),ROW(13:13))),"")} | D31: {=IFERROR(INDEX(T_ART_PAN_RTH,SMALL(IF(T_ART_PAN_RTH>=Table_Panneau!$B$15,IF(T_ART_PAN_RTH<=Table_Panneau!$B$19,IF(T_ART_PAN_MAT=Table_Panneau!$D$15,IF(T_ART_PAN_KRA=Table_Panneau!$D$23,IF(T_ART_PAN_EPA<=Table_Panneau!$B$23,ROW(T_ART_PAN_RTH),""))))),ROW(13:13))),"")} | E31: {=IFERROR(INDEX(T_ART_PAN_EPA,SMALL(IF(T_ART_PAN_RTH>=Table_Panneau!$B$15,IF(T_ART_PAN_RTH<=Table_Panneau!$B$19,IF(T_ART_PAN_MAT=Table_Panneau!$D$15,IF(T_ART_PAN_KRA=Table_Panneau!$D$23,IF(T_ART_PAN_EPA<=Table_Panneau!$B$23,ROW(T_ART_PAN_RTH),""))))),ROW(13:13))),"")} | F31: {=IFERROR(INDEX(T_ART_PAN_COD,SMALL(IF(T_ART_PAN_RTH>=Table_Panneau!$B$15,IF(T_ART_PAN_RTH<=Table_Panneau!$B$19,IF(T_ART_PAN_MAT=Table_Panneau!$D$15,IF(T_ART_PAN_KRA=Table_Panneau!$D$23,IF(T_ART_PAN_EPA<=Table_Panneau!$B$23,ROW(T_ART_PAN_RTH),""))))),ROW(13:13))),"")} | G31: {=IFERROR(INDEX(T_ART_PAN_DIS,SMALL(IF(T_ART_PAN_RTH>=Table_Panneau!$B$15,IF(T_ART_PAN_RTH<=Table_Panneau!$B$19,IF(T_ART_PAN_MAT=Table_Panneau!$D$15,IF(T_ART_PAN_KRA=Table_Panneau!$D$23,IF(T_ART_PAN_EPA<=Table_Panneau!$B$23,ROW(T_ART_PAN_RTH),""))))),ROW(13:13))),"")}
C32: {=IFERROR(INDEX(T_ART_PAN_LIB,SMALL(IF(T_ART_PAN_RTH>=Table_Panneau!$B$15,IF(T_ART_PAN_RTH<=Table_Panneau!$B$19,IF(T_ART_PAN_MAT=Table_Panneau!$D$15,IF(T_ART_PAN_KRA=Table_Panneau!$D$23,IF(T_ART_PAN_EPA<=Table_Panneau!$B$23,ROW(T_ART_PAN_RTH),""))))),ROW(14:14))),"")} | D32: {=IFERROR(INDEX(T_ART_PAN_RTH,SMALL(IF(T_ART_PAN_RTH>=Table_Panneau!$B$15,IF(T_ART_PAN_RTH<=Table_Panneau!$B$19,IF(T_ART_PAN_MAT=Table_Panneau!$D$15,IF(T_ART_PAN_KRA=Table_Panneau!$D$23,IF(T_ART_PAN_EPA<=Table_Panneau!$B$23,ROW(T_ART_PAN_RTH),""))))),ROW(14:14))),"")} | E32: {=IFERROR(INDEX(T_ART_PAN_EPA,SMALL(IF(T_ART_PAN_RTH>=Table_Panneau!$B$15,IF(T_ART_PAN_RTH<=Table_Panneau!$B$19,IF(T_ART_PAN_MAT=Table_Panneau!$D$15,IF(T_ART_PAN_KRA=Table_Panneau!$D$23,IF(T_ART_PAN_EPA<=Table_Panneau!$B$23,ROW(T_ART_PAN_RTH),""))))),ROW(14:14))),"")} | F32: {=IFERROR(INDEX(T_ART_PAN_COD,SMALL(IF(T_ART_PAN_RTH>=Table_Panneau!$B$15,IF(T_ART_PAN_RTH<=Table_Panneau!$B$19,IF(T_ART_PAN_MAT=Table_Panneau!$D$15,IF(T_ART_PAN_KRA=Table_Panneau!$D$23,IF(T_ART_PAN_EPA<=Table_Panneau!$B$23,ROW(T_ART_PAN_RTH),""))))),ROW(14:14))),"")} | G32: {=IFERROR(INDEX(T_ART_PAN_DIS,SMALL(IF(T_ART_PAN_RTH>=Table_Panneau!$B$15,IF(T_ART_PAN_RTH<=Table_Panneau!$B$19,IF(T_ART_PAN_MAT=Table_Panneau!$D$15,IF(T_ART_PAN_KRA=Table_Panneau!$D$23,IF(T_ART_PAN_EPA<=Table_Panneau!$B$23,ROW(T_ART_PAN_RTH),""))))),ROW(14:14))),"")}
C33: {=IFERROR(INDEX(T_ART_PAN_LIB,SMALL(IF(T_ART_PAN_RTH>=Table_Panneau!$B$15,IF(T_ART_PAN_RTH<=Table_Panneau!$B$19,IF(T_ART_PAN_MAT=Table_Panneau!$D$15,IF(T_ART_PAN_KRA=Table_Panneau!$D$23,IF(T_ART_PAN_EPA<=Table_Panneau!$B$23,ROW(T_ART_PAN_RTH),""))))),ROW(15:15))),"")} | D33: {=IFERROR(INDEX(T_ART_PAN_RTH,SMALL(IF(T_ART_PAN_RTH>=Table_Panneau!$B$15,IF(T_ART_PAN_RTH<=Table_Panneau!$B$19,IF(T_ART_PAN_MAT=Table_Panneau!$D$15,IF(T_ART_PAN_KRA=Table_Panneau!$D$23,IF(T_ART_PAN_EPA<=Table_Panneau!$B$23,ROW(T_ART_PAN_RTH),""))))),ROW(15:15))),"")} | E33: {=IFERROR(INDEX(T_ART_PAN_EPA,SMALL(IF(T_ART_PAN_RTH>=Table_Panneau!$B$15,IF(T_ART_PAN_RTH<=Table_Panneau!$B$19,IF(T_ART_PAN_MAT=Table_Panneau!$D$15,IF(T_ART_PAN_KRA=Table_Panneau!$D$23,IF(T_ART_PAN_EPA<=Table_Panneau!$B$23,ROW(T_ART_PAN_RTH),""))))),ROW(15:15))),"")} | F33: {=IFERROR(INDEX(T_ART_PAN_COD,SMALL(IF(T_ART_PAN_RTH>=Table_Panneau!$B$15,IF(T_ART_PAN_RTH<=Table_Panneau!$B$19,IF(T_ART_PAN_MAT=Table_Panneau!$D$15,IF(T_ART_PAN_KRA=Table_Panneau!$D$23,IF(T_ART_PAN_EPA<=Table_Panneau!$B$23,ROW(T_ART_PAN_RTH),""))))),ROW(15:15))),"")} | G33: {=IFERROR(INDEX(T_ART_PAN_DIS,SMALL(IF(T_ART_PAN_RTH>=Table_Panneau!$B$15,IF(T_ART_PAN_RTH<=Table_Panneau!$B$19,IF(T_ART_PAN_MAT=Table_Panneau!$D$15,IF(T_ART_PAN_KRA=Table_Panneau!$D$23,IF(T_ART_PAN_EPA<=Table_Panneau!$B$23,ROW(T_ART_PAN_RTH),""))))),ROW(15:15))),"")}
C34: {=IFERROR(INDEX(T_ART_PAN_LIB,SMALL(IF(T_ART_PAN_RTH>=Table_Panneau!$B$15,IF(T_ART_PAN_RTH<=Table_Panneau!$B$19,IF(T_ART_PAN_MAT=Table_Panneau!$D$15,IF(T_ART_PAN_KRA=Table_Panneau!$D$23,IF(T_ART_PAN_EPA<=Table_Panneau!$B$23,ROW(T_ART_PAN_RTH),""))))),ROW(16:16))),"")} | D34: {=IFERROR(INDEX(T_ART_PAN_RTH,SMALL(IF(T_ART_PAN_RTH>=Table_Panneau!$B$15,IF(T_ART_PAN_RTH<=Table_Panneau!$B$19,IF(T_ART_PAN_MAT=Table_Panneau!$D$15,IF(T_ART_PAN_KRA=Table_Panneau!$D$23,IF(T_ART_PAN_EPA<=Table_Panneau!$B$23,ROW(T_ART_PAN_RTH),""))))),ROW(16:16))),"")} | E34: {=IFERROR(INDEX(T_ART_PAN_EPA,SMALL(IF(T_ART_PAN_RTH>=Table_Panneau!$B$15,IF(T_ART_PAN_RTH<=Table_Panneau!$B$19,IF(T_ART_PAN_MAT=Table_Panneau!$D$15,IF(T_ART_PAN_KRA=Table_Panneau!$D$23,IF(T_ART_PAN_EPA<=Table_Panneau!$B$23,ROW(T_ART_PAN_RTH),""))))),ROW(16:16))),"")} | F34: {=IFERROR(INDEX(T_ART_PAN_COD,SMALL(IF(T_ART_PAN_RTH>=Table_Panneau!$B$15,IF(T_ART_PAN_RTH<=Table_Panneau!$B$19,IF(T_ART_PAN_MAT=Table_Panneau!$D$15,IF(T_ART_PAN_KRA=Table_Panneau!$D$23,IF(T_ART_PAN_EPA<=Table_Panneau!$B$23,ROW(T_ART_PAN_RTH),""))))),ROW(16:16))),"")} | G34: {=IFERROR(INDEX(T_ART_PAN_DIS,SMALL(IF(T_ART_PAN_RTH>=Table_Panneau!$B$15,IF(T_ART_PAN_RTH<=Table_Panneau!$B$19,IF(T_ART_PAN_MAT=Table_Panneau!$D$15,IF(T_ART_PAN_KRA=Table_Panneau!$D$23,IF(T_ART_PAN_EPA<=Table_Panneau!$B$23,ROW(T_ART_PAN_RTH),""))))),ROW(16:16))),"")}
C35: {=IFERROR(INDEX(T_ART_PAN_LIB,SMALL(IF(T_ART_PAN_RTH>=Table_Panneau!$B$15,IF(T_ART_PAN_RTH<=Table_Panneau!$B$19,IF(T_ART_PAN_MAT=Table_Panneau!$D$15,IF(T_ART_PAN_KRA=Table_Panneau!$D$23,IF(T_ART_PAN_EPA<=Table_Panneau!$B$23,ROW(T_ART_PAN_RTH),""))))),ROW(17:17))),"")} | D35: {=IFERROR(INDEX(T_ART_PAN_RTH,SMALL(IF(T_ART_PAN_RTH>=Table_Panneau!$B$15,IF(T_ART_PAN_RTH<=Table_Panneau!$B$19,IF(T_ART_PAN_MAT=Table_Panneau!$D$15,IF(T_ART_PAN_KRA=Table_Panneau!$D$23,IF(T_ART_PAN_EPA<=Table_Panneau!$B$23,ROW(T_ART_PAN_RTH),""))))),ROW(17:17))),"")} | E35: {=IFERROR(INDEX(T_ART_PAN_EPA,SMALL(IF(T_ART_PAN_RTH>=Table_Panneau!$B$15,IF(T_ART_PAN_RTH<=Table_Panneau!$B$19,IF(T_ART_PAN_MAT=Table_Panneau!$D$15,IF(T_ART_PAN_KRA=Table_Panneau!$D$23,IF(T_ART_PAN_EPA<=Table_Panneau!$B$23,ROW(T_ART_PAN_RTH),""))))),ROW(17:17))),"")} | F35: {=IFERROR(INDEX(T_ART_PAN_COD,SMALL(IF(T_ART_PAN_RTH>=Table_Panneau!$B$15,IF(T_ART_PAN_RTH<=Table_Panneau!$B$19,IF(T_ART_PAN_MAT=Table_Panneau!$D$15,IF(T_ART_PAN_KRA=Table_Panneau!$D$23,IF(T_ART_PAN_EPA<=Table_Panneau!$B$23,ROW(T_ART_PAN_RTH),""))))),ROW(17:17))),"")} | G35: {=IFERROR(INDEX(T_ART_PAN_DIS,SMALL(IF(T_ART_PAN_RTH>=Table_Panneau!$B$15,IF(T_ART_PAN_RTH<=Table_Panneau!$B$19,IF(T_ART_PAN_MAT=Table_Panneau!$D$15,IF(T_ART_PAN_KRA=Table_Panneau!$D$23,IF(T_ART_PAN_EPA<=Table_Panneau!$B$23,ROW(T_ART_PAN_RTH),""))))),ROW(17:17))),"")}
C36: {=IFERROR(INDEX(T_ART_PAN_LIB,SMALL(IF(T_ART_PAN_RTH>=Table_Panneau!$B$15,IF(T_ART_PAN_RTH<=Table_Panneau!$B$19,IF(T_ART_PAN_MAT=Table_Panneau!$D$15,IF(T_ART_PAN_KRA=Table_Panneau!$D$23,IF(T_ART_PAN_EPA<=Table_Panneau!$B$23,ROW(T_ART_PAN_RTH),""))))),ROW(18:18))),"")} | D36: {=IFERROR(INDEX(T_ART_PAN_RTH,SMALL(IF(T_ART_PAN_RTH>=Table_Panneau!$B$15,IF(T_ART_PAN_RTH<=Table_Panneau!$B$19,IF(T_ART_PAN_MAT=Table_Panneau!$D$15,IF(T_ART_PAN_KRA=Table_Panneau!$D$23,IF(T_ART_PAN_EPA<=Table_Panneau!$B$23,ROW(T_ART_PAN_RTH),""))))),ROW(18:18))),"")} | E36: {=IFERROR(INDEX(T_ART_PAN_EPA,SMALL(IF(T_ART_PAN_RTH>=Table_Panneau!$B$15,IF(T_ART_PAN_RTH<=Table_Panneau!$B$19,IF(T_ART_PAN_MAT=Table_Panneau!$D$15,IF(T_ART_PAN_KRA=Table_Panneau!$D$23,IF(T_ART_PAN_EPA<=Table_Panneau!$B$23,ROW(T_ART_PAN_RTH),""))))),ROW(18:18))),"")} | F36: {=IFERROR(INDEX(T_ART_PAN_COD,SMALL(IF(T_ART_PAN_RTH>=Table_Panneau!$B$15,IF(T_ART_PAN_RTH<=Table_Panneau!$B$19,IF(T_ART_PAN_MAT=Table_Panneau!$D$15,IF(T_ART_PAN_KRA=Table_Panneau!$D$23,IF(T_ART_PAN_EPA<=Table_Panneau!$B$23,ROW(T_ART_PAN_RTH),""))))),ROW(18:18))),"")} | G36: {=IFERROR(INDEX(T_ART_PAN_DIS,SMALL(IF(T_ART_PAN_RTH>=Table_Panneau!$B$15,IF(T_ART_PAN_RTH<=Table_Panneau!$B$19,IF(T_ART_PAN_MAT=Table_Panneau!$D$15,IF(T_ART_PAN_KRA=Table_Panneau!$D$23,IF(T_ART_PAN_EPA<=Table_Panneau!$B$23,ROW(T_ART_PAN_RTH),""))))),ROW(18:18))),"")}
C37: {=IFERROR(INDEX(T_ART_PAN_LIB,SMALL(IF(T_ART_PAN_RTH>=Table_Panneau!$B$15,IF(T_ART_PAN_RTH<=Table_Panneau!$B$19,IF(T_ART_PAN_MAT=Table_Panneau!$D$15,IF(T_ART_PAN_KRA=Table_Panneau!$D$23,IF(T_ART_PAN_EPA<=Table_Panneau!$B$23,ROW(T_ART_PAN_RTH),""))))),ROW(19:19))),"")} | D37: {=IFERROR(INDEX(T_ART_PAN_RTH,SMALL(IF(T_ART_PAN_RTH>=Table_Panneau!$B$15,IF(T_ART_PAN_RTH<=Table_Panneau!$B$19,IF(T_ART_PAN_MAT=Table_Panneau!$D$15,IF(T_ART_PAN_KRA=Table_Panneau!$D$23,IF(T_ART_PAN_EPA<=Table_Panneau!$B$23,ROW(T_ART_PAN_RTH),""))))),ROW(19:19))),"")} | E37: {=IFERROR(INDEX(T_ART_PAN_EPA,SMALL(IF(T_ART_PAN_RTH>=Table_Panneau!$B$15,IF(T_ART_PAN_RTH<=Table_Panneau!$B$19,IF(T_ART_PAN_MAT=Table_Panneau!$D$15,IF(T_ART_PAN_KRA=Table_Panneau!$D$23,IF(T_ART_PAN_EPA<=Table_Panneau!$B$23,ROW(T_ART_PAN_RTH),""))))),ROW(19:19))),"")} | F37: {=IFERROR(INDEX(T_ART_PAN_COD,SMALL(IF(T_ART_PAN_RTH>=Table_Panneau!$B$15,IF(T_ART_PAN_RTH<=Table_Panneau!$B$19,IF(T_ART_PAN_MAT=Table_Panneau!$D$15,IF(T_ART_PAN_KRA=Table_Panneau!$D$23,IF(T_ART_PAN_EPA<=Table_Panneau!$B$23,ROW(T_ART_PAN_RTH),""))))),ROW(19:19))),"")} | G37: {=IFERROR(INDEX(T_ART_PAN_DIS,SMALL(IF(T_ART_PAN_RTH>=Table_Panneau!$B$15,IF(T_ART_PAN_RTH<=Table_Panneau!$B$19,IF(T_ART_PAN_MAT=Table_Panneau!$D$15,IF(T_ART_PAN_KRA=Table_Panneau!$D$23,IF(T_ART_PAN_EPA<=Table_Panneau!$B$23,ROW(T_ART_PAN_RTH),""))))),ROW(19:19))),"")}
C38: {=IFERROR(INDEX(T_ART_PAN_LIB,SMALL(IF(T_ART_PAN_RTH>=Table_Panneau!$B$15,IF(T_ART_PAN_RTH<=Table_Panneau!$B$19,IF(T_ART_PAN_MAT=Table_Panneau!$D$15,IF(T_ART_PAN_KRA=Table_Panneau!$D$23,IF(T_ART_PAN_EPA<=Table_Panneau!$B$23,ROW(T_ART_PAN_RTH),""))))),ROW(20:20))),"")} | D38: {=IFERROR(INDEX(T_ART_PAN_RTH,SMALL(IF(T_ART_PAN_RTH>=Table_Panneau!$B$15,IF(T_ART_PAN_RTH<=Table_Panneau!$B$19,IF(T_ART_PAN_MAT=Table_Panneau!$D$15,IF(T_ART_PAN_KRA=Table_Panneau!$D$23,IF(T_ART_PAN_EPA<=Table_Panneau!$B$23,ROW(T_ART_PAN_RTH),""))))),ROW(20:20))),"")} | E38: {=IFERROR(INDEX(T_ART_PAN_EPA,SMALL(IF(T_ART_PAN_RTH>=Table_Panneau!$B$15,IF(T_ART_PAN_RTH<=Table_Panneau!$B$19,IF(T_ART_PAN_MAT=Table_Panneau!$D$15,IF(T_ART_PAN_KRA=Table_Panneau!$D$23,IF(T_ART_PAN_EPA<=Table_Panneau!$B$23,ROW(T_ART_PAN_RTH),""))))),ROW(20:20))),"")} | F38: {=IFERROR(INDEX(T_ART_PAN_COD,SMALL(IF(T_ART_PAN_RTH>=Table_Panneau!$B$15,IF(T_ART_PAN_RTH<=Table_Panneau!$B$19,IF(T_ART_PAN_MAT=Table_Panneau!$D$15,IF(T_ART_PAN_KRA=Table_Panneau!$D$23,IF(T_ART_PAN_EPA<=Table_Panneau!$B$23,ROW(T_ART_PAN_RTH),""))))),ROW(20:20))),"")} | G38: {=IFERROR(INDEX(T_ART_PAN_DIS,SMALL(IF(T_ART_PAN_RTH>=Table_Panneau!$B$15,IF(T_ART_PAN_RTH<=Table_Panneau!$B$19,IF(T_ART_PAN_MAT=Table_Panneau!$D$15,IF(T_ART_PAN_KRA=Table_Panneau!$D$23,IF(T_ART_PAN_EPA<=Table_Panneau!$B$23,ROW(T_ART_PAN_RTH),""))))),ROW(20:20))),"")}
C39: {=IFERROR(INDEX(T_ART_PAN_LIB,SMALL(IF(T_ART_PAN_RTH>=Table_Panneau!$B$15,IF(T_ART_PAN_RTH<=Table_Panneau!$B$19,IF(T_ART_PAN_MAT=Table_Panneau!$D$15,IF(T_ART_PAN_KRA=Table_Panneau!$D$23,IF(T_ART_PAN_EPA<=Table_Panneau!$B$23,ROW(T_ART_PAN_RTH),""))))),ROW(21:21))),"")} | D39: {=IFERROR(INDEX(T_ART_PAN_RTH,SMALL(IF(T_ART_PAN_RTH>=Table_Panneau!$B$15,IF(T_ART_PAN_RTH<=Table_Panneau!$B$19,IF(T_ART_PAN_MAT=Table_Panneau!$D$15,IF(T_ART_PAN_KRA=Table_Panneau!$D$23,IF(T_ART_PAN_EPA<=Table_Panneau!$B$23,ROW(T_ART_PAN_RTH),""))))),ROW(21:21))),"")} | E39: {=IFERROR(INDEX(T_ART_PAN_EPA,SMALL(IF(T_ART_PAN_RTH>=Table_Panneau!$B$15,IF(T_ART_PAN_RTH<=Table_Panneau!$B$19,IF(T_ART_PAN_MAT=Table_Panneau!$D$15,IF(T_ART_PAN_KRA=Table_Panneau!$D$23,IF(T_ART_PAN_EPA<=Table_Panneau!$B$23,ROW(T_ART_PAN_RTH),""))))),ROW(21:21))),"")} | F39: {=IFERROR(INDEX(T_ART_PAN_COD,SMALL(IF(T_ART_PAN_RTH>=Table_Panneau!$B$15,IF(T_ART_PAN_RTH<=Table_Panneau!$B$19,IF(T_ART_PAN_MAT=Table_Panneau!$D$15,IF(T_ART_PAN_KRA=Table_Panneau!$D$23,IF(T_ART_PAN_EPA<=Table_Panneau!$B$23,ROW(T_ART_PAN_RTH),""))))),ROW(21:21))),"")} | G39: {=IFERROR(INDEX(T_ART_PAN_DIS,SMALL(IF(T_ART_PAN_RTH>=Table_Panneau!$B$15,IF(T_ART_PAN_RTH<=Table_Panneau!$B$19,IF(T_ART_PAN_MAT=Table_Panneau!$D$15,IF(T_ART_PAN_KRA=Table_Panneau!$D$23,IF(T_ART_PAN_EPA<=Table_Panneau!$B$23,ROW(T_ART_PAN_RTH),""))))),ROW(21:21))),"")}
C40: {=IFERROR(INDEX(T_ART_PAN_LIB,SMALL(IF(T_ART_PAN_RTH>=Table_Panneau!$B$15,IF(T_ART_PAN_RTH<=Table_Panneau!$B$19,IF(T_ART_PAN_MAT=Table_Panneau!$D$15,IF(T_ART_PAN_KRA=Table_Panneau!$D$23,IF(T_ART_PAN_EPA<=Table_Panneau!$B$23,ROW(T_ART_PAN_RTH),""))))),ROW(22:22))),"")} | D40: {=IFERROR(INDEX(T_ART_PAN_RTH,SMALL(IF(T_ART_PAN_RTH>=Table_Panneau!$B$15,IF(T_ART_PAN_RTH<=Table_Panneau!$B$19,IF(T_ART_PAN_MAT=Table_Panneau!$D$15,IF(T_ART_PAN_KRA=Table_Panneau!$D$23,IF(T_ART_PAN_EPA<=Table_Panneau!$B$23,ROW(T_ART_PAN_RTH),""))))),ROW(22:22))),"")} | E40: {=IFERROR(INDEX(T_ART_PAN_EPA,SMALL(IF(T_ART_PAN_RTH>=Table_Panneau!$B$15,IF(T_ART_PAN_RTH<=Table_Panneau!$B$19,IF(T_ART_PAN_MAT=Table_Panneau!$D$15,IF(T_ART_PAN_KRA=Table_Panneau!$D$23,IF(T_ART_PAN_EPA<=Table_Panneau!$B$23,ROW(T_ART_PAN_RTH),""))))),ROW(22:22))),"")} | F40: {=IFERROR(INDEX(T_ART_PAN_COD,SMALL(IF(T_ART_PAN_RTH>=Table_Panneau!$B$15,IF(T_ART_PAN_RTH<=Table_Panneau!$B$19,IF(T_ART_PAN_MAT=Table_Panneau!$D$15,IF(T_ART_PAN_KRA=Table_Panneau!$D$23,IF(T_ART_PAN_EPA<=Table_Panneau!$B$23,ROW(T_ART_PAN_RTH),""))))),ROW(22:22))),"")} | G40: {=IFERROR(INDEX(T_ART_PAN_DIS,SMALL(IF(T_ART_PAN_RTH>=Table_Panneau!$B$15,IF(T_ART_PAN_RTH<=Table_Panneau!$B$19,IF(T_ART_PAN_MAT=Table_Panneau!$D$15,IF(T_ART_PAN_KRA=Table_Panneau!$D$23,IF(T_ART_PAN_EPA<=Table_Panneau!$B$23,ROW(T_ART_PAN_RTH),""))))),ROW(22:22))),"")}
C41: {=IFERROR(INDEX(T_ART_PAN_LIB,SMALL(IF(T_ART_PAN_RTH>=Table_Panneau!$B$15,IF(T_ART_PAN_RTH<=Table_Panneau!$B$19,IF(T_ART_PAN_MAT=Table_Panneau!$D$15,IF(T_ART_PAN_KRA=Table_Panneau!$D$23,IF(T_ART_PAN_EPA<=Table_Panneau!$B$23,ROW(T_ART_PAN_RTH),""))))),ROW(23:23))),"")} | D41: {=IFERROR(INDEX(T_ART_PAN_RTH,SMALL(IF(T_ART_PAN_RTH>=Table_Panneau!$B$15,IF(T_ART_PAN_RTH<=Table_Panneau!$B$19,IF(T_ART_PAN_MAT=Table_Panneau!$D$15,IF(T_ART_PAN_KRA=Table_Panneau!$D$23,IF(T_ART_PAN_EPA<=Table_Panneau!$B$23,ROW(T_ART_PAN_RTH),""))))),ROW(23:23))),"")} | E41: {=IFERROR(INDEX(T_ART_PAN_EPA,SMALL(IF(T_ART_PAN_RTH>=Table_Panneau!$B$15,IF(T_ART_PAN_RTH<=Table_Panneau!$B$19,IF(T_ART_PAN_MAT=Table_Panneau!$D$15,IF(T_ART_PAN_KRA=Table_Panneau!$D$23,IF(T_ART_PAN_EPA<=Table_Panneau!$B$23,ROW(T_ART_PAN_RTH),""))))),ROW(23:23))),"")} | F41: {=IFERROR(INDEX(T_ART_PAN_COD,SMALL(IF(T_ART_PAN_RTH>=Table_Panneau!$B$15,IF(T_ART_PAN_RTH<=Table_Panneau!$B$19,IF(T_ART_PAN_MAT=Table_Panneau!$D$15,IF(T_ART_PAN_KRA=Table_Panneau!$D$23,IF(T_ART_PAN_EPA<=Table_Panneau!$B$23,ROW(T_ART_PAN_RTH),""))))),ROW(23:23))),"")} | G41: {=IFERROR(INDEX(T_ART_PAN_DIS,SMALL(IF(T_ART_PAN_RTH>=Table_Panneau!$B$15,IF(T_ART_PAN_RTH<=Table_Panneau!$B$19,IF(T_ART_PAN_MAT=Table_Panneau!$D$15,IF(T_ART_PAN_KRA=Table_Panneau!$D$23,IF(T_ART_PAN_EPA<=Table_Panneau!$B$23,ROW(T_ART_PAN_RTH),""))))),ROW(23:23))),"")}
C42: {=IFERROR(INDEX(T_ART_PAN_LIB,SMALL(IF(T_ART_PAN_RTH>=Table_Panneau!$B$15,IF(T_ART_PAN_RTH<=Table_Panneau!$B$19,IF(T_ART_PAN_MAT=Table_Panneau!$D$15,IF(T_ART_PAN_KRA=Table_Panneau!$D$23,IF(T_ART_PAN_EPA<=Table_Panneau!$B$23,ROW(T_ART_PAN_RTH),""))))),ROW(24:24))),"")} | D42: {=IFERROR(INDEX(T_ART_PAN_RTH,SMALL(IF(T_ART_PAN_RTH>=Table_Panneau!$B$15,IF(T_ART_PAN_RTH<=Table_Panneau!$B$19,IF(T_ART_PAN_MAT=Table_Panneau!$D$15,IF(T_ART_PAN_KRA=Table_Panneau!$D$23,IF(T_ART_PAN_EPA<=Table_Panneau!$B$23,ROW(T_ART_PAN_RTH),""))))),ROW(24:24))),"")} | E42: {=IFERROR(INDEX(T_ART_PAN_EPA,SMALL(IF(T_ART_PAN_RTH>=Table_Panneau!$B$15,IF(T_ART_PAN_RTH<=Table_Panneau!$B$19,IF(T_ART_PAN_MAT=Table_Panneau!$D$15,IF(T_ART_PAN_KRA=Table_Panneau!$D$23,IF(T_ART_PAN_EPA<=Table_Panneau!$B$23,ROW(T_ART_PAN_RTH),""))))),ROW(24:24))),"")} | F42: {=IFERROR(INDEX(T_ART_PAN_COD,SMALL(IF(T_ART_PAN_RTH>=Table_Panneau!$B$15,IF(T_ART_PAN_RTH<=Table_Panneau!$B$19,IF(T_ART_PAN_MAT=Table_Panneau!$D$15,IF(T_ART_PAN_KRA=Table_Panneau!$D$23,IF(T_ART_PAN_EPA<=Table_Panneau!$B$23,ROW(T_ART_PAN_RTH),""))))),ROW(24:24))),"")} | G42: {=IFERROR(INDEX(T_ART_PAN_DIS,SMALL(IF(T_ART_PAN_RTH>=Table_Panneau!$B$15,IF(T_ART_PAN_RTH<=Table_Panneau!$B$19,IF(T_ART_PAN_MAT=Table_Panneau!$D$15,IF(T_ART_PAN_KRA=Table_Panneau!$D$23,IF(T_ART_PAN_EPA<=Table_Panneau!$B$23,ROW(T_ART_PAN_RTH),""))))),ROW(24:24))),"")}
C43: {=IFERROR(INDEX(T_ART_PAN_LIB,SMALL(IF(T_ART_PAN_RTH>=Table_Panneau!$B$15,IF(T_ART_PAN_RTH<=Table_Panneau!$B$19,IF(T_ART_PAN_MAT=Table_Panneau!$D$15,IF(T_ART_PAN_KRA=Table_Panneau!$D$23,IF(T_ART_PAN_EPA<=Table_Panneau!$B$23,ROW(T_ART_PAN_RTH),""))))),ROW(25:25))),"")} | D43: {=IFERROR(INDEX(T_ART_PAN_RTH,SMALL(IF(T_ART_PAN_RTH>=Table_Panneau!$B$15,IF(T_ART_PAN_RTH<=Table_Panneau!$B$19,IF(T_ART_PAN_MAT=Table_Panneau!$D$15,IF(T_ART_PAN_KRA=Table_Panneau!$D$23,IF(T_ART_PAN_EPA<=Table_Panneau!$B$23,ROW(T_ART_PAN_RTH),""))))),ROW(25:25))),"")} | E43: {=IFERROR(INDEX(T_ART_PAN_EPA,SMALL(IF(T_ART_PAN_RTH>=Table_Panneau!$B$15,IF(T_ART_PAN_RTH<=Table_Panneau!$B$19,IF(T_ART_PAN_MAT=Table_Panneau!$D$15,IF(T_ART_PAN_KRA=Table_Panneau!$D$23,IF(T_ART_PAN_EPA<=Table_Panneau!$B$23,ROW(T_ART_PAN_RTH),""))))),ROW(25:25))),"")} | F43: {=IFERROR(INDEX(T_ART_PAN_COD,SMALL(IF(T_ART_PAN_RTH>=Table_Panneau!$B$15,IF(T_ART_PAN_RTH<=Table_Panneau!$B$19,IF(T_ART_PAN_MAT=Table_Panneau!$D$15,IF(T_ART_PAN_KRA=Table_Panneau!$D$23,IF(T_ART_PAN_EPA<=Table_Panneau!$B$23,ROW(T_ART_PAN_RTH),""))))),ROW(25:25))),"")} | G43: {=IFERROR(INDEX(T_ART_PAN_DIS,SMALL(IF(T_ART_PAN_RTH>=Table_Panneau!$B$15,IF(T_ART_PAN_RTH<=Table_Panneau!$B$19,IF(T_ART_PAN_MAT=Table_Panneau!$D$15,IF(T_ART_PAN_KRA=Table_Panneau!$D$23,IF(T_ART_PAN_EPA<=Table_Panneau!$B$23,ROW(T_ART_PAN_RTH),""))))),ROW(25:25))),"")}
C44: {=IFERROR(INDEX(T_ART_PAN_LIB,SMALL(IF(T_ART_PAN_RTH>=Table_Panneau!$B$15,IF(T_ART_PAN_RTH<=Table_Panneau!$B$19,IF(T_ART_PAN_MAT=Table_Panneau!$D$15,IF(T_ART_PAN_KRA=Table_Panneau!$D$23,IF(T_ART_PAN_EPA<=Table_Panneau!$B$23,ROW(T_ART_PAN_RTH),""))))),ROW(26:26))),"")} | D44: {=IFERROR(INDEX(T_ART_PAN_RTH,SMALL(IF(T_ART_PAN_RTH>=Table_Panneau!$B$15,IF(T_ART_PAN_RTH<=Table_Panneau!$B$19,IF(T_ART_PAN_MAT=Table_Panneau!$D$15,IF(T_ART_PAN_KRA=Table_Panneau!$D$23,IF(T_ART_PAN_EPA<=Table_Panneau!$B$23,ROW(T_ART_PAN_RTH),""))))),ROW(26:26))),"")} | E44: {=IFERROR(INDEX(T_ART_PAN_EPA,SMALL(IF(T_ART_PAN_RTH>=Table_Panneau!$B$15,IF(T_ART_PAN_RTH<=Table_Panneau!$B$19,IF(T_ART_PAN_MAT=Table_Panneau!$D$15,IF(T_ART_PAN_KRA=Table_Panneau!$D$23,IF(T_ART_PAN_EPA<=Table_Panneau!$B$23,ROW(T_ART_PAN_RTH),""))))),ROW(26:26))),"")} | F44: {=IFERROR(INDEX(T_ART_PAN_COD,SMALL(IF(T_ART_PAN_RTH>=Table_Panneau!$B$15,IF(T_ART_PAN_RTH<=Table_Panneau!$B$19,IF(T_ART_PAN_MAT=Table_Panneau!$D$15,IF(T_ART_PAN_KRA=Table_Panneau!$D$23,IF(T_ART_PAN_EPA<=Table_Panneau!$B$23,ROW(T_ART_PAN_RTH),""))))),ROW(26:26))),"")} | G44: {=IFERROR(INDEX(T_ART_PAN_DIS,SMALL(IF(T_ART_PAN_RTH>=Table_Panneau!$B$15,IF(T_ART_PAN_RTH<=Table_Panneau!$B$19,IF(T_ART_PAN_MAT=Table_Panneau!$D$15,IF(T_ART_PAN_KRA=Table_Panneau!$D$23,IF(T_ART_PAN_EPA<=Table_Panneau!$B$23,ROW(T_ART_PAN_RTH),""))))),ROW(26:26))),"")}
C45: {=IFERROR(INDEX(T_ART_PAN_LIB,SMALL(IF(T_ART_PAN_RTH>=Table_Panneau!$B$15,IF(T_ART_PAN_RTH<=Table_Panneau!$B$19,IF(T_ART_PAN_MAT=Table_Panneau!$D$15,IF(T_ART_PAN_KRA=Table_Panneau!$D$23,IF(T_ART_PAN_EPA<=Table_Panneau!$B$23,ROW(T_ART_PAN_RTH),""))))),ROW(27:27))),"")} | D45: {=IFERROR(INDEX(T_ART_PAN_RTH,SMALL(IF(T_ART_PAN_RTH>=Table_Panneau!$B$15,IF(T_ART_PAN_RTH<=Table_Panneau!$B$19,IF(T_ART_PAN_MAT=Table_Panneau!$D$15,IF(T_ART_PAN_KRA=Table_Panneau!$D$23,IF(T_ART_PAN_EPA<=Table_Panneau!$B$23,ROW(T_ART_PAN_RTH),""))))),ROW(27:27))),"")} | E45: {=IFERROR(INDEX(T_ART_PAN_EPA,SMALL(IF(T_ART_PAN_RTH>=Table_Panneau!$B$15,IF(T_ART_PAN_RTH<=Table_Panneau!$B$19,IF(T_ART_PAN_MAT=Table_Panneau!$D$15,IF(T_ART_PAN_KRA=Table_Panneau!$D$23,IF(T_ART_PAN_EPA<=Table_Panneau!$B$23,ROW(T_ART_PAN_RTH),""))))),ROW(27:27))),"")} | F45: {=IFERROR(INDEX(T_ART_PAN_COD,SMALL(IF(T_ART_PAN_RTH>=Table_Panneau!$B$15,IF(T_ART_PAN_RTH<=Table_Panneau!$B$19,IF(T_ART_PAN_MAT=Table_Panneau!$D$15,IF(T_ART_PAN_KRA=Table_Panneau!$D$23,IF(T_ART_PAN_EPA<=Table_Panneau!$B$23,ROW(T_ART_PAN_RTH),""))))),ROW(27:27))),"")} | G45: {=IFERROR(INDEX(T_ART_PAN_DIS,SMALL(IF(T_ART_PAN_RTH>=Table_Panneau!$B$15,IF(T_ART_PAN_RTH<=Table_Panneau!$B$19,IF(T_ART_PAN_MAT=Table_Panneau!$D$15,IF(T_ART_PAN_KRA=Table_Panneau!$D$23,IF(T_ART_PAN_EPA<=Table_Panneau!$B$23,ROW(T_ART_PAN_RTH),""))))),ROW(27:27))),"")}
C46: {=IFERROR(INDEX(T_ART_PAN_LIB,SMALL(IF(T_ART_PAN_RTH>=Table_Panneau!$B$15,IF(T_ART_PAN_RTH<=Table_Panneau!$B$19,IF(T_ART_PAN_MAT=Table_Panneau!$D$15,IF(T_ART_PAN_KRA=Table_Panneau!$D$23,IF(T_ART_PAN_EPA<=Table_Panneau!$B$23,ROW(T_ART_PAN_RTH),""))))),ROW(28:28))),"")} | D46: {=IFERROR(INDEX(T_ART_PAN_RTH,SMALL(IF(T_ART_PAN_RTH>=Table_Panneau!$B$15,IF(T_ART_PAN_RTH<=Table_Panneau!$B$19,IF(T_ART_PAN_MAT=Table_Panneau!$D$15,IF(T_ART_PAN_KRA=Table_Panneau!$D$23,IF(T_ART_PAN_EPA<=Table_Panneau!$B$23,ROW(T_ART_PAN_RTH),""))))),ROW(28:28))),"")} | E46: {=IFERROR(INDEX(T_ART_PAN_EPA,SMALL(IF(T_ART_PAN_RTH>=Table_Panneau!$B$15,IF(T_ART_PAN_RTH<=Table_Panneau!$B$19,IF(T_ART_PAN_MAT=Table_Panneau!$D$15,IF(T_ART_PAN_KRA=Table_Panneau!$D$23,IF(T_ART_PAN_EPA<=Table_Panneau!$B$23,ROW(T_ART_PAN_RTH),""))))),ROW(28:28))),"")} | F46: {=IFERROR(INDEX(T_ART_PAN_COD,SMALL(IF(T_ART_PAN_RTH>=Table_Panneau!$B$15,IF(T_ART_PAN_RTH<=Table_Panneau!$B$19,IF(T_ART_PAN_MAT=Table_Panneau!$D$15,IF(T_ART_PAN_KRA=Table_Panneau!$D$23,IF(T_ART_PAN_EPA<=Table_Panneau!$B$23,ROW(T_ART_PAN_RTH),""))))),ROW(28:28))),"")} | G46: {=IFERROR(INDEX(T_ART_PAN_DIS,SMALL(IF(T_ART_PAN_RTH>=Table_Panneau!$B$15,IF(T_ART_PAN_RTH<=Table_Panneau!$B$19,IF(T_ART_PAN_MAT=Table_Panneau!$D$15,IF(T_ART_PAN_KRA=Table_Panneau!$D$23,IF(T_ART_PAN_EPA<=Table_Panneau!$B$23,ROW(T_ART_PAN_RTH),""))))),ROW(28:28))),"")}
C47: {=IFERROR(INDEX(T_ART_PAN_LIB,SMALL(IF(T_ART_PAN_RTH>=Table_Panneau!$B$15,IF(T_ART_PAN_RTH<=Table_Panneau!$B$19,IF(T_ART_PAN_MAT=Table_Panneau!$D$15,IF(T_ART_PAN_KRA=Table_Panneau!$D$23,IF(T_ART_PAN_EPA<=Table_Panneau!$B$23,ROW(T_ART_PAN_RTH),""))))),ROW(29:29))),"")} | D47: {=IFERROR(INDEX(T_ART_PAN_RTH,SMALL(IF(T_ART_PAN_RTH>=Table_Panneau!$B$15,IF(T_ART_PAN_RTH<=Table_Panneau!$B$19,IF(T_ART_PAN_MAT=Table_Panneau!$D$15,IF(T_ART_PAN_KRA=Table_Panneau!$D$23,IF(T_ART_PAN_EPA<=Table_Panneau!$B$23,ROW(T_ART_PAN_RTH),""))))),ROW(29:29))),"")} | E47: {=IFERROR(INDEX(T_ART_PAN_EPA,SMALL(IF(T_ART_PAN_RTH>=Table_Panneau!$B$15,IF(T_ART_PAN_RTH<=Table_Panneau!$B$19,IF(T_ART_PAN_MAT=Table_Panneau!$D$15,IF(T_ART_PAN_KRA=Table_Panneau!$D$23,IF(T_ART_PAN_EPA<=Table_Panneau!$B$23,ROW(T_ART_PAN_RTH),""))))),ROW(29:29))),"")} | F47: {=IFERROR(INDEX(T_ART_PAN_COD,SMALL(IF(T_ART_PAN_RTH>=Table_Panneau!$B$15,IF(T_ART_PAN_RTH<=Table_Panneau!$B$19,IF(T_ART_PAN_MAT=Table_Panneau!$D$15,IF(T_ART_PAN_KRA=Table_Panneau!$D$23,IF(T_ART_PAN_EPA<=Table_Panneau!$B$23,ROW(T_ART_PAN_RTH),""))))),ROW(29:29))),"")} | G47: {=IFERROR(INDEX(T_ART_PAN_DIS,SMALL(IF(T_ART_PAN_RTH>=Table_Panneau!$B$15,IF(T_ART_PAN_RTH<=Table_Panneau!$B$19,IF(T_ART_PAN_MAT=Table_Panneau!$D$15,IF(T_ART_PAN_KRA=Table_Panneau!$D$23,IF(T_ART_PAN_EPA<=Table_Panneau!$B$23,ROW(T_ART_PAN_RTH),""))))),ROW(29:29))),"")}
C48: {=IFERROR(INDEX(T_ART_PAN_LIB,SMALL(IF(T_ART_PAN_RTH>=Table_Panneau!$B$15,IF(T_ART_PAN_RTH<=Table_Panneau!$B$19,IF(T_ART_PAN_MAT=Table_Panneau!$D$15,IF(T_ART_PAN_KRA=Table_Panneau!$D$23,IF(T_ART_PAN_EPA<=Table_Panneau!$B$23,ROW(T_ART_PAN_RTH),""))))),ROW(30:30))),"")} | D48: {=IFERROR(INDEX(T_ART_PAN_RTH,SMALL(IF(T_ART_PAN_RTH>=Table_Panneau!$B$15,IF(T_ART_PAN_RTH<=Table_Panneau!$B$19,IF(T_ART_PAN_MAT=Table_Panneau!$D$15,IF(T_ART_PAN_KRA=Table_Panneau!$D$23,IF(T_ART_PAN_EPA<=Table_Panneau!$B$23,ROW(T_ART_PAN_RTH),""))))),ROW(30:30))),"")} | E48: {=IFERROR(INDEX(T_ART_PAN_EPA,SMALL(IF(T_ART_PAN_RTH>=Table_Panneau!$B$15,IF(T_ART_PAN_RTH<=Table_Panneau!$B$19,IF(T_ART_PAN_MAT=Table_Panneau!$D$15,IF(T_ART_PAN_KRA=Table_Panneau!$D$23,IF(T_ART_PAN_EPA<=Table_Panneau!$B$23,ROW(T_ART_PAN_RTH),""))))),ROW(30:30))),"")} | F48: {=IFERROR(INDEX(T_ART_PAN_COD,SMALL(IF(T_ART_PAN_RTH>=Table_Panneau!$B$15,IF(T_ART_PAN_RTH<=Table_Panneau!$B$19,IF(T_ART_PAN_MAT=Table_Panneau!$D$15,IF(T_ART_PAN_KRA=Table_Panneau!$D$23,IF(T_ART_PAN_EPA<=Table_Panneau!$B$23,ROW(T_ART_PAN_RTH),""))))),ROW(30:30))),"")} | G48: {=IFERROR(INDEX(T_ART_PAN_DIS,SMALL(IF(T_ART_PAN_RTH>=Table_Panneau!$B$15,IF(T_ART_PAN_RTH<=Table_Panneau!$B$19,IF(T_ART_PAN_MAT=Table_Panneau!$D$15,IF(T_ART_PAN_KRA=Table_Panneau!$D$23,IF(T_ART_PAN_EPA<=Table_Panneau!$B$23,ROW(T_ART_PAN_RTH),""))))),ROW(30:30))),"")}
C49: {=IFERROR(INDEX(T_ART_PAN_LIB,SMALL(IF(T_ART_PAN_RTH>=Table_Panneau!$B$15,IF(T_ART_PAN_RTH<=Table_Panneau!$B$19,IF(T_ART_PAN_MAT=Table_Panneau!$D$15,IF(T_ART_PAN_KRA=Table_Panneau!$D$23,IF(T_ART_PAN_EPA<=Table_Panneau!$B$23,ROW(T_ART_PAN_RTH),""))))),ROW(31:31))),"")} | D49: {=IFERROR(INDEX(T_ART_PAN_RTH,SMALL(IF(T_ART_PAN_RTH>=Table_Panneau!$B$15,IF(T_ART_PAN_RTH<=Table_Panneau!$B$19,IF(T_ART_PAN_MAT=Table_Panneau!$D$15,IF(T_ART_PAN_KRA=Table_Panneau!$D$23,IF(T_ART_PAN_EPA<=Table_Panneau!$B$23,ROW(T_ART_PAN_RTH),""))))),ROW(31:31))),"")} | E49: {=IFERROR(INDEX(T_ART_PAN_EPA,SMALL(IF(T_ART_PAN_RTH>=Table_Panneau!$B$15,IF(T_ART_PAN_RTH<=Table_Panneau!$B$19,IF(T_ART_PAN_MAT=Table_Panneau!$D$15,IF(T_ART_PAN_KRA=Table_Panneau!$D$23,IF(T_ART_PAN_EPA<=Table_Panneau!$B$23,ROW(T_ART_PAN_RTH),""))))),ROW(31:31))),"")} | F49: {=IFERROR(INDEX(T_ART_PAN_COD,SMALL(IF(T_ART_PAN_RTH>=Table_Panneau!$B$15,IF(T_ART_PAN_RTH<=Table_Panneau!$B$19,IF(T_ART_PAN_MAT=Table_Panneau!$D$15,IF(T_ART_PAN_KRA=Table_Panneau!$D$23,IF(T_ART_PAN_EPA<=Table_Panneau!$B$23,ROW(T_ART_PAN_RTH),""))))),ROW(31:31))),"")} | G49: {=IFERROR(INDEX(T_ART_PAN_DIS,SMALL(IF(T_ART_PAN_RTH>=Table_Panneau!$B$15,IF(T_ART_PAN_RTH<=Table_Panneau!$B$19,IF(T_ART_PAN_MAT=Table_Panneau!$D$15,IF(T_ART_PAN_KRA=Table_Panneau!$D$23,IF(T_ART_PAN_EPA<=Table_Panneau!$B$23,ROW(T_ART_PAN_RTH),""))))),ROW(31:31))),"")}
C50: {=IFERROR(INDEX(T_ART_PAN_LIB,SMALL(IF(T_ART_PAN_RTH>=Table_Panneau!$B$15,IF(T_ART_PAN_RTH<=Table_Panneau!$B$19,IF(T_ART_PAN_MAT=Table_Panneau!$D$15,IF(T_ART_PAN_KRA=Table_Panneau!$D$23,IF(T_ART_PAN_EPA<=Table_Panneau!$B$23,ROW(T_ART_PAN_RTH),""))))),ROW(32:32))),"")} | D50: {=IFERROR(INDEX(T_ART_PAN_RTH,SMALL(IF(T_ART_PAN_RTH>=Table_Panneau!$B$15,IF(T_ART_PAN_RTH<=Table_Panneau!$B$19,IF(T_ART_PAN_MAT=Table_Panneau!$D$15,IF(T_ART_PAN_KRA=Table_Panneau!$D$23,IF(T_ART_PAN_EPA<=Table_Panneau!$B$23,ROW(T_ART_PAN_RTH),""))))),ROW(32:32))),"")} | E50: {=IFERROR(INDEX(T_ART_PAN_EPA,SMALL(IF(T_ART_PAN_RTH>=Table_Panneau!$B$15,IF(T_ART_PAN_RTH<=Table_Panneau!$B$19,IF(T_ART_PAN_MAT=Table_Panneau!$D$15,IF(T_ART_PAN_KRA=Table_Panneau!$D$23,IF(T_ART_PAN_EPA<=Table_Panneau!$B$23,ROW(T_ART_PAN_RTH),""))))),ROW(32:32))),"")} | F50: {=IFERROR(INDEX(T_ART_PAN_COD,SMALL(IF(T_ART_PAN_RTH>=Table_Panneau!$B$15,IF(T_ART_PAN_RTH<=Table_Panneau!$B$19,IF(T_ART_PAN_MAT=Table_Panneau!$D$15,IF(T_ART_PAN_KRA=Table_Panneau!$D$23,IF(T_ART_PAN_EPA<=Table_Panneau!$B$23,ROW(T_ART_PAN_RTH),""))))),ROW(32:32))),"")} | G50: {=IFERROR(INDEX(T_ART_PAN_DIS,SMALL(IF(T_ART_PAN_RTH>=Table_Panneau!$B$15,IF(T_ART_PAN_RTH<=Table_Panneau!$B$19,IF(T_ART_PAN_MAT=Table_Panneau!$D$15,IF(T_ART_PAN_KRA=Table_Panneau!$D$23,IF(T_ART_PAN_EPA<=Table_Panneau!$B$23,ROW(T_ART_PAN_RTH),""))))),ROW(32:32))),"")}
C51: {=IFERROR(INDEX(T_ART_PAN_LIB,SMALL(IF(T_ART_PAN_RTH>=Table_Panneau!$B$15,IF(T_ART_PAN_RTH<=Table_Panneau!$B$19,IF(T_ART_PAN_MAT=Table_Panneau!$D$15,IF(T_ART_PAN_KRA=Table_Panneau!$D$23,IF(T_ART_PAN_EPA<=Table_Panneau!$B$23,ROW(T_ART_PAN_RTH),""))))),ROW(33:33))),"")} | D51: {=IFERROR(INDEX(T_ART_PAN_RTH,SMALL(IF(T_ART_PAN_RTH>=Table_Panneau!$B$15,IF(T_ART_PAN_RTH<=Table_Panneau!$B$19,IF(T_ART_PAN_MAT=Table_Panneau!$D$15,IF(T_ART_PAN_KRA=Table_Panneau!$D$23,IF(T_ART_PAN_EPA<=Table_Panneau!$B$23,ROW(T_ART_PAN_RTH),""))))),ROW(33:33))),"")} | E51: {=IFERROR(INDEX(T_ART_PAN_EPA,SMALL(IF(T_ART_PAN_RTH>=Table_Panneau!$B$15,IF(T_ART_PAN_RTH<=Table_Panneau!$B$19,IF(T_ART_PAN_MAT=Table_Panneau!$D$15,IF(T_ART_PAN_KRA=Table_Panneau!$D$23,IF(T_ART_PAN_EPA<=Table_Panneau!$B$23,ROW(T_ART_PAN_RTH),""))))),ROW(33:33))),"")} | F51: {=IFERROR(INDEX(T_ART_PAN_COD,SMALL(IF(T_ART_PAN_RTH>=Table_Panneau!$B$15,IF(T_ART_PAN_RTH<=Table_Panneau!$B$19,IF(T_ART_PAN_MAT=Table_Panneau!$D$15,IF(T_ART_PAN_KRA=Table_Panneau!$D$23,IF(T_ART_PAN_EPA<=Table_Panneau!$B$23,ROW(T_ART_PAN_RTH),""))))),ROW(33:33))),"")} | G51: {=IFERROR(INDEX(T_ART_PAN_DIS,SMALL(IF(T_ART_PAN_RTH>=Table_Panneau!$B$15,IF(T_ART_PAN_RTH<=Table_Panneau!$B$19,IF(T_ART_PAN_MAT=Table_Panneau!$D$15,IF(T_ART_PAN_KRA=Table_Panneau!$D$23,IF(T_ART_PAN_EPA<=Table_Panneau!$B$23,ROW(T_ART_PAN_RTH),""))))),ROW(33:33))),"")}
C52: {=IFERROR(INDEX(T_ART_PAN_LIB,SMALL(IF(T_ART_PAN_RTH>=Table_Panneau!$B$15,IF(T_ART_PAN_RTH<=Table_Panneau!$B$19,IF(T_ART_PAN_MAT=Table_Panneau!$D$15,IF(T_ART_PAN_KRA=Table_Panneau!$D$23,IF(T_ART_PAN_EPA<=Table_Panneau!$B$23,ROW(T_ART_PAN_RTH),""))))),ROW(34:34))),"")} | D52: {=IFERROR(INDEX(T_ART_PAN_RTH,SMALL(IF(T_ART_PAN_RTH>=Table_Panneau!$B$15,IF(T_ART_PAN_RTH<=Table_Panneau!$B$19,IF(T_ART_PAN_MAT=Table_Panneau!$D$15,IF(T_ART_PAN_KRA=Table_Panneau!$D$23,IF(T_ART_PAN_EPA<=Table_Panneau!$B$23,ROW(T_ART_PAN_RTH),""))))),ROW(34:34))),"")} | E52: {=IFERROR(INDEX(T_ART_PAN_EPA,SMALL(IF(T_ART_PAN_RTH>=Table_Panneau!$B$15,IF(T_ART_PAN_RTH<=Table_Panneau!$B$19,IF(T_ART_PAN_MAT=Table_Panneau!$D$15,IF(T_ART_PAN_KRA=Table_Panneau!$D$23,IF(T_ART_PAN_EPA<=Table_Panneau!$B$23,ROW(T_ART_PAN_RTH),""))))),ROW(34:34))),"")} | F52: {=IFERROR(INDEX(T_ART_PAN_COD,SMALL(IF(T_ART_PAN_RTH>=Table_Panneau!$B$15,IF(T_ART_PAN_RTH<=Table_Panneau!$B$19,IF(T_ART_PAN_MAT=Table_Panneau!$D$15,IF(T_ART_PAN_KRA=Table_Panneau!$D$23,IF(T_ART_PAN_EPA<=Table_Panneau!$B$23,ROW(T_ART_PAN_RTH),""))))),ROW(34:34))),"")} | G52: {=IFERROR(INDEX(T_ART_PAN_DIS,SMALL(IF(T_ART_PAN_RTH>=Table_Panneau!$B$15,IF(T_ART_PAN_RTH<=Table_Panneau!$B$19,IF(T_ART_PAN_MAT=Table_Panneau!$D$15,IF(T_ART_PAN_KRA=Table_Panneau!$D$23,IF(T_ART_PAN_EPA<=Table_Panneau!$B$23,ROW(T_ART_PAN_RTH),""))))),ROW(34:34))),"")}
C53: {=IFERROR(INDEX(T_ART_PAN_LIB,SMALL(IF(T_ART_PAN_RTH>=Table_Panneau!$B$15,IF(T_ART_PAN_RTH<=Table_Panneau!$B$19,IF(T_ART_PAN_MAT=Table_Panneau!$D$15,IF(T_ART_PAN_KRA=Table_Panneau!$D$23,IF(T_ART_PAN_EPA<=Table_Panneau!$B$23,ROW(T_ART_PAN_RTH),""))))),ROW(35:35))),"")} | D53: {=IFERROR(INDEX(T_ART_PAN_RTH,SMALL(IF(T_ART_PAN_RTH>=Table_Panneau!$B$15,IF(T_ART_PAN_RTH<=Table_Panneau!$B$19,IF(T_ART_PAN_MAT=Table_Panneau!$D$15,IF(T_ART_PAN_KRA=Table_Panneau!$D$23,IF(T_ART_PAN_EPA<=Table_Panneau!$B$23,ROW(T_ART_PAN_RTH),""))))),ROW(35:35))),"")} | E53: {=IFERROR(INDEX(T_ART_PAN_EPA,SMALL(IF(T_ART_PAN_RTH>=Table_Panneau!$B$15,IF(T_ART_PAN_RTH<=Table_Panneau!$B$19,IF(T_ART_PAN_MAT=Table_Panneau!$D$15,IF(T_ART_PAN_KRA=Table_Panneau!$D$23,IF(T_ART_PAN_EPA<=Table_Panneau!$B$23,ROW(T_ART_PAN_RTH),""))))),ROW(35:35))),"")} | F53: {=IFERROR(INDEX(T_ART_PAN_COD,SMALL(IF(T_ART_PAN_RTH>=Table_Panneau!$B$15,IF(T_ART_PAN_RTH<=Table_Panneau!$B$19,IF(T_ART_PAN_MAT=Table_Panneau!$D$15,IF(T_ART_PAN_KRA=Table_Panneau!$D$23,IF(T_ART_PAN_EPA<=Table_Panneau!$B$23,ROW(T_ART_PAN_RTH),""))))),ROW(35:35))),"")} | G53: {=IFERROR(INDEX(T_ART_PAN_DIS,SMALL(IF(T_ART_PAN_RTH>=Table_Panneau!$B$15,IF(T_ART_PAN_RTH<=Table_Panneau!$B$19,IF(T_ART_PAN_MAT=Table_Panneau!$D$15,IF(T_ART_PAN_KRA=Table_Panneau!$D$23,IF(T_ART_PAN_EPA<=Table_Panneau!$B$23,ROW(T_ART_PAN_RTH),""))))),ROW(35:35))),"")}
C54: {=IFERROR(INDEX(T_ART_PAN_LIB,SMALL(IF(T_ART_PAN_RTH>=Table_Panneau!$B$15,IF(T_ART_PAN_RTH<=Table_Panneau!$B$19,IF(T_ART_PAN_MAT=Table_Panneau!$D$15,IF(T_ART_PAN_KRA=Table_Panneau!$D$23,IF(T_ART_PAN_EPA<=Table_Panneau!$B$23,ROW(T_ART_PAN_RTH),""))))),ROW(36:36))),"")} | D54: {=IFERROR(INDEX(T_ART_PAN_RTH,SMALL(IF(T_ART_PAN_RTH>=Table_Panneau!$B$15,IF(T_ART_PAN_RTH<=Table_Panneau!$B$19,IF(T_ART_PAN_MAT=Table_Panneau!$D$15,IF(T_ART_PAN_KRA=Table_Panneau!$D$23,IF(T_ART_PAN_EPA<=Table_Panneau!$B$23,ROW(T_ART_PAN_RTH),""))))),ROW(36:36))),"")} | E54: {=IFERROR(INDEX(T_ART_PAN_EPA,SMALL(IF(T_ART_PAN_RTH>=Table_Panneau!$B$15,IF(T_ART_PAN_RTH<=Table_Panneau!$B$19,IF(T_ART_PAN_MAT=Table_Panneau!$D$15,IF(T_ART_PAN_KRA=Table_Panneau!$D$23,IF(T_ART_PAN_EPA<=Table_Panneau!$B$23,ROW(T_ART_PAN_RTH),""))))),ROW(36:36))),"")} | F54: {=IFERROR(INDEX(T_ART_PAN_COD,SMALL(IF(T_ART_PAN_RTH>=Table_Panneau!$B$15,IF(T_ART_PAN_RTH<=Table_Panneau!$B$19,IF(T_ART_PAN_MAT=Table_Panneau!$D$15,IF(T_ART_PAN_KRA=Table_Panneau!$D$23,IF(T_ART_PAN_EPA<=Table_Panneau!$B$23,ROW(T_ART_PAN_RTH),""))))),ROW(36:36))),"")} | G54: {=IFERROR(INDEX(T_ART_PAN_DIS,SMALL(IF(T_ART_PAN_RTH>=Table_Panneau!$B$15,IF(T_ART_PAN_RTH<=Table_Panneau!$B$19,IF(T_ART_PAN_MAT=Table_Panneau!$D$15,IF(T_ART_PAN_KRA=Table_Panneau!$D$23,IF(T_ART_PAN_EPA<=Table_Panneau!$B$23,ROW(T_ART_PAN_RTH),""))))),ROW(36:36))),"")}
C55: {=IFERROR(INDEX(T_ART_PAN_LIB,SMALL(IF(T_ART_PAN_RTH>=Table_Panneau!$B$15,IF(T_ART_PAN_RTH<=Table_Panneau!$B$19,IF(T_ART_PAN_MAT=Table_Panneau!$D$15,IF(T_ART_PAN_KRA=Table_Panneau!$D$23,IF(T_ART_PAN_EPA<=Table_Panneau!$B$23,ROW(T_ART_PAN_RTH),""))))),ROW(37:37))),"")} | D55: {=IFERROR(INDEX(T_ART_PAN_RTH,SMALL(IF(T_ART_PAN_RTH>=Table_Panneau!$B$15,IF(T_ART_PAN_RTH<=Table_Panneau!$B$19,IF(T_ART_PAN_MAT=Table_Panneau!$D$15,IF(T_ART_PAN_KRA=Table_Panneau!$D$23,IF(T_ART_PAN_EPA<=Table_Panneau!$B$23,ROW(T_ART_PAN_RTH),""))))),ROW(37:37))),"")} | E55: {=IFERROR(INDEX(T_ART_PAN_EPA,SMALL(IF(T_ART_PAN_RTH>=Table_Panneau!$B$15,IF(T_ART_PAN_RTH<=Table_Panneau!$B$19,IF(T_ART_PAN_MAT=Table_Panneau!$D$15,IF(T_ART_PAN_KRA=Table_Panneau!$D$23,IF(T_ART_PAN_EPA<=Table_Panneau!$B$23,ROW(T_ART_PAN_RTH),""))))),ROW(37:37))),"")} | F55: {=IFERROR(INDEX(T_ART_PAN_COD,SMALL(IF(T_ART_PAN_RTH>=Table_Panneau!$B$15,IF(T_ART_PAN_RTH<=Table_Panneau!$B$19,IF(T_ART_PAN_MAT=Table_Panneau!$D$15,IF(T_ART_PAN_KRA=Table_Panneau!$D$23,IF(T_ART_PAN_EPA<=Table_Panneau!$B$23,ROW(T_ART_PAN_RTH),""))))),ROW(37:37))),"")} | G55: {=IFERROR(INDEX(T_ART_PAN_DIS,SMALL(IF(T_ART_PAN_RTH>=Table_Panneau!$B$15,IF(T_ART_PAN_RTH<=Table_Panneau!$B$19,IF(T_ART_PAN_MAT=Table_Panneau!$D$15,IF(T_ART_PAN_KRA=Table_Panneau!$D$23,IF(T_ART_PAN_EPA<=Table_Panneau!$B$23,ROW(T_ART_PAN_RTH),""))))),ROW(37:37))),"")}
C56: {=IFERROR(INDEX(T_ART_PAN_LIB,SMALL(IF(T_ART_PAN_RTH>=Table_Panneau!$B$15,IF(T_ART_PAN_RTH<=Table_Panneau!$B$19,IF(T_ART_PAN_MAT=Table_Panneau!$D$15,IF(T_ART_PAN_KRA=Table_Panneau!$D$23,IF(T_ART_PAN_EPA<=Table_Panneau!$B$23,ROW(T_ART_PAN_RTH),""))))),ROW(38:38))),"")} | D56: {=IFERROR(INDEX(T_ART_PAN_RTH,SMALL(IF(T_ART_PAN_RTH>=Table_Panneau!$B$15,IF(T_ART_PAN_RTH<=Table_Panneau!$B$19,IF(T_ART_PAN_MAT=Table_Panneau!$D$15,IF(T_ART_PAN_KRA=Table_Panneau!$D$23,IF(T_ART_PAN_EPA<=Table_Panneau!$B$23,ROW(T_ART_PAN_RTH),""))))),ROW(38:38))),"")} | E56: {=IFERROR(INDEX(T_ART_PAN_EPA,SMALL(IF(T_ART_PAN_RTH>=Table_Panneau!$B$15,IF(T_ART_PAN_RTH<=Table_Panneau!$B$19,IF(T_ART_PAN_MAT=Table_Panneau!$D$15,IF(T_ART_PAN_KRA=Table_Panneau!$D$23,IF(T_ART_PAN_EPA<=Table_Panneau!$B$23,ROW(T_ART_PAN_RTH),""))))),ROW(38:38))),"")} | F56: {=IFERROR(INDEX(T_ART_PAN_COD,SMALL(IF(T_ART_PAN_RTH>=Table_Panneau!$B$15,IF(T_ART_PAN_RTH<=Table_Panneau!$B$19,IF(T_ART_PAN_MAT=Table_Panneau!$D$15,IF(T_ART_PAN_KRA=Table_Panneau!$D$23,IF(T_ART_PAN_EPA<=Table_Panneau!$B$23,ROW(T_ART_PAN_RTH),""))))),ROW(38:38))),"")} | G56: {=IFERROR(INDEX(T_ART_PAN_DIS,SMALL(IF(T_ART_PAN_RTH>=Table_Panneau!$B$15,IF(T_ART_PAN_RTH<=Table_Panneau!$B$19,IF(T_ART_PAN_MAT=Table_Panneau!$D$15,IF(T_ART_PAN_KRA=Table_Panneau!$D$23,IF(T_ART_PAN_EPA<=Table_Panneau!$B$23,ROW(T_ART_PAN_RTH),""))))),ROW(38:38))),"")}
C57: {=IFERROR(INDEX(T_ART_PAN_LIB,SMALL(IF(T_ART_PAN_RTH>=Table_Panneau!$B$15,IF(T_ART_PAN_RTH<=Table_Panneau!$B$19,IF(T_ART_PAN_MAT=Table_Panneau!$D$15,IF(T_ART_PAN_KRA=Table_Panneau!$D$23,IF(T_ART_PAN_EPA<=Table_Panneau!$B$23,ROW(T_ART_PAN_RTH),""))))),ROW(39:39))),"")} | D57: {=IFERROR(INDEX(T_ART_PAN_RTH,SMALL(IF(T_ART_PAN_RTH>=Table_Panneau!$B$15,IF(T_ART_PAN_RTH<=Table_Panneau!$B$19,IF(T_ART_PAN_MAT=Table_Panneau!$D$15,IF(T_ART_PAN_KRA=Table_Panneau!$D$23,IF(T_ART_PAN_EPA<=Table_Panneau!$B$23,ROW(T_ART_PAN_RTH),""))))),ROW(39:39))),"")} | E57: {=IFERROR(INDEX(T_ART_PAN_EPA,SMALL(IF(T_ART_PAN_RTH>=Table_Panneau!$B$15,IF(T_ART_PAN_RTH<=Table_Panneau!$B$19,IF(T_ART_PAN_MAT=Table_Panneau!$D$15,IF(T_ART_PAN_KRA=Table_Panneau!$D$23,IF(T_ART_PAN_EPA<=Table_Panneau!$B$23,ROW(T_ART_PAN_RTH),""))))),ROW(39:39))),"")} | F57: {=IFERROR(INDEX(T_ART_PAN_COD,SMALL(IF(T_ART_PAN_RTH>=Table_Panneau!$B$15,IF(T_ART_PAN_RTH<=Table_Panneau!$B$19,IF(T_ART_PAN_MAT=Table_Panneau!$D$15,IF(T_ART_PAN_KRA=Table_Panneau!$D$23,IF(T_ART_PAN_EPA<=Table_Panneau!$B$23,ROW(T_ART_PAN_RTH),""))))),ROW(39:39))),"")} | G57: {=IFERROR(INDEX(T_ART_PAN_DIS,SMALL(IF(T_ART_PAN_RTH>=Table_Panneau!$B$15,IF(T_ART_PAN_RTH<=Table_Panneau!$B$19,IF(T_ART_PAN_MAT=Table_Panneau!$D$15,IF(T_ART_PAN_KRA=Table_Panneau!$D$23,IF(T_ART_PAN_EPA<=Table_Panneau!$B$23,ROW(T_ART_PAN_RTH),""))))),ROW(39:39))),"")}
C58: {=IFERROR(INDEX(T_ART_PAN_LIB,SMALL(IF(T_ART_PAN_RTH>=Table_Panneau!$B$15,IF(T_ART_PAN_RTH<=Table_Panneau!$B$19,IF(T_ART_PAN_MAT=Table_Panneau!$D$15,IF(T_ART_PAN_KRA=Table_Panneau!$D$23,IF(T_ART_PAN_EPA<=Table_Panneau!$B$23,ROW(T_ART_PAN_RTH),""))))),ROW(40:40))),"")} | D58: {=IFERROR(INDEX(T_ART_PAN_RTH,SMALL(IF(T_ART_PAN_RTH>=Table_Panneau!$B$15,IF(T_ART_PAN_RTH<=Table_Panneau!$B$19,IF(T_ART_PAN_MAT=Table_Panneau!$D$15,IF(T_ART_PAN_KRA=Table_Panneau!$D$23,IF(T_ART_PAN_EPA<=Table_Panneau!$B$23,ROW(T_ART_PAN_RTH),""))))),ROW(40:40))),"")} | E58: {=IFERROR(INDEX(T_ART_PAN_EPA,SMALL(IF(T_ART_PAN_RTH>=Table_Panneau!$B$15,IF(T_ART_PAN_RTH<=Table_Panneau!$B$19,IF(T_ART_PAN_MAT=Table_Panneau!$D$15,IF(T_ART_PAN_KRA=Table_Panneau!$D$23,IF(T_ART_PAN_EPA<=Table_Panneau!$B$23,ROW(T_ART_PAN_RTH),""))))),ROW(40:40))),"")} | F58: {=IFERROR(INDEX(T_ART_PAN_COD,SMALL(IF(T_ART_PAN_RTH>=Table_Panneau!$B$15,IF(T_ART_PAN_RTH<=Table_Panneau!$B$19,IF(T_ART_PAN_MAT=Table_Panneau!$D$15,IF(T_ART_PAN_KRA=Table_Panneau!$D$23,IF(T_ART_PAN_EPA<=Table_Panneau!$B$23,ROW(T_ART_PAN_RTH),""))))),ROW(40:40))),"")} | G58: {=IFERROR(INDEX(T_ART_PAN_DIS,SMALL(IF(T_ART_PAN_RTH>=Table_Panneau!$B$15,IF(T_ART_PAN_RTH<=Table_Panneau!$B$19,IF(T_ART_PAN_MAT=Table_Panneau!$D$15,IF(T_ART_PAN_KRA=Table_Panneau!$D$23,IF(T_ART_PAN_EPA<=Table_Panneau!$B$23,ROW(T_ART_PAN_RTH),""))))),ROW(40:40))),"")}
C59: {=IFERROR(INDEX(T_ART_PAN_LIB,SMALL(IF(T_ART_PAN_RTH>=Table_Panneau!$B$15,IF(T_ART_PAN_RTH<=Table_Panneau!$B$19,IF(T_ART_PAN_MAT=Table_Panneau!$D$15,IF(T_ART_PAN_KRA=Table_Panneau!$D$23,IF(T_ART_PAN_EPA<=Table_Panneau!$B$23,ROW(T_ART_PAN_RTH),""))))),ROW(41:41))),"")} | D59: {=IFERROR(INDEX(T_ART_PAN_RTH,SMALL(IF(T_ART_PAN_RTH>=Table_Panneau!$B$15,IF(T_ART_PAN_RTH<=Table_Panneau!$B$19,IF(T_ART_PAN_MAT=Table_Panneau!$D$15,IF(T_ART_PAN_KRA=Table_Panneau!$D$23,IF(T_ART_PAN_EPA<=Table_Panneau!$B$23,ROW(T_ART_PAN_RTH),""))))),ROW(41:41))),"")} | E59: {=IFERROR(INDEX(T_ART_PAN_EPA,SMALL(IF(T_ART_PAN_RTH>=Table_Panneau!$B$15,IF(T_ART_PAN_RTH<=Table_Panneau!$B$19,IF(T_ART_PAN_MAT=Table_Panneau!$D$15,IF(T_ART_PAN_KRA=Table_Panneau!$D$23,IF(T_ART_PAN_EPA<=Table_Panneau!$B$23,ROW(T_ART_PAN_RTH),""))))),ROW(41:41))),"")} | F59: {=IFERROR(INDEX(T_ART_PAN_COD,SMALL(IF(T_ART_PAN_RTH>=Table_Panneau!$B$15,IF(T_ART_PAN_RTH<=Table_Panneau!$B$19,IF(T_ART_PAN_MAT=Table_Panneau!$D$15,IF(T_ART_PAN_KRA=Table_Panneau!$D$23,IF(T_ART_PAN_EPA<=Table_Panneau!$B$23,ROW(T_ART_PAN_RTH),""))))),ROW(41:41))),"")} | G59: {=IFERROR(INDEX(T_ART_PAN_DIS,SMALL(IF(T_ART_PAN_RTH>=Table_Panneau!$B$15,IF(T_ART_PAN_RTH<=Table_Panneau!$B$19,IF(T_ART_PAN_MAT=Table_Panneau!$D$15,IF(T_ART_PAN_KRA=Table_Panneau!$D$23,IF(T_ART_PAN_EPA<=Table_Panneau!$B$23,ROW(T_ART_PAN_RTH),""))))),ROW(41:41))),"")}
C60: {=IFERROR(INDEX(T_ART_PAN_LIB,SMALL(IF(T_ART_PAN_RTH>=Table_Panneau!$B$15,IF(T_ART_PAN_RTH<=Table_Panneau!$B$19,IF(T_ART_PAN_MAT=Table_Panneau!$D$15,IF(T_ART_PAN_KRA=Table_Panneau!$D$23,IF(T_ART_PAN_EPA<=Table_Panneau!$B$23,ROW(T_ART_PAN_RTH),""))))),ROW(42:42))),"")} | D60: {=IFERROR(INDEX(T_ART_PAN_RTH,SMALL(IF(T_ART_PAN_RTH>=Table_Panneau!$B$15,IF(T_ART_PAN_RTH<=Table_Panneau!$B$19,IF(T_ART_PAN_MAT=Table_Panneau!$D$15,IF(T_ART_PAN_KRA=Table_Panneau!$D$23,IF(T_ART_PAN_EPA<=Table_Panneau!$B$23,ROW(T_ART_PAN_RTH),""))))),ROW(42:42))),"")} | E60: {=IFERROR(INDEX(T_ART_PAN_EPA,SMALL(IF(T_ART_PAN_RTH>=Table_Panneau!$B$15,IF(T_ART_PAN_RTH<=Table_Panneau!$B$19,IF(T_ART_PAN_MAT=Table_Panneau!$D$15,IF(T_ART_PAN_KRA=Table_Panneau!$D$23,IF(T_ART_PAN_EPA<=Table_Panneau!$B$23,ROW(T_ART_PAN_RTH),""))))),ROW(42:42))),"")} | F60: {=IFERROR(INDEX(T_ART_PAN_COD,SMALL(IF(T_ART_PAN_RTH>=Table_Panneau!$B$15,IF(T_ART_PAN_RTH<=Table_Panneau!$B$19,IF(T_ART_PAN_MAT=Table_Panneau!$D$15,IF(T_ART_PAN_KRA=Table_Panneau!$D$23,IF(T_ART_PAN_EPA<=Table_Panneau!$B$23,ROW(T_ART_PAN_RTH),""))))),ROW(42:42))),"")} | G60: {=IFERROR(INDEX(T_ART_PAN_DIS,SMALL(IF(T_ART_PAN_RTH>=Table_Panneau!$B$15,IF(T_ART_PAN_RTH<=Table_Panneau!$B$19,IF(T_ART_PAN_MAT=Table_Panneau!$D$15,IF(T_ART_PAN_KRA=Table_Panneau!$D$23,IF(T_ART_PAN_EPA<=Table_Panneau!$B$23,ROW(T_ART_PAN_RTH),""))))),ROW(42:42))),"")}
C61: {=IFERROR(INDEX(T_ART_PAN_LIB,SMALL(IF(T_ART_PAN_RTH>=Table_Panneau!$B$15,IF(T_ART_PAN_RTH<=Table_Panneau!$B$19,IF(T_ART_PAN_MAT=Table_Panneau!$D$15,IF(T_ART_PAN_KRA=Table_Panneau!$D$23,IF(T_ART_PAN_EPA<=Table_Panneau!$B$23,ROW(T_ART_PAN_RTH),""))))),ROW(43:43))),"")} | D61: {=IFERROR(INDEX(T_ART_PAN_RTH,SMALL(IF(T_ART_PAN_RTH>=Table_Panneau!$B$15,IF(T_ART_PAN_RTH<=Table_Panneau!$B$19,IF(T_ART_PAN_MAT=Table_Panneau!$D$15,IF(T_ART_PAN_KRA=Table_Panneau!$D$23,IF(T_ART_PAN_EPA<=Table_Panneau!$B$23,ROW(T_ART_PAN_RTH),""))))),ROW(43:43))),"")} | E61: {=IFERROR(INDEX(T_ART_PAN_EPA,SMALL(IF(T_ART_PAN_RTH>=Table_Panneau!$B$15,IF(T_ART_PAN_RTH<=Table_Panneau!$B$19,IF(T_ART_PAN_MAT=Table_Panneau!$D$15,IF(T_ART_PAN_KRA=Table_Panneau!$D$23,IF(T_ART_PAN_EPA<=Table_Panneau!$B$23,ROW(T_ART_PAN_RTH),""))))),ROW(43:43))),"")} | F61: {=IFERROR(INDEX(T_ART_PAN_COD,SMALL(IF(T_ART_PAN_RTH>=Table_Panneau!$B$15,IF(T_ART_PAN_RTH<=Table_Panneau!$B$19,IF(T_ART_PAN_MAT=Table_Panneau!$D$15,IF(T_ART_PAN_KRA=Table_Panneau!$D$23,IF(T_ART_PAN_EPA<=Table_Panneau!$B$23,ROW(T_ART_PAN_RTH),""))))),ROW(43:43))),"")} | G61: {=IFERROR(INDEX(T_ART_PAN_DIS,SMALL(IF(T_ART_PAN_RTH>=Table_Panneau!$B$15,IF(T_ART_PAN_RTH<=Table_Panneau!$B$19,IF(T_ART_PAN_MAT=Table_Panneau!$D$15,IF(T_ART_PAN_KRA=Table_Panneau!$D$23,IF(T_ART_PAN_EPA<=Table_Panneau!$B$23,ROW(T_ART_PAN_RTH),""))))),ROW(43:43))),"")}
C62: {=IFERROR(INDEX(T_ART_PAN_LIB,SMALL(IF(T_ART_PAN_RTH>=Table_Panneau!$B$15,IF(T_ART_PAN_RTH<=Table_Panneau!$B$19,IF(T_ART_PAN_MAT=Table_Panneau!$D$15,IF(T_ART_PAN_KRA=Table_Panneau!$D$23,IF(T_ART_PAN_EPA<=Table_Panneau!$B$23,ROW(T_ART_PAN_RTH),""))))),ROW(44:44))),"")} | D62: {=IFERROR(INDEX(T_ART_PAN_RTH,SMALL(IF(T_ART_PAN_RTH>=Table_Panneau!$B$15,IF(T_ART_PAN_RTH<=Table_Panneau!$B$19,IF(T_ART_PAN_MAT=Table_Panneau!$D$15,IF(T_ART_PAN_KRA=Table_Panneau!$D$23,IF(T_ART_PAN_EPA<=Table_Panneau!$B$23,ROW(T_ART_PAN_RTH),""))))),ROW(44:44))),"")} | E62: {=IFERROR(INDEX(T_ART_PAN_EPA,SMALL(IF(T_ART_PAN_RTH>=Table_Panneau!$B$15,IF(T_ART_PAN_RTH<=Table_Panneau!$B$19,IF(T_ART_PAN_MAT=Table_Panneau!$D$15,IF(T_ART_PAN_KRA=Table_Panneau!$D$23,IF(T_ART_PAN_EPA<=Table_Panneau!$B$23,ROW(T_ART_PAN_RTH),""))))),ROW(44:44))),"")} | F62: {=IFERROR(INDEX(T_ART_PAN_COD,SMALL(IF(T_ART_PAN_RTH>=Table_Panneau!$B$15,IF(T_ART_PAN_RTH<=Table_Panneau!$B$19,IF(T_ART_PAN_MAT=Table_Panneau!$D$15,IF(T_ART_PAN_KRA=Table_Panneau!$D$23,IF(T_ART_PAN_EPA<=Table_Panneau!$B$23,ROW(T_ART_PAN_RTH),""))))),ROW(44:44))),"")} | G62: {=IFERROR(INDEX(T_ART_PAN_DIS,SMALL(IF(T_ART_PAN_RTH>=Table_Panneau!$B$15,IF(T_ART_PAN_RTH<=Table_Panneau!$B$19,IF(T_ART_PAN_MAT=Table_Panneau!$D$15,IF(T_ART_PAN_KRA=Table_Panneau!$D$23,IF(T_ART_PAN_EPA<=Table_Panneau!$B$23,ROW(T_ART_PAN_RTH),""))))),ROW(44:44))),"")}
C63: {=IFERROR(INDEX(T_ART_PAN_LIB,SMALL(IF(T_ART_PAN_RTH>=Table_Panneau!$B$15,IF(T_ART_PAN_RTH<=Table_Panneau!$B$19,IF(T_ART_PAN_MAT=Table_Panneau!$D$15,IF(T_ART_PAN_KRA=Table_Panneau!$D$23,IF(T_ART_PAN_EPA<=Table_Panneau!$B$23,ROW(T_ART_PAN_RTH),""))))),ROW(45:45))),"")} | D63: {=IFERROR(INDEX(T_ART_PAN_RTH,SMALL(IF(T_ART_PAN_RTH>=Table_Panneau!$B$15,IF(T_ART_PAN_RTH<=Table_Panneau!$B$19,IF(T_ART_PAN_MAT=Table_Panneau!$D$15,IF(T_ART_PAN_KRA=Table_Panneau!$D$23,IF(T_ART_PAN_EPA<=Table_Panneau!$B$23,ROW(T_ART_PAN_RTH),""))))),ROW(45:45))),"")} | E63: {=IFERROR(INDEX(T_ART_PAN_EPA,SMALL(IF(T_ART_PAN_RTH>=Table_Panneau!$B$15,IF(T_ART_PAN_RTH<=Table_Panneau!$B$19,IF(T_ART_PAN_MAT=Table_Panneau!$D$15,IF(T_ART_PAN_KRA=Table_Panneau!$D$23,IF(T_ART_PAN_EPA<=Table_Panneau!$B$23,ROW(T_ART_PAN_RTH),""))))),ROW(45:45))),"")} | F63: {=IFERROR(INDEX(T_ART_PAN_COD,SMALL(IF(T_ART_PAN_RTH>=Table_Panneau!$B$15,IF(T_ART_PAN_RTH<=Table_Panneau!$B$19,IF(T_ART_PAN_MAT=Table_Panneau!$D$15,IF(T_ART_PAN_KRA=Table_Panneau!$D$23,IF(T_ART_PAN_EPA<=Table_Panneau!$B$23,ROW(T_ART_PAN_RTH),""))))),ROW(45:45))),"")} | G63: {=IFERROR(INDEX(T_ART_PAN_DIS,SMALL(IF(T_ART_PAN_RTH>=Table_Panneau!$B$15,IF(T_ART_PAN_RTH<=Table_Panneau!$B$19,IF(T_ART_PAN_MAT=Table_Panneau!$D$15,IF(T_ART_PAN_KRA=Table_Panneau!$D$23,IF(T_ART_PAN_EPA<=Table_Panneau!$B$23,ROW(T_ART_PAN_RTH),""))))),ROW(45:45))),"")}
C64: {=IFERROR(INDEX(T_ART_PAN_LIB,SMALL(IF(T_ART_PAN_RTH>=Table_Panneau!$B$15,IF(T_ART_PAN_RTH<=Table_Panneau!$B$19,IF(T_ART_PAN_MAT=Table_Panneau!$D$15,IF(T_ART_PAN_KRA=Table_Panneau!$D$23,IF(T_ART_PAN_EPA<=Table_Panneau!$B$23,ROW(T_ART_PAN_RTH),""))))),ROW(46:46))),"")} | D64: {=IFERROR(INDEX(T_ART_PAN_RTH,SMALL(IF(T_ART_PAN_RTH>=Table_Panneau!$B$15,IF(T_ART_PAN_RTH<=Table_Panneau!$B$19,IF(T_ART_PAN_MAT=Table_Panneau!$D$15,IF(T_ART_PAN_KRA=Table_Panneau!$D$23,IF(T_ART_PAN_EPA<=Table_Panneau!$B$23,ROW(T_ART_PAN_RTH),""))))),ROW(46:46))),"")} | E64: {=IFERROR(INDEX(T_ART_PAN_EPA,SMALL(IF(T_ART_PAN_RTH>=Table_Panneau!$B$15,IF(T_ART_PAN_RTH<=Table_Panneau!$B$19,IF(T_ART_PAN_MAT=Table_Panneau!$D$15,IF(T_ART_PAN_KRA=Table_Panneau!$D$23,IF(T_ART_PAN_EPA<=Table_Panneau!$B$23,ROW(T_ART_PAN_RTH),""))))),ROW(46:46))),"")} | F64: {=IFERROR(INDEX(T_ART_PAN_COD,SMALL(IF(T_ART_PAN_RTH>=Table_Panneau!$B$15,IF(T_ART_PAN_RTH<=Table_Panneau!$B$19,IF(T_ART_PAN_MAT=Table_Panneau!$D$15,IF(T_ART_PAN_KRA=Table_Panneau!$D$23,IF(T_ART_PAN_EPA<=Table_Panneau!$B$23,ROW(T_ART_PAN_RTH),""))))),ROW(46:46))),"")} | G64: {=IFERROR(INDEX(T_ART_PAN_DIS,SMALL(IF(T_ART_PAN_RTH>=Table_Panneau!$B$15,IF(T_ART_PAN_RTH<=Table_Panneau!$B$19,IF(T_ART_PAN_MAT=Table_Panneau!$D$15,IF(T_ART_PAN_KRA=Table_Panneau!$D$23,IF(T_ART_PAN_EPA<=Table_Panneau!$B$23,ROW(T_ART_PAN_RTH),""))))),ROW(46:46))),"")}
C65: {=IFERROR(INDEX(T_ART_PAN_LIB,SMALL(IF(T_ART_PAN_RTH>=Table_Panneau!$B$15,IF(T_ART_PAN_RTH<=Table_Panneau!$B$19,IF(T_ART_PAN_MAT=Table_Panneau!$D$15,IF(T_ART_PAN_KRA=Table_Panneau!$D$23,IF(T_ART_PAN_EPA<=Table_Panneau!$B$23,ROW(T_ART_PAN_RTH),""))))),ROW(47:47))),"")} | D65: {=IFERROR(INDEX(T_ART_PAN_RTH,SMALL(IF(T_ART_PAN_RTH>=Table_Panneau!$B$15,IF(T_ART_PAN_RTH<=Table_Panneau!$B$19,IF(T_ART_PAN_MAT=Table_Panneau!$D$15,IF(T_ART_PAN_KRA=Table_Panneau!$D$23,IF(T_ART_PAN_EPA<=Table_Panneau!$B$23,ROW(T_ART_PAN_RTH),""))))),ROW(47:47))),"")} | E65: {=IFERROR(INDEX(T_ART_PAN_EPA,SMALL(IF(T_ART_PAN_RTH>=Table_Panneau!$B$15,IF(T_ART_PAN_RTH<=Table_Panneau!$B$19,IF(T_ART_PAN_MAT=Table_Panneau!$D$15,IF(T_ART_PAN_KRA=Table_Panneau!$D$23,IF(T_ART_PAN_EPA<=Table_Panneau!$B$23,ROW(T_ART_PAN_RTH),""))))),ROW(47:47))),"")} | F65: {=IFERROR(INDEX(T_ART_PAN_COD,SMALL(IF(T_ART_PAN_RTH>=Table_Panneau!$B$15,IF(T_ART_PAN_RTH<=Table_Panneau!$B$19,IF(T_ART_PAN_MAT=Table_Panneau!$D$15,IF(T_ART_PAN_KRA=Table_Panneau!$D$23,IF(T_ART_PAN_EPA<=Table_Panneau!$B$23,ROW(T_ART_PAN_RTH),""))))),ROW(47:47))),"")} | G65: {=IFERROR(INDEX(T_ART_PAN_DIS,SMALL(IF(T_ART_PAN_RTH>=Table_Panneau!$B$15,IF(T_ART_PAN_RTH<=Table_Panneau!$B$19,IF(T_ART_PAN_MAT=Table_Panneau!$D$15,IF(T_ART_PAN_KRA=Table_Panneau!$D$23,IF(T_ART_PAN_EPA<=Table_Panneau!$B$23,ROW(T_ART_PAN_RTH),""))))),ROW(47:47))),"")}
C66: {=IFERROR(INDEX(T_ART_PAN_LIB,SMALL(IF(T_ART_PAN_RTH>=Table_Panneau!$B$15,IF(T_ART_PAN_RTH<=Table_Panneau!$B$19,IF(T_ART_PAN_MAT=Table_Panneau!$D$15,IF(T_ART_PAN_KRA=Table_Panneau!$D$23,IF(T_ART_PAN_EPA<=Table_Panneau!$B$23,ROW(T_ART_PAN_RTH),""))))),ROW(48:48))),"")} | D66: {=IFERROR(INDEX(T_ART_PAN_RTH,SMALL(IF(T_ART_PAN_RTH>=Table_Panneau!$B$15,IF(T_ART_PAN_RTH<=Table_Panneau!$B$19,IF(T_ART_PAN_MAT=Table_Panneau!$D$15,IF(T_ART_PAN_KRA=Table_Panneau!$D$23,IF(T_ART_PAN_EPA<=Table_Panneau!$B$23,ROW(T_ART_PAN_RTH),""))))),ROW(48:48))),"")} | E66: {=IFERROR(INDEX(T_ART_PAN_EPA,SMALL(IF(T_ART_PAN_RTH>=Table_Panneau!$B$15,IF(T_ART_PAN_RTH<=Table_Panneau!$B$19,IF(T_ART_PAN_MAT=Table_Panneau!$D$15,IF(T_ART_PAN_KRA=Table_Panneau!$D$23,IF(T_ART_PAN_EPA<=Table_Panneau!$B$23,ROW(T_ART_PAN_RTH),""))))),ROW(48:48))),"")} | F66: {=IFERROR(INDEX(T_ART_PAN_COD,SMALL(IF(T_ART_PAN_RTH>=Table_Panneau!$B$15,IF(T_ART_PAN_RTH<=Table_Panneau!$B$19,IF(T_ART_PAN_MAT=Table_Panneau!$D$15,IF(T_ART_PAN_KRA=Table_Panneau!$D$23,IF(T_ART_PAN_EPA<=Table_Panneau!$B$23,ROW(T_ART_PAN_RTH),""))))),ROW(48:48))),"")} | G66: {=IFERROR(INDEX(T_ART_PAN_DIS,SMALL(IF(T_ART_PAN_RTH>=Table_Panneau!$B$15,IF(T_ART_PAN_RTH<=Table_Panneau!$B$19,IF(T_ART_PAN_MAT=Table_Panneau!$D$15,IF(T_ART_PAN_KRA=Table_Panneau!$D$23,IF(T_ART_PAN_EPA<=Table_Panneau!$B$23,ROW(T_ART_PAN_RTH),""))))),ROW(48:48))),"")}
C67: {=IFERROR(INDEX(T_ART_PAN_LIB,SMALL(IF(T_ART_PAN_RTH>=Table_Panneau!$B$15,IF(T_ART_PAN_RTH<=Table_Panneau!$B$19,IF(T_ART_PAN_MAT=Table_Panneau!$D$15,IF(T_ART_PAN_KRA=Table_Panneau!$D$23,IF(T_ART_PAN_EPA<=Table_Panneau!$B$23,ROW(T_ART_PAN_RTH),""))))),ROW(49:49))),"")} | D67: {=IFERROR(INDEX(T_ART_PAN_RTH,SMALL(IF(T_ART_PAN_RTH>=Table_Panneau!$B$15,IF(T_ART_PAN_RTH<=Table_Panneau!$B$19,IF(T_ART_PAN_MAT=Table_Panneau!$D$15,IF(T_ART_PAN_KRA=Table_Panneau!$D$23,IF(T_ART_PAN_EPA<=Table_Panneau!$B$23,ROW(T_ART_PAN_RTH),""))))),ROW(49:49))),"")} | E67: {=IFERROR(INDEX(T_ART_PAN_EPA,SMALL(IF(T_ART_PAN_RTH>=Table_Panneau!$B$15,IF(T_ART_PAN_RTH<=Table_Panneau!$B$19,IF(T_ART_PAN_MAT=Table_Panneau!$D$15,IF(T_ART_PAN_KRA=Table_Panneau!$D$23,IF(T_ART_PAN_EPA<=Table_Panneau!$B$23,ROW(T_ART_PAN_RTH),""))))),ROW(49:49))),"")} | F67: {=IFERROR(INDEX(T_ART_PAN_COD,SMALL(IF(T_ART_PAN_RTH>=Table_Panneau!$B$15,IF(T_ART_PAN_RTH<=Table_Panneau!$B$19,IF(T_ART_PAN_MAT=Table_Panneau!$D$15,IF(T_ART_PAN_KRA=Table_Panneau!$D$23,IF(T_ART_PAN_EPA<=Table_Panneau!$B$23,ROW(T_ART_PAN_RTH),""))))),ROW(49:49))),"")} | G67: {=IFERROR(INDEX(T_ART_PAN_DIS,SMALL(IF(T_ART_PAN_RTH>=Table_Panneau!$B$15,IF(T_ART_PAN_RTH<=Table_Panneau!$B$19,IF(T_ART_PAN_MAT=Table_Panneau!$D$15,IF(T_ART_PAN_KRA=Table_Panneau!$D$23,IF(T_ART_PAN_EPA<=Table_Panneau!$B$23,ROW(T_ART_PAN_RTH),""))))),ROW(49:49))),"")}
C68: {=IFERROR(INDEX(T_ART_PAN_LIB,SMALL(IF(T_ART_PAN_RTH>=Table_Panneau!$B$15,IF(T_ART_PAN_RTH<=Table_Panneau!$B$19,IF(T_ART_PAN_MAT=Table_Panneau!$D$15,IF(T_ART_PAN_KRA=Table_Panneau!$D$23,IF(T_ART_PAN_EPA<=Table_Panneau!$B$23,ROW(T_ART_PAN_RTH),""))))),ROW(50:50))),"")} | D68: {=IFERROR(INDEX(T_ART_PAN_RTH,SMALL(IF(T_ART_PAN_RTH>=Table_Panneau!$B$15,IF(T_ART_PAN_RTH<=Table_Panneau!$B$19,IF(T_ART_PAN_MAT=Table_Panneau!$D$15,IF(T_ART_PAN_KRA=Table_Panneau!$D$23,IF(T_ART_PAN_EPA<=Table_Panneau!$B$23,ROW(T_ART_PAN_RTH),""))))),ROW(50:50))),"")} | E68: {=IFERROR(INDEX(T_ART_PAN_EPA,SMALL(IF(T_ART_PAN_RTH>=Table_Panneau!$B$15,IF(T_ART_PAN_RTH<=Table_Panneau!$B$19,IF(T_ART_PAN_MAT=Table_Panneau!$D$15,IF(T_ART_PAN_KRA=Table_Panneau!$D$23,IF(T_ART_PAN_EPA<=Table_Panneau!$B$23,ROW(T_ART_PAN_RTH),""))))),ROW(50:50))),"")} | F68: {=IFERROR(INDEX(T_ART_PAN_COD,SMALL(IF(T_ART_PAN_RTH>=Table_Panneau!$B$15,IF(T_ART_PAN_RTH<=Table_Panneau!$B$19,IF(T_ART_PAN_MAT=Table_Panneau!$D$15,IF(T_ART_PAN_KRA=Table_Panneau!$D$23,IF(T_ART_PAN_EPA<=Table_Panneau!$B$23,ROW(T_ART_PAN_RTH),""))))),ROW(50:50))),"")} | G68: {=IFERROR(INDEX(T_ART_PAN_DIS,SMALL(IF(T_ART_PAN_RTH>=Table_Panneau!$B$15,IF(T_ART_PAN_RTH<=Table_Panneau!$B$19,IF(T_ART_PAN_MAT=Table_Panneau!$D$15,IF(T_ART_PAN_KRA=Table_Panneau!$D$23,IF(T_ART_PAN_EPA<=Table_Panneau!$B$23,ROW(T_ART_PAN_RTH),""))))),ROW(50:50))),"")}
C69: {=IFERROR(INDEX(T_ART_PAN_LIB,SMALL(IF(T_ART_PAN_RTH>=Table_Panneau!$B$15,IF(T_ART_PAN_RTH<=Table_Panneau!$B$19,IF(T_ART_PAN_MAT=Table_Panneau!$D$15,IF(T_ART_PAN_KRA=Table_Panneau!$D$23,IF(T_ART_PAN_EPA<=Table_Panneau!$B$23,ROW(T_ART_PAN_RTH),""))))),ROW(51:51))),"")} | D69: {=IFERROR(INDEX(T_ART_PAN_RTH,SMALL(IF(T_ART_PAN_RTH>=Table_Panneau!$B$15,IF(T_ART_PAN_RTH<=Table_Panneau!$B$19,IF(T_ART_PAN_MAT=Table_Panneau!$D$15,IF(T_ART_PAN_KRA=Table_Panneau!$D$23,IF(T_ART_PAN_EPA<=Table_Panneau!$B$23,ROW(T_ART_PAN_RTH),""))))),ROW(51:51))),"")} | E69: {=IFERROR(INDEX(T_ART_PAN_EPA,SMALL(IF(T_ART_PAN_RTH>=Table_Panneau!$B$15,IF(T_ART_PAN_RTH<=Table_Panneau!$B$19,IF(T_ART_PAN_MAT=Table_Panneau!$D$15,IF(T_ART_PAN_KRA=Table_Panneau!$D$23,IF(T_ART_PAN_EPA<=Table_Panneau!$B$23,ROW(T_ART_PAN_RTH),""))))),ROW(51:51))),"")} | F69: {=IFERROR(INDEX(T_ART_PAN_COD,SMALL(IF(T_ART_PAN_RTH>=Table_Panneau!$B$15,IF(T_ART_PAN_RTH<=Table_Panneau!$B$19,IF(T_ART_PAN_MAT=Table_Panneau!$D$15,IF(T_ART_PAN_KRA=Table_Panneau!$D$23,IF(T_ART_PAN_EPA<=Table_Panneau!$B$23,ROW(T_ART_PAN_RTH),""))))),ROW(51:51))),"")} | G69: {=IFERROR(INDEX(T_ART_PAN_DIS,SMALL(IF(T_ART_PAN_RTH>=Table_Panneau!$B$15,IF(T_ART_PAN_RTH<=Table_Panneau!$B$19,IF(T_ART_PAN_MAT=Table_Panneau!$D$15,IF(T_ART_PAN_KRA=Table_Panneau!$D$23,IF(T_ART_PAN_EPA<=Table_Panneau!$B$23,ROW(T_ART_PAN_RTH),""))))),ROW(51:51))),"")}
H70: {=IFERROR(INDEX(T_ART_PAN_KRA,SMALL(IF(T_ART_PAN_RTH>=Table_Panneau!$B$15,IF(T_ART_PAN_RTH<=Table_Panneau!$B$19,IF(T_ART_PAN_MAT=Table_Panneau!$D$15,IF(T_ART_PAN_KRA=Table_Panneau!$D$23,IF(T_ART_PAN_EPA<=Table_Panneau!$B$23,ROW(T_ART_PAN_RTH),""))))),ROW(52:52))),"")}

Sheet Table_Panneau
B2: Matière - Panneau | C2: Ref menu | D2: Corresp. | F2: Stock ACEM - Panneau | G2: Ref menu | H2: Corresp. | J2: Kraft - Panneau | K2: Ref menu | L2: Corresp.
B3: LDR - Laine de roche | C3: 1 | D3: LDR | F3: Oui | G3: 1 | H3: D | J3: Avec | K3: 1 | L3: O
B4: LDV - Laine de verre | C4: 2 | D4: LDV | F4: Non | G4: 2 | H4: C | J4: Sans | K4: 2 | L4: N
B5: LDB - Laine de bois | C5: 3 | D5: LDB
B6: FDB - Fibre de bois | C6: 4 | D6: FDB | F6: 1 | J6: 1
B7: CHA - Chanvre | C7: 5 | D7: CHA
B8: POL - Polymère | C8: 6 | D8: POL
B10: 2
B14: Report R mini | D14: Formule Recherche matière
B15: =SUM('Resistance Thermique'!G6) -> 3 | D15: =IF(B10=1,D3,IF(B10=2,D4,IF(B10=3,D5,IF(B10=4,D6,IF(B10=5,D7,IF(B10=6,D8,)))))) -> LDV
B18: Report R max | D18: Formule Recherche Stock
B19: =SUM('Resistance Thermique'!G8) -> 8 | D19: =IF(F6=1,H3,IF(F6=2,H4)) -> D
B22: Report épaisseur max | D22: Formule Recherche Kraft
B23: =SUM('Resistance Thermique'!$G$10) -> 140 | D23: =IF(J6=1,L3,IF(J6=2,L4)) -> O
M24: Libéllé | N24: R | O24: Epaisseur | P24: Code ACEM | Q24: Dispo. | R24: Kraft | S24: Mat.
M25: {=IFERROR(INDEX(T_ART_PAN_LIB,SMALL(IF(T_ART_PAN_RTH>=Table_Panneau!$B$15,IF(T_ART_PAN_RTH<=Table_Panneau!$B$19,IF(T_ART_PAN_MAT=Table_Panneau!$D$15,IF(T_ART_PAN_KRA=Table_Panneau!$D$23,IF(T_ART_PAN_EPA<=Table_Panneau!$B$23,ROW(T_ART_PAN_RTH),""))))),ROW(1:1))),"")} -> PX KRAFT TP238 F.DENSITE 100MM 5PX 600*1350 4,05M2 | N25: {=IFERROR(INDEX(T_ART_PAN_RTH,SMALL(IF(T_ART_PAN_RTH>=Table_Panneau!$B$15,IF(T_ART_PAN_RTH<=Table_Panneau!$B$19,IF(T_ART_PAN_MAT=Table_Panneau!$D$15,IF(T_ART_PAN_KRA=Table_Panneau!$D$23,IF(T_ART_PAN_EPA<=Table_Panneau!$B$23,ROW(T_ART_PAN_RTH),""))))),ROW(1:1))),"")} -> 3.15 | O25: {=IFERROR(INDEX(T_ART_PAN_EPA,SMALL(IF(T_ART_PAN_RTH>=Table_Panneau!$B$15,IF(T_ART_PAN_RTH<=Table_Panneau!$B$19,IF(T_ART_PAN_MAT=Table_Panneau!$D$15,IF(T_ART_PAN_KRA=Table_Panneau!$D$23,IF(T_ART_PAN_EPA<=Table_Panneau!$B$23,ROW(T_ART_PAN_RTH),""))))),ROW(1:1))),"")} -> 100 | P25: {=IFERROR(INDEX(T_ART_PAN_COD,SMALL(IF(T_ART_PAN_RTH>=Table_Panneau!$B$15,IF(T_ART_PAN_RTH<=Table_Panneau!$B$19,IF(T_ART_PAN_MAT=Table_Panneau!$D$15,IF(T_ART_PAN_KRA=Table_Panneau!$D$23,IF(T_ART_PAN_EPA<=Table_Panneau!$B$23,ROW(T_ART_PAN_RTH),""))))),ROW(1:1))),"")} -> 300295 | Q25: {=IFERROR(INDEX(T_ART_PAN_DIS,SMALL(IF(T_ART_PAN_RTH>=Table_Panneau!$B$15,IF(T_ART_PAN_RTH<=Table_Panneau!$B$19,IF(T_ART_PAN_MAT=Table_Panneau!$D$15,IF(T_ART_PAN_KRA=Table_Panneau!$D$23,IF(T_ART_PAN_EPA<=Table_Panneau!$B$23,ROW(T_ART_PAN_RTH),""))))),ROW(1:1))),"")} -> D | R25: {=IFERROR(INDEX(T_ART_PAN_KRA,SMALL(IF(T_ART_PAN_RTH>=Table_Panneau!$B$15,IF(T_ART_PAN_RTH<=Table_Panneau!$B$19,IF(T_ART_PAN_MAT=Table_Panneau!$D$15,IF(T_ART_PAN_KRA=Table_Panneau!$D$23,IF(T_ART_PAN_EPA<=Table_Panneau!$B$23,ROW(T_ART_PAN_RTH),""))))),ROW(1:1))),"")} -> O | S25: {=IFERROR(INDEX(T_ART_PAN_MAT,SMALL(IF(T_ART_PAN_RTH>=Table_Panneau!$B$15,IF(T_ART_PAN_RTH<=Table_Panneau!$B$19,IF(T_ART_PAN_MAT=Table_Panneau!$D$15,IF(T_ART_PAN_KRA=Table_Panneau!$D$23,IF(T_ART_PAN_EPA<=Table_Panneau!$B$23,ROW(T_ART_PAN_RTH),""))))),ROW(1:1))),"")} -> LDV
M26: {=IFERROR(INDEX(T_ART_PAN_LIB,SMALL(IF(T_ART_PAN_RTH>=Table_Panneau!$B$15,IF(T_ART_PAN_RTH<=Table_Panneau!$B$19,IF(T_ART_PAN_MAT=Table_Panneau!$D$15,IF(T_ART_PAN_KRA=Table_Panneau!$D$23,IF(T_ART_PAN_EPA<=Table_Panneau!$B$23,ROW(T_ART_PAN_RTH),""))))),ROW(2:2))),"")} -> LDV RLX KRAFT TI 212 140MM 1200*7500 9,00M2 R=3,5 | N26: {=IFERROR(INDEX(T_ART_PAN_RTH,SMALL(IF(T_ART_PAN_RTH>=Table_Panneau!$B$15,IF(T_ART_PAN_RTH<=Table_Panneau!$B$19,IF(T_ART_PAN_MAT=Table_Panneau!$D$15,IF(T_ART_PAN_KRA=Table_Panneau!$D$23,IF(T_ART_PAN_EPA<=Table_Panneau!$B$23,ROW(T_ART_PAN_RTH),""))))),ROW(2:2))),"")} -> 3.5 | O26: {=IFERROR(INDEX(T_ART_PAN_EPA,SMALL(IF(T_ART_PAN_RTH>=Table_Panneau!$B$15,IF(T_ART_PAN_RTH<=Table_Panneau!$B$19,IF(T_ART_PAN_MAT=Table_Panneau!$D$15,IF(T_ART_PAN_KRA=Table_Panneau!$D$23,IF(T_ART_PAN_EPA<=Table_Panneau!$B$23,ROW(T_ART_PAN_RTH),""))))),ROW(2:2))),"")} -> 140 | P26: {=IFERROR(INDEX(T_ART_PAN_COD,SMALL(IF(T_ART_PAN_RTH>=Table_Panneau!$B$15,IF(T_ART_PAN_RTH<=Table_Panneau!$B$19,IF(T_ART_PAN_MAT=Table_Panneau!$D$15,IF(T_ART_PAN_KRA=Table_Panneau!$D$23,IF(T_ART_PAN_EPA<=Table_Panneau!$B$23,ROW(T_ART_PAN_RTH),""))))),ROW(2:2))),"")} -> 300263 | Q26: {=IFERROR(INDEX(T_ART_PAN_DIS,SMALL(IF(T_ART_PAN_RTH>=Table_Panneau!$B$15,IF(T_ART_PAN_RTH<=Table_Panneau!$B$19,IF(T_ART_PAN_MAT=Table_Panneau!$D$15,IF(T_ART_PAN_KRA=Table_Panneau!$D$23,IF(T_ART_PAN_EPA<=Table_Panneau!$B$23,ROW(T_ART_PAN_RTH),""))))),ROW(2:2))),"")} -> C | R26: {=IFERROR(INDEX(T_ART_PAN_KRA,SMALL(IF(T_ART_PAN_RTH>=Table_Panneau!$B$15,IF(T_ART_PAN_RTH<=Table_Panneau!$B$19,IF(T_ART_PAN_MAT=Table_Panneau!$D$15,IF(T_ART_PAN_KRA=Table_Panneau!$D$23,IF(T_ART_PAN_EPA<=Table_Panneau!$B$23,ROW(T_ART_PAN_RTH),""))))),ROW(2:2))),"")} -> O | S26: {=IFERROR(INDEX(T_ART_PAN_MAT,SMALL(IF(T_ART_PAN_RTH>=Table_Panneau!$B$15,IF(T_ART_PAN_RTH<=Table_Panneau!$B$19,IF(T_ART_PAN_MAT=Table_Panneau!$D$15,IF(T_ART_PAN_KRA=Table_Panneau!$D$23,IF(T_ART_PAN_EPA<=Table_Panneau!$B$23,ROW(T_ART_PAN_RTH),""))))),ROW(2:2))),"")} -> LDV
M27: {=IFERROR(INDEX(T_ART_PAN_LIB,SMALL(IF(T_ART_PAN_RTH>=Table_Panneau!$B$15,IF(T_ART_PAN_RTH<=Table_Panneau!$B$19,IF(T_ART_PAN_MAT=Table_Panneau!$D$15,IF(T_ART_PAN_KRA=Table_Panneau!$D$23,IF(T_ART_PAN_EPA<=Table_Panneau!$B$23,ROW(T_ART_PAN_RTH),""))))),ROW(3:3))),"")} -> PX KRAFT TP238 F.DENSITE 120MM 4PX 600*1350 3,24M2 | N27: {=IFERROR(INDEX(T_ART_PAN_RTH,SMALL(IF(T_ART_PAN_RTH>=Table_Panneau!$B$15,IF(T_ART_PAN_RTH<=Table_Panneau!$B$19,IF(T_ART_PAN_MAT=Table_Panneau!$D$15,IF(T_ART_PAN_KRA=Table_Panneau!$D$23,IF(T_ART_PAN_EPA<=Table_Panneau!$B$23,ROW(T_ART_PAN_RTH),""))))),ROW(3:3))),"")} -> 3.75 | O27: {=IFERROR(INDEX(T_ART_PAN_EPA,SMALL(IF(T_ART_PAN_RTH>=Table_Panneau!$B$15,IF(T_ART_PAN_RTH<=Table_Panneau!$B$19,IF(T_ART_PAN_MAT=Table_Panneau!$D$15,IF(T_ART_PAN_KRA=Table_Panneau!$D$23,IF(T_ART_PAN_EPA<=Table_Panneau!$B$23,ROW(T_ART_PAN_RTH),""))))),ROW(3:3))),"")} -> 120 | P27: {=IFERROR(INDEX(T_ART_PAN_COD,SMALL(IF(T_ART_PAN_RTH>=Table_Panneau!$B$15,IF(T_ART_PAN_RTH<=Table_Panneau!$B$19,IF(T_ART_PAN_MAT=Table_Panneau!$D$15,IF(T_ART_PAN_KRA=Table_Panneau!$D$23,IF(T_ART_PAN_EPA<=Table_Panneau!$B$23,ROW(T_ART_PAN_RTH),""))))),ROW(3:3))),"")} -> 031990 | Q27: {=IFERROR(INDEX(T_ART_PAN_DIS,SMALL(IF(T_ART_PAN_RTH>=Table_Panneau!$B$15,IF(T_ART_PAN_RTH<=Table_Panneau!$B$19,IF(T_ART_PAN_MAT=Table_Panneau!$D$15,IF(T_ART_PAN_KRA=Table_Panneau!$D$23,IF(T_ART_PAN_EPA<=Table_Panneau!$B$23,ROW(T_ART_PAN_RTH),""))))),ROW(3:3))),"")} -> D | R27: {=IFERROR(INDEX(T_ART_PAN_KRA,SMALL(IF(T_ART_PAN_RTH>=Table_Panneau!$B$15,IF(T_ART_PAN_RTH<=Table_Panneau!$B$19,IF(T_ART_PAN_MAT=Table_Panneau!$D$15,IF(T_ART_PAN_KRA=Table_Panneau!$D$23,IF(T_ART_PAN_EPA<=Table_Panneau!$B$23,ROW(T_ART_PAN_RTH),""))))),ROW(3:3))),"")} -> O | S27: {=IFERROR(INDEX(T_ART_PAN_MAT,SMALL(IF(T_ART_PAN_RTH>=Table_Panneau!$B$15,IF(T_ART_PAN_RTH<=Table_Panneau!$B$19,IF(T_ART_PAN_MAT=Table_Panneau!$D$15,IF(T_ART_PAN_KRA=Table_Panneau!$D$23,IF(T_ART_PAN_EPA<=Table_Panneau!$B$23,ROW(T_ART_PAN_RTH),""))))),ROW(3:3))),"")} -> LDV
M28: {=IFERROR(INDEX(T_ART_PAN_LIB,SMALL(IF(T_ART_PAN_RTH>=Table_Panneau!$B$15,IF(T_ART_PAN_RTH<=Table_Panneau!$B$19,IF(T_ART_PAN_MAT=Table_Panneau!$D$15,IF(T_ART_PAN_KRA=Table_Panneau!$D$23,IF(T_ART_PAN_EPA<=Table_Panneau!$B$23,ROW(T_ART_PAN_RTH),""))))),ROW(4:4))),"")} -> PX KRAFT TP238 F.DENSITE 140MM 4PX 600*1350 3,24M2 | N28: {=IFERROR(INDEX(T_ART_PAN_RTH,SMALL(IF(T_ART_PAN_RTH>=Table_Panneau!$B$15,IF(T_ART_PAN_RTH<=Table_Panneau!$B$19,IF(T_ART_PAN_MAT=Table_Panneau!$D$15,IF(T_ART_PAN_KRA=Table_Panneau!$D$23,IF(T_ART_PAN_EPA<=Table_Panneau!$B$23,ROW(T_ART_PAN_RTH),""))))),ROW(4:4))),"")} -> 4.4 | O28: {=IFERROR(INDEX(T_ART_PAN_EPA,SMALL(IF(T_ART_PAN_RTH>=Table_Panneau!$B$15,IF(T_ART_PAN_RTH<=Table_Panneau!$B$19,IF(T_ART_PAN_MAT=Table_Panneau!$D$15,IF(T_ART_PAN_KRA=Table_Panneau!$D$23,IF(T_ART_PAN_EPA<=Table_Panneau!$B$23,ROW(T_ART_PAN_RTH),""))))),ROW(4:4))),"")} -> 140 | P28: {=IFERROR(INDEX(T_ART_PAN_COD,SMALL(IF(T_ART_PAN_RTH>=Table_Panneau!$B$15,IF(T_ART_PAN_RTH<=Table_Panneau!$B$19,IF(T_ART_PAN_MAT=Table_Panneau!$D$15,IF(T_ART_PAN_KRA=Table_Panneau!$D$23,IF(T_ART_PAN_EPA<=Table_Panneau!$B$23,ROW(T_ART_PAN_RTH),""))))),ROW(4:4))),"")} -> 301991 | Q28: {=IFERROR(INDEX(T_ART_PAN_DIS,SMALL(IF(T_ART_PAN_RTH>=Table_Panneau!$B$15,IF(T_ART_PAN_RTH<=Table_Panneau!$B$19,IF(T_ART_PAN_MAT=Table_Panneau!$D$15,IF(T_ART_PAN_KRA=Table_Panneau!$D$23,IF(T_ART_PAN_EPA<=Table_Panneau!$B$23,ROW(T_ART_PAN_RTH),""))))),ROW(4:4))),"")} -> D | R28: {=IFERROR(INDEX(T_ART_PAN_KRA,SMALL(IF(T_ART_PAN_RTH>=Table_Panneau!$B$15,IF(T_ART_PAN_RTH<=Table_Panneau!$B$19,IF(T_ART_PAN_MAT=Table_Panneau!$D$15,IF(T_ART_PAN_KRA=Table_Panneau!$D$23,IF(T_ART_PAN_EPA<=Table_Panneau!$B$23,ROW(T_ART_PAN_RTH),""))))),ROW(4:4))),"")} -> O | S28: {=IFERROR(INDEX(T_ART_PAN_MAT,SMALL(IF(T_ART_PAN_RTH>=Table_Panneau!$B$15,IF(T_ART_PAN_RTH<=Table_Panneau!$B$19,IF(T_ART_PAN_MAT=Table_Panneau!$D$15,IF(T_ART_PAN_KRA=Table_Panneau!$D$23,IF(T_ART_PAN_EPA<=Table_Panneau!$B$23,ROW(T_ART_PAN_RTH),""))))),ROW(4:4))),"")} -> LDV
M29: {=IFERROR(INDEX(T_ART_PAN_LIB,SMALL(IF(T_ART_PAN_RTH>=Table_Panneau!$B$15,IF(T_ART_PAN_RTH<=Table_Panneau!$B$19,IF(T_ART_PAN_MAT=Table_Panneau!$D$15,IF(T_ART_PAN_KRA=Table_Panneau!$D$23,IF(T_ART_PAN_EPA<=Table_Panneau!$B$23,ROW(T_ART_PAN_RTH),""))))),ROW(5:5))),"")} | N29: {=IFERROR(INDEX(T_ART_PAN_RTH,SMALL(IF(T_ART_PAN_RTH>=Table_Panneau!$B$15,IF(T_ART_PAN_RTH<=Table_Panneau!$B$19,IF(T_ART_PAN_MAT=Table_Panneau!$D$15,IF(T_ART_PAN_KRA=Table_Panneau!$D$23,IF(T_ART_PAN_EPA<=Table_Panneau!$B$23,ROW(T_ART_PAN_RTH),""))))),ROW(5:5))),"")} | O29: {=IFERROR(INDEX(T_ART_PAN_EPA,SMALL(IF(T_ART_PAN_RTH>=Table_Panneau!$B$15,IF(T_ART_PAN_RTH<=Table_Panneau!$B$19,IF(T_ART_PAN_MAT=Table_Panneau!$D$15,IF(T_ART_PAN_KRA=Table_Panneau!$D$23,IF(T_ART_PAN_EPA<=Table_Panneau!$B$23,ROW(T_ART_PAN_RTH),""))))),ROW(5:5))),"")} | P29: {=IFERROR(INDEX(T_ART_PAN_COD,SMALL(IF(T_ART_PAN_RTH>=Table_Panneau!$B$15,IF(T_ART_PAN_RTH<=Table_Panneau!$B$19,IF(T_ART_PAN_MAT=Table_Panneau!$D$15,IF(T_ART_PAN_KRA=Table_Panneau!$D$23,IF(T_ART_PAN_EPA<=Table_Panneau!$B$23,ROW(T_ART_PAN_RTH),""))))),ROW(5:5))),"")} | Q29: {=IFERROR(INDEX(T_ART_PAN_DIS,SMALL(IF(T_ART_PAN_RTH>=Table_Panneau!$B$15,IF(T_ART_PAN_RTH<=Table_Panneau!$B$19,IF(T_ART_PAN_MAT=Table_Panneau!$D$15,IF(T_ART_PAN_KRA=Table_Panneau!$D$23,IF(T_ART_PAN_EPA<=Table_Panneau!$B$23,ROW(T_ART_PAN_RTH),""))))),ROW(5:5))),"")} | R29: {=IFERROR(INDEX(T_ART_PAN_KRA,SMALL(IF(T_ART_PAN_RTH>=Table_Panneau!$B$15,IF(T_ART_PAN_RTH<=Table_Panneau!$B$19,IF(T_ART_PAN_MAT=Table_Panneau!$D$15,IF(T_ART_PAN_KRA=Table_Panneau!$D$23,IF(T_ART_PAN_EPA<=Table_Panneau!$B$23,ROW(T_ART_PAN_RTH),""))))),ROW(5:5))),"")} | S29: {=IFERROR(INDEX(T_ART_PAN_MAT,SMALL(IF(T_ART_PAN_RTH>=Table_Panneau!$B$15,IF(T_ART_PAN_RTH<=Table_Panneau!$B$19,IF(T_ART_PAN_MAT=Table_Panneau!$D$15,IF(T_ART_PAN_KRA=Table_Panneau!$D$23,IF(T_ART_PAN_EPA<=Table_Panneau!$B$23,ROW(T_ART_PAN_RTH),""))))),ROW(5:5))),"")}
M30: {=IFERROR(INDEX(T_ART_PAN_LIB,SMALL(IF(T_ART_PAN_RTH>=Table_Panneau!$B$15,IF(T_ART_PAN_RTH<=Table_Panneau!$B$19,IF(T_ART_PAN_MAT=Table_Panneau!$D$15,IF(T_ART_PAN_KRA=Table_Panneau!$D$23,IF(T_ART_PAN_EPA<=Table_Panneau!$B$23,ROW(T_ART_PAN_RTH),""))))),ROW(6:6))),"")} | N30: {=IFERROR(INDEX(T_ART_PAN_RTH,SMALL(IF(T_ART_PAN_RTH>=Table_Panneau!$B$15,IF(T_ART_PAN_RTH<=Table_Panneau!$B$19,IF(T_ART_PAN_MAT=Table_Panneau!$D$15,IF(T_ART_PAN_KRA=Table_Panneau!$D$23,IF(T_ART_PAN_EPA<=Table_Panneau!$B$23,ROW(T_ART_PAN_RTH),""))))),ROW(6:6))),"")} | O30: {=IFERROR(INDEX(T_ART_PAN_EPA,SMALL(IF(T_ART_PAN_RTH>=Table_Panneau!$B$15,IF(T_ART_PAN_RTH<=Table_Panneau!$B$19,IF(T_ART_PAN_MAT=Table_Panneau!$D$15,IF(T_ART_PAN_KRA=Table_Panneau!$D$23,IF(T_ART_PAN_EPA<=Table_Panneau!$B$23,ROW(T_ART_PAN_RTH),""))))),ROW(6:6))),"")} | P30: {=IFERROR(INDEX(T_ART_PAN_COD,SMALL(IF(T_ART_PAN_RTH>=Table_Panneau!$B$15,IF(T_ART_PAN_RTH<=Table_Panneau!$B$19,IF(T_ART_PAN_MAT=Table_Panneau!$D$15,IF(T_ART_PAN_KRA=Table_Panneau!$D$23,IF(T_ART_PAN_EPA<=Table_Panneau!$B$23,ROW(T_ART_PAN_RTH),""))))),ROW(6:6))),"")} | Q30: {=IFERROR(INDEX(T_ART_PAN_DIS,SMALL(IF(T_ART_PAN_RTH>=Table_Panneau!$B$15,IF(T_ART_PAN_RTH<=Table_Panneau!$B$19,IF(T_ART_PAN_MAT=Table_Panneau!$D$15,IF(T_ART_PAN_KRA=Table_Panneau!$D$23,IF(T_ART_PAN_EPA<=Table_Panneau!$B$23,ROW(T_ART_PAN_RTH),""))))),ROW(6:6))),"")} | R30: {=IFERROR(INDEX(T_ART_PAN_KRA,SMALL(IF(T_ART_PAN_RTH>=Table_Panneau!$B$15,IF(T_ART_PAN_RTH<=Table_Panneau!$B$19,IF(T_ART_PAN_MAT=Table_Panneau!$D$15,IF(T_ART_PAN_KRA=Table_Panneau!$D$23,IF(T_ART_PAN_EPA<=Table_Panneau!$B$23,ROW(T_ART_PAN_RTH),""))))),ROW(6:6))),"")} | S30: {=IFERROR(INDEX(T_ART_PAN_MAT,SMALL(IF(T_ART_PAN_RTH>=Table_Panneau!$B$15,IF(T_ART_PAN_RTH<=Table_Panneau!$B$19,IF(T_ART_PAN_MAT=Table_Panneau!$D$15,IF(T_ART_PAN_KRA=Table_Panneau!$D$23,IF(T_ART_PAN_EPA<=Table_Panneau!$B$23,ROW(T_ART_PAN_RTH),""))))),ROW(6:6))),"")}
M31: {=IFERROR(INDEX(T_ART_PAN_LIB,SMALL(IF(T_ART_PAN_RTH>=Table_Panneau!$B$15,IF(T_ART_PAN_RTH<=Table_Panneau!$B$19,IF(T_ART_PAN_MAT=Table_Panneau!$D$15,IF(T_ART_PAN_KRA=Table_Panneau!$D$23,IF(T_ART_PAN_EPA<=Table_Panneau!$B$23,ROW(T_ART_PAN_RTH),""))))),ROW(7:7))),"")} | N31: {=IFERROR(INDEX(T_ART_PAN_RTH,SMALL(IF(T_ART_PAN_RTH>=Table_Panneau!$B$15,IF(T_ART_PAN_RTH<=Table_Panneau!$B$19,IF(T_ART_PAN_MAT=Table_Panneau!$D$15,IF(T_ART_PAN_KRA=Table_Panneau!$D$23,IF(T_ART_PAN_EPA<=Table_Panneau!$B$23,ROW(T_ART_PAN_RTH),""))))),ROW(7:7))),"")} | O31: {=IFERROR(INDEX(T_ART_PAN_EPA,SMALL(IF(T_ART_PAN_RTH>=Table_Panneau!$B$15,IF(T_ART_PAN_RTH<=Table_Panneau!$B$19,IF(T_ART_PAN_MAT=Table_Panneau!$D$15,IF(T_ART_PAN_KRA=Table_Panneau!$D$23,IF(T_ART_PAN_EPA<=Table_Panneau!$B$23,ROW(T_ART_PAN_RTH),""))))),ROW(7:7))),"")} | P31: {=IFERROR(INDEX(T_ART_PAN_COD,SMALL(IF(T_ART_PAN_RTH>=Table_Panneau!$B$15,IF(T_ART_PAN_RTH<=Table_Panneau!$B$19,IF(T_ART_PAN_MAT=Table_Panneau!$D$15,IF(T_ART_PAN_KRA=Table_Panneau!$D$23,IF(T_ART_PAN_EPA<=Table_Panneau!$B$23,ROW(T_ART_PAN_RTH),""))))),ROW(7:7))),"")} | Q31: {=IFERROR(INDEX(T_ART_PAN_DIS,SMALL(IF(T_ART_PAN_RTH>=Table_Panneau!$B$15,IF(T_ART_PAN_RTH<=Table_Panneau!$B$19,IF(T_ART_PAN_MAT=Table_Panneau!$D$15,IF(T_ART_PAN_KRA=Table_Panneau!$D$23,IF(T_ART_PAN_EPA<=Table_Panneau!$B$23,ROW(T_ART_PAN_RTH),""))))),ROW(7:7))),"")} | R31: {=IFERROR(INDEX(T_ART_PAN_KRA,SMALL(IF(T_ART_PAN_RTH>=Table_Panneau!$B$15,IF(T_ART_PAN_RTH<=Table_Panneau!$B$19,IF(T_ART_PAN_MAT=Table_Panneau!$D$15,IF(T_ART_PAN_KRA=Table_Panneau!$D$23,IF(T_ART_PAN_EPA<=Table_Panneau!$B$23,ROW(T_ART_PAN_RTH),""))))),ROW(7:7))),"")} | S31: {=IFERROR(INDEX(T_ART_PAN_MAT,SMALL(IF(T_ART_PAN_RTH>=Table_Panneau!$B$15,IF(T_ART_PAN_RTH<=Table_Panneau!$B$19,IF(T_ART_PAN_MAT=Table_Panneau!$D$15,IF(T_ART_PAN_KRA=Table_Panneau!$D$23,IF(T_ART_PAN_EPA<=Table_Panneau!$B$23,ROW(T_ART_PAN_RTH),""))))),ROW(7:7))),"")}
M32: {=IFERROR(INDEX(T_ART_PAN_LIB,SMALL(IF(T_ART_PAN_RTH>=Table_Panneau!$B$15,IF(T_ART_PAN_RTH<=Table_Panneau!$B$19,IF(T_ART_PAN_MAT=Table_Panneau!$D$15,IF(T_ART_PAN_KRA=Table_Panneau!$D$23,IF(T_ART_PAN_EPA<=Table_Panneau!$B$23,ROW(T_ART_PAN_RTH),""))))),ROW(8:8))),"")} | N32: {=IFERROR(INDEX(T_ART_PAN_RTH,SMALL(IF(T_ART_PAN_RTH>=Table_Panneau!$B$15,IF(T_ART_PAN_RTH<=Table_Panneau!$B$19,IF(T_ART_PAN_MAT=Table_Panneau!$D$15,IF(T_ART_PAN_KRA=Table_Panneau!$D$23,IF(T_ART_PAN_EPA<=Table_Panneau!$B$23,ROW(T_ART_PAN_RTH),""))))),ROW(8:8))),"")} | O32: {=IFERROR(INDEX(T_ART_PAN_EPA,SMALL(IF(T_ART_PAN_RTH>=Table_Panneau!$B$15,IF(T_ART_PAN_RTH<=Table_Panneau!$B$19,IF(T_ART_PAN_MAT=Table_Panneau!$D$15,IF(T_ART_PAN_KRA=Table_Panneau!$D$23,IF(T_ART_PAN_EPA<=Table_Panneau!$B$23,ROW(T_ART_PAN_RTH),""))))),ROW(8:8))),"")} | P32: {=IFERROR(INDEX(T_ART_PAN_COD,SMALL(IF(T_ART_PAN_RTH>=Table_Panneau!$B$15,IF(T_ART_PAN_RTH<=Table_Panneau!$B$19,IF(T_ART_PAN_MAT=Table_Panneau!$D$15,IF(T_ART_PAN_KRA=Table_Panneau!$D$23,IF(T_ART_PAN_EPA<=Table_Panneau!$B$23,ROW(T_ART_PAN_RTH),""))))),ROW(8:8))),"")} | Q32: {=IFERROR(INDEX(T_ART_PAN_DIS,SMALL(IF(T_ART_PAN_RTH>=Table_Panneau!$B$15,IF(T_ART_PAN_RTH<=Table_Panneau!$B$19,IF(T_ART_PAN_MAT=Table_Panneau!$D$15,IF(T_ART_PAN_KRA=Table_Panneau!$D$23,IF(T_ART_PAN_EPA<=Table_Panneau!$B$23,ROW(T_ART_PAN_RTH),""))))),ROW(8:8))),"")} | R32: {=IFERROR(INDEX(T_ART_PAN_KRA,SMALL(IF(T_ART_PAN_RTH>=Table_Panneau!$B$15,IF(T_ART_PAN_RTH<=Table_Panneau!$B$19,IF(T_ART_PAN_MAT=Table_Panneau!$D$15,IF(T_ART_PAN_KRA=Table_Panneau!$D$23,IF(T_ART_PAN_EPA<=Table_Panneau!$B$23,ROW(T_ART_PAN_RTH),""))))),ROW(8:8))),"")} | S32: {=IFERROR(INDEX(T_ART_PAN_MAT,SMALL(IF(T_ART_PAN_RTH>=Table_Panneau!$B$15,IF(T_ART_PAN_RTH<=Table_Panneau!$B$19,IF(T_ART_PAN_MAT=Table_Panneau!$D$15,IF(T_ART_PAN_KRA=Table_Panneau!$D$23,IF(T_ART_PAN_EPA<=Table_Panneau!$B$23,ROW(T_ART_PAN_RTH),""))))),ROW(8:8))),"")}
M33: {=IFERROR(INDEX(T_ART_PAN_LIB,SMALL(IF(T_ART_PAN_RTH>=Table_Panneau!$B$15,IF(T_ART_PAN_RTH<=Table_Panneau!$B$19,IF(T_ART_PAN_MAT=Table_Panneau!$D$15,IF(T_ART_PAN_KRA=Table_Panneau!$D$23,IF(T_ART_PAN_EPA<=Table_Panneau!$B$23,ROW(T_ART_PAN_RTH),""))))),ROW(9:9))),"")} | N33: {=IFERROR(INDEX(T_ART_PAN_RTH,SMALL(IF(T_ART_PAN_RTH>=Table_Panneau!$B$15,IF(T_ART_PAN_RTH<=Table_Panneau!$B$19,IF(T_ART_PAN_MAT=Table_Panneau!$D$15,IF(T_ART_PAN_KRA=Table_Panneau!$D$23,IF(T_ART_PAN_EPA<=Table_Panneau!$B$23,ROW(T_ART_PAN_RTH),""))))),ROW(9:9))),"")} | O33: {=IFERROR(INDEX(T_ART_PAN_EPA,SMALL(IF(T_ART_PAN_RTH>=Table_Panneau!$B$15,IF(T_ART_PAN_RTH<=Table_Panneau!$B$19,IF(T_ART_PAN_MAT=Table_Panneau!$D$15,IF(T_ART_PAN_KRA=Table_Panneau!$D$23,IF(T_ART_PAN_EPA<=Table_Panneau!$B$23,ROW(T_ART_PAN_RTH),""))))),ROW(9:9))),"")} | P33: {=IFERROR(INDEX(T_ART_PAN_COD,SMALL(IF(T_ART_PAN_RTH>=Table_Panneau!$B$15,IF(T_ART_PAN_RTH<=Table_Panneau!$B$19,IF(T_ART_PAN_MAT=Table_Panneau!$D$15,IF(T_ART_PAN_KRA=Table_Panneau!$D$23,IF(T_ART_PAN_EPA<=Table_Panneau!$B$23,ROW(T_ART_PAN_RTH),""))))),ROW(9:9))),"")} | Q33: {=IFERROR(INDEX(T_ART_PAN_DIS,SMALL(IF(T_ART_PAN_RTH>=Table_Panneau!$B$15,IF(T_ART_PAN_RTH<=Table_Panneau!$B$19,IF(T_ART_PAN_MAT=Table_Panneau!$D$15,IF(T_ART_PAN_KRA=Table_Panneau!$D$23,IF(T_ART_PAN_EPA<=Table_Panneau!$B$23,ROW(T_ART_PAN_RTH),""))))),ROW(9:9))),"")} | R33: {=IFERROR(INDEX(T_ART_PAN_KRA,SMALL(IF(T_ART_PAN_RTH>=Table_Panneau!$B$15,IF(T_ART_PAN_RTH<=Table_Panneau!$B$19,IF(T_ART_PAN_MAT=Table_Panneau!$D$15,IF(T_ART_PAN_KRA=Table_Panneau!$D$23,IF(T_ART_PAN_EPA<=Table_Panneau!$B$23,ROW(T_ART_PAN_RTH),""))))),ROW(9:9))),"")} | S33: {=IFERROR(INDEX(T_ART_PAN_MAT,SMALL(IF(T_ART_PAN_RTH>=Table_Panneau!$B$15,IF(T_ART_PAN_RTH<=Table_Panneau!$B$19,IF(T_ART_PAN_MAT=Table_Panneau!$D$15,IF(T_ART_PAN_KRA=Table_Panneau!$D$23,IF(T_ART_PAN_EPA<=Table_Panneau!$B$23,ROW(T_ART_PAN_RTH),""))))),ROW(9:9))),"")}
M34: {=IFERROR(INDEX(T_ART_PAN_LIB,SMALL(IF(T_ART_PAN_RTH>=Table_Panneau!$B$15,IF(T_ART_PAN_RTH<=Table_Panneau!$B$19,IF(T_ART_PAN_MAT=Table_Panneau!$D$15,IF(T_ART_PAN_KRA=Table_Panneau!$D$23,IF(T_ART_PAN_EPA<=Table_Panneau!$B$23,ROW(T_ART_PAN_RTH),""))))),ROW(10:10))),"")} | N34: {=IFERROR(INDEX(T_ART_PAN_RTH,SMALL(IF(T_ART_PAN_RTH>=Table_Panneau!$B$15,IF(T_ART_PAN_RTH<=Table_Panneau!$B$19,IF(T_ART_PAN_MAT=Table_Panneau!$D$15,IF(T_ART_PAN_KRA=Table_Panneau!$D$23,IF(T_ART_PAN_EPA<=Table_Panneau!$B$23,ROW(T_ART_PAN_RTH),""))))),ROW(10:10))),"")} | O34: {=IFERROR(INDEX(T_ART_PAN_EPA,SMALL(IF(T_ART_PAN_RTH>=Table_Panneau!$B$15,IF(T_ART_PAN_RTH<=Table_Panneau!$B$19,IF(T_ART_PAN_MAT=Table_Panneau!$D$15,IF(T_ART_PAN_KRA=Table_Panneau!$D$23,IF(T_ART_PAN_EPA<=Table_Panneau!$B$23,ROW(T_ART_PAN_RTH),""))))),ROW(10:10))),"")} | P34: {=IFERROR(INDEX(T_ART_PAN_COD,SMALL(IF(T_ART_PAN_RTH>=Table_Panneau!$B$15,IF(T_ART_PAN_RTH<=Table_Panneau!$B$19,IF(T_ART_PAN_MAT=Table_Panneau!$D$15,IF(T_ART_PAN_KRA=Table_Panneau!$D$23,IF(T_ART_PAN_EPA<=Table_Panneau!$B$23,ROW(T_ART_PAN_RTH),""))))),ROW(10:10))),"")} | Q34: {=IFERROR(INDEX(T_ART_PAN_DIS,SMALL(IF(T_ART_PAN_RTH>=Table_Panneau!$B$15,IF(T_ART_PAN_RTH<=Table_Panneau!$B$19,IF(T_ART_PAN_MAT=Table_Panneau!$D$15,IF(T_ART_PAN_KRA=Table_Panneau!$D$23,IF(T_ART_PAN_EPA<=Table_Panneau!$B$23,ROW(T_ART_PAN_RTH),""))))),ROW(10:10))),"")} | R34: {=IFERROR(INDEX(T_ART_PAN_KRA,SMALL(IF(T_ART_PAN_RTH>=Table_Panneau!$B$15,IF(T_ART_PAN_RTH<=Table_Panneau!$B$19,IF(T_ART_PAN_MAT=Table_Panneau!$D$15,IF(T_ART_PAN_KRA=Table_Panneau!$D$23,IF(T_ART_PAN_EPA<=Table_Panneau!$B$23,ROW(T_ART_PAN_RTH),""))))),ROW(10:10))),"")} | S34: {=IFERROR(INDEX(T_ART_PAN_MAT,SMALL(IF(T_ART_PAN_RTH>=Table_Panneau!$B$15,IF(T_ART_PAN_RTH<=Table_Panneau!$B$19,IF(T_ART_PAN_MAT=Table_Panneau!$D$15,IF(T_ART_PAN_KRA=Table_Panneau!$D$23,IF(T_ART_PAN_EPA<=Table_Panneau!$B$23,ROW(T_ART_PAN_RTH),""))))),ROW(10:10))),"")}
M35: {=IFERROR(INDEX(T_ART_PAN_LIB,SMALL(IF(T_ART_PAN_RTH>=Table_Panneau!$B$15,IF(T_ART_PAN_RTH<=Table_Panneau!$B$19,IF(T_ART_PAN_MAT=Table_Panneau!$D$15,IF(T_ART_PAN_KRA=Table_Panneau!$D$23,IF(T_ART_PAN_EPA<=Table_Panneau!$B$23,ROW(T_ART_PAN_RTH),""))))),ROW(11:11))),"")} | N35: {=IFERROR(INDEX(T_ART_PAN_RTH,SMALL(IF(T_ART_PAN_RTH>=Table_Panneau!$B$15,IF(T_ART_PAN_RTH<=Table_Panneau!$B$19,IF(T_ART_PAN_MAT=Table_Panneau!$D$15,IF(T_ART_PAN_KRA=Table_Panneau!$D$23,IF(T_ART_PAN_EPA<=Table_Panneau!$B$23,ROW(T_ART_PAN_RTH),""))))),ROW(11:11))),"")} | O35: {=IFERROR(INDEX(T_ART_PAN_EPA,SMALL(IF(T_ART_PAN_RTH>=Table_Panneau!$B$15,IF(T_ART_PAN_RTH<=Table_Panneau!$B$19,IF(T_ART_PAN_MAT=Table_Panneau!$D$15,IF(T_ART_PAN_KRA=Table_Panneau!$D$23,IF(T_ART_PAN_EPA<=Table_Panneau!$B$23,ROW(T_ART_PAN_RTH),""))))),ROW(11:11))),"")} | P35: {=IFERROR(INDEX(T_ART_PAN_COD,SMALL(IF(T_ART_PAN_RTH>=Table_Panneau!$B$15,IF(T_ART_PAN_RTH<=Table_Panneau!$B$19,IF(T_ART_PAN_MAT=Table_Panneau!$D$15,IF(T_ART_PAN_KRA=Table_Panneau!$D$23,IF(T_ART_PAN_EPA<=Table_Panneau!$B$23,ROW(T_ART_PAN_RTH),""))))),ROW(11:11))),"")} | Q35: {=IFERROR(INDEX(T_ART_PAN_DIS,SMALL(IF(T_ART_PAN_RTH>=Table_Panneau!$B$15,IF(T_ART_PAN_RTH<=Table_Panneau!$B$19,IF(T_ART_PAN_MAT=Table_Panneau!$D$15,IF(T_ART_PAN_KRA=Table_Panneau!$D$23,IF(T_ART_PAN_EPA<=Table_Panneau!$B$23,ROW(T_ART_PAN_RTH),""))))),ROW(11:11))),"")} | R35: {=IFERROR(INDEX(T_ART_PAN_KRA,SMALL(IF(T_ART_PAN_RTH>=Table_Panneau!$B$15,IF(T_ART_PAN_RTH<=Table_Panneau!$B$19,IF(T_ART_PAN_MAT=Table_Panneau!$D$15,IF(T_ART_PAN_KRA=Table_Panneau!$D$23,IF(T_ART_PAN_EPA<=Table_Panneau!$B$23,ROW(T_ART_PAN_RTH),""))))),ROW(11:11))),"")} | S35: {=IFERROR(INDEX(T_ART_PAN_MAT,SMALL(IF(T_ART_PAN_RTH>=Table_Panneau!$B$15,IF(T_ART_PAN_RTH<=Table_Panneau!$B$19,IF(T_ART_PAN_MAT=Table_Panneau!$D$15,IF(T_ART_PAN_KRA=Table_Panneau!$D$23,IF(T_ART_PAN_EPA<=Table_Panneau!$B$23,ROW(T_ART_PAN_RTH),""))))),ROW(11:11))),"")}
M36: {=IFERROR(INDEX(T_ART_PAN_LIB,SMALL(IF(T_ART_PAN_RTH>=Table_Panneau!$B$15,IF(T_ART_PAN_RTH<=Table_Panneau!$B$19,IF(T_ART_PAN_MAT=Table_Panneau!$D$15,IF(T_ART_PAN_KRA=Table_Panneau!$D$23,IF(T_ART_PAN_EPA<=Table_Panneau!$B$23,ROW(T_ART_PAN_RTH),""))))),ROW(12:12))),"")} | N36: {=IFERROR(INDEX(T_ART_PAN_RTH,SMALL(IF(T_ART_PAN_RTH>=Table_Panneau!$B$15,IF(T_ART_PAN_RTH<=Table_Panneau!$B$19,IF(T_ART_PAN_MAT=Table_Panneau!$D$15,IF(T_ART_PAN_KRA=Table_Panneau!$D$23,IF(T_ART_PAN_EPA<=Table_Panneau!$B$23,ROW(T_ART_PAN_RTH),""))))),ROW(12:12))),"")} | O36: {=IFERROR(INDEX(T_ART_PAN_EPA,SMALL(IF(T_ART_PAN_RTH>=Table_Panneau!$B$15,IF(T_ART_PAN_RTH<=Table_Panneau!$B$19,IF(T_ART_PAN_MAT=Table_Panneau!$D$15,IF(T_ART_PAN_KRA=Table_Panneau!$D$23,IF(T_ART_PAN_EPA<=Table_Panneau!$B$23,ROW(T_ART_PAN_RTH),""))))),ROW(12:12))),"")} | P36: {=IFERROR(INDEX(T_ART_PAN_COD,SMALL(IF(T_ART_PAN_RTH>=Table_Panneau!$B$15,IF(T_ART_PAN_RTH<=Table_Panneau!$B$19,IF(T_ART_PAN_MAT=Table_Panneau!$D$15,IF(T_ART_PAN_KRA=Table_Panneau!$D$23,IF(T_ART_PAN_EPA<=Table_Panneau!$B$23,ROW(T_ART_PAN_RTH),""))))),ROW(12:12))),"")} | Q36: {=IFERROR(INDEX(T_ART_PAN_DIS,SMALL(IF(T_ART_PAN_RTH>=Table_Panneau!$B$15,IF(T_ART_PAN_RTH<=Table_Panneau!$B$19,IF(T_ART_PAN_MAT=Table_Panneau!$D$15,IF(T_ART_PAN_KRA=Table_Panneau!$D$23,IF(T_ART_PAN_EPA<=Table_Panneau!$B$23,ROW(T_ART_PAN_RTH),""))))),ROW(12:12))),"")} | R36: {=IFERROR(INDEX(T_ART_PAN_KRA,SMALL(IF(T_ART_PAN_RTH>=Table_Panneau!$B$15,IF(T_ART_PAN_RTH<=Table_Panneau!$B$19,IF(T_ART_PAN_MAT=Table_Panneau!$D$15,IF(T_ART_PAN_KRA=Table_Panneau!$D$23,IF(T_ART_PAN_EPA<=Table_Panneau!$B$23,ROW(T_ART_PAN_RTH),""))))),ROW(12:12))),"")} | S36: {=IFERROR(INDEX(T_ART_PAN_MAT,SMALL(IF(T_ART_PAN_RTH>=Table_Panneau!$B$15,IF(T_ART_PAN_RTH<=Table_Panneau!$B$19,IF(T_ART_PAN_MAT=Table_Panneau!$D$15,IF(T_ART_PAN_KRA=Table_Panneau!$D$23,IF(T_ART_PAN_EPA<=Table_Panneau!$B$23,ROW(T_ART_PAN_RTH),""))))),ROW(12:12))),"")}
M37: {=IFERROR(INDEX(T_ART_PAN_LIB,SMALL(IF(T_ART_PAN_RTH>=Table_Panneau!$B$15,IF(T_ART_PAN_RTH<=Table_Panneau!$B$19,IF(T_ART_PAN_MAT=Table_Panneau!$D$15,IF(T_ART_PAN_KRA=Table_Panneau!$D$23,IF(T_ART_PAN_EPA<=Table_Panneau!$B$23,ROW(T_ART_PAN_RTH),""))))),ROW(13:13))),"")} | N37: {=IFERROR(INDEX(T_ART_PAN_RTH,SMALL(IF(T_ART_PAN_RTH>=Table_Panneau!$B$15,IF(T_ART_PAN_RTH<=Table_Panneau!$B$19,IF(T_ART_PAN_MAT=Table_Panneau!$D$15,IF(T_ART_PAN_KRA=Table_Panneau!$D$23,IF(T_ART_PAN_EPA<=Table_Panneau!$B$23,ROW(T_ART_PAN_RTH),""))))),ROW(13:13))),"")} | O37: {=IFERROR(INDEX(T_ART_PAN_EPA,SMALL(IF(T_ART_PAN_RTH>=Table_Panneau!$B$15,IF(T_ART_PAN_RTH<=Table_Panneau!$B$19,IF(T_ART_PAN_MAT=Table_Panneau!$D$15,IF(T_ART_PAN_KRA=Table_Panneau!$D$23,IF(T_ART_PAN_EPA<=Table_Panneau!$B$23,ROW(T_ART_PAN_RTH),""))))),ROW(13:13))),"")} | P37: {=IFERROR(INDEX(T_ART_PAN_COD,SMALL(IF(T_ART_PAN_RTH>=Table_Panneau!$B$15,IF(T_ART_PAN_RTH<=Table_Panneau!$B$19,IF(T_ART_PAN_MAT=Table_Panneau!$D$15,IF(T_ART_PAN_KRA=Table_Panneau!$D$23,IF(T_ART_PAN_EPA<=Table_Panneau!$B$23,ROW(T_ART_PAN_RTH),""))))),ROW(13:13))),"")} | Q37: {=IFERROR(INDEX(T_ART_PAN_DIS,SMALL(IF(T_ART_PAN_RTH>=Table_Panneau!$B$15,IF(T_ART_PAN_RTH<=Table_Panneau!$B$19,IF(T_ART_PAN_MAT=Table_Panneau!$D$15,IF(T_ART_PAN_KRA=Table_Panneau!$D$23,IF(T_ART_PAN_EPA<=Table_Panneau!$B$23,ROW(T_ART_PAN_RTH),""))))),ROW(13:13))),"")} | R37: {=IFERROR(INDEX(T_ART_PAN_KRA,SMALL(IF(T_ART_PAN_RTH>=Table_Panneau!$B$15,IF(T_ART_PAN_RTH<=Table_Panneau!$B$19,IF(T_ART_PAN_MAT=Table_Panneau!$D$15,IF(T_ART_PAN_KRA=Table_Panneau!$D$23,IF(T_ART_PAN_EPA<=Table_Panneau!$B$23,ROW(T_ART_PAN_RTH),""))))),ROW(13:13))),"")} | S37: {=IFERROR(INDEX(T_ART_PAN_MAT,SMALL(IF(T_ART_PAN_RTH>=Table_Panneau!$B$15,IF(T_ART_PAN_RTH<=Table_Panneau!$B$19,IF(T_ART_PAN_MAT=Table_Panneau!$D$15,IF(T_ART_PAN_KRA=Table_Panneau!$D$23,IF(T_ART_PAN_EPA<=Table_Panneau!$B$23,ROW(T_ART_PAN_RTH),""))))),ROW(13:13))),"")}
M38: {=IFERROR(INDEX(T_ART_PAN_LIB,SMALL(IF(T_ART_PAN_RTH>=Table_Panneau!$B$15,IF(T_ART_PAN_RTH<=Table_Panneau!$B$19,IF(T_ART_PAN_MAT=Table_Panneau!$D$15,IF(T_ART_PAN_KRA=Table_Panneau!$D$23,IF(T_ART_PAN_EPA<=Table_Panneau!$B$23,ROW(T_ART_PAN_RTH),""))))),ROW(14:14))),"")} | N38: {=IFERROR(INDEX(T_ART_PAN_RTH,SMALL(IF(T_ART_PAN_RTH>=Table_Panneau!$B$15,IF(T_ART_PAN_RTH<=Table_Panneau!$B$19,IF(T_ART_PAN_MAT=Table_Panneau!$D$15,IF(T_ART_PAN_KRA=Table_Panneau!$D$23,IF(T_ART_PAN_EPA<=Table_Panneau!$B$23,ROW(T_ART_PAN_RTH),""))))),ROW(14:14))),"")} | O38: {=IFERROR(INDEX(T_ART_PAN_EPA,SMALL(IF(T_ART_PAN_RTH>=Table_Panneau!$B$15,IF(T_ART_PAN_RTH<=Table_Panneau!$B$19,IF(T_ART_PAN_MAT=Table_Panneau!$D$15,IF(T_ART_PAN_KRA=Table_Panneau!$D$23,IF(T_ART_PAN_EPA<=Table_Panneau!$B$23,ROW(T_ART_PAN_RTH),""))))),ROW(14:14))),"")} | P38: {=IFERROR(INDEX(T_ART_PAN_COD,SMALL(IF(T_ART_PAN_RTH>=Table_Panneau!$B$15,IF(T_ART_PAN_RTH<=Table_Panneau!$B$19,IF(T_ART_PAN_MAT=Table_Panneau!$D$15,IF(T_ART_PAN_KRA=Table_Panneau!$D$23,IF(T_ART_PAN_EPA<=Table_Panneau!$B$23,ROW(T_ART_PAN_RTH),""))))),ROW(14:14))),"")} | Q38: {=IFERROR(INDEX(T_ART_PAN_DIS,SMALL(IF(T_ART_PAN_RTH>=Table_Panneau!$B$15,IF(T_ART_PAN_RTH<=Table_Panneau!$B$19,IF(T_ART_PAN_MAT=Table_Panneau!$D$15,IF(T_ART_PAN_KRA=Table_Panneau!$D$23,IF(T_ART_PAN_EPA<=Table_Panneau!$B$23,ROW(T_ART_PAN_RTH),""))))),ROW(14:14))),"")} | R38: {=IFERROR(INDEX(T_ART_PAN_KRA,SMALL(IF(T_ART_PAN_RTH>=Table_Panneau!$B$15,IF(T_ART_PAN_RTH<=Table_Panneau!$B$19,IF(T_ART_PAN_MAT=Table_Panneau!$D$15,IF(T_ART_PAN_KRA=Table_Panneau!$D$23,IF(T_ART_PAN_EPA<=Table_Panneau!$B$23,ROW(T_ART_PAN_RTH),""))))),ROW(14:14))),"")} | S38: {=IFERROR(INDEX(T_ART_PAN_MAT,SMALL(IF(T_ART_PAN_RTH>=Table_Panneau!$B$15,IF(T_ART_PAN_RTH<=Table_Panneau!$B$19,IF(T_ART_PAN_MAT=Table_Panneau!$D$15,IF(T_ART_PAN_KRA=Table_Panneau!$D$23,IF(T_ART_PAN_EPA<=Table_Panneau!$B$23,ROW(T_ART_PAN_RTH),""))))),ROW(14:14))),"")}
M39: {=IFERROR(INDEX(T_ART_PAN_LIB,SMALL(IF(T_ART_PAN_RTH>=Table_Panneau!$B$15,IF(T_ART_PAN_RTH<=Table_Panneau!$B$19,IF(T_ART_PAN_MAT=Table_Panneau!$D$15,IF(T_ART_PAN_KRA=Table_Panneau!$D$23,IF(T_ART_PAN_EPA<=Table_Panneau!$B$23,ROW(T_ART_PAN_RTH),""))))),ROW(15:15))),"")} | N39: {=IFERROR(INDEX(T_ART_PAN_RTH,SMALL(IF(T_ART_PAN_RTH>=Table_Panneau!$B$15,IF(T_ART_PAN_RTH<=Table_Panneau!$B$19,IF(T_ART_PAN_MAT=Table_Panneau!$D$15,IF(T_ART_PAN_KRA=Table_Panneau!$D$23,IF(T_ART_PAN_EPA<=Table_Panneau!$B$23,ROW(T_ART_PAN_RTH),""))))),ROW(15:15))),"")} | O39: {=IFERROR(INDEX(T_ART_PAN_EPA,SMALL(IF(T_ART_PAN_RTH>=Table_Panneau!$B$15,IF(T_ART_PAN_RTH<=Table_Panneau!$B$19,IF(T_ART_PAN_MAT=Table_Panneau!$D$15,IF(T_ART_PAN_KRA=Table_Panneau!$D$23,IF(T_ART_PAN_EPA<=Table_Panneau!$B$23,ROW(T_ART_PAN_RTH),""))))),ROW(15:15))),"")} | P39: {=IFERROR(INDEX(T_ART_PAN_COD,SMALL(IF(T_ART_PAN_RTH>=Table_Panneau!$B$15,IF(T_ART_PAN_RTH<=Table_Panneau!$B$19,IF(T_ART_PAN_MAT=Table_Panneau!$D$15,IF(T_ART_PAN_KRA=Table_Panneau!$D$23,IF(T_ART_PAN_EPA<=Table_Panneau!$B$23,ROW(T_ART_PAN_RTH),""))))),ROW(15:15))),"")} | Q39: {=IFERROR(INDEX(T_ART_PAN_DIS,SMALL(IF(T_ART_PAN_RTH>=Table_Panneau!$B$15,IF(T_ART_PAN_RTH<=Table_Panneau!$B$19,IF(T_ART_PAN_MAT=Table_Panneau!$D$15,IF(T_ART_PAN_KRA=Table_Panneau!$D$23,IF(T_ART_PAN_EPA<=Table_Panneau!$B$23,ROW(T_ART_PAN_RTH),""))))),ROW(15:15))),"")} | R39: {=IFERROR(INDEX(T_ART_PAN_KRA,SMALL(IF(T_ART_PAN_RTH>=Table_Panneau!$B$15,IF(T_ART_PAN_RTH<=Table_Panneau!$B$19,IF(T_ART_PAN_MAT=Table_Panneau!$D$15,IF(T_ART_PAN_KRA=Table_Panneau!$D$23,IF(T_ART_PAN_EPA<=Table_Panneau!$B$23,ROW(T_ART_PAN_RTH),""))))),ROW(15:15))),"")} | S39: {=IFERROR(INDEX(T_ART_PAN_MAT,SMALL(IF(T_ART_PAN_RTH>=Table_Panneau!$B$15,IF(T_ART_PAN_RTH<=Table_Panneau!$B$19,IF(T_ART_PAN_MAT=Table_Panneau!$D$15,IF(T_ART_PAN_KRA=Table_Panneau!$D$23,IF(T_ART_PAN_EPA<=Table_Panneau!$B$23,ROW(T_ART_PAN_RTH),""))))),ROW(15:15))),"")}
M40: {=IFERROR(INDEX(T_ART_PAN_LIB,SMALL(IF(T_ART_PAN_RTH>=Table_Panneau!$B$15,IF(T_ART_PAN_RTH<=Table_Panneau!$B$19,IF(T_ART_PAN_MAT=Table_Panneau!$D$15,IF(T_ART_PAN_KRA=Table_Panneau!$D$23,IF(T_ART_PAN_EPA<=Table_Panneau!$B$23,ROW(T_ART_PAN_RTH),""))))),ROW(16:16))),"")} | N40: {=IFERROR(INDEX(T_ART_PAN_RTH,SMALL(IF(T_ART_PAN_RTH>=Table_Panneau!$B$15,IF(T_ART_PAN_RTH<=Table_Panneau!$B$19,IF(T_ART_PAN_MAT=Table_Panneau!$D$15,IF(T_ART_PAN_KRA=Table_Panneau!$D$23,IF(T_ART_PAN_EPA<=Table_Panneau!$B$23,ROW(T_ART_PAN_RTH),""))))),ROW(16:16))),"")} | O40: {=IFERROR(INDEX(T_ART_PAN_EPA,SMALL(IF(T_ART_PAN_RTH>=Table_Panneau!$B$15,IF(T_ART_PAN_RTH<=Table_Panneau!$B$19,IF(T_ART_PAN_MAT=Table_Panneau!$D$15,IF(T_ART_PAN_KRA=Table_Panneau!$D$23,IF(T_ART_PAN_EPA<=Table_Panneau!$B$23,ROW(T_ART_PAN_RTH),""))))),ROW(16:16))),"")} | P40: {=IFERROR(INDEX(T_ART_PAN_COD,SMALL(IF(T_ART_PAN_RTH>=Table_Panneau!$B$15,IF(T_ART_PAN_RTH<=Table_Panneau!$B$19,IF(T_ART_PAN_MAT=Table_Panneau!$D$15,IF(T_ART_PAN_KRA=Table_Panneau!$D$23,IF(T_ART_PAN_EPA<=Table_Panneau!$B$23,ROW(T_ART_PAN_RTH),""))))),ROW(16:16))),"")} | Q40: {=IFERROR(INDEX(T_ART_PAN_DIS,SMALL(IF(T_ART_PAN_RTH>=Table_Panneau!$B$15,IF(T_ART_PAN_RTH<=Table_Panneau!$B$19,IF(T_ART_PAN_MAT=Table_Panneau!$D$15,IF(T_ART_PAN_KRA=Table_Panneau!$D$23,IF(T_ART_PAN_EPA<=Table_Panneau!$B$23,ROW(T_ART_PAN_RTH),""))))),ROW(16:16))),"")} | R40: {=IFERROR(INDEX(T_ART_PAN_KRA,SMALL(IF(T_ART_PAN_RTH>=Table_Panneau!$B$15,IF(T_ART_PAN_RTH<=Table_Panneau!$B$19,IF(T_ART_PAN_MAT=Table_Panneau!$D$15,IF(T_ART_PAN_KRA=Table_Panneau!$D$23,IF(T_ART_PAN_EPA<=Table_Panneau!$B$23,ROW(T_ART_PAN_RTH),""))))),ROW(16:16))),"")} | S40: {=IFERROR(INDEX(T_ART_PAN_MAT,SMALL(IF(T_ART_PAN_RTH>=Table_Panneau!$B$15,IF(T_ART_PAN_RTH<=Table_Panneau!$B$19,IF(T_ART_PAN_MAT=Table_Panneau!$D$15,IF(T_ART_PAN_KRA=Table_Panneau!$D$23,IF(T_ART_PAN_EPA<=Table_Panneau!$B$23,ROW(T_ART_PAN_RTH),""))))),ROW(16:16))),"")}
M41: {=IFERROR(INDEX(T_ART_PAN_LIB,SMALL(IF(T_ART_PAN_RTH>=Table_Panneau!$B$15,IF(T_ART_PAN_RTH<=Table_Panneau!$B$19,IF(T_ART_PAN_MAT=Table_Panneau!$D$15,IF(T_ART_PAN_KRA=Table_Panneau!$D$23,IF(T_ART_PAN_EPA<=Table_Panneau!$B$23,ROW(T_ART_PAN_RTH),""))))),ROW(17:17))),"")} | N41: {=IFERROR(INDEX(T_ART_PAN_RTH,SMALL(IF(T_ART_PAN_RTH>=Table_Panneau!$B$15,IF(T_ART_PAN_RTH<=Table_Panneau!$B$19,IF(T_ART_PAN_MAT=Table_Panneau!$D$15,IF(T_ART_PAN_KRA=Table_Panneau!$D$23,IF(T_ART_PAN_EPA<=Table_Panneau!$B$23,ROW(T_ART_PAN_RTH),""))))),ROW(17:17))),"")} | O41: {=IFERROR(INDEX(T_ART_PAN_EPA,SMALL(IF(T_ART_PAN_RTH>=Table_Panneau!$B$15,IF(T_ART_PAN_RTH<=Table_Panneau!$B$19,IF(T_ART_PAN_MAT=Table_Panneau!$D$15,IF(T_ART_PAN_KRA=Table_Panneau!$D$23,IF(T_ART_PAN_EPA<=Table_Panneau!$B$23,ROW(T_ART_PAN_RTH),""))))),ROW(17:17))),"")} | P41: {=IFERROR(INDEX(T_ART_PAN_COD,SMALL(IF(T_ART_PAN_RTH>=Table_Panneau!$B$15,IF(T_ART_PAN_RTH<=Table_Panneau!$B$19,IF(T_ART_PAN_MAT=Table_Panneau!$D$15,IF(T_ART_PAN_KRA=Table_Panneau!$D$23,IF(T_ART_PAN_EPA<=Table_Panneau!$B$23,ROW(T_ART_PAN_RTH),""))))),ROW(17:17))),"")} | Q41: {=IFERROR(INDEX(T_ART_PAN_DIS,SMALL(IF(T_ART_PAN_RTH>=Table_Panneau!$B$15,IF(T_ART_PAN_RTH<=Table_Panneau!$B$19,IF(T_ART_PAN_MAT=Table_Panneau!$D$15,IF(T_ART_PAN_KRA=Table_Panneau!$D$23,IF(T_ART_PAN_EPA<=Table_Panneau!$B$23,ROW(T_ART_PAN_RTH),""))))),ROW(17:17))),"")} | R41: {=IFERROR(INDEX(T_ART_PAN_KRA,SMALL(IF(T_ART_PAN_RTH>=Table_Panneau!$B$15,IF(T_ART_PAN_RTH<=Table_Panneau!$B$19,IF(T_ART_PAN_MAT=Table_Panneau!$D$15,IF(T_ART_PAN_KRA=Table_Panneau!$D$23,IF(T_ART_PAN_EPA<=Table_Panneau!$B$23,ROW(T_ART_PAN_RTH),""))))),ROW(17:17))),"")} | S41: {=IFERROR(INDEX(T_ART_PAN_MAT,SMALL(IF(T_ART_PAN_RTH>=Table_Panneau!$B$15,IF(T_ART_PAN_RTH<=Table_Panneau!$B$19,IF(T_ART_PAN_MAT=Table_Panneau!$D$15,IF(T_ART_PAN_KRA=Table_Panneau!$D$23,IF(T_ART_PAN_EPA<=Table_Panneau!$B$23,ROW(T_ART_PAN_RTH),""))))),ROW(17:17))),"")}
M42: {=IFERROR(INDEX(T_ART_PAN_LIB,SMALL(IF(T_ART_PAN_RTH>=Table_Panneau!$B$15,IF(T_ART_PAN_RTH<=Table_Panneau!$B$19,IF(T_ART_PAN_MAT=Table_Panneau!$D$15,IF(T_ART_PAN_KRA=Table_Panneau!$D$23,IF(T_ART_PAN_EPA<=Table_Panneau!$B$23,ROW(T_ART_PAN_RTH),""))))),ROW(18:18))),"")} | N42: {=IFERROR(INDEX(T_ART_PAN_RTH,SMALL(IF(T_ART_PAN_RTH>=Table_Panneau!$B$15,IF(T_ART_PAN_RTH<=Table_Panneau!$B$19,IF(T_ART_PAN_MAT=Table_Panneau!$D$15,IF(T_ART_PAN_KRA=Table_Panneau!$D$23,IF(T_ART_PAN_EPA<=Table_Panneau!$B$23,ROW(T_ART_PAN_RTH),""))))),ROW(18:18))),"")} | O42: {=IFERROR(INDEX(T_ART_PAN_EPA,SMALL(IF(T_ART_PAN_RTH>=Table_Panneau!$B$15,IF(T_ART_PAN_RTH<=Table_Panneau!$B$19,IF(T_ART_PAN_MAT=Table_Panneau!$D$15,IF(T_ART_PAN_KRA=Table_Panneau!$D$23,IF(T_ART_PAN_EPA<=Table_Panneau!$B$23,ROW(T_ART_PAN_RTH),""))))),ROW(18:18))),"")} | P42: {=IFERROR(INDEX(T_ART_PAN_COD,SMALL(IF(T_ART_PAN_RTH>=Table_Panneau!$B$15,IF(T_ART_PAN_RTH<=Table_Panneau!$B$19,IF(T_ART_PAN_MAT=Table_Panneau!$D$15,IF(T_ART_PAN_KRA=Table_Panneau!$D$23,IF(T_ART_PAN_EPA<=Table_Panneau!$B$23,ROW(T_ART_PAN_RTH),""))))),ROW(18:18))),"")} | Q42: {=IFERROR(INDEX(T_ART_PAN_DIS,SMALL(IF(T_ART_PAN_RTH>=Table_Panneau!$B$15,IF(T_ART_PAN_RTH<=Table_Panneau!$B$19,IF(T_ART_PAN_MAT=Table_Panneau!$D$15,IF(T_ART_PAN_KRA=Table_Panneau!$D$23,IF(T_ART_PAN_EPA<=Table_Panneau!$B$23,ROW(T_ART_PAN_RTH),""))))),ROW(18:18))),"")} | R42: {=IFERROR(INDEX(T_ART_PAN_KRA,SMALL(IF(T_ART_PAN_RTH>=Table_Panneau!$B$15,IF(T_ART_PAN_RTH<=Table_Panneau!$B$19,IF(T_ART_PAN_MAT=Table_Panneau!$D$15,IF(T_ART_PAN_KRA=Table_Panneau!$D$23,IF(T_ART_PAN_EPA<=Table_Panneau!$B$23,ROW(T_ART_PAN_RTH),""))))),ROW(18:18))),"")} | S42: {=IFERROR(INDEX(T_ART_PAN_MAT,SMALL(IF(T_ART_PAN_RTH>=Table_Panneau!$B$15,IF(T_ART_PAN_RTH<=Table_Panneau!$B$19,IF(T_ART_PAN_MAT=Table_Panneau!$D$15,IF(T_ART_PAN_KRA=Table_Panneau!$D$23,IF(T_ART_PAN_EPA<=Table_Panneau!$B$23,ROW(T_ART_PAN_RTH),""))))),ROW(18:18))),"")}
M43: {=IFERROR(INDEX(T_ART_PAN_LIB,SMALL(IF(T_ART_PAN_RTH>=Table_Panneau!$B$15,IF(T_ART_PAN_RTH<=Table_Panneau!$B$19,IF(T_ART_PAN_MAT=Table_Panneau!$D$15,IF(T_ART_PAN_KRA=Table_Panneau!$D$23,IF(T_ART_PAN_EPA<=Table_Panneau!$B$23,ROW(T_ART_PAN_RTH),""))))),ROW(19:19))),"")} | N43: {=IFERROR(INDEX(T_ART_PAN_RTH,SMALL(IF(T_ART_PAN_RTH>=Table_Panneau!$B$15,IF(T_ART_PAN_RTH<=Table_Panneau!$B$19,IF(T_ART_PAN_MAT=Table_Panneau!$D$15,IF(T_ART_PAN_KRA=Table_Panneau!$D$23,IF(T_ART_PAN_EPA<=Table_Panneau!$B$23,ROW(T_ART_PAN_RTH),""))))),ROW(19:19))),"")} | O43: {=IFERROR(INDEX(T_ART_PAN_EPA,SMALL(IF(T_ART_PAN_RTH>=Table_Panneau!$B$15,IF(T_ART_PAN_RTH<=Table_Panneau!$B$19,IF(T_ART_PAN_MAT=Table_Panneau!$D$15,IF(T_ART_PAN_KRA=Table_Panneau!$D$23,IF(T_ART_PAN_EPA<=Table_Panneau!$B$23,ROW(T_ART_PAN_RTH),""))))),ROW(19:19))),"")} | P43: {=IFERROR(INDEX(T_ART_PAN_COD,SMALL(IF(T_ART_PAN_RTH>=Table_Panneau!$B$15,IF(T_ART_PAN_RTH<=Table_Panneau!$B$19,IF(T_ART_PAN_MAT=Table_Panneau!$D$15,IF(T_ART_PAN_KRA=Table_Panneau!$D$23,IF(T_ART_PAN_EPA<=Table_Panneau!$B$23,ROW(T_ART_PAN_RTH),""))))),ROW(19:19))),"")} | Q43: {=IFERROR(INDEX(T_ART_PAN_DIS,SMALL(IF(T_ART_PAN_RTH>=Table_Panneau!$B$15,IF(T_ART_PAN_RTH<=Table_Panneau!$B$19,IF(T_ART_PAN_MAT=Table_Panneau!$D$15,IF(T_ART_PAN_KRA=Table_Panneau!$D$23,IF(T_ART_PAN_EPA<=Table_Panneau!$B$23,ROW(T_ART_PAN_RTH),""))))),ROW(19:19))),"")} | R43: {=IFERROR(INDEX(T_ART_PAN_KRA,SMALL(IF(T_ART_PAN_RTH>=Table_Panneau!$B$15,IF(T_ART_PAN_RTH<=Table_Panneau!$B$19,IF(T_ART_PAN_MAT=Table_Panneau!$D$15,IF(T_ART_PAN_KRA=Table_Panneau!$D$23,IF(T_ART_PAN_EPA<=Table_Panneau!$B$23,ROW(T_ART_PAN_RTH),""))))),ROW(19:19))),"")} | S43: {=IFERROR(INDEX(T_ART_PAN_MAT,SMALL(IF(T_ART_PAN_RTH>=Table_Panneau!$B$15,IF(T_ART_PAN_RTH<=Table_Panneau!$B$19,IF(T_ART_PAN_MAT=Table_Panneau!$D$15,IF(T_ART_PAN_KRA=Table_Panneau!$D$23,IF(T_ART_PAN_EPA<=Table_Panneau!$B$23,ROW(T_ART_PAN_RTH),""))))),ROW(19:19))),"")}
M44: {=IFERROR(INDEX(T_ART_PAN_LIB,SMALL(IF(T_ART_PAN_RTH>=Table_Panneau!$B$15,IF(T_ART_PAN_RTH<=Table_Panneau!$B$19,IF(T_ART_PAN_MAT=Table_Panneau!$D$15,IF(T_ART_PAN_KRA=Table_Panneau!$D$23,IF(T_ART_PAN_EPA<=Table_Panneau!$B$23,ROW(T_ART_PAN_RTH),""))))),ROW(20:20))),"")} | N44: {=IFERROR(INDEX(T_ART_PAN_RTH,SMALL(IF(T_ART_PAN_RTH>=Table_Panneau!$B$15,IF(T_ART_PAN_RTH<=Table_Panneau!$B$19,IF(T_ART_PAN_MAT=Table_Panneau!$D$15,IF(T_ART_PAN_KRA=Table_Panneau!$D$23,IF(T_ART_PAN_EPA<=Table_Panneau!$B$23,ROW(T_ART_PAN_RTH),""))))),ROW(20:20))),"")} | O44: {=IFERROR(INDEX(T_ART_PAN_EPA,SMALL(IF(T_ART_PAN_RTH>=Table_Panneau!$B$15,IF(T_ART_PAN_RTH<=Table_Panneau!$B$19,IF(T_ART_PAN_MAT=Table_Panneau!$D$15,IF(T_ART_PAN_KRA=Table_Panneau!$D$23,IF(T_ART_PAN_EPA<=Table_Panneau!$B$23,ROW(T_ART_PAN_RTH),""))))),ROW(20:20))),"")} | P44: {=IFERROR(INDEX(T_ART_PAN_COD,SMALL(IF(T_ART_PAN_RTH>=Table_Panneau!$B$15,IF(T_ART_PAN_RTH<=Table_Panneau!$B$19,IF(T_ART_PAN_MAT=Table_Panneau!$D$15,IF(T_ART_PAN_KRA=Table_Panneau!$D$23,IF(T_ART_PAN_EPA<=Table_Panneau!$B$23,ROW(T_ART_PAN_RTH),""))))),ROW(20:20))),"")} | Q44: {=IFERROR(INDEX(T_ART_PAN_DIS,SMALL(IF(T_ART_PAN_RTH>=Table_Panneau!$B$15,IF(T_ART_PAN_RTH<=Table_Panneau!$B$19,IF(T_ART_PAN_MAT=Table_Panneau!$D$15,IF(T_ART_PAN_KRA=Table_Panneau!$D$23,IF(T_ART_PAN_EPA<=Table_Panneau!$B$23,ROW(T_ART_PAN_RTH),""))))),ROW(20:20))),"")} | R44: {=IFERROR(INDEX(T_ART_PAN_KRA,SMALL(IF(T_ART_PAN_RTH>=Table_Panneau!$B$15,IF(T_ART_PAN_RTH<=Table_Panneau!$B$19,IF(T_ART_PAN_MAT=Table_Panneau!$D$15,IF(T_ART_PAN_KRA=Table_Panneau!$D$23,IF(T_ART_PAN_EPA<=Table_Panneau!$B$23,ROW(T_ART_PAN_RTH),""))))),ROW(20:20))),"")} | S44: {=IFERROR(INDEX(T_ART_PAN_MAT,SMALL(IF(T_ART_PAN_RTH>=Table_Panneau!$B$15,IF(T_ART_PAN_RTH<=Table_Panneau!$B$19,IF(T_ART_PAN_MAT=Table_Panneau!$D$15,IF(T_ART_PAN_KRA=Table_Panneau!$D$23,IF(T_ART_PAN_EPA<=Table_Panneau!$B$23,ROW(T_ART_PAN_RTH),""))))),ROW(20:20))),"")}
M45: {=IFERROR(INDEX(T_ART_PAN_LIB,SMALL(IF(T_ART_PAN_RTH>=Table_Panneau!$B$15,IF(T_ART_PAN_RTH<=Table_Panneau!$B$19,IF(T_ART_PAN_MAT=Table_Panneau!$D$15,IF(T_ART_PAN_KRA=Table_Panneau!$D$23,IF(T_ART_PAN_EPA<=Table_Panneau!$B$23,ROW(T_ART_PAN_RTH),""))))),ROW(21:21))),"")} | N45: {=IFERROR(INDEX(T_ART_PAN_RTH,SMALL(IF(T_ART_PAN_RTH>=Table_Panneau!$B$15,IF(T_ART_PAN_RTH<=Table_Panneau!$B$19,IF(T_ART_PAN_MAT=Table_Panneau!$D$15,IF(T_ART_PAN_KRA=Table_Panneau!$D$23,IF(T_ART_PAN_EPA<=Table_Panneau!$B$23,ROW(T_ART_PAN_RTH),""))))),ROW(21:21))),"")} | O45: {=IFERROR(INDEX(T_ART_PAN_EPA,SMALL(IF(T_ART_PAN_RTH>=Table_Panneau!$B$15,IF(T_ART_PAN_RTH<=Table_Panneau!$B$19,IF(T_ART_PAN_MAT=Table_Panneau!$D$15,IF(T_ART_PAN_KRA=Table_Panneau!$D$23,IF(T_ART_PAN_EPA<=Table_Panneau!$B$23,ROW(T_ART_PAN_RTH),""))))),ROW(21:21))),"")} | P45: {=IFERROR(INDEX(T_ART_PAN_COD,SMALL(IF(T_ART_PAN_RTH>=Table_Panneau!$B$15,IF(T_ART_PAN_RTH<=Table_Panneau!$B$19,IF(T_ART_PAN_MAT=Table_Panneau!$D$15,IF(T_ART_PAN_KRA=Table_Panneau!$D$23,IF(T_ART_PAN_EPA<=Table_Panneau!$B$23,ROW(T_ART_PAN_RTH),""))))),ROW(21:21))),"")} | Q45: {=IFERROR(INDEX(T_ART_PAN_DIS,SMALL(IF(T_ART_PAN_RTH>=Table_Panneau!$B$15,IF(T_ART_PAN_RTH<=Table_Panneau!$B$19,IF(T_ART_PAN_MAT=Table_Panneau!$D$15,IF(T_ART_PAN_KRA=Table_Panneau!$D$23,IF(T_ART_PAN_EPA<=Table_Panneau!$B$23,ROW(T_ART_PAN_RTH),""))))),ROW(21:21))),"")} | R45: {=IFERROR(INDEX(T_ART_PAN_KRA,SMALL(IF(T_ART_PAN_RTH>=Table_Panneau!$B$15,IF(T_ART_PAN_RTH<=Table_Panneau!$B$19,IF(T_ART_PAN_MAT=Table_Panneau!$D$15,IF(T_ART_PAN_KRA=Table_Panneau!$D$23,IF(T_ART_PAN_EPA<=Table_Panneau!$B$23,ROW(T_ART_PAN_RTH),""))))),ROW(21:21))),"")} | S45: {=IFERROR(INDEX(T_ART_PAN_MAT,SMALL(IF(T_ART_PAN_RTH>=Table_Panneau!$B$15,IF(T_ART_PAN_RTH<=Table_Panneau!$B$19,IF(T_ART_PAN_MAT=Table_Panneau!$D$15,IF(T_ART_PAN_KRA=Table_Panneau!$D$23,IF(T_ART_PAN_EPA<=Table_Panneau!$B$23,ROW(T_ART_PAN_RTH),""))))),ROW(21:21))),"")}
M46: {=IFERROR(INDEX(T_ART_PAN_LIB,SMALL(IF(T_ART_PAN_RTH>=Table_Panneau!$B$15,IF(T_ART_PAN_RTH<=Table_Panneau!$B$19,IF(T_ART_PAN_MAT=Table_Panneau!$D$15,IF(T_ART_PAN_KRA=Table_Panneau!$D$23,IF(T_ART_PAN_EPA<=Table_Panneau!$B$23,ROW(T_ART_PAN_RTH),""))))),ROW(22:22))),"")} | N46: {=IFERROR(INDEX(T_ART_PAN_RTH,SMALL(IF(T_ART_PAN_RTH>=Table_Panneau!$B$15,IF(T_ART_PAN_RTH<=Table_Panneau!$B$19,IF(T_ART_PAN_MAT=Table_Panneau!$D$15,IF(T_ART_PAN_KRA=Table_Panneau!$D$23,IF(T_ART_PAN_EPA<=Table_Panneau!$B$23,ROW(T_ART_PAN_RTH),""))))),ROW(22:22))),"")} | O46: {=IFERROR(INDEX(T_ART_PAN_EPA,SMALL(IF(T_ART_PAN_RTH>=Table_Panneau!$B$15,IF(T_ART_PAN_RTH<=Table_Panneau!$B$19,IF(T_ART_PAN_MAT=Table_Panneau!$D$15,IF(T_ART_PAN_KRA=Table_Panneau!$D$23,IF(T_ART_PAN_EPA<=Table_Panneau!$B$23,ROW(T_ART_PAN_RTH),""))))),ROW(22:22))),"")} | P46: {=IFERROR(INDEX(T_ART_PAN_COD,SMALL(IF(T_ART_PAN_RTH>=Table_Panneau!$B$15,IF(T_ART_PAN_RTH<=Table_Panneau!$B$19,IF(T_ART_PAN_MAT=Table_Panneau!$D$15,IF(T_ART_PAN_KRA=Table_Panneau!$D$23,IF(T_ART_PAN_EPA<=Table_Panneau!$B$23,ROW(T_ART_PAN_RTH),""))))),ROW(22:22))),"")} | Q46: {=IFERROR(INDEX(T_ART_PAN_DIS,SMALL(IF(T_ART_PAN_RTH>=Table_Panneau!$B$15,IF(T_ART_PAN_RTH<=Table_Panneau!$B$19,IF(T_ART_PAN_MAT=Table_Panneau!$D$15,IF(T_ART_PAN_KRA=Table_Panneau!$D$23,IF(T_ART_PAN_EPA<=Table_Panneau!$B$23,ROW(T_ART_PAN_RTH),""))))),ROW(22:22))),"")} | R46: {=IFERROR(INDEX(T_ART_PAN_KRA,SMALL(IF(T_ART_PAN_RTH>=Table_Panneau!$B$15,IF(T_ART_PAN_RTH<=Table_Panneau!$B$19,IF(T_ART_PAN_MAT=Table_Panneau!$D$15,IF(T_ART_PAN_KRA=Table_Panneau!$D$23,IF(T_ART_PAN_EPA<=Table_Panneau!$B$23,ROW(T_ART_PAN_RTH),""))))),ROW(22:22))),"")} | S46: {=IFERROR(INDEX(T_ART_PAN_MAT,SMALL(IF(T_ART_PAN_RTH>=Table_Panneau!$B$15,IF(T_ART_PAN_RTH<=Table_Panneau!$B$19,IF(T_ART_PAN_MAT=Table_Panneau!$D$15,IF(T_ART_PAN_KRA=Table_Panneau!$D$23,IF(T_ART_PAN_EPA<=Table_Panneau!$B$23,ROW(T_ART_PAN_RTH),""))))),ROW(22:22))),"")}
M47: {=IFERROR(INDEX(T_ART_PAN_LIB,SMALL(IF(T_ART_PAN_RTH>=Table_Panneau!$B$15,IF(T_ART_PAN_RTH<=Table_Panneau!$B$19,IF(T_ART_PAN_MAT=Table_Panneau!$D$15,IF(T_ART_PAN_KRA=Table_Panneau!$D$23,IF(T_ART_PAN_EPA<=Table_Panneau!$B$23,ROW(T_ART_PAN_RTH),""))))),ROW(23:23))),"")} | N47: {=IFERROR(INDEX(T_ART_PAN_RTH,SMALL(IF(T_ART_PAN_RTH>=Table_Panneau!$B$15,IF(T_ART_PAN_RTH<=Table_Panneau!$B$19,IF(T_ART_PAN_MAT=Table_Panneau!$D$15,IF(T_ART_PAN_KRA=Table_Panneau!$D$23,IF(T_ART_PAN_EPA<=Table_Panneau!$B$23,ROW(T_ART_PAN_RTH),""))))),ROW(23:23))),"")} | O47: {=IFERROR(INDEX(T_ART_PAN_EPA,SMALL(IF(T_ART_PAN_RTH>=Table_Panneau!$B$15,IF(T_ART_PAN_RTH<=Table_Panneau!$B$19,IF(T_ART_PAN_MAT=Table_Panneau!$D$15,IF(T_ART_PAN_KRA=Table_Panneau!$D$23,IF(T_ART_PAN_EPA<=Table_Panneau!$B$23,ROW(T_ART_PAN_RTH),""))))),ROW(23:23))),"")} | P47: {=IFERROR(INDEX(T_ART_PAN_COD,SMALL(IF(T_ART_PAN_RTH>=Table_Panneau!$B$15,IF(T_ART_PAN_RTH<=Table_Panneau!$B$19,IF(T_ART_PAN_MAT=Table_Panneau!$D$15,IF(T_ART_PAN_KRA=Table_Panneau!$D$23,IF(T_ART_PAN_EPA<=Table_Panneau!$B$23,ROW(T_ART_PAN_RTH),""))))),ROW(23:23))),"")} | Q47: {=IFERROR(INDEX(T_ART_PAN_DIS,SMALL(IF(T_ART_PAN_RTH>=Table_Panneau!$B$15,IF(T_ART_PAN_RTH<=Table_Panneau!$B$19,IF(T_ART_PAN_MAT=Table_Panneau!$D$15,IF(T_ART_PAN_KRA=Table_Panneau!$D$23,IF(T_ART_PAN_EPA<=Table_Panneau!$B$23,ROW(T_ART_PAN_RTH),""))))),ROW(23:23))),"")} | R47: {=IFERROR(INDEX(T_ART_PAN_KRA,SMALL(IF(T_ART_PAN_RTH>=Table_Panneau!$B$15,IF(T_ART_PAN_RTH<=Table_Panneau!$B$19,IF(T_ART_PAN_MAT=Table_Panneau!$D$15,IF(T_ART_PAN_KRA=Table_Panneau!$D$23,IF(T_ART_PAN_EPA<=Table_Panneau!$B$23,ROW(T_ART_PAN_RTH),""))))),ROW(23:23))),"")} | S47: {=IFERROR(INDEX(T_ART_PAN_MAT,SMALL(IF(T_ART_PAN_RTH>=Table_Panneau!$B$15,IF(T_ART_PAN_RTH<=Table_Panneau!$B$19,IF(T_ART_PAN_MAT=Table_Panneau!$D$15,IF(T_ART_PAN_KRA=Table_Panneau!$D$23,IF(T_ART_PAN_EPA<=Table_Panneau!$B$23,ROW(T_ART_PAN_RTH),""))))),ROW(23:23))),"")}
M48: {=IFERROR(INDEX(T_ART_PAN_LIB,SMALL(IF(T_ART_PAN_RTH>=Table_Panneau!$B$15,IF(T_ART_PAN_RTH<=Table_Panneau!$B$19,IF(T_ART_PAN_MAT=Table_Panneau!$D$15,IF(T_ART_PAN_KRA=Table_Panneau!$D$23,IF(T_ART_PAN_EPA<=Table_Panneau!$B$23,ROW(T_ART_PAN_RTH),""))))),ROW(24:24))),"")} | N48: {=IFERROR(INDEX(T_ART_PAN_RTH,SMALL(IF(T_ART_PAN_RTH>=Table_Panneau!$B$15,IF(T_ART_PAN_RTH<=Table_Panneau!$B$19,IF(T_ART_PAN_MAT=Table_Panneau!$D$15,IF(T_ART_PAN_KRA=Table_Panneau!$D$23,IF(T_ART_PAN_EPA<=Table_Panneau!$B$23,ROW(T_ART_PAN_RTH),""))))),ROW(24:24))),"")} | O48: {=IFERROR(INDEX(T_ART_PAN_EPA,SMALL(IF(T_ART_PAN_RTH>=Table_Panneau!$B$15,IF(T_ART_PAN_RTH<=Table_Panneau!$B$19,IF(T_ART_PAN_MAT=Table_Panneau!$D$15,IF(T_ART_PAN_KRA=Table_Panneau!$D$23,IF(T_ART_PAN_EPA<=Table_Panneau!$B$23,ROW(T_ART_PAN_RTH),""))))),ROW(24:24))),"")} | P48: {=IFERROR(INDEX(T_ART_PAN_COD,SMALL(IF(T_ART_PAN_RTH>=Table_Panneau!$B$15,IF(T_ART_PAN_RTH<=Table_Panneau!$B$19,IF(T_ART_PAN_MAT=Table_Panneau!$D$15,IF(T_ART_PAN_KRA=Table_Panneau!$D$23,IF(T_ART_PAN_EPA<=Table_Panneau!$B$23,ROW(T_ART_PAN_RTH),""))))),ROW(24:24))),"")} | Q48: {=IFERROR(INDEX(T_ART_PAN_DIS,SMALL(IF(T_ART_PAN_RTH>=Table_Panneau!$B$15,IF(T_ART_PAN_RTH<=Table_Panneau!$B$19,IF(T_ART_PAN_MAT=Table_Panneau!$D$15,IF(T_ART_PAN_KRA=Table_Panneau!$D$23,IF(T_ART_PAN_EPA<=Table_Panneau!$B$23,ROW(T_ART_PAN_RTH),""))))),ROW(24:24))),"")} | R48: {=IFERROR(INDEX(T_ART_PAN_KRA,SMALL(IF(T_ART_PAN_RTH>=Table_Panneau!$B$15,IF(T_ART_PAN_RTH<=Table_Panneau!$B$19,IF(T_ART_PAN_MAT=Table_Panneau!$D$15,IF(T_ART_PAN_KRA=Table_Panneau!$D$23,IF(T_ART_PAN_EPA<=Table_Panneau!$B$23,ROW(T_ART_PAN_RTH),""))))),ROW(24:24))),"")} | S48: {=IFERROR(INDEX(T_ART_PAN_MAT,SMALL(IF(T_ART_PAN_RTH>=Table_Panneau!$B$15,IF(T_ART_PAN_RTH<=Table_Panneau!$B$19,IF(T_ART_PAN_MAT=Table_Panneau!$D$15,IF(T_ART_PAN_KRA=Table_Panneau!$D$23,IF(T_ART_PAN_EPA<=Table_Panneau!$B$23,ROW(T_ART_PAN_RTH),""))))),ROW(24:24))),"")}
M49: {=IFERROR(INDEX(T_ART_PAN_LIB,SMALL(IF(T_ART_PAN_RTH>=Table_Panneau!$B$15,IF(T_ART_PAN_RTH<=Table_Panneau!$B$19,IF(T_ART_PAN_MAT=Table_Panneau!$D$15,IF(T_ART_PAN_KRA=Table_Panneau!$D$23,IF(T_ART_PAN_EPA<=Table_Panneau!$B$23,ROW(T_ART_PAN_RTH),""))))),ROW(25:25))),"")} | N49: {=IFERROR(INDEX(T_ART_PAN_RTH,SMALL(IF(T_ART_PAN_RTH>=Table_Panneau!$B$15,IF(T_ART_PAN_RTH<=Table_Panneau!$B$19,IF(T_ART_PAN_MAT=Table_Panneau!$D$15,IF(T_ART_PAN_KRA=Table_Panneau!$D$23,IF(T_ART_PAN_EPA<=Table_Panneau!$B$23,ROW(T_ART_PAN_RTH),""))))),ROW(25:25))),"")} | O49: {=IFERROR(INDEX(T_ART_PAN_EPA,SMALL(IF(T_ART_PAN_RTH>=Table_Panneau!$B$15,IF(T_ART_PAN_RTH<=Table_Panneau!$B$19,IF(T_ART_PAN_MAT=Table_Panneau!$D$15,IF(T_ART_PAN_KRA=Table_Panneau!$D$23,IF(T_ART_PAN_EPA<=Table_Panneau!$B$23,ROW(T_ART_PAN_RTH),""))))),ROW(25:25))),"")} | P49: {=IFERROR(INDEX(T_ART_PAN_COD,SMALL(IF(T_ART_PAN_RTH>=Table_Panneau!$B$15,IF(T_ART_PAN_RTH<=Table_Panneau!$B$19,IF(T_ART_PAN_MAT=Table_Panneau!$D$15,IF(T_ART_PAN_KRA=Table_Panneau!$D$23,IF(T_ART_PAN_EPA<=Table_Panneau!$B$23,ROW(T_ART_PAN_RTH),""))))),ROW(25:25))),"")} | Q49: {=IFERROR(INDEX(T_ART_PAN_DIS,SMALL(IF(T_ART_PAN_RTH>=Table_Panneau!$B$15,IF(T_ART_PAN_RTH<=Table_Panneau!$B$19,IF(T_ART_PAN_MAT=Table_Panneau!$D$15,IF(T_ART_PAN_KRA=Table_Panneau!$D$23,IF(T_ART_PAN_EPA<=Table_Panneau!$B$23,ROW(T_ART_PAN_RTH),""))))),ROW(25:25))),"")} | R49: {=IFERROR(INDEX(T_ART_PAN_KRA,SMALL(IF(T_ART_PAN_RTH>=Table_Panneau!$B$15,IF(T_ART_PAN_RTH<=Table_Panneau!$B$19,IF(T_ART_PAN_MAT=Table_Panneau!$D$15,IF(T_ART_PAN_KRA=Table_Panneau!$D$23,IF(T_ART_PAN_EPA<=Table_Panneau!$B$23,ROW(T_ART_PAN_RTH),""))))),ROW(25:25))),"")} | S49: {=IFERROR(INDEX(T_ART_PAN_MAT,SMALL(IF(T_ART_PAN_RTH>=Table_Panneau!$B$15,IF(T_ART_PAN_RTH<=Table_Panneau!$B$19,IF(T_ART_PAN_MAT=Table_Panneau!$D$15,IF(T_ART_PAN_KRA=Table_Panneau!$D$23,IF(T_ART_PAN_EPA<=Table_Panneau!$B$23,ROW(T_ART_PAN_RTH),""))))),ROW(25:25))),"")}
M50: {=IFERROR(INDEX(T_ART_PAN_LIB,SMALL(IF(T_ART_PAN_RTH>=Table_Panneau!$B$15,IF(T_ART_PAN_RTH<=Table_Panneau!$B$19,IF(T_ART_PAN_MAT=Table_Panneau!$D$15,IF(T_ART_PAN_KRA=Table_Panneau!$D$23,IF(T_ART_PAN_EPA<=Table_Panneau!$B$23,ROW(T_ART_PAN_RTH),""))))),ROW(26:26))),"")} | N50: {=IFERROR(INDEX(T_ART_PAN_RTH,SMALL(IF(T_ART_PAN_RTH>=Table_Panneau!$B$15,IF(T_ART_PAN_RTH<=Table_Panneau!$B$19,IF(T_ART_PAN_MAT=Table_Panneau!$D$15,IF(T_ART_PAN_KRA=Table_Panneau!$D$23,IF(T_ART_PAN_EPA<=Table_Panneau!$B$23,ROW(T_ART_PAN_RTH),""))))),ROW(26:26))),"")} | O50: {=IFERROR(INDEX(T_ART_PAN_EPA,SMALL(IF(T_ART_PAN_RTH>=Table_Panneau!$B$15,IF(T_ART_PAN_RTH<=Table_Panneau!$B$19,IF(T_ART_PAN_MAT=Table_Panneau!$D$15,IF(T_ART_PAN_KRA=Table_Panneau!$D$23,IF(T_ART_PAN_EPA<=Table_Panneau!$B$23,ROW(T_ART_PAN_RTH),""))))),ROW(26:26))),"")} | P50: {=IFERROR(INDEX(T_ART_PAN_COD,SMALL(IF(T_ART_PAN_RTH>=Table_Panneau!$B$15,IF(T_ART_PAN_RTH<=Table_Panneau!$B$19,IF(T_ART_PAN_MAT=Table_Panneau!$D$15,IF(T_ART_PAN_KRA=Table_Panneau!$D$23,IF(T_ART_PAN_EPA<=Table_Panneau!$B$23,ROW(T_ART_PAN_RTH),""))))),ROW(26:26))),"")} | Q50: {=IFERROR(INDEX(T_ART_PAN_DIS,SMALL(IF(T_ART_PAN_RTH>=Table_Panneau!$B$15,IF(T_ART_PAN_RTH<=Table_Panneau!$B$19,IF(T_ART_PAN_MAT=Table_Panneau!$D$15,IF(T_ART_PAN_KRA=Table_Panneau!$D$23,IF(T_ART_PAN_EPA<=Table_Panneau!$B$23,ROW(T_ART_PAN_RTH),""))))),ROW(26:26))),"")} | R50: {=IFERROR(INDEX(T_ART_PAN_KRA,SMALL(IF(T_ART_PAN_RTH>=Table_Panneau!$B$15,IF(T_ART_PAN_RTH<=Table_Panneau!$B$19,IF(T_ART_PAN_MAT=Table_Panneau!$D$15,IF(T_ART_PAN_KRA=Table_Panneau!$D$23,IF(T_ART_PAN_EPA<=Table_Panneau!$B$23,ROW(T_ART_PAN_RTH),""))))),ROW(26:26))),"")} | S50: {=IFERROR(INDEX(T_ART_PAN_MAT,SMALL(IF(T_ART_PAN_RTH>=Table_Panneau!$B$15,IF(T_ART_PAN_RTH<=Table_Panneau!$B$19,IF(T_ART_PAN_MAT=Table_Panneau!$D$15,IF(T_ART_PAN_KRA=Table_Panneau!$D$23,IF(T_ART_PAN_EPA<=Table_Panneau!$B$23,ROW(T_ART_PAN_RTH),""))))),ROW(26:26))),"")}
M51: {=IFERROR(INDEX(T_ART_PAN_LIB,SMALL(IF(T_ART_PAN_RTH>=Table_Panneau!$B$15,IF(T_ART_PAN_RTH<=Table_Panneau!$B$19,IF(T_ART_PAN_MAT=Table_Panneau!$D$15,IF(T_ART_PAN_KRA=Table_Panneau!$D$23,IF(T_ART_PAN_EPA<=Table_Panneau!$B$23,ROW(T_ART_PAN_RTH),""))))),ROW(27:27))),"")} | N51: {=IFERROR(INDEX(T_ART_PAN_RTH,SMALL(IF(T_ART_PAN_RTH>=Table_Panneau!$B$15,IF(T_ART_PAN_RTH<=Table_Panneau!$B$19,IF(T_ART_PAN_MAT=Table_Panneau!$D$15,IF(T_ART_PAN_KRA=Table_Panneau!$D$23,IF(T_ART_PAN_EPA<=Table_Panneau!$B$23,ROW(T_ART_PAN_RTH),""))))),ROW(27:27))),"")} | O51: {=IFERROR(INDEX(T_ART_PAN_EPA,SMALL(IF(T_ART_PAN_RTH>=Table_Panneau!$B$15,IF(T_ART_PAN_RTH<=Table_Panneau!$B$19,IF(T_ART_PAN_MAT=Table_Panneau!$D$15,IF(T_ART_PAN_KRA=Table_Panneau!$D$23,IF(T_ART_PAN_EPA<=Table_Panneau!$B$23,ROW(T_ART_PAN_RTH),""))))),ROW(27:27))),"")} | P51: {=IFERROR(INDEX(T_ART_PAN_COD,SMALL(IF(T_ART_PAN_RTH>=Table_Panneau!$B$15,IF(T_ART_PAN_RTH<=Table_Panneau!$B$19,IF(T_ART_PAN_MAT=Table_Panneau!$D$15,IF(T_ART_PAN_KRA=Table_Panneau!$D$23,IF(T_ART_PAN_EPA<=Table_Panneau!$B$23,ROW(T_ART_PAN_RTH),""))))),ROW(27:27))),"")} | Q51: {=IFERROR(INDEX(T_ART_PAN_DIS,SMALL(IF(T_ART_PAN_RTH>=Table_Panneau!$B$15,IF(T_ART_PAN_RTH<=Table_Panneau!$B$19,IF(T_ART_PAN_MAT=Table_Panneau!$D$15,IF(T_ART_PAN_KRA=Table_Panneau!$D$23,IF(T_ART_PAN_EPA<=Table_Panneau!$B$23,ROW(T_ART_PAN_RTH),""))))),ROW(27:27))),"")} | R51: {=IFERROR(INDEX(T_ART_PAN_KRA,SMALL(IF(T_ART_PAN_RTH>=Table_Panneau!$B$15,IF(T_ART_PAN_RTH<=Table_Panneau!$B$19,IF(T_ART_PAN_MAT=Table_Panneau!$D$15,IF(T_ART_PAN_KRA=Table_Panneau!$D$23,IF(T_ART_PAN_EPA<=Table_Panneau!$B$23,ROW(T_ART_PAN_RTH),""))))),ROW(27:27))),"")} | S51: {=IFERROR(INDEX(T_ART_PAN_MAT,SMALL(IF(T_ART_PAN_RTH>=Table_Panneau!$B$15,IF(T_ART_PAN_RTH<=Table_Panneau!$B$19,IF(T_ART_PAN_MAT=Table_Panneau!$D$15,IF(T_ART_PAN_KRA=Table_Panneau!$D$23,IF(T_ART_PAN_EPA<=Table_Panneau!$B$23,ROW(T_ART_PAN_RTH),""))))),ROW(27:27))),"")}
M52: {=IFERROR(INDEX(T_ART_PAN_LIB,SMALL(IF(T_ART_PAN_RTH>=Table_Panneau!$B$15,IF(T_ART_PAN_RTH<=Table_Panneau!$B$19,IF(T_ART_PAN_MAT=Table_Panneau!$D$15,IF(T_ART_PAN_KRA=Table_Panneau!$D$23,IF(T_ART_PAN_EPA<=Table_Panneau!$B$23,ROW(T_ART_PAN_RTH),""))))),ROW(28:28))),"")} | N52: {=IFERROR(INDEX(T_ART_PAN_RTH,SMALL(IF(T_ART_PAN_RTH>=Table_Panneau!$B$15,IF(T_ART_PAN_RTH<=Table_Panneau!$B$19,IF(T_ART_PAN_MAT=Table_Panneau!$D$15,IF(T_ART_PAN_KRA=Table_Panneau!$D$23,IF(T_ART_PAN_EPA<=Table_Panneau!$B$23,ROW(T_ART_PAN_RTH),""))))),ROW(28:28))),"")} | O52: {=IFERROR(INDEX(T_ART_PAN_EPA,SMALL(IF(T_ART_PAN_RTH>=Table_Panneau!$B$15,IF(T_ART_PAN_RTH<=Table_Panneau!$B$19,IF(T_ART_PAN_MAT=Table_Panneau!$D$15,IF(T_ART_PAN_KRA=Table_Panneau!$D$23,IF(T_ART_PAN_EPA<=Table_Panneau!$B$23,ROW(T_ART_PAN_RTH),""))))),ROW(28:28))),"")} | P52: {=IFERROR(INDEX(T_ART_PAN_COD,SMALL(IF(T_ART_PAN_RTH>=Table_Panneau!$B$15,IF(T_ART_PAN_RTH<=Table_Panneau!$B$19,IF(T_ART_PAN_MAT=Table_Panneau!$D$15,IF(T_ART_PAN_KRA=Table_Panneau!$D$23,IF(T_ART_PAN_EPA<=Table_Panneau!$B$23,ROW(T_ART_PAN_RTH),""))))),ROW(28:28))),"")} | Q52: {=IFERROR(INDEX(T_ART_PAN_DIS,SMALL(IF(T_ART_PAN_RTH>=Table_Panneau!$B$15,IF(T_ART_PAN_RTH<=Table_Panneau!$B$19,IF(T_ART_PAN_MAT=Table_Panneau!$D$15,IF(T_ART_PAN_KRA=Table_Panneau!$D$23,IF(T_ART_PAN_EPA<=Table_Panneau!$B$23,ROW(T_ART_PAN_RTH),""))))),ROW(28:28))),"")} | R52: {=IFERROR(INDEX(T_ART_PAN_KRA,SMALL(IF(T_ART_PAN_RTH>=Table_Panneau!$B$15,IF(T_ART_PAN_RTH<=Table_Panneau!$B$19,IF(T_ART_PAN_MAT=Table_Panneau!$D$15,IF(T_ART_PAN_KRA=Table_Panneau!$D$23,IF(T_ART_PAN_EPA<=Table_Panneau!$B$23,ROW(T_ART_PAN_RTH),""))))),ROW(28:28))),"")} | S52: {=IFERROR(INDEX(T_ART_PAN_MAT,SMALL(IF(T_ART_PAN_RTH>=Table_Panneau!$B$15,IF(T_ART_PAN_RTH<=Table_Panneau!$B$19,IF(T_ART_PAN_MAT=Table_Panneau!$D$15,IF(T_ART_PAN_KRA=Table_Panneau!$D$23,IF(T_ART_PAN_EPA<=Table_Panneau!$B$23,ROW(T_ART_PAN_RTH),""))))),ROW(28:28))),"")}
M53: {=IFERROR(INDEX(T_ART_PAN_LIB,SMALL(IF(T_ART_PAN_RTH>=Table_Panneau!$B$15,IF(T_ART_PAN_RTH<=Table_Panneau!$B$19,IF(T_ART_PAN_MAT=Table_Panneau!$D$15,IF(T_ART_PAN_KRA=Table_Panneau!$D$23,IF(T_ART_PAN_EPA<=Table_Panneau!$B$23,ROW(T_ART_PAN_RTH),""))))),ROW(29:29))),"")} | N53: {=IFERROR(INDEX(T_ART_PAN_RTH,SMALL(IF(T_ART_PAN_RTH>=Table_Panneau!$B$15,IF(T_ART_PAN_RTH<=Table_Panneau!$B$19,IF(T_ART_PAN_MAT=Table_Panneau!$D$15,IF(T_ART_PAN_KRA=Table_Panneau!$D$23,IF(T_ART_PAN_EPA<=Table_Panneau!$B$23,ROW(T_ART_PAN_RTH),""))))),ROW(29:29))),"")} | O53: {=IFERROR(INDEX(T_ART_PAN_EPA,SMALL(IF(T_ART_PAN_RTH>=Table_Panneau!$B$15,IF(T_ART_PAN_RTH<=Table_Panneau!$B$19,IF(T_ART_PAN_MAT=Table_Panneau!$D$15,IF(T_ART_PAN_KRA=Table_Panneau!$D$23,IF(T_ART_PAN_EPA<=Table_Panneau!$B$23,ROW(T_ART_PAN_RTH),""))))),ROW(29:29))),"")} | P53: {=IFERROR(INDEX(T_ART_PAN_COD,SMALL(IF(T_ART_PAN_RTH>=Table_Panneau!$B$15,IF(T_ART_PAN_RTH<=Table_Panneau!$B$19,IF(T_ART_PAN_MAT=Table_Panneau!$D$15,IF(T_ART_PAN_KRA=Table_Panneau!$D$23,IF(T_ART_PAN_EPA<=Table_Panneau!$B$23,ROW(T_ART_PAN_RTH),""))))),ROW(29:29))),"")} | Q53: {=IFERROR(INDEX(T_ART_PAN_DIS,SMALL(IF(T_ART_PAN_RTH>=Table_Panneau!$B$15,IF(T_ART_PAN_RTH<=Table_Panneau!$B$19,IF(T_ART_PAN_MAT=Table_Panneau!$D$15,IF(T_ART_PAN_KRA=Table_Panneau!$D$23,IF(T_ART_PAN_EPA<=Table_Panneau!$B$23,ROW(T_ART_PAN_RTH),""))))),ROW(29:29))),"")} | R53: {=IFERROR(INDEX(T_ART_PAN_KRA,SMALL(IF(T_ART_PAN_RTH>=Table_Panneau!$B$15,IF(T_ART_PAN_RTH<=Table_Panneau!$B$19,IF(T_ART_PAN_MAT=Table_Panneau!$D$15,IF(T_ART_PAN_KRA=Table_Panneau!$D$23,IF(T_ART_PAN_EPA<=Table_Panneau!$B$23,ROW(T_ART_PAN_RTH),""))))),ROW(29:29))),"")} | S53: {=IFERROR(INDEX(T_ART_PAN_MAT,SMALL(IF(T_ART_PAN_RTH>=Table_Panneau!$B$15,IF(T_ART_PAN_RTH<=Table_Panneau!$B$19,IF(T_ART_PAN_MAT=Table_Panneau!$D$15,IF(T_ART_PAN_KRA=Table_Panneau!$D$23,IF(T_ART_PAN_EPA<=Table_Panneau!$B$23,ROW(T_ART_PAN_RTH),""))))),ROW(29:29))),"")}
M54: {=IFERROR(INDEX(T_ART_PAN_LIB,SMALL(IF(T_ART_PAN_RTH>=Table_Panneau!$B$15,IF(T_ART_PAN_RTH<=Table_Panneau!$B$19,IF(T_ART_PAN_MAT=Table_Panneau!$D$15,IF(T_ART_PAN_KRA=Table_Panneau!$D$23,IF(T_ART_PAN_EPA<=Table_Panneau!$B$23,ROW(T_ART_PAN_RTH),""))))),ROW(30:30))),"")} | N54: {=IFERROR(INDEX(T_ART_PAN_RTH,SMALL(IF(T_ART_PAN_RTH>=Table_Panneau!$B$15,IF(T_ART_PAN_RTH<=Table_Panneau!$B$19,IF(T_ART_PAN_MAT=Table_Panneau!$D$15,IF(T_ART_PAN_KRA=Table_Panneau!$D$23,IF(T_ART_PAN_EPA<=Table_Panneau!$B$23,ROW(T_ART_PAN_RTH),""))))),ROW(30:30))),"")} | O54: {=IFERROR(INDEX(T_ART_PAN_EPA,SMALL(IF(T_ART_PAN_RTH>=Table_Panneau!$B$15,IF(T_ART_PAN_RTH<=Table_Panneau!$B$19,IF(T_ART_PAN_MAT=Table_Panneau!$D$15,IF(T_ART_PAN_KRA=Table_Panneau!$D$23,IF(T_ART_PAN_EPA<=Table_Panneau!$B$23,ROW(T_ART_PAN_RTH),""))))),ROW(30:30))),"")} | P54: {=IFERROR(INDEX(T_ART_PAN_COD,SMALL(IF(T_ART_PAN_RTH>=Table_Panneau!$B$15,IF(T_ART_PAN_RTH<=Table_Panneau!$B$19,IF(T_ART_PAN_MAT=Table_Panneau!$D$15,IF(T_ART_PAN_KRA=Table_Panneau!$D$23,IF(T_ART_PAN_EPA<=Table_Panneau!$B$23,ROW(T_ART_PAN_RTH),""))))),ROW(30:30))),"")} | Q54: {=IFERROR(INDEX(T_ART_PAN_DIS,SMALL(IF(T_ART_PAN_RTH>=Table_Panneau!$B$15,IF(T_ART_PAN_RTH<=Table_Panneau!$B$19,IF(T_ART_PAN_MAT=Table_Panneau!$D$15,IF(T_ART_PAN_KRA=Table_Panneau!$D$23,IF(T_ART_PAN_EPA<=Table_Panneau!$B$23,ROW(T_ART_PAN_RTH),""))))),ROW(30:30))),"")} | R54: {=IFERROR(INDEX(T_ART_PAN_KRA,SMALL(IF(T_ART_PAN_RTH>=Table_Panneau!$B$15,IF(T_ART_PAN_RTH<=Table_Panneau!$B$19,IF(T_ART_PAN_MAT=Table_Panneau!$D$15,IF(T_ART_PAN_KRA=Table_Panneau!$D$23,IF(T_ART_PAN_EPA<=Table_Panneau!$B$23,ROW(T_ART_PAN_RTH),""))))),ROW(30:30))),"")} | S54: {=IFERROR(INDEX(T_ART_PAN_MAT,SMALL(IF(T_ART_PAN_RTH>=Table_Panneau!$B$15,IF(T_ART_PAN_RTH<=Table_Panneau!$B$19,IF(T_ART_PAN_MAT=Table_Panneau!$D$15,IF(T_ART_PAN_KRA=Table_Panneau!$D$23,IF(T_ART_PAN_EPA<=Table_Panneau!$B$23,ROW(T_ART_PAN_RTH),""))))),ROW(30:30))),"")}
M55: {=IFERROR(INDEX(T_ART_PAN_LIB,SMALL(IF(T_ART_PAN_RTH>=Table_Panneau!$B$15,IF(T_ART_PAN_RTH<=Table_Panneau!$B$19,IF(T_ART_PAN_MAT=Table_Panneau!$D$15,IF(T_ART_PAN_KRA=Table_Panneau!$D$23,IF(T_ART_PAN_EPA<=Table_Panneau!$B$23,ROW(T_ART_PAN_RTH),""))))),ROW(31:31))),"")} | N55: {=IFERROR(INDEX(T_ART_PAN_RTH,SMALL(IF(T_ART_PAN_RTH>=Table_Panneau!$B$15,IF(T_ART_PAN_RTH<=Table_Panneau!$B$19,IF(T_ART_PAN_MAT=Table_Panneau!$D$15,IF(T_ART_PAN_KRA=Table_Panneau!$D$23,IF(T_ART_PAN_EPA<=Table_Panneau!$B$23,ROW(T_ART_PAN_RTH),""))))),ROW(31:31))),"")} | O55: {=IFERROR(INDEX(T_ART_PAN_EPA,SMALL(IF(T_ART_PAN_RTH>=Table_Panneau!$B$15,IF(T_ART_PAN_RTH<=Table_Panneau!$B$19,IF(T_ART_PAN_MAT=Table_Panneau!$D$15,IF(T_ART_PAN_KRA=Table_Panneau!$D$23,IF(T_ART_PAN_EPA<=Table_Panneau!$B$23,ROW(T_ART_PAN_RTH),""))))),ROW(31:31))),"")} | P55: {=IFERROR(INDEX(T_ART_PAN_COD,SMALL(IF(T_ART_PAN_RTH>=Table_Panneau!$B$15,IF(T_ART_PAN_RTH<=Table_Panneau!$B$19,IF(T_ART_PAN_MAT=Table_Panneau!$D$15,IF(T_ART_PAN_KRA=Table_Panneau!$D$23,IF(T_ART_PAN_EPA<=Table_Panneau!$B$23,ROW(T_ART_PAN_RTH),""))))),ROW(31:31))),"")} | Q55: {=IFERROR(INDEX(T_ART_PAN_DIS,SMALL(IF(T_ART_PAN_RTH>=Table_Panneau!$B$15,IF(T_ART_PAN_RTH<=Table_Panneau!$B$19,IF(T_ART_PAN_MAT=Table_Panneau!$D$15,IF(T_ART_PAN_KRA=Table_Panneau!$D$23,IF(T_ART_PAN_EPA<=Table_Panneau!$B$23,ROW(T_ART_PAN_RTH),""))))),ROW(31:31))),"")} | R55: {=IFERROR(INDEX(T_ART_PAN_KRA,SMALL(IF(T_ART_PAN_RTH>=Table_Panneau!$B$15,IF(T_ART_PAN_RTH<=Table_Panneau!$B$19,IF(T_ART_PAN_MAT=Table_Panneau!$D$15,IF(T_ART_PAN_KRA=Table_Panneau!$D$23,IF(T_ART_PAN_EPA<=Table_Panneau!$B$23,ROW(T_ART_PAN_RTH),""))))),ROW(31:31))),"")} | S55: {=IFERROR(INDEX(T_ART_PAN_MAT,SMALL(IF(T_ART_PAN_RTH>=Table_Panneau!$B$15,IF(T_ART_PAN_RTH<=Table_Panneau!$B$19,IF(T_ART_PAN_MAT=Table_Panneau!$D$15,IF(T_ART_PAN_KRA=Table_Panneau!$D$23,IF(T_ART_PAN_EPA<=Table_Panneau!$B$23,ROW(T_ART_PAN_RTH),""))))),ROW(31:31))),"")}
M56: {=IFERROR(INDEX(T_ART_PAN_LIB,SMALL(IF(T_ART_PAN_RTH>=Table_Panneau!$B$15,IF(T_ART_PAN_RTH<=Table_Panneau!$B$19,IF(T_ART_PAN_MAT=Table_Panneau!$D$15,IF(T_ART_PAN_KRA=Table_Panneau!$D$23,IF(T_ART_PAN_EPA<=Table_Panneau!$B$23,ROW(T_ART_PAN_RTH),""))))),ROW(32:32))),"")} | N56: {=IFERROR(INDEX(T_ART_PAN_RTH,SMALL(IF(T_ART_PAN_RTH>=Table_Panneau!$B$15,IF(T_ART_PAN_RTH<=Table_Panneau!$B$19,IF(T_ART_PAN_MAT=Table_Panneau!$D$15,IF(T_ART_PAN_KRA=Table_Panneau!$D$23,IF(T_ART_PAN_EPA<=Table_Panneau!$B$23,ROW(T_ART_PAN_RTH),""))))),ROW(32:32))),"")} | O56: {=IFERROR(INDEX(T_ART_PAN_EPA,SMALL(IF(T_ART_PAN_RTH>=Table_Panneau!$B$15,IF(T_ART_PAN_RTH<=Table_Panneau!$B$19,IF(T_ART_PAN_MAT=Table_Panneau!$D$15,IF(T_ART_PAN_KRA=Table_Panneau!$D$23,IF(T_ART_PAN_EPA<=Table_Panneau!$B$23,ROW(T_ART_PAN_RTH),""))))),ROW(32:32))),"")} | P56: {=IFERROR(INDEX(T_ART_PAN_COD,SMALL(IF(T_ART_PAN_RTH>=Table_Panneau!$B$15,IF(T_ART_PAN_RTH<=Table_Panneau!$B$19,IF(T_ART_PAN_MAT=Table_Panneau!$D$15,IF(T_ART_PAN_KRA=Table_Panneau!$D$23,IF(T_ART_PAN_EPA<=Table_Panneau!$B$23,ROW(T_ART_PAN_RTH),""))))),ROW(32:32))),"")} | Q56: {=IFERROR(INDEX(T_ART_PAN_DIS,SMALL(IF(T_ART_PAN_RTH>=Table_Panneau!$B$15,IF(T_ART_PAN_RTH<=Table_Panneau!$B$19,IF(T_ART_PAN_MAT=Table_Panneau!$D$15,IF(T_ART_PAN_KRA=Table_Panneau!$D$23,IF(T_ART_PAN_EPA<=Table_Panneau!$B$23,ROW(T_ART_PAN_RTH),""))))),ROW(32:32))),"")} | R56: {=IFERROR(INDEX(T_ART_PAN_KRA,SMALL(IF(T_ART_PAN_RTH>=Table_Panneau!$B$15,IF(T_ART_PAN_RTH<=Table_Panneau!$B$19,IF(T_ART_PAN_MAT=Table_Panneau!$D$15,IF(T_ART_PAN_KRA=Table_Panneau!$D$23,IF(T_ART_PAN_EPA<=Table_Panneau!$B$23,ROW(T_ART_PAN_RTH),""))))),ROW(32:32))),"")} | S56: {=IFERROR(INDEX(T_ART_PAN_MAT,SMALL(IF(T_ART_PAN_RTH>=Table_Panneau!$B$15,IF(T_ART_PAN_RTH<=Table_Panneau!$B$19,IF(T_ART_PAN_MAT=Table_Panneau!$D$15,IF(T_ART_PAN_KRA=Table_Panneau!$D$23,IF(T_ART_PAN_EPA<=Table_Panneau!$B$23,ROW(T_ART_PAN_RTH),""))))),ROW(32:32))),"")}
M57: {=IFERROR(INDEX(T_ART_PAN_LIB,SMALL(IF(T_ART_PAN_RTH>=Table_Panneau!$B$15,IF(T_ART_PAN_RTH<=Table_Panneau!$B$19,IF(T_ART_PAN_MAT=Table_Panneau!$D$15,IF(T_ART_PAN_KRA=Table_Panneau!$D$23,IF(T_ART_PAN_EPA<=Table_Panneau!$B$23,ROW(T_ART_PAN_RTH),""))))),ROW(33:33))),"")} | N57: {=IFERROR(INDEX(T_ART_PAN_RTH,SMALL(IF(T_ART_PAN_RTH>=Table_Panneau!$B$15,IF(T_ART_PAN_RTH<=Table_Panneau!$B$19,IF(T_ART_PAN_MAT=Table_Panneau!$D$15,IF(T_ART_PAN_KRA=Table_Panneau!$D$23,IF(T_ART_PAN_EPA<=Table_Panneau!$B$23,ROW(T_ART_PAN_RTH),""))))),ROW(33:33))),"")} | O57: {=IFERROR(INDEX(T_ART_PAN_EPA,SMALL(IF(T_ART_PAN_RTH>=Table_Panneau!$B$15,IF(T_ART_PAN_RTH<=Table_Panneau!$B$19,IF(T_ART_PAN_MAT=Table_Panneau!$D$15,IF(T_ART_PAN_KRA=Table_Panneau!$D$23,IF(T_ART_PAN_EPA<=Table_Panneau!$B$23,ROW(T_ART_PAN_RTH),""))))),ROW(33:33))),"")} | P57: {=IFERROR(INDEX(T_ART_PAN_COD,SMALL(IF(T_ART_PAN_RTH>=Table_Panneau!$B$15,IF(T_ART_PAN_RTH<=Table_Panneau!$B$19,IF(T_ART_PAN_MAT=Table_Panneau!$D$15,IF(T_ART_PAN_KRA=Table_Panneau!$D$23,IF(T_ART_PAN_EPA<=Table_Panneau!$B$23,ROW(T_ART_PAN_RTH),""))))),ROW(33:33))),"")} | Q57: {=IFERROR(INDEX(T_ART_PAN_DIS,SMALL(IF(T_ART_PAN_RTH>=Table_Panneau!$B$15,IF(T_ART_PAN_RTH<=Table_Panneau!$B$19,IF(T_ART_PAN_MAT=Table_Panneau!$D$15,IF(T_ART_PAN_KRA=Table_Panneau!$D$23,IF(T_ART_PAN_EPA<=Table_Panneau!$B$23,ROW(T_ART_PAN_RTH),""))))),ROW(33:33))),"")} | R57: {=IFERROR(INDEX(T_ART_PAN_KRA,SMALL(IF(T_ART_PAN_RTH>=Table_Panneau!$B$15,IF(T_ART_PAN_RTH<=Table_Panneau!$B$19,IF(T_ART_PAN_MAT=Table_Panneau!$D$15,IF(T_ART_PAN_KRA=Table_Panneau!$D$23,IF(T_ART_PAN_EPA<=Table_Panneau!$B$23,ROW(T_ART_PAN_RTH),""))))),ROW(33:33))),"")} | S57: {=IFERROR(INDEX(T_ART_PAN_MAT,SMALL(IF(T_ART_PAN_RTH>=Table_Panneau!$B$15,IF(T_ART_PAN_RTH<=Table_Panneau!$B$19,IF(T_ART_PAN_MAT=Table_Panneau!$D$15,IF(T_ART_PAN_KRA=Table_Panneau!$D$23,IF(T_ART_PAN_EPA<=Table_Panneau!$B$23,ROW(T_ART_PAN_RTH),""))))),ROW(33:33))),"")}
M58: {=IFERROR(INDEX(T_ART_PAN_LIB,SMALL(IF(T_ART_PAN_RTH>=Table_Panneau!$B$15,IF(T_ART_PAN_RTH<=Table_Panneau!$B$19,IF(T_ART_PAN_MAT=Table_Panneau!$D$15,IF(T_ART_PAN_KRA=Table_Panneau!$D$23,IF(T_ART_PAN_EPA<=Table_Panneau!$B$23,ROW(T_ART_PAN_RTH),""))))),ROW(34:34))),"")} | N58: {=IFERROR(INDEX(T_ART_PAN_RTH,SMALL(IF(T_ART_PAN_RTH>=Table_Panneau!$B$15,IF(T_ART_PAN_RTH<=Table_Panneau!$B$19,IF(T_ART_PAN_MAT=Table_Panneau!$D$15,IF(T_ART_PAN_KRA=Table_Panneau!$D$23,IF(T_ART_PAN_EPA<=Table_Panneau!$B$23,ROW(T_ART_PAN_RTH),""))))),ROW(34:34))),"")} | O58: {=IFERROR(INDEX(T_ART_PAN_EPA,SMALL(IF(T_ART_PAN_RTH>=Table_Panneau!$B$15,IF(T_ART_PAN_RTH<=Table_Panneau!$B$19,IF(T_ART_PAN_MAT=Table_Panneau!$D$15,IF(T_ART_PAN_KRA=Table_Panneau!$D$23,IF(T_ART_PAN_EPA<=Table_Panneau!$B$23,ROW(T_ART_PAN_RTH),""))))),ROW(34:34))),"")} | P58: {=IFERROR(INDEX(T_ART_PAN_COD,SMALL(IF(T_ART_PAN_RTH>=Table_Panneau!$B$15,IF(T_ART_PAN_RTH<=Table_Panneau!$B$19,IF(T_ART_PAN_MAT=Table_Panneau!$D$15,IF(T_ART_PAN_KRA=Table_Panneau!$D$23,IF(T_ART_PAN_EPA<=Table_Panneau!$B$23,ROW(T_ART_PAN_RTH),""))))),ROW(34:34))),"")} | Q58: {=IFERROR(INDEX(T_ART_PAN_DIS,SMALL(IF(T_ART_PAN_RTH>=Table_Panneau!$B$15,IF(T_ART_PAN_RTH<=Table_Panneau!$B$19,IF(T_ART_PAN_MAT=Table_Panneau!$D$15,IF(T_ART_PAN_KRA=Table_Panneau!$D$23,IF(T_ART_PAN_EPA<=Table_Panneau!$B$23,ROW(T_ART_PAN_RTH),""))))),ROW(34:34))),"")} | R58: {=IFERROR(INDEX(T_ART_PAN_KRA,SMALL(IF(T_ART_PAN_RTH>=Table_Panneau!$B$15,IF(T_ART_PAN_RTH<=Table_Panneau!$B$19,IF(T_ART_PAN_MAT=Table_Panneau!$D$15,IF(T_ART_PAN_KRA=Table_Panneau!$D$23,IF(T_ART_PAN_EPA<=Table_Panneau!$B$23,ROW(T_ART_PAN_RTH),""))))),ROW(34:34))),"")} | S58: {=IFERROR(INDEX(T_ART_PAN_MAT,SMALL(IF(T_ART_PAN_RTH>=Table_Panneau!$B$15,IF(T_ART_PAN_RTH<=Table_Panneau!$B$19,IF(T_ART_PAN_MAT=Table_Panneau!$D$15,IF(T_ART_PAN_KRA=Table_Panneau!$D$23,IF(T_ART_PAN_EPA<=Table_Panneau!$B$23,ROW(T_ART_PAN_RTH),""))))),ROW(34:34))),"")}
M59: {=IFERROR(INDEX(T_ART_PAN_LIB,SMALL(IF(T_ART_PAN_RTH>=Table_Panneau!$B$15,IF(T_ART_PAN_RTH<=Table_Panneau!$B$19,IF(T_ART_PAN_MAT=Table_Panneau!$D$15,IF(T_ART_PAN_KRA=Table_Panneau!$D$23,IF(T_ART_PAN_EPA<=Table_Panneau!$B$23,ROW(T_ART_PAN_RTH),""))))),ROW(35:35))),"")} | N59: {=IFERROR(INDEX(T_ART_PAN_RTH,SMALL(IF(T_ART_PAN_RTH>=Table_Panneau!$B$15,IF(T_ART_PAN_RTH<=Table_Panneau!$B$19,IF(T_ART_PAN_MAT=Table_Panneau!$D$15,IF(T_ART_PAN_KRA=Table_Panneau!$D$23,IF(T_ART_PAN_EPA<=Table_Panneau!$B$23,ROW(T_ART_PAN_RTH),""))))),ROW(35:35))),"")} | O59: {=IFERROR(INDEX(T_ART_PAN_EPA,SMALL(IF(T_ART_PAN_RTH>=Table_Panneau!$B$15,IF(T_ART_PAN_RTH<=Table_Panneau!$B$19,IF(T_ART_PAN_MAT=Table_Panneau!$D$15,IF(T_ART_PAN_KRA=Table_Panneau!$D$23,IF(T_ART_PAN_EPA<=Table_Panneau!$B$23,ROW(T_ART_PAN_RTH),""))))),ROW(35:35))),"")} | P59: {=IFERROR(INDEX(T_ART_PAN_COD,SMALL(IF(T_ART_PAN_RTH>=Table_Panneau!$B$15,IF(T_ART_PAN_RTH<=Table_Panneau!$B$19,IF(T_ART_PAN_MAT=Table_Panneau!$D$15,IF(T_ART_PAN_KRA=Table_Panneau!$D$23,IF(T_ART_PAN_EPA<=Table_Panneau!$B$23,ROW(T_ART_PAN_RTH),""))))),ROW(35:35))),"")} | Q59: {=IFERROR(INDEX(T_ART_PAN_DIS,SMALL(IF(T_ART_PAN_RTH>=Table_Panneau!$B$15,IF(T_ART_PAN_RTH<=Table_Panneau!$B$19,IF(T_ART_PAN_MAT=Table_Panneau!$D$15,IF(T_ART_PAN_KRA=Table_Panneau!$D$23,IF(T_ART_PAN_EPA<=Table_Panneau!$B$23,ROW(T_ART_PAN_RTH),""))))),ROW(35:35))),"")} | R59: {=IFERROR(INDEX(T_ART_PAN_KRA,SMALL(IF(T_ART_PAN_RTH>=Table_Panneau!$B$15,IF(T_ART_PAN_RTH<=Table_Panneau!$B$19,IF(T_ART_PAN_MAT=Table_Panneau!$D$15,IF(T_ART_PAN_KRA=Table_Panneau!$D$23,IF(T_ART_PAN_EPA<=Table_Panneau!$B$23,ROW(T_ART_PAN_RTH),""))))),ROW(35:35))),"")} | S59: {=IFERROR(INDEX(T_ART_PAN_MAT,SMALL(IF(T_ART_PAN_RTH>=Table_Panneau!$B$15,IF(T_ART_PAN_RTH<=Table_Panneau!$B$19,IF(T_ART_PAN_MAT=Table_Panneau!$D$15,IF(T_ART_PAN_KRA=Table_Panneau!$D$23,IF(T_ART_PAN_EPA<=Table_Panneau!$B$23,ROW(T_ART_PAN_RTH),""))))),ROW(35:35))),"")}
M60: {=IFERROR(INDEX(T_ART_PAN_LIB,SMALL(IF(T_ART_PAN_RTH>=Table_Panneau!$B$15,IF(T_ART_PAN_RTH<=Table_Panneau!$B$19,IF(T_ART_PAN_MAT=Table_Panneau!$D$15,IF(T_ART_PAN_KRA=Table_Panneau!$D$23,IF(T_ART_PAN_EPA<=Table_Panneau!$B$23,ROW(T_ART_PAN_RTH),""))))),ROW(36:36))),"")} | N60: {=IFERROR(INDEX(T_ART_PAN_RTH,SMALL(IF(T_ART_PAN_RTH>=Table_Panneau!$B$15,IF(T_ART_PAN_RTH<=Table_Panneau!$B$19,IF(T_ART_PAN_MAT=Table_Panneau!$D$15,IF(T_ART_PAN_KRA=Table_Panneau!$D$23,IF(T_ART_PAN_EPA<=Table_Panneau!$B$23,ROW(T_ART_PAN_RTH),""))))),ROW(36:36))),"")} | O60: {=IFERROR(INDEX(T_ART_PAN_EPA,SMALL(IF(T_ART_PAN_RTH>=Table_Panneau!$B$15,IF(T_ART_PAN_RTH<=Table_Panneau!$B$19,IF(T_ART_PAN_MAT=Table_Panneau!$D$15,IF(T_ART_PAN_KRA=Table_Panneau!$D$23,IF(T_ART_PAN_EPA<=Table_Panneau!$B$23,ROW(T_ART_PAN_RTH),""))))),ROW(36:36))),"")} | P60: {=IFERROR(INDEX(T_ART_PAN_COD,SMALL(IF(T_ART_PAN_RTH>=Table_Panneau!$B$15,IF(T_ART_PAN_RTH<=Table_Panneau!$B$19,IF(T_ART_PAN_MAT=Table_Panneau!$D$15,IF(T_ART_PAN_KRA=Table_Panneau!$D$23,IF(T_ART_PAN_EPA<=Table_Panneau!$B$23,ROW(T_ART_PAN_RTH),""))))),ROW(36:36))),"")} | Q60: {=IFERROR(INDEX(T_ART_PAN_DIS,SMALL(IF(T_ART_PAN_RTH>=Table_Panneau!$B$15,IF(T_ART_PAN_RTH<=Table_Panneau!$B$19,IF(T_ART_PAN_MAT=Table_Panneau!$D$15,IF(T_ART_PAN_KRA=Table_Panneau!$D$23,IF(T_ART_PAN_EPA<=Table_Panneau!$B$23,ROW(T_ART_PAN_RTH),""))))),ROW(36:36))),"")} | R60: {=IFERROR(INDEX(T_ART_PAN_KRA,SMALL(IF(T_ART_PAN_RTH>=Table_Panneau!$B$15,IF(T_ART_PAN_RTH<=Table_Panneau!$B$19,IF(T_ART_PAN_MAT=Table_Panneau!$D$15,IF(T_ART_PAN_KRA=Table_Panneau!$D$23,IF(T_ART_PAN_EPA<=Table_Panneau!$B$23,ROW(T_ART_PAN_RTH),""))))),ROW(36:36))),"")} | S60: {=IFERROR(INDEX(T_ART_PAN_MAT,SMALL(IF(T_ART_PAN_RTH>=Table_Panneau!$B$15,IF(T_ART_PAN_RTH<=Table_Panneau!$B$19,IF(T_ART_PAN_MAT=Table_Panneau!$D$15,IF(T_ART_PAN_KRA=Table_Panneau!$D$23,IF(T_ART_PAN_EPA<=Table_Panneau!$B$23,ROW(T_ART_PAN_RTH),""))))),ROW(36:36))),"")}
M61: {=IFERROR(INDEX(T_ART_PAN_LIB,SMALL(IF(T_ART_PAN_RTH>=Table_Panneau!$B$15,IF(T_ART_PAN_RTH<=Table_Panneau!$B$19,IF(T_ART_PAN_MAT=Table_Panneau!$D$15,IF(T_ART_PAN_KRA=Table_Panneau!$D$23,IF(T_ART_PAN_EPA<=Table_Panneau!$B$23,ROW(T_ART_PAN_RTH),""))))),ROW(37:37))),"")} | N61: {=IFERROR(INDEX(T_ART_PAN_RTH,SMALL(IF(T_ART_PAN_RTH>=Table_Panneau!$B$15,IF(T_ART_PAN_RTH<=Table_Panneau!$B$19,IF(T_ART_PAN_MAT=Table_Panneau!$D$15,IF(T_ART_PAN_KRA=Table_Panneau!$D$23,IF(T_ART_PAN_EPA<=Table_Panneau!$B$23,ROW(T_ART_PAN_RTH),""))))),ROW(37:37))),"")} | O61: {=IFERROR(INDEX(T_ART_PAN_EPA,SMALL(IF(T_ART_PAN_RTH>=Table_Panneau!$B$15,IF(T_ART_PAN_RTH<=Table_Panneau!$B$19,IF(T_ART_PAN_MAT=Table_Panneau!$D$15,IF(T_ART_PAN_KRA=Table_Panneau!$D$23,IF(T_ART_PAN_EPA<=Table_Panneau!$B$23,ROW(T_ART_PAN_RTH),""))))),ROW(37:37))),"")} | P61: {=IFERROR(INDEX(T_ART_PAN_COD,SMALL(IF(T_ART_PAN_RTH>=Table_Panneau!$B$15,IF(T_ART_PAN_RTH<=Table_Panneau!$B$19,IF(T_ART_PAN_MAT=Table_Panneau!$D$15,IF(T_ART_PAN_KRA=Table_Panneau!$D$23,IF(T_ART_PAN_EPA<=Table_Panneau!$B$23,ROW(T_ART_PAN_RTH),""))))),ROW(37:37))),"")} | Q61: {=IFERROR(INDEX(T_ART_PAN_DIS,SMALL(IF(T_ART_PAN_RTH>=Table_Panneau!$B$15,IF(T_ART_PAN_RTH<=Table_Panneau!$B$19,IF(T_ART_PAN_MAT=Table_Panneau!$D$15,IF(T_ART_PAN_KRA=Table_Panneau!$D$23,IF(T_ART_PAN_EPA<=Table_Panneau!$B$23,ROW(T_ART_PAN_RTH),""))))),ROW(37:37))),"")} | R61: {=IFERROR(INDEX(T_ART_PAN_KRA,SMALL(IF(T_ART_PAN_RTH>=Table_Panneau!$B$15,IF(T_ART_PAN_RTH<=Table_Panneau!$B$19,IF(T_ART_PAN_MAT=Table_Panneau!$D$15,IF(T_ART_PAN_KRA=Table_Panneau!$D$23,IF(T_ART_PAN_EPA<=Table_Panneau!$B$23,ROW(T_ART_PAN_RTH),""))))),ROW(37:37))),"")} | S61: {=IFERROR(INDEX(T_ART_PAN_MAT,SMALL(IF(T_ART_PAN_RTH>=Table_Panneau!$B$15,IF(T_ART_PAN_RTH<=Table_Panneau!$B$19,IF(T_ART_PAN_MAT=Table_Panneau!$D$15,IF(T_ART_PAN_KRA=Table_Panneau!$D$23,IF(T_ART_PAN_EPA<=Table_Panneau!$B$23,ROW(T_ART_PAN_RTH),""))))),ROW(37:37))),"")}
M62: {=IFERROR(INDEX(T_ART_PAN_LIB,SMALL(IF(T_ART_PAN_RTH>=Table_Panneau!$B$15,IF(T_ART_PAN_RTH<=Table_Panneau!$B$19,IF(T_ART_PAN_MAT=Table_Panneau!$D$15,IF(T_ART_PAN_KRA=Table_Panneau!$D$23,IF(T_ART_PAN_EPA<=Table_Panneau!$B$23,ROW(T_ART_PAN_RTH),""))))),ROW(38:38))),"")} | N62: {=IFERROR(INDEX(T_ART_PAN_RTH,SMALL(IF(T_ART_PAN_RTH>=Table_Panneau!$B$15,IF(T_ART_PAN_RTH<=Table_Panneau!$B$19,IF(T_ART_PAN_MAT=Table_Panneau!$D$15,IF(T_ART_PAN_KRA=Table_Panneau!$D$23,IF(T_ART_PAN_EPA<=Table_Panneau!$B$23,ROW(T_ART_PAN_RTH),""))))),ROW(38:38))),"")} | O62: {=IFERROR(INDEX(T_ART_PAN_EPA,SMALL(IF(T_ART_PAN_RTH>=Table_Panneau!$B$15,IF(T_ART_PAN_RTH<=Table_Panneau!$B$19,IF(T_ART_PAN_MAT=Table_Panneau!$D$15,IF(T_ART_PAN_KRA=Table_Panneau!$D$23,IF(T_ART_PAN_EPA<=Table_Panneau!$B$23,ROW(T_ART_PAN_RTH),""))))),ROW(38:38))),"")} | P62: {=IFERROR(INDEX(T_ART_PAN_COD,SMALL(IF(T_ART_PAN_RTH>=Table_Panneau!$B$15,IF(T_ART_PAN_RTH<=Table_Panneau!$B$19,IF(T_ART_PAN_MAT=Table_Panneau!$D$15,IF(T_ART_PAN_KRA=Table_Panneau!$D$23,IF(T_ART_PAN_EPA<=Table_Panneau!$B$23,ROW(T_ART_PAN_RTH),""))))),ROW(38:38))),"")} | Q62: {=IFERROR(INDEX(T_ART_PAN_DIS,SMALL(IF(T_ART_PAN_RTH>=Table_Panneau!$B$15,IF(T_ART_PAN_RTH<=Table_Panneau!$B$19,IF(T_ART_PAN_MAT=Table_Panneau!$D$15,IF(T_ART_PAN_KRA=Table_Panneau!$D$23,IF(T_ART_PAN_EPA<=Table_Panneau!$B$23,ROW(T_ART_PAN_RTH),""))))),ROW(38:38))),"")} | R62: {=IFERROR(INDEX(T_ART_PAN_KRA,SMALL(IF(T_ART_PAN_RTH>=Table_Panneau!$B$15,IF(T_ART_PAN_RTH<=Table_Panneau!$B$19,IF(T_ART_PAN_MAT=Table_Panneau!$D$15,IF(T_ART_PAN_KRA=Table_Panneau!$D$23,IF(T_ART_PAN_EPA<=Table_Panneau!$B$23,ROW(T_ART_PAN_RTH),""))))),ROW(38:38))),"")} | S62: {=IFERROR(INDEX(T_ART_PAN_MAT,SMALL(IF(T_ART_PAN_RTH>=Table_Panneau!$B$15,IF(T_ART_PAN_RTH<=Table_Panneau!$B$19,IF(T_ART_PAN_MAT=Table_Panneau!$D$15,IF(T_ART_PAN_KRA=Table_Panneau!$D$23,IF(T_ART_PAN_EPA<=Table_Panneau!$B$23,ROW(T_ART_PAN_RTH),""))))),ROW(38:38))),"")}
M63: {=IFERROR(INDEX(T_ART_PAN_LIB,SMALL(IF(T_ART_PAN_RTH>=Table_Panneau!$B$15,IF(T_ART_PAN_RTH<=Table_Panneau!$B$19,IF(T_ART_PAN_MAT=Table_Panneau!$D$15,IF(T_ART_PAN_KRA=Table_Panneau!$D$23,IF(T_ART_PAN_EPA<=Table_Panneau!$B$23,ROW(T_ART_PAN_RTH),""))))),ROW(39:39))),"")} | N63: {=IFERROR(INDEX(T_ART_PAN_RTH,SMALL(IF(T_ART_PAN_RTH>=Table_Panneau!$B$15,IF(T_ART_PAN_RTH<=Table_Panneau!$B$19,IF(T_ART_PAN_MAT=Table_Panneau!$D$15,IF(T_ART_PAN_KRA=Table_Panneau!$D$23,IF(T_ART_PAN_EPA<=Table_Panneau!$B$23,ROW(T_ART_PAN_RTH),""))))),ROW(39:39))),"")} | O63: {=IFERROR(INDEX(T_ART_PAN_EPA,SMALL(IF(T_ART_PAN_RTH>=Table_Panneau!$B$15,IF(T_ART_PAN_RTH<=Table_Panneau!$B$19,IF(T_ART_PAN_MAT=Table_Panneau!$D$15,IF(T_ART_PAN_KRA=Table_Panneau!$D$23,IF(T_ART_PAN_EPA<=Table_Panneau!$B$23,ROW(T_ART_PAN_RTH),""))))),ROW(39:39))),"")} | P63: {=IFERROR(INDEX(T_ART_PAN_COD,SMALL(IF(T_ART_PAN_RTH>=Table_Panneau!$B$15,IF(T_ART_PAN_RTH<=Table_Panneau!$B$19,IF(T_ART_PAN_MAT=Table_Panneau!$D$15,IF(T_ART_PAN_KRA=Table_Panneau!$D$23,IF(T_ART_PAN_EPA<=Table_Panneau!$B$23,ROW(T_ART_PAN_RTH),""))))),ROW(39:39))),"")} | Q63: {=IFERROR(INDEX(T_ART_PAN_DIS,SMALL(IF(T_ART_PAN_RTH>=Table_Panneau!$B$15,IF(T_ART_PAN_RTH<=Table_Panneau!$B$19,IF(T_ART_PAN_MAT=Table_Panneau!$D$15,IF(T_ART_PAN_KRA=Table_Panneau!$D$23,IF(T_ART_PAN_EPA<=Table_Panneau!$B$23,ROW(T_ART_PAN_RTH),""))))),ROW(39:39))),"")} | R63: {=IFERROR(INDEX(T_ART_PAN_KRA,SMALL(IF(T_ART_PAN_RTH>=Table_Panneau!$B$15,IF(T_ART_PAN_RTH<=Table_Panneau!$B$19,IF(T_ART_PAN_MAT=Table_Panneau!$D$15,IF(T_ART_PAN_KRA=Table_Panneau!$D$23,IF(T_ART_PAN_EPA<=Table_Panneau!$B$23,ROW(T_ART_PAN_RTH),""))))),ROW(39:39))),"")} | S63: {=IFERROR(INDEX(T_ART_PAN_MAT,SMALL(IF(T_ART_PAN_RTH>=Table_Panneau!$B$15,IF(T_ART_PAN_RTH<=Table_Panneau!$B$19,IF(T_ART_PAN_MAT=Table_Panneau!$D$15,IF(T_ART_PAN_KRA=Table_Panneau!$D$23,IF(T_ART_PAN_EPA<=Table_Panneau!$B$23,ROW(T_ART_PAN_RTH),""))))),ROW(39:39))),"")}
M64: {=IFERROR(INDEX(T_ART_PAN_LIB,SMALL(IF(T_ART_PAN_RTH>=Table_Panneau!$B$15,IF(T_ART_PAN_RTH<=Table_Panneau!$B$19,IF(T_ART_PAN_MAT=Table_Panneau!$D$15,IF(T_ART_PAN_KRA=Table_Panneau!$D$23,IF(T_ART_PAN_EPA<=Table_Panneau!$B$23,ROW(T_ART_PAN_RTH),""))))),ROW(40:40))),"")} | N64: {=IFERROR(INDEX(T_ART_PAN_RTH,SMALL(IF(T_ART_PAN_RTH>=Table_Panneau!$B$15,IF(T_ART_PAN_RTH<=Table_Panneau!$B$19,IF(T_ART_PAN_MAT=Table_Panneau!$D$15,IF(T_ART_PAN_KRA=Table_Panneau!$D$23,IF(T_ART_PAN_EPA<=Table_Panneau!$B$23,ROW(T_ART_PAN_RTH),""))))),ROW(40:40))),"")} | O64: {=IFERROR(INDEX(T_ART_PAN_EPA,SMALL(IF(T_ART_PAN_RTH>=Table_Panneau!$B$15,IF(T_ART_PAN_RTH<=Table_Panneau!$B$19,IF(T_ART_PAN_MAT=Table_Panneau!$D$15,IF(T_ART_PAN_KRA=Table_Panneau!$D$23,IF(T_ART_PAN_EPA<=Table_Panneau!$B$23,ROW(T_ART_PAN_RTH),""))))),ROW(40:40))),"")} | P64: {=IFERROR(INDEX(T_ART_PAN_COD,SMALL(IF(T_ART_PAN_RTH>=Table_Panneau!$B$15,IF(T_ART_PAN_RTH<=Table_Panneau!$B$19,IF(T_ART_PAN_MAT=Table_Panneau!$D$15,IF(T_ART_PAN_KRA=Table_Panneau!$D$23,IF(T_ART_PAN_EPA<=Table_Panneau!$B$23,ROW(T_ART_PAN_RTH),""))))),ROW(40:40))),"")} | Q64: {=IFERROR(INDEX(T_ART_PAN_DIS,SMALL(IF(T_ART_PAN_RTH>=Table_Panneau!$B$15,IF(T_ART_PAN_RTH<=Table_Panneau!$B$19,IF(T_ART_PAN_MAT=Table_Panneau!$D$15,IF(T_ART_PAN_KRA=Table_Panneau!$D$23,IF(T_ART_PAN_EPA<=Table_Panneau!$B$23,ROW(T_ART_PAN_RTH),""))))),ROW(40:40))),"")} | R64: {=IFERROR(INDEX(T_ART_PAN_KRA,SMALL(IF(T_ART_PAN_RTH>=Table_Panneau!$B$15,IF(T_ART_PAN_RTH<=Table_Panneau!$B$19,IF(T_ART_PAN_MAT=Table_Panneau!$D$15,IF(T_ART_PAN_KRA=Table_Panneau!$D$23,IF(T_ART_PAN_EPA<=Table_Panneau!$B$23,ROW(T_ART_PAN_RTH),""))))),ROW(40:40))),"")} | S64: {=IFERROR(INDEX(T_ART_PAN_MAT,SMALL(IF(T_ART_PAN_RTH>=Table_Panneau!$B$15,IF(T_ART_PAN_RTH<=Table_Panneau!$B$19,IF(T_ART_PAN_MAT=Table_Panneau!$D$15,IF(T_ART_PAN_KRA=Table_Panneau!$D$23,IF(T_ART_PAN_EPA<=Table_Panneau!$B$23,ROW(T_ART_PAN_RTH),""))))),ROW(40:40))),"")}
M65: {=IFERROR(INDEX(T_ART_PAN_LIB,SMALL(IF(T_ART_PAN_RTH>=Table_Panneau!$B$15,IF(T_ART_PAN_RTH<=Table_Panneau!$B$19,IF(T_ART_PAN_MAT=Table_Panneau!$D$15,IF(T_ART_PAN_KRA=Table_Panneau!$D$23,IF(T_ART_PAN_EPA<=Table_Panneau!$B$23,ROW(T_ART_PAN_RTH),""))))),ROW(41:41))),"")} | N65: {=IFERROR(INDEX(T_ART_PAN_RTH,SMALL(IF(T_ART_PAN_RTH>=Table_Panneau!$B$15,IF(T_ART_PAN_RTH<=Table_Panneau!$B$19,IF(T_ART_PAN_MAT=Table_Panneau!$D$15,IF(T_ART_PAN_KRA=Table_Panneau!$D$23,IF(T_ART_PAN_EPA<=Table_Panneau!$B$23,ROW(T_ART_PAN_RTH),""))))),ROW(41:41))),"")} | O65: {=IFERROR(INDEX(T_ART_PAN_EPA,SMALL(IF(T_ART_PAN_RTH>=Table_Panneau!$B$15,IF(T_ART_PAN_RTH<=Table_Panneau!$B$19,IF(T_ART_PAN_MAT=Table_Panneau!$D$15,IF(T_ART_PAN_KRA=Table_Panneau!$D$23,IF(T_ART_PAN_EPA<=Table_Panneau!$B$23,ROW(T_ART_PAN_RTH),""))))),ROW(41:41))),"")} | P65: {=IFERROR(INDEX(T_ART_PAN_COD,SMALL(IF(T_ART_PAN_RTH>=Table_Panneau!$B$15,IF(T_ART_PAN_RTH<=Table_Panneau!$B$19,IF(T_ART_PAN_MAT=Table_Panneau!$D$15,IF(T_ART_PAN_KRA=Table_Panneau!$D$23,IF(T_ART_PAN_EPA<=Table_Panneau!$B$23,ROW(T_ART_PAN_RTH),""))))),ROW(41:41))),"")} | Q65: {=IFERROR(INDEX(T_ART_PAN_DIS,SMALL(IF(T_ART_PAN_RTH>=Table_Panneau!$B$15,IF(T_ART_PAN_RTH<=Table_Panneau!$B$19,IF(T_ART_PAN_MAT=Table_Panneau!$D$15,IF(T_ART_PAN_KRA=Table_Panneau!$D$23,IF(T_ART_PAN_EPA<=Table_Panneau!$B$23,ROW(T_ART_PAN_RTH),""))))),ROW(41:41))),"")} | R65: {=IFERROR(INDEX(T_ART_PAN_KRA,SMALL(IF(T_ART_PAN_RTH>=Table_Panneau!$B$15,IF(T_ART_PAN_RTH<=Table_Panneau!$B$19,IF(T_ART_PAN_MAT=Table_Panneau!$D$15,IF(T_ART_PAN_KRA=Table_Panneau!$D$23,IF(T_ART_PAN_EPA<=Table_Panneau!$B$23,ROW(T_ART_PAN_RTH),""))))),ROW(41:41))),"")} | S65: {=IFERROR(INDEX(T_ART_PAN_MAT,SMALL(IF(T_ART_PAN_RTH>=Table_Panneau!$B$15,IF(T_ART_PAN_RTH<=Table_Panneau!$B$19,IF(T_ART_PAN_MAT=Table_Panneau!$D$15,IF(T_ART_PAN_KRA=Table_Panneau!$D$23,IF(T_ART_PAN_EPA<=Table_Panneau!$B$23,ROW(T_ART_PAN_RTH),""))))),ROW(41:41))),"")}
M66: {=IFERROR(INDEX(T_ART_PAN_LIB,SMALL(IF(T_ART_PAN_RTH>=Table_Panneau!$B$15,IF(T_ART_PAN_RTH<=Table_Panneau!$B$19,IF(T_ART_PAN_MAT=Table_Panneau!$D$15,IF(T_ART_PAN_KRA=Table_Panneau!$D$23,IF(T_ART_PAN_EPA<=Table_Panneau!$B$23,ROW(T_ART_PAN_RTH),""))))),ROW(42:42))),"")} | N66: {=IFERROR(INDEX(T_ART_PAN_RTH,SMALL(IF(T_ART_PAN_RTH>=Table_Panneau!$B$15,IF(T_ART_PAN_RTH<=Table_Panneau!$B$19,IF(T_ART_PAN_MAT=Table_Panneau!$D$15,IF(T_ART_PAN_KRA=Table_Panneau!$D$23,IF(T_ART_PAN_EPA<=Table_Panneau!$B$23,ROW(T_ART_PAN_RTH),""))))),ROW(42:42))),"")} | O66: {=IFERROR(INDEX(T_ART_PAN_EPA,SMALL(IF(T_ART_PAN_RTH>=Table_Panneau!$B$15,IF(T_ART_PAN_RTH<=Table_Panneau!$B$19,IF(T_ART_PAN_MAT=Table_Panneau!$D$15,IF(T_ART_PAN_KRA=Table_Panneau!$D$23,IF(T_ART_PAN_EPA<=Table_Panneau!$B$23,ROW(T_ART_PAN_RTH),""))))),ROW(42:42))),"")} | P66: {=IFERROR(INDEX(T_ART_PAN_COD,SMALL(IF(T_ART_PAN_RTH>=Table_Panneau!$B$15,IF(T_ART_PAN_RTH<=Table_Panneau!$B$19,IF(T_ART_PAN_MAT=Table_Panneau!$D$15,IF(T_ART_PAN_KRA=Table_Panneau!$D$23,IF(T_ART_PAN_EPA<=Table_Panneau!$B$23,ROW(T_ART_PAN_RTH),""))))),ROW(42:42))),"")} | Q66: {=IFERROR(INDEX(T_ART_PAN_DIS,SMALL(IF(T_ART_PAN_RTH>=Table_Panneau!$B$15,IF(T_ART_PAN_RTH<=Table_Panneau!$B$19,IF(T_ART_PAN_MAT=Table_Panneau!$D$15,IF(T_ART_PAN_KRA=Table_Panneau!$D$23,IF(T_ART_PAN_EPA<=Table_Panneau!$B$23,ROW(T_ART_PAN_RTH),""))))),ROW(42:42))),"")} | R66: {=IFERROR(INDEX(T_ART_PAN_KRA,SMALL(IF(T_ART_PAN_RTH>=Table_Panneau!$B$15,IF(T_ART_PAN_RTH<=Table_Panneau!$B$19,IF(T_ART_PAN_MAT=Table_Panneau!$D$15,IF(T_ART_PAN_KRA=Table_Panneau!$D$23,IF(T_ART_PAN_EPA<=Table_Panneau!$B$23,ROW(T_ART_PAN_RTH),""))))),ROW(42:42))),"")} | S66: {=IFERROR(INDEX(T_ART_PAN_MAT,SMALL(IF(T_ART_PAN_RTH>=Table_Panneau!$B$15,IF(T_ART_PAN_RTH<=Table_Panneau!$B$19,IF(T_ART_PAN_MAT=Table_Panneau!$D$15,IF(T_ART_PAN_KRA=Table_Panneau!$D$23,IF(T_ART_PAN_EPA<=Table_Panneau!$B$23,ROW(T_ART_PAN_RTH),""))))),ROW(42:42))),"")}
M67: {=IFERROR(INDEX(T_ART_PAN_LIB,SMALL(IF(T_ART_PAN_RTH>=Table_Panneau!$B$15,IF(T_ART_PAN_RTH<=Table_Panneau!$B$19,IF(T_ART_PAN_MAT=Table_Panneau!$D$15,IF(T_ART_PAN_KRA=Table_Panneau!$D$23,IF(T_ART_PAN_EPA<=Table_Panneau!$B$23,ROW(T_ART_PAN_RTH),""))))),ROW(43:43))),"")} | N67: {=IFERROR(INDEX(T_ART_PAN_RTH,SMALL(IF(T_ART_PAN_RTH>=Table_Panneau!$B$15,IF(T_ART_PAN_RTH<=Table_Panneau!$B$19,IF(T_ART_PAN_MAT=Table_Panneau!$D$15,IF(T_ART_PAN_KRA=Table_Panneau!$D$23,IF(T_ART_PAN_EPA<=Table_Panneau!$B$23,ROW(T_ART_PAN_RTH),""))))),ROW(43:43))),"")} | O67: {=IFERROR(INDEX(T_ART_PAN_EPA,SMALL(IF(T_ART_PAN_RTH>=Table_Panneau!$B$15,IF(T_ART_PAN_RTH<=Table_Panneau!$B$19,IF(T_ART_PAN_MAT=Table_Panneau!$D$15,IF(T_ART_PAN_KRA=Table_Panneau!$D$23,IF(T_ART_PAN_EPA<=Table_Panneau!$B$23,ROW(T_ART_PAN_RTH),""))))),ROW(43:43))),"")} | P67: {=IFERROR(INDEX(T_ART_PAN_COD,SMALL(IF(T_ART_PAN_RTH>=Table_Panneau!$B$15,IF(T_ART_PAN_RTH<=Table_Panneau!$B$19,IF(T_ART_PAN_MAT=Table_Panneau!$D$15,IF(T_ART_PAN_KRA=Table_Panneau!$D$23,IF(T_ART_PAN_EPA<=Table_Panneau!$B$23,ROW(T_ART_PAN_RTH),""))))),ROW(43:43))),"")} | Q67: {=IFERROR(INDEX(T_ART_PAN_DIS,SMALL(IF(T_ART_PAN_RTH>=Table_Panneau!$B$15,IF(T_ART_PAN_RTH<=Table_Panneau!$B$19,IF(T_ART_PAN_MAT=Table_Panneau!$D$15,IF(T_ART_PAN_KRA=Table_Panneau!$D$23,IF(T_ART_PAN_EPA<=Table_Panneau!$B$23,ROW(T_ART_PAN_RTH),""))))),ROW(43:43))),"")} | R67: {=IFERROR(INDEX(T_ART_PAN_KRA,SMALL(IF(T_ART_PAN_RTH>=Table_Panneau!$B$15,IF(T_ART_PAN_RTH<=Table_Panneau!$B$19,IF(T_ART_PAN_MAT=Table_Panneau!$D$15,IF(T_ART_PAN_KRA=Table_Panneau!$D$23,IF(T_ART_PAN_EPA<=Table_Panneau!$B$23,ROW(T_ART_PAN_RTH),""))))),ROW(43:43))),"")} | S67: {=IFERROR(INDEX(T_ART_PAN_MAT,SMALL(IF(T_ART_PAN_RTH>=Table_Panneau!$B$15,IF(T_ART_PAN_RTH<=Table_Panneau!$B$19,IF(T_ART_PAN_MAT=Table_Panneau!$D$15,IF(T_ART_PAN_KRA=Table_Panneau!$D$23,IF(T_ART_PAN_EPA<=Table_Panneau!$B$23,ROW(T_ART_PAN_RTH),""))))),ROW(43:43))),"")}
M68: {=IFERROR(INDEX(T_ART_PAN_LIB,SMALL(IF(T_ART_PAN_RTH>=Table_Panneau!$B$15,IF(T_ART_PAN_RTH<=Table_Panneau!$B$19,IF(T_ART_PAN_MAT=Table_Panneau!$D$15,IF(T_ART_PAN_KRA=Table_Panneau!$D$23,IF(T_ART_PAN_EPA<=Table_Panneau!$B$23,ROW(T_ART_PAN_RTH),""))))),ROW(44:44))),"")} | N68: {=IFERROR(INDEX(T_ART_PAN_RTH,SMALL(IF(T_ART_PAN_RTH>=Table_Panneau!$B$15,IF(T_ART_PAN_RTH<=Table_Panneau!$B$19,IF(T_ART_PAN_MAT=Table_Panneau!$D$15,IF(T_ART_PAN_KRA=Table_Panneau!$D$23,IF(T_ART_PAN_EPA<=Table_Panneau!$B$23,ROW(T_ART_PAN_RTH),""))))),ROW(44:44))),"")} | O68: {=IFERROR(INDEX(T_ART_PAN_EPA,SMALL(IF(T_ART_PAN_RTH>=Table_Panneau!$B$15,IF(T_ART_PAN_RTH<=Table_Panneau!$B$19,IF(T_ART_PAN_MAT=Table_Panneau!$D$15,IF(T_ART_PAN_KRA=Table_Panneau!$D$23,IF(T_ART_PAN_EPA<=Table_Panneau!$B$23,ROW(T_ART_PAN_RTH),""))))),ROW(44:44))),"")} | P68: {=IFERROR(INDEX(T_ART_PAN_COD,SMALL(IF(T_ART_PAN_RTH>=Table_Panneau!$B$15,IF(T_ART_PAN_RTH<=Table_Panneau!$B$19,IF(T_ART_PAN_MAT=Table_Panneau!$D$15,IF(T_ART_PAN_KRA=Table_Panneau!$D$23,IF(T_ART_PAN_EPA<=Table_Panneau!$B$23,ROW(T_ART_PAN_RTH),""))))),ROW(44:44))),"")} | Q68: {=IFERROR(INDEX(T_ART_PAN_DIS,SMALL(IF(T_ART_PAN_RTH>=Table_Panneau!$B$15,IF(T_ART_PAN_RTH<=Table_Panneau!$B$19,IF(T_ART_PAN_MAT=Table_Panneau!$D$15,IF(T_ART_PAN_KRA=Table_Panneau!$D$23,IF(T_ART_PAN_EPA<=Table_Panneau!$B$23,ROW(T_ART_PAN_RTH),""))))),ROW(44:44))),"")} | R68: {=IFERROR(INDEX(T_ART_PAN_KRA,SMALL(IF(T_ART_PAN_RTH>=Table_Panneau!$B$15,IF(T_ART_PAN_RTH<=Table_Panneau!$B$19,IF(T_ART_PAN_MAT=Table_Panneau!$D$15,IF(T_ART_PAN_KRA=Table_Panneau!$D$23,IF(T_ART_PAN_EPA<=Table_Panneau!$B$23,ROW(T_ART_PAN_RTH),""))))),ROW(44:44))),"")} | S68: {=IFERROR(INDEX(T_ART_PAN_MAT,SMALL(IF(T_ART_PAN_RTH>=Table_Panneau!$B$15,IF(T_ART_PAN_RTH<=Table_Panneau!$B$19,IF(T_ART_PAN_MAT=Table_Panneau!$D$15,IF(T_ART_PAN_KRA=Table_Panneau!$D$23,IF(T_ART_PAN_EPA<=Table_Panneau!$B$23,ROW(T_ART_PAN_RTH),""))))),ROW(44:44))),"")}
M69: {=IFERROR(INDEX(T_ART_PAN_LIB,SMALL(IF(T_ART_PAN_RTH>=Table_Panneau!$B$15,IF(T_ART_PAN_RTH<=Table_Panneau!$B$19,IF(T_ART_PAN_MAT=Table_Panneau!$D$15,IF(T_ART_PAN_KRA=Table_Panneau!$D$23,IF(T_ART_PAN_EPA<=Table_Panneau!$B$23,ROW(T_ART_PAN_RTH),""))))),ROW(45:45))),"")} | N69: {=IFERROR(INDEX(T_ART_PAN_RTH,SMALL(IF(T_ART_PAN_RTH>=Table_Panneau!$B$15,IF(T_ART_PAN_RTH<=Table_Panneau!$B$19,IF(T_ART_PAN_MAT=Table_Panneau!$D$15,IF(T_ART_PAN_KRA=Table_Panneau!$D$23,IF(T_ART_PAN_EPA<=Table_Panneau!$B$23,ROW(T_ART_PAN_RTH),""))))),ROW(45:45))),"")} | O69: {=IFERROR(INDEX(T_ART_PAN_EPA,SMALL(IF(T_ART_PAN_RTH>=Table_Panneau!$B$15,IF(T_ART_PAN_RTH<=Table_Panneau!$B$19,IF(T_ART_PAN_MAT=Table_Panneau!$D$15,IF(T_ART_PAN_KRA=Table_Panneau!$D$23,IF(T_ART_PAN_EPA<=Table_Panneau!$B$23,ROW(T_ART_PAN_RTH),""))))),ROW(45:45))),"")} | P69: {=IFERROR(INDEX(T_ART_PAN_COD,SMALL(IF(T_ART_PAN_RTH>=Table_Panneau!$B$15,IF(T_ART_PAN_RTH<=Table_Panneau!$B$19,IF(T_ART_PAN_MAT=Table_Panneau!$D$15,IF(T_ART_PAN_KRA=Table_Panneau!$D$23,IF(T_ART_PAN_EPA<=Table_Panneau!$B$23,ROW(T_ART_PAN_RTH),""))))),ROW(45:45))),"")} | Q69: {=IFERROR(INDEX(T_ART_PAN_DIS,SMALL(IF(T_ART_PAN_RTH>=Table_Panneau!$B$15,IF(T_ART_PAN_RTH<=Table_Panneau!$B$19,IF(T_ART_PAN_MAT=Table_Panneau!$D$15,IF(T_ART_PAN_KRA=Table_Panneau!$D$23,IF(T_ART_PAN_EPA<=Table_Panneau!$B$23,ROW(T_ART_PAN_RTH),""))))),ROW(45:45))),"")} | R69: {=IFERROR(INDEX(T_ART_PAN_KRA,SMALL(IF(T_ART_PAN_RTH>=Table_Panneau!$B$15,IF(T_ART_PAN_RTH<=Table_Panneau!$B$19,IF(T_ART_PAN_MAT=Table_Panneau!$D$15,IF(T_ART_PAN_KRA=Table_Panneau!$D$23,IF(T_ART_PAN_EPA<=Table_Panneau!$B$23,ROW(T_ART_PAN_RTH),""))))),ROW(45:45))),"")} | S69: {=IFERROR(INDEX(T_ART_PAN_MAT,SMALL(IF(T_ART_PAN_RTH>=Table_Panneau!$B$15,IF(T_ART_PAN_RTH<=Table_Panneau!$B$19,IF(T_ART_PAN_MAT=Table_Panneau!$D$15,IF(T_ART_PAN_KRA=Table_Panneau!$D$23,IF(T_ART_PAN_EPA<=Table_Panneau!$B$23,ROW(T_ART_PAN_RTH),""))))),ROW(45:45))),"")}
M70: {=IFERROR(INDEX(T_ART_PAN_LIB,SMALL(IF(T_ART_PAN_RTH>=Table_Panneau!$B$15,IF(T_ART_PAN_RTH<=Table_Panneau!$B$19,IF(T_ART_PAN_MAT=Table_Panneau!$D$15,IF(T_ART_PAN_KRA=Table_Panneau!$D$23,IF(T_ART_PAN_EPA<=Table_Panneau!$B$23,ROW(T_ART_PAN_RTH),""))))),ROW(46:46))),"")} | N70: {=IFERROR(INDEX(T_ART_PAN_RTH,SMALL(IF(T_ART_PAN_RTH>=Table_Panneau!$B$15,IF(T_ART_PAN_RTH<=Table_Panneau!$B$19,IF(T_ART_PAN_MAT=Table_Panneau!$D$15,IF(T_ART_PAN_KRA=Table_Panneau!$D$23,IF(T_ART_PAN_EPA<=Table_Panneau!$B$23,ROW(T_ART_PAN_RTH),""))))),ROW(46:46))),"")} | O70: {=IFERROR(INDEX(T_ART_PAN_EPA,SMALL(IF(T_ART_PAN_RTH>=Table_Panneau!$B$15,IF(T_ART_PAN_RTH<=Table_Panneau!$B$19,IF(T_ART_PAN_MAT=Table_Panneau!$D$15,IF(T_ART_PAN_KRA=Table_Panneau!$D$23,IF(T_ART_PAN_EPA<=Table_Panneau!$B$23,ROW(T_ART_PAN_RTH),""))))),ROW(46:46))),"")} | P70: {=IFERROR(INDEX(T_ART_PAN_COD,SMALL(IF(T_ART_PAN_RTH>=Table_Panneau!$B$15,IF(T_ART_PAN_RTH<=Table_Panneau!$B$19,IF(T_ART_PAN_MAT=Table_Panneau!$D$15,IF(T_ART_PAN_KRA=Table_Panneau!$D$23,IF(T_ART_PAN_EPA<=Table_Panneau!$B$23,ROW(T_ART_PAN_RTH),""))))),ROW(46:46))),"")} | Q70: {=IFERROR(INDEX(T_ART_PAN_DIS,SMALL(IF(T_ART_PAN_RTH>=Table_Panneau!$B$15,IF(T_ART_PAN_RTH<=Table_Panneau!$B$19,IF(T_ART_PAN_MAT=Table_Panneau!$D$15,IF(T_ART_PAN_KRA=Table_Panneau!$D$23,IF(T_ART_PAN_EPA<=Table_Panneau!$B$23,ROW(T_ART_PAN_RTH),""))))),ROW(46:46))),"")} | R70: {=IFERROR(INDEX(T_ART_PAN_KRA,SMALL(IF(T_ART_PAN_RTH>=Table_Panneau!$B$15,IF(T_ART_PAN_RTH<=Table_Panneau!$B$19,IF(T_ART_PAN_MAT=Table_Panneau!$D$15,IF(T_ART_PAN_KRA=Table_Panneau!$D$23,IF(T_ART_PAN_EPA<=Table_Panneau!$B$23,ROW(T_ART_PAN_RTH),""))))),ROW(46:46))),"")} | S70: {=IFERROR(INDEX(T_ART_PAN_MAT,SMALL(IF(T_ART_PAN_RTH>=Table_Panneau!$B$15,IF(T_ART_PAN_RTH<=Table_Panneau!$B$19,IF(T_ART_PAN_MAT=Table_Panneau!$D$15,IF(T_ART_PAN_KRA=Table_Panneau!$D$23,IF(T_ART_PAN_EPA<=Table_Panneau!$B$23,ROW(T_ART_PAN_RTH),""))))),ROW(46:46))),"")}
M71: {=IFERROR(INDEX(T_ART_PAN_LIB,SMALL(IF(T_ART_PAN_RTH>=Table_Panneau!$B$15,IF(T_ART_PAN_RTH<=Table_Panneau!$B$19,IF(T_ART_PAN_MAT=Table_Panneau!$D$15,IF(T_ART_PAN_KRA=Table_Panneau!$D$23,IF(T_ART_PAN_EPA<=Table_Panneau!$B$23,ROW(T_ART_PAN_RTH),""))))),ROW(47:47))),"")} | N71: {=IFERROR(INDEX(T_ART_PAN_RTH,SMALL(IF(T_ART_PAN_RTH>=Table_Panneau!$B$15,IF(T_ART_PAN_RTH<=Table_Panneau!$B$19,IF(T_ART_PAN_MAT=Table_Panneau!$D$15,IF(T_ART_PAN_KRA=Table_Panneau!$D$23,IF(T_ART_PAN_EPA<=Table_Panneau!$B$23,ROW(T_ART_PAN_RTH),""))))),ROW(47:47))),"")} | O71: {=IFERROR(INDEX(T_ART_PAN_EPA,SMALL(IF(T_ART_PAN_RTH>=Table_Panneau!$B$15,IF(T_ART_PAN_RTH<=Table_Panneau!$B$19,IF(T_ART_PAN_MAT=Table_Panneau!$D$15,IF(T_ART_PAN_KRA=Table_Panneau!$D$23,IF(T_ART_PAN_EPA<=Table_Panneau!$B$23,ROW(T_ART_PAN_RTH),""))))),ROW(47:47))),"")} | P71: {=IFERROR(INDEX(T_ART_PAN_COD,SMALL(IF(T_ART_PAN_RTH>=Table_Panneau!$B$15,IF(T_ART_PAN_RTH<=Table_Panneau!$B$19,IF(T_ART_PAN_MAT=Table_Panneau!$D$15,IF(T_ART_PAN_KRA=Table_Panneau!$D$23,IF(T_ART_PAN_EPA<=Table_Panneau!$B$23,ROW(T_ART_PAN_RTH),""))))),ROW(47:47))),"")} | Q71: {=IFERROR(INDEX(T_ART_PAN_DIS,SMALL(IF(T_ART_PAN_RTH>=Table_Panneau!$B$15,IF(T_ART_PAN_RTH<=Table_Panneau!$B$19,IF(T_ART_PAN_MAT=Table_Panneau!$D$15,IF(T_ART_PAN_KRA=Table_Panneau!$D$23,IF(T_ART_PAN_EPA<=Table_Panneau!$B$23,ROW(T_ART_PAN_RTH),""))))),ROW(47:47))),"")} | R71: {=IFERROR(INDEX(T_ART_PAN_KRA,SMALL(IF(T_ART_PAN_RTH>=Table_Panneau!$B$15,IF(T_ART_PAN_RTH<=Table_Panneau!$B$19,IF(T_ART_PAN_MAT=Table_Panneau!$D$15,IF(T_ART_PAN_KRA=Table_Panneau!$D$23,IF(T_ART_PAN_EPA<=Table_Panneau!$B$23,ROW(T_ART_PAN_RTH),""))))),ROW(47:47))),"")} | S71: {=IFERROR(INDEX(T_ART_PAN_MAT,SMALL(IF(T_ART_PAN_RTH>=Table_Panneau!$B$15,IF(T_ART_PAN_RTH<=Table_Panneau!$B$19,IF(T_ART_PAN_MAT=Table_Panneau!$D$15,IF(T_ART_PAN_KRA=Table_Panneau!$D$23,IF(T_ART_PAN_EPA<=Table_Panneau!$B$23,ROW(T_ART_PAN_RTH),""))))),ROW(47:47))),"")}
M72: {=IFERROR(INDEX(T_ART_PAN_LIB,SMALL(IF(T_ART_PAN_RTH>=Table_Panneau!$B$15,IF(T_ART_PAN_RTH<=Table_Panneau!$B$19,IF(T_ART_PAN_MAT=Table_Panneau!$D$15,IF(T_ART_PAN_KRA=Table_Panneau!$D$23,IF(T_ART_PAN_EPA<=Table_Panneau!$B$23,ROW(T_ART_PAN_RTH),""))))),ROW(48:48))),"")} | N72: {=IFERROR(INDEX(T_ART_PAN_RTH,SMALL(IF(T_ART_PAN_RTH>=Table_Panneau!$B$15,IF(T_ART_PAN_RTH<=Table_Panneau!$B$19,IF(T_ART_PAN_MAT=Table_Panneau!$D$15,IF(T_ART_PAN_KRA=Table_Panneau!$D$23,IF(T_ART_PAN_EPA<=Table_Panneau!$B$23,ROW(T_ART_PAN_RTH),""))))),ROW(48:48))),"")} | O72: {=IFERROR(INDEX(T_ART_PAN_EPA,SMALL(IF(T_ART_PAN_RTH>=Table_Panneau!$B$15,IF(T_ART_PAN_RTH<=Table_Panneau!$B$19,IF(T_ART_PAN_MAT=Table_Panneau!$D$15,IF(T_ART_PAN_KRA=Table_Panneau!$D$23,IF(T_ART_PAN_EPA<=Table_Panneau!$B$23,ROW(T_ART_PAN_RTH),""))))),ROW(48:48))),"")} | P72: {=IFERROR(INDEX(T_ART_PAN_COD,SMALL(IF(T_ART_PAN_RTH>=Table_Panneau!$B$15,IF(T_ART_PAN_RTH<=Table_Panneau!$B$19,IF(T_ART_PAN_MAT=Table_Panneau!$D$15,IF(T_ART_PAN_KRA=Table_Panneau!$D$23,IF(T_ART_PAN_EPA<=Table_Panneau!$B$23,ROW(T_ART_PAN_RTH),""))))),ROW(48:48))),"")} | Q72: {=IFERROR(INDEX(T_ART_PAN_DIS,SMALL(IF(T_ART_PAN_RTH>=Table_Panneau!$B$15,IF(T_ART_PAN_RTH<=Table_Panneau!$B$19,IF(T_ART_PAN_MAT=Table_Panneau!$D$15,IF(T_ART_PAN_KRA=Table_Panneau!$D$23,IF(T_ART_PAN_EPA<=Table_Panneau!$B$23,ROW(T_ART_PAN_RTH),""))))),ROW(48:48))),"")} | R72: {=IFERROR(INDEX(T_ART_PAN_KRA,SMALL(IF(T_ART_PAN_RTH>=Table_Panneau!$B$15,IF(T_ART_PAN_RTH<=Table_Panneau!$B$19,IF(T_ART_PAN_MAT=Table_Panneau!$D$15,IF(T_ART_PAN_KRA=Table_Panneau!$D$23,IF(T_ART_PAN_EPA<=Table_Panneau!$B$23,ROW(T_ART_PAN_RTH),""))))),ROW(48:48))),"")} | S72: {=IFERROR(INDEX(T_ART_PAN_MAT,SMALL(IF(T_ART_PAN_RTH>=Table_Panneau!$B$15,IF(T_ART_PAN_RTH<=Table_Panneau!$B$19,IF(T_ART_PAN_MAT=Table_Panneau!$D$15,IF(T_ART_PAN_KRA=Table_Panneau!$D$23,IF(T_ART_PAN_EPA<=Table_Panneau!$B$23,ROW(T_ART_PAN_RTH),""))))),ROW(48:48))),"")}
M73: {=IFERROR(INDEX(T_ART_PAN_LIB,SMALL(IF(T_ART_PAN_RTH>=Table_Panneau!$B$15,IF(T_ART_PAN_RTH<=Table_Panneau!$B$19,IF(T_ART_PAN_MAT=Table_Panneau!$D$15,IF(T_ART_PAN_KRA=Table_Panneau!$D$23,IF(T_ART_PAN_EPA<=Table_Panneau!$B$23,ROW(T_ART_PAN_RTH),""))))),ROW(49:49))),"")} | N73: {=IFERROR(INDEX(T_ART_PAN_RTH,SMALL(IF(T_ART_PAN_RTH>=Table_Panneau!$B$15,IF(T_ART_PAN_RTH<=Table_Panneau!$B$19,IF(T_ART_PAN_MAT=Table_Panneau!$D$15,IF(T_ART_PAN_KRA=Table_Panneau!$D$23,IF(T_ART_PAN_EPA<=Table_Panneau!$B$23,ROW(T_ART_PAN_RTH),""))))),ROW(49:49))),"")} | O73: {=IFERROR(INDEX(T_ART_PAN_EPA,SMALL(IF(T_ART_PAN_RTH>=Table_Panneau!$B$15,IF(T_ART_PAN_RTH<=Table_Panneau!$B$19,IF(T_ART_PAN_MAT=Table_Panneau!$D$15,IF(T_ART_PAN_KRA=Table_Panneau!$D$23,IF(T_ART_PAN_EPA<=Table_Panneau!$B$23,ROW(T_ART_PAN_RTH),""))))),ROW(49:49))),"")} | P73: {=IFERROR(INDEX(T_ART_PAN_COD,SMALL(IF(T_ART_PAN_RTH>=Table_Panneau!$B$15,IF(T_ART_PAN_RTH<=Table_Panneau!$B$19,IF(T_ART_PAN_MAT=Table_Panneau!$D$15,IF(T_ART_PAN_KRA=Table_Panneau!$D$23,IF(T_ART_PAN_EPA<=Table_Panneau!$B$23,ROW(T_ART_PAN_RTH),""))))),ROW(49:49))),"")} | Q73: {=IFERROR(INDEX(T_ART_PAN_DIS,SMALL(IF(T_ART_PAN_RTH>=Table_Panneau!$B$15,IF(T_ART_PAN_RTH<=Table_Panneau!$B$19,IF(T_ART_PAN_MAT=Table_Panneau!$D$15,IF(T_ART_PAN_KRA=Table_Panneau!$D$23,IF(T_ART_PAN_EPA<=Table_Panneau!$B$23,ROW(T_ART_PAN_RTH),""))))),ROW(49:49))),"")} | R73: {=IFERROR(INDEX(T_ART_PAN_KRA,SMALL(IF(T_ART_PAN_RTH>=Table_Panneau!$B$15,IF(T_ART_PAN_RTH<=Table_Panneau!$B$19,IF(T_ART_PAN_MAT=Table_Panneau!$D$15,IF(T_ART_PAN_KRA=Table_Panneau!$D$23,IF(T_ART_PAN_EPA<=Table_Panneau!$B$23,ROW(T_ART_PAN_RTH),""))))),ROW(49:49))),"")} | S73: {=IFERROR(INDEX(T_ART_PAN_MAT,SMALL(IF(T_ART_PAN_RTH>=Table_Panneau!$B$15,IF(T_ART_PAN_RTH<=Table_Panneau!$B$19,IF(T_ART_PAN_MAT=Table_Panneau!$D$15,IF(T_ART_PAN_KRA=Table_Panneau!$D$23,IF(T_ART_PAN_EPA<=Table_Panneau!$B$23,ROW(T_ART_PAN_RTH),""))))),ROW(49:49))),"")}
M74: {=IFERROR(INDEX(T_ART_PAN_LIB,SMALL(IF(T_ART_PAN_RTH>=Table_Panneau!$B$15,IF(T_ART_PAN_RTH<=Table_Panneau!$B$19,IF(T_ART_PAN_MAT=Table_Panneau!$D$15,IF(T_ART_PAN_KRA=Table_Panneau!$D$23,IF(T_ART_PAN_EPA<=Table_Panneau!$B$23,ROW(T_ART_PAN_RTH),""))))),ROW(50:50))),"")} | N74: {=IFERROR(INDEX(T_ART_PAN_RTH,SMALL(IF(T_ART_PAN_RTH>=Table_Panneau!$B$15,IF(T_ART_PAN_RTH<=Table_Panneau!$B$19,IF(T_ART_PAN_MAT=Table_Panneau!$D$15,IF(T_ART_PAN_KRA=Table_Panneau!$D$23,IF(T_ART_PAN_EPA<=Table_Panneau!$B$23,ROW(T_ART_PAN_RTH),""))))),ROW(50:50))),"")} | O74: {=IFERROR(INDEX(T_ART_PAN_EPA,SMALL(IF(T_ART_PAN_RTH>=Table_Panneau!$B$15,IF(T_ART_PAN_RTH<=Table_Panneau!$B$19,IF(T_ART_PAN_MAT=Table_Panneau!$D$15,IF(T_ART_PAN_KRA=Table_Panneau!$D$23,IF(T_ART_PAN_EPA<=Table_Panneau!$B$23,ROW(T_ART_PAN_RTH),""))))),ROW(50:50))),"")} | P74: {=IFERROR(INDEX(T_ART_PAN_COD,SMALL(IF(T_ART_PAN_RTH>=Table_Panneau!$B$15,IF(T_ART_PAN_RTH<=Table_Panneau!$B$19,IF(T_ART_PAN_MAT=Table_Panneau!$D$15,IF(T_ART_PAN_KRA=Table_Panneau!$D$23,IF(T_ART_PAN_EPA<=Table_Panneau!$B$23,ROW(T_ART_PAN_RTH),""))))),ROW(50:50))),"")} | Q74: {=IFERROR(INDEX(T_ART_PAN_DIS,SMALL(IF(T_ART_PAN_RTH>=Table_Panneau!$B$15,IF(T_ART_PAN_RTH<=Table_Panneau!$B$19,IF(T_ART_PAN_MAT=Table_Panneau!$D$15,IF(T_ART_PAN_KRA=Table_Panneau!$D$23,IF(T_ART_PAN_EPA<=Table_Panneau!$B$23,ROW(T_ART_PAN_RTH),""))))),ROW(50:50))),"")} | R74: {=IFERROR(INDEX(T_ART_PAN_KRA,SMALL(IF(T_ART_PAN_RTH>=Table_Panneau!$B$15,IF(T_ART_PAN_RTH<=Table_Panneau!$B$19,IF(T_ART_PAN_MAT=Table_Panneau!$D$15,IF(T_ART_PAN_KRA=Table_Panneau!$D$23,IF(T_ART_PAN_EPA<=Table_Panneau!$B$23,ROW(T_ART_PAN_RTH),""))))),ROW(50:50))),"")} | S74: {=IFERROR(INDEX(T_ART_PAN_MAT,SMALL(IF(T_ART_PAN_RTH>=Table_Panneau!$B$15,IF(T_ART_PAN_RTH<=Table_Panneau!$B$19,IF(T_ART_PAN_MAT=Table_Panneau!$D$15,IF(T_ART_PAN_KRA=Table_Panneau!$D$23,IF(T_ART_PAN_EPA<=Table_Panneau!$B$23,ROW(T_ART_PAN_RTH),""))))),ROW(50:50))),"")}
M75: {=IFERROR(INDEX(T_ART_PAN_LIB,SMALL(IF(T_ART_PAN_RTH>=Table_Panneau!$B$15,IF(T_ART_PAN_RTH<=Table_Panneau!$B$19,IF(T_ART_PAN_MAT=Table_Panneau!$D$15,IF(T_ART_PAN_KRA=Table_Panneau!$D$23,IF(T_ART_PAN_EPA<=Table_Panneau!$B$23,ROW(T_ART_PAN_RTH),""))))),ROW(51:51))),"")} | N75: {=IFERROR(INDEX(T_ART_PAN_RTH,SMALL(IF(T_ART_PAN_RTH>=Table_Panneau!$B$15,IF(T_ART_PAN_RTH<=Table_Panneau!$B$19,IF(T_ART_PAN_MAT=Table_Panneau!$D$15,IF(T_ART_PAN_KRA=Table_Panneau!$D$23,IF(T_ART_PAN_EPA<=Table_Panneau!$B$23,ROW(T_ART_PAN_RTH),""))))),ROW(51:51))),"")} | O75: {=IFERROR(INDEX(T_ART_PAN_EPA,SMALL(IF(T_ART_PAN_RTH>=Table_Panneau!$B$15,IF(T_ART_PAN_RTH<=Table_Panneau!$B$19,IF(T_ART_PAN_MAT=Table_Panneau!$D$15,IF(T_ART_PAN_KRA=Table_Panneau!$D$23,IF(T_ART_PAN_EPA<=Table_Panneau!$B$23,ROW(T_ART_PAN_RTH),""))))),ROW(51:51))),"")} | P75: {=IFERROR(INDEX(T_ART_PAN_COD,SMALL(IF(T_ART_PAN_RTH>=Table_Panneau!$B$15,IF(T_ART_PAN_RTH<=Table_Panneau!$B$19,IF(T_ART_PAN_MAT=Table_Panneau!$D$15,IF(T_ART_PAN_KRA=Table_Panneau!$D$23,IF(T_ART_PAN_EPA<=Table_Panneau!$B$23,ROW(T_ART_PAN_RTH),""))))),ROW(51:51))),"")} | Q75: {=IFERROR(INDEX(T_ART_PAN_DIS,SMALL(IF(T_ART_PAN_RTH>=Table_Panneau!$B$15,IF(T_ART_PAN_RTH<=Table_Panneau!$B$19,IF(T_ART_PAN_MAT=Table_Panneau!$D$15,IF(T_ART_PAN_KRA=Table_Panneau!$D$23,IF(T_ART_PAN_EPA<=Table_Panneau!$B$23,ROW(T_ART_PAN_RTH),""))))),ROW(51:51))),"")} | R75: {=IFERROR(INDEX(T_ART_PAN_KRA,SMALL(IF(T_ART_PAN_RTH>=Table_Panneau!$B$15,IF(T_ART_PAN_RTH<=Table_Panneau!$B$19,IF(T_ART_PAN_MAT=Table_Panneau!$D$15,IF(T_ART_PAN_KRA=Table_Panneau!$D$23,IF(T_ART_PAN_EPA<=Table_Panneau!$B$23,ROW(T_ART_PAN_RTH),""))))),ROW(51:51))),"")} | S75: {=IFERROR(INDEX(T_ART_PAN_MAT,SMALL(IF(T_ART_PAN_RTH>=Table_Panneau!$B$15,IF(T_ART_PAN_RTH<=Table_Panneau!$B$19,IF(T_ART_PAN_MAT=Table_Panneau!$D$15,IF(T_ART_PAN_KRA=Table_Panneau!$D$23,IF(T_ART_PAN_EPA<=Table_Panneau!$B$23,ROW(T_ART_PAN_RTH),""))))),ROW(51:51))),"")}
M76: {=IFERROR(INDEX(T_ART_PAN_LIB,SMALL(IF(T_ART_PAN_RTH>=Table_Panneau!$B$15,IF(T_ART_PAN_RTH<=Table_Panneau!$B$19,IF(T_ART_PAN_MAT=Table_Panneau!$D$15,IF(T_ART_PAN_KRA=Table_Panneau!$D$23,IF(T_ART_PAN_EPA<=Table_Panneau!$B$23,ROW(T_ART_PAN_RTH),""))))),ROW(52:52))),"")} | N76: {=IFERROR(INDEX(T_ART_PAN_RTH,SMALL(IF(T_ART_PAN_RTH>=Table_Panneau!$B$15,IF(T_ART_PAN_RTH<=Table_Panneau!$B$19,IF(T_ART_PAN_MAT=Table_Panneau!$D$15,IF(T_ART_PAN_KRA=Table_Panneau!$D$23,IF(T_ART_PAN_EPA<=Table_Panneau!$B$23,ROW(T_ART_PAN_RTH),""))))),ROW(52:52))),"")} | O76: {=IFERROR(INDEX(T_ART_PAN_EPA,SMALL(IF(T_ART_PAN_RTH>=Table_Panneau!$B$15,IF(T_ART_PAN_RTH<=Table_Panneau!$B$19,IF(T_ART_PAN_MAT=Table_Panneau!$D$15,IF(T_ART_PAN_KRA=Table_Panneau!$D$23,IF(T_ART_PAN_EPA<=Table_Panneau!$B$23,ROW(T_ART_PAN_RTH),""))))),ROW(52:52))),"")} | P76: {=IFERROR(INDEX(T_ART_PAN_COD,SMALL(IF(T_ART_PAN_RTH>=Table_Panneau!$B$15,IF(T_ART_PAN_RTH<=Table_Panneau!$B$19,IF(T_ART_PAN_MAT=Table_Panneau!$D$15,IF(T_ART_PAN_KRA=Table_Panneau!$D$23,IF(T_ART_PAN_EPA<=Table_Panneau!$B$23,ROW(T_ART_PAN_RTH),""))))),ROW(52:52))),"")} | Q76: {=IFERROR(INDEX(T_ART_PAN_DIS,SMALL(IF(T_ART_PAN_RTH>=Table_Panneau!$B$15,IF(T_ART_PAN_RTH<=Table_Panneau!$B$19,IF(T_ART_PAN_MAT=Table_Panneau!$D$15,IF(T_ART_PAN_KRA=Table_Panneau!$D$23,IF(T_ART_PAN_EPA<=Table_Panneau!$B$23,ROW(T_ART_PAN_RTH),""))))),ROW(52:52))),"")} | R76: {=IFERROR(INDEX(T_ART_PAN_KRA,SMALL(IF(T_ART_PAN_RTH>=Table_Panneau!$B$15,IF(T_ART_PAN_RTH<=Table_Panneau!$B$19,IF(T_ART_PAN_MAT=Table_Panneau!$D$15,IF(T_ART_PAN_KRA=Table_Panneau!$D$23,IF(T_ART_PAN_EPA<=Table_Panneau!$B$23,ROW(T_ART_PAN_RTH),""))))),ROW(52:52))),"")} | S76: {=IFERROR(INDEX(T_ART_PAN_MAT,SMALL(IF(T_ART_PAN_RTH>=Table_Panneau!$B$15,IF(T_ART_PAN_RTH<=Table_Panneau!$B$19,IF(T_ART_PAN_MAT=Table_Panneau!$D$15,IF(T_ART_PAN_KRA=Table_Panneau!$D$23,IF(T_ART_PAN_EPA<=Table_Panneau!$B$23,ROW(T_ART_PAN_RTH),""))))),ROW(52:52))),"")}
M77: {=IFERROR(INDEX(T_ART_PAN_LIB,SMALL(IF(T_ART_PAN_RTH>=Table_Panneau!$B$15,IF(T_ART_PAN_RTH<=Table_Panneau!$B$19,IF(T_ART_PAN_MAT=Table_Panneau!$D$15,IF(T_ART_PAN_KRA=Table_Panneau!$D$23,IF(T_ART_PAN_EPA<=Table_Panneau!$B$23,ROW(T_ART_PAN_RTH),""))))),ROW(53:53))),"")} | N77: {=IFERROR(INDEX(T_ART_PAN_RTH,SMALL(IF(T_ART_PAN_RTH>=Table_Panneau!$B$15,IF(T_ART_PAN_RTH<=Table_Panneau!$B$19,IF(T_ART_PAN_MAT=Table_Panneau!$D$15,IF(T_ART_PAN_KRA=Table_Panneau!$D$23,IF(T_ART_PAN_EPA<=Table_Panneau!$B$23,ROW(T_ART_PAN_RTH),""))))),ROW(53:53))),"")} | O77: {=IFERROR(INDEX(T_ART_PAN_EPA,SMALL(IF(T_ART_PAN_RTH>=Table_Panneau!$B$15,IF(T_ART_PAN_RTH<=Table_Panneau!$B$19,IF(T_ART_PAN_MAT=Table_Panneau!$D$15,IF(T_ART_PAN_KRA=Table_Panneau!$D$23,IF(T_ART_PAN_EPA<=Table_Panneau!$B$23,ROW(T_ART_PAN_RTH),""))))),ROW(53:53))),"")} | P77: {=IFERROR(INDEX(T_ART_PAN_COD,SMALL(IF(T_ART_PAN_RTH>=Table_Panneau!$B$15,IF(T_ART_PAN_RTH<=Table_Panneau!$B$19,IF(T_ART_PAN_MAT=Table_Panneau!$D$15,IF(T_ART_PAN_KRA=Table_Panneau!$D$23,IF(T_ART_PAN_EPA<=Table_Panneau!$B$23,ROW(T_ART_PAN_RTH),""))))),ROW(53:53))),"")} | Q77: {=IFERROR(INDEX(T_ART_PAN_DIS,SMALL(IF(T_ART_PAN_RTH>=Table_Panneau!$B$15,IF(T_ART_PAN_RTH<=Table_Panneau!$B$19,IF(T_ART_PAN_MAT=Table_Panneau!$D$15,IF(T_ART_PAN_KRA=Table_Panneau!$D$23,IF(T_ART_PAN_EPA<=Table_Panneau!$B$23,ROW(T_ART_PAN_RTH),""))))),ROW(53:53))),"")} | R77: {=IFERROR(INDEX(T_ART_PAN_KRA,SMALL(IF(T_ART_PAN_RTH>=Table_Panneau!$B$15,IF(T_ART_PAN_RTH<=Table_Panneau!$B$19,IF(T_ART_PAN_MAT=Table_Panneau!$D$15,IF(T_ART_PAN_KRA=Table_Panneau!$D$23,IF(T_ART_PAN_EPA<=Table_Panneau!$B$23,ROW(T_ART_PAN_RTH),""))))),ROW(53:53))),"")} | S77: {=IFERROR(INDEX(T_ART_PAN_MAT,SMALL(IF(T_ART_PAN_RTH>=Table_Panneau!$B$15,IF(T_ART_PAN_RTH<=Table_Panneau!$B$19,IF(T_ART_PAN_MAT=Table_Panneau!$D$15,IF(T_ART_PAN_KRA=Table_Panneau!$D$23,IF(T_ART_PAN_EPA<=Table_Panneau!$B$23,ROW(T_ART_PAN_RTH),""))))),ROW(53:53))),"")}
M78: {=IFERROR(INDEX(T_ART_PAN_LIB,SMALL(IF(T_ART_PAN_RTH>=Table_Panneau!$B$15,IF(T_ART_PAN_RTH<=Table_Panneau!$B$19,IF(T_ART_PAN_MAT=Table_Panneau!$D$15,IF(T_ART_PAN_KRA=Table_Panneau!$D$23,IF(T_ART_PAN_EPA<=Table_Panneau!$B$23,ROW(T_ART_PAN_RTH),""))))),ROW(54:54))),"")} | N78: {=IFERROR(INDEX(T_ART_PAN_RTH,SMALL(IF(T_ART_PAN_RTH>=Table_Panneau!$B$15,IF(T_ART_PAN_RTH<=Table_Panneau!$B$19,IF(T_ART_PAN_MAT=Table_Panneau!$D$15,IF(T_ART_PAN_KRA=Table_Panneau!$D$23,IF(T_ART_PAN_EPA<=Table_Panneau!$B$23,ROW(T_ART_PAN_RTH),""))))),ROW(54:54))),"")} | O78: {=IFERROR(INDEX(T_ART_PAN_EPA,SMALL(IF(T_ART_PAN_RTH>=Table_Panneau!$B$15,IF(T_ART_PAN_RTH<=Table_Panneau!$B$19,IF(T_ART_PAN_MAT=Table_Panneau!$D$15,IF(T_ART_PAN_KRA=Table_Panneau!$D$23,IF(T_ART_PAN_EPA<=Table_Panneau!$B$23,ROW(T_ART_PAN_RTH),""))))),ROW(54:54))),"")} | P78: {=IFERROR(INDEX(T_ART_PAN_COD,SMALL(IF(T_ART_PAN_RTH>=Table_Panneau!$B$15,IF(T_ART_PAN_RTH<=Table_Panneau!$B$19,IF(T_ART_PAN_MAT=Table_Panneau!$D$15,IF(T_ART_PAN_KRA=Table_Panneau!$D$23,IF(T_ART_PAN_EPA<=Table_Panneau!$B$23,ROW(T_ART_PAN_RTH),""))))),ROW(54:54))),"")} | Q78: {=IFERROR(INDEX(T_ART_PAN_DIS,SMALL(IF(T_ART_PAN_RTH>=Table_Panneau!$B$15,IF(T_ART_PAN_RTH<=Table_Panneau!$B$19,IF(T_ART_PAN_MAT=Table_Panneau!$D$15,IF(T_ART_PAN_KRA=Table_Panneau!$D$23,IF(T_ART_PAN_EPA<=Table_Panneau!$B$23,ROW(T_ART_PAN_RTH),""))))),ROW(54:54))),"")} | R78: {=IFERROR(INDEX(T_ART_PAN_KRA,SMALL(IF(T_ART_PAN_RTH>=Table_Panneau!$B$15,IF(T_ART_PAN_RTH<=Table_Panneau!$B$19,IF(T_ART_PAN_MAT=Table_Panneau!$D$15,IF(T_ART_PAN_KRA=Table_Panneau!$D$23,IF(T_ART_PAN_EPA<=Table_Panneau!$B$23,ROW(T_ART_PAN_RTH),""))))),ROW(54:54))),"")} | S78: {=IFERROR(INDEX(T_ART_PAN_MAT,SMALL(IF(T_ART_PAN_RTH>=Table_Panneau!$B$15,IF(T_ART_PAN_RTH<=Table_Panneau!$B$19,IF(T_ART_PAN_MAT=Table_Panneau!$D$15,IF(T_ART_PAN_KRA=Table_Panneau!$D$23,IF(T_ART_PAN_EPA<=Table_Panneau!$B$23,ROW(T_ART_PAN_RTH),""))))),ROW(54:54))),"")}
M79: {=IFERROR(INDEX(T_ART_PAN_LIB,SMALL(IF(T_ART_PAN_RTH>=Table_Panneau!$B$15,IF(T_ART_PAN_RTH<=Table_Panneau!$B$19,IF(T_ART_PAN_MAT=Table_Panneau!$D$15,IF(T_ART_PAN_KRA=Table_Panneau!$D$23,IF(T_ART_PAN_EPA<=Table_Panneau!$B$23,ROW(T_ART_PAN_RTH),""))))),ROW(55:55))),"")} | N79: {=IFERROR(INDEX(T_ART_PAN_RTH,SMALL(IF(T_ART_PAN_RTH>=Table_Panneau!$B$15,IF(T_ART_PAN_RTH<=Table_Panneau!$B$19,IF(T_ART_PAN_MAT=Table_Panneau!$D$15,IF(T_ART_PAN_KRA=Table_Panneau!$D$23,IF(T_ART_PAN_EPA<=Table_Panneau!$B$23,ROW(T_ART_PAN_RTH),""))))),ROW(55:55))),"")} | O79: {=IFERROR(INDEX(T_ART_PAN_EPA,SMALL(IF(T_ART_PAN_RTH>=Table_Panneau!$B$15,IF(T_ART_PAN_RTH<=Table_Panneau!$B$19,IF(T_ART_PAN_MAT=Table_Panneau!$D$15,IF(T_ART_PAN_KRA=Table_Panneau!$D$23,IF(T_ART_PAN_EPA<=Table_Panneau!$B$23,ROW(T_ART_PAN_RTH),""))))),ROW(55:55))),"")} | P79: {=IFERROR(INDEX(T_ART_PAN_COD,SMALL(IF(T_ART_PAN_RTH>=Table_Panneau!$B$15,IF(T_ART_PAN_RTH<=Table_Panneau!$B$19,IF(T_ART_PAN_MAT=Table_Panneau!$D$15,IF(T_ART_PAN_KRA=Table_Panneau!$D$23,IF(T_ART_PAN_EPA<=Table_Panneau!$B$23,ROW(T_ART_PAN_RTH),""))))),ROW(55:55))),"")} | Q79: {=IFERROR(INDEX(T_ART_PAN_DIS,SMALL(IF(T_ART_PAN_RTH>=Table_Panneau!$B$15,IF(T_ART_PAN_RTH<=Table_Panneau!$B$19,IF(T_ART_PAN_MAT=Table_Panneau!$D$15,IF(T_ART_PAN_KRA=Table_Panneau!$D$23,IF(T_ART_PAN_EPA<=Table_Panneau!$B$23,ROW(T_ART_PAN_RTH),""))))),ROW(55:55))),"")} | R79: {=IFERROR(INDEX(T_ART_PAN_KRA,SMALL(IF(T_ART_PAN_RTH>=Table_Panneau!$B$15,IF(T_ART_PAN_RTH<=Table_Panneau!$B$19,IF(T_ART_PAN_MAT=Table_Panneau!$D$15,IF(T_ART_PAN_KRA=Table_Panneau!$D$23,IF(T_ART_PAN_EPA<=Table_Panneau!$B$23,ROW(T_ART_PAN_RTH),""))))),ROW(55:55))),"")} | S79: {=IFERROR(INDEX(T_ART_PAN_MAT,SMALL(IF(T_ART_PAN_RTH>=Table_Panneau!$B$15,IF(T_ART_PAN_RTH<=Table_Panneau!$B$19,IF(T_ART_PAN_MAT=Table_Panneau!$D$15,IF(T_ART_PAN_KRA=Table_Panneau!$D$23,IF(T_ART_PAN_EPA<=Table_Panneau!$B$23,ROW(T_ART_PAN_RTH),""))))),ROW(55:55))),"")}
M80: {=IFERROR(INDEX(T_ART_PAN_LIB,SMALL(IF(T_ART_PAN_RTH>=Table_Panneau!$B$15,IF(T_ART_PAN_RTH<=Table_Panneau!$B$19,IF(T_ART_PAN_MAT=Table_Panneau!$D$15,IF(T_ART_PAN_KRA=Table_Panneau!$D$23,IF(T_ART_PAN_EPA<=Table_Panneau!$B$23,ROW(T_ART_PAN_RTH),""))))),ROW(56:56))),"")} | N80: {=IFERROR(INDEX(T_ART_PAN_RTH,SMALL(IF(T_ART_PAN_RTH>=Table_Panneau!$B$15,IF(T_ART_PAN_RTH<=Table_Panneau!$B$19,IF(T_ART_PAN_MAT=Table_Panneau!$D$15,IF(T_ART_PAN_KRA=Table_Panneau!$D$23,IF(T_ART_PAN_EPA<=Table_Panneau!$B$23,ROW(T_ART_PAN_RTH),""))))),ROW(56:56))),"")} | O80: {=IFERROR(INDEX(T_ART_PAN_EPA,SMALL(IF(T_ART_PAN_RTH>=Table_Panneau!$B$15,IF(T_ART_PAN_RTH<=Table_Panneau!$B$19,IF(T_ART_PAN_MAT=Table_Panneau!$D$15,IF(T_ART_PAN_KRA=Table_Panneau!$D$23,IF(T_ART_PAN_EPA<=Table_Panneau!$B$23,ROW(T_ART_PAN_RTH),""))))),ROW(56:56))),"")} | P80: {=IFERROR(INDEX(T_ART_PAN_COD,SMALL(IF(T_ART_PAN_RTH>=Table_Panneau!$B$15,IF(T_ART_PAN_RTH<=Table_Panneau!$B$19,IF(T_ART_PAN_MAT=Table_Panneau!$D$15,IF(T_ART_PAN_KRA=Table_Panneau!$D$23,IF(T_ART_PAN_EPA<=Table_Panneau!$B$23,ROW(T_ART_PAN_RTH),""))))),ROW(56:56))),"")} | Q80: {=IFERROR(INDEX(T_ART_PAN_DIS,SMALL(IF(T_ART_PAN_RTH>=Table_Panneau!$B$15,IF(T_ART_PAN_RTH<=Table_Panneau!$B$19,IF(T_ART_PAN_MAT=Table_Panneau!$D$15,IF(T_ART_PAN_KRA=Table_Panneau!$D$23,IF(T_ART_PAN_EPA<=Table_Panneau!$B$23,ROW(T_ART_PAN_RTH),""))))),ROW(56:56))),"")} | R80: {=IFERROR(INDEX(T_ART_PAN_KRA,SMALL(IF(T_ART_PAN_RTH>=Table_Panneau!$B$15,IF(T_ART_PAN_RTH<=Table_Panneau!$B$19,IF(T_ART_PAN_MAT=Table_Panneau!$D$15,IF(T_ART_PAN_KRA=Table_Panneau!$D$23,IF(T_ART_PAN_EPA<=Table_Panneau!$B$23,ROW(T_ART_PAN_RTH),""))))),ROW(56:56))),"")} | S80: {=IFERROR(INDEX(T_ART_PAN_MAT,SMALL(IF(T_ART_PAN_RTH>=Table_Panneau!$B$15,IF(T_ART_PAN_RTH<=Table_Panneau!$B$19,IF(T_ART_PAN_MAT=Table_Panneau!$D$15,IF(T_ART_PAN_KRA=Table_Panneau!$D$23,IF(T_ART_PAN_EPA<=Table_Panneau!$B$23,ROW(T_ART_PAN_RTH),""))))),ROW(56:56))),"")}
M81: {=IFERROR(INDEX(T_ART_PAN_LIB,SMALL(IF(T_ART_PAN_RTH>=Table_Panneau!$B$15,IF(T_ART_PAN_RTH<=Table_Panneau!$B$19,IF(T_ART_PAN_MAT=Table_Panneau!$D$15,IF(T_ART_PAN_KRA=Table_Panneau!$D$23,IF(T_ART_PAN_EPA<=Table_Panneau!$B$23,ROW(T_ART_PAN_RTH),""))))),ROW(57:57))),"")} | N81: {=IFERROR(INDEX(T_ART_PAN_RTH,SMALL(IF(T_ART_PAN_RTH>=Table_Panneau!$B$15,IF(T_ART_PAN_RTH<=Table_Panneau!$B$19,IF(T_ART_PAN_MAT=Table_Panneau!$D$15,IF(T_ART_PAN_KRA=Table_Panneau!$D$23,IF(T_ART_PAN_EPA<=Table_Panneau!$B$23,ROW(T_ART_PAN_RTH),""))))),ROW(57:57))),"")} | O81: {=IFERROR(INDEX(T_ART_PAN_EPA,SMALL(IF(T_ART_PAN_RTH>=Table_Panneau!$B$15,IF(T_ART_PAN_RTH<=Table_Panneau!$B$19,IF(T_ART_PAN_MAT=Table_Panneau!$D$15,IF(T_ART_PAN_KRA=Table_Panneau!$D$23,IF(T_ART_PAN_EPA<=Table_Panneau!$B$23,ROW(T_ART_PAN_RTH),""))))),ROW(57:57))),"")} | P81: {=IFERROR(INDEX(T_ART_PAN_COD,SMALL(IF(T_ART_PAN_RTH>=Table_Panneau!$B$15,IF(T_ART_PAN_RTH<=Table_Panneau!$B$19,IF(T_ART_PAN_MAT=Table_Panneau!$D$15,IF(T_ART_PAN_KRA=Table_Panneau!$D$23,IF(T_ART_PAN_EPA<=Table_Panneau!$B$23,ROW(T_ART_PAN_RTH),""))))),ROW(57:57))),"")} | Q81: {=IFERROR(INDEX(T_ART_PAN_DIS,SMALL(IF(T_ART_PAN_RTH>=Table_Panneau!$B$15,IF(T_ART_PAN_RTH<=Table_Panneau!$B$19,IF(T_ART_PAN_MAT=Table_Panneau!$D$15,IF(T_ART_PAN_KRA=Table_Panneau!$D$23,IF(T_ART_PAN_EPA<=Table_Panneau!$B$23,ROW(T_ART_PAN_RTH),""))))),ROW(57:57))),"")} | R81: {=IFERROR(INDEX(T_ART_PAN_KRA,SMALL(IF(T_ART_PAN_RTH>=Table_Panneau!$B$15,IF(T_ART_PAN_RTH<=Table_Panneau!$B$19,IF(T_ART_PAN_MAT=Table_Panneau!$D$15,IF(T_ART_PAN_KRA=Table_Panneau!$D$23,IF(T_ART_PAN_EPA<=Table_Panneau!$B$23,ROW(T_ART_PAN_RTH),""))))),ROW(57:57))),"")} | S81: {=IFERROR(INDEX(T_ART_PAN_MAT,SMALL(IF(T_ART_PAN_RTH>=Table_Panneau!$B$15,IF(T_ART_PAN_RTH<=Table_Panneau!$B$19,IF(T_ART_PAN_MAT=Table_Panneau!$D$15,IF(T_ART_PAN_KRA=Table_Panneau!$D$23,IF(T_ART_PAN_EPA<=Table_Panneau!$B$23,ROW(T_ART_PAN_RTH),""))))),ROW(57:57))),"")}
M82: {=IFERROR(INDEX(T_ART_PAN_LIB,SMALL(IF(T_ART_PAN_RTH>=Table_Panneau!$B$15,IF(T_ART_PAN_RTH<=Table_Panneau!$B$19,IF(T_ART_PAN_MAT=Table_Panneau!$D$15,IF(T_ART_PAN_KRA=Table_Panneau!$D$23,IF(T_ART_PAN_EPA<=Table_Panneau!$B$23,ROW(T_ART_PAN_RTH),""))))),ROW(58:58))),"")} | N82: {=IFERROR(INDEX(T_ART_PAN_RTH,SMALL(IF(T_ART_PAN_RTH>=Table_Panneau!$B$15,IF(T_ART_PAN_RTH<=Table_Panneau!$B$19,IF(T_ART_PAN_MAT=Table_Panneau!$D$15,IF(T_ART_PAN_KRA=Table_Panneau!$D$23,IF(T_ART_PAN_EPA<=Table_Panneau!$B$23,ROW(T_ART_PAN_RTH),""))))),ROW(58:58))),"")} | O82: {=IFERROR(INDEX(T_ART_PAN_EPA,SMALL(IF(T_ART_PAN_RTH>=Table_Panneau!$B$15,IF(T_ART_PAN_RTH<=Table_Panneau!$B$19,IF(T_ART_PAN_MAT=Table_Panneau!$D$15,IF(T_ART_PAN_KRA=Table_Panneau!$D$23,IF(T_ART_PAN_EPA<=Table_Panneau!$B$23,ROW(T_ART_PAN_RTH),""))))),ROW(58:58))),"")} | P82: {=IFERROR(INDEX(T_ART_PAN_COD,SMALL(IF(T_ART_PAN_RTH>=Table_Panneau!$B$15,IF(T_ART_PAN_RTH<=Table_Panneau!$B$19,IF(T_ART_PAN_MAT=Table_Panneau!$D$15,IF(T_ART_PAN_KRA=Table_Panneau!$D$23,IF(T_ART_PAN_EPA<=Table_Panneau!$B$23,ROW(T_ART_PAN_RTH),""))))),ROW(58:58))),"")} | Q82: {=IFERROR(INDEX(T_ART_PAN_DIS,SMALL(IF(T_ART_PAN_RTH>=Table_Panneau!$B$15,IF(T_ART_PAN_RTH<=Table_Panneau!$B$19,IF(T_ART_PAN_MAT=Table_Panneau!$D$15,IF(T_ART_PAN_KRA=Table_Panneau!$D$23,IF(T_ART_PAN_EPA<=Table_Panneau!$B$23,ROW(T_ART_PAN_RTH),""))))),ROW(58:58))),"")} | R82: {=IFERROR(INDEX(T_ART_PAN_KRA,SMALL(IF(T_ART_PAN_RTH>=Table_Panneau!$B$15,IF(T_ART_PAN_RTH<=Table_Panneau!$B$19,IF(T_ART_PAN_MAT=Table_Panneau!$D$15,IF(T_ART_PAN_KRA=Table_Panneau!$D$23,IF(T_ART_PAN_EPA<=Table_Panneau!$B$23,ROW(T_ART_PAN_RTH),""))))),ROW(58:58))),"")} | S82: {=IFERROR(INDEX(T_ART_PAN_MAT,SMALL(IF(T_ART_PAN_RTH>=Table_Panneau!$B$15,IF(T_ART_PAN_RTH<=Table_Panneau!$B$19,IF(T_ART_PAN_MAT=Table_Panneau!$D$15,IF(T_ART_PAN_KRA=Table_Panneau!$D$23,IF(T_ART_PAN_EPA<=Table_Panneau!$B$23,ROW(T_ART_PAN_RTH),""))))),ROW(58:58))),"")}
M83: {=IFERROR(INDEX(T_ART_PAN_LIB,SMALL(IF(T_ART_PAN_RTH>=Table_Panneau!$B$15,IF(T_ART_PAN_RTH<=Table_Panneau!$B$19,IF(T_ART_PAN_MAT=Table_Panneau!$D$15,IF(T_ART_PAN_KRA=Table_Panneau!$D$23,IF(T_ART_PAN_EPA<=Table_Panneau!$B$23,ROW(T_ART_PAN_RTH),""))))),ROW(59:59))),"")} | N83: {=IFERROR(INDEX(T_ART_PAN_RTH,SMALL(IF(T_ART_PAN_RTH>=Table_Panneau!$B$15,IF(T_ART_PAN_RTH<=Table_Panneau!$B$19,IF(T_ART_PAN_MAT=Table_Panneau!$D$15,IF(T_ART_PAN_KRA=Table_Panneau!$D$23,IF(T_ART_PAN_EPA<=Table_Panneau!$B$23,ROW(T_ART_PAN_RTH),""))))),ROW(59:59))),"")} | O83: {=IFERROR(INDEX(T_ART_PAN_EPA,SMALL(IF(T_ART_PAN_RTH>=Table_Panneau!$B$15,IF(T_ART_PAN_RTH<=Table_Panneau!$B$19,IF(T_ART_PAN_MAT=Table_Panneau!$D$15,IF(T_ART_PAN_KRA=Table_Panneau!$D$23,IF(T_ART_PAN_EPA<=Table_Panneau!$B$23,ROW(T_ART_PAN_RTH),""))))),ROW(59:59))),"")} | P83: {=IFERROR(INDEX(T_ART_PAN_COD,SMALL(IF(T_ART_PAN_RTH>=Table_Panneau!$B$15,IF(T_ART_PAN_RTH<=Table_Panneau!$B$19,IF(T_ART_PAN_MAT=Table_Panneau!$D$15,IF(T_ART_PAN_KRA=Table_Panneau!$D$23,IF(T_ART_PAN_EPA<=Table_Panneau!$B$23,ROW(T_ART_PAN_RTH),""))))),ROW(59:59))),"")} | Q83: {=IFERROR(INDEX(T_ART_PAN_DIS,SMALL(IF(T_ART_PAN_RTH>=Table_Panneau!$B$15,IF(T_ART_PAN_RTH<=Table_Panneau!$B$19,IF(T_ART_PAN_MAT=Table_Panneau!$D$15,IF(T_ART_PAN_KRA=Table_Panneau!$D$23,IF(T_ART_PAN_EPA<=Table_Panneau!$B$23,ROW(T_ART_PAN_RTH),""))))),ROW(59:59))),"")} | R83: {=IFERROR(INDEX(T_ART_PAN_KRA,SMALL(IF(T_ART_PAN_RTH>=Table_Panneau!$B$15,IF(T_ART_PAN_RTH<=Table_Panneau!$B$19,IF(T_ART_PAN_MAT=Table_Panneau!$D$15,IF(T_ART_PAN_KRA=Table_Panneau!$D$23,IF(T_ART_PAN_EPA<=Table_Panneau!$B$23,ROW(T_ART_PAN_RTH),""))))),ROW(59:59))),"")} | S83: {=IFERROR(INDEX(T_ART_PAN_MAT,SMALL(IF(T_ART_PAN_RTH>=Table_Panneau!$B$15,IF(T_ART_PAN_RTH<=Table_Panneau!$B$19,IF(T_ART_PAN_MAT=Table_Panneau!$D$15,IF(T_ART_PAN_KRA=Table_Panneau!$D$23,IF(T_ART_PAN_EPA<=Table_Panneau!$B$23,ROW(T_ART_PAN_RTH),""))))),ROW(59:59))),"")}
M84: {=IFERROR(INDEX(T_ART_PAN_LIB,SMALL(IF(T_ART_PAN_RTH>=Table_Panneau!$B$15,IF(T_ART_PAN_RTH<=Table_Panneau!$B$19,IF(T_ART_PAN_MAT=Table_Panneau!$D$15,IF(T_ART_PAN_KRA=Table_Panneau!$D$23,IF(T_ART_PAN_EPA<=Table_Panneau!$B$23,ROW(T_ART_PAN_RTH),""))))),ROW(60:60))),"")} | N84: {=IFERROR(INDEX(T_ART_PAN_RTH,SMALL(IF(T_ART_PAN_RTH>=Table_Panneau!$B$15,IF(T_ART_PAN_RTH<=Table_Panneau!$B$19,IF(T_ART_PAN_MAT=Table_Panneau!$D$15,IF(T_ART_PAN_KRA=Table_Panneau!$D$23,IF(T_ART_PAN_EPA<=Table_Panneau!$B$23,ROW(T_ART_PAN_RTH),""))))),ROW(60:60))),"")} | O84: {=IFERROR(INDEX(T_ART_PAN_EPA,SMALL(IF(T_ART_PAN_RTH>=Table_Panneau!$B$15,IF(T_ART_PAN_RTH<=Table_Panneau!$B$19,IF(T_ART_PAN_MAT=Table_Panneau!$D$15,IF(T_ART_PAN_KRA=Table_Panneau!$D$23,IF(T_ART_PAN_EPA<=Table_Panneau!$B$23,ROW(T_ART_PAN_RTH),""))))),ROW(60:60))),"")} | P84: {=IFERROR(INDEX(T_ART_PAN_COD,SMALL(IF(T_ART_PAN_RTH>=Table_Panneau!$B$15,IF(T_ART_PAN_RTH<=Table_Panneau!$B$19,IF(T_ART_PAN_MAT=Table_Panneau!$D$15,IF(T_ART_PAN_KRA=Table_Panneau!$D$23,IF(T_ART_PAN_EPA<=Table_Panneau!$B$23,ROW(T_ART_PAN_RTH),""))))),ROW(60:60))),"")} | Q84: {=IFERROR(INDEX(T_ART_PAN_DIS,SMALL(IF(T_ART_PAN_RTH>=Table_Panneau!$B$15,IF(T_ART_PAN_RTH<=Table_Panneau!$B$19,IF(T_ART_PAN_MAT=Table_Panneau!$D$15,IF(T_ART_PAN_KRA=Table_Panneau!$D$23,IF(T_ART_PAN_EPA<=Table_Panneau!$B$23,ROW(T_ART_PAN_RTH),""))))),ROW(60:60))),"")} | R84: {=IFERROR(INDEX(T_ART_PAN_KRA,SMALL(IF(T_ART_PAN_RTH>=Table_Panneau!$B$15,IF(T_ART_PAN_RTH<=Table_Panneau!$B$19,IF(T_ART_PAN_MAT=Table_Panneau!$D$15,IF(T_ART_PAN_KRA=Table_Panneau!$D$23,IF(T_ART_PAN_EPA<=Table_Panneau!$B$23,ROW(T_ART_PAN_RTH),""))))),ROW(60:60))),"")} | S84: {=IFERROR(INDEX(T_ART_PAN_MAT,SMALL(IF(T_ART_PAN_RTH>=Table_Panneau!$B$15,IF(T_ART_PAN_RTH<=Table_Panneau!$B$19,IF(T_ART_PAN_MAT=Table_Panneau!$D$15,IF(T_ART_PAN_KRA=Table_Panneau!$D$23,IF(T_ART_PAN_EPA<=Table_Panneau!$B$23,ROW(T_ART_PAN_RTH),""))))),ROW(60:60))),"")}
M85: {=IFERROR(INDEX(T_ART_PAN_LIB,SMALL(IF(T_ART_PAN_RTH>=Table_Panneau!$B$15,IF(T_ART_PAN_RTH<=Table_Panneau!$B$19,IF(T_ART_PAN_MAT=Table_Panneau!$D$15,IF(T_ART_PAN_KRA=Table_Panneau!$D$23,IF(T_ART_PAN_EPA<=Table_Panneau!$B$23,ROW(T_ART_PAN_RTH),""))))),ROW(61:61))),"")} | N85: {=IFERROR(INDEX(T_ART_PAN_RTH,SMALL(IF(T_ART_PAN_RTH>=Table_Panneau!$B$15,IF(T_ART_PAN_RTH<=Table_Panneau!$B$19,IF(T_ART_PAN_MAT=Table_Panneau!$D$15,IF(T_ART_PAN_KRA=Table_Panneau!$D$23,IF(T_ART_PAN_EPA<=Table_Panneau!$B$23,ROW(T_ART_PAN_RTH),""))))),ROW(61:61))),"")} | O85: {=IFERROR(INDEX(T_ART_PAN_EPA,SMALL(IF(T_ART_PAN_RTH>=Table_Panneau!$B$15,IF(T_ART_PAN_RTH<=Table_Panneau!$B$19,IF(T_ART_PAN_MAT=Table_Panneau!$D$15,IF(T_ART_PAN_KRA=Table_Panneau!$D$23,IF(T_ART_PAN_EPA<=Table_Panneau!$B$23,ROW(T_ART_PAN_RTH),""))))),ROW(61:61))),"")} | P85: {=IFERROR(INDEX(T_ART_PAN_COD,SMALL(IF(T_ART_PAN_RTH>=Table_Panneau!$B$15,IF(T_ART_PAN_RTH<=Table_Panneau!$B$19,IF(T_ART_PAN_MAT=Table_Panneau!$D$15,IF(T_ART_PAN_KRA=Table_Panneau!$D$23,IF(T_ART_PAN_EPA<=Table_Panneau!$B$23,ROW(T_ART_PAN_RTH),""))))),ROW(61:61))),"")} | Q85: {=IFERROR(INDEX(T_ART_PAN_DIS,SMALL(IF(T_ART_PAN_RTH>=Table_Panneau!$B$15,IF(T_ART_PAN_RTH<=Table_Panneau!$B$19,IF(T_ART_PAN_MAT=Table_Panneau!$D$15,IF(T_ART_PAN_KRA=Table_Panneau!$D$23,IF(T_ART_PAN_EPA<=Table_Panneau!$B$23,ROW(T_ART_PAN_RTH),""))))),ROW(61:61))),"")} | R85: {=IFERROR(INDEX(T_ART_PAN_KRA,SMALL(IF(T_ART_PAN_RTH>=Table_Panneau!$B$15,IF(T_ART_PAN_RTH<=Table_Panneau!$B$19,IF(T_ART_PAN_MAT=Table_Panneau!$D$15,IF(T_ART_PAN_KRA=Table_Panneau!$D$23,IF(T_ART_PAN_EPA<=Table_Panneau!$B$23,ROW(T_ART_PAN_RTH),""))))),ROW(61:61))),"")} | S85: {=IFERROR(INDEX(T_ART_PAN_MAT,SMALL(IF(T_ART_PAN_RTH>=Table_Panneau!$B$15,IF(T_ART_PAN_RTH<=Table_Panneau!$B$19,IF(T_ART_PAN_MAT=Table_Panneau!$D$15,IF(T_ART_PAN_KRA=Table_Panneau!$D$23,IF(T_ART_PAN_EPA<=Table_Panneau!$B$23,ROW(T_ART_PAN_RTH),""))))),ROW(61:61))),"")}
M86: {=IFERROR(INDEX(T_ART_PAN_LIB,SMALL(IF(T_ART_PAN_RTH>=Table_Panneau!$B$15,IF(T_ART_PAN_RTH<=Table_Panneau!$B$19,IF(T_ART_PAN_MAT=Table_Panneau!$D$15,IF(T_ART_PAN_KRA=Table_Panneau!$D$23,IF(T_ART_PAN_EPA<=Table_Panneau!$B$23,ROW(T_ART_PAN_RTH),""))))),ROW(62:62))),"")} | N86: {=IFERROR(INDEX(T_ART_PAN_RTH,SMALL(IF(T_ART_PAN_RTH>=Table_Panneau!$B$15,IF(T_ART_PAN_RTH<=Table_Panneau!$B$19,IF(T_ART_PAN_MAT=Table_Panneau!$D$15,IF(T_ART_PAN_KRA=Table_Panneau!$D$23,IF(T_ART_PAN_EPA<=Table_Panneau!$B$23,ROW(T_ART_PAN_RTH),""))))),ROW(62:62))),"")} | O86: {=IFERROR(INDEX(T_ART_PAN_EPA,SMALL(IF(T_ART_PAN_RTH>=Table_Panneau!$B$15,IF(T_ART_PAN_RTH<=Table_Panneau!$B$19,IF(T_ART_PAN_MAT=Table_Panneau!$D$15,IF(T_ART_PAN_KRA=Table_Panneau!$D$23,IF(T_ART_PAN_EPA<=Table_Panneau!$B$23,ROW(T_ART_PAN_RTH),""))))),ROW(62:62))),"")} | P86: {=IFERROR(INDEX(T_ART_PAN_COD,SMALL(IF(T_ART_PAN_RTH>=Table_Panneau!$B$15,IF(T_ART_PAN_RTH<=Table_Panneau!$B$19,IF(T_ART_PAN_MAT=Table_Panneau!$D$15,IF(T_ART_PAN_KRA=Table_Panneau!$D$23,IF(T_ART_PAN_EPA<=Table_Panneau!$B$23,ROW(T_ART_PAN_RTH),""))))),ROW(62:62))),"")} | Q86: {=IFERROR(INDEX(T_ART_PAN_DIS,SMALL(IF(T_ART_PAN_RTH>=Table_Panneau!$B$15,IF(T_ART_PAN_RTH<=Table_Panneau!$B$19,IF(T_ART_PAN_MAT=Table_Panneau!$D$15,IF(T_ART_PAN_KRA=Table_Panneau!$D$23,IF(T_ART_PAN_EPA<=Table_Panneau!$B$23,ROW(T_ART_PAN_RTH),""))))),ROW(62:62))),"")} | R86: {=IFERROR(INDEX(T_ART_PAN_KRA,SMALL(IF(T_ART_PAN_RTH>=Table_Panneau!$B$15,IF(T_ART_PAN_RTH<=Table_Panneau!$B$19,IF(T_ART_PAN_MAT=Table_Panneau!$D$15,IF(T_ART_PAN_KRA=Table_Panneau!$D$23,IF(T_ART_PAN_EPA<=Table_Panneau!$B$23,ROW(T_ART_PAN_RTH),""))))),ROW(62:62))),"")} | S86: {=IFERROR(INDEX(T_ART_PAN_MAT,SMALL(IF(T_ART_PAN_RTH>=Table_Panneau!$B$15,IF(T_ART_PAN_RTH<=Table_Panneau!$B$19,IF(T_ART_PAN_MAT=Table_Panneau!$D$15,IF(T_ART_PAN_KRA=Table_Panneau!$D$23,IF(T_ART_PAN_EPA<=Table_Panneau!$B$23,ROW(T_ART_PAN_RTH),""))))),ROW(62:62))),"")}
M87: {=IFERROR(INDEX(T_ART_PAN_LIB,SMALL(IF(T_ART_PAN_RTH>=Table_Panneau!$B$15,IF(T_ART_PAN_RTH<=Table_Panneau!$B$19,IF(T_ART_PAN_MAT=Table_Panneau!$D$15,IF(T_ART_PAN_KRA=Table_Panneau!$D$23,IF(T_ART_PAN_EPA<=Table_Panneau!$B$23,ROW(T_ART_PAN_RTH),""))))),ROW(63:63))),"")} | N87: {=IFERROR(INDEX(T_ART_PAN_RTH,SMALL(IF(T_ART_PAN_RTH>=Table_Panneau!$B$15,IF(T_ART_PAN_RTH<=Table_Panneau!$B$19,IF(T_ART_PAN_MAT=Table_Panneau!$D$15,IF(T_ART_PAN_KRA=Table_Panneau!$D$23,IF(T_ART_PAN_EPA<=Table_Panneau!$B$23,ROW(T_ART_PAN_RTH),""))))),ROW(63:63))),"")} | O87: {=IFERROR(INDEX(T_ART_PAN_EPA,SMALL(IF(T_ART_PAN_RTH>=Table_Panneau!$B$15,IF(T_ART_PAN_RTH<=Table_Panneau!$B$19,IF(T_ART_PAN_MAT=Table_Panneau!$D$15,IF(T_ART_PAN_KRA=Table_Panneau!$D$23,IF(T_ART_PAN_EPA<=Table_Panneau!$B$23,ROW(T_ART_PAN_RTH),""))))),ROW(63:63))),"")} | P87: {=IFERROR(INDEX(T_ART_PAN_COD,SMALL(IF(T_ART_PAN_RTH>=Table_Panneau!$B$15,IF(T_ART_PAN_RTH<=Table_Panneau!$B$19,IF(T_ART_PAN_MAT=Table_Panneau!$D$15,IF(T_ART_PAN_KRA=Table_Panneau!$D$23,IF(T_ART_PAN_EPA<=Table_Panneau!$B$23,ROW(T_ART_PAN_RTH),""))))),ROW(63:63))),"")} | Q87: {=IFERROR(INDEX(T_ART_PAN_DIS,SMALL(IF(T_ART_PAN_RTH>=Table_Panneau!$B$15,IF(T_ART_PAN_RTH<=Table_Panneau!$B$19,IF(T_ART_PAN_MAT=Table_Panneau!$D$15,IF(T_ART_PAN_KRA=Table_Panneau!$D$23,IF(T_ART_PAN_EPA<=Table_Panneau!$B$23,ROW(T_ART_PAN_RTH),""))))),ROW(63:63))),"")} | R87: {=IFERROR(INDEX(T_ART_PAN_KRA,SMALL(IF(T_ART_PAN_RTH>=Table_Panneau!$B$15,IF(T_ART_PAN_RTH<=Table_Panneau!$B$19,IF(T_ART_PAN_MAT=Table_Panneau!$D$15,IF(T_ART_PAN_KRA=Table_Panneau!$D$23,IF(T_ART_PAN_EPA<=Table_Panneau!$B$23,ROW(T_ART_PAN_RTH),""))))),ROW(63:63))),"")} | S87: {=IFERROR(INDEX(T_ART_PAN_MAT,SMALL(IF(T_ART_PAN_RTH>=Table_Panneau!$B$15,IF(T_ART_PAN_RTH<=Table_Panneau!$B$19,IF(T_ART_PAN_MAT=Table_Panneau!$D$15,IF(T_ART_PAN_KRA=Table_Panneau!$D$23,IF(T_ART_PAN_EPA<=Table_Panneau!$B$23,ROW(T_ART_PAN_RTH),""))))),ROW(63:63))),"")}
M88: {=IFERROR(INDEX(T_ART_PAN_LIB,SMALL(IF(T_ART_PAN_RTH>=Table_Panneau!$B$15,IF(T_ART_PAN_RTH<=Table_Panneau!$B$19,IF(T_ART_PAN_MAT=Table_Panneau!$D$15,IF(T_ART_PAN_KRA=Table_Panneau!$D$23,IF(T_ART_PAN_EPA<=Table_Panneau!$B$23,ROW(T_ART_PAN_RTH),""))))),ROW(64:64))),"")} | N88: {=IFERROR(INDEX(T_ART_PAN_RTH,SMALL(IF(T_ART_PAN_RTH>=Table_Panneau!$B$15,IF(T_ART_PAN_RTH<=Table_Panneau!$B$19,IF(T_ART_PAN_MAT=Table_Panneau!$D$15,IF(T_ART_PAN_KRA=Table_Panneau!$D$23,IF(T_ART_PAN_EPA<=Table_Panneau!$B$23,ROW(T_ART_PAN_RTH),""))))),ROW(64:64))),"")} | O88: {=IFERROR(INDEX(T_ART_PAN_EPA,SMALL(IF(T_ART_PAN_RTH>=Table_Panneau!$B$15,IF(T_ART_PAN_RTH<=Table_Panneau!$B$19,IF(T_ART_PAN_MAT=Table_Panneau!$D$15,IF(T_ART_PAN_KRA=Table_Panneau!$D$23,IF(T_ART_PAN_EPA<=Table_Panneau!$B$23,ROW(T_ART_PAN_RTH),""))))),ROW(64:64))),"")} | P88: {=IFERROR(INDEX(T_ART_PAN_COD,SMALL(IF(T_ART_PAN_RTH>=Table_Panneau!$B$15,IF(T_ART_PAN_RTH<=Table_Panneau!$B$19,IF(T_ART_PAN_MAT=Table_Panneau!$D$15,IF(T_ART_PAN_KRA=Table_Panneau!$D$23,IF(T_ART_PAN_EPA<=Table_Panneau!$B$23,ROW(T_ART_PAN_RTH),""))))),ROW(64:64))),"")} | Q88: {=IFERROR(INDEX(T_ART_PAN_DIS,SMALL(IF(T_ART_PAN_RTH>=Table_Panneau!$B$15,IF(T_ART_PAN_RTH<=Table_Panneau!$B$19,IF(T_ART_PAN_MAT=Table_Panneau!$D$15,IF(T_ART_PAN_KRA=Table_Panneau!$D$23,IF(T_ART_PAN_EPA<=Table_Panneau!$B$23,ROW(T_ART_PAN_RTH),""))))),ROW(64:64))),"")} | R88: {=IFERROR(INDEX(T_ART_PAN_KRA,SMALL(IF(T_ART_PAN_RTH>=Table_Panneau!$B$15,IF(T_ART_PAN_RTH<=Table_Panneau!$B$19,IF(T_ART_PAN_MAT=Table_Panneau!$D$15,IF(T_ART_PAN_KRA=Table_Panneau!$D$23,IF(T_ART_PAN_EPA<=Table_Panneau!$B$23,ROW(T_ART_PAN_RTH),""))))),ROW(64:64))),"")} | S88: {=IFERROR(INDEX(T_ART_PAN_MAT,SMALL(IF(T_ART_PAN_RTH>=Table_Panneau!$B$15,IF(T_ART_PAN_RTH<=Table_Panneau!$B$19,IF(T_ART_PAN_MAT=Table_Panneau!$D$15,IF(T_ART_PAN_KRA=Table_Panneau!$D$23,IF(T_ART_PAN_EPA<=Table_Panneau!$B$23,ROW(T_ART_PAN_RTH),""))))),ROW(64:64))),"")}
M89: {=IFERROR(INDEX(T_ART_PAN_LIB,SMALL(IF(T_ART_PAN_RTH>=Table_Panneau!$B$15,IF(T_ART_PAN_RTH<=Table_Panneau!$B$19,IF(T_ART_PAN_MAT=Table_Panneau!$D$15,IF(T_ART_PAN_KRA=Table_Panneau!$D$23,IF(T_ART_PAN_EPA<=Table_Panneau!$B$23,ROW(T_ART_PAN_RTH),""))))),ROW(65:65))),"")} | N89: {=IFERROR(INDEX(T_ART_PAN_RTH,SMALL(IF(T_ART_PAN_RTH>=Table_Panneau!$B$15,IF(T_ART_PAN_RTH<=Table_Panneau!$B$19,IF(T_ART_PAN_MAT=Table_Panneau!$D$15,IF(T_ART_PAN_KRA=Table_Panneau!$D$23,IF(T_ART_PAN_EPA<=Table_Panneau!$B$23,ROW(T_ART_PAN_RTH),""))))),ROW(65:65))),"")} | O89: {=IFERROR(INDEX(T_ART_PAN_EPA,SMALL(IF(T_ART_PAN_RTH>=Table_Panneau!$B$15,IF(T_ART_PAN_RTH<=Table_Panneau!$B$19,IF(T_ART_PAN_MAT=Table_Panneau!$D$15,IF(T_ART_PAN_KRA=Table_Panneau!$D$23,IF(T_ART_PAN_EPA<=Table_Panneau!$B$23,ROW(T_ART_PAN_RTH),""))))),ROW(65:65))),"")} | P89: {=IFERROR(INDEX(T_ART_PAN_COD,SMALL(IF(T_ART_PAN_RTH>=Table_Panneau!$B$15,IF(T_ART_PAN_RTH<=Table_Panneau!$B$19,IF(T_ART_PAN_MAT=Table_Panneau!$D$15,IF(T_ART_PAN_KRA=Table_Panneau!$D$23,IF(T_ART_PAN_EPA<=Table_Panneau!$B$23,ROW(T_ART_PAN_RTH),""))))),ROW(65:65))),"")} | Q89: {=IFERROR(INDEX(T_ART_PAN_DIS,SMALL(IF(T_ART_PAN_RTH>=Table_Panneau!$B$15,IF(T_ART_PAN_RTH<=Table_Panneau!$B$19,IF(T_ART_PAN_MAT=Table_Panneau!$D$15,IF(T_ART_PAN_KRA=Table_Panneau!$D$23,IF(T_ART_PAN_EPA<=Table_Panneau!$B$23,ROW(T_ART_PAN_RTH),""))))),ROW(65:65))),"")} | R89: {=IFERROR(INDEX(T_ART_PAN_KRA,SMALL(IF(T_ART_PAN_RTH>=Table_Panneau!$B$15,IF(T_ART_PAN_RTH<=Table_Panneau!$B$19,IF(T_ART_PAN_MAT=Table_Panneau!$D$15,IF(T_ART_PAN_KRA=Table_Panneau!$D$23,IF(T_ART_PAN_EPA<=Table_Panneau!$B$23,ROW(T_ART_PAN_RTH),""))))),ROW(65:65))),"")} | S89: {=IFERROR(INDEX(T_ART_PAN_MAT,SMALL(IF(T_ART_PAN_RTH>=Table_Panneau!$B$15,IF(T_ART_PAN_RTH<=Table_Panneau!$B$19,IF(T_ART_PAN_MAT=Table_Panneau!$D$15,IF(T_ART_PAN_KRA=Table_Panneau!$D$23,IF(T_ART_PAN_EPA<=Table_Panneau!$B$23,ROW(T_ART_PAN_RTH),""))))),ROW(65:65))),"")}
