Workbook
Name T_ART_PAN: Base_Panneau!$A$1:$K$125
Name T_ART_PAN_COD: Base_Panneau!$B$1:$B$125
Name T_ART_PAN_DIS: Base_Panneau!$H$1:$H$125
Name T_ART_PAN_EPA: Base_Panneau!$G$1:$G$125
Name T_ART_PAN_KRA: Base_Panneau!$J$1:$J$125
Name T_ART_PAN_LIB: Base_Panneau!$D$1:$D$125
Name T_ART_PAN_MAT: Base_Panneau!$I$1:$I$125
Name T_ART_PAN_RTH: Base_Panneau!$A$1:$A$125

Sheet Resistance Thermique
G2: Résistance Thermique R (m².K/W)
B5: Isolant Panneau :
B6: 1. Indiquer le R mini attendu : | G6: 3
B8: 2. Indiquer le R maxi attendu : | G8: 8
B10: 3. Indiqur l'épaisseur max de mise en œuvre disponible (en mm) : | G10: 140
B12: 4. Selectionner la Matière
B14: 5. Choisir avec ou sans Kraft :
B17: Résultat :
C18: Libéllé | D18: R | E18: Epaisseur | F18: Code ACEM | G18: Dispo.
C19: {=IFERROR(INDEX(T_ART_PAN_LIB,SMALL(IF(T_ART_PAN_RTH>=Table_Panneau!$B$15,IF(T_ART_PAN_RTH<=Table_Panneau!$B$19,IF(T_ART_PAN_MAT=Table_Panneau!$D$15,IF(T_ART_PAN_KRA=Table_Panneau!$D$23,IF(T_ART_PAN_EPA<=Table_Panneau!$B$23,ROW(T_ART_PAN_RTH),""))))),ROW(1:1))),"")} -> PX KRAFT TP238 F.DENSITE 100MM 5PX 600*1350 4,05M2 | D19: {=IFERROR(INDEX(T_ART_PAN_RTH,SMALL(IF(T_ART_PAN_RTH>=Table_Panneau!$B$15,IF(T_ART_PAN_RTH<=Table_Panneau!$B$19,IF(T_ART_PAN_MAT=Table_Panneau!$D$15,IF(T_ART_PAN_KRA=Table_Panneau!$D$23,IF(T_ART_PAN_EPA<=Table_Panneau!$B$23,ROW(T_ART_PAN_RTH),""))))),ROW(1:1))),"")} -> 3.15 | E19: {=IFERROR(INDEX(T_ART_PAN_EPA,SMALL(IF(T_ART_PAN_RTH>=Table_Panneau!$B$15,IF(T_ART_PAN_RTH<=Table_Panneau!$B$19,IF(T_ART_PAN_MAT=Table_Panneau!$D$15,IF(T_ART_PAN_KRA=Table_Panneau!$D$23,IF(T_ART_PAN_EPA<=Table_Panneau!$B$23,ROW(T_ART_PAN_RTH),""))))),ROW(1:1))),"")} -> 100 | F19: {=IFERROR(INDEX(T_ART_PAN_COD,SMALL(IF(T_ART_PAN_RTH>=Table_Panneau!$B$15,IF(T_ART_PAN_RTH<=Table_Panneau!$B$19,IF(T_ART_PAN_MAT=Table_Panneau!$D$15,IF(T_ART_PAN_KRA=Table_Panneau!$D$23,IF(T_ART_PAN_EPA<=Table_Panneau!$B$23,ROW(T_ART_PAN_RTH),""))))),ROW(1:1))),"")} -> 300295 | G19: {=IFERROR(INDEX(T_ART_PAN_DIS,SMALL(IF(T_ART_PAN_RTH>=Table_Panneau!$B$15,IF(T_ART_PAN_RTH<=Table_Panneau!$B$19,IF(T_ART_PAN_MAT=Table_Panneau!$D$15,IF(T_ART_PAN_KRA=Table_Panneau!$D$23,IF(T_ART_PAN_EPA<=Table_Panneau!$B$23,ROW(T_ART_PAN_RTH),""))))),ROW(1:1))),"")} -> D
C20: {=IFERROR(INDEX(T_ART_PAN_LIB,SMALL(IF(T_ART_PAN_RTH>=Table_Panneau!$B$15,IF(T_ART_PAN_RTH<=Table_Panneau!$B$19,IF(T_ART_PAN_MAT=Table_Panneau!$D$15,IF(T_ART_PAN_KRA=Table_Panneau!$D$23,IF(T_ART_PAN_EPA<=Table_Panneau!$B$23,ROW(T_ART_PAN_RTH),""))))),ROW(2:2))),"")} -> LDV RLX KRAFT TI 212 140MM 1200*7500 9,00M2 R=3,5 | D20: {=IFERROR(INDEX(T_ART_PAN_RTH,SMALL(IF(T_ART_PAN_RTH>=Table_Panneau!$B$15,IF(T_ART_PAN_RTH<=Table_Panneau!$B$19,IF(T_ART_PAN_MAT=Table_Panneau!$D$15,IF(T_ART_PAN_KRA=Table_Panneau!$D$23,IF(T_ART_PAN_EPA<=Table_Panneau!$B$23,ROW(T_ART_PAN_RTH),""))))),ROW(2:2))),"")} -> 3.5 | E20: {=IFERROR(INDEX(T_ART_PAN_EPA,SMALL(IF(T_ART_PAN_RTH>=Table_Panneau!$B$15,IF(T_ART_PAN_RTH<=Table_Panneau!$B$19,IF(T_ART_PAN_MAT=Table_Panneau!$D$15,IF(T_ART_PAN_KRA=Table_Panneau!$D$23,IF(T_ART_PAN_EPA<=Table_Panneau!$B$23,ROW(T_ART_PAN_RTH),""))))),ROW(2:2))),"")} -> 140 | F20: {=IFERROR(INDEX(T_ART_PAN_COD,SMALL(IF(T_ART_PAN_RTH>=Table_Panneau!$B$15,IF(T_ART_PAN_RTH<=Table_Panneau!$B$19,IF(T_ART_PAN_MAT=Table_Panneau!$D$15,IF(T_ART_PAN_KRA=Table_Panneau!$D$23,IF(T_ART_PAN_EPA<=Table_Panneau!$B$23,ROW(T_ART_PAN_RTH),""))))),ROW(2:2))),"")} -> 300263 | G20: {=IFERROR(INDEX(T_ART_PAN_DIS,SMALL(IF(T_ART_PAN_RTH>=Table_Panneau!$B$15,IF(T_ART_PAN_RTH<=Table_Panneau!$B$19,IF(T_ART_PAN_MAT=Table_Panneau!$D$15,IF(T_ART_PAN_KRA=Table_Panneau!$D$23,IF(T_ART_PAN_EPA<=Table_Panneau!$B$23,ROW(T_ART_PAN_RTH),""))))),ROW(2:2))),"")} -> C
C21: {=IFERROR(INDEX(T_ART_PAN_LIB,SMALL(IF(T_ART_PAN_RTH>=Table_Panneau!$B$15,IF(T_ART_PAN_RTH<=Table_Panneau!$B$19,IF(T_ART_PAN_MAT=Table_Panneau!$D$15,IF(T_ART_PAN_KRA=Table_Panneau!$D$23,IF(T_ART_PAN_EPA<=Table_Panneau!$B$23,ROW(T_ART_PAN_RTH),""))))),ROW(3:3))),"")} -> PX KRAFT TP238 F.DENSITE 120MM 4PX 600*1350 3,24M2 | D21: {=IFERROR(INDEX(T_ART_PAN_RTH,SMALL(IF(T_ART_PAN_RTH>=Table_Panneau!$B$15,IF(T_ART_PAN_RTH<=Table_Panneau!$B$19,IF(T_ART_PAN_MAT=Table_Panneau!$D$15,IF(T_ART_PAN_KRA=Table_Panneau!$D$23,IF(T_ART_PAN_EPA<=Table_Panneau!$B$23,ROW(T_ART_PAN_RTH),""))))),ROW(3:3))),"")} -> 3.75 | E21: {=IFERROR(INDEX(T_ART_PAN_EPA,SMALL(IF(T_ART_PAN_RTH>=Table_Panneau!$B$15,IF(T_ART_PAN_RTH<=Table_Panneau!$B$19,IF(T_ART_PAN_MAT=Table_Panneau!$D$15,IF(T_ART_PAN_KRA=Table_Panneau!$D$23,IF(T_ART_PAN_EPA<=Table_Panneau!$B$23,ROW(T_ART_PAN_RTH),""))))),ROW(3:3))),"")} -> 120 | F21: {=IFERROR(INDEX(T_ART_PAN_COD,SMALL(IF(T_ART_PAN_RTH>=Table_Panneau!$B$15,IF(T_ART_PAN_RTH<=Table_Panneau!$B$19,IF(T_ART_PAN_MAT=Table_Panneau!$D$15,IF(T_ART_PAN_KRA=Table_Panneau!$D$23,IF(T_ART_PAN_EPA<=Table_Panneau!$B$23,ROW(T_ART_PAN_RTH),""))))),ROW(3:3))),"")} -> 031990 | G21: {=IFERROR(INDEX(T_ART_PAN_DIS,SMALL(IF(T_ART_PAN_RTH>=Table_Panneau!$B$15,IF(T_ART_PAN_RTH<=Table_Panneau!$B$19,IF(T_ART_PAN_MAT=Table_Panneau!$D$15,IF(T_ART_PAN_KRA=Table_Panneau!$D$23,IF(T_ART_PAN_EPA<=Table_Panneau!$B$23,ROW(T_ART_PAN_RTH),""))))),ROW(3:3))),"")} -> D
C22: {=IFERROR(INDEX(T_ART_PAN_LIB,SMALL(IF(T_ART_PAN_RTH>=Table_Panneau!$B$15,IF(T_ART_PAN_RTH<=Table_Panneau!$B$19,IF(T_ART_PAN_MAT=Table_Panneau!$D$15,IF(T_ART_PAN_KRA=Table_Panneau!$D$23,IF(T_ART_PAN_EPA<=Table_Panneau!$B$23,ROW(T_ART_PAN_RTH),""))))),ROW(4:4))),"")} -> PX KRAFT TP238 F.DENSITE 140MM 4PX 600*1350 3,24M2 | D22: {=IFERROR(INDEX(T_ART_PAN_RTH,SMALL(IF(T_ART_PAN_RTH>=Table_Panneau!$B$15,IF(T_ART_PAN_RTH<=Table_Panneau!$B$19,IF(T_ART_PAN_MAT=Table_Panneau!$D$15,IF(T_ART_PAN_KRA=Table_Panneau!$D$23,IF(T_ART_PAN_EPA<=Table_Panneau!$B$23,ROW(T_ART_PAN_RTH),""))))),ROW(4:4))),"")} -> 4.4 | E22: {=IFERROR(INDEX(T_ART_PAN_EPA,SMALL(IF(T_ART_PAN_RTH>=Table_Panneau!$B$15,IF(T_ART_PAN_RTH<=Table_Panneau!$B$19,IF(T_ART_PAN_MAT=Table_Panneau!$D$15,IF(T_ART_PAN_KRA=Table_Panneau!$D$23,IF(T_ART_PAN_EPA<=Table_Panneau!$B$23,ROW(T_ART_PAN_RTH),""))))),ROW(4:4))),"")} -> 140 | F22: {=IFERROR(INDEX(T_ART_PAN_COD,SMALL(IF(T_ART_PAN_RTH>=Table_Panneau!$B$15,IF(T_ART_PAN_RTH<=Table_Panneau!$B$19,IF(T_ART_PAN_MAT=Table_Panneau!$D$15,IF(T_ART_PAN_KRA=Table_Panneau!$D$23,IF(T_ART_PAN_EPA<=Table_Panneau!$B$23,ROW(T_ART_PAN_RTH),""))))),ROW(4:4))),"")} -> 301991 | G22: {=IFERROR(INDEX(T_ART_PAN_DIS,SMALL(IF(T_ART_PAN_RTH>=Table_Panneau!$B$15,IF(T_ART_PAN_RTH<=Table_Panneau!$B$19,IF(T_ART_PAN_MAT=Table_Panneau!$D$15,IF(T_ART_PAN_KRA=Table_Panneau!$D$23,IF(T_ART_PAN_EPA<=Table_Panneau!$B$23,ROW(T_ART_PAN_RTH),""))))),ROW(4:4))),"")} -> D
C23: {=IFERROR(INDEX(T_ART_PAN_LIB,SMALL(IF(T_ART_PAN_RTH>=Table_Panneau!$B$15,IF(T_ART_PAN_RTH<=Table_Panneau!$B$19,IF(T_ART_PAN_MAT=Table_Panneau!$D$15,IF(T_ART_PAN_KRA=Table_Panneau!$D$23,IF(T_ART_PAN_EPA<=Table_Panneau!$B$23,ROW(T_ART_PAN_RTH),""))))),ROW(5:5))),"")} | D23: {=IFERROR(INDEX(T_ART_PAN_RTH,SMALL(IF(T_ART_PAN_RTH>=Table_Panneau!$B$15,IF(T_ART_PAN_RTH<=Table_Panneau!$B$19,IF(T_ART_PAN_MAT=Table_Panneau!$D$15,IF(T_ART_PAN_KRA=Table_Panneau!$D$23,IF(T_ART_PAN_EPA<=Table_Panneau!$B$23,ROW(T_ART_PAN_RTH),""))))),ROW(5:5))),"")} | E23: {=IFERROR(INDEX(T_ART_PAN_EPA,SMALL(IF(T_ART_PAN_RTH>=Table_Panneau!$B$15,IF(T_ART_PAN_RTH<=Table_Panneau!$B$19,IF(T_ART_PAN_MAT=Table_Panneau!$D$15,IF(T_ART_PAN_KRA=Table_Panneau!$D$23,IF(T_ART_PAN_EPA<=Table_Panneau!$B$23,ROW(T_ART_PAN_RTH),""))))),ROW(5:5))),"")} | F23: {=IFERROR(INDEX(T_ART_PAN_COD,SMALL(IF(T_ART_PAN_RTH>=Table_Panneau!$B$15,IF(T_ART_PAN_RTH<=Table_Panneau!$B$19,IF(T_ART_PAN_MAT=Table_Panneau!$D$15,IF(T_ART_PAN_KRA=Table_Panneau!$D$23,IF(T_ART_PAN_EPA<=Table_Panneau!$B$23,ROW(T_ART_PAN_RTH),""))))),ROW(5:5))),"")} | G23: {=IFERROR(INDEX(T_ART_PAN_DIS,SMALL(IF(T_ART_PAN_RTH>=Table_Panneau!$B$15,IF(T_ART_PAN_RTH<=Table_Panneau!$B$19,IF(T_ART_PAN_MAT=Table_Panneau!$D$15,IF(T_ART_PAN_KRA=Table_Panneau!$D$23,IF(T_ART_PAN_EPA<=Table_Panneau!$B$23,ROW(T_ART_PAN_RTH),""))))),ROW(5:5))),"")}
C24: {=IFERROR(INDEX(T_ART_PAN_LIB,SMALL(IF(T_ART_PAN_RTH>=Table_Panneau!$B$15,IF(T_ART_PAN_RTH<=Table_Panneau!$B$19,IF(T_ART_PAN_MAT=Table_Panneau!$D$15,IF(T_ART_PAN_KRA=Table_Panneau!$D$23,IF(T_ART_PAN_EPA<=Table_Panneau!$B$23,ROW(T_ART_PAN_RTH),""))))),ROW(6:6))),"")} | D24: {=IFERROR(INDEX(T_ART_PAN_RTH,SMALL(IF(T_ART_PAN_RTH>=Table_Panneau!$B$15,IF(T_ART_PAN_RTH<=Table_Panneau!$B$19,IF(T_ART_PAN_MAT=Table_Panneau!$D$15,IF(T_ART_PAN_KRA=Table_Panneau!$D$23,IF(T_ART_PAN_EPA<=Table_Panneau!$B$23,ROW(T_ART_PAN_RTH),""))))),ROW(6:6))),"")} | E24: {=IFERROR(INDEX(T_ART_PAN_EPA,SMALL(IF(T_ART_PAN_RTH>=Table_Panneau!$B$15,IF(T_ART_PAN_RTH<=Table_Panneau!$B$19,IF(T_ART_PAN_MAT=Table_Panneau!$D$15,IF(T_ART_PAN_KRA=Table_Panneau!$D$23,IF(T_ART_PAN_EPA<=Table_Panneau!$B$23,ROW(T_ART_PAN_RTH),""))))),ROW(6:6))),"")} | F24: {=IFERROR(INDEX(T_ART_PAN_COD,SMALL(IF(T_ART_PAN_RTH>=Table_Panneau!$B$15,IF(T_ART_PAN_RTH<=Table_Panneau!$B$19,IF(T_ART_PAN_MAT=Table_Panneau!$D$15,IF(T_ART_PAN_KRA=Table_Panneau!$D$23,IF(T_ART_PAN_EPA<=Table_Panneau!$B$23,ROW(T_ART_PAN_RTH),""))))),ROW(6:6))),"")} | G24: {=IFERROR(INDEX(T_ART_PAN_DIS,SMALL(IF(T_ART_PAN_RTH>=Table_Panneau!$B$15,IF(T_ART_PAN_RTH<=Table_Panneau!$B$19,IF(T_ART_PAN_MAT=Table_Panneau!$D$15,IF(T_ART_PAN_KRA=Table_Panneau!$D$23,IF(T_ART_PAN_EPA<=Table_Panneau!$B$23,ROW(T_ART_PAN_RTH),""))))),ROW(6:6))),"")}
C25: {=IFERROR(INDEX(T_ART_PAN_LIB,SMALL(IF(T_ART_PAN_RTH>=Table_Panneau!$B$15,IF(T_ART_PAN_RTH<=Table_Panneau!$B$19,IF(T_ART_PAN_MAT=Table_Panneau!$D$15,IF(T_ART_PAN_KRA=Table_Panneau!$D$23,IF(T_ART_PAN_EPA<=Table_Panneau!$B$23,ROW(T_ART_PAN_RTH),""))))),ROW(7:7))),"")} | D25: {=IFERROR(INDEX(T_ART_PAN_RTH,SMALL(IF(T_ART_PAN_RTH>=Table_Panneau!$B$15,IF(T_ART_PAN_RTH<=Table_Panneau!$B$19,IF(T_ART_PAN_MAT=Table_Panneau!$D$15,IF(T_ART_PAN_KRA=Table_Panneau!$D$23,IF(T_ART_PAN_EPA<=Table_Panneau!$B$23,ROW(T_ART_PAN_RTH),""))))),ROW(7:7))),"")} | E25: {=IFERROR(INDEX(T_ART_PAN_EPA,SMALL(IF(T_ART_PAN_RTH>=Table_Panneau!$B$15,IF(T_ART_PAN_RTH<=Table_Panneau!$B$19,IF(T_ART_PAN_MAT=Table_Panneau!$D$15,IF(T_ART_PAN_KRA=Table_Panneau!$D$23,IF(T_ART_PAN_EPA<=Table_Panneau!$B$23,ROW(T_ART_PAN_RTH),""))))),ROW(7:7))),"")} | F25: {=IFERROR(INDEX(T_ART_PAN_COD,SMALL(IF(T_ART_PAN_RTH>=Table_Panneau!$B$15,IF(T_ART_PAN_RTH<=Table_Panneau!$B$19,IF(T_ART_PAN_MAT=Table_Panneau!$D$15,IF(T_ART_PAN_KRA=Table_Panneau!$D$23,IF(T_ART_PAN_EPA<=Table_Panneau!$B$23,ROW(T_ART_PAN_RTH),""))))),ROW(7:7))),"")} | G25: {=IFERROR(INDEX(T_ART_PAN_DIS,SMALL(IF(T_ART_PAN_RTH>=Table_Panneau!$B$15,IF(T_ART_PAN_RTH<=Table_Panneau!$B$19,IF(T_ART_PAN_MAT=Table_Panneau!$D$15,IF(T_ART_PAN_KRA=Table_Panneau!$D$23,IF(T_ART_PAN_EPA<=Table_Panneau!$B$23,ROW(T_ART_PAN_RTH),""))))),ROW(7:7))),"")}
C26: {=IFERROR(INDEX(T_ART_PAN_LIB,SMALL(IF(T_ART_PAN_RTH>=Table_Panneau!$B$15,IF(T_ART_PAN_RTH<=Table_Panneau!$B$19,IF(T_ART_PAN_MAT=Table_Panneau!$D$15,IF(T_ART_PAN_KRA=Table_Panneau!$D$23,IF(T_ART_PAN_EPA<=Table_Panneau!$B$23,ROW(T_ART_PAN_RTH),""))))),ROW(8:8))),"")} | D26: {=IFERROR(INDEX(T_ART_PAN_RTH,SMALL(IF(T_ART_PAN_RTH>=Table_Panneau!$B$15,IF(T_ART_PAN_RTH<=Table_Panneau!$B$19,IF(T_ART_PAN_MAT=Table_Panneau!$D$15,IF(T_ART_PAN_KRA=Table_Panneau!$D$23,IF(T_ART_PAN_EPA<=Table_Panneau!$B$23,ROW(T_ART_PAN_RTH),""))))),ROW(8:8))),"")} | E26: {=IFERROR(INDEX(T_ART_PAN_EPA,SMALL(IF(T_ART_PAN_RTH>=Table_Panneau!$B$15,IF(T_ART_PAN_RTH<=Table_Panneau!$B$19,IF(T_ART_PAN_MAT=Table_Panneau!$D$15,IF(T_ART_PAN_KRA=Table_Panneau!$D$23,IF(T_ART_PAN_EPA<=Table_Panneau!$B$23,ROW(T_ART_PAN_RTH),""))))),ROW(8:8))),"")} | F26: {=IFERROR(INDEX(T_ART_PAN_COD,SMALL(IF(T_ART_PAN_RTH>=Table_Panneau!$B$15,IF(T_ART_PAN_RTH<=Table_Panneau!$B$19,IF(T_ART_PAN_MAT=Table_Panneau!$D$15,IF(T_ART_PAN_KRA=Table_Panneau!$D$23,IF(T_ART_PAN_EPA<=Table_Panneau!$B$23,ROW(T_ART_PAN_RTH),""))))),ROW(8:8))),"")} | G26: {=IFERROR(INDEX(T_ART_PAN_DIS,SMALL(IF(T_ART_PAN_RTH>=Table_Panneau!$B$15,IF(T_ART_PAN_RTH<=Table_Panneau!$B$19,IF(T_ART_PAN_MAT=Table_Panneau!$D$15,IF(T_ART_PAN_KRA=Table_Panneau!$D$23,IF(T_ART_PAN_EPA<=Table_Panneau!$B$23,ROW(T_ART_PAN_RTH),""))))),ROW(8:8))),"")}
C27: {=IFERROR(INDEX(T_ART_PAN_LIB,SMALL(IF(T_ART_PAN_RTH>=Table_Panneau!$B$15,IF(T_ART_PAN_RTH<=Table_Panneau!$B$19,IF(T_ART_PAN_MAT=Table_Panneau!$D$15,IF(T_ART_PAN_KRA=Table_Panneau!$D$23,IF(T_ART_PAN_EPA<=Table_Panneau!$B$23,ROW(T_ART_PAN_RTH),""))))),ROW(9:9))),"")} | D27: {=IFERROR(INDEX(T_ART_PAN_RTH,SMALL(IF(T_ART_PAN_RTH>=Table_Panneau!$B$15,IF(T_ART_PAN_RTH<=Table_Panneau!$B$19,IF(T_ART_PAN_MAT=Table_Panneau!$D$15,IF(T_ART_PAN_KRA=Table_Panneau!$D$23,IF(T_ART_PAN_EPA<=Table_Panneau!$B$23,ROW(T_ART_PAN_RTH),""))))),ROW(9:9))),"")} | E27: {=IFERROR(INDEX(T_ART_PAN_EPA,SMALL(IF(T_ART_PAN_RTH>=Table_Panneau!$B$15,IF(T_ART_PAN_RTH<=Table_Panneau!$B$19,IF(T_ART_PAN_MAT=Table_Panneau!$D$15,IF(T_ART_PAN_KRA=Table_Panneau!$D$23,IF(T_ART_PAN_EPA<=Table_Panneau!$B$23,ROW(T_ART_PAN_RTH),""))))),ROW(9:9))),"")} | F27: {=IFERROR(INDEX(T_ART_PAN_COD,SMALL(IF(T_ART_PAN_RTH>=Table_Panneau!$B$15,IF(T_ART_PAN_RTH<=Table_Panneau!$B$19,IF(T_ART_PAN_MAT=Table_Panneau!$D$15,IF(T_ART_PAN_KRA=Table_Panneau!$D$23,IF(T_ART_PAN_EPA<=Table_Panneau!$B$23,ROW(T_ART_PAN_RTH),""))))),ROW(9:9))),"")} | G27: {=IFERROR(INDEX(T_ART_PAN_DIS,SMALL(IF(T_ART_PAN_RTH>=Table_Panneau!$B$15,IF(T_ART_PAN_RTH<=Table_Panneau!$B$19,IF(T_ART_PAN_MAT=Table_Panneau!$D$15,IF(T_ART_PAN_KRA=Table_Panneau!$D$23,IF(T_ART_PAN_EPA<=Table_Panneau!$B$23,ROW(T_ART_PAN_RTH),""))))),ROW(9:9))),"")}
C28: {=IFERROR(INDEX(T_ART_PAN_LIB,SMALL(IF(T_ART_PAN_RTH>=Table_Panneau!$B$15,IF(T_ART_PAN_RTH<=Table_Panneau!$B$19,IF(T_ART_PAN_MAT=Table_Panneau!$D$15,IF(T_ART_PAN_KRA=Table_Panneau!$D$23,IF(T_ART_PAN_EPA<=Table_Panneau!$B$23,ROW(T_ART_PAN_RTH),""))))),ROW(10:10))),"")} | D28: {=IFERROR(INDEX(T_ART_PAN_RTH,SMALL(IF(T_ART_PAN_RTH>=Table_Panneau!$B$15,IF(T_ART_PAN_RTH<=Table_Panneau!$B$19,IF(T_ART_PAN_MAT=Table_Panneau!$D$15,IF(T_ART_PAN_KRA=Table_Panneau!$D$23,IF(T_ART_PAN_EPA<=Table_Panneau!$B$23,ROW(T_ART_PAN_RTH),""))))),ROW(10:10))),"")} | E28: {=IFERROR(INDEX(T_ART_PAN_EPA,SMALL(IF(T_ART_PAN_RTH>=Table_Panneau!$B$15,IF(T_ART_PAN_RTH<=Table_Panneau!$B$19,IF(T_ART_PAN_MAT=Table_Panneau!$D$15,IF(T_ART_PAN_KRA=Table_Panneau!$D$23,IF(T_ART_PAN_EPA<=Table_Panneau!$B$23,ROW(T_ART_PAN_RTH),""))))),ROW(10:10))),"")} | F28: {=IFERROR(INDEX(T_ART_PAN_COD,SMALL(IF(T_ART_PAN_RTH>=Table_Panneau!$B$15,IF(T_ART_PAN_RTH<=Table_Panneau!$B$19,IF(T_ART_PAN_MAT=Table_Panneau!$D$15,IF(T_ART_PAN_KRA=Table_Panneau!$D$23,IF(T_ART_PAN_EPA<=Table_Panneau!$B$23,ROW(T_ART_PAN_RTH),""))))),ROW(10:10))),"")} | G28: {=IFERROR(INDEX(T_ART_PAN_DIS,SMALL(IF(T_ART_PAN_RTH>=Table_Panneau!$B$15,IF(T_ART_PAN_RTH<=Table_Panneau!$B$19,IF(T_ART_PAN_MAT=Table_Panneau!$D$15,IF(T_ART_PAN_KRA=Table_Panneau!$D$23,IF(T_ART_PAN_EPA<=Table_Panneau!$B$23,ROW(T_ART_PAN_RTH),""))))),ROW(10:10))),"")}
C29: {=IFERROR(INDEX(T_ART_PAN_LIB,SMALL(IF(T_ART_PAN_RTH>=Table_Panneau!$B$15,IF(T_ART_PAN_RTH<=Table_Panneau!$B$19,IF(T_ART_PAN_MAT=Table_Panneau!$D$15,IF(T_ART_PAN_KRA=Table_Panneau!$D$23,IF(T_ART_PAN_EPA<=Table_Panneau!$B$23,ROW(T_ART_PAN_RTH),""))))),ROW(11:11))),"")} | D29: {=IFERROR(INDEX(T_ART_PAN_RTH,SMALL(IF(T_ART_PAN_RTH>=Table_Panneau!$B$15,IF(T_ART_PAN_RTH<=Table_Panneau!$B$19,IF(T_ART_PAN_MAT=Table_Panneau!$D$15,IF(T_ART_PAN_KRA=Table_Panneau!$D$23,IF(T_ART_PAN_EPA<=Table_Panneau!$B$23,ROW(T_ART_PAN_RTH),""))))),ROW(11:11))),"")} | E29: {=IFERROR(INDEX(T_ART_PAN_EPA,SMALL(IF(T_ART_PAN_RTH>=Table_Panneau!$B$15,IF(T_ART_PAN_RTH<=Table_Panneau!$B$19,IF(T_ART_PAN_MAT=Table_Panneau!$D$15,IF(T_ART_PAN_KRA=Table_Panneau!$D$23,IF(T_ART_PAN_EPA<=Table_Panneau!$B$23,ROW(T_ART_PAN_RTH),""))))),ROW(11:11))),"")} | F29: {=IFERROR(INDEX(T_ART_PAN_COD,SMALL(IF(T_ART_PAN_RTH>=Table_Panneau!$B$15,IF(T_ART_PAN_RTH<=Table_Panneau!$B$19,IF(T_ART_PAN_MAT=Table_Panneau!$D$15,IF(T_ART_PAN_KRA=Table_Panneau!$D$23,IF(T_ART_PAN_EPA<=Table_Panneau!$B$23,ROW(T_ART_PAN_RTH),""))))),ROW(11:11))),"")} | G29: {=IFERROR(INDEX(T_ART_PAN_DIS,SMALL(IF(T_ART_PAN_RTH>=Table_Panneau!$B$15,IF(T_ART_PAN_RTH<=Table_Panneau!$B$19,IF(T_ART_PAN_MAT=Table_Panneau!$D$15,IF(T_ART_PAN_KRA=Table_Panneau!$D$23,IF(T_ART_PAN_EPA<=Table_Panneau!$B$23,ROW(T_ART_PAN_RTH),""))))),ROW(11:11))),"")}
C30: {=IFERROR(INDEX(T_ART_PAN_LIB,SMALL(IF(T_ART_PAN_RTH>=Table_Panneau!$B$15,IF(T_ART_PAN_RTH<=Table_Panneau!$B$19,IF(T_ART_PAN_MAT=Table_Panneau!$D$15,IF(T_ART_PAN_KRA=Table_Panneau!$D$23,IF(T_ART_PAN_EPA<=Table_Panneau!$B$23,ROW(T_ART_PAN_RTH),""))))),ROW(12:12))),"")} | D30: {=IFERROR(INDEX(T_ART_PAN_RTH,SMALL(IF(T_ART_PAN_RTH>=Table_Panneau!$B$15,IF(T_ART_PAN_RTH<=Table_Panneau!$B$19,IF(T_ART_PAN_MAT=Table_Panneau!$D$15,IF(T_ART_PAN_KRA=Table_Panneau!$D$23,IF(T_ART_PAN_EPA<=Table_Panneau!$B$23,ROW(T_ART_PAN_RTH),""))))),ROW(12:12))),"")} | E30: {=IFERROR(INDEX(T_ART_PAN_EPA,SMALL(IF(T_ART_PAN_RTH>=Table_Panneau!$B$15,IF(T_ART_PAN_RTH<=Table_Panneau!$B$19,IF(T_ART_PAN_MAT=Table_Panneau!$D$15,IF(T_ART_PAN_KRA=Table_Panneau!$D$23,IF(T_ART_PAN_EPA<=Table_Panneau!$B$23,ROW(T_ART_PAN_RTH),""))))),ROW(12:12))),"")} | F30: {=IFERROR(INDEX(T_ART_PAN_COD,SMALL(IF(T_ART_PAN_RTH>=Table_Panneau!$B$15,IF(T_ART_PAN_RTH<=Table_Panneau!$B$19,IF(T_ART_PAN_MAT=Table_Panneau!$D$15,IF(T_ART_PAN_KRA=Table_Panneau!$D$23,IF(T_ART_PAN_EPA<=Table_Panneau!$B$23,ROW(T_ART_PAN_RTH),""))))),ROW(12:12))),"")} | G30: {=IFERROR(INDEX(T_ART_PAN_DIS,SMALL(IF(T_ART_PAN_RTH>=Table_Panneau!$B$15,IF(T_ART_PAN_RTH<=Table_Panneau!$B$19,IF(T_ART_PAN_MAT=Table_Panneau!$D$15,IF(T_ART_PAN_KRA=Table_Panneau!$D$23,IF(T_ART_PAN_EPA<=Table_Panneau!$B$23,ROW(T_ART_PAN_RTH),""))))),ROW(12:12))),"")}
C31: {=IFERROR(INDEX(T_ART_PAN_LIB,SMALL(IF(T_ART_PAN_RTH>=Table_Panneau!$B$15,IF(T_ART_PAN_RTH<=Table_Panneau!$B$19,IF(T_ART_PAN_MAT=Table_Panneau!$D$15,IF(T_ART_PAN_KRA=Table_Panneau!$D$23,IF(T_ART_PAN_EPA<=Table_Panneau!$B$23,ROW(T_ART_PAN_RTH),""))))),ROW(13:13))),"")} | D31: {=IFERROR(INDEX(T_ART_PAN_RTH,SMALL(IF(T_ART_PAN_RTH>=Table_Panneau!$B$15,IF(T_ART_PAN_RTH<=Table_Panneau!$B$19,IF(T_ART_PAN_MAT=Table_Panneau!$D$15,IF(T_ART_PAN_KRA=Table_Panneau!$D$23,IF(T_ART_PAN_EPA<=Table_Panneau!$B$23,ROW(T_ART_PAN_RTH),""))))),ROW(13:13))),"")} | E31: {=IFERROR(INDEX(T_ART_PAN_EPA,SMALL(IF(T_ART_PAN_RTH>=Table_Panneau!$B$15,IF(T_ART_PAN_RTH<=Table_Panneau!$B$19,IF(T_ART_PAN_MAT=Table_Panneau!$D$15,IF(T_ART_PAN_KRA=Table_Panneau!$D$23,IF(T_ART_PAN_EPA<=Table_Panneau!$B$23,ROW(T_ART_PAN_RTH),""))))),ROW(13:13))),"")} | F31: {=IFERROR(INDEX(T_ART_PAN_COD,SMALL(IF(T_ART_PAN_RTH>=Table_Panneau!$B$15,IF(T_ART_PAN_RTH<=Table_Panneau!$B$19,IF(T_ART_PAN_MAT=Table_Panneau!$D$15,IF(T_ART_PAN_KRA=Table_Panneau!$D$23,IF(T_ART_PAN_EPA<=Table_Panneau!$B$23,ROW(T_ART_PAN_RTH),""))))),ROW(13:13))),"")} | G31: {=IFERROR(INDEX(T_ART_PAN_DIS,SMALL(IF(T_ART_PAN_RTH>=Table_Panneau!$B$15,IF(T_ART_PAN_RTH<=Table_Panneau!$B$19,IF(T_ART_PAN_MAT=Table_Panneau!$D$15,IF(T_ART_PAN_KRA=Table_Panneau!$D$23,IF(T_ART_PAN_EPA<=Table_Panneau!$B$23,ROW(T_ART_PAN_RTH),""))))),ROW(13:13))),"")}
C32: {=IFERROR(INDEX(T_ART_PAN_LIB,SMALL(IF(T_ART_PAN_RTH>=Table_Panneau!$B$15,IF(T_ART_PAN_RTH<=Table_Panneau!$B$19,IF(T_ART_PAN_MAT=Table_Panneau!$D$15,IF(T_ART_PAN_KRA=Table_Panneau!$D$23,IF(T_ART_PAN_EPA<=Table_Panneau!$B$23,ROW(T_ART_PAN_RTH),""))))),ROW(14:14))),"")} | D32: {=IFERROR(INDEX(T_ART_PAN_RTH,SMALL(IF(T_ART_PAN_RTH>=Table_Panneau!$B$15,IF(T_ART_PAN_RTH<=Table_Panneau!$B$19,IF(T_ART_PAN_MAT=Table_Panneau!$D$15,IF(T_ART_PAN_KRA=Table_Panneau!$D$23,IF(T_ART_PAN_EPA<=Table_Panneau!$B$23,ROW(T_ART_PAN_RTH),""))))),ROW(14:14))),"")} | E32: {=IFERROR(INDEX(T_ART_PAN_EPA,SMALL(IF(T_ART_PAN_RTH>=Table_Panneau!$B$15,IF(T_ART_PAN_RTH<=Table_Panneau!$B$19,IF(T_ART_PAN_MAT=Table_Panneau!$D$15,IF(T_ART_PAN_KRA=Table_Panneau!$D$23,IF(T_ART_PAN_EPA<=Table_Panneau!$B$23,ROW(T_ART_PAN_RTH),""))))),ROW(14:14))),"")} | F32: {=IFERROR(INDEX(T_ART_PAN_COD,SMALL(IF(T_ART_PAN_RTH>=Table_Panneau!$B$15,IF(T_ART_PAN_RTH<=Table_Panneau!$B$19,IF(T_ART_PAN_MAT=Table_Panneau!$D$15,IF(T_ART_PAN_KRA=Table_Panneau!$D$23,IF(T_ART_PAN_EPA<=Table_Panneau!$B$23,ROW(T_ART_PAN_RTH),""))))),ROW(14:14))),"")} | G32: {=IFERROR(INDEX(T_ART_PAN_DIS,SMALL(IF(T_ART_PAN_RTH>=Table_Panneau!$B$15,IF(T_ART_PAN_RTH<=Table_Panneau!$B$19,IF(T_ART_PAN_MAT=Table_Panneau!$D$15,IF(T_ART_PAN_KRA=Table_Panneau!$D$23,IF(T_ART_PAN_EPA<=Table_Panneau!$B$23,ROW(T_ART_PAN_RTH),""))))),ROW(14:14))),"")}
C33: {=IFERROR(INDEX(T_ART_PAN_LIB,SMALL(IF(T_ART_PAN_RTH>=Table_Panneau!$B$15,IF(T_ART_PAN_RTH<=Table_Panneau!$B$19,IF(T_ART_PAN_MAT=Table_Panneau!$D$15,IF(T_ART_PAN_KRA=Table_Panneau!$D$23,IF(T_ART_PAN_EPA<=Table_Panneau!$B$23,ROW(T_ART_PAN_RTH),""))))),ROW(15:15))),"")} | D33: {=IFERROR(INDEX(T_ART_PAN_RTH,SMALL(IF(T_ART_PAN_RTH>=Table_Panneau!$B$15,IF(T_ART_PAN_RTH<=Table_Panneau!$B$19,IF(T_ART_PAN_MAT=Table_Panneau!$D$15,IF(T_ART_PAN_KRA=Table_Panneau!$D$23,IF(T_ART_PAN_EPA<=Table_Panneau!$B$23,ROW(T_ART_PAN_RTH),""))))),ROW(15:15))),"")} | E33: {=IFERROR(INDEX(T_ART_PAN_EPA,SMALL(IF(T_ART_PAN_RTH>=Table_Panneau!$B$15,IF(T_ART_PAN_RTH<=Table_Panneau!$B$19,IF(T_ART_PAN_MAT=Table_Panneau!$D$15,IF(T_ART_PAN_KRA=Table_Panneau!$D$23,IF(T_ART_PAN_EPA<=Table_Panneau!$B$23,ROW(T_ART_PAN_RTH),""))))),ROW(15:15))),"")} | F33: {=IFERROR(INDEX(T_ART_PAN_COD,SMALL(IF(T_ART_PAN_RTH>=Table_Panneau!$B$15,IF(T_ART_PAN_RTH<=Table_Panneau!$B$19,IF(T_ART_PAN_MAT=Table_Panneau!$D$15,IF(T_ART_PAN_KRA=Table_Panneau!$D$23,IF(T_ART_PAN_EPA<=Table_Panneau!$B$23,ROW(T_ART_PAN_RTH),""))))),ROW(15:15))),"")} | G33: {=IFERROR(INDEX(T_ART_PAN_DIS,SMALL(IF(T_ART_PAN_RTH>=Table_Panneau!$B$15,IF(T_ART_PAN_RTH<=Table_Panneau!$B$19,IF(T_ART_PAN_MAT=Table_Panneau!$D$15,IF(T_ART_PAN_KRA=Table_Panneau!$D$23,IF(T_ART_PAN_EPA<=Table_Panneau!$B$23,ROW(T_ART_PAN_RTH),""))))),ROW(15:15))),"")}
C34: {=IFERROR(INDEX(T_ART_PAN_LIB,SMALL(IF(T_ART_PAN_RTH>=Table_Panneau!$B$15,IF(T_ART_PAN_RTH<=Table_Panneau!$B$19,IF(T_ART_PAN_MAT=Table_Panneau!$D$15,IF(T_ART_PAN_KRA=Table_Panneau!$D$23,IF(T_ART_PAN_EPA<=Table_Panneau!$B$23,ROW(T_ART_PAN_RTH),""))))),ROW(16:16))),"")} | D34: {=IFERROR(INDEX(T_ART_PAN_RTH,SMALL(IF(T_ART_PAN_RTH>=Table_Panneau!$B$15,IF(T_ART_PAN_RTH<=Table_Panneau!$B$19,IF(T_ART_PAN_MAT=Table_Panneau!$D$15,IF(T_ART_PAN_KRA=Table_Panneau!$D$23,IF(T_ART_PAN_EPA<=Table_Panneau!$B$23,ROW(T_ART_PAN_RTH),""))))),ROW(16:16))),"")} | E34: {=IFERROR(INDEX(T_ART_PAN_EPA,SMALL(IF(T_ART_PAN_RTH>=Table_Panneau!$B$15,IF(T_ART_PAN_RTH<=Table_Panneau!$B$19,IF(T_ART_PAN_MAT=Table_Panneau!$D$15,IF(T_ART_PAN_KRA=Table_Panneau!$D$23,IF(T_ART_PAN_EPA<=Table_Panneau!$B$23,ROW(T_ART_PAN_RTH),""))))),ROW(16:16))),"")} | F34: {=IFERROR(INDEX(T_ART_PAN_COD,SMALL(IF(T_ART_PAN_RTH>=Table_Panneau!$B$15,IF(T_ART_PAN_RTH<=Table_Panneau!$B$19,IF(T_ART_PAN_MAT=Table_Panneau!$D$15,IF(T_ART_PAN_KRA=Table_Panneau!$D$23,IF(T_ART_PAN_EPA<=Table_Panneau!$B$23,ROW(T_ART_PAN_RTH),""))))),ROW(16:16))),"")} | G34: {=IFERROR(INDEX(T_ART_PAN_DIS,SMALL(IF(T_ART_PAN_RTH>=Table_Panneau!$B$15,IF(T_ART_PAN_RTH<=Table_Panneau!$B$19,IF(T_ART_PAN_MAT=Table_Panneau!$D$15,IF(T_ART_PAN_KRA=Table_Panneau!$D$23,IF(T_ART_PAN_EPA<=Table_Panneau!$B$23,ROW(T_ART_PAN_RTH),""))))),ROW(16:16))),"")}
C35: {=IFERROR(INDEX(T_ART_PAN_LIB,SMALL(IF(T_ART_PAN_RTH>=Table_Panneau!$B$15,IF(T_ART_PAN_RTH<=Table_Panneau!$B$19,IF(T_ART_PAN_MAT=Table_Panneau!$D$15,IF(T_ART_PAN_KRA=Table_Panneau!$D$23,IF(T_ART_PAN_EPA<=Table_Panneau!$B$23,ROW(T_ART_PAN_RTH),""))))),ROW(17:17))),"")} | D35: {=IFERROR(INDEX(T_ART_PAN_RTH,SMALL(IF(T_ART_PAN_RTH>=Table_Panneau!$B$15,IF(T_ART_PAN_RTH<=Table_Panneau!$B$19,IF(T_ART_PAN_MAT=Table_Panneau!$D$15,IF(T_ART_PAN_KRA=Table_Panneau!$D$23,IF(T_ART_PAN_EPA<=Table_Panneau!$B$23,ROW(T_ART_PAN_RTH),""))))),ROW(17:17))),"")} | E35: {=IFERROR(INDEX(T_ART_PAN_EPA,SMALL(IF(T_ART_PAN_RTH>=Table_Panneau!$B$15,IF(T_ART_PAN_RTH<=Table_Panneau!$B$19,IF(T_ART_PAN_MAT=Table_Panneau!$D$15,IF(T_ART_PAN_KRA=Table_Panneau!$D$23,IF(T_ART_PAN_EPA<=Table_Panneau!$B$23,ROW(T_ART_PAN_RTH),""))))),ROW(17:17))),"")} | F35: {=IFERROR(INDEX(T_ART_PAN_COD,SMALL(IF(T_ART_PAN_RTH>=Table_Panneau!$B$15,IF(T_ART_PAN_RTH<=Table_Panneau!$B$19,IF(T_ART_PAN_MAT=Table_Panneau!$D$15,IF(T_ART_PAN_KRA=Table_Panneau!$D$23,IF(T_ART_PAN_EPA<=Table_Panneau!$B$23,ROW(T_ART_PAN_RTH),""))))),ROW(17:17))),"")} | G35: {=IFERROR(INDEX(T_ART_PAN_DIS,SMALL(IF(T_ART_PAN_RTH>=Table_Panneau!$B$15,IF(T_ART_PAN_RTH<=Table_Panneau!$B$19,IF(T_ART_PAN_MAT=Table_Panneau!$D$15,IF(T_ART_PAN_KRA=Table_Panneau!$D$23,IF(T_ART_PAN_EPA<=Table_Panneau!$B$23,ROW(T_ART_PAN_RTH),""))))),ROW(17:17))),"")}
C36: {=IFERROR(INDEX(T_ART_PAN_LIB,SMALL(IF(T_ART_PAN_RTH>=Table_Panneau!$B$15,IF(T_ART_PAN_RTH<=Table_Panneau!$B$19,IF(T_ART_PAN_MAT=Table_Panneau!$D$15,IF(T_ART_PAN_KRA=Table_Panneau!$D$23,IF(T_ART_PAN_EPA<=Table_Panneau!$B$23,ROW(T_ART_PAN_RTH),""))))),ROW(18:18))),"")} | D36: {=IFERROR(INDEX(T_ART_PAN_RTH,SMALL(IF(T_ART_PAN_RTH>=Table_Panneau!$B$15,IF(T_ART_PAN_RTH<=Table_Panneau!$B$19,IF(T_ART_PAN_MAT=Table_Panneau!$D$15,IF(T_ART_PAN_KRA=Table_Panneau!$D$23,IF(T_ART_PAN_EPA<=Table_Panneau!$B$23,ROW(T_ART_PAN_RTH),""))))),ROW(18:18))),"")} | E36: {=IFERROR(INDEX(T_ART_PAN_EPA,SMALL(IF(T_ART_PAN_RTH>=Table_Panneau!$B$15,IF(T_ART_PAN_RTH<=Table_Panneau!$B$19,IF(T_ART_PAN_MAT=Table_Panneau!$D$15,IF(T_ART_PAN_KRA=Table_Panneau!$D$23,IF(T_ART_PAN_EPA<=Table_Panneau!$B$23,ROW(T_ART_PAN_RTH),""))))),ROW(18:18))),"")} | F36: {=IFERROR(INDEX(T_ART_PAN_COD,SMALL(IF(T_ART_PAN_RTH>=Table_Panneau!$B$15,IF(T_ART_PAN_RTH<=Table_Panneau!$B$19,IF(T_ART_PAN_MAT=Table_Panneau!$D$15,IF(T_ART_PAN_KRA=Table_Panneau!$D$23,IF(T_ART_PAN_EPA<=Table_Panneau!$B$23,ROW(T_ART_PAN_RTH),""))))),ROW(18:18))),"")} | G36: {=IFERROR(INDEX(T_ART_PAN_DIS,SMALL(IF(T_ART_PAN_RTH>=Table_Panneau!$B$15,IF(T_ART_PAN_RTH<=Table_Panneau!$B$19,IF(T_ART_PAN_MAT=Table_Panneau!$D$15,IF(T_ART_PAN_KRA=Table_Panneau!$D$23,IF(T_ART_PAN_EPA<=Table_Panneau!$B$23,ROW(T_ART_PAN_RTH),""))))),ROW(18:18))),"")}
C37: {=IFERROR(INDEX(T_ART_PAN_LIB,SMALL(IF(T_ART_PAN_RTH>=Table_Panneau!$B$15,IF(T_ART_PAN_RTH<=Table_Panneau!$B$19,IF(T_ART_PAN_MAT=Table_Panneau!$D$15,IF(T_ART_PAN_KRA=Table_Panneau!$D$23,IF(T_ART_PAN_EPA<=Table_Panneau!$B$23,ROW(T_ART_PAN_RTH),""))))),ROW(19:19))),"")} | D37: {=IFERROR(INDEX(T_ART_PAN_RTH,SMALL(IF(T_ART_PAN_RTH>=Table_Panneau!$B$15,IF(T_ART_PAN_RTH<=Table_Panneau!$B$19,IF(T_ART_PAN_MAT=Table_Panneau!$D$15,IF(T_ART_PAN_KRA=Table_Panneau!$D$23,IF(T_ART_PAN_EPA<=Table_Panneau!$B$23,ROW(T_ART_PAN_RTH),""))))),ROW(19:19))),"")} | E37: {=IFERROR(INDEX(T_ART_PAN_EPA,SMALL(IF(T_ART_PAN_RTH>=Table_Panneau!$B$15,IF(T_ART_PAN_RTH<=Table_Panneau!$B$19,IF(T_ART_PAN_MAT=Table_Panneau!$D$15,IF(T_ART_PAN_KRA=Table_Panneau!$D$23,IF(T_ART_PAN_EPA<=Table_Panneau!$B$23,ROW(T_ART_PAN_RTH),""))))),ROW(19:19))),"")} | F37: {=IFERROR(INDEX(T_ART_PAN_COD,SMALL(IF(T_ART_PAN_RTH>=Table_Panneau!$B$15,IF(T_ART_PAN_RTH<=Table_Panneau!$B$19,IF(T_ART_PAN_MAT=Table_Panneau!$D$15,IF(T_ART_PAN_KRA=Table_Panneau!$D$23,IF(T_ART_PAN_EPA<=Table_Panneau!$B$23,ROW(T_ART_PAN_RTH),""))))),ROW(19:19))),"")} | G37: {=IFERROR(INDEX(T_ART_PAN_DIS,SMALL(IF(T_ART_PAN_RTH>=Table_Panneau!$B$15,IF(T_ART_PAN_RTH<=Table_Panneau!$B$19,IF(T_ART_PAN_MAT=Table_Panneau!$D$15,IF(T_ART_PAN_KRA=Table_Panneau!$D$23,IF(T_ART_PAN_EPA<=Table_Panneau!$B$23,ROW(T_ART_PAN_RTH),""))))),ROW(19:19))),"")}
C38: {=IFERROR(INDEX(T_ART_PAN_LIB,SMALL(IF(T_ART_PAN_RTH>=Table_Panneau!$B$15,IF(T_ART_PAN_RTH<=Table_Panneau!$B$19,IF(T_ART_PAN_MAT=Table_Panneau!$D$15,IF(T_ART_PAN_KRA=Table_Panneau!$D$23,IF(T_ART_PAN_EPA<=Table_Panneau!$B$23,ROW(T_ART_PAN_RTH),""))))),ROW(20:20))),"")} | D38: {=IFERROR(INDEX(T_ART_PAN_RTH,SMALL(IF(T_ART_PAN_RTH>=Table_Panneau!$B$15,IF(T_ART_PAN_RTH<=Table_Panneau!$B$19,IF(T_ART_PAN_MAT=Table_Panneau!$D$15,IF(T_ART_PAN_KRA=Table_Panneau!$D$23,IF(T_ART_PAN_EPA<=Table_Panneau!$B$23,ROW(T_ART_PAN_RTH),""))))),ROW(20:20))),"")} | E38: {=IFERROR(INDEX(T_ART_PAN_EPA,SMALL(IF(T_ART_PAN_RTH>=Table_Panneau!$B$15,IF(T_ART_PAN_RTH<=Table_Panneau!$B$19,IF(T_ART_PAN_MAT=Table_Panneau!$D$15,IF(T_ART_PAN_KRA=Table_Panneau!$D$23,IF(T_ART_PAN_EPA<=Table_Panneau!$B$23,ROW(T_ART_PAN_RTH),""))))),ROW(20:20))),"")} | F38: {=IFERROR(INDEX(T_ART_PAN_COD,SMALL(IF(T_ART_PAN_RTH>=Table_Panneau!$B$15,IF(T_ART_PAN_RTH<=Table_Panneau!$B$19,IF(T_ART_PAN_MAT=Table_Panneau!$D$15,IF(T_ART_PAN_KRA=Table_Panneau!$D$23,IF(T_ART_PAN_EPA<=Table_Panneau!$B$23,ROW(T_ART_PAN_RTH),""))))),ROW(20:20))),"")} | G38: {=IFERROR(INDEX(T_ART_PAN_DIS,SMALL(IF(T_ART_PAN_RTH>=Table_Panneau!$B$15,IF(T_ART_PAN_RTH<=Table_Panneau!$B$19,IF(T_ART_PAN_MAT=Table_Panneau!$D$15,IF(T_ART_PAN_KRA=Table_Panneau!$D$23,IF(T_ART_PAN_EPA<=Table_Panneau!$B$23,ROW(T_ART_PAN_RTH),""))))),ROW(20:20))),"")}
C39: {=IFERROR(INDEX(T_ART_PAN_LIB,SMALL(IF(T_ART_PAN_RTH>=Table_Panneau!$B$15,IF(T_ART_PAN_RTH<=Table_Panneau!$B$19,IF(T_ART_PAN_MAT=Table_Panneau!$D$15,IF(T_ART_PAN_KRA=Table_Panneau!$D$23,IF(T_ART_PAN_EPA<=Table_Panneau!$B$23,ROW(T_ART_PAN_RTH),""))))),ROW(21:21))),"")} | D39: {=IFERROR(INDEX(T_ART_PAN_RTH,SMALL(IF(T_ART_PAN_RTH>=Table_Panneau!$B$15,IF(T_ART_PAN_RTH<=Table_Panneau!$B$19,IF(T_ART_PAN_MAT=Table_Panneau!$D$15,IF(T_ART_PAN_KRA=Table_Panneau!$D$23,IF(T_ART_PAN_EPA<=Table_Panneau!$B$23,ROW(T_ART_PAN_RTH),""))))),ROW(21:21))),"")} | E39: {=IFERROR(INDEX(T_ART_PAN_EPA,SMALL(IF(T_ART_PAN_RTH>=Table_Panneau!$B$15,IF(T_ART_PAN_RTH<=Table_Panneau!$B$19,IF(T_ART_PAN_MAT=Table_Panneau!$D$15,IF(T_ART_PAN_KRA=Table_Panneau!$D$23,IF(T_ART_PAN_EPA<=Table_Panneau!$B$23,ROW(T_ART_PAN_RTH),""))))),ROW(21:21))),"")} | F39: {=IFERROR(INDEX(T_ART_PAN_COD,SMALL(IF(T_ART_PAN_RTH>=Table_Panneau!$B$15,IF(T_ART_PAN_RTH<=Table_Panneau!$B$19,IF(T_ART_PAN_MAT=Table_Panneau!$D$15,IF(T_ART_PAN_KRA=Table_Panneau!$D$23,IF(T_ART_PAN_EPA<=Table_Panneau!$B$23,ROW(T_ART_PAN_RTH),""))))),ROW(21:21))),"")} | G39: {=IFERROR(INDEX(T_ART_PAN_DIS,SMALL(IF(T_ART_PAN_RTH>=Table_Panneau!$B$15,IF(T_ART_PAN_RTH<=Table_Panneau!$B$19,IF(T_ART_PAN_MAT=Table_Panneau!$D$15,IF(T_ART_PAN_KRA=Table_Panneau!$D$23,IF(T_ART_PAN_EPA<=Table_Panneau!$B$23,ROW(T_ART_PAN_RTH),""))))),ROW(21:21))),"")}
C40: {=IFERROR(INDEX(T_ART_PAN_LIB,SMALL(IF(T_ART_PAN_RTH>=Table_Panneau!$B$15,IF(T_ART_PAN_RTH<=Table_Panneau!$B$19,IF(T_ART_PAN_MAT=Table_Panneau!$D$15,IF(T_ART_PAN_KRA=Table_Panneau!$D$23,IF(T_ART_PAN_EPA<=Table_Panneau!$B$23,ROW(T_ART_PAN_RTH),""))))),ROW(22:22))),"")} | D40: {=IFERROR(INDEX(T_ART_PAN_RTH,SMALL(IF(T_ART_PAN_RTH>=Table_Panneau!$B$15,IF(T_ART_PAN_RTH<=Table_Panneau!$B$19,IF(T_ART_PAN_MAT=Table_Panneau!$D$15,IF(T_ART_PAN_KRA=Table_Panneau!$D$23,IF(T_ART_PAN_EPA<=Table_Panneau!$B$23,ROW(T_ART_PAN_RTH),""))))),ROW(22:22))),"")} | E40: {=IFERROR(INDEX(T_ART_PAN_EPA,SMALL(IF(T_ART_PAN_RTH>=Table_Panneau!$B$15,IF(T_ART_PAN_RTH<=Table_Panneau!$B$19,IF(T_ART_PAN_MAT=Table_Panneau!$D$15,IF(T_ART_PAN_KRA=Table_Panneau!$D$23,IF(T_ART_PAN_EPA<=Table_Panneau!$B$23,ROW(T_ART_PAN_RTH),""))))),ROW(22:22))),"")} | F40: {=IFERROR(INDEX(T_ART_PAN_COD,SMALL(IF(T_ART_PAN_RTH>=Table_Panneau!$B$15,IF(T_ART_PAN_RTH<=Table_Panneau!$B$19,IF(T_ART_PAN_MAT=Table_Panneau!$D$15,IF(T_ART_PAN_KRA=Table_Panneau!$D$23,IF(T_ART_PAN_EPA<=Table_Panneau!$B$23,ROW(T_ART_PAN_RTH),""))))),ROW(22:22))),"")} | G40: {=IFERROR(INDEX(T_ART_PAN_DIS,SMALL(IF(T_ART_PAN_RTH>=Table_Panneau!$B$15,IF(T_ART_PAN_RTH<=Table_Panneau!$B$19,IF(T_ART_PAN_MAT=Table_Panneau!$D$15,IF(T_ART_PAN_KRA=Table_Panneau!$D$23,IF(T_ART_PAN_EPA<=Table_Panneau!$B$23,ROW(T_ART_PAN_RTH),""))))),ROW(22:22))),"")}
C41: {=IFERROR(INDEX(T_ART_PAN_LIB,SMALL(IF(T_ART_PAN_RTH>=Table_Panneau!$B$15,IF(T_ART_PAN_RTH<=Table_Panneau!$B$19,IF(T_ART_PAN_MAT=Table_Panneau!$D$15,IF(T_ART_PAN_KRA=Table_Panneau!$D$23,IF(T_ART_PAN_EPA<=Table_Panneau!$B$23,ROW(T_ART_PAN_RTH),""))))),ROW(23:23))),"")} | D41: {=IFERROR(INDEX(T_ART_PAN_RTH,SMALL(IF(T_ART_PAN_RTH>=Table_Panneau!$B$15,IF(T_ART_PAN_RTH<=Table_Panneau!$B$19,IF(T_ART_PAN_MAT=Table_Panneau!$D$15,IF(T_ART_PAN_KRA=Table_Panneau!$D$23,IF(T_ART_PAN_EPA<=Table_Panneau!$B$23,ROW(T_ART_PAN_RTH),""))))),ROW(23:23))),"")} | E41: {=IFERROR(INDEX(T_ART_PAN_EPA,SMALL(IF(T_ART_PAN_RTH>=Table_Panneau!$B$15,IF(T_ART_PAN_RTH<=Table_Panneau!$B$19,IF(T_ART_PAN_MAT=Table_Panneau!$D$15,IF(T_ART_PAN_KRA=Table_Panneau!$D$23,IF(T_ART_PAN_EPA<=Table_Panneau!$B$23,ROW(T_ART_PAN_RTH),""))))),ROW(23:23))),"")} | F41: {=IFERROR(INDEX(T_ART_PAN_COD,SMALL(IF(T_ART_PAN_RTH>=Table_Panneau!$B$15,IF(T_ART_PAN_RTH<=Table_Panneau!$B$19,IF(T_ART_PAN_MAT=Table_Panneau!$D$15,IF(T_ART_PAN_KRA=Table_Panneau!$D$23,IF(T_ART_PAN_EPA<=Table_Panneau!$B$23,ROW(T_ART_PAN_RTH),""))))),ROW(23:23))),"")} | G41: {=IFERROR(INDEX(T_ART_PAN_DIS,SMALL(IF(T_ART_PAN_RTH>=Table_Panneau!$B$15,IF(T_ART_PAN_RTH<=Table_Panneau!$B$19,IF(T_ART_PAN_MAT=Table_Panneau!$D$15,IF(T_ART_PAN_KRA=Table_Panneau!$D$23,IF(T_ART_PAN_EPA<=Table_Panneau!$B$23,ROW(T_ART_PAN_RTH),""))))),ROW(23:23))),"")}
C42: {=IFERROR(INDEX(T_ART_PAN_LIB,SMALL(IF(T_ART_PAN_RTH>=Table_Panneau!$B$15,IF(T_ART_PAN_RTH<=Table_Panneau!$B$19,IF(T_ART_PAN_MAT=Table_Panneau!$D$15,IF(T_ART_PAN_KRA=Table_Panneau!$D$23,IF(T_ART_PAN_EPA<=Table_Panneau!$B$23,ROW(T_ART_PAN_RTH),""))))),ROW(24:24))),"")} | D42: {=IFERROR(INDEX(T_ART_PAN_RTH,SMALL(IF(T_ART_PAN_RTH>=Table_Panneau!$B$15,IF(T_ART_PAN_RTH<=Table_Panneau!$B$19,IF(T_ART_PAN_MAT=Table_Panneau!$D$15,IF(T_ART_PAN_KRA=Table_Panneau!$D$23,IF(T_ART_PAN_EPA<=Table_Panneau!$B$23,ROW(T_ART_PAN_RTH),""))))),ROW(24:24))),"")} | E42: {=IFERROR(INDEX(T_ART_PAN_EPA,SMALL(IF(T_ART_PAN_RTH>=Table_Panneau!$B$15,IF(T_ART_PAN_RTH<=Table_Panneau!$B$19,IF(T_ART_PAN_MAT=Table_Panneau!$D$15,IF(T_ART_PAN_KRA=Table_Panneau!$D$23,IF(T_ART_PAN_EPA<=Table_Panneau!$B$23,ROW(T_ART_PAN_RTH),""))))),ROW(24:24))),"")} | F42: {=IFERROR(INDEX(T_ART_PAN_COD,SMALL(IF(T_ART_PAN_RTH>=Table_Panneau!$B$15,IF(T_ART_PAN_RTH<=Table_Panneau!$B$19,IF(T_ART_PAN_MAT=Table_Panneau!$D$15,IF(T_ART_PAN_KRA=Table_Panneau!$D$23,IF(T_ART_PAN_EPA<=Table_Panneau!$B$23,ROW(T_ART_PAN_RTH),""))))),ROW(24:24))),"")} | G42: {=IFERROR(INDEX(T_ART_PAN_DIS,SMALL(IF(T_ART_PAN_RTH>=Table_Panneau!$B$15,IF(T_ART_PAN_RTH<=Table_Panneau!$B$19,IF(T_ART_PAN_MAT=Table_Panneau!$D$15,IF(T_ART_PAN_KRA=Table_Panneau!$D$23,IF(T_ART_PAN_EPA<=Table_Panneau!$B$23,ROW(T_ART_PAN_RTH),""))))),ROW(24:24))),"")}
C43: {=IFERROR(INDEX(T_ART_PAN_LIB,SMALL(IF(T_ART_PAN_RTH>=Table_Panneau!$B$15,IF(T_ART_PAN_RTH<=Table_Panneau!$B$19,IF(T_ART_PAN_MAT=Table_Panneau!$D$15,IF(T_ART_PAN_KRA=Table_Panneau!$D$23,IF(T_ART_PAN_EPA<=Table_Panneau!$B$23,ROW(T_ART_PAN_RTH),""))))),ROW(25:25))),"")} | D43: {=IFERROR(INDEX(T_ART_PAN_RTH,SMALL(IF(T_ART_PAN_RTH>=Table_Panneau!$B$15,IF(T_ART_PAN_RTH<=Table_Panneau!$B$19,IF(T_ART_PAN_MAT=Table_Panneau!$D$15,IF(T_ART_PAN_KRA=Table_Panneau!$D$23,IF(T_ART_PAN_EPA<=Table_Panneau!$B$23,ROW(T_ART_PAN_RTH),""))))),ROW(25:25))),"")} | E43: {=IFERROR(INDEX(T_ART_PAN_EPA,SMALL(IF(T_ART_PAN_RTH>=Table_Panneau!$B$15,IF(T_ART_PAN_RTH<=Table_Panneau!$B$19,IF(T_ART_PAN_MAT=Table_Panneau!$D$15,IF(T_ART_PAN_KRA=Table_Panneau!$D$23,IF(T_ART_PAN_EPA<=Table_Panneau!$B$23,ROW(T_ART_PAN_RTH),""))))),ROW(25:25))),"")} | F43: {=IFERROR(INDEX(T_ART_PAN_COD,SMALL(IF(T_ART_PAN_RTH>=Table_Panneau!$B$15,IF(T_ART_PAN_RTH<=Table_Panneau!$B$19,IF(T_ART_PAN_MAT=Table_Panneau!$D$15,IF(T_ART_PAN_KRA=Table_Panneau!$D$23,IF(T_ART_PAN_EPA<=Table_Panneau!$B$23,ROW(T_ART_PAN_RTH),""))))),ROW(25:25))),"")} | G43: {=IFERROR(INDEX(T_ART_PAN_DIS,SMALL(IF(T_ART_PAN_RTH>=Table_Panneau!$B$15,IF(T_ART_PAN_RTH<=Table_Panneau!$B$19,IF(T_ART_PAN_MAT=Table_Panneau!$D$15,IF(T_ART_PAN_KRA=Table_Panneau!$D$23,IF(T_ART_PAN_EPA<=Table_Panneau!$B$23,ROW(T_ART_PAN_RTH),""))))),ROW(25:25))),"")}
C44: {=IFERROR(INDEX(T_ART_PAN_LIB,SMALL(IF(T_ART_PAN_RTH>=Table_Panneau!$B$15,IF(T_ART_PAN_RTH<=Table_Panneau!$B$19,IF(T_ART_PAN_MAT=Table_Panneau!$D$15,IF(T_ART_PAN_KRA=Table_Panneau!$D$23,IF(T_ART_PAN_EPA<=Table_Panneau!$B$23,ROW(T_ART_PAN_RTH),""))))),ROW(26:26))),"")} | D44: {=IFERROR(INDEX(T_ART_PAN_RTH,SMALL(IF(T_ART_PAN_RTH>=Table_Panneau!$B$15,IF(T_ART_PAN_RTH<=Table_Panneau!$B$19,IF(T_ART_PAN_MAT=Table_Panneau!$D$15,IF(T_ART_PAN_KRA=Table_Panneau!$D$23,IF(T_ART_PAN_EPA<=Table_Panneau!$B$23,ROW(T_ART_PAN_RTH),""))))),ROW(26:26))),"")} | E44: {=IFERROR(INDEX(T_ART_PAN_EPA,SMALL(IF(T_ART_PAN_RTH>=Table_Panneau!$B$15,IF(T_ART_PAN_RTH<=Table_Panneau!$B$19,IF(T_ART_PAN_MAT=Table_Panneau!$D$15,IF(T_ART_PAN_KRA=Table_Panneau!$D$23,IF(T_ART_PAN_EPA<=Table_Panneau!$B$23,ROW(T_ART_PAN_RTH),""))))),ROW(26:26))),"")} | F44: {=IFERROR(INDEX(T_ART_PAN_COD,SMALL(IF(T_ART_PAN_RTH>=Table_Panneau!$B$15,IF(T_ART_PAN_RTH<=Table_Panneau!$B$19,IF(T_ART_PAN_MAT=Table_Panneau!$D$15,IF(T_ART_PAN_KRA=Table_Panneau!$D$23,IF(T_ART_PAN_EPA<=Table_Panneau!$B$23,ROW(T_ART_PAN_RTH),""))))),ROW(26:26))),"")} | G44: {=IFERROR(INDEX(T_ART_PAN_DIS,SMALL(IF(T_ART_PAN_RTH>=Table_Panneau!$B$15,IF(T_ART_PAN_RTH<=Table_Panneau!$B$19,IF(T_ART_PAN_MAT=Table_Panneau!$D$15,IF(T_ART_PAN_KRA=Table_Panneau!$D$23,IF(T_ART_PAN_EPA<=Table_Panneau!$B$23,ROW(T_ART_PAN_RTH),""))))),ROW(26:26))),"")}
C45: {=IFERROR(INDEX(T_ART_PAN_LIB,SMALL(IF(T_ART_PAN_RTH>=Table_Panneau!$B$15,IF(T_ART_PAN_RTH<=Table_Panneau!$B$19,IF(T_ART_PAN_MAT=Table_Panneau!$D$15,IF(T_ART_PAN_KRA=Table_Panneau!$D$23,IF(T_ART_PAN_EPA<=Table_Panneau!$B$23,ROW(T_ART_PAN_RTH),""))))),ROW(27:27))),"")} | D45: {=IFERROR(INDEX(T_ART_PAN_RTH,SMALL(IF(T_ART_PAN_RTH>=Table_Panneau!$B$15,IF(T_ART_PAN_RTH<=Table_Panneau!$B$19,IF(T_ART_PAN_MAT=Table_Panneau!$D$15,IF(T_ART_PAN_KRA=Table_Panneau!$D$23,IF(T_ART_PAN_EPA<=Table_Panneau!$B$23,ROW(T_ART_PAN_RTH),""))))),ROW(27:27))),"")} | E45: {=IFERROR(INDEX(T_ART_PAN_EPA,SMALL(IF(T_ART_PAN_RTH>=Table_Panneau!$B$15,IF(T_ART_PAN_RTH<=Table_Panneau!$B$19,IF(T_ART_PAN_MAT=Table_Panneau!$D$15,IF(T_ART_PAN_KRA=Table_Panneau!$D$23,IF(T_ART_PAN_EPA<=Table_Panneau!$B$23,ROW(T_ART_PAN_RTH),""))))),ROW(27:27))),"")} | F45: {=IFERROR(INDEX(T_ART_PAN_COD,SMALL(IF(T_ART_PAN_RTH>=Table_Panneau!$B$15,IF(T_ART_PAN_RTH<=Table_Panneau!$B$19,IF(T_ART_PAN_MAT=Table_Panneau!$D$15,IF(T_ART_PAN_KRA=Table_Panneau!$D$23,IF(T_ART_PAN_EPA<=Table_Panneau!$B$23,ROW(T_ART_PAN_RTH),""))))),ROW(27:27))),"")} | G45: {=IFERROR(INDEX(T_ART_PAN_DIS,SMALL(IF(T_ART_PAN_RTH>=Table_Panneau!$B$15,IF(T_ART_PAN_RTH<=Table_Panneau!$B$19,IF(T_ART_PAN_MAT=Table_Panneau!$D$15,IF(T_ART_PAN_KRA=Table_Panneau!$D$23,IF(T_ART_PAN_EPA<=Table_Panneau!$B$23,ROW(T_ART_PAN_RTH),""))))),ROW(27:27))),"")}
C46: {=IFERROR(INDEX(T_ART_PAN_LIB,SMALL(IF(T_ART_PAN_RTH>=Table_Panneau!$B$15,IF(T_ART_PAN_RTH<=Table_Panneau!$B$19,IF(T_ART_PAN_MAT=Table_Panneau!$D$15,IF(T_ART_PAN_KRA=Table_Panneau!$D$23,IF(T_ART_PAN_EPA<=Table_Panneau!$B$23,ROW(T_ART_PAN_RTH),""))))),ROW(28:28))),"")} | D46: {=IFERROR(INDEX(T_ART_PAN_RTH,SMALL(IF(T_ART_PAN_RTH>=Table_Panneau!$B$15,IF(T_ART_PAN_RTH<=Table_Panneau!$B$19,IF(T_ART_PAN_MAT=Table_Panneau!$D$15,IF(T_ART_PAN_KRA=Table_Panneau!$D$23,IF(T_ART_PAN_EPA<=Table_Panneau!$B$23,ROW(T_ART_PAN_RTH),""))))),ROW(28:28))),"")} | E46: {=IFERROR(INDEX(T_ART_PAN_EPA,SMALL(IF(T_ART_PAN_RTH>=Table_Panneau!$B$15,IF(T_ART_PAN_RTH<=Table_Panneau!$B$19,IF(T_ART_PAN_MAT=Table_Panneau!$D$15,IF(T_ART_PAN_KRA=Table_Panneau!$D$23,IF(T_ART_PAN_EPA<=Table_Panneau!$B$23,ROW(T_ART_PAN_RTH),""))))),ROW(28:28))),"")} | F46: {=IFERROR(INDEX(T_ART_PAN_COD,SMALL(IF(T_ART_PAN_RTH>=Table_Panneau!$B$15,IF(T_ART_PAN_RTH<=Table_Panneau!$B$19,IF(T_ART_PAN_MAT=Table_Panneau!$D$15,IF(T_ART_PAN_KRA=Table_Panneau!$D$23,IF(T_ART_PAN_EPA<=Table_Panneau!$B$23,ROW(T_ART_PAN_RTH),""))))),ROW(28:28))),"")} | G46: {=IFERROR(INDEX(T_ART_PAN_DIS,SMALL(IF(T_ART_PAN_RTH>=Table_Panneau!$B$15,IF(T_ART_PAN_RTH<=Table_Panneau!$B$19,IF(T_ART_PAN_MAT=Table_Panneau!$D$15,IF(T_ART_PAN_KRA=Table_Panneau!$D$23,IF(T_ART_PAN_EPA<=Table_Panneau!$B$23,ROW(T_ART_PAN_RTH),""))))),ROW(28:28))),"")}
C47: {=IFERROR(INDEX(T_ART_PAN_LIB,SMALL(IF(T_ART_PAN_RTH>=Table_Panneau!$B$15,IF(T_ART_PAN_RTH<=Table_Panneau!$B$19,IF(T_ART_PAN_MAT=Table_Panneau!$D$15,IF(T_ART_PAN_KRA=Table_Panneau!$D$23,IF(T_ART_PAN_EPA<=Table_Panneau!$B$23,ROW(T_ART_PAN_RTH),""))))),ROW(29:29))),"")} | D47: {=IFERROR(INDEX(T_ART_PAN_RTH,SMALL(IF(T_ART_PAN_RTH>=Table_Panneau!$B$15,IF(T_ART_PAN_RTH<=Table_Panneau!$B$19,IF(T_ART_PAN_MAT=Table_Panneau!$D$15,IF(T_ART_PAN_KRA=Table_Panneau!$D$23,IF(T_ART_PAN_EPA<=Table_Panneau!$B$23,ROW(T_ART_PAN_RTH),""))))),ROW(29:29))),"")} | E47: {=IFERROR(INDEX(T_ART_PAN_EPA,SMALL(IF(T_ART_PAN_RTH>=Table_Panneau!$B$15,IF(T_ART_PAN_RTH<=Table_Panneau!$B$19,IF(T_ART_PAN_MAT=Table_Panneau!$D$15,IF(T_ART_PAN_KRA=Table_Panneau!$D$23,IF(T_ART_PAN_EPA<=Table_Panneau!$B$23,ROW(T_ART_PAN_RTH),""))))),ROW(29:29))),"")} | F47: {=IFERROR(INDEX(T_ART_PAN_COD,SMALL(IF(T_ART_PAN_RTH>=Table_Panneau!$B$15,IF(T_ART_PAN_RTH<=Table_Panneau!$B$19,IF(T_ART_PAN_MAT=Table_Panneau!$D$15,IF(T_ART_PAN_KRA=Table_Panneau!$D$23,IF(T_ART_PAN_EPA<=Table_Panneau!$B$23,ROW(T_ART_PAN_RTH),""))))),ROW(29:29))),"")} | G47: {=IFERROR(INDEX(T_ART_PAN_DIS,SMALL(IF(T_ART_PAN_RTH>=Table_Panneau!$B$15,IF(T_ART_PAN_RTH<=Table_Panneau!$B$19,IF(T_ART_PAN_MAT=Table_Panneau!$D$15,IF(T_ART_PAN_KRA=Table_Panneau!$D$23,IF(T_ART_PAN_EPA<=Table_Panneau!$B$23,ROW(T_ART_PAN_RTH),""))))),ROW(29:29))),"")}
C48: {=IFERROR(INDEX(T_ART_PAN_LIB,SMALL(IF(T_ART_PAN_RTH>=Table_Panneau!$B$15,IF(T_ART_PAN_RTH<=Table_Panneau!$B$19,IF(T_ART_PAN_MAT=Table_Panneau!$D$15,IF(T_ART_PAN_KRA=Table_Panneau!$D$23,IF(T_ART_PAN_EPA<=Table_Panneau!$B$23,ROW(T_ART_PAN_RTH),""))))),ROW(30:30))),"")} | D48: {=IFERROR(INDEX(T_ART_PAN_RTH,SMALL(IF(T_ART_PAN_RTH>=Table_Panneau!$B$15,IF(T_ART_PAN_RTH<=Table_Panneau!$B$19,IF(T_ART_PAN_MAT=Table_Panneau!$D$15,IF(T_ART_PAN_KRA=Table_Panneau!$D$23,IF(T_ART_PAN_EPA<=Table_Panneau!$B$23,ROW(T_ART_PAN_RTH),""))))),ROW(30:30))),"")} | E48: {=IFERROR(INDEX(T_ART_PAN_EPA,SMALL(IF(T_ART_PAN_RTH>=Table_Panneau!$B$15,IF(T_ART_PAN_RTH<=Table_Panneau!$B$19,IF(T_ART_PAN_MAT=Table_Panneau!$D$15,IF(T_ART_PAN_KRA=Table_Panneau!$D$23,IF(T_ART_PAN_EPA<=Table_Panneau!$B$23,ROW(T_ART_PAN_RTH),""))))),ROW(30:30))),"")} | F48: {=IFERROR(INDEX(T_ART_PAN_COD,SMALL(IF(T_ART_PAN_RTH>=Table_Panneau!$B$15,IF(T_ART_PAN_RTH<=Table_Panneau!$B$19,IF(T_ART_PAN_MAT=Table_Panneau!$D$15,IF(T_ART_PAN_KRA=Table_Panneau!$D$23,IF(T_ART_PAN_EPA<=Table_Panneau!$B$23,ROW(T_ART_PAN_RTH),""))))),ROW(30:30))),"")} | G48: {=IFERROR(INDEX(T_ART_PAN_DIS,SMALL(IF(T_ART_PAN_RTH>=Table_Panneau!$B$15,IF(T_ART_PAN_RTH<=Table_Panneau!$B$19,IF(T_ART_PAN_MAT=Table_Panneau!$D$15,IF(T_ART_PAN_KRA=Table_Panneau!$D$23,IF(T_ART_PAN_EPA<=Table_Panneau!$B$23,ROW(T_ART_PAN_RTH),""))))),ROW(30:30))),"")}
C49: {=IFERROR(INDEX(T_ART_PAN_LIB,SMALL(IF(T_ART_PAN_RTH>=Table_Panneau!$B$15,IF(T_ART_PAN_RTH<=Table_Panneau!$B$19,IF(T_ART_PAN_MAT=Table_Panneau!$D$15,IF(T_ART_PAN_KRA=Table_Panneau!$D$23,IF(T_ART_PAN_EPA<=Table_Panneau!$B$23,ROW(T_ART_PAN_RTH),""))))),ROW(31:31))),"")} | D49: {=IFERROR(INDEX(T_ART_PAN_RTH,SMALL(IF(T_ART_PAN_RTH>=Table_Panneau!$B$15,IF(T_ART_PAN_RTH<=Table_Panneau!$B$19,IF(T_ART_PAN_MAT=Table_Panneau!$D$15,IF(T_ART_PAN_KRA=Table_Panneau!$D$23,IF(T_ART_PAN_EPA<=Table_Panneau!$B$23,ROW(T_ART_PAN_RTH),""))))),ROW(31:31))),"")} | E49: {=IFERROR(INDEX(T_ART_PAN_EPA,SMALL(IF(T_ART_PAN_RTH>=Table_Panneau!$B$15,IF(T_ART_PAN_RTH<=Table_Panneau!$B$19,IF(T_ART_PAN_MAT=Table_Panneau!$D$15,IF(T_ART_PAN_KRA=Table_Panneau!$D$23,IF(T_ART_PAN_EPA<=Table_Panneau!$B$23,ROW(T_ART_PAN_RTH),""))))),ROW(31:31))),"")} | F49: {=IFERROR(INDEX(T_ART_PAN_COD,SMALL(IF(T_ART_PAN_RTH>=Table_Panneau!$B$15,IF(T_ART_PAN_RTH<=Table_Panneau!$B$19,IF(T_ART_PAN_MAT=Table_Panneau!$D$15,IF(T_ART_PAN_KRA=Table_Panneau!$D$23,IF(T_ART_PAN_EPA<=Table_Panneau!$B$23,ROW(T_ART_PAN_RTH),""))))),ROW(31:31))),"")} | G49: {=IFERROR(INDEX(T_ART_PAN_DIS,SMALL(IF(T_ART_PAN_RTH>=Table_Panneau!$B$15,IF(T_ART_PAN_RTH<=Table_Panneau!$B$19,IF(T_ART_PAN_MAT=Table_Panneau!$D$15,IF(T_ART_PAN_KRA=Table_Panneau!$D$23,IF(T_ART_PAN_EPA<=Table_Panneau!$B$23,ROW(T_ART_PAN_RTH),""))))),ROW(31:31))),"")}
...

Sheet Table_Panneau
B2: Matière - Panneau | C2: Ref menu | D2: Corresp. | F2: Stock ACEM - Panneau | G2: Ref menu | H2: Corresp. | J2: Kraft - Panneau | K2: Ref menu | L2: Corresp.
B3: LDR - Laine de roche | C3: 1 | D3: LDR | F3: Oui | G3: 1 | H3: D | J3: Avec | K3: 1 | L3: O
B4: LDV - Laine de verre | C4: 2 | D4: LDV | F4: Non | G4: 2 | H4: C | J4: Sans | K4: 2 | L4: N
B5: LDB - Laine de bois | C5: 3 | D5: LDB
B6: FDB - Fibre de bois | C6: 4 | D6: FDB | F6: 1 | J6: 1
B7: CHA - Chanvre | C7: 5 | D7: CHA
B8: POL - Polymère | C8: 6 | D8: POL
B10: 2
B14: Report R mini | D14: Formule Recherche matière
B15: =SUM('Resistance Thermique'!G6) -> 3 | D15: =IF(B10=1,D3,IF(B10=2,D4,IF(B10=3,D5,IF(B10=4,D6,IF(B10=5,D7,IF(B10=6,D8,)))))) -> LDV
B18: Report R max | D18: Formule Recherche Stock
B19: =SUM('Resistance Thermique'!G8) -> 8 | D19: =IF(F6=1,H3,IF(F6=2,H4)) -> D
B22: Report épaisseur max | D22: Formule Recherche Kraft
B23: =SUM('Resistance Thermique'!$G$10) -> 140 | D23: =IF(J6=1,L3,IF(J6=2,L4)) -> O
M24: Libéllé | N24: R | O24: Epaisseur | P24: Code ACEM | Q24: Dispo. | R24: Kraft | S24: Mat.
M25: {=IFERROR(INDEX(T_ART_PAN_LIB,SMALL(IF(T_ART_PAN_RTH>=Table_Panneau!$B$15,IF(T_ART_PAN_RTH<=Table_Panneau!$B$19,IF(T_ART_PAN_MAT=Table_Panneau!$D$15,IF(T_ART_PAN_KRA=Table_Panneau!$D$23,IF(T_ART_PAN_EPA<=Table_Panneau!$B$23,ROW(T_ART_PAN_RTH),""))))),ROW(1:1))),"")} -> PX KRAFT TP238 F.DENSITE 100MM 5PX 600*1350 4,05M2 | N25: {=IFERROR(INDEX(T_ART_PAN_RTH,SMALL(IF(T_ART_PAN_RTH>=Table_Panneau!$B$15,IF(T_ART_PAN_RTH<=Table_Panneau!$B$19,IF(T_ART_PAN_MAT=Table_Panneau!$D$15,IF(T_ART_PAN_KRA=Table_Panneau!$D$23,IF(T_ART_PAN_EPA<=Table_Panneau!$B$23,ROW(T_ART_PAN_RTH),""))))),ROW(1:1))),"")} -> 3.15 | O25: {=IFERROR(INDEX(T_ART_PAN_EPA,SMALL(IF(T_ART_PAN_RTH>=Table_Panneau!$B$15,IF(T_ART_PAN_RTH<=Table_Panneau!$B$19,IF(T_ART_PAN_MAT=Table_Panneau!$D$15,IF(T_ART_PAN_KRA=Table_Panneau!$D$23,IF(T_ART_PAN_EPA<=Table_Panneau!$B$23,ROW(T_ART_PAN_RTH),""))))),ROW(1:1))),"")} -> 100 | P25: {=IFERROR(INDEX(T_ART_PAN_COD,SMALL(IF(T_ART_PAN_RTH>=Table_Panneau!$B$15,IF(T_ART_PAN_RTH<=Table_Panneau!$B$19,IF(T_ART_PAN_MAT=Table_Panneau!$D$15,IF(T_ART_PAN_KRA=Table_Panneau!$D$23,IF(T_ART_PAN_EPA<=Table_Panneau!$B$23,ROW(T_ART_PAN_RTH),""))))),ROW(1:1))),"")} -> 300295 | Q25: {=IFERROR(INDEX(T_ART_PAN_DIS,SMALL(IF(T_ART_PAN_RTH>=Table_Panneau!$B$15,IF(T_ART_PAN_RTH<=Table_Panneau!$B$19,IF(T_ART_PAN_MAT=Table_Panneau!$D$15,IF(T_ART_PAN_KRA=Table_Panneau!$D$23,IF(T_ART_PAN_EPA<=Table_Panneau!$B$23,ROW(T_ART_PAN_RTH),""))))),ROW(1:1))),"")} -> D | R25: {=IFERROR(INDEX(T_ART_PAN_KRA,SMALL(IF(T_ART_PAN_RTH>=Table_Panneau!$B$15,IF(T_ART_PAN_RTH<=Table_Panneau!$B$19,IF(T_ART_PAN_MAT=Table_Panneau!$D$15,IF(T_ART_PAN_KRA=Table_Panneau!$D$23,IF(T_ART_PAN_EPA<=Table_Panneau!$B$23,ROW(T_ART_PAN_RTH),""))))),ROW(1:1))),"")} -> O | S25: {=IFERROR(INDEX(T_ART_PAN_MAT,SMALL(IF(T_ART_PAN_RTH>=Table_Panneau!$B$15,IF(T_ART_PAN_RTH<=Table_Panneau!$B$19,IF(T_ART_PAN_MAT=Table_Panneau!$D$15,IF(T_ART_PAN_KRA=Table_Panneau!$D$23,IF(T_ART_PAN_EPA<=Table_Panneau!$B$23,ROW(T_ART_PAN_RTH),""))))),ROW(1:1))),"")} -> LDV
M26: {=IFERROR(INDEX(T_ART_PAN_LIB,SMALL(IF(T_ART_PAN_RTH>=Table_Panneau!$B$15,IF(T_ART_PAN_RTH<=Table_Panneau!$B$19,IF(T_ART_PAN_MAT=Table_Panneau!$D$15,IF(T_ART_PAN_KRA=Table_Panneau!$D$23,IF(T_ART_PAN_EPA<=Table_Panneau!$B$23,ROW(T_ART_PAN_RTH),""))))),ROW(2:2))),"")} -> LDV RLX KRAFT TI 212 140MM 1200*7500 9,00M2 R=3,5 | N26: {=IFERROR(INDEX(T_ART_PAN_RTH,SMALL(IF(T_ART_PAN_RTH>=Table_Panneau!$B$15,IF(T_ART_PAN_RTH<=Table_Panneau!$B$19,IF(T_ART_PAN_MAT=Table_Panneau!$D$15,IF(T_ART_PAN_KRA=Table_Panneau!$D$23,IF(T_ART_PAN_EPA<=Table_Panneau!$B$23,ROW(T_ART_PAN_RTH),""))))),ROW(2:2))),"")} -> 3.5 | O26: {=IFERROR(INDEX(T_ART_PAN_EPA,SMALL(IF(T_ART_PAN_RTH>=Table_Panneau!$B$15,IF(T_ART_PAN_RTH<=Table_Panneau!$B$19,IF(T_ART_PAN_MAT=Table_Panneau!$D$15,IF(T_ART_PAN_KRA=Table_Panneau!$D$23,IF(T_ART_PAN_EPA<=Table_Panneau!$B$23,ROW(T_ART_PAN_RTH),""))))),ROW(2:2))),"")} -> 140 | P26: {=IFERROR(INDEX(T_ART_PAN_COD,SMALL(IF(T_ART_PAN_RTH>=Table_Panneau!$B$15,IF(T_ART_PAN_RTH<=Table_Panneau!$B$19,IF(T_ART_PAN_MAT=Table_Panneau!$D$15,IF(T_ART_PAN_KRA=Table_Panneau!$D$23,IF(T_ART_PAN_EPA<=Table_Panneau!$B$23,ROW(T_ART_PAN_RTH),""))))),ROW(2:2))),"")} -> 300263 | Q26: {=IFERROR(INDEX(T_ART_PAN_DIS,SMALL(IF(T_ART_PAN_RTH>=Table_Panneau!$B$15,IF(T_ART_PAN_RTH<=Table_Panneau!$B$19,IF(T_ART_PAN_MAT=Table_Panneau!$D$15,IF(T_ART_PAN_KRA=Table_Panneau!$D$23,IF(T_ART_PAN_EPA<=Table_Panneau!$B$23,ROW(T_ART_PAN_RTH),""))))),ROW(2:2))),"")} -> C | R26: {=IFERROR(INDEX(T_ART_PAN_KRA,SMALL(IF(T_ART_PAN_RTH>=Table_Panneau!$B$15,IF(T_ART_PAN_RTH<=Table_Panneau!$B$19,IF(T_ART_PAN_MAT=Table_Panneau!$D$15,IF(T_ART_PAN_KRA=Table_Panneau!$D$23,IF(T_ART_PAN_EPA<=Table_Panneau!$B$23,ROW(T_ART_PAN_RTH),""))))),ROW(2:2))),"")} -> O | S26: {=IFERROR(INDEX(T_ART_PAN_MAT,SMALL(IF(T_ART_PAN_RTH>=Table_Panneau!$B$15,IF(T_ART_PAN_RTH<=Table_Panneau!$B$19,IF(T_ART_PAN_MAT=Table_Panneau!$D$15,IF(T_ART_PAN_KRA=Table_Panneau!$D$23,IF(T_ART_PAN_EPA<=Table_Panneau!$B$23,ROW(T_ART_PAN_RTH),""))))),ROW(2:2))),"")} -> LDV
M27: {=IFERROR(INDEX(T_ART_PAN_LIB,SMALL(IF(T_ART_PAN_RTH>=Table_Panneau!$B$15,IF(T_ART_PAN_RTH<=Table_Panneau!$B$19,IF(T_ART_PAN_MAT=Table_Panneau!$D$15,IF(T_ART_PAN_KRA=Table_Panneau!$D$23,IF(T_ART_PAN_EPA<=Table_Panneau!$B$23,ROW(T_ART_PAN_RTH),""))))),ROW(3:3))),"")} -> PX KRAFT TP238 F.DENSITE 120MM 4PX 600*1350 3,24M2 | N27: {=IFERROR(INDEX(T_ART_PAN_RTH,SMALL(IF(T_ART_PAN_RTH>=Table_Panneau!$B$15,IF(T_ART_PAN_RTH<=Table_Panneau!$B$19,IF(T_ART_PAN_MAT=Table_Panneau!$D$15,IF(T_ART_PAN_KRA=Table_Panneau!$D$23,IF(T_ART_PAN_EPA<=Table_Panneau!$B$23,ROW(T_ART_PAN_RTH),""))))),ROW(3:3))),"")} -> 3.75 | O27: {=IFERROR(INDEX(T_ART_PAN_EPA,SMALL(IF(T_ART_PAN_RTH>=Table_Panneau!$B$15,IF(T_ART_PAN_RTH<=Table_Panneau!$B$19,IF(T_ART_PAN_MAT=Table_Panneau!$D$15,IF(T_ART_PAN_KRA=Table_Panneau!$D$23,IF(T_ART_PAN_EPA<=Table_Panneau!$B$23,ROW(T_ART_PAN_RTH),""))))),ROW(3:3))),"")} -> 120 | P27: {=IFERROR(INDEX(T_ART_PAN_COD,SMALL(IF(T_ART_PAN_RTH>=Table_Panneau!$B$15,IF(T_ART_PAN_RTH<=Table_Panneau!$B$19,IF(T_ART_PAN_MAT=Table_Panneau!$D$15,IF(T_ART_PAN_KRA=Table_Panneau!$D$23,IF(T_ART_PAN_EPA<=Table_Panneau!$B$23,ROW(T_ART_PAN_RTH),""))))),ROW(3:3))),"")} -> 031990 | Q27: {=IFERROR(INDEX(T_ART_PAN_DIS,SMALL(IF(T_ART_PAN_RTH>=Table_Panneau!$B$15,IF(T_ART_PAN_RTH<=Table_Panneau!$B$19,IF(T_ART_PAN_MAT=Table_Panneau!$D$15,IF(T_ART_PAN_KRA=Table_Panneau!$D$23,IF(T_ART_PAN_EPA<=Table_Panneau!$B$23,ROW(T_ART_PAN_RTH),""))))),ROW(3:3))),"")} -> D | R27: {=IFERROR(INDEX(T_ART_PAN_KRA,SMALL(IF(T_ART_PAN_RTH>=Table_Panneau!$B$15,IF(T_ART_PAN_RTH<=Table_Panneau!$B$19,IF(T_ART_PAN_MAT=Table_Panneau!$D$15,IF(T_ART_PAN_KRA=Table_Panneau!$D$23,IF(T_ART_PAN_EPA<=Table_Panneau!$B$23,ROW(T_ART_PAN_RTH),""))))),ROW(3:3))),"")} -> O | S27: {=IFERROR(INDEX(T_ART_PAN_MAT,SMALL(IF(T_ART_PAN_RTH>=Table_Panneau!$B$15,IF(T_ART_PAN_RTH<=Table_Panneau!$B$19,IF(T_ART_PAN_MAT=Table_Panneau!$D$15,IF(T_ART_PAN_KRA=Table_Panneau!$D$23,IF(T_ART_PAN_EPA<=Table_Panneau!$B$23,ROW(T_ART_PAN_RTH),""))))),ROW(3:3))),"")} -> LDV
M28: {=IFERROR(INDEX(T_ART_PAN_LIB,SMALL(IF(T_ART_PAN_RTH>=Table_Panneau!$B$15,IF(T_ART_PAN_RTH<=Table_Panneau!$B$19,IF(T_ART_PAN_MAT=Table_Panneau!$D$15,IF(T_ART_PAN_KRA=Table_Panneau!$D$23,IF(T_ART_PAN_EPA<=Table_Panneau!$B$23,ROW(T_ART_PAN_RTH),""))))),ROW(4:4))),"")} -> PX KRAFT TP238 F.DENSITE 140MM 4PX 600*1350 3,24M2 | N28: {=IFERROR(INDEX(T_ART_PAN_RTH,SMALL(IF(T_ART_PAN_RTH>=Table_Panneau!$B$15,IF(T_ART_PAN_RTH<=Table_Panneau!$B$19,IF(T_ART_PAN_MAT=Table_Panneau!$D$15,IF(T_ART_PAN_KRA=Table_Panneau!$D$23,IF(T_ART_PAN_EPA<=Table_Panneau!$B$23,ROW(T_ART_PAN_RTH),""))))),ROW(4:4))),"")} -> 4.4 | O28: {=IFERROR(INDEX(T_ART_PAN_EPA,SMALL(IF(T_ART_PAN_RTH>=Table_Panneau!$B$15,IF(T_ART_PAN_RTH<=Table_Panneau!$B$19,IF(T_ART_PAN_MAT=Table_Panneau!$D$15,IF(T_ART_PAN_KRA=Table_Panneau!$D$23,IF(T_ART_PAN_EPA<=Table_Panneau!$B$23,ROW(T_ART_PAN_RTH),""))))),ROW(4:4))),"")} -> 140 | P28: {=IFERROR(INDEX(T_ART_PAN_COD,SMALL(IF(T_ART_PAN_RTH>=Table_Panneau!$B$15,IF(T_ART_PAN_RTH<=Table_Panneau!$B$19,IF(T_ART_PAN_MAT=Table_Panneau!$D$15,IF(T_ART_PAN_KRA=Table_Panneau!$D$23,IF(T_ART_PAN_EPA<=Table_Panneau!$B$23,ROW(T_ART_PAN_RTH),""))))),ROW(4:4))),"")} -> 301991 | Q28: {=IFERROR(INDEX(T_ART_PAN_DIS,SMALL(IF(T_ART_PAN_RTH>=Table_Panneau!$B$15,IF(T_ART_PAN_RTH<=Table_Panneau!$B$19,IF(T_ART_PAN_MAT=Table_Panneau!$D$15,IF(T_ART_PAN_KRA=Table_Panneau!$D$23,IF(T_ART_PAN_EPA<=Table_Panneau!$B$23,ROW(T_ART_PAN_RTH),""))))),ROW(4:4))),"")} -> D | R28: {=IFERROR(INDEX(T_ART_PAN_KRA,SMALL(IF(T_ART_PAN_RTH>=Table_Panneau!$B$15,IF(T_ART_PAN_RTH<=Table_Panneau!$B$19,IF(T_ART_PAN_MAT=Table_Panneau!$D$15,IF(T_ART_PAN_KRA=Table_Panneau!$D$23,IF(T_ART_PAN_EPA<=Table_Panneau!$B$23,ROW(T_ART_PAN_RTH),""))))),ROW(4:4))),"")} -> O | S28: {=IFERROR(INDEX(T_ART_PAN_MAT,SMALL(IF(T_ART_PAN_RTH>=Table_Panneau!$B$15,IF(T_ART_PAN_RTH<=Table_Panneau!$B$19,IF(T_ART_PAN_MAT=Table_Panneau!$D$15,IF(T_ART_PAN_KRA=Table_Panneau!$D$23,IF(T_ART_PAN_EPA<=Table_Panneau!$B$23,ROW(T_ART_PAN_RTH),""))))),ROW(4:4))),"")} -> LDV
M29: {=IFERROR(INDEX(T_ART_PAN_LIB,SMALL(IF(T_ART_PAN_RTH>=Table_Panneau!$B$15,IF(T_ART_PAN_RTH<=Table_Panneau!$B$19,IF(T_ART_PAN_MAT=Table_Panneau!$D$15,IF(T_ART_PAN_KRA=Table_Panneau!$D$23,IF(T_ART_PAN_EPA<=Table_Panneau!$B$23,ROW(T_ART_PAN_RTH),""))))),ROW(5:5))),"")} | N29: {=IFERROR(INDEX(T_ART_PAN_RTH,SMALL(IF(T_ART_PAN_RTH>=Table_Panneau!$B$15,IF(T_ART_PAN_RTH<=Table_Panneau!$B$19,IF(T_ART_PAN_MAT=Table_Panneau!$D$15,IF(T_ART_PAN_KRA=Table_Panneau!$D$23,IF(T_ART_PAN_EPA<=Table_Panneau!$B$23,ROW(T_ART_PAN_RTH),""))))),ROW(5:5))),"")} | O29: {=IFERROR(INDEX(T_ART_PAN_EPA,SMALL(IF(T_ART_PAN_RTH>=Table_Panneau!$B$15,IF(T_ART_PAN_RTH<=Table_Panneau!$B$19,IF(T_ART_PAN_MAT=Table_Panneau!$D$15,IF(T_ART_PAN_KRA=Table_Panneau!$D$23,IF(T_ART_PAN_EPA<=Table_Panneau!$B$23,ROW(T_ART_PAN_RTH),""))))),ROW(5:5))),"")} | P29: {=IFERROR(INDEX(T_ART_PAN_COD,SMALL(IF(T_ART_PAN_RTH>=Table_Panneau!$B$15,IF(T_ART_PAN_RTH<=Table_Panneau!$B$19,IF(T_ART_PAN_MAT=Table_Panneau!$D$15,IF(T_ART_PAN_KRA=Table_Panneau!$D$23,IF(T_ART_PAN_EPA<=Table_Panneau!$B$23,ROW(T_ART_PAN_RTH),""))))),ROW(5:5))),"")} | Q29: {=IFERROR(INDEX(T_ART_PAN_DIS,SMALL(IF(T_ART_PAN_RTH>=Table_Panneau!$B$15,IF(T_ART_PAN_RTH<=Table_Panneau!$B$19,IF(T_ART_PAN_MAT=Table_Panneau!$D$15,IF(T_ART_PAN_KRA=Table_Panneau!$D$23,IF(T_ART_PAN_EPA<=Table_Panneau!$B$23,ROW(T_ART_PAN_RTH),""))))),ROW(5:5))),"")} | R29: {=IFERROR(INDEX(T_ART_PAN_KRA,SMALL(IF(T_ART_PAN_RTH>=Table_Panneau!$B$15,IF(T_ART_PAN_RTH<=Table_Panneau!$B$19,IF(T_ART_PAN_MAT=Table_Panneau!$D$15,IF(T_ART_PAN_KRA=Table_Panneau!$D$23,IF(T_ART_PAN_EPA<=Table_Panneau!$B$23,ROW(T_ART_PAN_RTH),""))))),ROW(5:5))),"")} | S29: {=IFERROR(INDEX(T_ART_PAN_MAT,SMALL(IF(T_ART_PAN_RTH>=Table_Panneau!$B$15,IF(T_ART_PAN_RTH<=Table_Panneau!$B$19,IF(T_ART_PAN_MAT=Table_Panneau!$D$15,IF(T_ART_PAN_KRA=Table_Panneau!$D$23,IF(T_ART_PAN_EPA<=Table_Panneau!$B$23,ROW(T_ART_PAN_RTH),""))))),ROW(5:5))),"")}
M30: {=IFERROR(INDEX(T_ART_PAN_LIB,SMALL(IF(T_ART_PAN_RTH>=Table_Panneau!$B$15,IF(T_ART_PAN_RTH<=Table_Panneau!$B$19,IF(T_ART_PAN_MAT=Table_Panneau!$D$15,IF(T_ART_PAN_KRA=Table_Panneau!$D$23,IF(T_ART_PAN_EPA<=Table_Panneau!$B$23,ROW(T_ART_PAN_RTH),""))))),ROW(6:6))),"")} | N30: {=IFERROR(INDEX(T_ART_PAN_RTH,SMALL(IF(T_ART_PAN_RTH>=Table_Panneau!$B$15,IF(T_ART_PAN_RTH<=Table_Panneau!$B$19,IF(T_ART_PAN_MAT=Table_Panneau!$D$15,IF(T_ART_PAN_KRA=Table_Panneau!$D$23,IF(T_ART_PAN_EPA<=Table_Panneau!$B$23,ROW(T_ART_PAN_RTH),""))))),ROW(6:6))),"")} | O30: {=IFERROR(INDEX(T_ART_PAN_EPA,SMALL(IF(T_ART_PAN_RTH>=Table_Panneau!$B$15,IF(T_ART_PAN_RTH<=Table_Panneau!$B$19,IF(T_ART_PAN_MAT=Table_Panneau!$D$15,IF(T_ART_PAN_KRA=Table_Panneau!$D$23,IF(T_ART_PAN_EPA<=Table_Panneau!$B$23,ROW(T_ART_PAN_RTH),""))))),ROW(6:6))),"")} | P30: {=IFERROR(INDEX(T_ART_PAN_COD,SMALL(IF(T_ART_PAN_RTH>=Table_Panneau!$B$15,IF(T_ART_PAN_RTH<=Table_Panneau!$B$19,IF(T_ART_PAN_MAT=Table_Panneau!$D$15,IF(T_ART_PAN_KRA=Table_Panneau!$D$23,IF(T_ART_PAN_EPA<=Table_Panneau!$B$23,ROW(T_ART_PAN_RTH),""))))),ROW(6:6))),"")} | Q30: {=IFERROR(INDEX(T_ART_PAN_DIS,SMALL(IF(T_ART_PAN_RTH>=Table_Panneau!$B$15,IF(T_ART_PAN_RTH<=Table_Panneau!$B$19,IF(T_ART_PAN_MAT=Table_Panneau!$D$15,IF(T_ART_PAN_KRA=Table_Panneau!$D$23,IF(T_ART_PAN_EPA<=Table_Panneau!$B$23,ROW(T_ART_PAN_RTH),""))))),ROW(6:6))),"")} | R30: {=IFERROR(INDEX(T_ART_PAN_KRA,SMALL(IF(T_ART_PAN_RTH>=Table_Panneau!$B$15,IF(T_ART_PAN_RTH<=Table_Panneau!$B$19,IF(T_ART_PAN_MAT=Table_Panneau!$D$15,IF(T_ART_PAN_KRA=Table_Panneau!$D$23,IF(T_ART_PAN_EPA<=Table_Panneau!$B$23,ROW(T_ART_PAN_RTH),""))))),ROW(6:6))),"")} | S30: {=IFERROR(INDEX(T_ART_PAN_MAT,SMALL(IF(T_ART_PAN_RTH>=Table_Panneau!$B$15,IF(T_ART_PAN_RTH<=Table_Panneau!$B$19,IF(T_ART_PAN_MAT=Table_Panneau!$D$15,IF(T_ART_PAN_KRA=Table_Panneau!$D$23,IF(T_ART_PAN_EPA<=Table_Panneau!$B$23,ROW(T_ART_PAN_RTH),""))))),ROW(6:6))),"")}
M31: {=IFERROR(INDEX(T_ART_PAN_LIB,SMALL(IF(T_ART_PAN_RTH>=Table_Panneau!$B$15,IF(T_ART_PAN_RTH<=Table_Panneau!$B$19,IF(T_ART_PAN_MAT=Table_Panneau!$D$15,IF(T_ART_PAN_KRA=Table_Panneau!$D$23,IF(T_ART_PAN_EPA<=Table_Panneau!$B$23,ROW(T_ART_PAN_RTH),""))))),ROW(7:7))),"")} | N31: {=IFERROR(INDEX(T_ART_PAN_RTH,SMALL(IF(T_ART_PAN_RTH>=Table_Panneau!$B$15,IF(T_ART_PAN_RTH<=Table_Panneau!$B$19,IF(T_ART_PAN_MAT=Table_Panneau!$D$15,IF(T_ART_PAN_KRA=Table_Panneau!$D$23,IF(T_ART_PAN_EPA<=Table_Panneau!$B$23,ROW(T_ART_PAN_RTH),""))))),ROW(7:7))),"")} | O31: {=IFERROR(INDEX(T_ART_PAN_EPA,SMALL(IF(T_ART_PAN_RTH>=Table_Panneau!$B$15,IF(T_ART_PAN_RTH<=Table_Panneau!$B$19,IF(T_ART_PAN_MAT=Table_Panneau!$D$15,IF(T_ART_PAN_KRA=Table_Panneau!$D$23,IF(T_ART_PAN_EPA<=Table_Panneau!$B$23,ROW(T_ART_PAN_RTH),""))))),ROW(7:7))),"")} | P31: {=IFERROR(INDEX(T_ART_PAN_COD,SMALL(IF(T_ART_PAN_RTH>=Table_Panneau!$B$15,IF(T_ART_PAN_RTH<=Table_Panneau!$B$19,IF(T_ART_PAN_MAT=Table_Panneau!$D$15,IF(T_ART_PAN_KRA=Table_Panneau!$D$23,IF(T_ART_PAN_EPA<=Table_Panneau!$B$23,ROW(T_ART_PAN_RTH),""))))),ROW(7:7))),"")} | Q31: {=IFERROR(INDEX(T_ART_PAN_DIS,SMALL(IF(T_ART_PAN_RTH>=Table_Panneau!$B$15,IF(T_ART_PAN_RTH<=Table_Panneau!$B$19,IF(T_ART_PAN_MAT=Table_Panneau!$D$15,IF(T_ART_PAN_KRA=Table_Panneau!$D$23,IF(T_ART_PAN_EPA<=Table_Panneau!$B$23,ROW(T_ART_PAN_RTH),""))))),ROW(7:7))),"")} | R31: {=IFERROR(INDEX(T_ART_PAN_KRA,SMALL(IF(T_ART_PAN_RTH>=Table_Panneau!$B$15,IF(T_ART_PAN_RTH<=Table_Panneau!$B$19,IF(T_ART_PAN_MAT=Table_Panneau!$D$15,IF(T_ART_PAN_KRA=Table_Panneau!$D$23,IF(T_ART_PAN_EPA<=Table_Panneau!$B$23,ROW(T_ART_PAN_RTH),""))))),ROW(7:7))),"")} | S31: {=IFERROR(INDEX(T_ART_PAN_MAT,SMALL(IF(T_ART_PAN_RTH>=Table_Panneau!$B$15,IF(T_ART_PAN_RTH<=Table_Panneau!$B$19,IF(T_ART_PAN_MAT=Table_Panneau!$D$15,IF(T_ART_PAN_KRA=Table_Panneau!$D$23,IF(T_ART_PAN_EPA<=Table_Panneau!$B$23,ROW(T_ART_PAN_RTH),""))))),ROW(7:7))),"")}
