Workbook
Name Certifcation: OFFSET('Extraction carto QGIS'!$L$2,0,0,COUNTA('Extraction carto QGIS'!$L:$L),1)
Name HS: OFFSET('Extraction carto QGIS'!$K$2,0,0,COUNTA('Extraction carto QGIS'!$K:$K),1)
Name Province: OFFSET('Extraction carto QGIS'!$E$2,0,0,COUNTA('Extraction carto QGIS'!$E:$E),1)
Name Surface: OFFSET('Extraction carto QGIS'!$G$2,0,0,COUNTA('Extraction carto QGIS'!$G:$G),1)
Name Type_prod: OFFSET('Extraction carto QGIS'!$F$2,0,0,COUNTA('Extraction carto QGIS'!$F:$F),1)

Sheet Extraction carto QGIS
A1: Nom_Exploi | B1: Nom_Parcel | C1: Details_cu | D1: Commune | E1: Province | F1: Type_Produ | G1: Surface/ha | H1: Longueur | I1: Nb lignes | J1: Largeur | K1: Hors-sol | L1: Certif
A2: BENARD | B2: Hangaroses | D2: MONT DORE | E2: Sud | F2: Horticulture | G2: 0.401 | K2: OUI | L2: AR
A3: BENARD | B3: Papaye1 | D3: MONT DORE | E3: Sud | F3: Cultures fruitieres | G3: 0.336 | K3: NON | L3: AR
A4: BENARD | B4: Papaye2 | D4: MONT DORE | E4: Sud | F4: Cultures fruitieres | G4: 0.424 | K4: NON | L4: AR
A5: BENARD | B5: Malta1 | D5: MONT DORE | E5: Sud | F5: Maraichage | G5: 0.224 | K5: NON | L5: AR
A6: BENARD | B6: Malta2 | D6: MONT DORE | E6: Sud | F6: Maraichage | G6: 0.324 | K6: NON | L6: AR
A7: BENARD | B7: H1 | D7: MONT DORE | E7: Sud | F7: Maraichage | G7: 0.427 | K7: NON | L7: AR
A8: BENARD | B8: P5 | D8: MONT DORE | E8: Sud | F8: Maraichage | G8: 0.317 | K8: NON | L8: AR
A9: BENARD | B9: P4 | D9: MONT DORE | E9: Sud | F9: Maraichage | G9: 0.653 | K9: NON | L9: AR
A10: BENARD | B10: B1 | D10: MONT DORE | E10: Sud | F10: Maraichage | G10: 0.442 | K10: NON | L10: AR
A11: BENARD | B11: B2 | D11: MONT DORE | E11: Sud | F11: Maraichage | G11: 0.352 | K11: NON | L11: AR
A12: BENARD | B12: B5 | D12: MONT DORE | E12: Sud | F12: Maraichage | G12: 0.247 | K12: NON | L12: AR
A13: BENARD | B13: B3 | D13: MONT DORE | E13: Sud | F13: Maraichage | G13: 0.468 | K13: NON | L13: AR
... A47: BENARD | B47: M1 | D47: MONT DORE | E47: Sud | F47: Maraichage | G47: 0.018 | K47: OUI | L47: AR
A48: BERTONI Bryan | B48: 1 | D48: BOULOUPARIS | E48: Sud | F48: Maraichage | G48: 0.017 | H48: 20 | I48: 8 | J48: 6.2 | K48: OUI | L48: NON
A49: BERTONI Bryan | B49: 2 | D49: BOULOUPARIS | E49: Sud | F49: Maraichage | G49: 0.017 | H49: 20 | I49: 8 | J49: 6.2 | K49: OUI | L49: NON
A50: BERTONI Bryan | B50: 3 | D50: BOULOUPARIS | E50: Sud | F50: Maraichage | G50: 0.023 | H50: 30 | I50: 8 | J50: 6.2 | K50: OUI | L50: NON
A51: BERTONI Bryan | B51: 4 | D51: BOULOUPARIS | E51: Sud | F51: Maraichage | G51: 0.023 | H51: 30 | I51: 8 | J51: 6.2 | K51: OUI | L51: NON
A52: BERTONI Bryan | B52: 5 | D52: BOULOUPARIS | E52: Sud | F52: Maraichage | G52: 0.023 | H52: 30 | I52: 8 | J52: 6.2 | K52: OUI | L52: NON
A53: BERTONI Bryan | B53: 6 | D53: BOULOUPARIS | E53: Sud | F53: Maraichage | G53: 0.023 | H53: 30 | I53: 8 | J53: 6.2 | K53: OUI | L53: NON
A54: BERTONI Bryan | B54: 7 | D54: BOULOUPARIS | E54: Sud | F54: Maraichage | G54: 0.023 | H54: 30 | I54: 8 | J54: 6.2 | K54: OUI | L54: NON
A55: BERTONI Bryan | B55: 8 | D55: BOULOUPARIS | E55: Sud | F55: Maraichage | G55: 0.023 | H55: 30 | I55: 8 | J55: 6.2 | K55: OUI | L55: NON
A56: BLOMME | B56: BUTTE DOCK 1C | D56: POUEMBOUT | E56: Nord | F56: Maraichage | G56: 0.006 | K56: NON | L56: AR
A57: BLOMME | B57: PEDAGOGIE | D57: POUEMBOUT | E57: Nord | F57: Maraichage | G57: 0.11 | K57: NON | L57: AR
A58: BLOMME | B58: BANANE | D58: POUEMBOUT | E58: Nord | F58: Cultures fruitieres | G58: 0.008 | K58: NON | L58: AR
A59: BLOMME | B59: Planches | D59: POUEMBOUT | E59: Nord | F59: Sans production | G59: 0.098 | K59: NON | L59: AR
A60: BLOMME | B60: Agrumes | D60: POUEMBOUT | E60: Nord | F60: Cultures fruitieres | G60: 0.016 | K60: NON | L60: AR
A61: BLOMME | B61: Table 1 | D61: POUEMBOUT | E61: Nord | F61: Maraichage | G61: 0.002 | I61: 4 | J61: 1 | K61: OUI | L61: AR
A62: BLOMME | B62: Table 2 | D62: POUEMBOUT | E62: Nord | F62: Maraichage | G62: 0.002 | I62: 4 | J62: 1 | K62: OUI | L62: AR
A63: BLOMME | B63: 4 saisons | D63: POUEMBOUT | E63: Nord | F63: Cultures fruitieres | G63: 0.011 | K63: NON | L63: AR
A64: BLOMME | B64: Butte 6 | D64: POUEMBOUT | E64: Nord | F64: Paturage naturel | G64: 7.594 | K64: NON | L64: AR
A65: BLOMME | B65: Butte 5 | D65: POUEMBOUT | E65: Nord | F65: Paturage naturel | G65: 5.671 | K65: NON | L65: AR
A66: BLOMME | B66: Butte 4 | D66: POUEMBOUT | E66: Nord | F66: Paturage naturel | G66: 3.904 | K66: NON | L66: AR
A67: BLOMME | B67: Butte 3 | D67: POUEMBOUT | E67: Nord | F67: Paturage naturel | G67: 5.765 | K67: NON | L67: AR
A68: BLOMME | B68: Butte 2 | D68: POUEMBOUT | E68: Nord | F68: Paturage naturel | G68: 8.361 | K68: NON | L68: AR
A69: BLOMME | B69: Butte 1 | D69: POUEMBOUT | E69: Nord | F69: Paturage naturel | G69: 10.007 | K69: NON | L69: AR
A70: BLOMME | B70: Christian | D70: POUEMBOUT | E70: Nord | F70: Paturage ameliore | G70: 4.553 | K70: NON | L70: AR
A71: BLOMME | B71: Virage | D71: POUEMBOUT | E71: Nord | F71: Paturage ameliore | G71: 3.199 | K71: NON | L71: AR
A72: BLOMME | B72: Piscine | D72: POUEMBOUT | E72: Nord | F72: Paturage ameliore | G72: 11.202 | K72: NON | L72: AR
A73: BLOMME | B73: Venise 1 | D73: POUEMBOUT | E73: Nord | F73: Paturage naturel | G73: 13.959 | K73: NON | L73: AR
...

Sheet Exploitation non cartographiées
A1: Nom exploitant | B1: Nom exploitation | C1: Surface déclarée (ha) | D1: Type production | E1: Certification AR | F1: Hors-sol | G1: Province
A2: BOSSARD | B2: Le jardin calédonien | C2: 8.5 | D2: Maraichage | E2: AR | F2: OUI | G2: Sud
A3: BOSSARD | B3: L'ile aux fruits | C3: 10 | D3: Cultures fruitières | E3: AR | F3: NON | G3: Sud
A4: BROSSEAU | B4: Fraisiers de Païta | C4: 2 | D4: Cultures fruitières | E4: AR | F4: OUI | G4: Sud
A5: BROSSEAU | B5: Fraisiers de Païta | C5: 2 | D5: Maraichage | E5: AR | F5: OUI | G5: Sud
A6: MERCIER / FOGLIANI | C6: 0.1 | D6: Tubercules tropicaux | E6: BIO | F6: NON | G6: Sud
A7: SANSONI | B7: Calgae | C7: 0.3 | D7: Maraichage | E7: BIO | F7: NON | G7: Sud
A8: WACKENTALER | C8: 4 | D8: Maraichage | E8: NON | F8: NON | G8: Nord | H8: ar
A9: FOSSIER | B9: Camille | C9: 0.5 | D9: Autres | E9: BIO | F9: NON | G9: Sud
A10: DECLERQ | B10: Micropousses | C10: 1 | D10: Maraichage | E10: BIO | F10: NON | G10: Sud
A11: ROBELIN | B11: SATYA VALLEY | C11: 0.37 | D11: Maraichage | E11: NON | F11: OUI | G11: Sud | H11: ar
A12: BOITEUX | B12: Les jardins suspendus de Bourail | C12: 0.7 | D12: Cultures fruitières | E12: NON | F12: NON | G12: Sud | H12: bio
A13: DESQUIENS | C13: 0.6 | D13: Maraichage | E13: NON | F13: NON | G13: Sud | H13: bio
A14: DUVAL | B14: BD MC SCA | C14: 2 | D14: Cultures fruitières | E14: NON | F14: NON | G14: Sud | H14: ar
A15: GERARD | B15: SCA LA MALT | C15: 1 | D15: Cultures fruitières | E15: NON | F15: NON | G15: Sud | H15: bio
A16: MANOUKIAN | B16: SUPAGREEN | C16: 0.1 | D16: Cultures fruitières | E16: NON | F16: NON | G16: Sud | H16: bio
A21: Adhérents Polynésie
A22: GUILLAUME | B22: Verdeen | C22: 3 | D22: Maraichage | E22: OUI | F22: OUI
A23: VALAIS | B23: Polycultures | C23: 320 | D23: Cultures fourragères | E23: NON | F23: NON

Sheet Synthèse globale 
A1: Exploitation cartographiées dans la base de données REPAIR | D1: Exploitations non cartographiées dans la base de données REPAIR (déclaration des exploitatants) | G1: Totaux
A3: Province Sud | D3: Province Sud | G3: Province Sud | J3: SURFACES CERTIFIEES
A4: Certifiés AR | D4: Certifiés AR | G4: Certifiés AR | J4: Total surfaces | K4: Surfaces cultivées (hors prairies et pâturages)
A5: Type production | B5: Surface totale (ha) | D5: Type production | E5: Surface totale (ha) | G5: Type production | H5: Surface totale (ha) | I5: PS | J5: =H14 -> #VALUE! | K5: =J5-H12 -> #VALUE!
A6: Cultures fruitières | B6: {=SUMIFS(Surface,Type_prod,"Cultures fruitieres",Certifcation,"AR",Province,"Sud")} -> #VALUE! | D6: Cultures fruitières | E6: =SUMIFS('Exploitation non cartographiées'!C$2:C$16,'Exploitation non cartographiées'!D$2:D$16,"Cultures fruitières",'Exploitation non cartographiées'!E$2:E$16,"AR",'Exploitation non cartographiées'!G$2:G$16,"Sud") -> 12 | G6: Cultures fruitières | H6: =B6+E6 -> #VALUE! | I6: PN | J6: =H58 -> #VALUE! | K6: =J6-H56 -> #VALUE!
A7: Céréales | B7: {=SUMIFS(Surface,Type_prod,"Cereales",Certifcation,"AR",Province,"Sud")} -> #VALUE! | D7: Céréales | E7: =SUMIFS('Exploitation non cartographiées'!C$2:C$16,'Exploitation non cartographiées'!D$2:D$16,"Céréales",'Exploitation non cartographiées'!E$2:E$16,"AR",'Exploitation non cartographiées'!G$2:G$16,"Sud") -> 0 | G7: Céréales | H7: =B7+E7 -> #VALUE! | I7: Total | J7: =SUM(J5:J6) -> #VALUE! | K7: =SUM(K5:K6) -> #VALUE!
A8: Maraichage PC | B8: {=SUMIFS(Surface,Type_prod,"Maraichage",Certifcation,"AR",Province,"Sud",HS,"NON")} -> #VALUE! | D8: Maraichage PC | E8: =SUMIFS('Exploitation non cartographiées'!C$2:C$16,'Exploitation non cartographiées'!D$2:D$16,"Maraichage",'Exploitation non cartographiées'!E$2:E$16,"AR",'Exploitation non cartographiées'!F$2:F$16,"NON",'Exploitation non cartographiées'!G$2:G$16,"Sud") -> 0 | G8: Maraichage PC | H8: =B8+E8 -> #VALUE!
A9: Maraichage HS | B9: {=SUMIFS(Surface,Type_prod,"Maraichage",Certifcation,"AR",Province,"Sud",HS,"OUI")} -> #VALUE! | D9: Maraichage HS | E9: =SUMIFS('Exploitation non cartographiées'!C$2:C$16,'Exploitation non cartographiées'!D$2:D$16,"Maraichage",'Exploitation non cartographiées'!E$2:E$16,"AR",'Exploitation non cartographiées'!F$2:F$16,"OUI",'Exploitation non cartographiées'!G$2:G$16,"Sud") -> 10.5 | G9: Maraichage HS | H9: =B9+E9 -> #VALUE! | I9: TOTAL SURF CULT NC | J9: =Graphiques_V10!G14 -> #VALUE! | K9: =K7/J9 -> #VALUE!
A10: Tubercules tropicaux | B10: {=SUMIFS(Surface,Type_prod,"Tubercules tropicaux",Certifcation,"AR",Province,"Sud")} -> #VALUE! | D10: Tubercules tropicaux | E10: =SUMIFS('Exploitation non cartographiées'!C$2:C$16,'Exploitation non cartographiées'!D$2:D$16,"Tubercules tropicaux",'Exploitation non cartographiées'!E$2:E$16,"AR",'Exploitation non cartographiées'!G$2:G$16,"Sud") -> 0 | G10: Tubercules tropicaux | H10: =B10+E10 -> #VALUE! | I10: TOTAL SURF CULT REPAIR | J10: =Graphiques_V10!E14 -> 6112.4 | K10: =K7/J10 -> #VALUE!
A11: Horticulture | B11: {=SUMIFS(Surface,Type_prod,"Horticulture",Certifcation,"AR",Province,"Sud")} -> #VALUE! | D11: Horticulture | E11: =SUMIFS('Exploitation non cartographiées'!C$2:C$16,'Exploitation non cartographiées'!D$2:D$16,"Horticulture",'Exploitation non cartographiées'!E$2:E$16,"AR",'Exploitation non cartographiées'!G$2:G$16,"Sud") -> 0 | G11: Horticulture | H11: =B11+E11 -> #VALUE!
A12: Prairies et pâturages | B12: {=SUMIFS(Surface,Type_prod,"Prairies et paturages",Certifcation,"AR",Province,"Sud")} -> #VALUE! | D12: Prairies et pâturages | E12: =SUMIFS('Exploitation non cartographiées'!C$2:C$16,'Exploitation non cartographiées'!D$2:D$16,"Prairies et pâturages",'Exploitation non cartographiées'!E$2:E$16,"AR",'Exploitation non cartographiées'!G$2:G$16,"Sud") -> 0 | G12: Prairies et pâturages | H12: =E12+B12 -> #VALUE!
A13: Autres | B13: {=SUMIFS(Surface,Type_prod,"Autres",Certifcation,"AR",Province,"Sud")} -> #VALUE! | D13: Autres | E13: =SUMIFS('Exploitation non cartographiées'!C$2:C$16,'Exploitation non cartographiées'!D$2:D$16,"Autres",'Exploitation non cartographiées'!E$2:E$16,"AR",'Exploitation non cartographiées'!G$2:G$16,"Sud") -> 0 | G13: Autres | H13: =B13+E13 -> #VALUE!
A14: Total | B14: =SUM(B6:B13) -> #VALUE! | D14: Total | E14: =SUM(E6:E13) -> 22.5 | G14: Total | H14: =SUM(H6:H13) -> #VALUE!
A15: Exploitation cartographiées | B15: 31 | D15: Nombre exploitations | E15: 3 | G15: Nb d'exploitations | H15: =B15+E15 -> 34
A18: BIOPASIFIKA | D18: BIOPASIFIKA | G18: BIOPASIFIKA
A19: Type production | B19: Surface totale (ha) | D19: Type production | E19: Surface totale (ha) | G19: Type production | H19: Surface totale (ha)
A20: Cultures fruitières | B20: {=SUMIFS(Surface,Type_prod,"Cultures fruitieres",Certifcation,"BIO",Province,"Sud")} -> #VALUE! | D20: Cultures fruitières | E20: =SUMIFS('Exploitation non cartographiées'!C$2:C$16,'Exploitation non cartographiées'!D$2:D$16,"Cultures fruitières",'Exploitation non cartographiées'!E$2:E$16,"BIO",'Exploitation non cartographiées'!G$2:G$16,"Sud") -> 0 | G20: Cultures fruitières | H20: =E20+B20 -> #VALUE!
A21: Céréales | B21: {=SUMIFS(Surface,Type_prod,"Cereales",Certifcation,"BIO",Province,"Sud")} -> #VALUE! | D21: Céréales | E21: =SUMIFS('Exploitation non cartographiées'!C$2:C$16,'Exploitation non cartographiées'!D$2:D$16,"Céréales",'Exploitation non cartographiées'!E$2:E$16,"BIO",'Exploitation non cartographiées'!G$2:G$16,"Sud") -> 0 | G21: Céréales | H21: =E21+B21 -> #VALUE!
A22: Maraichage PC | B22: {=SUMIFS(Surface,Type_prod,"Maraichage",Certifcation,"BIO",Province,"Sud",HS,"NON")} -> #VALUE! | D22: Maraichage PC | E22: =SUMIFS('Exploitation non cartographiées'!C$2:C$16,'Exploitation non cartographiées'!D$2:D$16,"Maraichage",'Exploitation non cartographiées'!E$2:E$16,"BIO",'Exploitation non cartographiées'!F$2:F$16,"NON",'Exploitation non cartographiées'!G$2:G$16,"Sud") -> 1.3 | G22: Maraichage PC | H22: =E22+B22 -> #VALUE!
A23: Maraichage HS | B23: {=SUMIFS(Surface,Type_prod,"Maraichage",Certifcation,"BIO",Province,"Sud",HS,"OUI")} -> #VALUE! | D23: Maraichage HS | E23: =SUMIFS('Exploitation non cartographiées'!C$2:C$16,'Exploitation non cartographiées'!D$2:D$16,"Maraichage",'Exploitation non cartographiées'!E$2:E$16,"BIO",'Exploitation non cartographiées'!F$2:F$16,"OUI",'Exploitation non cartographiées'!G$2:G$16,"Sud") -> 0 | G23: Maraichage HS | H23: =E23+B23 -> #VALUE!
A24: Tubercules tropicaux | B24: {=SUMIFS(Surface,Type_prod,"Tubercules tropicaux",Certifcation,"BIO",Province,"Sud")} -> #VALUE! | D24: Tubercules tropicaux | E24: =SUMIFS('Exploitation non cartographiées'!C$2:C$16,'Exploitation non cartographiées'!D$2:D$16,"Tubercules tropicaux",'Exploitation non cartographiées'!E$2:E$16,"BIO",'Exploitation non cartographiées'!G$2:G$16,"Sud") -> 0.1 | G24: Tubercules tropicaux | H24: =E24+B24 -> #VALUE!
A25: Horticulture | B25: {=SUMIFS(Surface,Type_prod,"Horticulture",Certifcation,"BIO",Province,"Sud")} -> #VALUE! | D25: Horticulture | E25: =SUMIFS('Exploitation non cartographiées'!C$2:C$16,'Exploitation non cartographiées'!D$2:D$16,"Horticulture",'Exploitation non cartographiées'!E$2:E$16,"BIO",'Exploitation non cartographiées'!G$2:G$16,"Sud") -> 0 | G25: Horticulture | H25: =E25+B25 -> #VALUE!
A26: Prairies et pâturages | B26: {=SUMIFS(Surface,Type_prod,"Prairies et paturages",Certifcation,"BIO",Province,"Sud")} -> #VALUE! | D26: Prairies et pâturages | E26: =SUMIFS('Exploitation non cartographiées'!C$2:C$16,'Exploitation non cartographiées'!D$2:D$16,"Prairies et pâturages",'Exploitation non cartographiées'!E$2:E$16,"BIO",'Exploitation non cartographiées'!G$2:G$16,"Sud") -> 0 | G26: Prairies et pâturages | H26: =E26+B26 -> #VALUE!
A27: Autres | B27: {=SUMIFS(Surface,Type_prod,"Autres",Certifcation,"BIO",Province,"Sud")} -> #VALUE! | D27: Autres | E27: =SUMIFS('Exploitation non cartographiées'!C$2:C$16,'Exploitation non cartographiées'!D$2:D$16,"Autres",'Exploitation non cartographiées'!E$2:E$16,"BIO",'Exploitation non cartographiées'!G$2:G$16,"Sud") -> 0.5 | G27: Autres | H27: =E27+B27 -> #VALUE!
A28: Total | B28: =SUM(B20:B27) -> #VALUE! | D28: Total | E28: =SUM(E20:E27) -> 1.9 | G28: Total | H28: =SUM(H20:H27) -> #VALUE!
A29: Exploitation cartographiées | B29: 5 | D29: Nbre cartographiées | E29: 3 | G29: Nbre cartographiées | H29: =E29+B29 -> 8
A32: Non certifiés | D32: Non certifiés | G32: Non certifiés
A33: Type production | B33: Surface totale (ha) | D33: Type production | E33: Surface totale (ha) | G33: Type production | H33: Surface totale (ha)
A34: Cultures fruitières | B34: {=SUMIFS(Surface,Type_prod,"Cultures fruitieres",Certifcation,"NON",Province,"Sud")} -> #VALUE! | D34: Cultures fruitières | E34: =SUMIFS('Exploitation non cartographiées'!C$2:C$16,'Exploitation non cartographiées'!D$2:D$16,"Cultures fruitières",'Exploitation non cartographiées'!E$2:E$16,"NON",'Exploitation non cartographiées'!G2:G16,"Sud") -> 3.8 | G34: Cultures fruitières | H34: =B34+E34 -> #VALUE!
A35: Céréales | B35: {=SUMIFS(Surface,Type_prod,"Cereales",Certifcation,"NON",Province,"Sud")} -> #VALUE! | D35: Céréales | E35: =SUMIFS('Exploitation non cartographiées'!C$2:C$16,'Exploitation non cartographiées'!D$2:D$16,"Céréales",'Exploitation non cartographiées'!E$2:E$16,"NON",'Exploitation non cartographiées'!G2:G16,"Sud") -> 0 | G35: Céréales | H35: =B35+E35 -> #VALUE!
A36: Maraichage PC | B36: {=SUMIFS(Surface,Type_prod,"Maraichage",Certifcation,"NON",Province,"Sud",HS,"NON")} -> #VALUE! | D36: Maraichage PC | E36: =SUMIFS('Exploitation non cartographiées'!C$2:C$16,'Exploitation non cartographiées'!D$2:D$16,"Maraichage",'Exploitation non cartographiées'!E$2:E$16,"NON",'Exploitation non cartographiées'!F2:F16,"NON",'Exploitation non cartographiées'!G2:G16,"Sud") -> 0.6 | G36: Maraichage PC | H36: =B36+E36 -> #VALUE!
A37: Maraichage HS | B37: {=SUMIFS(Surface,Type_prod,"Maraichage",Certifcation,"NON",Province,"Sud",HS,"OUI")} -> #VALUE! | D37: Maraichage HS | E37: =SUMIFS('Exploitation non cartographiées'!C$2:C$16,'Exploitation non cartographiées'!D$2:D$16,"Maraichage",'Exploitation non cartographiées'!E$2:E$16,"NON",'Exploitation non cartographiées'!F2:F16,"OUI",'Exploitation non cartographiées'!G2:G16,"Sud") -> 0.37 | G37: Maraichage HS | H37: =B37+E37 -> #VALUE!
A38: Tubercules tropicaux | B38: {=SUMIFS(Surface,Type_prod,"Tubercules tropicaux",Certifcation,"NON",Province,"Sud")} -> #VALUE! | D38: Tubercules tropicaux | E38: =SUMIFS('Exploitation non cartographiées'!C$2:C$16,'Exploitation non cartographiées'!D$2:D$16,"Tubercules tropicaux",'Exploitation non cartographiées'!E$2:E$16,"NON",'Exploitation non cartographiées'!G2:G16,"Sud") -> 0 | G38: Tubercules tropicaux | H38: =B38+E38 -> #VALUE!
A39: Horticulture | B39: {=SUMIFS(Surface,Type_prod,"Horticulture",Certifcation,"NON",Province,"Sud")} -> #VALUE! | D39: Horticulture | E39: =SUMIFS('Exploitation non cartographiées'!C$2:C$16,'Exploitation non cartographiées'!D$2:D$16,"Horticulture",'Exploitation non cartographiées'!E$2:E$16,"NON",'Exploitation non cartographiées'!G2:G16,"Sud") -> 0 | G39: Horticulture | H39: =B39+E39 -> #VALUE!
A40: Prairies et pâturages | B40: {=SUMIFS(Surface,Type_prod,"Prairies et paturages",Certifcation,"NON",Province,"Sud")} -> #VALUE! | D40: Prairies et pâturages | E40: =SUMIFS('Exploitation non cartographiées'!C$2:C$16,'Exploitation non cartographiées'!D$2:D$16,"Prairies et pâturages",'Exploitation non cartographiées'!E$2:E$16,"NON",'Exploitation non cartographiées'!G2:G16,"Sud") -> 0 | G40: Prairies et pâturages | H40: =B40+E40 -> #VALUE!
A41: Autres | B41: {=SUMIFS(Surface,Type_prod,"Autres",Certifcation,"NON",Province,"Sud")} -> #VALUE! | D41: Autres | E41: =SUMIFS('Exploitation non cartographiées'!C$2:C$16,'Exploitation non cartographiées'!D$2:D$16,"Autres",'Exploitation non cartographiées'!E$2:E$16,"NON",'Exploitation non cartographiées'!G2:G16,"Sud") -> 0 | G41: Autres | H41: =B41+E41 -> #VALUE!
A42: Total | B42: =SUM(B34:B41) -> #VALUE! | D42: Total | E42: =SUM(E34:E41) -> 4.77 | G42: Total | H42: =SUM(H34:H41) -> #VALUE!
A43: Exploitation cartographiées | B43: 4 | D43: Nombre exploitations | E43: 7 | G43: Nb d'exploitations | H43: =B43+E43 -> 11
A47: Province Nord | D47: Province Nord | G47: Province Nord
A48: Certifiés AR | D48: Certifiés AR | G48: Certifiés AR
...

Sheet Synthèse globale extraction PS
A1: SUPERFICIES DES PRODUCTIONS DU RESEAU REPAIR PAR FILIERE, EN PROVINCE SUD ANNEE 2022
A2: Exploitation cartographiées dans la base de données REPAIR | D2: Exploitations non cartographiées dans la base de données REPAIR (déclaration des exploitatants) | G2: Totaux
A4: Province Sud | D4: Province Sud | G4: Province Sud
A5: Certifiés AR | D5: Certifiés AR | G5: Certifiés AR
A6: Type production | B6: Surface totale (ha) | D6: Type production | E6: Surface totale (ha) | G6: Type production | H6: Surface totale (ha)
A7: Cultures fruitières | B7: =SUMIFS('Extraction carto QGIS'!G$2:G$1247,'Extraction carto QGIS'!F$2:F$1247,"Cultures fruitieres",'Extraction carto QGIS'!L$2:L$1247,"AR",'Extraction carto QGIS'!E$2:E$1247,"Sud") -> 79.291 | D7: Cultures fruitières | E7: =SUMIFS('Exploitation non cartographiées'!C$2:C$16,'Exploitation non cartographiées'!D$2:D$16,"Cultures fruitières",'Exploitation non cartographiées'!E$2:E$16,"AR",'Exploitation non cartographiées'!G$2:G$16,"Sud") -> 12 | G7: Cultures fruitières | H7: =B7+E7 -> 91.291
A8: Céréales | B8: =SUMIFS('Extraction carto QGIS'!G$2:G$1247,'Extraction carto QGIS'!F$2:F$1247,"Cereales",'Extraction carto QGIS'!L$2:L$1247,"AR",'Extraction carto QGIS'!E$2:E$1247,"Sud") -> 39.181 | D8: Céréales | E8: =SUMIFS('Exploitation non cartographiées'!C$2:C$16,'Exploitation non cartographiées'!D$2:D$16,"Céréales",'Exploitation non cartographiées'!E$2:E$16,"AR",'Exploitation non cartographiées'!G$2:G$16,"Sud") -> 0 | G8: Céréales | H8: =B8+E8 -> 39.181
A9: Maraichage PC | B9: =SUMIFS('Extraction carto QGIS'!G$2:G$1247,'Extraction carto QGIS'!F$2:F$1247,"Maraichage",'Extraction carto QGIS'!L$2:L$1247,"AR",'Extraction carto QGIS'!E$2:E$1247,"Sud",'Extraction carto QGIS'!K$2:K$1247,"NON") -> 65.735 | D9: Maraichage PC | E9: =SUMIFS('Exploitation non cartographiées'!C$2:C$16,'Exploitation non cartographiées'!D$2:D$16,"Maraichage",'Exploitation non cartographiées'!E$2:E$16,"AR",'Exploitation non cartographiées'!F$2:F$16,"NON",'Exploitation non cartographiées'!G$2:G$16,"Sud") -> 0 | G9: Maraichage PC | H9: =B9+E9 -> 65.735
A10: Maraichage HS | B10: =SUMIFS('Extraction carto QGIS'!G$2:G$1247,'Extraction carto QGIS'!F$2:F$1247,"Maraichage",'Extraction carto QGIS'!L$2:L$1247,"AR",'Extraction carto QGIS'!E$2:E$1247,"Sud",'Extraction carto QGIS'!K$2:K$1247,"OUI") -> 3.573 | D10: Maraichage HS | E10: =SUMIFS('Exploitation non cartographiées'!C$2:C$16,'Exploitation non cartographiées'!D$2:D$16,"Maraichage",'Exploitation non cartographiées'!E$2:E$16,"AR",'Exploitation non cartographiées'!F$2:F$16,"OUI",'Exploitation non cartographiées'!G$2:G$16,"Sud") -> 10.5 | G10: Maraichage HS | H10: =B10+E10 -> 14.073
A11: Tubercules tropicaux | B11: =SUMIFS('Extraction carto QGIS'!G$2:G1247,'Extraction carto QGIS'!F$2:F$1247,"Tubercules tropicaux",'Extraction carto QGIS'!L$2:L$1247,"AR",'Extraction carto QGIS'!E$2:E$1247,"Sud") -> 2.65 | D11: Tubercules tropicaux | E11: =SUMIFS('Exploitation non cartographiées'!C$2:C$16,'Exploitation non cartographiées'!D$2:D$16,"Tubercules tropicaux",'Exploitation non cartographiées'!E$2:E$16,"AR",'Exploitation non cartographiées'!G$2:G$16,"Sud") -> 0 | G11: Tubercules tropicaux | H11: =B11+E11 -> 2.65
A12: Horticulture | B12: =SUMIFS('Extraction carto QGIS'!G$2:G$1247,'Extraction carto QGIS'!F$2:F$1247,"Horticulture",'Extraction carto QGIS'!L$2:L$1247,"AR",'Extraction carto QGIS'!E$2:E$1247,"Sud") -> 9.865 | D12: Horticulture | E12: =SUMIFS('Exploitation non cartographiées'!C$2:C$16,'Exploitation non cartographiées'!D$2:D$16,"Horticulture",'Exploitation non cartographiées'!E$2:E$16,"AR",'Exploitation non cartographiées'!G$2:G$16,"Sud") -> 0 | G12: Horticulture | H12: =B12+E12 -> 9.865
A13: Prairies et pâturages | B13: =SUMIFS('Extraction carto QGIS'!G$2:G$1247,'Extraction carto QGIS'!F$2:F$1247,"Prairies et paturages",'Extraction carto QGIS'!L$2:L$1247,"AR",'Extraction carto QGIS'!E$2:E$1247,"Sud") -> 0 | D13: Prairies et pâturages | E13: =SUMIFS('Exploitation non cartographiées'!C$2:C$16,'Exploitation non cartographiées'!D$2:D$16,"Prairies et pâturages",'Exploitation non cartographiées'!E$2:E$16,"AR",'Exploitation non cartographiées'!G$2:G$16,"Sud") -> 0 | G13: Prairies et pâturages | H13: =E13+B13 -> 0
A14: Autres | B14: =SUMIFS('Extraction carto QGIS'!G$2:G$1247,'Extraction carto QGIS'!F$2:F$1247,"Autres",'Extraction carto QGIS'!L$2:L$1247,"AR",'Extraction carto QGIS'!E$2:E$1247,"Sud") -> 0 | D14: Autres | E14: =SUMIFS('Exploitation non cartographiées'!C$2:C$16,'Exploitation non cartographiées'!D$2:D$16,"Autres",'Exploitation non cartographiées'!E$2:E$16,"AR",'Exploitation non cartographiées'!G$2:G$16,"Sud") -> 0 | G14: Autres | H14: =B14+E14 -> 0
A15: Total | B15: =SUM(B7:B14) -> 200.295 | D15: Total | E15: =SUM(E7:E14) -> 22.5 | G15: Total | H15: =SUM(H7:H14) -> 222.795
A16: Exploitation cartographiées | B16: 31 | D16: Nombre exploitations | E16: 3 | G16: Nb d'exploitations | H16: =B16+E16 -> 34
A19: BIOPASIFIKA | D19: BIOPASIFIKA | G19: BIOPASIFIKA
A20: Type production | B20: Surface totale (ha) | D20: Type production | E20: Surface totale (ha) | G20: Type production | H20: Surface totale (ha)
A21: Cultures fruitières | B21: =SUMIFS('Extraction carto QGIS'!G$2:G$1247,'Extraction carto QGIS'!F$2:F$1247,"Cultures fruitieres",'Extraction carto QGIS'!L$2:L$1247,"BIO",'Extraction carto QGIS'!E$2:E$1247,"Sud") -> 6.734 | D21: Cultures fruitières | E21: =SUMIFS('Exploitation non cartographiées'!C$2:C$16,'Exploitation non cartographiées'!D$2:D$16,"Cultures fruitières",'Exploitation non cartographiées'!E$2:E$16,"BIO",'Exploitation non cartographiées'!G$2:G$16,"Sud") -> 0 | G21: Cultures fruitières | H21: =E21+B21 -> 6.734
A22: Céréales | B22: =SUMIFS('Extraction carto QGIS'!G$2:G$1247,'Extraction carto QGIS'!F$2:F$1247,"Cereales",'Extraction carto QGIS'!L$2:L$1247,"BIO",'Extraction carto QGIS'!E$2:E$1247,"Sud") -> 0 | D22: Céréales | E22: =SUMIFS('Exploitation non cartographiées'!C$2:C$16,'Exploitation non cartographiées'!D$2:D$16,"Céréales",'Exploitation non cartographiées'!E$2:E$16,"BIO",'Exploitation non cartographiées'!G$2:G$16,"Sud") -> 0 | G22: Céréales | H22: =E22+B22 -> 0
A23: Maraichage PC | B23: =SUMIFS('Extraction carto QGIS'!G$2:G$1247,'Extraction carto QGIS'!F$2:F$1247,"Maraichage",'Extraction carto QGIS'!L$2:L$1247,"BIO",'Extraction carto QGIS'!E$2:E$1247,"Sud",'Extraction carto QGIS'!K$2:K$1247,"NON") -> 10.009 | D23: Maraichage PC | E23: =SUMIFS('Exploitation non cartographiées'!C$2:C$16,'Exploitation non cartographiées'!D$2:D$16,"Maraichage",'Exploitation non cartographiées'!E$2:E$16,"BIO",'Exploitation non cartographiées'!F$2:F$16,"NON",'Exploitation non cartographiées'!G$2:G$16,"Sud") -> 1.3 | G23: Maraichage PC | H23: =E23+B23 -> 11.309
A24: Maraichage HS | B24: =SUMIFS('Extraction carto QGIS'!G$2:G$1247,'Extraction carto QGIS'!F$2:F$1247,"Maraichage",'Extraction carto QGIS'!L$2:L$1247,"BIO",'Extraction carto QGIS'!E$2:E$1247,"Sud",'Extraction carto QGIS'!K$2:K$1247,"OUI") -> 0 | D24: Maraichage HS | E24: =SUMIFS('Exploitation non cartographiées'!C$2:C$16,'Exploitation non cartographiées'!D$2:D$16,"Maraichage",'Exploitation non cartographiées'!E$2:E$16,"BIO",'Exploitation non cartographiées'!F$2:F$16,"OUI",'Exploitation non cartographiées'!G$2:G$16,"Sud") -> 0 | G24: Maraichage HS | H24: =E24+B24 -> 0
A25: Tubercules tropicaux | B25: =SUMIFS('Extraction carto QGIS'!G$2:G$1247,'Extraction carto QGIS'!F$2:F$1247,"Tubercules tropicaux",'Extraction carto QGIS'!L$2:L$1247,"BIO",'Extraction carto QGIS'!E$2:E$1247,"Sud") -> 0 | D25: Tubercules tropicaux | E25: =SUMIFS('Exploitation non cartographiées'!C$2:C$16,'Exploitation non cartographiées'!D$2:D$16,"Tubercules tropicaux",'Exploitation non cartographiées'!E$2:E$16,"BIO",'Exploitation non cartographiées'!G$2:G$16,"Sud") -> 0.1 | G25: Tubercules tropicaux | H25: =E25+B25 -> 0.1
A26: Horticulture | B26: =SUMIFS('Extraction carto QGIS'!G$2:G$1247,'Extraction carto QGIS'!F$2:F$1247,"Horticulture",'Extraction carto QGIS'!L$2:L$1247,"BIO",'Extraction carto QGIS'!E$2:E$1247,"Sud") -> 0.006 | D26: Horticulture | E26: =SUMIFS('Exploitation non cartographiées'!C$2:C$16,'Exploitation non cartographiées'!D$2:D$16,"Horticulture",'Exploitation non cartographiées'!E$2:E$16,"BIO",'Exploitation non cartographiées'!G$2:G$16,"Sud") -> 0 | G26: Horticulture | H26: =E26+B26 -> 0.006
A27: Prairies et pâturages | B27: =SUMIFS('Extraction carto QGIS'!G$2:G$1247,'Extraction carto QGIS'!F$2:F$1247,"Prairies et paturages",'Extraction carto QGIS'!L$2:L$1247,"BIO",'Extraction carto QGIS'!E$2:E$1247,"Sud") -> 0 | D27: Prairies et pâturages | E27: =SUMIFS('Exploitation non cartographiées'!C$2:C$16,'Exploitation non cartographiées'!D$2:D$16,"Prairies et pâturages",'Exploitation non cartographiées'!E$2:E$16,"BIO",'Exploitation non cartographiées'!G$2:G$16,"Sud") -> 0 | G27: Prairies et pâturages | H27: =E27+B27 -> 0
A28: Autres | B28: =SUMIFS('Extraction carto QGIS'!G$2:G$1247,'Extraction carto QGIS'!F$2:F$1247,"Autres",'Extraction carto QGIS'!L$2:L$1247,"BIO",'Extraction carto QGIS'!E$2:E$1247,"Sud") -> 0 | D28: Autres | E28: =SUMIFS('Exploitation non cartographiées'!C$2:C$16,'Exploitation non cartographiées'!D$2:D$16,"Autres",'Exploitation non cartographiées'!E$2:E$16,"BIO",'Exploitation non cartographiées'!G$2:G$16,"Sud") -> 0.5 | G28: Autres | H28: =E28+B28 -> 0.5
A29: Total | B29: =SUM(B21:B28) -> 16.749 | D29: Total | E29: =SUM(E21:E28) -> 1.9 | G29: Total | H29: =SUM(H21:H28) -> 18.649
A30: Exploitation cartographiées | B30: 5 | D30: Nbre cartographiées | E30: 3 | G30: Nbre cartographiées | H30: =E30+B30 -> 8
A33: Non certifiés | D33: Non certifiés | G33: Non certifiés
A34: Type production | B34: Surface totale (ha) | D34: Type production | E34: Surface totale (ha) | G34: Type production | H34: Surface totale (ha)
A35: Cultures fruitières | B35: =SUMIFS('Extraction carto QGIS'!G2:G1247,'Extraction carto QGIS'!F2:F1247,"Cultures fruitieres",'Extraction carto QGIS'!L2:L1247,"NON",'Extraction carto QGIS'!E2:E1247,"Sud") -> 1.1 | D35: Cultures fruitières | E35: =SUMIFS('Exploitation non cartographiées'!C$2:C$16,'Exploitation non cartographiées'!D$2:D$16,"Cultures fruitières",'Exploitation non cartographiées'!E$2:E$16,"NON",'Exploitation non cartographiées'!G2:G16,"Sud") -> 3.8 | G35: Cultures fruitières | H35: =B35+E35 -> 4.9
A36: Céréales | B36: =SUMIFS('Extraction carto QGIS'!G2:G1247,'Extraction carto QGIS'!F2:F1247,"Cereales",'Extraction carto QGIS'!L2:L1247,"NON",'Extraction carto QGIS'!E2:E1247,"Sud") -> 0 | D36: Céréales | E36: =SUMIFS('Exploitation non cartographiées'!C$2:C$16,'Exploitation non cartographiées'!D$2:D$16,"Céréales",'Exploitation non cartographiées'!E$2:E$16,"NON",'Exploitation non cartographiées'!G2:G16,"Sud") -> 0 | G36: Céréales | H36: =B36+E36 -> 0
A37: Maraichage PC | B37: =SUMIFS('Extraction carto QGIS'!G$2:G1247,'Extraction carto QGIS'!F$2:F1247,"Maraichage",'Extraction carto QGIS'!L$2:L1247,"NON",'Extraction carto QGIS'!E$2:E1247,"Sud",'Extraction carto QGIS'!K2:K1247,"NON") -> 1.123 | D37: Maraichage PC | E37: =SUMIFS('Exploitation non cartographiées'!C$2:C$16,'Exploitation non cartographiées'!D$2:D$16,"Maraichage",'Exploitation non cartographiées'!E$2:E$16,"NON",'Exploitation non cartographiées'!F2:F16,"NON",'Exploitation non cartographiées'!G2:G16,"Sud") -> 0.6 | G37: Maraichage PC | H37: =B37+E37 -> 1.723
A38: Maraichage HS | B38: =SUMIFS('Extraction carto QGIS'!G$2:G1247,'Extraction carto QGIS'!F$2:F1247,"Maraichage",'Extraction carto QGIS'!L$2:L1247,"NON",'Extraction carto QGIS'!E$2:E1247,"Sud",'Extraction carto QGIS'!K2:K1247,"OUI") -> 0.172 | D38: Maraichage HS | E38: =SUMIFS('Exploitation non cartographiées'!C$2:C$16,'Exploitation non cartographiées'!D$2:D$16,"Maraichage",'Exploitation non cartographiées'!E$2:E$16,"NON",'Exploitation non cartographiées'!F2:F16,"OUI",'Exploitation non cartographiées'!G2:G16,"Sud") -> 0.37 | G38: Maraichage HS | H38: =B38+E38 -> 0.542
A39: Tubercules tropicaux | B39: =SUMIFS('Extraction carto QGIS'!G2:G1247,'Extraction carto QGIS'!F2:F1247,"Tubercules tropicaux",'Extraction carto QGIS'!L2:L1247,"NON",'Extraction carto QGIS'!E2:E1247,"Sud") -> 0.215 | D39: Tubercules tropicaux | E39: =SUMIFS('Exploitation non cartographiées'!C$2:C$16,'Exploitation non cartographiées'!D$2:D$16,"Tubercules tropicaux",'Exploitation non cartographiées'!E$2:E$16,"NON",'Exploitation non cartographiées'!G2:G16,"Sud") -> 0 | G39: Tubercules tropicaux | H39: =B39+E39 -> 0.215
A40: Horticulture | B40: =SUMIFS('Extraction carto QGIS'!G2:G1247,'Extraction carto QGIS'!F2:F1247,"Horticulture",'Extraction carto QGIS'!L2:L1247,"NON",'Extraction carto QGIS'!E2:E1247,"Sud") -> 0 | D40: Horticulture | E40: =SUMIFS('Exploitation non cartographiées'!C$2:C$16,'Exploitation non cartographiées'!D$2:D$16,"Horticulture",'Exploitation non cartographiées'!E$2:E$16,"NON",'Exploitation non cartographiées'!G2:G16,"Sud") -> 0 | G40: Horticulture | H40: =B40+E40 -> 0
A41: Prairies et pâturages | B41: =SUMIFS('Extraction carto QGIS'!G2:G1247,'Extraction carto QGIS'!F2:F1247,"Prairies et paturages",'Extraction carto QGIS'!L2:L1247,"NON",'Extraction carto QGIS'!E2:E1247,"Sud") -> 0 | D41: Prairies et pâturages | E41: =SUMIFS('Exploitation non cartographiées'!C$2:C$16,'Exploitation non cartographiées'!D$2:D$16,"Prairies et pâturages",'Exploitation non cartographiées'!E$2:E$16,"NON",'Exploitation non cartographiées'!G2:G16,"Sud") -> 0 | G41: Prairies et pâturages | H41: =B41+E41 -> 0
A42: Autres | B42: =SUMIFS('Extraction carto QGIS'!G2:G1247,'Extraction carto QGIS'!F2:F1247,"Autres",'Extraction carto QGIS'!L2:L1247,"NON",'Extraction carto QGIS'!E2:E1247,"Sud") -> 0 | D42: Autres | E42: =SUMIFS('Exploitation non cartographiées'!C$2:C$16,'Exploitation non cartographiées'!D$2:D$16,"Autres",'Exploitation non cartographiées'!E$2:E$16,"NON",'Exploitation non cartographiées'!G2:G16,"Sud") -> 0 | G42: Autres | H42: =B42+E42 -> 0
A43: Total | B43: =SUM(B35:B42) -> 2.61 | D43: Total | E43: =SUM(E35:E42) -> 4.77 | G43: Total | H43: =SUM(H35:H42) -> 7.38
A44: Exploitation cartographiées | B44: 4 | D44: Nombre exploitations | E44: 7 | G44: Nb d'exploitations | H44: =B44+E44 -> 11
M121: =L125+L127+L118+L119 -> 0

Sheet Graphiques_V10
F1: Calcul du % jachère NC à reporter sur surfaces REPAIR | P1: Hectares | U1: Cultures fruitières | V1: 16.8
F2: Surfaces concernées (PC hors vergers) | G2: =(C7-966.3)+C8+C9+C10+C13+C12 -> 5046.4 | P2: Surfaces NC | Q2: Surfaces REPAIR | R2: REPAIR/NC | U2: Céréales | V2: 60.168
F3: % | G3: =C12/G2 -> 0.35332118 | P3: Maraichage | Q3: 1187.8 | R3: 166.5745 | S3: 0.14023783 | U3: Maraichage PC | V3: 75.698
B4: TOTAL NC - CHIFFRES RGA 2012 - Surfaces cultivées | U4: Maraichage HS | V4: 0.03
B5: Type production | C5: Surfaces NC (ha) | D5: % des surf pouvant intégrer des jachères | E5: Surfaces NC (ha) | F5: Surfaces NC (ha) hors REPAIR | G5: Surfaces REPAIR (ha) | H5: Surfaces REPAIR (ha) | I5: Surfaces REPAIR (ha) | J5: Surfaces REPAIR 2019 | K5: dont estim jachère (29%) | L5: Surfaces REPAIR (ha) | M5: REPAIR/NC | P5: Maraîchage hors-sol | Q5: 130.884 | R5: 15.1215 | S5: 0.1155336 | U5: Tubercules tropicaux | V5: 6.444
E6: avec ventilation jachères | F6: hors surf REPAIR | G6: 2022 | H6: 2021 | I6: 2020 | J6: 2019 | P6: Maraichage plein champ | Q6: =Q3-Q5 -> 1056.916 | R6: =R3-R5 -> 151.453 | S6: =R6/Q6 -> 0.1432971 | U6: Horticulture | V6: 0
B7: Cultures fruitières | C7: =966.3+(280.7+146.9+57.4) -> 1451.3 | D7: 0 | E7: =C7 -> 1451.3 | F7: =E7-G7 -> #VALUE! | G7: ='Synthèse globale '!H89 -> #VALUE! | H7: 129.602 | I7: 124.344 | J7: 127.569 | K7: 0 | L7: =G7-K7 -> #VALUE! | M7: =G7/E7 -> #VALUE!
B8: Céréales | C8: =1004.8 -> 1004.8 | D8: =C8/C15 -> 0.36164699 | E8: =C8+(D8*C12) -> 1649.6166 | F8: =E8-G8 -> #VALUE! | G8: ='Synthèse globale '!H90 -> #VALUE! | H8: 123.033 | I8: 102.635 | J8: 128.097 | K8: =G8*29% -> #VALUE! | L8: =G8-K8 -> #VALUE! | M8: =G8/E8 -> #VALUE! | U8: Autres | V8: 0.177
B9: Maraichage | C9: =520.2+546.8+(605.8-280.7-146.9-57.4) -> 1187.8 | D9: =C9/C15 -> 0.42751224 | E9: =C9+(D9*C12) -> 1950.0543 | F9: =E9-G9 -> #VALUE! | G9: ='Synthèse globale '!I105 -> #VALUE! | H9: 143.007 | I9: 162.428 | J9: 172.2215 | K9: =(G9-15)*29% -> #VALUE! | L9: =G9-K9 -> #VALUE! | M9: =G9/E9 -> #VALUE! | P9: Type production | Q9: Surface totale (ha) | R9: PS | S9: PN | T9: Vérif
B10: Tubercules tropicaux | C10: 463 | D10: =C10/C15 -> 0.16664267 | E10: =C10+(D10*C12) -> 760.12388 | F10: =E10-G10 -> #VALUE! | G10: ='Synthèse globale '!H93 -> #VALUE! | H10: 13.13 | I10: 13.472 | J10: 12.698 | K10: =G10*29% -> #VALUE! | L10: =G10-K10 -> #VALUE! | M10: =G10/E10 -> #VALUE! | P10: Cultures fruitières | Q10: ='Synthèse globale '!H89 -> #VALUE! | R10: ='Synthèse globale '!I89 -> #VALUE! | S10: ='Synthèse globale '!J89 -> #VALUE! | T10: =S10+R10-Q10 -> #VALUE!
B11: Horticulture | C11: =86+13.7 -> 99.7 | D11: 0 | E11: =C11 -> 99.7 | F11: =E11-G11 -> #VALUE! | G11: ='Synthèse globale '!H94 -> #VALUE! | H11: 11.98 | I11: 11.307 | J11: 14.034 | K11: 0 | L11: =G11-K11 -> #VALUE! | M11: =G11/E11 -> #VALUE! | P11: Céréales | Q11: ='Synthèse globale '!H90 -> #VALUE! | R11: ='Synthèse globale '!I90 -> #VALUE! | S11: ='Synthèse globale '!J90 -> #VALUE! | T11: =S11+R11-Q11 -> #VALUE!
B12: Jachères | C12: 1783 | E12: 0 | F12: =E12-G12 -> 0 | G12: 0 | H12: 0 | I12: 0 | J12: 0 | K12: 0 | L12: =K7+K8+K9+K10+K11+K12+K13 -> #VALUE! | M12: =G12/E12 -> #DIV/0! | P12: Maraichage PC | Q12: ='Synthèse globale '!H91 -> #VALUE! | R12: ='Synthèse globale '!I91 -> #VALUE! | S12: ='Synthèse globale '!J91 -> #VALUE! | T12: =S12+R12-Q12 -> #VALUE!
B13: Autres (cultures spéciales) | C13: =122.8 -> 122.8 | D13: =C13/C15 -> 0.0441981 | E13: =C13+(D13*C12) -> 201.60521 | F13: =E13-G13 -> #VALUE! | G13: ='Synthèse globale '!H96 -> #VALUE! | H13: 7.033 | I13: 6.277 | J13: 3.632 | K13: =G13*29% -> #VALUE! | L13: =G13-K13 -> #VALUE! | M13: =G13/E13 -> #VALUE! | P13: Maraichage HS | Q13: ='Synthèse globale '!H92 -> #VALUE! | R13: ='Synthèse globale '!I92 -> #VALUE! | S13: ='Synthèse globale '!J92 -> #VALUE! | T13: =S13+R13-Q13 -> #VALUE!
B14: Total | C14: =SUM(C7:C13) -> 6112.4 | D14: =SUM(D7:D13) -> 1 | E14: =SUM(E7:E13) -> 6112.4 | F14: =SUM(F7:F9,F10:F13) -> #VALUE! | G14: =SUM(G7:G13) -> #VALUE! | H14: 427.785 | I14: 420.463 | J14: 458.2515 | K14: =SUM(K7:K13) -> #VALUE! | L14: =SUM(L7:L13) -> #VALUE! | M14: =G14/E21 -> #VALUE! | P14: Tubercules tropicaux | Q14: ='Synthèse globale '!H93 -> #VALUE! | R14: ='Synthèse globale '!I93 -> #VALUE! | S14: ='Synthèse globale '!J93 -> #VALUE! | T14: =S14+R14-Q14 -> #VALUE!
B15: Total des surf pouvant intégrer des jachères | C15: =C14-C12-C7-C11 -> 2778.4 | P15: Horticulture | Q15: ='Synthèse globale '!H94 -> #VALUE! | R15: ='Synthèse globale '!I94 -> #VALUE! | S15: ='Synthèse globale '!J94 -> #VALUE! | T15: =S15+R15-Q15 -> #VALUE!
B16: Autres surfaces SAU | N16: Autres | P16: Autres | Q16: ='Synthèse globale '!H96 -> #VALUE! | R16: ='Synthèse globale '!I96 -> #VALUE! | S16: ='Synthèse globale '!J96 -> #VALUE! | T16: =S16+R16-Q16 -> #VALUE!
B17: Jardins familiaux | E17: 120.3 | G17: 0 | L17: =G17/E17 -> 0 | Q17: =SUM(Q10:Q16) -> #VALUE! | R17: =SUM(R10:R16) -> #VALUE! | S17: =SUM(S10:S16) -> #VALUE! | T17: =S17+R17-Q17 -> #VALUE!
B18: Cocoteraies | E18: 663.9 | G18: 0 | L18: =G18/E18 -> 0
B19: Arbres isolés | E19: 434.9 | G19: 0 | L19: =G19/E19 -> 0
B20: Total autres surfaces | E20: =SUM(E17:E19) -> 1219.1 | G20: 0 | L20: =G20/E20 -> 0
B21: TOTAL SAU (hors prairies et pâturages) | E21: =E14+E20 -> 7331.5 | G21: =G14+G20 -> #VALUE! | L21: =G21/E21 -> #VALUE!
B27: Répartition certifications | C27: Province sud | D27: Province nord | E27: Total
B28: AR | C28: ='Synthèse globale '!H14 -> #VALUE! | D28: ='Synthèse globale '!H58 -> #VALUE! | E28: =C28+D28 -> #VALUE!
B29: BIO PASIFIKA | C29: ='Synthèse globale '!H28 -> #VALUE! | D29: ='Synthèse globale '!H71 -> #VALUE! | E29: =C29+D29 -> #VALUE!
B30: En cours de certification | C30: ='Synthèse globale '!H42 -> #VALUE! | D30: ='Synthèse globale '!H84 -> #VALUE! | E30: =C30+D30 -> #VALUE!
E31: =SUM(E28:E30) -> #VALUE!

Sheet Surfaces moyennes par filières
B1: Surface moyenne des parcelles
A2: Filière | B2: Cartographiées
A3: Maraichage PC | B3: =AVERAGEIFS('Extraction carto QGIS'!G2:G903,'Extraction carto QGIS'!F2:F903,"Maraichage",'Extraction carto QGIS'!K2:K903,"NON") -> 0.22975843
A4: Maraichage HS | B4: =AVERAGEIFS('Extraction carto QGIS'!G2:G903,'Extraction carto QGIS'!F2:F903,"Maraichage",'Extraction carto QGIS'!K2:K903,"OUI") -> 0.03642487
A5: Cultures fruitieres | B5: =AVERAGEIF('Extraction carto QGIS'!F2:F1018,"Cultures fruitieres",'Extraction carto QGIS'!G2:G1018) -> 0.30807634
A6: Cereales | B6: =AVERAGEIF('Extraction carto QGIS'!F2:F1018,"Cereales",'Extraction carto QGIS'!G2:G1018) -> 6.4472857
A7: Tubercules tropicaux | B7: =AVERAGEIF('Extraction carto QGIS'!F2:F903,"Tubercules tropicaux",'Extraction carto QGIS'!G2:G903) -> 0.254875
A8: Horticulture | B8: =AVERAGEIF('Extraction carto QGIS'!F2:F903,"Horticulture",'Extraction carto QGIS'!G2:G903) -> 0.068158621
A9: Prairies et paturages | B9: =AVERAGEIF('Extraction carto QGIS'!F2:F1018,"Prairies et paturages",'Extraction carto QGIS'!G2:G1018) -> #DIV/0!
A10: Autres | B10: =AVERAGEIF('Extraction carto QGIS'!F2:F903,"Autres",'Extraction carto QGIS'!G2:G903) -> #DIV/0!
F11: Surface moyenne consacrée à chaque filière sur les exploitations
A12: Exploitation | B12: Filière | F12: Filière | G12: Superficie
A13: AGRIPRO | B13: Maraichage PC | C13: =SUMIFS('Extraction carto QGIS'!G$2:G$1018,'Extraction carto QGIS'!A$2:A$1018,"AGRIPRO",'Extraction carto QGIS'!F$2:F$1018,"Maraichage",'Extraction carto QGIS'!K$2:K$1018,"NON") -> 0 | F13: Autres | G13: =AVERAGEIFS(C$13:C$452,B$13:B$452,"Autres",C$13:C$452,"<>0") -> #DIV/0!
B14: Maraichage HS | C14: =SUMIFS('Extraction carto QGIS'!G$2:G$1018,'Extraction carto QGIS'!A$2:A$1018,"AGRIPRO",'Extraction carto QGIS'!F$2:F$1018,"Maraichage",'Extraction carto QGIS'!K$2:K$1018,"OUI") -> 0 | F14: Maraichage HS | G14: =AVERAGEIFS(C$13:C$452,B$13:B$452,"Maraichage HS",C$13:C$452,"<>0") -> 0.81023529
B15: Cultures fruitieres | C15: =SUMIFS('Extraction carto QGIS'!G$2:G$1018,'Extraction carto QGIS'!A$2:A$1018,"AGRIPRO",'Extraction carto QGIS'!F$2:F$1018,"Cultures fruitieres") -> 0 | F15: Horticulture | G15: =AVERAGEIFS(C$13:C$452,B$13:B$452,"Horticulture",C$13:C$452,"<>0") -> 2.4178
B16: Cereales | C16: =SUMIFS('Extraction carto QGIS'!G$2:G$1018,'Extraction carto QGIS'!A$2:A$1018,"AGRIPRO",'Extraction carto QGIS'!F$2:F$1018,"Cereales") -> 0 | F16: Tubercules tropicaux | G16: =AVERAGEIFS(C$13:C$452,B$13:B$452,"Tubercules tropicaux",C$13:C$452,"<>0") -> 0.95
B17: Tubercules tropicaux | C17: =SUMIFS('Extraction carto QGIS'!G$2:G$1018,'Extraction carto QGIS'!A$2:A$1018,"AGRIPRO",'Extraction carto QGIS'!F$2:F$1018,"Tubercules tropicaux") -> 0 | F17: Cultures fruitieres | G17: =AVERAGEIFS(C$13:C$452,B$13:B$452,"Cultures fruitieres",C$13:C$452,"<>0") -> 1.3602
B18: Horticulture | C18: =SUMIFS('Extraction carto QGIS'!G$2:G$1018,'Extraction carto QGIS'!A$2:A$1018,"AGRIPRO",'Extraction carto QGIS'!F$2:F$1018,"Horticulture") -> 0 | F18: Maraichage PC | G18: =AVERAGEIFS(C$13:C$452,B$13:B$452,"Maraichage PC",C$13:C$452,"<>0") -> 2.845
B19: Prairies et paturages | C19: =SUMIFS('Extraction carto QGIS'!G$2:G$1018,'Extraction carto QGIS'!A$2:A$1018,"AGRIPRO",'Extraction carto QGIS'!F$2:F$1018,"Prairies et paturages") -> 0 | F19: Cereales | G19: =AVERAGEIFS(C$13:C$452,B$13:B$452,"Cereales",C$13:C$452,"<>0") -> 31.28275
B20: Autres | C20: =SUMIFS('Extraction carto QGIS'!G$2:G$1018,'Extraction carto QGIS'!A$2:A$1018,"AGRIPRO",'Extraction carto QGIS'!F$2:F$1018,"Autres") -> 0 | F20: Prairies et paturages | G20: =AVERAGEIFS(C$13:C$452,B$13:B$452,"Prairies et paturages",C$13:C$452,"<>0") -> #DIV/0!
A21: BARO | B21: Maraichage PC | C21: =SUMIFS('Exploitation non cartographiées'!C2:C7,'Exploitation non cartographiées'!A2:A7,"BARO",'Exploitation non cartographiées'!D2:D7,"Maraichage",'Exploitation non cartographiées'!F2:F7,"NON") -> 0
B22: Maraichage HS | C22: =SUMIFS('Exploitation non cartographiées'!C$2:C$7,'Exploitation non cartographiées'!A$2:A$7,"BARO",'Exploitation non cartographiées'!D$2:D$7,"Maraichage",'Exploitation non cartographiées'!F$2:F$7,"OUI") -> 0
B23: Cultures fruitieres | C23: =SUMIFS('Exploitation non cartographiées'!C$2:C$7,'Exploitation non cartographiées'!A$2:A$7,"BARO",'Exploitation non cartographiées'!D$2:D$7,"Cultures fruitieres") -> 0
B24: Cereales | C24: =SUMIFS('Exploitation non cartographiées'!C$2:C$7,'Exploitation non cartographiées'!A$2:A$7,"BARO",'Exploitation non cartographiées'!D$2:D$7,"Cereales") -> 0
B25: Tubercules tropicaux | C25: =SUMIFS('Exploitation non cartographiées'!C$2:C$7,'Exploitation non cartographiées'!A$2:A$7,"BARO",'Exploitation non cartographiées'!D$2:D$7,"Tubercules tropicaux") -> 0
B26: Horticulture | C26: =SUMIFS('Exploitation non cartographiées'!C$2:C$7,'Exploitation non cartographiées'!A$2:A$7,"BARO",'Exploitation non cartographiées'!D$2:D$7,"Horticulture") -> 0
B27: Prairies et paturages | C27: =SUMIFS('Exploitation non cartographiées'!C$2:C$7,'Exploitation non cartographiées'!A$2:A$7,"BARO",'Exploitation non cartographiées'!D$2:D$7,"Prairies et paturages") -> 0
B28: Autres | C28: =SUMIFS('Exploitation non cartographiées'!C$2:C$7,'Exploitation non cartographiées'!A$2:A$7,"BARO",'Exploitation non cartographiées'!D$2:D$7,"Autres") -> 0
A29: BENARD | B29: Maraichage PC | C29: =SUMIFS('Extraction carto QGIS'!G$2:G$1018,'Extraction carto QGIS'!A$2:A$1018,"BENARD",'Extraction carto QGIS'!F$2:F$1018,"Maraichage",'Extraction carto QGIS'!K$2:K$1018,"NON") -> 5.866
B30: Maraichage HS | C30: =SUMIFS('Extraction carto QGIS'!G$2:G$1018,'Extraction carto QGIS'!A$2:A$1018,"BENARD",'Extraction carto QGIS'!F$2:F$1018,"Maraichage",'Extraction carto QGIS'!K$2:K$1018,"OUI") -> 0.967
B31: Cultures fruitieres | C31: =SUMIFS('Extraction carto QGIS'!G$2:G$1018,'Extraction carto QGIS'!A$2:A$1018,"BENARD",'Extraction carto QGIS'!F$2:F$1018,"Cultures fruitieres") -> 1.682
B32: Cereales | C32: =SUMIFS('Extraction carto QGIS'!G$2:G$1018,'Extraction carto QGIS'!A$2:A$1018,"BENARD",'Extraction carto QGIS'!F$2:F$1018,"Cereales") -> 0
B33: Tubercules tropicaux | C33: =SUMIFS('Extraction carto QGIS'!G$2:G$1018,'Extraction carto QGIS'!A$2:A$1018,"BENARD",'Extraction carto QGIS'!F$2:F$1018,"Tubercules tropicaux") -> 0
B34: Horticulture | C34: =SUMIFS('Extraction carto QGIS'!G$2:G$1018,'Extraction carto QGIS'!A$2:A$1018,"BENARD",'Extraction carto QGIS'!F$2:F$1018,"Horticulture") -> 0.401
B35: Prairies et paturages | C35: =SUMIFS('Extraction carto QGIS'!G$2:G$1018,'Extraction carto QGIS'!A$2:A$1018,"BENARD",'Extraction carto QGIS'!F$2:F$1018,"Prairies et paturages") -> 0
B36: Autres | C36: =SUMIFS('Extraction carto QGIS'!G$2:G$1018,'Extraction carto QGIS'!A$2:A$1018,"BENARD",'Extraction carto QGIS'!F$2:F$1018,"Autres") -> 0
A37: BURGUIERE | B37: Maraichage PC | C37: =SUMIFS('Extraction carto QGIS'!G$2:G$1018,'Extraction carto QGIS'!A$2:A$1018,"BURGUIERE",'Extraction carto QGIS'!F$2:F$1018,"Maraichage",'Extraction carto QGIS'!K$2:K$1018,"NON") -> 0
B38: Maraichage HS | C38: =SUMIFS('Extraction carto QGIS'!G$2:G$1018,'Extraction carto QGIS'!A$2:A$1018,"BURGUIERE",'Extraction carto QGIS'!F$2:F$1018,"Maraichage",'Extraction carto QGIS'!K$2:K$1018,"OUI") -> 0.054
B39: Cultures fruitieres | C39: =SUMIFS('Extraction carto QGIS'!G$2:G$1018,'Extraction carto QGIS'!A$2:A$1018,"BURGUIERE",'Extraction carto QGIS'!F$2:F$1018,"Cultures fruitieres") -> 0
B40: Cereales | C40: =SUMIFS('Extraction carto QGIS'!G$2:G$1018,'Extraction carto QGIS'!A$2:A$1018,"BURGUIERE",'Extraction carto QGIS'!F$2:F$1018,"Cereales") -> 0
...

Sheet SAU des exploitations
A1: Exploitations | B1: SAU (ha) | C1: Filière principale | D1: Province | E1: SAU 2021 (ha) | G1: SAU des exploitations | H1: Total | I1: PS | J1: PN | K1: 2021 | M1: SAU moyenne par province | O1: Nombre | P1: SAU min | Q1: SAU max
A2: BARO | B2: =SUMIF('Extraction carto QGIS'!A2:A1247,A2,'Extraction carto QGIS'!G2:G1247) -> 0 | C2: Maraichage HS | D2: SUD | E2: 0.258 | G2: <1ha | H2: =COUNTIF(B2:B63,"<1") -> 29 | I2: =COUNTIFS($B$2:$B$63,"<1",$D$2:$D$63,"SUD") -> 24 | J2: =COUNTIFS($B$2:$B$63,"<1",$D$2:$D$63,"NORD") -> 5 | K2: 22 | M2: Sud (n=48) | N2: =AVERAGEIF(D2:D63,"SUD",B2:B63) -> 11.164115 | O2: =COUNTIF(D2:D63,"SUD") -> 52 | P2: =_xlfn.MINIFS(B2:B63,D2:D63,"SUD") -> 0 | Q2: =_xlfn.MAXIFS(B2:B63,D2:D63,"SUD") -> 311.19
A3: BENARD | B3: =SUMIF('Extraction carto QGIS'!A2:A1247,A3,'Extraction carto QGIS'!G2:G1247) -> 8.916 | C3: Maraichage HS | D3: SUD | E3: 0.01 | G3: 1ha ≤ SAU < 2ha | H3: =COUNTIFS(B2:B63,">=1",B2:B63,"<2") -> 6 | I3: =COUNTIFS($B$2:$B$63,">=1",$B$2:$B$63,"<2",$D$2:$D$63,"SUD") -> 6 | J3: =COUNTIFS($B$2:$B$63,">=1",$B$2:$B$63,"<2",$D$2:$D$63,"NORD") -> 0 | K3: 3 | M3: Nord (n=9) | N3: =AVERAGEIF(D2:D63,"NORD",B2:B63) -> 30.0416 | O3: =COUNTIF(D2:D63,"NORD") -> 10 | P3: =_xlfn.MINIFS(B2:B63,D2:D63,"NORD") -> 0 | Q3: =_xlfn.MAXIFS(B2:B63,D2:D63,"NORD") -> 167.931
A4: BERTONI Bryan | B4: =SUMIF('Extraction carto QGIS'!A2:A1247,A4,'Extraction carto QGIS'!G2:G1247) -> 0.172 | C4: Maraichage HS | D4: SUD | E4: 8.292 | G4: 2ha ≤ SAU < 5ha | H4: =COUNTIFS(B2:B63,">=2",B2:B63,"<5") -> 7 | I4: =COUNTIFS($B$2:$B$63,">=2",$B$2:$B$63,"<5",$D$2:$D$63,"SUD") -> 5 | J4: =COUNTIFS($B$2:$B$63,">=2",$B$2:$B$63,"<5",$D$2:$D$63,"NORD") -> 2 | K4: 12
A5: BLOMME | B5: =SUMIF('Extraction carto QGIS'!A2:A1247,A5,'Extraction carto QGIS'!G2:G1247) -> 167.931 | C5: Céréales | D5: NORD | E5: 0.72 | G5: 5ha ≤ SAU < 10ha | H5: =COUNTIFS(B2:B63,">=5",B2:B63,"<10") -> 7 | I5: =COUNTIFS($B$2:$B$63,">=5",$B$2:$B$63,"<10",$D$2:$D$63,"SUD") -> 7 | J5: =COUNTIFS($B$2:$B$63,">=5",$B$2:$B$63,"<10",$D$2:$D$63,"NORD") -> 0 | K5: 6
A6: BOCAHUT | B6: =SUMIF('Extraction carto QGIS'!A2:A1247,A6,'Extraction carto QGIS'!G2:G1247) -> 0.742 | C6: Maraichage HS | D6: SUD | E6: 158.88 | G6: 10ha ≤ SAU < 20ha | H6: =COUNTIFS(B2:B63,">=10",B2:B63,"<20") -> 8 | I6: =COUNTIFS($B$2:$B$63,">=10",$B$2:$B$63,"<20",$D$2:$D$63,"SUD") -> 7 | J6: =COUNTIFS($B$2:$B$63,">=10",$B$2:$B$63,"<20",$D$2:$D$63,"NORD") -> 1 | K6: 7
A7: BOSSARD | B7: 8.5 | C7: Maraichage HS | D7: SUD | E7: 0.875 | G7: 20ha ≤ SAU < 50ha | H7: =COUNTIFS(B2:B63,">=20",B2:B63,"<50") -> 1 | I7: =COUNTIFS($B$2:$B$63,">=20",$B$2:$B$63,"<50",$D$2:$D$63,"SUD") -> 1 | J7: =COUNTIFS($B$2:$B$63,">=20",$B$2:$B$63,"<50",$D$2:$D$63,"NORD") -> 0 | K7: 1
A8: BOSSARD | B8: 10 | C8: Cultures fruitières | D8: SUD | E8: 8.5 | G8: 50ha ≤ SAU < 100ha | H8: =COUNTIFS(B2:B63,">=50",B2:B63,"<100") -> 1 | I8: =COUNTIFS($B$2:$B$63,">=50",$B$2:$B$63,"<100",$D$2:$D$63,"SUD") -> 1 | J8: =COUNTIFS($B$2:$B$63,">=50",$B$2:$B$63,"<100",$D$2:$D$63,"NORD") -> 0 | K8: 3
A9: BOSSY | B9: =SUMIF('Extraction carto QGIS'!A2:A1247,A9,'Extraction carto QGIS'!G2:G1247) -> 0.946 | C9: Maraichage | D9: NORD | E9: 10 | G9: 100ha ≤ SAU < 500ha | H9: =COUNTIFS(B2:B63,">=100",B2:B63,"<500") -> 3 | I9: =COUNTIFS($B$2:$B$63,">=100",$B$2:$B$63,"<500",$D$2:$D$63,"SUD") -> 1 | J9: =COUNTIFS($B$2:$B$63,">=100",$B$2:$B$63,"<500",$D$2:$D$63,"NORD") -> 2 | K9: 3
A10: BOUGAULT | B10: =SUMIF('Extraction carto QGIS'!A2:A1247,A10,'Extraction carto QGIS'!G2:G1247) -> 0.29 | C10: Horticulture | D10: SUD | E10: 0.158 | G10: ≥500 ha | H10: =COUNTIF(B2:B63,">=500") -> 0 | I10: =COUNTIFS($B$2:$B$63,">=500",$D$2:$D$63,"SUD") -> 0 | J10: =COUNTIFS($B$2:$B$63,">=500",$D$2:$D$63,"NORD") -> 0 | K10: 0
A11: BROSSEAU | B11: 4 | C11: Maraichage HS | D11: SUD | E11: 4 | H11: =SUM(H2:H10) -> 62 | I11: =SUM(I2:I10) -> 52 | J11: =SUM(J2:J10) -> 10 | K11: =SUM(K2:K10) -> 57
A12: BUGEON - LOBATO | B12: =SUMIF('Extraction carto QGIS'!A2:A1247,A12,'Extraction carto QGIS'!G2:G1247) -> 5.364 | C12: Cultures fruitières | D12: SUD | E12: 0.158
A13: CALMELS Yvann | B13: =SUMIF('Extraction carto QGIS'!A2:A1247,A13,'Extraction carto QGIS'!G2:G1247) -> 1.07 | C13: Maraichage HS | D13: SUD | E13: 4
A14: CARNIER BANNY | B14: =SUMIF('Extraction carto QGIS'!A2:A1247,A14,'Extraction carto QGIS'!G2:G1247) -> 11.069 | C14: Maraichage | D14: SUD | E14: 2.366
A15: CHATELAIN | B15: =SUMIF('Extraction carto QGIS'!A2:A1247,A15,'Extraction carto QGIS'!G2:G1247) -> 1.461 | C15: Maraichage HS | D15: SUD | E15: 0.521
A16: CHRISTY | B16: =SUMIF('Extraction carto QGIS'!A2:A1247,A16,'Extraction carto QGIS'!G2:G1247) -> 2.534 | C16: Maraichage HS | D16: SUD | E16: 11.823
A17: COLOMINA | B17: =SUMIF('Extraction carto QGIS'!A2:A1247,A17,'Extraction carto QGIS'!G2:G1247) -> 0 | C17: Maraichage HS | D17: SUD | E17: 14.382 | G17: SAU moyenne 2022 | I17: Nbr d'exploitations | J17: SAU min | K17: SAU max
A18: CUGOLA | B18: =SUMIF('Extraction carto QGIS'!A2:A1247,A18,'Extraction carto QGIS'!G2:G1247) -> 17.036 | C18: Maraichage | D18: SUD | E18: 5.663 | G18: Maraichage | H18: =AVERAGEIF(C2:C63,G18,B2:B63) -> 31.103167 | I18: =COUNTIF(C2:C63,G18) -> 12 | J18: =_xlfn.MINIFS(B2:B63,C2:C63,G18) -> 0 | K18: =_xlfn.MAXIFS(B2:B63,C2:C63,G18) -> 311.19
A19: DECLERQ | B19: 1 | C19: Horticulture | D19: SUD | E19: 2.537 | G19: Maraichage HS | H19: =AVERAGEIF(C2:C63,G19,B2:B63) -> 2.022 | I19: =COUNTIF(C2:C63,G19) -> 18 | J19: =_xlfn.MINIFS(B2:B63,C2:C63,G19) -> 0 | K19: =_xlfn.MAXIFS(B2:B63,C2:C63,G19) -> 8.916
A20: DELATHIERE | B20: =SUMIF('Extraction carto QGIS'!A2:A1247,A20,'Extraction carto QGIS'!G2:G1247) -> 6.111 | C20: Tubercules tropicaux | D20: SUD | E20: 4.744 | G20: Cultures fruitières | H20: =AVERAGEIF(C2:C63,G20,B2:B63) -> 16.957857 | I20: =COUNTIF(C2:C63,G20) -> 14 | J20: =_xlfn.MINIFS(B2:B63,C2:C63,G20) -> 0 | K20: =_xlfn.MAXIFS(B2:B63,C2:C63,G20) -> 111.166
A21: DUSSIREY | B21: =SUMIF('Extraction carto QGIS'!A2:A1247,A21,'Extraction carto QGIS'!G2:G1247) -> 2.726 | C21: Maraichage | D21: SUD | E21: 0.004 | G21: Tubercules tropicaux | H21: =AVERAGEIF(C2:C63,G21,B2:B63) -> 3.739 | I21: =COUNTIF(C2:C63,G21) -> 4 | J21: =_xlfn.MINIFS(B2:B63,C2:C63,G21) -> 0 | K21: =_xlfn.MAXIFS(B2:B63,C2:C63,G21) -> 8.745
A22: FOGLIANI | B22: 0.1 | C22: Tubercules tropicaux | D22: SUD | E22: 0.3 | G22: Céréales | H22: =AVERAGEIF(C2:C63,G22,B2:B63) -> 167.931 | I22: =COUNTIF(C2:C63,G22) -> 1 | J22: =_xlfn.MINIFS(B2:B63,C2:C63,G22) -> 167.931 | K22: =_xlfn.MAXIFS(B2:B63,C2:C63,G22) -> 167.931
A23: FOSSIER | B23: 0.5 | C23: Autres | D23: SUD | E23: 2 | G23: Horticulture | H23: =AVERAGEIF(C2:C63,G23,B2:B63) -> 3.1254 | I23: =COUNTIF(C2:C63,G23) -> 5 | J23: =_xlfn.MINIFS(B2:B63,C2:C63,G23) -> 0 | K23: =_xlfn.MAXIFS(B2:B63,C2:C63,G23) -> 14.043
A24: HAPPY CULTURES | B24: =SUMIF('Extraction carto QGIS'!A2:A1247,A24,'Extraction carto QGIS'!G2:G1247) -> 8.745 | C24: Tubercules tropicaux | D24: SUD | E24: 0.924 | G24: Autres | H24: =AVERAGEIF(C2:C63,G24,B2:B63) -> 0.969 | I24: =COUNTIF(C2:C63,G24) -> 3 | J24: =_xlfn.MINIFS(B2:B63,C2:C63,G24) -> 0 | K24: =_xlfn.MAXIFS(B2:B63,C2:C63,G24) -> 2.407
A25: HATTE | B25: =SUMIF('Extraction carto QGIS'!A2:A1247,A25,'Extraction carto QGIS'!G2:G1247) -> 0.021 | C25: Maraichage HS | D25: SUD | E25: 85 | G25: Total | H25: =AVERAGE(B2:B63) -> 14.208871 | I25: =SUM(I18:I24) -> 57
A26: HOARAU | B26: =SUMIF('Extraction carto QGIS'!A2:A1247,A26,'Extraction carto QGIS'!G2:G1247) -> 0.376 | C26: Cultures fruitières | D26: NORD | E26: 5.5 | G26: SAU moyenne 2021 | I26: Nbr d'exploitations | J26: SAU min | K26: SAU max
A27: LOZACH | B27: =SUMIF('Extraction carto QGIS'!A2:A1247,A27,'Extraction carto QGIS'!G2:G1247) -> 1.956 | C27: Maraichage HS | D27: SUD | E27: 0.02 | G27: Maraichage | H27: 21.312353 | I27: 17 | J27: 0.158 | K27: 300.386
A28: MAGRI | B28: =SUMIF('Extraction carto QGIS'!A2:A1247,A28,'Extraction carto QGIS'!G2:G1247) -> 0.008 | C28: Maraichage HS | D28: SUD | E28: 0.1 | G28: Maraichage HS | H28: 1.8218 | I28: 15 | J28: 0.004 | K28: 8.5
A29: MOGLIA | B29: =SUMIF('Extraction carto QGIS'!A2:A1247,A29,'Extraction carto QGIS'!G2:G1247) -> 311.19 | C29: Maraichage | D29: SUD | E29: 300.386 | G29: Cultures fruitières | H29: 26.205375 | I29: 8 | J29: 2.242 | K29: 104.909
A30: MOISSON | B30: =SUMIF('Extraction carto QGIS'!A2:A1247,A30,'Extraction carto QGIS'!G2:G1247) -> 0.103 | C30: Maraichage HS | D30: SUD | E30: 0.12 | G30: Tubercules tropicaux | H30: 2.0516 | I30: 5 | J30: 0.1 | K30: 5.663
A31: MOURINET | B31: =SUMIF('Extraction carto QGIS'!A2:A1247,A31,'Extraction carto QGIS'!G2:G1247) -> 2.407 | C31: Autres | D31: SUD | E31: 2.242 | G31: Céréales | H31: 99.885 | I31: 3 | J31: 55.775 | K31: 158.88
A32: NATUREL | B32: =SUMIF('Extraction carto QGIS'!A2:A1247,A32,'Extraction carto QGIS'!G2:G1247) -> 1.313 | C32: Maraichage | D32: SUD | E32: 0.5 | G32: Horticulture | H32: 6.883 | I32: 5 | J32: 0.158 | K32: 25.458
A33: NIAUTOU | B33: =SUMIF('Extraction carto QGIS'!A2:A1247,A33,'Extraction carto QGIS'!G2:G1247) -> 5.934 | C33: Maraichage HS | D33: SUD | E33: 0.18 | G33: Autres | H33: 1.21 | I33: 1 | J33: 1.21 | K33: 1.21
A34: OLLIVIER | B34: =SUMIF('Extraction carto QGIS'!A2:A1247,A34,'Extraction carto QGIS'!G2:G1247) -> 8.606 | C34: Maraichage | D34: SUD | E34: 8.036 | G34: Total | H34: 16.848772 | I34: 54
A35: OLLIVIER C | B35: =SUMIF('Extraction carto QGIS'!A2:A1247,A35,'Extraction carto QGIS'!G2:G1247) -> 40.848 | C35: Cultures fruitières | D35: SUD | E35: 55.775
A36: OLLIVIER MD | B36: =SUMIF('Extraction carto QGIS'!A2:A1247,A36,'Extraction carto QGIS'!G2:G1247) -> 19.322 | C36: Maraichage | D36: SUD | E36: 1.267
A37: ORCAN | B37: =SUMIF('Extraction carto QGIS'!A2:A1247,A37,'Extraction carto QGIS'!G2:G1247) -> 0 | C37: Tubercules tropicaux | D37: NORD | E37: 0.1
A38: PEPINIERE ISLAY | B38: =SUMIF('Extraction carto QGIS'!A2:A1247,A38,'Extraction carto QGIS'!G2:G1247) -> 0.294 | C38: Horticulture | D38: SUD | E38: 25.458
A39: PEPINIERE TAMOA | B39: =SUMIF('Extraction carto QGIS'!A2:A1247,A39,'Extraction carto QGIS'!G2:G1247) -> 14.043 | C39: Horticulture | D39: SUD | E39: 0.858
A40: PERSAN | B40: =SUMIF('Extraction carto QGIS'!A2:A1247,A40,'Extraction carto QGIS'!G2:G1247) -> 0.347 | C40: Cultures fruitières | D40: SUD | E40: 0.04
...

Sheet DAVAR_2019 et RGA 2012
B1: ESTIMATION DAVAR 2019 (enquêtes mensuelles) - Cf. Mail Caroline Fulchiron pour précisions les estimations
B3: CLASSIF REPAIR : "CULTURES MARAICHERES" | E3: CLASSIF REPAIR "TUBERCULES TROPICAUX"
B4: 2019 | C4: Surfaces (ha) | E4: 2019 | F4: Surfaces (ha)
B5: Fruits | C5: 95.7 | E5: Tubercules tropicaux | F5: 54.3
B6: PASTEQUE | C6: 62.2 | E6: PATATE DOUCE | F6: 25.8
B7: MELON | C7: 33.5 | E7: IGNAME | F7: 18.4
B8: Légumes | C8: 733 | E8: TARO D'EAU | F8: 5.3
B9: SALADES | C9: 182.3 | E9: MANIOC | F9: 3.5
B10: CHOU CHINE | C10: 78.8 | E10: TARO BOURBON | F10: 0.7
B11: COURGETTE | C11: 65.9 | E11: TARO MONTAGNE | F11: 0.5
B12: OIGNON | C12: 58.4 | E12: TARO WALLIS | F12: 0.1
B13: CONCOMBRE VERT BLANC | C13: 53.4
B14: CAROTTE | C14: 50.7
B15: TOMATE | C15: 47.1
B16: CHOU VERT | C16: 30.2
B17: CITROUILLE ET COURGE | C17: 26.7
B18: FINES HERBES | C18: 22.2
B19: POIVRONS | C19: 15.9
B20: CONCOMBRE TELEGRAPHE | C20: 12.4
B21: MAIS DOUX | C21: 11.7
B22: CHOU-FLEUR | C22: 10.2
B23: HARICOT VERT | C23: 10.2
B24: POIREAU | C24: 9.4
... B33: AUTRES | C33: 7.9
B36: 2018 | C36: Part hors sol estimée par rapport aux surfaces totales | D36: Estimation surfaces HS 2019
B37: CHOU CHINE | C37: 0.09 | D37: =C10*C37 -> 7.092
B38: CONCOMBRES | C38: 0.12 | D38: =C13*C38 -> 6.408
B39: SALADES | C39: 0.59 | D39: =C9*C39 -> 107.557
B40: TOMATES | C40: 0.59 | D40: =C15*C40 -> 27.789
B41: FINES HERBES | C41: 0.15 | D41: =C18*C41 -> 3.33
B42: TOTAL | C42: 0.39 | D42: =SUM(D37:D41) -> 152.176
B43: NB : surfaces développées estimées / source : enquête mensuelle DAVAR
