Workbook

Sheet TABLEAU
A1: PESEE DECHETTERIE
A2: Designation du Déchet | B2: Code nomenclature | C2: Poids | J2: TOTAL kg | K2: Date | L2: Fait par:
A3: 1. Autres goudrons et bitumes | B3: =IF(A3=CODE!$B$2,CODE!$A$2,IF(A3=CODE!$B$3,CODE!$A$3,IF(A3=CODE!$B$4,CODE!$A$4,IF(A3=CODE!$B$5,CODE!$A$5,IF(A3=CODE!$B$6,CODE!$A$6,IF(A3=CODE!$B$7,CODE!$A$7,IF(A3=CODE!$B$8,CODE!$A$8,IF(A3=CODE!$B$9,CODE!$A$9,IF(A3=CODE!$B$10,CODE!$A$10,IF(A3=CODE!$B$11,CODE!$A$11,IF(A3=CODE!$B$12,CODE!$A$12,IF(A3=CODE!$B$13,CODE!$A$13,IF(A3=CODE!$B$14,CODE!$A$14,IF(A3=CODE!$B$15,CODE!$A$15,IF(A3=CODE!$B$16,CODE!$A$16,IF(A3=CODE!$B$17,CODE!$A$17,IF(A3=CODE!$B$18,CODE!$A$18,IF(A3=CODE!$B$19,CODE!$A$19,IF(A3=CODE!$B$20,CODE!$A$20,IF(A3=CODE!$B$21,CODE!$A$21,IF(A3=CODE!$B$22,CODE!$A$22,IF(A3=CODE!$B$23,CODE!$A$23,IF(A3=CODE!$B$24,CODE!$A$24,IF(A3=CODE!$B$25,CODE!$A$25,IF(A3=CODE!$B$26,CODE!$A$26,IF(A3=CODE!$B$27,CODE!$A$27,IF(A3=CODE!$B$28,CODE!$A$28,IF(A3=CODE!$B$29,CODE!$A$29,)))))))))))))))))))))))))))) -> 05 01 08*
A4: 26. Piles et accumulateurs visés aux rubriques 16 06 01, 16 06 02 ou 16 06 03 et piles et accumulateurs non triés contenant ces piles | B4: =IF(A4=CODE!$B$2,CODE!$A$2,IF(A4=CODE!$B$3,CODE!$A$3,IF(A4=CODE!$B$4,CODE!$A$4,IF(A4=CODE!$B$5,CODE!$A$5,IF(A4=CODE!$B$6,CODE!$A$6,IF(A4=CODE!$B$7,CODE!$A$7,IF(A4=CODE!$B$8,CODE!$A$8,IF(A4=CODE!$B$9,CODE!$A$9,IF(A4=CODE!$B$10,CODE!$A$10,IF(A4=CODE!$B$11,CODE!$A$11,IF(A4=CODE!$B$12,CODE!$A$12,IF(A4=CODE!$B$13,CODE!$A$13,IF(A4=CODE!$B$14,CODE!$A$14,IF(A4=CODE!$B$15,CODE!$A$15,IF(A4=CODE!$B$16,CODE!$A$16,IF(A4=CODE!$B$17,CODE!$A$17,IF(A4=CODE!$B$18,CODE!$A$18,IF(A4=CODE!$B$19,CODE!$A$19,IF(A4=CODE!$B$20,CODE!$A$20,IF(A4=CODE!$B$21,CODE!$A$21,IF(A4=CODE!$B$22,CODE!$A$22,IF(A4=CODE!$B$23,CODE!$A$23,IF(A4=CODE!$B$24,CODE!$A$24,IF(A4=CODE!$B$25,CODE!$A$25,IF(A4=CODE!$B$26,CODE!$A$26,IF(A4=CODE!$B$27,CODE!$A$27,IF(A4=CODE!$B$28,CODE!$A$28,IF(A4=CODE!$B$29,CODE!$A$29,)))))))))))))))))))))))))))) -> 20 01 33*
A5: 11. Déchets de toner d'impression contenant des substances dangereuses | B5: =IF(A5=CODE!$B$2,CODE!$A$2,IF(A5=CODE!$B$3,CODE!$A$3,IF(A5=CODE!$B$4,CODE!$A$4,IF(A5=CODE!$B$5,CODE!$A$5,IF(A5=CODE!$B$6,CODE!$A$6,IF(A5=CODE!$B$7,CODE!$A$7,IF(A5=CODE!$B$8,CODE!$A$8,IF(A5=CODE!$B$9,CODE!$A$9,IF(A5=CODE!$B$10,CODE!$A$10,IF(A5=CODE!$B$11,CODE!$A$11,IF(A5=CODE!$B$12,CODE!$A$12,IF(A5=CODE!$B$13,CODE!$A$13,IF(A5=CODE!$B$14,CODE!$A$14,IF(A5=CODE!$B$15,CODE!$A$15,IF(A5=CODE!$B$16,CODE!$A$16,IF(A5=CODE!$B$17,CODE!$A$17,IF(A5=CODE!$B$18,CODE!$A$18,IF(A5=CODE!$B$19,CODE!$A$19,IF(A5=CODE!$B$20,CODE!$A$20,IF(A5=CODE!$B$21,CODE!$A$21,IF(A5=CODE!$B$22,CODE!$A$22,IF(A5=CODE!$B$23,CODE!$A$23,IF(A5=CODE!$B$24,CODE!$A$24,IF(A5=CODE!$B$25,CODE!$A$25,IF(A5=CODE!$B$26,CODE!$A$26,IF(A5=CODE!$B$27,CODE!$A$27,IF(A5=CODE!$B$28,CODE!$A$28,IF(A5=CODE!$B$29,CODE!$A$29,)))))))))))))))))))))))))))) -> 08 03 17*
B6: =IF(A6=CODE!$B$2,CODE!$A$2,IF(A6=CODE!$B$3,CODE!$A$3,IF(A6=CODE!$B$4,CODE!$A$4,IF(A6=CODE!$B$5,CODE!$A$5,IF(A6=CODE!$B$6,CODE!$A$6,IF(A6=CODE!$B$7,CODE!$A$7,IF(A6=CODE!$B$8,CODE!$A$8,IF(A6=CODE!$B$9,CODE!$A$9,IF(A6=CODE!$B$10,CODE!$A$10,IF(A6=CODE!$B$11,CODE!$A$11,IF(A6=CODE!$B$12,CODE!$A$12,IF(A6=CODE!$B$13,CODE!$A$13,IF(A6=CODE!$B$14,CODE!$A$14,IF(A6=CODE!$B$15,CODE!$A$15,IF(A6=CODE!$B$16,CODE!$A$16,IF(A6=CODE!$B$17,CODE!$A$17,IF(A6=CODE!$B$18,CODE!$A$18,IF(A6=CODE!$B$19,CODE!$A$19,IF(A6=CODE!$B$20,CODE!$A$20,IF(A6=CODE!$B$21,CODE!$A$21,IF(A6=CODE!$B$22,CODE!$A$22,IF(A6=CODE!$B$23,CODE!$A$23,IF(A6=CODE!$B$24,CODE!$A$24,IF(A6=CODE!$B$25,CODE!$A$25,IF(A6=CODE!$B$26,CODE!$A$26,IF(A6=CODE!$B$27,CODE!$A$27,IF(A6=CODE!$B$28,CODE!$A$28,IF(A6=CODE!$B$29,CODE!$A$29,)))))))))))))))))))))))))))) -> 0
B7: =IF(A7=CODE!$B$2,CODE!$A$2,IF(A7=CODE!$B$3,CODE!$A$3,IF(A7=CODE!$B$4,CODE!$A$4,IF(A7=CODE!$B$5,CODE!$A$5,IF(A7=CODE!$B$6,CODE!$A$6,IF(A7=CODE!$B$7,CODE!$A$7,IF(A7=CODE!$B$8,CODE!$A$8,IF(A7=CODE!$B$9,CODE!$A$9,IF(A7=CODE!$B$10,CODE!$A$10,IF(A7=CODE!$B$11,CODE!$A$11,IF(A7=CODE!$B$12,CODE!$A$12,IF(A7=CODE!$B$13,CODE!$A$13,IF(A7=CODE!$B$14,CODE!$A$14,IF(A7=CODE!$B$15,CODE!$A$15,IF(A7=CODE!$B$16,CODE!$A$16,IF(A7=CODE!$B$17,CODE!$A$17,IF(A7=CODE!$B$18,CODE!$A$18,IF(A7=CODE!$B$19,CODE!$A$19,IF(A7=CODE!$B$20,CODE!$A$20,IF(A7=CODE!$B$21,CODE!$A$21,IF(A7=CODE!$B$22,CODE!$A$22,IF(A7=CODE!$B$23,CODE!$A$23,IF(A7=CODE!$B$24,CODE!$A$24,IF(A7=CODE!$B$25,CODE!$A$25,IF(A7=CODE!$B$26,CODE!$A$26,IF(A7=CODE!$B$27,CODE!$A$27,IF(A7=CODE!$B$28,CODE!$A$28,IF(A7=CODE!$B$29,CODE!$A$29,)))))))))))))))))))))))))))) -> 0
B8: =IF(A8=CODE!$B$2,CODE!$A$2,IF(A8=CODE!$B$3,CODE!$A$3,IF(A8=CODE!$B$4,CODE!$A$4,IF(A8=CODE!$B$5,CODE!$A$5,IF(A8=CODE!$B$6,CODE!$A$6,IF(A8=CODE!$B$7,CODE!$A$7,IF(A8=CODE!$B$8,CODE!$A$8,IF(A8=CODE!$B$9,CODE!$A$9,IF(A8=CODE!$B$10,CODE!$A$10,IF(A8=CODE!$B$11,CODE!$A$11,IF(A8=CODE!$B$12,CODE!$A$12,IF(A8=CODE!$B$13,CODE!$A$13,IF(A8=CODE!$B$14,CODE!$A$14,IF(A8=CODE!$B$15,CODE!$A$15,IF(A8=CODE!$B$16,CODE!$A$16,IF(A8=CODE!$B$17,CODE!$A$17,IF(A8=CODE!$B$18,CODE!$A$18,IF(A8=CODE!$B$19,CODE!$A$19,IF(A8=CODE!$B$20,CODE!$A$20,IF(A8=CODE!$B$21,CODE!$A$21,IF(A8=CODE!$B$22,CODE!$A$22,IF(A8=CODE!$B$23,CODE!$A$23,IF(A8=CODE!$B$24,CODE!$A$24,IF(A8=CODE!$B$25,CODE!$A$25,IF(A8=CODE!$B$26,CODE!$A$26,IF(A8=CODE!$B$27,CODE!$A$27,IF(A8=CODE!$B$28,CODE!$A$28,IF(A8=CODE!$B$29,CODE!$A$29,)))))))))))))))))))))))))))) -> 0
B9: =IF(A9=CODE!$B$2,CODE!$A$2,IF(A9=CODE!$B$3,CODE!$A$3,IF(A9=CODE!$B$4,CODE!$A$4,IF(A9=CODE!$B$5,CODE!$A$5,IF(A9=CODE!$B$6,CODE!$A$6,IF(A9=CODE!$B$7,CODE!$A$7,IF(A9=CODE!$B$8,CODE!$A$8,IF(A9=CODE!$B$9,CODE!$A$9,IF(A9=CODE!$B$10,CODE!$A$10,IF(A9=CODE!$B$11,CODE!$A$11,IF(A9=CODE!$B$12,CODE!$A$12,IF(A9=CODE!$B$13,CODE!$A$13,IF(A9=CODE!$B$14,CODE!$A$14,IF(A9=CODE!$B$15,CODE!$A$15,IF(A9=CODE!$B$16,CODE!$A$16,IF(A9=CODE!$B$17,CODE!$A$17,IF(A9=CODE!$B$18,CODE!$A$18,IF(A9=CODE!$B$19,CODE!$A$19,IF(A9=CODE!$B$20,CODE!$A$20,IF(A9=CODE!$B$21,CODE!$A$21,IF(A9=CODE!$B$22,CODE!$A$22,IF(A9=CODE!$B$23,CODE!$A$23,IF(A9=CODE!$B$24,CODE!$A$24,IF(A9=CODE!$B$25,CODE!$A$25,IF(A9=CODE!$B$26,CODE!$A$26,IF(A9=CODE!$B$27,CODE!$A$27,IF(A9=CODE!$B$28,CODE!$A$28,IF(A9=CODE!$B$29,CODE!$A$29,)))))))))))))))))))))))))))) -> 0
B10: =IF(A10=CODE!$B$2,CODE!$A$2,IF(A10=CODE!$B$3,CODE!$A$3,IF(A10=CODE!$B$4,CODE!$A$4,IF(A10=CODE!$B$5,CODE!$A$5,IF(A10=CODE!$B$6,CODE!$A$6,IF(A10=CODE!$B$7,CODE!$A$7,IF(A10=CODE!$B$8,CODE!$A$8,IF(A10=CODE!$B$9,CODE!$A$9,IF(A10=CODE!$B$10,CODE!$A$10,IF(A10=CODE!$B$11,CODE!$A$11,IF(A10=CODE!$B$12,CODE!$A$12,IF(A10=CODE!$B$13,CODE!$A$13,IF(A10=CODE!$B$14,CODE!$A$14,IF(A10=CODE!$B$15,CODE!$A$15,IF(A10=CODE!$B$16,CODE!$A$16,IF(A10=CODE!$B$17,CODE!$A$17,IF(A10=CODE!$B$18,CODE!$A$18,IF(A10=CODE!$B$19,CODE!$A$19,IF(A10=CODE!$B$20,CODE!$A$20,IF(A10=CODE!$B$21,CODE!$A$21,IF(A10=CODE!$B$22,CODE!$A$22,IF(A10=CODE!$B$23,CODE!$A$23,IF(A10=CODE!$B$24,CODE!$A$24,IF(A10=CODE!$B$25,CODE!$A$25,IF(A10=CODE!$B$26,CODE!$A$26,IF(A10=CODE!$B$27,CODE!$A$27,IF(A10=CODE!$B$28,CODE!$A$28,IF(A10=CODE!$B$29,CODE!$A$29,)))))))))))))))))))))))))))) -> 0
B11: =IF(A11=CODE!$B$2,CODE!$A$2,IF(A11=CODE!$B$3,CODE!$A$3,IF(A11=CODE!$B$4,CODE!$A$4,IF(A11=CODE!$B$5,CODE!$A$5,IF(A11=CODE!$B$6,CODE!$A$6,IF(A11=CODE!$B$7,CODE!$A$7,IF(A11=CODE!$B$8,CODE!$A$8,IF(A11=CODE!$B$9,CODE!$A$9,IF(A11=CODE!$B$10,CODE!$A$10,IF(A11=CODE!$B$11,CODE!$A$11,IF(A11=CODE!$B$12,CODE!$A$12,IF(A11=CODE!$B$13,CODE!$A$13,IF(A11=CODE!$B$14,CODE!$A$14,IF(A11=CODE!$B$15,CODE!$A$15,IF(A11=CODE!$B$16,CODE!$A$16,IF(A11=CODE!$B$17,CODE!$A$17,IF(A11=CODE!$B$18,CODE!$A$18,IF(A11=CODE!$B$19,CODE!$A$19,IF(A11=CODE!$B$20,CODE!$A$20,IF(A11=CODE!$B$21,CODE!$A$21,IF(A11=CODE!$B$22,CODE!$A$22,IF(A11=CODE!$B$23,CODE!$A$23,IF(A11=CODE!$B$24,CODE!$A$24,IF(A11=CODE!$B$25,CODE!$A$25,IF(A11=CODE!$B$26,CODE!$A$26,IF(A11=CODE!$B$27,CODE!$A$27,IF(A11=CODE!$B$28,CODE!$A$28,IF(A11=CODE!$B$29,CODE!$A$29,)))))))))))))))))))))))))))) -> 0
B12: =IF(A12=CODE!$B$2,CODE!$A$2,IF(A12=CODE!$B$3,CODE!$A$3,IF(A12=CODE!$B$4,CODE!$A$4,IF(A12=CODE!$B$5,CODE!$A$5,IF(A12=CODE!$B$6,CODE!$A$6,IF(A12=CODE!$B$7,CODE!$A$7,IF(A12=CODE!$B$8,CODE!$A$8,IF(A12=CODE!$B$9,CODE!$A$9,IF(A12=CODE!$B$10,CODE!$A$10,IF(A12=CODE!$B$11,CODE!$A$11,IF(A12=CODE!$B$12,CODE!$A$12,IF(A12=CODE!$B$13,CODE!$A$13,IF(A12=CODE!$B$14,CODE!$A$14,IF(A12=CODE!$B$15,CODE!$A$15,IF(A12=CODE!$B$16,CODE!$A$16,IF(A12=CODE!$B$17,CODE!$A$17,IF(A12=CODE!$B$18,CODE!$A$18,IF(A12=CODE!$B$19,CODE!$A$19,IF(A12=CODE!$B$20,CODE!$A$20,IF(A12=CODE!$B$21,CODE!$A$21,IF(A12=CODE!$B$22,CODE!$A$22,IF(A12=CODE!$B$23,CODE!$A$23,IF(A12=CODE!$B$24,CODE!$A$24,IF(A12=CODE!$B$25,CODE!$A$25,IF(A12=CODE!$B$26,CODE!$A$26,IF(A12=CODE!$B$27,CODE!$A$27,IF(A12=CODE!$B$28,CODE!$A$28,IF(A12=CODE!$B$29,CODE!$A$29,)))))))))))))))))))))))))))) -> 0
B13: =IF(A13=CODE!$B$2,CODE!$A$2,IF(A13=CODE!$B$3,CODE!$A$3,IF(A13=CODE!$B$4,CODE!$A$4,IF(A13=CODE!$B$5,CODE!$A$5,IF(A13=CODE!$B$6,CODE!$A$6,IF(A13=CODE!$B$7,CODE!$A$7,IF(A13=CODE!$B$8,CODE!$A$8,IF(A13=CODE!$B$9,CODE!$A$9,IF(A13=CODE!$B$10,CODE!$A$10,IF(A13=CODE!$B$11,CODE!$A$11,IF(A13=CODE!$B$12,CODE!$A$12,IF(A13=CODE!$B$13,CODE!$A$13,IF(A13=CODE!$B$14,CODE!$A$14,IF(A13=CODE!$B$15,CODE!$A$15,IF(A13=CODE!$B$16,CODE!$A$16,IF(A13=CODE!$B$17,CODE!$A$17,IF(A13=CODE!$B$18,CODE!$A$18,IF(A13=CODE!$B$19,CODE!$A$19,IF(A13=CODE!$B$20,CODE!$A$20,IF(A13=CODE!$B$21,CODE!$A$21,IF(A13=CODE!$B$22,CODE!$A$22,IF(A13=CODE!$B$23,CODE!$A$23,IF(A13=CODE!$B$24,CODE!$A$24,IF(A13=CODE!$B$25,CODE!$A$25,IF(A13=CODE!$B$26,CODE!$A$26,IF(A13=CODE!$B$27,CODE!$A$27,IF(A13=CODE!$B$28,CODE!$A$28,IF(A13=CODE!$B$29,CODE!$A$29,)))))))))))))))))))))))))))) -> 0
B14: =IF(A14=CODE!$B$2,CODE!$A$2,IF(A14=CODE!$B$3,CODE!$A$3,IF(A14=CODE!$B$4,CODE!$A$4,IF(A14=CODE!$B$5,CODE!$A$5,IF(A14=CODE!$B$6,CODE!$A$6,IF(A14=CODE!$B$7,CODE!$A$7,IF(A14=CODE!$B$8,CODE!$A$8,IF(A14=CODE!$B$9,CODE!$A$9,IF(A14=CODE!$B$10,CODE!$A$10,IF(A14=CODE!$B$11,CODE!$A$11,IF(A14=CODE!$B$12,CODE!$A$12,IF(A14=CODE!$B$13,CODE!$A$13,IF(A14=CODE!$B$14,CODE!$A$14,IF(A14=CODE!$B$15,CODE!$A$15,IF(A14=CODE!$B$16,CODE!$A$16,IF(A14=CODE!$B$17,CODE!$A$17,IF(A14=CODE!$B$18,CODE!$A$18,IF(A14=CODE!$B$19,CODE!$A$19,IF(A14=CODE!$B$20,CODE!$A$20,IF(A14=CODE!$B$21,CODE!$A$21,IF(A14=CODE!$B$22,CODE!$A$22,IF(A14=CODE!$B$23,CODE!$A$23,IF(A14=CODE!$B$24,CODE!$A$24,IF(A14=CODE!$B$25,CODE!$A$25,IF(A14=CODE!$B$26,CODE!$A$26,IF(A14=CODE!$B$27,CODE!$A$27,IF(A14=CODE!$B$28,CODE!$A$28,IF(A14=CODE!$B$29,CODE!$A$29,)))))))))))))))))))))))))))) -> 0
B15: =IF(A15=CODE!$B$2,CODE!$A$2,IF(A15=CODE!$B$3,CODE!$A$3,IF(A15=CODE!$B$4,CODE!$A$4,IF(A15=CODE!$B$5,CODE!$A$5,IF(A15=CODE!$B$6,CODE!$A$6,IF(A15=CODE!$B$7,CODE!$A$7,IF(A15=CODE!$B$8,CODE!$A$8,IF(A15=CODE!$B$9,CODE!$A$9,IF(A15=CODE!$B$10,CODE!$A$10,IF(A15=CODE!$B$11,CODE!$A$11,IF(A15=CODE!$B$12,CODE!$A$12,IF(A15=CODE!$B$13,CODE!$A$13,IF(A15=CODE!$B$14,CODE!$A$14,IF(A15=CODE!$B$15,CODE!$A$15,IF(A15=CODE!$B$16,CODE!$A$16,IF(A15=CODE!$B$17,CODE!$A$17,IF(A15=CODE!$B$18,CODE!$A$18,IF(A15=CODE!$B$19,CODE!$A$19,IF(A15=CODE!$B$20,CODE!$A$20,IF(A15=CODE!$B$21,CODE!$A$21,IF(A15=CODE!$B$22,CODE!$A$22,IF(A15=CODE!$B$23,CODE!$A$23,IF(A15=CODE!$B$24,CODE!$A$24,IF(A15=CODE!$B$25,CODE!$A$25,IF(A15=CODE!$B$26,CODE!$A$26,IF(A15=CODE!$B$27,CODE!$A$27,IF(A15=CODE!$B$28,CODE!$A$28,IF(A15=CODE!$B$29,CODE!$A$29,)))))))))))))))))))))))))))) -> 0
B16: =IF(A16=CODE!$B$2,CODE!$A$2,IF(A16=CODE!$B$3,CODE!$A$3,IF(A16=CODE!$B$4,CODE!$A$4,IF(A16=CODE!$B$5,CODE!$A$5,IF(A16=CODE!$B$6,CODE!$A$6,IF(A16=CODE!$B$7,CODE!$A$7,IF(A16=CODE!$B$8,CODE!$A$8,IF(A16=CODE!$B$9,CODE!$A$9,IF(A16=CODE!$B$10,CODE!$A$10,IF(A16=CODE!$B$11,CODE!$A$11,IF(A16=CODE!$B$12,CODE!$A$12,IF(A16=CODE!$B$13,CODE!$A$13,IF(A16=CODE!$B$14,CODE!$A$14,IF(A16=CODE!$B$15,CODE!$A$15,IF(A16=CODE!$B$16,CODE!$A$16,IF(A16=CODE!$B$17,CODE!$A$17,IF(A16=CODE!$B$18,CODE!$A$18,IF(A16=CODE!$B$19,CODE!$A$19,IF(A16=CODE!$B$20,CODE!$A$20,IF(A16=CODE!$B$21,CODE!$A$21,IF(A16=CODE!$B$22,CODE!$A$22,IF(A16=CODE!$B$23,CODE!$A$23,IF(A16=CODE!$B$24,CODE!$A$24,IF(A16=CODE!$B$25,CODE!$A$25,IF(A16=CODE!$B$26,CODE!$A$26,IF(A16=CODE!$B$27,CODE!$A$27,IF(A16=CODE!$B$28,CODE!$A$28,IF(A16=CODE!$B$29,CODE!$A$29,)))))))))))))))))))))))))))) -> 0
B17: =IF(A17=CODE!$B$2,CODE!$A$2,IF(A17=CODE!$B$3,CODE!$A$3,IF(A17=CODE!$B$4,CODE!$A$4,IF(A17=CODE!$B$5,CODE!$A$5,IF(A17=CODE!$B$6,CODE!$A$6,IF(A17=CODE!$B$7,CODE!$A$7,IF(A17=CODE!$B$8,CODE!$A$8,IF(A17=CODE!$B$9,CODE!$A$9,IF(A17=CODE!$B$10,CODE!$A$10,IF(A17=CODE!$B$11,CODE!$A$11,IF(A17=CODE!$B$12,CODE!$A$12,IF(A17=CODE!$B$13,CODE!$A$13,IF(A17=CODE!$B$14,CODE!$A$14,IF(A17=CODE!$B$15,CODE!$A$15,IF(A17=CODE!$B$16,CODE!$A$16,IF(A17=CODE!$B$17,CODE!$A$17,IF(A17=CODE!$B$18,CODE!$A$18,IF(A17=CODE!$B$19,CODE!$A$19,IF(A17=CODE!$B$20,CODE!$A$20,IF(A17=CODE!$B$21,CODE!$A$21,IF(A17=CODE!$B$22,CODE!$A$22,IF(A17=CODE!$B$23,CODE!$A$23,IF(A17=CODE!$B$24,CODE!$A$24,IF(A17=CODE!$B$25,CODE!$A$25,IF(A17=CODE!$B$26,CODE!$A$26,IF(A17=CODE!$B$27,CODE!$A$27,IF(A17=CODE!$B$28,CODE!$A$28,IF(A17=CODE!$B$29,CODE!$A$29,)))))))))))))))))))))))))))) -> 0
... B30: =IF(A30=CODE!$B$2,CODE!$A$2,IF(A30=CODE!$B$3,CODE!$A$3,IF(A30=CODE!$B$4,CODE!$A$4,IF(A30=CODE!$B$5,CODE!$A$5,IF(A30=CODE!$B$6,CODE!$A$6,IF(A30=CODE!$B$7,CODE!$A$7,IF(A30=CODE!$B$8,CODE!$A$8,IF(A30=CODE!$B$9,CODE!$A$9,IF(A30=CODE!$B$10,CODE!$A$10,IF(A30=CODE!$B$11,CODE!$A$11,IF(A30=CODE!$B$12,CODE!$A$12,IF(A30=CODE!$B$13,CODE!$A$13,IF(A30=CODE!$B$14,CODE!$A$14,IF(A30=CODE!$B$15,CODE!$A$15,IF(A30=CODE!$B$16,CODE!$A$16,IF(A30=CODE!$B$17,CODE!$A$17,IF(A30=CODE!$B$18,CODE!$A$18,IF(A30=CODE!$B$19,CODE!$A$19,IF(A30=CODE!$B$20,CODE!$A$20,IF(A30=CODE!$B$21,CODE!$A$21,IF(A30=CODE!$B$22,CODE!$A$22,IF(A30=CODE!$B$23,CODE!$A$23,IF(A30=CODE!$B$24,CODE!$A$24,IF(A30=CODE!$B$25,CODE!$A$25,IF(A30=CODE!$B$26,CODE!$A$26,IF(A30=CODE!$B$27,CODE!$A$27,IF(A30=CODE!$B$28,CODE!$A$28,IF(A30=CODE!$B$29,CODE!$A$29,)))))))))))))))))))))))))))) -> 0

Sheet CODE
A2: 05 01 08* | B2: 1. Autres goudrons et bitumes
A3: 15 02 02* | B3: 2. Absorbants, matériaux filtrants (y compris les filtres à huile non spécifiés ailleurs), chiffons d'essuyage et vêtements de protection contaminés par des substances dangereuses
A4: 16 06 01* | B4: 3. Accumulateurs au plomb
A5: 16 01 14* | B5: 4. Antigels contenant des substances dangereuses
A6: 16 04 03* | B6: 5. Autres déchets d'explosifs
A7: 16 06 05 | B7: 6. Autres piles et accumulateurs
A8: 13 05 02* | B8: 7. Boues provenant de séparateurs eau/hydrocarbures
A9: 16 01 21* | B9: 8. Composants dangereux autres que ceux visés aux rubriques 16 01 07 à 16 01 11, 16 01 13 et 16 01 14
A10: 16 07 08* | B10: 9. Déchets contenant des hydrocarbures
A11: 08 01 11* | B11: 10. Déchets de peintures et vernis contenant des solvants organiques ou d'autres substances dangereuses
A12: 08 03 17* | B12: 11. Déchets de toner d'impression contenant des substances dangereuses
A13: 16 03 05* | B13: 12. Déchets d'origine organique contenant des substances dangereuses
... A29: 20 01 21* | B29: 29. Tubes fluorescents et autres déchets contenant du mercure

Sheet Etiquette
A1: PESEE DECHETTERIE
A2: Designation du Déchet
A3: Code nomenclature
A4: Poids
A5: Date
