Workbook
Name années: listes!$F$3:$F$36
Name HRDV: Tableau1[Heure]
Name jours: 'JOURS FERIES '!$B$2:$B$13
Name JRDV: TACHES!$B$4:$B$7
Name mois: Tableau3[[#All],[Colonne1]]
Name pays: #REF!
Name Saisir_Année: 'JOURS FERIES '!$B$1
Name zones_vacances: [1]Vacances!$E$2:$Z$2

Sheet AGENDA
M2: ANNEE | N2: =EOMONTH($E$4,0) -> 42704
A3: ANNEE | B3: 2016
E4: =listes!D3+0 -> 42675 | F4: =E4+1 -> 42676 | G4: =F4+1 -> 42677 | H4: =G4+1 -> 42678 | I4: =H4+1 -> 42679 | J4: =I4+1 -> 42680 | K4: =J4+1 -> 42681 | L4: =K4+1 -> 42682 | M4: =L4+1 -> 42683 | ... AF4: =AE4+1 -> 42702 | AG4: =IF($AF$4+1<=EOMONTH($E$4,0),AF$4+1,"") -> 42703 | AH4: =IF($AF$4+1<=EOMONTH($E$4,0),AG$4+1,"") -> 42704 | AI4: =IF($AF$4+1<=EOMONTH($E$4,0),AH$4+1,"") -> 42705
E5: =E4 -> 42675 | F5: =F4 -> 42676 | G5: =G4 -> 42677 | H5: =H4 -> 42678 | I5: =I4 -> 42679 | J5: =J4 -> 42680 | K5: =K4 -> 42681 | L5: =L4 -> 42682 | ... AI5: =AI4 -> 42705
D6: 0.33333333 | E6: =IF(AND((COUNTIF(JRDV,E$4)>=1),COUNTIF(HRDV,$D6)>=1),VLOOKUP(E$4+$D6,Tableau1[],4,FALSE),"") | F6: =IF(AND((COUNTIF(JRDV,F$4)>=1),COUNTIF(HRDV,$D6)>=1),VLOOKUP(F$4+$D6,Tableau1[],4,FALSE),"") | G6: =IF(AND((COUNTIF(JRDV,G$4)>=1),COUNTIF(HRDV,$D6)>=1),VLOOKUP(G$4+$D6,Tableau1[],4,FALSE),"") -> M Durand | H6: =IF(AND((COUNTIF(JRDV,H$4)>=1),COUNTIF(HRDV,$D6)>=1),VLOOKUP(H$4+$D6,Tableau1[],4,FALSE),"") -> rdv chris | I6: =IF(AND((COUNTIF(JRDV,I$4)>=1),COUNTIF(HRDV,$D6)>=1),TACHES!H4,"") | J6: =IF(AND((COUNTIF(JRDV,J$4)>=1),COUNTIF(HRDV,$D6)>=1),TACHES!I4,"") | K6: =IF(AND((COUNTIF(JRDV,K$4)>=1),COUNTIF(HRDV,$D6)>=1),TACHES!J4,"") | L6: =IF(AND((COUNTIF(JRDV,L$4)>=1),COUNTIF(HRDV,$D6)>=1),TACHES!K4,"") | M6: =IF(AND((COUNTIF(JRDV,M$4)>=1),COUNTIF(HRDV,$D6)>=1),TACHES!L4,"") | N6: =IF(AND((COUNTIF(JRDV,N$4)>=1),COUNTIF(HRDV,$D6)>=1),TACHES!M4,"") | O6: =IF(AND((COUNTIF(JRDV,O$4)>=1),COUNTIF(HRDV,$D6)>=1),TACHES!N4,"") | P6: =IF(AND((COUNTIF(JRDV,P$4)>=1),COUNTIF(HRDV,$D6)>=1),TACHES!O4,"") | ... AI6: =IF(AND((COUNTIF(JRDV,AI$4)>=1),COUNTIF(HRDV,$D6)>=1),TACHES!AH4,"")
D7: 0.35416667 | E7: =IF(AND((COUNTIF(JRDV,E$4)>=1),COUNTIF(HRDV,$D7)>=1),TACHES!D5,"") | F7: =IF(AND((COUNTIF(JRDV,F$4)>=1),COUNTIF(HRDV,$D7)>=1),TACHES!E5,"") | G7: =IF(AND((COUNTIF(JRDV,G$4)>=1),COUNTIF(HRDV,$D7)>=1),TACHES!F5,"") | H7: =IF(AND((COUNTIF(JRDV,H$4)>=1),COUNTIF(HRDV,$D7)>=1),VLOOKUP(H$4+$D7,Tableau1[],4,FALSE),"") | I7: =IF(AND((COUNTIF(JRDV,I$4)>=1),COUNTIF(HRDV,$D7)>=1),TACHES!H5,"") | J7: =IF(AND((COUNTIF(JRDV,J$4)>=1),COUNTIF(HRDV,$D7)>=1),TACHES!I5,"") | K7: =IF(AND((COUNTIF(JRDV,K$4)>=1),COUNTIF(HRDV,$D7)>=1),TACHES!J5,"") | L7: =IF(AND((COUNTIF(JRDV,L$4)>=1),COUNTIF(HRDV,$D7)>=1),TACHES!K5,"") | M7: =IF(AND((COUNTIF(JRDV,M$4)>=1),COUNTIF(HRDV,$D7)>=1),TACHES!L5,"") | N7: =IF(AND((COUNTIF(JRDV,N$4)>=1),COUNTIF(HRDV,$D7)>=1),TACHES!M5,"") | O7: =IF(AND((COUNTIF(JRDV,O$4)>=1),COUNTIF(HRDV,$D7)>=1),TACHES!N5,"") | P7: =IF(AND((COUNTIF(JRDV,P$4)>=1),COUNTIF(HRDV,$D7)>=1),TACHES!O5,"") | ... AI7: =IF(AND((COUNTIF(JRDV,AI$4)>=1),COUNTIF(HRDV,$D7)>=1),TACHES!AH5,"")
D8: 0.375 | E8: =IF(AND((COUNTIF(JRDV,E$4)>=1),COUNTIF(HRDV,$D8)>=1),TACHES!D6,"") | F8: =IF(AND((COUNTIF(JRDV,F$4)>=1),COUNTIF(HRDV,$D8)>=1),TACHES!E6,"") | H8: =IF(AND((COUNTIF(JRDV,H$4)>=1),COUNTIF(HRDV,$D8)>=1),VLOOKUP(H$4+$D8,Tableau1[],4,FALSE),"") -> RDV AMANDINE | I8: =IF(AND((COUNTIF(JRDV,I$4)>=1),COUNTIF(HRDV,$D8)>=1),TACHES!H6,"") | J8: =IF(AND((COUNTIF(JRDV,J$4)>=1),COUNTIF(HRDV,$D8)>=1),TACHES!I6,"") | K8: =IF(AND((COUNTIF(JRDV,K$4)>=1),COUNTIF(HRDV,$D8)>=1),TACHES!J6,"") | L8: =IF(AND((COUNTIF(JRDV,L$4)>=1),COUNTIF(HRDV,$D8)>=1),TACHES!K6,"") | M8: =IF(AND((COUNTIF(JRDV,M$4)>=1),COUNTIF(HRDV,$D8)>=1),TACHES!L6,"") | N8: =IF(AND((COUNTIF(JRDV,N$4)>=1),COUNTIF(HRDV,$D8)>=1),TACHES!M6,"") | O8: =IF(AND((COUNTIF(JRDV,O$4)>=1),COUNTIF(HRDV,$D8)>=1),TACHES!N6,"") | P8: =IF(AND((COUNTIF(JRDV,P$4)>=1),COUNTIF(HRDV,$D8)>=1),TACHES!O6,"") | ... AI8: =IF(AND((COUNTIF(JRDV,AI$4)>=1),COUNTIF(HRDV,$D8)>=1),TACHES!AH6,"")
D9: 0.39583333 | E9: =IF(AND((COUNTIF(JRDV,E$4)>=1),COUNTIF(HRDV,$D9)>=1),TACHES!D7,"") | F9: =IF(AND((COUNTIF(JRDV,F$4)>=1),COUNTIF(HRDV,$D9)>=1),TACHES!E7,"") | G9: =IF(AND((COUNTIF(JRDV,G$4)>=1),COUNTIF(HRDV,$D9)>=1),TACHES!F7,"") | H9: =IF(AND((COUNTIF(JRDV,H$4)>=1),COUNTIF(HRDV,$D9)>=1),TACHES!G7,"") | I9: =IF(AND((COUNTIF(JRDV,I$4)>=1),COUNTIF(HRDV,$D9)>=1),TACHES!H7,"") | J9: =IF(AND((COUNTIF(JRDV,J$4)>=1),COUNTIF(HRDV,$D9)>=1),TACHES!I7,"") | K9: =IF(AND((COUNTIF(JRDV,K$4)>=1),COUNTIF(HRDV,$D9)>=1),TACHES!J7,"") | L9: =IF(AND((COUNTIF(JRDV,L$4)>=1),COUNTIF(HRDV,$D9)>=1),TACHES!K7,"") | ... AI9: =IF(AND((COUNTIF(JRDV,AI$4)>=1),COUNTIF(HRDV,$D9)>=1),TACHES!AH7,"")
D10: 0.41666667 | E10: =IF(AND((COUNTIF(JRDV,E$4)>=1),COUNTIF(HRDV,$D10)>=1),TACHES!D8,"") | F10: =IF(AND((COUNTIF(JRDV,F$4)>=1),COUNTIF(HRDV,$D10)>=1),TACHES!E8,"") | G10: =IF(AND((COUNTIF(JRDV,G$4)>=1),COUNTIF(HRDV,$D10)>=1),TACHES!F8,"") | H10: =IF(AND((COUNTIF(JRDV,H$4)>=1),COUNTIF(HRDV,$D10)>=1),TACHES!G8,"") | I10: =IF(AND((COUNTIF(JRDV,I$4)>=1),COUNTIF(HRDV,$D10)>=1),TACHES!H8,"") | J10: =IF(AND((COUNTIF(JRDV,J$4)>=1),COUNTIF(HRDV,$D10)>=1),TACHES!#REF!,"") | K10: =IF(AND((COUNTIF(JRDV,K$4)>=1),COUNTIF(HRDV,$D10)>=1),TACHES!J8,"") | L10: =IF(AND((COUNTIF(JRDV,L$4)>=1),COUNTIF(HRDV,$D10)>=1),TACHES!K8,"") | M10: =IF(AND((COUNTIF(JRDV,M$4)>=1),COUNTIF(HRDV,$D10)>=1),TACHES!L8,"") | N10: =IF(AND((COUNTIF(JRDV,N$4)>=1),COUNTIF(HRDV,$D10)>=1),TACHES!M8,"") | O10: =IF(AND((COUNTIF(JRDV,O$4)>=1),COUNTIF(HRDV,$D10)>=1),TACHES!N8,"") | P10: =IF(AND((COUNTIF(JRDV,P$4)>=1),COUNTIF(HRDV,$D10)>=1),TACHES!O8,"") | Q10: =IF(AND((COUNTIF(JRDV,Q$4)>=1),COUNTIF(HRDV,$D10)>=1),TACHES!P8,"") | R10: =IF(AND((COUNTIF(JRDV,R$4)>=1),COUNTIF(HRDV,$D10)>=1),TACHES!Q8,"") | ... AI10: =IF(AND((COUNTIF(JRDV,AI$4)>=1),COUNTIF(HRDV,$D10)>=1),TACHES!AH8,"")
D11: 0.4375 | E11: =IF(AND((COUNTIF(JRDV,E$4)>=1),COUNTIF(HRDV,$D11)>=1),TACHES!D9,"") | F11: =IF(AND((COUNTIF(JRDV,F$4)>=1),COUNTIF(HRDV,$D11)>=1),TACHES!E9,"") | G11: =IF(AND((COUNTIF(JRDV,G$4)>=1),COUNTIF(HRDV,$D11)>=1),TACHES!F9,"") | H11: =IF(AND((COUNTIF(JRDV,H$4)>=1),COUNTIF(HRDV,$D11)>=1),TACHES!G9,"") | I11: =IF(AND((COUNTIF(JRDV,I$4)>=1),COUNTIF(HRDV,$D11)>=1),TACHES!H9,"") | J11: =IF(AND((COUNTIF(JRDV,J$4)>=1),COUNTIF(HRDV,$D11)>=1),TACHES!I9,"") | K11: =IF(AND((COUNTIF(JRDV,K$4)>=1),COUNTIF(HRDV,$D11)>=1),TACHES!J9,"") | L11: =IF(AND((COUNTIF(JRDV,L$4)>=1),COUNTIF(HRDV,$D11)>=1),TACHES!K9,"") | ... AI11: =IF(AND((COUNTIF(JRDV,AI$4)>=1),COUNTIF(HRDV,$D11)>=1),TACHES!AH9,"")
D12: 0.45833333 | E12: =IF(AND((COUNTIF(JRDV,E$4)>=1),COUNTIF(HRDV,$D12)>=1),TACHES!D10,"") | F12: =IF(AND((COUNTIF(JRDV,F$4)>=1),COUNTIF(HRDV,$D12)>=1),TACHES!E10,"") | G12: =IF(AND((COUNTIF(JRDV,G$4)>=1),COUNTIF(HRDV,$D12)>=1),TACHES!F10,"") | H12: =IF(AND((COUNTIF(JRDV,H$4)>=1),COUNTIF(HRDV,$D12)>=1),TACHES!G10,"") | I12: =IF(AND((COUNTIF(JRDV,I$4)>=1),COUNTIF(HRDV,$D12)>=1),TACHES!H10,"") | J12: =IF(AND((COUNTIF(JRDV,J$4)>=1),COUNTIF(HRDV,$D12)>=1),TACHES!I10,"") | K12: =IF(AND((COUNTIF(JRDV,K$4)>=1),COUNTIF(HRDV,$D12)>=1),TACHES!J10,"") | L12: =IF(AND((COUNTIF(JRDV,L$4)>=1),COUNTIF(HRDV,$D12)>=1),TACHES!K10,"") | ... AI12: =IF(AND((COUNTIF(JRDV,AI$4)>=1),COUNTIF(HRDV,$D12)>=1),TACHES!AH10,"")
D13: 0.47916667 | E13: =IF(AND((COUNTIF(JRDV,E$4)>=1),COUNTIF(HRDV,$D13)>=1),TACHES!D11,"") | F13: =IF(AND((COUNTIF(JRDV,F$4)>=1),COUNTIF(HRDV,$D13)>=1),TACHES!E11,"") | G13: =IF(AND((COUNTIF(JRDV,G$4)>=1),COUNTIF(HRDV,$D13)>=1),TACHES!F11,"") | H13: =IF(AND((COUNTIF(JRDV,H$4)>=1),COUNTIF(HRDV,$D13)>=1),TACHES!G11,"") | I13: =IF(AND((COUNTIF(JRDV,I$4)>=1),COUNTIF(HRDV,$D13)>=1),TACHES!H11,"") | J13: =IF(AND((COUNTIF(JRDV,J$4)>=1),COUNTIF(HRDV,$D13)>=1),TACHES!I11,"") | K13: =IF(AND((COUNTIF(JRDV,K$4)>=1),COUNTIF(HRDV,$D13)>=1),TACHES!J11,"") | L13: =IF(AND((COUNTIF(JRDV,L$4)>=1),COUNTIF(HRDV,$D13)>=1),TACHES!K11,"") | ... AI13: =IF(AND((COUNTIF(JRDV,AI$4)>=1),COUNTIF(HRDV,$D13)>=1),TACHES!AH11,"")
D14: 0.5 | E14: =IF(AND((COUNTIF(JRDV,E$4)>=1),COUNTIF(HRDV,$D14)>=1),TACHES!D12,"") | F14: =IF(AND((COUNTIF(JRDV,F$4)>=1),COUNTIF(HRDV,$D14)>=1),TACHES!E12,"") | G14: =IF(AND((COUNTIF(JRDV,G$4)>=1),COUNTIF(HRDV,$D14)>=1),TACHES!F12,"") | H14: =IF(AND((COUNTIF(JRDV,H$4)>=1),COUNTIF(HRDV,$D14)>=1),TACHES!G12,"") | I14: =IF(AND((COUNTIF(JRDV,I$4)>=1),COUNTIF(HRDV,$D14)>=1),TACHES!H12,"") | J14: =IF(AND((COUNTIF(JRDV,J$4)>=1),COUNTIF(HRDV,$D14)>=1),TACHES!I12,"") | K14: =IF(AND((COUNTIF(JRDV,K$4)>=1),COUNTIF(HRDV,$D14)>=1),TACHES!J12,"") | L14: =IF(AND((COUNTIF(JRDV,L$4)>=1),COUNTIF(HRDV,$D14)>=1),TACHES!K12,"") | ... AI14: =IF(AND((COUNTIF(JRDV,AI$4)>=1),COUNTIF(HRDV,$D14)>=1),TACHES!AH12,"")
D15: 0.52083333 | E15: =IF(AND((COUNTIF(JRDV,E$4)>=1),COUNTIF(HRDV,$D15)>=1),TACHES!D13,"") | F15: =IF(AND((COUNTIF(JRDV,F$4)>=1),COUNTIF(HRDV,$D15)>=1),TACHES!E13,"") | G15: =IF(AND((COUNTIF(JRDV,G$4)>=1),COUNTIF(HRDV,$D15)>=1),TACHES!F13,"") | H15: =IF(AND((COUNTIF(JRDV,H$4)>=1),COUNTIF(HRDV,$D15)>=1),TACHES!G13,"") | I15: =IF(AND((COUNTIF(JRDV,I$4)>=1),COUNTIF(HRDV,$D15)>=1),TACHES!H13,"") | J15: =IF(AND((COUNTIF(JRDV,J$4)>=1),COUNTIF(HRDV,$D15)>=1),TACHES!I13,"") | K15: =IF(AND((COUNTIF(JRDV,K$4)>=1),COUNTIF(HRDV,$D15)>=1),TACHES!J13,"") | L15: =IF(AND((COUNTIF(JRDV,L$4)>=1),COUNTIF(HRDV,$D15)>=1),TACHES!K13,"") | ... AI15: =IF(AND((COUNTIF(JRDV,AI$4)>=1),COUNTIF(HRDV,$D15)>=1),TACHES!AH13,"")
D16: 0.54166667 | E16: =IF(AND((COUNTIF(JRDV,E$4)>=1),COUNTIF(HRDV,$D16)>=1),TACHES!D14,"") | F16: =IF(AND((COUNTIF(JRDV,F$4)>=1),COUNTIF(HRDV,$D16)>=1),TACHES!E14,"") | G16: =IF(AND((COUNTIF(JRDV,G$4)>=1),COUNTIF(HRDV,$D16)>=1),TACHES!F14,"") | H16: =IF(AND((COUNTIF(JRDV,H$4)>=1),COUNTIF(HRDV,$D16)>=1),TACHES!G14,"") | I16: =IF(AND((COUNTIF(JRDV,I$4)>=1),COUNTIF(HRDV,$D16)>=1),TACHES!H14,"") | J16: =IF(AND((COUNTIF(JRDV,J$4)>=1),COUNTIF(HRDV,$D16)>=1),TACHES!I14,"") | K16: =IF(AND((COUNTIF(JRDV,K$4)>=1),COUNTIF(HRDV,$D16)>=1),TACHES!J14,"") | L16: =IF(AND((COUNTIF(JRDV,L$4)>=1),COUNTIF(HRDV,$D16)>=1),TACHES!K14,"") | ... AI16: =IF(AND((COUNTIF(JRDV,AI$4)>=1),COUNTIF(HRDV,$D16)>=1),TACHES!AH14,"")
D17: 0.5625 | E17: =IF(AND((COUNTIF(JRDV,E$4)>=1),COUNTIF(HRDV,$D17)>=1),TACHES!D15,"") | F17: =IF(AND((COUNTIF(JRDV,F$4)>=1),COUNTIF(HRDV,$D17)>=1),TACHES!E15,"") | G17: =IF(AND((COUNTIF(JRDV,G$4)>=1),COUNTIF(HRDV,$D17)>=1),TACHES!F15,"") | H17: =IF(AND((COUNTIF(JRDV,H$4)>=1),COUNTIF(HRDV,$D17)>=1),TACHES!G15,"") | I17: =IF(AND((COUNTIF(JRDV,I$4)>=1),COUNTIF(HRDV,$D17)>=1),TACHES!H15,"") | J17: =IF(AND((COUNTIF(JRDV,J$4)>=1),COUNTIF(HRDV,$D17)>=1),TACHES!I15,"") | K17: =IF(AND((COUNTIF(JRDV,K$4)>=1),COUNTIF(HRDV,$D17)>=1),TACHES!J15,"") | L17: =IF(AND((COUNTIF(JRDV,L$4)>=1),COUNTIF(HRDV,$D17)>=1),TACHES!K15,"") | ... AI17: =IF(AND((COUNTIF(JRDV,AI$4)>=1),COUNTIF(HRDV,$D17)>=1),TACHES!AH15,"")
D18: 0.58333333 | E18: =IF(AND((COUNTIF(JRDV,E$4)>=1),COUNTIF(HRDV,$D18)>=1),TACHES!D16,"") | F18: =IF(AND((COUNTIF(JRDV,F$4)>=1),COUNTIF(HRDV,$D18)>=1),TACHES!E16,"") | G18: =IF(AND((COUNTIF(JRDV,G$4)>=1),COUNTIF(HRDV,$D18)>=1),TACHES!F16,"") | H18: =IF(AND((COUNTIF(JRDV,H$4)>=1),COUNTIF(HRDV,$D18)>=1),TACHES!G16,"") | I18: =IF(AND((COUNTIF(JRDV,I$4)>=1),COUNTIF(HRDV,$D18)>=1),TACHES!H16,"") | J18: =IF(AND((COUNTIF(JRDV,J$4)>=1),COUNTIF(HRDV,$D18)>=1),TACHES!I16,"") | K18: =IF(AND((COUNTIF(JRDV,K$4)>=1),COUNTIF(HRDV,$D18)>=1),TACHES!J16,"") | L18: =IF(AND((COUNTIF(JRDV,L$4)>=1),COUNTIF(HRDV,$D18)>=1),TACHES!K16,"") | ... AI18: =IF(AND((COUNTIF(JRDV,AI$4)>=1),COUNTIF(HRDV,$D18)>=1),TACHES!AH16,"")
D19: 0.60416667 | E19: =IF(AND((COUNTIF(JRDV,E$4)>=1),COUNTIF(HRDV,$D19)>=1),TACHES!D17,"") | F19: =IF(AND((COUNTIF(JRDV,F$4)>=1),COUNTIF(HRDV,$D19)>=1),TACHES!E17,"") | G19: =IF(AND((COUNTIF(JRDV,G$4)>=1),COUNTIF(HRDV,$D19)>=1),TACHES!F17,"") | H19: =IF(AND((COUNTIF(JRDV,H$4)>=1),COUNTIF(HRDV,$D19)>=1),TACHES!G17,"") | I19: =IF(AND((COUNTIF(JRDV,I$4)>=1),COUNTIF(HRDV,$D19)>=1),TACHES!H17,"") | J19: =IF(AND((COUNTIF(JRDV,J$4)>=1),COUNTIF(HRDV,$D19)>=1),TACHES!I17,"") | K19: =IF(AND((COUNTIF(JRDV,K$4)>=1),COUNTIF(HRDV,$D19)>=1),TACHES!J17,"") | L19: =IF(AND((COUNTIF(JRDV,L$4)>=1),COUNTIF(HRDV,$D19)>=1),TACHES!K17,"") | ... AI19: =IF(AND((COUNTIF(JRDV,AI$4)>=1),COUNTIF(HRDV,$D19)>=1),TACHES!AH17,"")
D20: 0.625 | E20: =IF(AND((COUNTIF(JRDV,E$4)>=1),COUNTIF(HRDV,$D20)>=1),TACHES!D18,"") | F20: =IF(AND((COUNTIF(JRDV,F$4)>=1),COUNTIF(HRDV,$D20)>=1),TACHES!E18,"") | G20: =IF(AND((COUNTIF(JRDV,G$4)>=1),COUNTIF(HRDV,$D20)>=1),TACHES!F18,"") | H20: =IF(AND((COUNTIF(JRDV,H$4)>=1),COUNTIF(HRDV,$D20)>=1),TACHES!G18,"") | I20: =IF(AND((COUNTIF(JRDV,I$4)>=1),COUNTIF(HRDV,$D20)>=1),TACHES!H18,"") | J20: =IF(AND((COUNTIF(JRDV,J$4)>=1),COUNTIF(HRDV,$D20)>=1),TACHES!I18,"") | K20: =IF(AND((COUNTIF(JRDV,K$4)>=1),COUNTIF(HRDV,$D20)>=1),TACHES!J18,"") | L20: =IF(AND((COUNTIF(JRDV,L$4)>=1),COUNTIF(HRDV,$D20)>=1),TACHES!K18,"") | ... AI20: =IF(AND((COUNTIF(JRDV,AI$4)>=1),COUNTIF(HRDV,$D20)>=1),TACHES!AH18,"")
D21: 0.64583333 | E21: =IF(AND((COUNTIF(JRDV,E$4)>=1),COUNTIF(HRDV,$D21)>=1),TACHES!D19,"") | F21: =IF(AND((COUNTIF(JRDV,F$4)>=1),COUNTIF(HRDV,$D21)>=1),TACHES!E19,"") | G21: =IF(AND((COUNTIF(JRDV,G$4)>=1),COUNTIF(HRDV,$D21)>=1),TACHES!F19,"") | H21: =IF(AND((COUNTIF(JRDV,H$4)>=1),COUNTIF(HRDV,$D21)>=1),TACHES!G19,"") | I21: =IF(AND((COUNTIF(JRDV,I$4)>=1),COUNTIF(HRDV,$D21)>=1),TACHES!H19,"") | J21: =IF(AND((COUNTIF(JRDV,J$4)>=1),COUNTIF(HRDV,$D21)>=1),TACHES!I19,"") | K21: =IF(AND((COUNTIF(JRDV,K$4)>=1),COUNTIF(HRDV,$D21)>=1),TACHES!J19,"") | L21: =IF(AND((COUNTIF(JRDV,L$4)>=1),COUNTIF(HRDV,$D21)>=1),TACHES!K19,"") | ... AI21: =IF(AND((COUNTIF(JRDV,AI$4)>=1),COUNTIF(HRDV,$D21)>=1),TACHES!AH19,"")
D22: 0.66666667 | E22: =IF(AND((COUNTIF(JRDV,E$4)>=1),COUNTIF(HRDV,$D22)>=1),TACHES!D20,"") | F22: =IF(AND((COUNTIF(JRDV,F$4)>=1),COUNTIF(HRDV,$D22)>=1),TACHES!E20,"") | G22: =IF(AND((COUNTIF(JRDV,G$4)>=1),COUNTIF(HRDV,$D22)>=1),TACHES!F20,"") | H22: =IF(AND((COUNTIF(JRDV,H$4)>=1),COUNTIF(HRDV,$D22)>=1),TACHES!G20,"") | I22: =IF(AND((COUNTIF(JRDV,I$4)>=1),COUNTIF(HRDV,$D22)>=1),TACHES!H20,"") | J22: =IF(AND((COUNTIF(JRDV,J$4)>=1),COUNTIF(HRDV,$D22)>=1),TACHES!I20,"") | K22: =IF(AND((COUNTIF(JRDV,K$4)>=1),COUNTIF(HRDV,$D22)>=1),TACHES!J20,"") | L22: =IF(AND((COUNTIF(JRDV,L$4)>=1),COUNTIF(HRDV,$D22)>=1),TACHES!K20,"") | ... AI22: =IF(AND((COUNTIF(JRDV,AI$4)>=1),COUNTIF(HRDV,$D22)>=1),TACHES!AH20,"")
... D26: 0.75 | E26: =IF(AND((COUNTIF(JRDV,E$4)>=1),COUNTIF(HRDV,$D26)>=1),TACHES!D24,"") | F26: =IF(AND((COUNTIF(JRDV,F$4)>=1),COUNTIF(HRDV,$D26)>=1),TACHES!E24,"") | G26: =IF(AND((COUNTIF(JRDV,G$4)>=1),COUNTIF(HRDV,$D26)>=1),TACHES!F24,"") | H26: =IF(AND((COUNTIF(JRDV,H$4)>=1),COUNTIF(HRDV,$D26)>=1),TACHES!G24,"") | I26: =IF(AND((COUNTIF(JRDV,I$4)>=1),COUNTIF(HRDV,$D26)>=1),TACHES!H24,"") | J26: =IF(AND((COUNTIF(JRDV,J$4)>=1),COUNTIF(HRDV,$D26)>=1),TACHES!I24,"") | K26: =IF(AND((COUNTIF(JRDV,K$4)>=1),COUNTIF(HRDV,$D26)>=1),TACHES!J24,"") | L26: =IF(AND((COUNTIF(JRDV,L$4)>=1),COUNTIF(HRDV,$D26)>=1),TACHES!K24,"") | ... AI26: =IF(AND((COUNTIF(JRDV,AI$4)>=1),COUNTIF(HRDV,$D26)>=1),TACHES!AH24,"")

Sheet TACHES
A2: RDV
A3: . | B3: DATE | C3: Heure | D3: Motif
A4: =Tableau1[[#This Row],[DATE]]+Tableau1[[#This Row],[Heure]] -> 42677.333 | B4: 42677 | C4: 0.33333333 | D4: M Durand
A5: =Tableau1[[#This Row],[DATE]]+Tableau1[[#This Row],[Heure]] -> 42678.333 | B5: 42678 | C5: 0.33333333 | D5: rdv chris
A6: =Tableau1[[#This Row],[DATE]]+Tableau1[[#This Row],[Heure]] -> 42678.375 | B6: 42678 | C6: 0.375 | D6: RDV AMANDINE

Sheet listes
A3: janvier | B3: 2016 | C3: 11 | D3: ="1/"&C3&"/"&AGENDA!B3&"" -> 1/11/2016 | F3: 2016
A4: février | F4: 2017
A5: mars | F5: 2018
A6: avril | F6: 2019
A7: mai | F7: 2020
A8: juin | F8: 2021
A9: juillet | F9: 2022
A10: août | F10: 2023
A11: septembre | F11: 2024
A12: octobre | F12: 2025
A13: novembre | F13: 2026
A14: décembre | F14: 2027
F15: 2028
F16: 2029
F17: 2030
F18: 2031
F19: 2032
F20: 2033
F21: 2034
F22: 2035
F23: 2036
F24: 2037
F25: 2038
F26: 2039
... F36: 2049

Sheet JOURS FERIES 
A1: JOURS FERIES | B1: 2016
A2: Premier de l'an | B2: =DATE(Saisir_Année,1,1) -> 42370 | C2: =B2 -> 42370
A3: Pâques | B3: =ROUND(DATE(Saisir_Année,4,MOD(234-11*MOD(Saisir_Année,19),30))/7,0)*7-6 -> 42456 | C3: =B3 -> 42456
A4: Lundi de Pâques | B4: =B3+1 -> 42457 | C4: =B4 -> 42457
A5: Fête du travail | B5: =DATE(Saisir_Année,5,1) -> 42491 | C5: =B5 -> 42491
A6: Victoire 1945 | B6: =DATE(Saisir_Année,5,8) -> 42498 | C6: =B6 -> 42498
A7: Ascension | B7: =B3+39 -> 42495 | C7: =B7 -> 42495
A8: lundi de Pentecôte | B8: =B3+49 -> 42505 | C8: =B8 -> 42505
A9: Fête nationale | B9: =DATE(Saisir_Année,7,14) -> 42565 | C9: =B9 -> 42565
A10: Assomption | B10: =DATE(Saisir_Année,8,15) -> 42597 | C10: =B10 -> 42597
A11: Toussaint | B11: =DATE(Saisir_Année,11,1) -> 42675 | C11: =B11 -> 42675
A12: Armistice | B12: =DATE(Saisir_Année,11,11) -> 42685 | C12: =B12 -> 42685
A13: Noël | B13: =DATE(Saisir_Année,12,25) -> 42729 | C13: =B13 -> 42729
