Workbook

Sheet Liste Composants
A1: Produits | B1: Composants | C1: volume
A2: ='PRODUCT A'!$A$1 -> Product A | B2: ='PRODUCT A'!F3 -> AAAAA1 | C2: ='PRODUCT A'!G5 -> 1360
A3: ='PRODUCT A'!$A$1 -> Product A | B3: ='PRODUCT A'!J3 -> AAAAA2 | C3: ='PRODUCT A'!K5 -> 3000
A4: ='PRODUCT B '!$A$1 -> Product B | B4: ='PRODUCT B '!F3 -> AAAAA3 | C4: ='PRODUCT B '!G5 -> 1360
A5: ='PRODUCT B '!$A$1 -> Product B | B5: ='PRODUCT B '!J3 -> BBBBB2 | C5: ='PRODUCT B '!K5 -> 14000
A6: ='PRODUCT B '!$A$1 -> Product B | B6: ='PRODUCT B '!N3 -> CCCCC1 | C6: ='PRODUCT B '!O5 -> 4450
A7: ='PRODUCT C'!$A$1 -> Product C | B7: ='PRODUCT C'!F3 -> CCCCC1 | C7: ='PRODUCT C'!G5 -> 1360
A8: ='PRODUCT C'!$A$1 -> Product C | B8: ='PRODUCT C'!J3 -> AAAAA2 | C8: ='PRODUCT C'!K5 -> 5000
A9: ='PRODUCT C'!$A$1 -> Product C | B9: ='PRODUCT C'!N3 -> AAAAA3 | C9: ='PRODUCT C'!O5 -> 4450
A10: xxx | B10: xxx | C10: xxx
A11: xxx | B11: xxx | C11: xxx
A12: xxx | B12: xxx | C12: xxx
A13: xxx | B13: xxx | C13: xxx

Sheet PRODUCT A
A1: Product A
F2: SEMAINE | G2: =[1]Summary!B2 -> 41
B3: Sum | D3: Date | E3: WK | F3: AAAAA1 | I3: Comments | J3: AAAAA2 | L3: Proposition | M3: Commentaire | P3: Proposition | Q3: Commentaire
B4: Planifié | C4: Envoyé | F4: Planifié | G4: Envoyé | J4: Planifié | K4: Envoyé | N4: Planifié | O4: Envoyé
B5: =SUM(B6:B57) -> 4360 | C5: =SUM(C6:C57) -> 4360 | F5: =SUM(F6:F57) -> 1360 | G5: =SUM(G6:G57) -> 1360 | J5: =SUM(J6:J57) -> 3000 | K5: =SUM(K6:K57) -> 3000 | N5: =SUM(N6:N57) -> 0 | O5: =SUM(O6:O57) -> 0
B6: 0 | C6: 0 | D6: 42373 | E6: 1
B7: 0 | C7: 0 | D7: 42380 | E7: 2
B8: 0 | C8: 0 | D8: 42387 | E8: 3
B9: 0 | C9: 0 | D9: 42394 | E9: 4
B10: 3000 | C10: 3000 | D10: 42401 | E10: 5 | J10: 3000 | K10: 3000
B11: 0 | C11: 0 | D11: 42408 | E11: 6
B12: 0 | C12: 0 | D12: 42415 | E12: 7
B13: 0 | C13: 0 | D13: 42422 | E13: 8
B14: 0 | C14: 0 | D14: 42429 | E14: 9
B15: 0 | C15: 0 | D15: 42436 | E15: 10
B16: 680 | C16: 680 | D16: 42443 | E16: 11 | F16: 680 | G16: 680
B17: 0 | C17: 0 | D17: 42450 | E17: 12
B18: 0 | C18: 0 | D18: 42457 | E18: 13
B19: 0 | C19: 0 | D19: 42464 | E19: 14
B20: 0 | C20: 0 | D20: 42471 | E20: 15
B21: 0 | C21: 0 | D21: 42478 | E21: 16
B22: 0 | C22: 0 | D22: 42485 | E22: 17
B23: 0 | C23: 0 | D23: 42492 | E23: 18
B24: 0 | C24: 0 | D24: 42499 | E24: 19
B25: 0 | C25: 0 | D25: 42506 | E25: 20
B26: 0 | C26: 0 | D26: 42513 | E26: 21
B27: 680 | C27: 680 | D27: 42520 | E27: 22 | F27: 680 | G27: 680
B28: 0 | C28: 0 | D28: 42527 | E28: 23
B29: 0 | C29: 0 | D29: 42534 | E29: 24
B30: 0 | C30: 0 | D30: 42541 | E30: 25
B31: 0 | C31: 0 | D31: 42548 | E31: 26
B32: 0 | C32: 0 | D32: 42555 | E32: 27
B33: 0 | C33: 0 | D33: 42562 | E33: 28
B34: =IF(ISNUMBER(F34),F34,0)+IF(ISNUMBER(J34),J34,0)+IF(ISNUMBER(N34),N34,0) -> 0 | C34: =IF(ISNUMBER(G34),G34,0)+IF(ISNUMBER(K34),K34,0)+IF(ISNUMBER(O34),O34,0) -> 0 | D34: 42569 | E34: 29
B35: =IF(ISNUMBER(F35),F35,0)+IF(ISNUMBER(J35),J35,0)+IF(ISNUMBER(N35),N35,0) -> 0 | C35: =IF(ISNUMBER(G35),G35,0)+IF(ISNUMBER(K35),K35,0)+IF(ISNUMBER(O35),O35,0) -> 0 | D35: 42576 | E35: 30
B36: =IF(ISNUMBER(F36),F36,0)+IF(ISNUMBER(J36),J36,0)+IF(ISNUMBER(N36),N36,0) -> 0 | C36: =IF(ISNUMBER(G36),G36,0)+IF(ISNUMBER(K36),K36,0)+IF(ISNUMBER(O36),O36,0) -> 0 | D36: 42583 | E36: 31
B37: =IF(ISNUMBER(F37),F37,0)+IF(ISNUMBER(J37),J37,0)+IF(ISNUMBER(N37),N37,0) -> 0 | C37: =IF(ISNUMBER(G37),G37,0)+IF(ISNUMBER(K37),K37,0)+IF(ISNUMBER(O37),O37,0) -> 0 | D37: 42590 | E37: 32
B38: =IF(ISNUMBER(F38),F38,0)+IF(ISNUMBER(J38),J38,0)+IF(ISNUMBER(N38),N38,0) -> 0 | C38: =IF(ISNUMBER(G38),G38,0)+IF(ISNUMBER(K38),K38,0)+IF(ISNUMBER(O38),O38,0) -> 0 | D38: 42597 | E38: 33
B39: =IF(ISNUMBER(F39),F39,0)+IF(ISNUMBER(J39),J39,0)+IF(ISNUMBER(N39),N39,0) -> 0 | C39: =IF(ISNUMBER(G39),G39,0)+IF(ISNUMBER(K39),K39,0)+IF(ISNUMBER(O39),O39,0) -> 0 | D39: 42604 | E39: 34
B40: =IF(ISNUMBER(F40),F40,0)+IF(ISNUMBER(J40),J40,0)+IF(ISNUMBER(N40),N40,0) -> 0 | C40: =IF(ISNUMBER(G40),G40,0)+IF(ISNUMBER(K40),K40,0)+IF(ISNUMBER(O40),O40,0) -> 0 | D40: 42611 | E40: 35
B41: =IF(ISNUMBER(F41),F41,0)+IF(ISNUMBER(J41),J41,0)+IF(ISNUMBER(N41),N41,0) -> 0 | C41: =IF(ISNUMBER(G41),G41,0)+IF(ISNUMBER(K41),K41,0)+IF(ISNUMBER(O41),O41,0) -> 0 | D41: 42618 | E41: 36
B42: =IF(ISNUMBER(F42),F42,0)+IF(ISNUMBER(J42),J42,0)+IF(ISNUMBER(N42),N42,0) -> 0 | C42: =IF(ISNUMBER(G42),G42,0)+IF(ISNUMBER(K42),K42,0)+IF(ISNUMBER(O42),O42,0) -> 0 | D42: 42625 | E42: 37
B43: =IF(ISNUMBER(F43),F43,0)+IF(ISNUMBER(J43),J43,0)+IF(ISNUMBER(N43),N43,0) -> 0 | C43: =IF(ISNUMBER(G43),G43,0)+IF(ISNUMBER(K43),K43,0)+IF(ISNUMBER(O43),O43,0) -> 0 | D43: 42632 | E43: 38
B44: =IF(ISNUMBER(F44),F44,0)+IF(ISNUMBER(J44),J44,0)+IF(ISNUMBER(N44),N44,0) -> 0 | C44: =IF(ISNUMBER(G44),G44,0)+IF(ISNUMBER(K44),K44,0)+IF(ISNUMBER(O44),O44,0) -> 0 | D44: 42639 | E44: 39
B45: =IF(ISNUMBER(F45),F45,0)+IF(ISNUMBER(J45),J45,0)+IF(ISNUMBER(N45),N45,0) -> 0 | C45: =IF(ISNUMBER(G45),G45,0)+IF(ISNUMBER(K45),K45,0)+IF(ISNUMBER(O45),O45,0) -> 0 | D45: 42646 | E45: 40
... B57: =IF(ISNUMBER(F57),F57,0)+IF(ISNUMBER(J57),J57,0)+IF(ISNUMBER(N57),N57,0) -> 0 | C57: =IF(ISNUMBER(G57),G57,0)+IF(ISNUMBER(K57),K57,0)+IF(ISNUMBER(O57),O57,0) -> 0 | D57: 42730 | E57: 52

Sheet PRODUCT B 
A1: Product B
F2: SEMAINE | G2: =[1]Summary!B2 -> 41
B3: Sum | D3: Date | E3: WK | F3: AAAAA3 | I3: Comments | J3: BBBBB2 | L3: Proposition | M3: Commentaire | N3: CCCCC1 | P3: Proposition | Q3: Commentaire
B4: Planifié | C4: Envoyé | F4: Planifié | G4: Envoyé | J4: Planifié | K4: Envoyé | N4: Planifié | O4: Envoyé
B5: =SUM(B6:B57) -> 19360 | C5: =SUM(C6:C57) -> 19360 | F5: =SUM(F6:F57) -> 1360 | G5: =SUM(G6:G57) -> 1360 | J5: =SUM(J6:J57) -> 14000 | K5: =SUM(K6:K57) -> 14000 | N5: =SUM(N6:N57) -> 4450 | O5: =SUM(O6:O57) -> 4450
B6: 0 | C6: 0 | D6: 42373 | E6: 1
B7: 0 | C7: 0 | D7: 42380 | E7: 2
B8: 0 | C8: 0 | D8: 42387 | E8: 3
B9: 0 | C9: 0 | D9: 42394 | E9: 4
B10: 0 | C10: 0 | D10: 42401 | E10: 5
B11: 7000 | C11: 7000 | D11: 42408 | E11: 6 | J11: 7000 | K11: 7000
B12: 0 | C12: 0 | D12: 42415 | E12: 7
B13: 0 | C13: 0 | D13: 42422 | E13: 8
B14: 0 | C14: 0 | D14: 42429 | E14: 9
B15: 0 | C15: 0 | D15: 42436 | E15: 10
B16: 680 | C16: 680 | D16: 42443 | E16: 11 | F16: 680 | G16: 680
B17: 0 | C17: 0 | D17: 42450 | E17: 12
B18: 0 | C18: 0 | D18: 42457 | E18: 13
B19: 4000 | C19: 4000 | D19: 42464 | E19: 14 | N19: 4000 | O19: 4000
B20: 0 | C20: 0 | D20: 42471 | E20: 15
B21: 0 | C21: 0 | D21: 42478 | E21: 16
B22: 0 | C22: 0 | D22: 42485 | E22: 17
B23: 0 | C23: 0 | D23: 42492 | E23: 18
B24: 0 | C24: 0 | D24: 42499 | E24: 19
B25: 0 | C25: 0 | D25: 42506 | E25: 20
B26: 0 | C26: 0 | D26: 42513 | E26: 21
B27: 680 | C27: 680 | D27: 42520 | E27: 22 | F27: 680 | G27: 680
B28: 0 | C28: 0 | D28: 42527 | E28: 23
B29: 0 | C29: 0 | D29: 42534 | E29: 24
B30: 0 | C30: 0 | D30: 42541 | E30: 25 | N30: 450 | O30: 450
B31: 0 | C31: 0 | D31: 42548 | E31: 26
B32: 0 | C32: 0 | D32: 42555 | E32: 27
B33: 7000 | C33: 7000 | D33: 42562 | E33: 28 | J33: 7000 | K33: 7000
B34: =IF(ISNUMBER(F34),F34,0)+IF(ISNUMBER(J34),J34,0)+IF(ISNUMBER(N34),N34,0) -> 0 | C34: =IF(ISNUMBER(G34),G34,0)+IF(ISNUMBER(K34),K34,0)+IF(ISNUMBER(O34),O34,0) -> 0 | D34: 42569 | E34: 29
B35: =IF(ISNUMBER(F35),F35,0)+IF(ISNUMBER(J35),J35,0)+IF(ISNUMBER(N35),N35,0) -> 0 | C35: =IF(ISNUMBER(G35),G35,0)+IF(ISNUMBER(K35),K35,0)+IF(ISNUMBER(O35),O35,0) -> 0 | D35: 42576 | E35: 30
B36: =IF(ISNUMBER(F36),F36,0)+IF(ISNUMBER(J36),J36,0)+IF(ISNUMBER(N36),N36,0) -> 0 | C36: =IF(ISNUMBER(G36),G36,0)+IF(ISNUMBER(K36),K36,0)+IF(ISNUMBER(O36),O36,0) -> 0 | D36: 42583 | E36: 31
B37: =IF(ISNUMBER(F37),F37,0)+IF(ISNUMBER(J37),J37,0)+IF(ISNUMBER(N37),N37,0) -> 0 | C37: =IF(ISNUMBER(G37),G37,0)+IF(ISNUMBER(K37),K37,0)+IF(ISNUMBER(O37),O37,0) -> 0 | D37: 42590 | E37: 32
B38: =IF(ISNUMBER(F38),F38,0)+IF(ISNUMBER(J38),J38,0)+IF(ISNUMBER(N38),N38,0) -> 0 | C38: =IF(ISNUMBER(G38),G38,0)+IF(ISNUMBER(K38),K38,0)+IF(ISNUMBER(O38),O38,0) -> 0 | D38: 42597 | E38: 33
B39: =IF(ISNUMBER(F39),F39,0)+IF(ISNUMBER(J39),J39,0)+IF(ISNUMBER(N39),N39,0) -> 0 | C39: =IF(ISNUMBER(G39),G39,0)+IF(ISNUMBER(K39),K39,0)+IF(ISNUMBER(O39),O39,0) -> 0 | D39: 42604 | E39: 34
B40: =IF(ISNUMBER(F40),F40,0)+IF(ISNUMBER(J40),J40,0)+IF(ISNUMBER(N40),N40,0) -> 0 | C40: =IF(ISNUMBER(G40),G40,0)+IF(ISNUMBER(K40),K40,0)+IF(ISNUMBER(O40),O40,0) -> 0 | D40: 42611 | E40: 35
B41: =IF(ISNUMBER(F41),F41,0)+IF(ISNUMBER(J41),J41,0)+IF(ISNUMBER(N41),N41,0) -> 0 | C41: =IF(ISNUMBER(G41),G41,0)+IF(ISNUMBER(K41),K41,0)+IF(ISNUMBER(O41),O41,0) -> 0 | D41: 42618 | E41: 36
B42: =IF(ISNUMBER(F42),F42,0)+IF(ISNUMBER(J42),J42,0)+IF(ISNUMBER(N42),N42,0) -> 0 | C42: =IF(ISNUMBER(G42),G42,0)+IF(ISNUMBER(K42),K42,0)+IF(ISNUMBER(O42),O42,0) -> 0 | D42: 42625 | E42: 37
B43: =IF(ISNUMBER(F43),F43,0)+IF(ISNUMBER(J43),J43,0)+IF(ISNUMBER(N43),N43,0) -> 0 | C43: =IF(ISNUMBER(G43),G43,0)+IF(ISNUMBER(K43),K43,0)+IF(ISNUMBER(O43),O43,0) -> 0 | D43: 42632 | E43: 38
B44: =IF(ISNUMBER(F44),F44,0)+IF(ISNUMBER(J44),J44,0)+IF(ISNUMBER(N44),N44,0) -> 0 | C44: =IF(ISNUMBER(G44),G44,0)+IF(ISNUMBER(K44),K44,0)+IF(ISNUMBER(O44),O44,0) -> 0 | D44: 42639 | E44: 39
B45: =IF(ISNUMBER(F45),F45,0)+IF(ISNUMBER(J45),J45,0)+IF(ISNUMBER(N45),N45,0) -> 0 | C45: =IF(ISNUMBER(G45),G45,0)+IF(ISNUMBER(K45),K45,0)+IF(ISNUMBER(O45),O45,0) -> 0 | D45: 42646 | E45: 40
... B57: =IF(ISNUMBER(F57),F57,0)+IF(ISNUMBER(J57),J57,0)+IF(ISNUMBER(N57),N57,0) -> 0 | C57: =IF(ISNUMBER(G57),G57,0)+IF(ISNUMBER(K57),K57,0)+IF(ISNUMBER(O57),O57,0) -> 0 | D57: 42730 | E57: 52

Sheet PRODUCT C
A1: Product C
F2: SEMAINE | G2: =[1]Summary!B2 -> 41
B3: Sum | D3: Date | E3: WK | F3: CCCCC1 | I3: Comments | J3: AAAAA2 | L3: Proposition | M3: Commentaire | N3: AAAAA3 | P3: Proposition | Q3: Commentaire
B4: Planifié | C4: Envoyé | F4: Planifié | G4: Envoyé | J4: Planifié | K4: Envoyé | N4: Planifié | O4: Envoyé
B5: =SUM(B6:B57) -> 10810 | C5: =SUM(C6:C57) -> 10810 | F5: =SUM(F6:F57) -> 1360 | G5: =SUM(G6:G57) -> 1360 | J5: =SUM(J6:J57) -> 5000 | K5: =SUM(K6:K57) -> 5000 | N5: 4000 | O5: =SUM(O6:O57) -> 4450
B6: 0 | C6: 0 | D6: 42373 | E6: 1
B7: 0 | C7: 0 | D7: 42380 | E7: 2
B8: 0 | C8: 0 | D8: 42387 | E8: 3
B9: 0 | C9: 0 | D9: 42394 | E9: 4
B10: 0 | C10: 0 | D10: 42401 | E10: 5
B11: 5000 | C11: 5000 | D11: 42408 | E11: 6 | J11: 5000 | K11: 5000
B12: 0 | C12: 0 | D12: 42415 | E12: 7
B13: 0 | C13: 0 | D13: 42422 | E13: 8
B14: 0 | C14: 0 | D14: 42429 | E14: 9
B15: 0 | C15: 0 | D15: 42436 | E15: 10
B16: 4680 | C16: 4680 | D16: 42443 | E16: 11 | F16: 680 | G16: 680 | N16: 4000 | O16: 4000
B17: 0 | C17: 0 | D17: 42450 | E17: 12
B18: 0 | C18: 0 | D18: 42457 | E18: 13
B19: 0 | C19: 0 | D19: 42464 | E19: 14
B20: 0 | C20: 0 | D20: 42471 | E20: 15
B21: 0 | C21: 0 | D21: 42478 | E21: 16
B22: 0 | C22: 0 | D22: 42485 | E22: 17
B23: 0 | C23: 0 | D23: 42492 | E23: 18
B24: 0 | C24: 0 | D24: 42499 | E24: 19
B25: 0 | C25: 0 | D25: 42506 | E25: 20
B26: 0 | C26: 0 | D26: 42513 | E26: 21
B27: 680 | C27: 680 | D27: 42520 | E27: 22 | F27: 680 | G27: 680
B28: 0 | C28: 0 | D28: 42527 | E28: 23
B29: 0 | C29: 0 | D29: 42534 | E29: 24
B30: 450 | C30: 450 | D30: 42541 | E30: 25 | N30: 450 | O30: 450
B31: 0 | C31: 0 | D31: 42548 | E31: 26
B32: 0 | C32: 0 | D32: 42555 | E32: 27
B33: 0 | C33: 0 | D33: 42562 | E33: 28
B34: =IF(ISNUMBER(F34),F34,0)+IF(ISNUMBER(J34),J34,0)+IF(ISNUMBER(N34),N34,0) -> 0 | C34: =IF(ISNUMBER(G34),G34,0)+IF(ISNUMBER(K34),K34,0)+IF(ISNUMBER(O34),O34,0) -> 0 | D34: 42569 | E34: 29
B35: =IF(ISNUMBER(F35),F35,0)+IF(ISNUMBER(J35),J35,0)+IF(ISNUMBER(N35),N35,0) -> 0 | C35: =IF(ISNUMBER(G35),G35,0)+IF(ISNUMBER(K35),K35,0)+IF(ISNUMBER(O35),O35,0) -> 0 | D35: 42576 | E35: 30
B36: =IF(ISNUMBER(F36),F36,0)+IF(ISNUMBER(J36),J36,0)+IF(ISNUMBER(N36),N36,0) -> 0 | C36: =IF(ISNUMBER(G36),G36,0)+IF(ISNUMBER(K36),K36,0)+IF(ISNUMBER(O36),O36,0) -> 0 | D36: 42583 | E36: 31
B37: =IF(ISNUMBER(F37),F37,0)+IF(ISNUMBER(J37),J37,0)+IF(ISNUMBER(N37),N37,0) -> 0 | C37: =IF(ISNUMBER(G37),G37,0)+IF(ISNUMBER(K37),K37,0)+IF(ISNUMBER(O37),O37,0) -> 0 | D37: 42590 | E37: 32
B38: =IF(ISNUMBER(F38),F38,0)+IF(ISNUMBER(J38),J38,0)+IF(ISNUMBER(N38),N38,0) -> 0 | C38: =IF(ISNUMBER(G38),G38,0)+IF(ISNUMBER(K38),K38,0)+IF(ISNUMBER(O38),O38,0) -> 0 | D38: 42597 | E38: 33
B39: =IF(ISNUMBER(F39),F39,0)+IF(ISNUMBER(J39),J39,0)+IF(ISNUMBER(N39),N39,0) -> 0 | C39: =IF(ISNUMBER(G39),G39,0)+IF(ISNUMBER(K39),K39,0)+IF(ISNUMBER(O39),O39,0) -> 0 | D39: 42604 | E39: 34
B40: =IF(ISNUMBER(F40),F40,0)+IF(ISNUMBER(J40),J40,0)+IF(ISNUMBER(N40),N40,0) -> 0 | C40: =IF(ISNUMBER(G40),G40,0)+IF(ISNUMBER(K40),K40,0)+IF(ISNUMBER(O40),O40,0) -> 0 | D40: 42611 | E40: 35
B41: =IF(ISNUMBER(F41),F41,0)+IF(ISNUMBER(J41),J41,0)+IF(ISNUMBER(N41),N41,0) -> 0 | C41: =IF(ISNUMBER(G41),G41,0)+IF(ISNUMBER(K41),K41,0)+IF(ISNUMBER(O41),O41,0) -> 0 | D41: 42618 | E41: 36
B42: =IF(ISNUMBER(F42),F42,0)+IF(ISNUMBER(J42),J42,0)+IF(ISNUMBER(N42),N42,0) -> 0 | C42: =IF(ISNUMBER(G42),G42,0)+IF(ISNUMBER(K42),K42,0)+IF(ISNUMBER(O42),O42,0) -> 0 | D42: 42625 | E42: 37
B43: =IF(ISNUMBER(F43),F43,0)+IF(ISNUMBER(J43),J43,0)+IF(ISNUMBER(N43),N43,0) -> 0 | C43: =IF(ISNUMBER(G43),G43,0)+IF(ISNUMBER(K43),K43,0)+IF(ISNUMBER(O43),O43,0) -> 0 | D43: 42632 | E43: 38
B44: =IF(ISNUMBER(F44),F44,0)+IF(ISNUMBER(J44),J44,0)+IF(ISNUMBER(N44),N44,0) -> 0 | C44: =IF(ISNUMBER(G44),G44,0)+IF(ISNUMBER(K44),K44,0)+IF(ISNUMBER(O44),O44,0) -> 0 | D44: 42639 | E44: 39
B45: =IF(ISNUMBER(F45),F45,0)+IF(ISNUMBER(J45),J45,0)+IF(ISNUMBER(N45),N45,0) -> 0 | C45: =IF(ISNUMBER(G45),G45,0)+IF(ISNUMBER(K45),K45,0)+IF(ISNUMBER(O45),O45,0) -> 0 | D45: 42646 | E45: 40
... B57: =IF(ISNUMBER(F57),F57,0)+IF(ISNUMBER(J57),J57,0)+IF(ISNUMBER(N57),N57,0) -> 0 | C57: =IF(ISNUMBER(G57),G57,0)+IF(ISNUMBER(K57),K57,0)+IF(ISNUMBER(O57),O57,0) -> 0 | D57: 42730 | E57: 52
