Workbook

Sheet Fonctions aléas
B2: Date de naissance | D2: Moyenne générale | E2: Genre | F2: Redoublement | G2: Saut de classe | H2: 6ème | I2: 5ème | J2: 4ème | K2: 3ème | M2: Age | O2: Mois de naissance
A3: Elève 1 | B3: =INT(RAND()*(DATE(2006,12,31)-DATE(2000,1,1))+DATE(2000,1,1)) -> 37517 | D3: =RAND()*(19-2)+2 -> 4.1412271 | E3: =IF(INT(RAND()*(1-0+1))+0=1,"F","M") -> F | F3: =IF(M3<11,0,IF(AND(O3<9,M3<12),0,IF(AND(O3>=9,M3=11),INT(RAND()*(1-0+1))+0,IF(AND(O3<9,M3=12),INT(RAND()*(1-0+1))+0,IF(AND(O3>=9,M3>=12,M3<=13),INT(RAND()*(2-0+1))+0,IF(AND(O3<9,M3>=13,M3<=14),INT(RAND()*(2-0+1))+0,IF(AND(O3>=9,M3=14),INT(RAND()*(2-1+1))+1,IF(AND(O3<9,M3=15),INT(RAND()*(2-1+1))+1,2)))))))) -> 0 | G3: =IF(F3>0,0,IF(M3<10,1,IF(AND(O3<9,M3=10),1,IF(AND(O3>=9,M3>=10,M3<=12),INT(RAND()*(1-0+1))+0,IF(AND(O3<9,M3>10,M3<=13),INT(RAND()*(1-0+1))+0,0))))) -> 0 | H3: =IF(M3<10,1,IF(AND(F3=0,G3=1,O3<9,M3=10),1,IF(AND(F3=0,G3=0,O3>=9,M3=10),1,IF(AND(F3=0,G3=0,O3<9,M3=11),1,IF(AND(F3=1,G3=0,O3>=9,M3=11),1,IF(AND(F3=1,G3=0,O3<9,M3=12),1,IF(AND(F3=2,G3=0,O3>=9,M3=12),1,IF(AND(F3=2,G3=0,O3<9,M3=13),1,0)))))))) -> 0 | I3: =IF(AND(F3=0,G3=1,O3>=9,M3=10),1,IF(AND(F3=0,G3=1,O3<9,M3=11),1,IF(AND(F3=0,G3=0,O3>=9,M3=11),1,IF(AND(F3=0,G3=0,O3<9,M3=12),1,IF(AND(F3=1,G3=0,O3>=9,M3=12),1,IF(AND(F3=1,G3=0,O3<9,M3=13),1,IF(AND(F3=2,G3=0,O3>=9,M3=13),1,IF(AND(F3=2,G3=0,O3<9,M3=14),1,0)))))))) -> 0 | J3: =IF(AND(F3=0,G3=1,O3>=9,M3=11),1,IF(AND(F3=0,G3=1,O3<9,M3=12),1,IF(AND(F3=0,G3=0,O3>=9,M3=12),1,IF(AND(F3=0,G3=0,O3<9,M3=13),1,IF(AND(F3=1,G3=0,O3>=9,M3=13),1,IF(AND(F3=1,G3=0,O3<9,M3=14),1,IF(AND(F3=2,G3=0,O3>=9,M3=14),1,IF(AND(F3=2,G3=0,O3<9,M3=15),1,0)))))))) -> 0 | K3: =IF(SUM(H3:J3)=0,1,0) -> 1 | M3: =DATEDIF($B3,DATE(2016,9,1), "y") -> 13 | O3: =MONTH($B3) -> 9
A4: Elève 2 | B4: =INT(RAND()*(DATE(2006,12,31)-DATE(2000,1,1))+DATE(2000,1,1)) -> 38645 | D4: =RAND()*(19-2)+2 -> 3.9294223 | E4: =IF(INT(RAND()*(1-0+1))+0=1,"F","M") -> F | F4: =IF(M4<11,0,IF(AND(O4<9,M4<12),0,IF(AND(O4>=9,M4=11),INT(RAND()*(1-0+1))+0,IF(AND(O4<9,M4=12),INT(RAND()*(1-0+1))+0,IF(AND(O4>=9,M4>=12,M4<=13),INT(RAND()*(2-0+1))+0,IF(AND(O4<9,M4>=13,M4<=14),INT(RAND()*(2-0+1))+0,IF(AND(O4>=9,M4=14),INT(RAND()*(2-1+1))+1,IF(AND(O4<9,M4=15),INT(RAND()*(2-1+1))+1,2)))))))) -> 0 | G4: =IF(F4>0,0,IF(M4<10,1,IF(AND(O4<9,M4=10),1,IF(AND(O4>=9,M4>=10,M4<=12),INT(RAND()*(1-0+1))+0,IF(AND(O4<9,M4>10,M4<=13),INT(RAND()*(1-0+1))+0,0))))) -> 0 | H4: =IF(M4<10,1,IF(AND(F4=0,G4=1,O4<9,M4=10),1,IF(AND(F4=0,G4=0,O4>=9,M4=10),1,IF(AND(F4=0,G4=0,O4<9,M4=11),1,IF(AND(F4=1,G4=0,O4>=9,M4=11),1,IF(AND(F4=1,G4=0,O4<9,M4=12),1,IF(AND(F4=2,G4=0,O4>=9,M4=12),1,IF(AND(F4=2,G4=0,O4<9,M4=13),1,0)))))))) -> 1 | I4: =IF(AND(F4=0,G4=1,O4>=9,M4=10),1,IF(AND(F4=0,G4=1,O4<9,M4=11),1,IF(AND(F4=0,G4=0,O4>=9,M4=11),1,IF(AND(F4=0,G4=0,O4<9,M4=12),1,IF(AND(F4=1,G4=0,O4>=9,M4=12),1,IF(AND(F4=1,G4=0,O4<9,M4=13),1,IF(AND(F4=2,G4=0,O4>=9,M4=13),1,IF(AND(F4=2,G4=0,O4<9,M4=14),1,0)))))))) -> 0 | J4: =IF(AND(F4=0,G4=1,O4>=9,M4=11),1,IF(AND(F4=0,G4=1,O4<9,M4=12),1,IF(AND(F4=0,G4=0,O4>=9,M4=12),1,IF(AND(F4=0,G4=0,O4<9,M4=13),1,IF(AND(F4=1,G4=0,O4>=9,M4=13),1,IF(AND(F4=1,G4=0,O4<9,M4=14),1,IF(AND(F4=2,G4=0,O4>=9,M4=14),1,IF(AND(F4=2,G4=0,O4<9,M4=15),1,0)))))))) -> 0 | K4: =IF(SUM(H4:J4)=0,1,0) -> 0 | M4: =DATEDIF($B4,DATE(2016,9,1), "y") -> 10 | O4: =MONTH($B4) -> 10
A5: Elève 3 | B5: =INT(RAND()*(DATE(2006,12,31)-DATE(2000,1,1))+DATE(2000,1,1)) -> 38754 | D5: =RAND()*(19-2)+2 -> 11.168051 | E5: =IF(INT(RAND()*(1-0+1))+0=1,"F","M") -> M | F5: =IF(M5<11,0,IF(AND(O5<9,M5<12),0,IF(AND(O5>=9,M5=11),INT(RAND()*(1-0+1))+0,IF(AND(O5<9,M5=12),INT(RAND()*(1-0+1))+0,IF(AND(O5>=9,M5>=12,M5<=13),INT(RAND()*(2-0+1))+0,IF(AND(O5<9,M5>=13,M5<=14),INT(RAND()*(2-0+1))+0,IF(AND(O5>=9,M5=14),INT(RAND()*(2-1+1))+1,IF(AND(O5<9,M5=15),INT(RAND()*(2-1+1))+1,2)))))))) -> 0 | G5: =IF(F5>0,0,IF(M5<10,1,IF(AND(O5<9,M5=10),1,IF(AND(O5>=9,M5>=10,M5<=12),INT(RAND()*(1-0+1))+0,IF(AND(O5<9,M5>10,M5<=13),INT(RAND()*(1-0+1))+0,0))))) -> 1 | H5: =IF(M5<10,1,IF(AND(F5=0,G5=1,O5<9,M5=10),1,IF(AND(F5=0,G5=0,O5>=9,M5=10),1,IF(AND(F5=0,G5=0,O5<9,M5=11),1,IF(AND(F5=1,G5=0,O5>=9,M5=11),1,IF(AND(F5=1,G5=0,O5<9,M5=12),1,IF(AND(F5=2,G5=0,O5>=9,M5=12),1,IF(AND(F5=2,G5=0,O5<9,M5=13),1,0)))))))) -> 1 | I5: =IF(AND(F5=0,G5=1,O5>=9,M5=10),1,IF(AND(F5=0,G5=1,O5<9,M5=11),1,IF(AND(F5=0,G5=0,O5>=9,M5=11),1,IF(AND(F5=0,G5=0,O5<9,M5=12),1,IF(AND(F5=1,G5=0,O5>=9,M5=12),1,IF(AND(F5=1,G5=0,O5<9,M5=13),1,IF(AND(F5=2,G5=0,O5>=9,M5=13),1,IF(AND(F5=2,G5=0,O5<9,M5=14),1,0)))))))) -> 0 | J5: =IF(AND(F5=0,G5=1,O5>=9,M5=11),1,IF(AND(F5=0,G5=1,O5<9,M5=12),1,IF(AND(F5=0,G5=0,O5>=9,M5=12),1,IF(AND(F5=0,G5=0,O5<9,M5=13),1,IF(AND(F5=1,G5=0,O5>=9,M5=13),1,IF(AND(F5=1,G5=0,O5<9,M5=14),1,IF(AND(F5=2,G5=0,O5>=9,M5=14),1,IF(AND(F5=2,G5=0,O5<9,M5=15),1,0)))))))) -> 0 | K5: =IF(SUM(H5:J5)=0,1,0) -> 0 | M5: =DATEDIF($B5,DATE(2016,9,1), "y") -> 10 | O5: =MONTH($B5) -> 2
A6: Elève 4 | B6: =INT(RAND()*(DATE(2006,12,31)-DATE(2000,1,1))+DATE(2000,1,1)) -> 37585 | D6: =RAND()*(19-2)+2 -> 12.319582 | E6: =IF(INT(RAND()*(1-0+1))+0=1,"F","M") -> F | F6: =IF(M6<11,0,IF(AND(O6<9,M6<12),0,IF(AND(O6>=9,M6=11),INT(RAND()*(1-0+1))+0,IF(AND(O6<9,M6=12),INT(RAND()*(1-0+1))+0,IF(AND(O6>=9,M6>=12,M6<=13),INT(RAND()*(2-0+1))+0,IF(AND(O6<9,M6>=13,M6<=14),INT(RAND()*(2-0+1))+0,IF(AND(O6>=9,M6=14),INT(RAND()*(2-1+1))+1,IF(AND(O6<9,M6=15),INT(RAND()*(2-1+1))+1,2)))))))) -> 1 | G6: =IF(F6>0,0,IF(M6<10,1,IF(AND(O6<9,M6=10),1,IF(AND(O6>=9,M6>=10,M6<=12),INT(RAND()*(1-0+1))+0,IF(AND(O6<9,M6>10,M6<=13),INT(RAND()*(1-0+1))+0,0))))) -> 0 | H6: =IF(M6<10,1,IF(AND(F6=0,G6=1,O6<9,M6=10),1,IF(AND(F6=0,G6=0,O6>=9,M6=10),1,IF(AND(F6=0,G6=0,O6<9,M6=11),1,IF(AND(F6=1,G6=0,O6>=9,M6=11),1,IF(AND(F6=1,G6=0,O6<9,M6=12),1,IF(AND(F6=2,G6=0,O6>=9,M6=12),1,IF(AND(F6=2,G6=0,O6<9,M6=13),1,0)))))))) -> 0 | I6: =IF(AND(F6=0,G6=1,O6>=9,M6=10),1,IF(AND(F6=0,G6=1,O6<9,M6=11),1,IF(AND(F6=0,G6=0,O6>=9,M6=11),1,IF(AND(F6=0,G6=0,O6<9,M6=12),1,IF(AND(F6=1,G6=0,O6>=9,M6=12),1,IF(AND(F6=1,G6=0,O6<9,M6=13),1,IF(AND(F6=2,G6=0,O6>=9,M6=13),1,IF(AND(F6=2,G6=0,O6<9,M6=14),1,0)))))))) -> 0 | J6: =IF(AND(F6=0,G6=1,O6>=9,M6=11),1,IF(AND(F6=0,G6=1,O6<9,M6=12),1,IF(AND(F6=0,G6=0,O6>=9,M6=12),1,IF(AND(F6=0,G6=0,O6<9,M6=13),1,IF(AND(F6=1,G6=0,O6>=9,M6=13),1,IF(AND(F6=1,G6=0,O6<9,M6=14),1,IF(AND(F6=2,G6=0,O6>=9,M6=14),1,IF(AND(F6=2,G6=0,O6<9,M6=15),1,0)))))))) -> 1 | K6: =IF(SUM(H6:J6)=0,1,0) -> 0 | M6: =DATEDIF($B6,DATE(2016,9,1), "y") -> 13 | O6: =MONTH($B6) -> 11
A7: Elève 5 | B7: =INT(RAND()*(DATE(2006,12,31)-DATE(2000,1,1))+DATE(2000,1,1)) -> 37007 | D7: =RAND()*(19-2)+2 -> 14.252851 | E7: =IF(INT(RAND()*(1-0+1))+0=1,"F","M") -> F | F7: =IF(M7<11,0,IF(AND(O7<9,M7<12),0,IF(AND(O7>=9,M7=11),INT(RAND()*(1-0+1))+0,IF(AND(O7<9,M7=12),INT(RAND()*(1-0+1))+0,IF(AND(O7>=9,M7>=12,M7<=13),INT(RAND()*(2-0+1))+0,IF(AND(O7<9,M7>=13,M7<=14),INT(RAND()*(2-0+1))+0,IF(AND(O7>=9,M7=14),INT(RAND()*(2-1+1))+1,IF(AND(O7<9,M7=15),INT(RAND()*(2-1+1))+1,2)))))))) -> 2 | G7: =IF(F7>0,0,IF(M7<10,1,IF(AND(O7<9,M7=10),1,IF(AND(O7>=9,M7>=10,M7<=12),INT(RAND()*(1-0+1))+0,IF(AND(O7<9,M7>10,M7<=13),INT(RAND()*(1-0+1))+0,0))))) -> 0 | H7: =IF(M7<10,1,IF(AND(F7=0,G7=1,O7<9,M7=10),1,IF(AND(F7=0,G7=0,O7>=9,M7=10),1,IF(AND(F7=0,G7=0,O7<9,M7=11),1,IF(AND(F7=1,G7=0,O7>=9,M7=11),1,IF(AND(F7=1,G7=0,O7<9,M7=12),1,IF(AND(F7=2,G7=0,O7>=9,M7=12),1,IF(AND(F7=2,G7=0,O7<9,M7=13),1,0)))))))) -> 0 | I7: =IF(AND(F7=0,G7=1,O7>=9,M7=10),1,IF(AND(F7=0,G7=1,O7<9,M7=11),1,IF(AND(F7=0,G7=0,O7>=9,M7=11),1,IF(AND(F7=0,G7=0,O7<9,M7=12),1,IF(AND(F7=1,G7=0,O7>=9,M7=12),1,IF(AND(F7=1,G7=0,O7<9,M7=13),1,IF(AND(F7=2,G7=0,O7>=9,M7=13),1,IF(AND(F7=2,G7=0,O7<9,M7=14),1,0)))))))) -> 0 | J7: =IF(AND(F7=0,G7=1,O7>=9,M7=11),1,IF(AND(F7=0,G7=1,O7<9,M7=12),1,IF(AND(F7=0,G7=0,O7>=9,M7=12),1,IF(AND(F7=0,G7=0,O7<9,M7=13),1,IF(AND(F7=1,G7=0,O7>=9,M7=13),1,IF(AND(F7=1,G7=0,O7<9,M7=14),1,IF(AND(F7=2,G7=0,O7>=9,M7=14),1,IF(AND(F7=2,G7=0,O7<9,M7=15),1,0)))))))) -> 1 | K7: =IF(SUM(H7:J7)=0,1,0) -> 0 | M7: =DATEDIF($B7,DATE(2016,9,1), "y") -> 15 | O7: =MONTH($B7) -> 4
A8: Elève 6 | B8: =INT(RAND()*(DATE(2006,12,31)-DATE(2000,1,1))+DATE(2000,1,1)) -> 36853 | D8: =RAND()*(19-2)+2 -> 16.241163 | E8: =IF(INT(RAND()*(1-0+1))+0=1,"F","M") -> F | F8: =IF(M8<11,0,IF(AND(O8<9,M8<12),0,IF(AND(O8>=9,M8=11),INT(RAND()*(1-0+1))+0,IF(AND(O8<9,M8=12),INT(RAND()*(1-0+1))+0,IF(AND(O8>=9,M8>=12,M8<=13),INT(RAND()*(2-0+1))+0,IF(AND(O8<9,M8>=13,M8<=14),INT(RAND()*(2-0+1))+0,IF(AND(O8>=9,M8=14),INT(RAND()*(2-1+1))+1,IF(AND(O8<9,M8=15),INT(RAND()*(2-1+1))+1,2)))))))) -> 2 | G8: =IF(F8>0,0,IF(M8<10,1,IF(AND(O8<9,M8=10),1,IF(AND(O8>=9,M8>=10,M8<=12),INT(RAND()*(1-0+1))+0,IF(AND(O8<9,M8>10,M8<=13),INT(RAND()*(1-0+1))+0,0))))) -> 0 | H8: =IF(M8<10,1,IF(AND(F8=0,G8=1,O8<9,M8=10),1,IF(AND(F8=0,G8=0,O8>=9,M8=10),1,IF(AND(F8=0,G8=0,O8<9,M8=11),1,IF(AND(F8=1,G8=0,O8>=9,M8=11),1,IF(AND(F8=1,G8=0,O8<9,M8=12),1,IF(AND(F8=2,G8=0,O8>=9,M8=12),1,IF(AND(F8=2,G8=0,O8<9,M8=13),1,0)))))))) -> 0 | I8: =IF(AND(F8=0,G8=1,O8>=9,M8=10),1,IF(AND(F8=0,G8=1,O8<9,M8=11),1,IF(AND(F8=0,G8=0,O8>=9,M8=11),1,IF(AND(F8=0,G8=0,O8<9,M8=12),1,IF(AND(F8=1,G8=0,O8>=9,M8=12),1,IF(AND(F8=1,G8=0,O8<9,M8=13),1,IF(AND(F8=2,G8=0,O8>=9,M8=13),1,IF(AND(F8=2,G8=0,O8<9,M8=14),1,0)))))))) -> 0 | J8: =IF(AND(F8=0,G8=1,O8>=9,M8=11),1,IF(AND(F8=0,G8=1,O8<9,M8=12),1,IF(AND(F8=0,G8=0,O8>=9,M8=12),1,IF(AND(F8=0,G8=0,O8<9,M8=13),1,IF(AND(F8=1,G8=0,O8>=9,M8=13),1,IF(AND(F8=1,G8=0,O8<9,M8=14),1,IF(AND(F8=2,G8=0,O8>=9,M8=14),1,IF(AND(F8=2,G8=0,O8<9,M8=15),1,0)))))))) -> 0 | K8: =IF(SUM(H8:J8)=0,1,0) -> 1 | M8: =DATEDIF($B8,DATE(2016,9,1), "y") -> 15 | O8: =MONTH($B8) -> 11
A9: Elève 7 | B9: =INT(RAND()*(DATE(2006,12,31)-DATE(2000,1,1))+DATE(2000,1,1)) -> 37977 | D9: =RAND()*(19-2)+2 -> 18.88339 | E9: =IF(INT(RAND()*(1-0+1))+0=1,"F","M") -> F | F9: =IF(M9<11,0,IF(AND(O9<9,M9<12),0,IF(AND(O9>=9,M9=11),INT(RAND()*(1-0+1))+0,IF(AND(O9<9,M9=12),INT(RAND()*(1-0+1))+0,IF(AND(O9>=9,M9>=12,M9<=13),INT(RAND()*(2-0+1))+0,IF(AND(O9<9,M9>=13,M9<=14),INT(RAND()*(2-0+1))+0,IF(AND(O9>=9,M9=14),INT(RAND()*(2-1+1))+1,IF(AND(O9<9,M9=15),INT(RAND()*(2-1+1))+1,2)))))))) -> 0 | G9: =IF(F9>0,0,IF(M9<10,1,IF(AND(O9<9,M9=10),1,IF(AND(O9>=9,M9>=10,M9<=12),INT(RAND()*(1-0+1))+0,IF(AND(O9<9,M9>10,M9<=13),INT(RAND()*(1-0+1))+0,0))))) -> 0 | H9: =IF(M9<10,1,IF(AND(F9=0,G9=1,O9<9,M9=10),1,IF(AND(F9=0,G9=0,O9>=9,M9=10),1,IF(AND(F9=0,G9=0,O9<9,M9=11),1,IF(AND(F9=1,G9=0,O9>=9,M9=11),1,IF(AND(F9=1,G9=0,O9<9,M9=12),1,IF(AND(F9=2,G9=0,O9>=9,M9=12),1,IF(AND(F9=2,G9=0,O9<9,M9=13),1,0)))))))) -> 0 | I9: =IF(AND(F9=0,G9=1,O9>=9,M9=10),1,IF(AND(F9=0,G9=1,O9<9,M9=11),1,IF(AND(F9=0,G9=0,O9>=9,M9=11),1,IF(AND(F9=0,G9=0,O9<9,M9=12),1,IF(AND(F9=1,G9=0,O9>=9,M9=12),1,IF(AND(F9=1,G9=0,O9<9,M9=13),1,IF(AND(F9=2,G9=0,O9>=9,M9=13),1,IF(AND(F9=2,G9=0,O9<9,M9=14),1,0)))))))) -> 0 | J9: =IF(AND(F9=0,G9=1,O9>=9,M9=11),1,IF(AND(F9=0,G9=1,O9<9,M9=12),1,IF(AND(F9=0,G9=0,O9>=9,M9=12),1,IF(AND(F9=0,G9=0,O9<9,M9=13),1,IF(AND(F9=1,G9=0,O9>=9,M9=13),1,IF(AND(F9=1,G9=0,O9<9,M9=14),1,IF(AND(F9=2,G9=0,O9>=9,M9=14),1,IF(AND(F9=2,G9=0,O9<9,M9=15),1,0)))))))) -> 1 | K9: =IF(SUM(H9:J9)=0,1,0) -> 0 | M9: =DATEDIF($B9,DATE(2016,9,1), "y") -> 12 | O9: =MONTH($B9) -> 12
A10: Elève 8 | B10: =INT(RAND()*(DATE(2006,12,31)-DATE(2000,1,1))+DATE(2000,1,1)) -> 38045 | D10: =RAND()*(19-2)+2 -> 7.2472768 | E10: =IF(INT(RAND()*(1-0+1))+0=1,"F","M") -> F | F10: =IF(M10<11,0,IF(AND(O10<9,M10<12),0,IF(AND(O10>=9,M10=11),INT(RAND()*(1-0+1))+0,IF(AND(O10<9,M10=12),INT(RAND()*(1-0+1))+0,IF(AND(O10>=9,M10>=12,M10<=13),INT(RAND()*(2-0+1))+0,IF(AND(O10<9,M10>=13,M10<=14),INT(RAND()*(2-0+1))+0,IF(AND(O10>=9,M10=14),INT(RAND()*(2-1+1))+1,IF(AND(O10<9,M10=15),INT(RAND()*(2-1+1))+1,2)))))))) -> 0 | G10: =IF(F10>0,0,IF(M10<10,1,IF(AND(O10<9,M10=10),1,IF(AND(O10>=9,M10>=10,M10<=12),INT(RAND()*(1-0+1))+0,IF(AND(O10<9,M10>10,M10<=13),INT(RAND()*(1-0+1))+0,0))))) -> 0 | H10: =IF(M10<10,1,IF(AND(F10=0,G10=1,O10<9,M10=10),1,IF(AND(F10=0,G10=0,O10>=9,M10=10),1,IF(AND(F10=0,G10=0,O10<9,M10=11),1,IF(AND(F10=1,G10=0,O10>=9,M10=11),1,IF(AND(F10=1,G10=0,O10<9,M10=12),1,IF(AND(F10=2,G10=0,O10>=9,M10=12),1,IF(AND(F10=2,G10=0,O10<9,M10=13),1,0)))))))) -> 0 | I10: =IF(AND(F10=0,G10=1,O10>=9,M10=10),1,IF(AND(F10=0,G10=1,O10<9,M10=11),1,IF(AND(F10=0,G10=0,O10>=9,M10=11),1,IF(AND(F10=0,G10=0,O10<9,M10=12),1,IF(AND(F10=1,G10=0,O10>=9,M10=12),1,IF(AND(F10=1,G10=0,O10<9,M10=13),1,IF(AND(F10=2,G10=0,O10>=9,M10=13),1,IF(AND(F10=2,G10=0,O10<9,M10=14),1,0)))))))) -> 1 | J10: =IF(AND(F10=0,G10=1,O10>=9,M10=11),1,IF(AND(F10=0,G10=1,O10<9,M10=12),1,IF(AND(F10=0,G10=0,O10>=9,M10=12),1,IF(AND(F10=0,G10=0,O10<9,M10=13),1,IF(AND(F10=1,G10=0,O10>=9,M10=13),1,IF(AND(F10=1,G10=0,O10<9,M10=14),1,IF(AND(F10=2,G10=0,O10>=9,M10=14),1,IF(AND(F10=2,G10=0,O10<9,M10=15),1,0)))))))) -> 0 | K10: =IF(SUM(H10:J10)=0,1,0) -> 0 | M10: =DATEDIF($B10,DATE(2016,9,1), "y") -> 12 | O10: =MONTH($B10) -> 2
A11: Elève 9 | B11: =INT(RAND()*(DATE(2006,12,31)-DATE(2000,1,1))+DATE(2000,1,1)) -> 38091 | D11: =RAND()*(19-2)+2 -> 11.751909 | E11: =IF(INT(RAND()*(1-0+1))+0=1,"F","M") -> F | F11: =IF(M11<11,0,IF(AND(O11<9,M11<12),0,IF(AND(O11>=9,M11=11),INT(RAND()*(1-0+1))+0,IF(AND(O11<9,M11=12),INT(RAND()*(1-0+1))+0,IF(AND(O11>=9,M11>=12,M11<=13),INT(RAND()*(2-0+1))+0,IF(AND(O11<9,M11>=13,M11<=14),INT(RAND()*(2-0+1))+0,IF(AND(O11>=9,M11=14),INT(RAND()*(2-1+1))+1,IF(AND(O11<9,M11=15),INT(RAND()*(2-1+1))+1,2)))))))) -> 0 | G11: =IF(F11>0,0,IF(M11<10,1,IF(AND(O11<9,M11=10),1,IF(AND(O11>=9,M11>=10,M11<=12),INT(RAND()*(1-0+1))+0,IF(AND(O11<9,M11>10,M11<=13),INT(RAND()*(1-0+1))+0,0))))) -> 1 | H11: =IF(M11<10,1,IF(AND(F11=0,G11=1,O11<9,M11=10),1,IF(AND(F11=0,G11=0,O11>=9,M11=10),1,IF(AND(F11=0,G11=0,O11<9,M11=11),1,IF(AND(F11=1,G11=0,O11>=9,M11=11),1,IF(AND(F11=1,G11=0,O11<9,M11=12),1,IF(AND(F11=2,G11=0,O11>=9,M11=12),1,IF(AND(F11=2,G11=0,O11<9,M11=13),1,0)))))))) -> 0 | I11: =IF(AND(F11=0,G11=1,O11>=9,M11=10),1,IF(AND(F11=0,G11=1,O11<9,M11=11),1,IF(AND(F11=0,G11=0,O11>=9,M11=11),1,IF(AND(F11=0,G11=0,O11<9,M11=12),1,IF(AND(F11=1,G11=0,O11>=9,M11=12),1,IF(AND(F11=1,G11=0,O11<9,M11=13),1,IF(AND(F11=2,G11=0,O11>=9,M11=13),1,IF(AND(F11=2,G11=0,O11<9,M11=14),1,0)))))))) -> 0 | J11: =IF(AND(F11=0,G11=1,O11>=9,M11=11),1,IF(AND(F11=0,G11=1,O11<9,M11=12),1,IF(AND(F11=0,G11=0,O11>=9,M11=12),1,IF(AND(F11=0,G11=0,O11<9,M11=13),1,IF(AND(F11=1,G11=0,O11>=9,M11=13),1,IF(AND(F11=1,G11=0,O11<9,M11=14),1,IF(AND(F11=2,G11=0,O11>=9,M11=14),1,IF(AND(F11=2,G11=0,O11<9,M11=15),1,0)))))))) -> 1 | K11: =IF(SUM(H11:J11)=0,1,0) -> 0 | M11: =DATEDIF($B11,DATE(2016,9,1), "y") -> 12 | O11: =MONTH($B11) -> 4
A12: Elève 10 | B12: =INT(RAND()*(DATE(2006,12,31)-DATE(2000,1,1))+DATE(2000,1,1)) -> 37920 | D12: =RAND()*(19-2)+2 -> 8.1981738 | E12: =IF(INT(RAND()*(1-0+1))+0=1,"F","M") -> F | F12: =IF(M12<11,0,IF(AND(O12<9,M12<12),0,IF(AND(O12>=9,M12=11),INT(RAND()*(1-0+1))+0,IF(AND(O12<9,M12=12),INT(RAND()*(1-0+1))+0,IF(AND(O12>=9,M12>=12,M12<=13),INT(RAND()*(2-0+1))+0,IF(AND(O12<9,M12>=13,M12<=14),INT(RAND()*(2-0+1))+0,IF(AND(O12>=9,M12=14),INT(RAND()*(2-1+1))+1,IF(AND(O12<9,M12=15),INT(RAND()*(2-1+1))+1,2)))))))) -> 1 | G12: =IF(F12>0,0,IF(M12<10,1,IF(AND(O12<9,M12=10),1,IF(AND(O12>=9,M12>=10,M12<=12),INT(RAND()*(1-0+1))+0,IF(AND(O12<9,M12>10,M12<=13),INT(RAND()*(1-0+1))+0,0))))) -> 0 | H12: =IF(M12<10,1,IF(AND(F12=0,G12=1,O12<9,M12=10),1,IF(AND(F12=0,G12=0,O12>=9,M12=10),1,IF(AND(F12=0,G12=0,O12<9,M12=11),1,IF(AND(F12=1,G12=0,O12>=9,M12=11),1,IF(AND(F12=1,G12=0,O12<9,M12=12),1,IF(AND(F12=2,G12=0,O12>=9,M12=12),1,IF(AND(F12=2,G12=0,O12<9,M12=13),1,0)))))))) -> 0 | I12: =IF(AND(F12=0,G12=1,O12>=9,M12=10),1,IF(AND(F12=0,G12=1,O12<9,M12=11),1,IF(AND(F12=0,G12=0,O12>=9,M12=11),1,IF(AND(F12=0,G12=0,O12<9,M12=12),1,IF(AND(F12=1,G12=0,O12>=9,M12=12),1,IF(AND(F12=1,G12=0,O12<9,M12=13),1,IF(AND(F12=2,G12=0,O12>=9,M12=13),1,IF(AND(F12=2,G12=0,O12<9,M12=14),1,0)))))))) -> 1 | J12: =IF(AND(F12=0,G12=1,O12>=9,M12=11),1,IF(AND(F12=0,G12=1,O12<9,M12=12),1,IF(AND(F12=0,G12=0,O12>=9,M12=12),1,IF(AND(F12=0,G12=0,O12<9,M12=13),1,IF(AND(F12=1,G12=0,O12>=9,M12=13),1,IF(AND(F12=1,G12=0,O12<9,M12=14),1,IF(AND(F12=2,G12=0,O12>=9,M12=14),1,IF(AND(F12=2,G12=0,O12<9,M12=15),1,0)))))))) -> 0 | K12: =IF(SUM(H12:J12)=0,1,0) -> 0 | M12: =DATEDIF($B12,DATE(2016,9,1), "y") -> 12 | O12: =MONTH($B12) -> 10
A13: Elève 11 | B13: =INT(RAND()*(DATE(2006,12,31)-DATE(2000,1,1))+DATE(2000,1,1)) -> 36898 | D13: =RAND()*(19-2)+2 -> 8.6348453 | E13: =IF(INT(RAND()*(1-0+1))+0=1,"F","M") -> M | F13: =IF(M13<11,0,IF(AND(O13<9,M13<12),0,IF(AND(O13>=9,M13=11),INT(RAND()*(1-0+1))+0,IF(AND(O13<9,M13=12),INT(RAND()*(1-0+1))+0,IF(AND(O13>=9,M13>=12,M13<=13),INT(RAND()*(2-0+1))+0,IF(AND(O13<9,M13>=13,M13<=14),INT(RAND()*(2-0+1))+0,IF(AND(O13>=9,M13=14),INT(RAND()*(2-1+1))+1,IF(AND(O13<9,M13=15),INT(RAND()*(2-1+1))+1,2)))))))) -> 1 | G13: =IF(F13>0,0,IF(M13<10,1,IF(AND(O13<9,M13=10),1,IF(AND(O13>=9,M13>=10,M13<=12),INT(RAND()*(1-0+1))+0,IF(AND(O13<9,M13>10,M13<=13),INT(RAND()*(1-0+1))+0,0))))) -> 0 | H13: =IF(M13<10,1,IF(AND(F13=0,G13=1,O13<9,M13=10),1,IF(AND(F13=0,G13=0,O13>=9,M13=10),1,IF(AND(F13=0,G13=0,O13<9,M13=11),1,IF(AND(F13=1,G13=0,O13>=9,M13=11),1,IF(AND(F13=1,G13=0,O13<9,M13=12),1,IF(AND(F13=2,G13=0,O13>=9,M13=12),1,IF(AND(F13=2,G13=0,O13<9,M13=13),1,0)))))))) -> 0 | I13: =IF(AND(F13=0,G13=1,O13>=9,M13=10),1,IF(AND(F13=0,G13=1,O13<9,M13=11),1,IF(AND(F13=0,G13=0,O13>=9,M13=11),1,IF(AND(F13=0,G13=0,O13<9,M13=12),1,IF(AND(F13=1,G13=0,O13>=9,M13=12),1,IF(AND(F13=1,G13=0,O13<9,M13=13),1,IF(AND(F13=2,G13=0,O13>=9,M13=13),1,IF(AND(F13=2,G13=0,O13<9,M13=14),1,0)))))))) -> 0 | J13: =IF(AND(F13=0,G13=1,O13>=9,M13=11),1,IF(AND(F13=0,G13=1,O13<9,M13=12),1,IF(AND(F13=0,G13=0,O13>=9,M13=12),1,IF(AND(F13=0,G13=0,O13<9,M13=13),1,IF(AND(F13=1,G13=0,O13>=9,M13=13),1,IF(AND(F13=1,G13=0,O13<9,M13=14),1,IF(AND(F13=2,G13=0,O13>=9,M13=14),1,IF(AND(F13=2,G13=0,O13<9,M13=15),1,0)))))))) -> 0 | K13: =IF(SUM(H13:J13)=0,1,0) -> 1 | M13: =DATEDIF($B13,DATE(2016,9,1), "y") -> 15 | O13: =MONTH($B13) -> 1
A14: Elève 12 | B14: =INT(RAND()*(DATE(2006,12,31)-DATE(2000,1,1))+DATE(2000,1,1)) -> 38031 | D14: =RAND()*(19-2)+2 -> 8.9150396 | E14: =IF(INT(RAND()*(1-0+1))+0=1,"F","M") -> M | F14: =IF(M14<11,0,IF(AND(O14<9,M14<12),0,IF(AND(O14>=9,M14=11),INT(RAND()*(1-0+1))+0,IF(AND(O14<9,M14=12),INT(RAND()*(1-0+1))+0,IF(AND(O14>=9,M14>=12,M14<=13),INT(RAND()*(2-0+1))+0,IF(AND(O14<9,M14>=13,M14<=14),INT(RAND()*(2-0+1))+0,IF(AND(O14>=9,M14=14),INT(RAND()*(2-1+1))+1,IF(AND(O14<9,M14=15),INT(RAND()*(2-1+1))+1,2)))))))) -> 0 | G14: =IF(F14>0,0,IF(M14<10,1,IF(AND(O14<9,M14=10),1,IF(AND(O14>=9,M14>=10,M14<=12),INT(RAND()*(1-0+1))+0,IF(AND(O14<9,M14>10,M14<=13),INT(RAND()*(1-0+1))+0,0))))) -> 0 | H14: =IF(M14<10,1,IF(AND(F14=0,G14=1,O14<9,M14=10),1,IF(AND(F14=0,G14=0,O14>=9,M14=10),1,IF(AND(F14=0,G14=0,O14<9,M14=11),1,IF(AND(F14=1,G14=0,O14>=9,M14=11),1,IF(AND(F14=1,G14=0,O14<9,M14=12),1,IF(AND(F14=2,G14=0,O14>=9,M14=12),1,IF(AND(F14=2,G14=0,O14<9,M14=13),1,0)))))))) -> 0 | I14: =IF(AND(F14=0,G14=1,O14>=9,M14=10),1,IF(AND(F14=0,G14=1,O14<9,M14=11),1,IF(AND(F14=0,G14=0,O14>=9,M14=11),1,IF(AND(F14=0,G14=0,O14<9,M14=12),1,IF(AND(F14=1,G14=0,O14>=9,M14=12),1,IF(AND(F14=1,G14=0,O14<9,M14=13),1,IF(AND(F14=2,G14=0,O14>=9,M14=13),1,IF(AND(F14=2,G14=0,O14<9,M14=14),1,0)))))))) -> 1 | J14: =IF(AND(F14=0,G14=1,O14>=9,M14=11),1,IF(AND(F14=0,G14=1,O14<9,M14=12),1,IF(AND(F14=0,G14=0,O14>=9,M14=12),1,IF(AND(F14=0,G14=0,O14<9,M14=13),1,IF(AND(F14=1,G14=0,O14>=9,M14=13),1,IF(AND(F14=1,G14=0,O14<9,M14=14),1,IF(AND(F14=2,G14=0,O14>=9,M14=14),1,IF(AND(F14=2,G14=0,O14<9,M14=15),1,0)))))))) -> 0 | K14: =IF(SUM(H14:J14)=0,1,0) -> 0 | M14: =DATEDIF($B14,DATE(2016,9,1), "y") -> 12 | O14: =MONTH($B14) -> 2
... A300: Elève 298 | B300: =INT(RAND()*(DATE(2006,12,31)-DATE(2000,1,1))+DATE(2000,1,1)) -> 39022 | D300: =RAND()*(19-2)+2 -> 3.967883 | E300: =IF(INT(RAND()*(1-0+1))+0=1,"F","M") -> M | F300: =IF(M300<11,0,IF(AND(O300<9,M300<12),0,IF(AND(O300>=9,M300=11),INT(RAND()*(1-0+1))+0,IF(AND(O300<9,M300=12),INT(RAND()*(1-0+1))+0,IF(AND(O300>=9,M300>=12,M300<=13),INT(RAND()*(2-0+1))+0,IF(AND(O300<9,M300>=13,M300<=14),INT(RAND()*(2-0+1))+0,IF(AND(O300>=9,M300=14),INT(RAND()*(2-1+1))+1,IF(AND(O300<9,M300=15),INT(RAND()*(2-1+1))+1,2)))))))) -> 0 | G300: =IF(F300>0,0,IF(M300<10,1,IF(AND(O300<9,M300=10),1,IF(AND(O300>=9,M300>=10,M300<=12),INT(RAND()*(1-0+1))+0,IF(AND(O300<9,M300>10,M300<=13),INT(RAND()*(1-0+1))+0,0))))) -> 1 | H300: =IF(M300<10,1,IF(AND(F300=0,G300=1,O300<9,M300=10),1,IF(AND(F300=0,G300=0,O300>=9,M300=10),1,IF(AND(F300=0,G300=0,O300<9,M300=11),1,IF(AND(F300=1,G300=0,O300>=9,M300=11),1,IF(AND(F300=1,G300=0,O300<9,M300=12),1,IF(AND(F300=2,G300=0,O300>=9,M300=12),1,IF(AND(F300=2,G300=0,O300<9,M300=13),1,0)))))))) -> 1 | I300: =IF(AND(F300=0,G300=1,O300>=9,M300=10),1,IF(AND(F300=0,G300=1,O300<9,M300=11),1,IF(AND(F300=0,G300=0,O300>=9,M300=11),1,IF(AND(F300=0,G300=0,O300<9,M300=12),1,IF(AND(F300=1,G300=0,O300>=9,M300=12),1,IF(AND(F300=1,G300=0,O300<9,M300=13),1,IF(AND(F300=2,G300=0,O300>=9,M300=13),1,IF(AND(F300=2,G300=0,O300<9,M300=14),1,0)))))))) -> 0 | J300: =IF(AND(F300=0,G300=1,O300>=9,M300=11),1,IF(AND(F300=0,G300=1,O300<9,M300=12),1,IF(AND(F300=0,G300=0,O300>=9,M300=12),1,IF(AND(F300=0,G300=0,O300<9,M300=13),1,IF(AND(F300=1,G300=0,O300>=9,M300=13),1,IF(AND(F300=1,G300=0,O300<9,M300=14),1,IF(AND(F300=2,G300=0,O300>=9,M300=14),1,IF(AND(F300=2,G300=0,O300<9,M300=15),1,0)))))))) -> 0 | K300: =IF(SUM(H300:J300)=0,1,0) -> 0 | M300: =DATEDIF($B300,DATE(2016,9,1), "y") -> 9 | O300: =MONTH($B300) -> 11

Sheet Feuille 1 copiée
B2: Date de naissance | D2: Moyenne générale | E2: Genre | F2: Redoublement | G2: Saut de classe | H2: 6ème | I2: 5ème | J2: 4ème | K2: 3ème | M2: Age | O2: Mois de naissance
A3: Elève 1 | B3: 39062 | D3: 17.221717 | E3: F | F3: 0 | G3: 1 | H3: =IF(M3<10,1,IF(AND(F3=0,G3=1,O3<9,M3=10),1,IF(AND(F3=0,G3=0,O3>=9,M3=10),1,IF(AND(F3=0,G3=0,O3<9,M3=11),1,IF(AND(F3=1,G3=0,O3>=9,M3=11),1,IF(AND(F3=1,G3=0,O3<9,M3=12),1,IF(AND(F3=2,G3=0,O3>=9,M3=12),1,IF(AND(F3=2,G3=0,O3<9,M3=13),1,0)))))))) -> 1 | I3: =IF(AND(F3=0,G3=1,O3>=9,M3=10),1,IF(AND(F3=0,G3=1,O3<9,M3=11),1,IF(AND(F3=0,G3=0,O3>=9,M3=11),1,IF(AND(F3=0,G3=0,O3<9,M3=12),1,IF(AND(F3=1,G3=0,O3>=9,M3=12),1,IF(AND(F3=1,G3=0,O3<9,M3=13),1,IF(AND(F3=2,G3=0,O3>=9,M3=13),1,IF(AND(F3=2,G3=0,O3<9,M3=14),1,0)))))))) -> 0 | J3: =IF(AND(F3=0,G3=1,O3>=9,M3=11),1,IF(AND(F3=0,G3=1,O3<9,M3=12),1,IF(AND(F3=0,G3=0,O3>=9,M3=12),1,IF(AND(F3=0,G3=0,O3<9,M3=13),1,IF(AND(F3=1,G3=0,O3>=9,M3=13),1,IF(AND(F3=1,G3=0,O3<9,M3=14),1,IF(AND(F3=2,G3=0,O3>=9,M3=14),1,IF(AND(F3=2,G3=0,O3<9,M3=15),1,0)))))))) -> 0 | K3: =IF(SUM(H3:J3)=0,1,0) -> 0 | M3: =DATEDIF($B3,DATE(2016,9,1), "y") -> 9 | O3: =MONTH($B3) -> 12
A4: Elève 2 | B4: 39061 | D4: 7.3907226 | E4: F | F4: 0 | G4: 1 | H4: =IF(M4<10,1,IF(AND(F4=0,G4=1,O4<9,M4=10),1,IF(AND(F4=0,G4=0,O4>=9,M4=10),1,IF(AND(F4=0,G4=0,O4<9,M4=11),1,IF(AND(F4=1,G4=0,O4>=9,M4=11),1,IF(AND(F4=1,G4=0,O4<9,M4=12),1,IF(AND(F4=2,G4=0,O4>=9,M4=12),1,IF(AND(F4=2,G4=0,O4<9,M4=13),1,0)))))))) -> 1 | I4: =IF(AND(F4=0,G4=1,O4>=9,M4=10),1,IF(AND(F4=0,G4=1,O4<9,M4=11),1,IF(AND(F4=0,G4=0,O4>=9,M4=11),1,IF(AND(F4=0,G4=0,O4<9,M4=12),1,IF(AND(F4=1,G4=0,O4>=9,M4=12),1,IF(AND(F4=1,G4=0,O4<9,M4=13),1,IF(AND(F4=2,G4=0,O4>=9,M4=13),1,IF(AND(F4=2,G4=0,O4<9,M4=14),1,0)))))))) -> 0 | J4: =IF(AND(F4=0,G4=1,O4>=9,M4=11),1,IF(AND(F4=0,G4=1,O4<9,M4=12),1,IF(AND(F4=0,G4=0,O4>=9,M4=12),1,IF(AND(F4=0,G4=0,O4<9,M4=13),1,IF(AND(F4=1,G4=0,O4>=9,M4=13),1,IF(AND(F4=1,G4=0,O4<9,M4=14),1,IF(AND(F4=2,G4=0,O4>=9,M4=14),1,IF(AND(F4=2,G4=0,O4<9,M4=15),1,0)))))))) -> 0 | K4: =IF(SUM(H4:J4)=0,1,0) -> 0 | M4: =DATEDIF($B4,DATE(2016,9,1), "y") -> 9 | O4: =MONTH($B4) -> 12
A5: Elève 3 | B5: 39035 | D5: 2.914952 | E5: F | F5: 0 | G5: 1 | H5: =IF(M5<10,1,IF(AND(F5=0,G5=1,O5<9,M5=10),1,IF(AND(F5=0,G5=0,O5>=9,M5=10),1,IF(AND(F5=0,G5=0,O5<9,M5=11),1,IF(AND(F5=1,G5=0,O5>=9,M5=11),1,IF(AND(F5=1,G5=0,O5<9,M5=12),1,IF(AND(F5=2,G5=0,O5>=9,M5=12),1,IF(AND(F5=2,G5=0,O5<9,M5=13),1,0)))))))) -> 1 | I5: =IF(AND(F5=0,G5=1,O5>=9,M5=10),1,IF(AND(F5=0,G5=1,O5<9,M5=11),1,IF(AND(F5=0,G5=0,O5>=9,M5=11),1,IF(AND(F5=0,G5=0,O5<9,M5=12),1,IF(AND(F5=1,G5=0,O5>=9,M5=12),1,IF(AND(F5=1,G5=0,O5<9,M5=13),1,IF(AND(F5=2,G5=0,O5>=9,M5=13),1,IF(AND(F5=2,G5=0,O5<9,M5=14),1,0)))))))) -> 0 | J5: =IF(AND(F5=0,G5=1,O5>=9,M5=11),1,IF(AND(F5=0,G5=1,O5<9,M5=12),1,IF(AND(F5=0,G5=0,O5>=9,M5=12),1,IF(AND(F5=0,G5=0,O5<9,M5=13),1,IF(AND(F5=1,G5=0,O5>=9,M5=13),1,IF(AND(F5=1,G5=0,O5<9,M5=14),1,IF(AND(F5=2,G5=0,O5>=9,M5=14),1,IF(AND(F5=2,G5=0,O5<9,M5=15),1,0)))))))) -> 0 | K5: =IF(SUM(H5:J5)=0,1,0) -> 0 | M5: =DATEDIF($B5,DATE(2016,9,1), "y") -> 9 | O5: =MONTH($B5) -> 11
A6: Elève 4 | B6: 39032 | D6: 16.893457 | E6: M | F6: 0 | G6: 1 | H6: =IF(M6<10,1,IF(AND(F6=0,G6=1,O6<9,M6=10),1,IF(AND(F6=0,G6=0,O6>=9,M6=10),1,IF(AND(F6=0,G6=0,O6<9,M6=11),1,IF(AND(F6=1,G6=0,O6>=9,M6=11),1,IF(AND(F6=1,G6=0,O6<9,M6=12),1,IF(AND(F6=2,G6=0,O6>=9,M6=12),1,IF(AND(F6=2,G6=0,O6<9,M6=13),1,0)))))))) -> 1 | I6: =IF(AND(F6=0,G6=1,O6>=9,M6=10),1,IF(AND(F6=0,G6=1,O6<9,M6=11),1,IF(AND(F6=0,G6=0,O6>=9,M6=11),1,IF(AND(F6=0,G6=0,O6<9,M6=12),1,IF(AND(F6=1,G6=0,O6>=9,M6=12),1,IF(AND(F6=1,G6=0,O6<9,M6=13),1,IF(AND(F6=2,G6=0,O6>=9,M6=13),1,IF(AND(F6=2,G6=0,O6<9,M6=14),1,0)))))))) -> 0 | J6: =IF(AND(F6=0,G6=1,O6>=9,M6=11),1,IF(AND(F6=0,G6=1,O6<9,M6=12),1,IF(AND(F6=0,G6=0,O6>=9,M6=12),1,IF(AND(F6=0,G6=0,O6<9,M6=13),1,IF(AND(F6=1,G6=0,O6>=9,M6=13),1,IF(AND(F6=1,G6=0,O6<9,M6=14),1,IF(AND(F6=2,G6=0,O6>=9,M6=14),1,IF(AND(F6=2,G6=0,O6<9,M6=15),1,0)))))))) -> 0 | K6: =IF(SUM(H6:J6)=0,1,0) -> 0 | M6: =DATEDIF($B6,DATE(2016,9,1), "y") -> 9 | O6: =MONTH($B6) -> 11
A7: Elève 5 | B7: 39031 | D7: 4.2300026 | E7: M | F7: 0 | G7: 1 | H7: =IF(M7<10,1,IF(AND(F7=0,G7=1,O7<9,M7=10),1,IF(AND(F7=0,G7=0,O7>=9,M7=10),1,IF(AND(F7=0,G7=0,O7<9,M7=11),1,IF(AND(F7=1,G7=0,O7>=9,M7=11),1,IF(AND(F7=1,G7=0,O7<9,M7=12),1,IF(AND(F7=2,G7=0,O7>=9,M7=12),1,IF(AND(F7=2,G7=0,O7<9,M7=13),1,0)))))))) -> 1 | I7: =IF(AND(F7=0,G7=1,O7>=9,M7=10),1,IF(AND(F7=0,G7=1,O7<9,M7=11),1,IF(AND(F7=0,G7=0,O7>=9,M7=11),1,IF(AND(F7=0,G7=0,O7<9,M7=12),1,IF(AND(F7=1,G7=0,O7>=9,M7=12),1,IF(AND(F7=1,G7=0,O7<9,M7=13),1,IF(AND(F7=2,G7=0,O7>=9,M7=13),1,IF(AND(F7=2,G7=0,O7<9,M7=14),1,0)))))))) -> 0 | J7: =IF(AND(F7=0,G7=1,O7>=9,M7=11),1,IF(AND(F7=0,G7=1,O7<9,M7=12),1,IF(AND(F7=0,G7=0,O7>=9,M7=12),1,IF(AND(F7=0,G7=0,O7<9,M7=13),1,IF(AND(F7=1,G7=0,O7>=9,M7=13),1,IF(AND(F7=1,G7=0,O7<9,M7=14),1,IF(AND(F7=2,G7=0,O7>=9,M7=14),1,IF(AND(F7=2,G7=0,O7<9,M7=15),1,0)))))))) -> 0 | K7: =IF(SUM(H7:J7)=0,1,0) -> 0 | M7: =DATEDIF($B7,DATE(2016,9,1), "y") -> 9 | O7: =MONTH($B7) -> 11
A8: Elève 6 | B8: 39025 | D8: 4.9308123 | E8: F | F8: 0 | G8: 1 | H8: =IF(M8<10,1,IF(AND(F8=0,G8=1,O8<9,M8=10),1,IF(AND(F8=0,G8=0,O8>=9,M8=10),1,IF(AND(F8=0,G8=0,O8<9,M8=11),1,IF(AND(F8=1,G8=0,O8>=9,M8=11),1,IF(AND(F8=1,G8=0,O8<9,M8=12),1,IF(AND(F8=2,G8=0,O8>=9,M8=12),1,IF(AND(F8=2,G8=0,O8<9,M8=13),1,0)))))))) -> 1 | I8: =IF(AND(F8=0,G8=1,O8>=9,M8=10),1,IF(AND(F8=0,G8=1,O8<9,M8=11),1,IF(AND(F8=0,G8=0,O8>=9,M8=11),1,IF(AND(F8=0,G8=0,O8<9,M8=12),1,IF(AND(F8=1,G8=0,O8>=9,M8=12),1,IF(AND(F8=1,G8=0,O8<9,M8=13),1,IF(AND(F8=2,G8=0,O8>=9,M8=13),1,IF(AND(F8=2,G8=0,O8<9,M8=14),1,0)))))))) -> 0 | J8: =IF(AND(F8=0,G8=1,O8>=9,M8=11),1,IF(AND(F8=0,G8=1,O8<9,M8=12),1,IF(AND(F8=0,G8=0,O8>=9,M8=12),1,IF(AND(F8=0,G8=0,O8<9,M8=13),1,IF(AND(F8=1,G8=0,O8>=9,M8=13),1,IF(AND(F8=1,G8=0,O8<9,M8=14),1,IF(AND(F8=2,G8=0,O8>=9,M8=14),1,IF(AND(F8=2,G8=0,O8<9,M8=15),1,0)))))))) -> 0 | K8: =IF(SUM(H8:J8)=0,1,0) -> 0 | M8: =DATEDIF($B8,DATE(2016,9,1), "y") -> 9 | O8: =MONTH($B8) -> 11
A9: Elève 7 | B9: 39016 | D9: 17.175077 | E9: M | F9: 0 | G9: 1 | H9: =IF(M9<10,1,IF(AND(F9=0,G9=1,O9<9,M9=10),1,IF(AND(F9=0,G9=0,O9>=9,M9=10),1,IF(AND(F9=0,G9=0,O9<9,M9=11),1,IF(AND(F9=1,G9=0,O9>=9,M9=11),1,IF(AND(F9=1,G9=0,O9<9,M9=12),1,IF(AND(F9=2,G9=0,O9>=9,M9=12),1,IF(AND(F9=2,G9=0,O9<9,M9=13),1,0)))))))) -> 1 | I9: =IF(AND(F9=0,G9=1,O9>=9,M9=10),1,IF(AND(F9=0,G9=1,O9<9,M9=11),1,IF(AND(F9=0,G9=0,O9>=9,M9=11),1,IF(AND(F9=0,G9=0,O9<9,M9=12),1,IF(AND(F9=1,G9=0,O9>=9,M9=12),1,IF(AND(F9=1,G9=0,O9<9,M9=13),1,IF(AND(F9=2,G9=0,O9>=9,M9=13),1,IF(AND(F9=2,G9=0,O9<9,M9=14),1,0)))))))) -> 0 | J9: =IF(AND(F9=0,G9=1,O9>=9,M9=11),1,IF(AND(F9=0,G9=1,O9<9,M9=12),1,IF(AND(F9=0,G9=0,O9>=9,M9=12),1,IF(AND(F9=0,G9=0,O9<9,M9=13),1,IF(AND(F9=1,G9=0,O9>=9,M9=13),1,IF(AND(F9=1,G9=0,O9<9,M9=14),1,IF(AND(F9=2,G9=0,O9>=9,M9=14),1,IF(AND(F9=2,G9=0,O9<9,M9=15),1,0)))))))) -> 0 | K9: =IF(SUM(H9:J9)=0,1,0) -> 0 | M9: =DATEDIF($B9,DATE(2016,9,1), "y") -> 9 | O9: =MONTH($B9) -> 10
A10: Elève 8 | B10: 39016 | D10: 10.097613 | E10: M | F10: 0 | G10: 1 | H10: =IF(M10<10,1,IF(AND(F10=0,G10=1,O10<9,M10=10),1,IF(AND(F10=0,G10=0,O10>=9,M10=10),1,IF(AND(F10=0,G10=0,O10<9,M10=11),1,IF(AND(F10=1,G10=0,O10>=9,M10=11),1,IF(AND(F10=1,G10=0,O10<9,M10=12),1,IF(AND(F10=2,G10=0,O10>=9,M10=12),1,IF(AND(F10=2,G10=0,O10<9,M10=13),1,0)))))))) -> 1 | I10: =IF(AND(F10=0,G10=1,O10>=9,M10=10),1,IF(AND(F10=0,G10=1,O10<9,M10=11),1,IF(AND(F10=0,G10=0,O10>=9,M10=11),1,IF(AND(F10=0,G10=0,O10<9,M10=12),1,IF(AND(F10=1,G10=0,O10>=9,M10=12),1,IF(AND(F10=1,G10=0,O10<9,M10=13),1,IF(AND(F10=2,G10=0,O10>=9,M10=13),1,IF(AND(F10=2,G10=0,O10<9,M10=14),1,0)))))))) -> 0 | J10: =IF(AND(F10=0,G10=1,O10>=9,M10=11),1,IF(AND(F10=0,G10=1,O10<9,M10=12),1,IF(AND(F10=0,G10=0,O10>=9,M10=12),1,IF(AND(F10=0,G10=0,O10<9,M10=13),1,IF(AND(F10=1,G10=0,O10>=9,M10=13),1,IF(AND(F10=1,G10=0,O10<9,M10=14),1,IF(AND(F10=2,G10=0,O10>=9,M10=14),1,IF(AND(F10=2,G10=0,O10<9,M10=15),1,0)))))))) -> 0 | K10: =IF(SUM(H10:J10)=0,1,0) -> 0 | M10: =DATEDIF($B10,DATE(2016,9,1), "y") -> 9 | O10: =MONTH($B10) -> 10
A11: Elève 9 | B11: 38995 | D11: 4.6806932 | E11: M | F11: 0 | G11: 1 | H11: =IF(M11<10,1,IF(AND(F11=0,G11=1,O11<9,M11=10),1,IF(AND(F11=0,G11=0,O11>=9,M11=10),1,IF(AND(F11=0,G11=0,O11<9,M11=11),1,IF(AND(F11=1,G11=0,O11>=9,M11=11),1,IF(AND(F11=1,G11=0,O11<9,M11=12),1,IF(AND(F11=2,G11=0,O11>=9,M11=12),1,IF(AND(F11=2,G11=0,O11<9,M11=13),1,0)))))))) -> 1 | I11: =IF(AND(F11=0,G11=1,O11>=9,M11=10),1,IF(AND(F11=0,G11=1,O11<9,M11=11),1,IF(AND(F11=0,G11=0,O11>=9,M11=11),1,IF(AND(F11=0,G11=0,O11<9,M11=12),1,IF(AND(F11=1,G11=0,O11>=9,M11=12),1,IF(AND(F11=1,G11=0,O11<9,M11=13),1,IF(AND(F11=2,G11=0,O11>=9,M11=13),1,IF(AND(F11=2,G11=0,O11<9,M11=14),1,0)))))))) -> 0 | J11: =IF(AND(F11=0,G11=1,O11>=9,M11=11),1,IF(AND(F11=0,G11=1,O11<9,M11=12),1,IF(AND(F11=0,G11=0,O11>=9,M11=12),1,IF(AND(F11=0,G11=0,O11<9,M11=13),1,IF(AND(F11=1,G11=0,O11>=9,M11=13),1,IF(AND(F11=1,G11=0,O11<9,M11=14),1,IF(AND(F11=2,G11=0,O11>=9,M11=14),1,IF(AND(F11=2,G11=0,O11<9,M11=15),1,0)))))))) -> 0 | K11: =IF(SUM(H11:J11)=0,1,0) -> 0 | M11: =DATEDIF($B11,DATE(2016,9,1), "y") -> 9 | O11: =MONTH($B11) -> 10
A12: Elève 10 | B12: 38989 | D12: 8.7574741 | E12: F | F12: 0 | G12: 1 | H12: =IF(M12<10,1,IF(AND(F12=0,G12=1,O12<9,M12=10),1,IF(AND(F12=0,G12=0,O12>=9,M12=10),1,IF(AND(F12=0,G12=0,O12<9,M12=11),1,IF(AND(F12=1,G12=0,O12>=9,M12=11),1,IF(AND(F12=1,G12=0,O12<9,M12=12),1,IF(AND(F12=2,G12=0,O12>=9,M12=12),1,IF(AND(F12=2,G12=0,O12<9,M12=13),1,0)))))))) -> 1 | I12: =IF(AND(F12=0,G12=1,O12>=9,M12=10),1,IF(AND(F12=0,G12=1,O12<9,M12=11),1,IF(AND(F12=0,G12=0,O12>=9,M12=11),1,IF(AND(F12=0,G12=0,O12<9,M12=12),1,IF(AND(F12=1,G12=0,O12>=9,M12=12),1,IF(AND(F12=1,G12=0,O12<9,M12=13),1,IF(AND(F12=2,G12=0,O12>=9,M12=13),1,IF(AND(F12=2,G12=0,O12<9,M12=14),1,0)))))))) -> 0 | J12: =IF(AND(F12=0,G12=1,O12>=9,M12=11),1,IF(AND(F12=0,G12=1,O12<9,M12=12),1,IF(AND(F12=0,G12=0,O12>=9,M12=12),1,IF(AND(F12=0,G12=0,O12<9,M12=13),1,IF(AND(F12=1,G12=0,O12>=9,M12=13),1,IF(AND(F12=1,G12=0,O12<9,M12=14),1,IF(AND(F12=2,G12=0,O12>=9,M12=14),1,IF(AND(F12=2,G12=0,O12<9,M12=15),1,0)))))))) -> 0 | K12: =IF(SUM(H12:J12)=0,1,0) -> 0 | M12: =DATEDIF($B12,DATE(2016,9,1), "y") -> 9 | O12: =MONTH($B12) -> 9
A13: Elève 11 | B13: 38989 | D13: 6.0688247 | E13: F | F13: 0 | G13: 1 | H13: =IF(M13<10,1,IF(AND(F13=0,G13=1,O13<9,M13=10),1,IF(AND(F13=0,G13=0,O13>=9,M13=10),1,IF(AND(F13=0,G13=0,O13<9,M13=11),1,IF(AND(F13=1,G13=0,O13>=9,M13=11),1,IF(AND(F13=1,G13=0,O13<9,M13=12),1,IF(AND(F13=2,G13=0,O13>=9,M13=12),1,IF(AND(F13=2,G13=0,O13<9,M13=13),1,0)))))))) -> 1 | I13: =IF(AND(F13=0,G13=1,O13>=9,M13=10),1,IF(AND(F13=0,G13=1,O13<9,M13=11),1,IF(AND(F13=0,G13=0,O13>=9,M13=11),1,IF(AND(F13=0,G13=0,O13<9,M13=12),1,IF(AND(F13=1,G13=0,O13>=9,M13=12),1,IF(AND(F13=1,G13=0,O13<9,M13=13),1,IF(AND(F13=2,G13=0,O13>=9,M13=13),1,IF(AND(F13=2,G13=0,O13<9,M13=14),1,0)))))))) -> 0 | J13: =IF(AND(F13=0,G13=1,O13>=9,M13=11),1,IF(AND(F13=0,G13=1,O13<9,M13=12),1,IF(AND(F13=0,G13=0,O13>=9,M13=12),1,IF(AND(F13=0,G13=0,O13<9,M13=13),1,IF(AND(F13=1,G13=0,O13>=9,M13=13),1,IF(AND(F13=1,G13=0,O13<9,M13=14),1,IF(AND(F13=2,G13=0,O13>=9,M13=14),1,IF(AND(F13=2,G13=0,O13<9,M13=15),1,0)))))))) -> 0 | K13: =IF(SUM(H13:J13)=0,1,0) -> 0 | M13: =DATEDIF($B13,DATE(2016,9,1), "y") -> 9 | O13: =MONTH($B13) -> 9
A14: Elève 12 | B14: 38985 | D14: 9.8522435 | E14: F | F14: 0 | G14: 1 | H14: =IF(M14<10,1,IF(AND(F14=0,G14=1,O14<9,M14=10),1,IF(AND(F14=0,G14=0,O14>=9,M14=10),1,IF(AND(F14=0,G14=0,O14<9,M14=11),1,IF(AND(F14=1,G14=0,O14>=9,M14=11),1,IF(AND(F14=1,G14=0,O14<9,M14=12),1,IF(AND(F14=2,G14=0,O14>=9,M14=12),1,IF(AND(F14=2,G14=0,O14<9,M14=13),1,0)))))))) -> 1 | I14: =IF(AND(F14=0,G14=1,O14>=9,M14=10),1,IF(AND(F14=0,G14=1,O14<9,M14=11),1,IF(AND(F14=0,G14=0,O14>=9,M14=11),1,IF(AND(F14=0,G14=0,O14<9,M14=12),1,IF(AND(F14=1,G14=0,O14>=9,M14=12),1,IF(AND(F14=1,G14=0,O14<9,M14=13),1,IF(AND(F14=2,G14=0,O14>=9,M14=13),1,IF(AND(F14=2,G14=0,O14<9,M14=14),1,0)))))))) -> 0 | J14: =IF(AND(F14=0,G14=1,O14>=9,M14=11),1,IF(AND(F14=0,G14=1,O14<9,M14=12),1,IF(AND(F14=0,G14=0,O14>=9,M14=12),1,IF(AND(F14=0,G14=0,O14<9,M14=13),1,IF(AND(F14=1,G14=0,O14>=9,M14=13),1,IF(AND(F14=1,G14=0,O14<9,M14=14),1,IF(AND(F14=2,G14=0,O14>=9,M14=14),1,IF(AND(F14=2,G14=0,O14<9,M14=15),1,0)))))))) -> 0 | K14: =IF(SUM(H14:J14)=0,1,0) -> 0 | M14: =DATEDIF($B14,DATE(2016,9,1), "y") -> 9 | O14: =MONTH($B14) -> 9
... A300: Elève 298 | B300: 36530 | D300: 4.7932677 | E300: F | F300: 2 | G300: 0 | H300: =IF(M300<10,1,IF(AND(F300=0,G300=1,O300<9,M300=10),1,IF(AND(F300=0,G300=0,O300>=9,M300=10),1,IF(AND(F300=0,G300=0,O300<9,M300=11),1,IF(AND(F300=1,G300=0,O300>=9,M300=11),1,IF(AND(F300=1,G300=0,O300<9,M300=12),1,IF(AND(F300=2,G300=0,O300>=9,M300=12),1,IF(AND(F300=2,G300=0,O300<9,M300=13),1,0)))))))) -> 0 | I300: =IF(AND(F300=0,G300=1,O300>=9,M300=10),1,IF(AND(F300=0,G300=1,O300<9,M300=11),1,IF(AND(F300=0,G300=0,O300>=9,M300=11),1,IF(AND(F300=0,G300=0,O300<9,M300=12),1,IF(AND(F300=1,G300=0,O300>=9,M300=12),1,IF(AND(F300=1,G300=0,O300<9,M300=13),1,IF(AND(F300=2,G300=0,O300>=9,M300=13),1,IF(AND(F300=2,G300=0,O300<9,M300=14),1,0)))))))) -> 0 | J300: =IF(AND(F300=0,G300=1,O300>=9,M300=11),1,IF(AND(F300=0,G300=1,O300<9,M300=12),1,IF(AND(F300=0,G300=0,O300>=9,M300=12),1,IF(AND(F300=0,G300=0,O300<9,M300=13),1,IF(AND(F300=1,G300=0,O300>=9,M300=13),1,IF(AND(F300=1,G300=0,O300<9,M300=14),1,IF(AND(F300=2,G300=0,O300>=9,M300=14),1,IF(AND(F300=2,G300=0,O300<9,M300=15),1,0)))))))) -> 0 | K300: =IF(SUM(H300:J300)=0,1,0) -> 1 | M300: =DATEDIF($B300,DATE(2016,9,1), "y") -> 16 | O300: =MONTH($B300) -> 1

Sheet Elèves par classes
H2: Nombre | I2: Nombre de classe | J2: Classes
B3: 6èmes | C3: 5èmes | D3: 4èmes | E3: 3èmes | J3: 1 | K3: 2 | L3: 3 | M3: 4 | N3: 5
B4: =IF('Feuille 1 copiée'!H3=1,VLOOKUP('Feuille 1 copiée'!$A3,'Feuille 1 copiée'!$A$3:$H$300,1,FALSE),0) -> Elève 1 | C4: =IF('Feuille 1 copiée'!I101=1,VLOOKUP('Feuille 1 copiée'!$A101,'Feuille 1 copiée'!$A$3:$H$300,1,FALSE),0) -> Elève 99 | D4: =IF('Feuille 1 copiée'!J202=1,VLOOKUP('Feuille 1 copiée'!$A202,'Feuille 1 copiée'!$A$3:$H$300,1,FALSE),0) -> Elève 200 | E4: =IF('Feuille 1 copiée'!K300=1,VLOOKUP('Feuille 1 copiée'!$A300,'Feuille 1 copiée'!$A$3:$H$300,1,FALSE),0) -> Elève 298 | G4: 6ème | H4: =COUNTA('Feuille 1 copiée'!$A$3:$A$300)-COUNT(B:B) -> 91 | I4: =IF(H4>0,INT(H4/30)+1,0) -> 4 | J4: =IF($I4>=J$3,INT($H4/$I4)+(H4-INT($H4/$I4)*$I4>=J$3),"") -> 23 | K4: =IF($I4>=K$3,INT($H4/$I4)+(I4-INT($H4/$I4)*$I4>=K$3),"") -> 22 | L4: =IF($I4>=L$3,INT($H4/$I4)+(J4-INT($H4/$I4)*$I4>=L$3),"") -> 22 | M4: =IF($I4>=M$3,INT($H4/$I4)+(K4-INT($H4/$I4)*$I4>=M$3),"") -> 22 | N4: =IF($I4>=N$3,INT($H4/$I4)+(L4-INT($H4/$I4)*$I4>=N$3),"")
B5: =IF('Feuille 1 copiée'!H4=1,VLOOKUP('Feuille 1 copiée'!$A4,'Feuille 1 copiée'!$A$3:$H$300,1,FALSE),0) -> Elève 2 | C5: =IF('Feuille 1 copiée'!I100=1,VLOOKUP('Feuille 1 copiée'!$A100,'Feuille 1 copiée'!$A$3:$H$300,1,FALSE),0) -> Elève 98 | D5: =IF('Feuille 1 copiée'!J201=1,VLOOKUP('Feuille 1 copiée'!$A201,'Feuille 1 copiée'!$A$3:$H$300,1,FALSE),0) -> Elève 199 | E5: =IF('Feuille 1 copiée'!K299=1,VLOOKUP('Feuille 1 copiée'!$A299,'Feuille 1 copiée'!$A$3:$H$300,1,FALSE),0) -> Elève 297 | G5: 5ème | H5: =COUNTA('Feuille 1 copiée'!$A$3:$A$300)-(COUNT(C:C)) -> 58 | I5: =IF(H5>0,INT(H5/30)+1,0) -> 2 | J5: =IF($I5>=J$3,INT($H5/$I5)+(H5-INT($H5/$I5)*$I5>=J$3),"") -> 29 | K5: =IF($I5>=K$3,INT($H5/$I5)+(I5-INT($H5/$I5)*$I5>=K$3),"") -> 29 | L5: =IF($I5>=L$3,INT($H5/$I5)+(J5-INT($H5/$I5)*$I5>=L$3),"") | M5: =IF($I5>=M$3,INT($H5/$I5)+(K5-INT($H5/$I5)*$I5>=M$3),"") | N5: =IF($I5>=N$3,INT($H5/$I5)+(L5-INT($H5/$I5)*$I5>=N$3),"")
B6: =IF('Feuille 1 copiée'!H5=1,VLOOKUP('Feuille 1 copiée'!$A5,'Feuille 1 copiée'!$A$3:$H$300,1,FALSE),0) -> Elève 3 | C6: =IF('Feuille 1 copiée'!I99=1,VLOOKUP('Feuille 1 copiée'!$A99,'Feuille 1 copiée'!$A$3:$H$300,1,FALSE),0) -> Elève 97 | D6: =IF('Feuille 1 copiée'!J200=1,VLOOKUP('Feuille 1 copiée'!$A200,'Feuille 1 copiée'!$A$3:$H$300,1,FALSE),0) -> Elève 198 | E6: =IF('Feuille 1 copiée'!K298=1,VLOOKUP('Feuille 1 copiée'!$A298,'Feuille 1 copiée'!$A$3:$H$300,1,FALSE),0) -> Elève 296 | G6: 4ème | H6: =COUNTA('Feuille 1 copiée'!$A$3:$A$300)-COUNT(D:D) -> 51 | I6: =IF(H6>0,INT(H6/30)+1,0) -> 2 | J6: =IF($I6>=J$3,INT($H6/$I6)+(H6-INT($H6/$I6)*$I6>=J$3),"") -> 26 | K6: =IF($I6>=K$3,INT($H6/$I6)+(I6-INT($H6/$I6)*$I6>=K$3),"") -> 25 | L6: =IF($I6>=L$3,INT($H6/$I6)+(J6-INT($H6/$I6)*$I6>=L$3),"") | M6: =IF($I6>=M$3,INT($H6/$I6)+(K6-INT($H6/$I6)*$I6>=M$3),"") | N6: =IF($I6>=N$3,INT($H6/$I6)+(L6-INT($H6/$I6)*$I6>=N$3),"")
B7: =IF('Feuille 1 copiée'!H6=1,VLOOKUP('Feuille 1 copiée'!$A6,'Feuille 1 copiée'!$A$3:$H$300,1,FALSE),0) -> Elève 4 | C7: =IF('Feuille 1 copiée'!I98=1,VLOOKUP('Feuille 1 copiée'!$A98,'Feuille 1 copiée'!$A$3:$H$300,1,FALSE),0) -> Elève 96 | D7: =IF('Feuille 1 copiée'!J199=1,VLOOKUP('Feuille 1 copiée'!$A199,'Feuille 1 copiée'!$A$3:$H$300,1,FALSE),0) -> Elève 197 | E7: =IF('Feuille 1 copiée'!K297=1,VLOOKUP('Feuille 1 copiée'!$A297,'Feuille 1 copiée'!$A$3:$H$300,1,FALSE),0) -> Elève 295 | G7: 3ème | H7: =COUNTA('Feuille 1 copiée'!$A$3:$A$300)-COUNT(E:E) -> 98 | I7: =IF(H7>0,INT(H7/30)+1,0) -> 4 | J7: =IF($I7>=J$3,INT($H7/$I7)+(H7-INT($H7/$I7)*$I7>=J$3),"") -> 25 | K7: =IF($I7>=K$3,INT($H7/$I7)+(I7-INT($H7/$I7)*$I7>=K$3),"") -> 24 | L7: =IF($I7>=L$3,INT($H7/$I7)+(J7-INT($H7/$I7)*$I7>=L$3),"") -> 24 | M7: =IF($I7>=M$3,INT($H7/$I7)+(K7-INT($H7/$I7)*$I7>=M$3),"") -> 24 | N7: =IF($I7>=N$3,INT($H7/$I7)+(L7-INT($H7/$I7)*$I7>=N$3),"")
B8: =IF('Feuille 1 copiée'!H7=1,VLOOKUP('Feuille 1 copiée'!$A7,'Feuille 1 copiée'!$A$3:$H$300,1,FALSE),0) -> Elève 5 | C8: =IF('Feuille 1 copiée'!I97=1,VLOOKUP('Feuille 1 copiée'!$A97,'Feuille 1 copiée'!$A$3:$H$300,1,FALSE),0) -> Elève 95 | D8: =IF('Feuille 1 copiée'!J198=1,VLOOKUP('Feuille 1 copiée'!$A198,'Feuille 1 copiée'!$A$3:$H$300,1,FALSE),0) -> Elève 196 | E8: =IF('Feuille 1 copiée'!K296=1,VLOOKUP('Feuille 1 copiée'!$A296,'Feuille 1 copiée'!$A$3:$H$300,1,FALSE),0) -> Elève 294
B9: =IF('Feuille 1 copiée'!H8=1,VLOOKUP('Feuille 1 copiée'!$A8,'Feuille 1 copiée'!$A$3:$H$300,1,FALSE),0) -> Elève 6 | C9: =IF('Feuille 1 copiée'!I96=1,VLOOKUP('Feuille 1 copiée'!$A96,'Feuille 1 copiée'!$A$3:$H$300,1,FALSE),0) -> Elève 94 | D9: =IF('Feuille 1 copiée'!J197=1,VLOOKUP('Feuille 1 copiée'!$A197,'Feuille 1 copiée'!$A$3:$H$300,1,FALSE),0) -> Elève 195 | E9: =IF('Feuille 1 copiée'!K295=1,VLOOKUP('Feuille 1 copiée'!$A295,'Feuille 1 copiée'!$A$3:$H$300,1,FALSE),0) -> Elève 293 | H9: 6èmes
B10: =IF('Feuille 1 copiée'!H9=1,VLOOKUP('Feuille 1 copiée'!$A9,'Feuille 1 copiée'!$A$3:$H$300,1,FALSE),0) -> Elève 7 | C10: =IF('Feuille 1 copiée'!I95=1,VLOOKUP('Feuille 1 copiée'!$A95,'Feuille 1 copiée'!$A$3:$H$300,1,FALSE),0) -> Elève 93 | D10: =IF('Feuille 1 copiée'!J196=1,VLOOKUP('Feuille 1 copiée'!$A196,'Feuille 1 copiée'!$A$3:$H$300,1,FALSE),0) -> Elève 194 | E10: =IF('Feuille 1 copiée'!K294=1,VLOOKUP('Feuille 1 copiée'!$A294,'Feuille 1 copiée'!$A$3:$H$300,1,FALSE),0) -> Elève 292 | G10: Nombre d'élèves par classe | H10: Classes
B11: =IF('Feuille 1 copiée'!H10=1,VLOOKUP('Feuille 1 copiée'!$A10,'Feuille 1 copiée'!$A$3:$H$300,1,FALSE),0) -> Elève 8 | C11: =IF('Feuille 1 copiée'!I94=1,VLOOKUP('Feuille 1 copiée'!$A94,'Feuille 1 copiée'!$A$3:$H$300,1,FALSE),0) -> Elève 92 | D11: =IF('Feuille 1 copiée'!J195=1,VLOOKUP('Feuille 1 copiée'!$A195,'Feuille 1 copiée'!$A$3:$H$300,1,FALSE),0) -> Elève 193 | E11: =IF('Feuille 1 copiée'!K293=1,VLOOKUP('Feuille 1 copiée'!$A293,'Feuille 1 copiée'!$A$3:$H$300,1,FALSE),0) -> Elève 291 | H11: 1 | I11: 2 | J11: 3 | K11: 4
B12: =IF('Feuille 1 copiée'!H11=1,VLOOKUP('Feuille 1 copiée'!$A11,'Feuille 1 copiée'!$A$3:$H$300,1,FALSE),0) -> Elève 9 | C12: =IF('Feuille 1 copiée'!I151=1,VLOOKUP('Feuille 1 copiée'!$A151,'Feuille 1 copiée'!$A$3:$H$300,1,FALSE),0) -> Elève 149 | D12: =IF('Feuille 1 copiée'!J194=1,VLOOKUP('Feuille 1 copiée'!$A194,'Feuille 1 copiée'!$A$3:$H$300,1,FALSE),0) -> Elève 192 | E12: =IF('Feuille 1 copiée'!K292=1,VLOOKUP('Feuille 1 copiée'!$A292,'Feuille 1 copiée'!$A$3:$H$300,1,FALSE),0) -> Elève 290 | G12: 1 | H12: =INDEX($B$4:$E$1000,(H$11-1)*22+$G12,1) -> Elève 1 | I12: =INDEX($B$4:$E$1000,(I$11-1)*22+$G12,1) -> Elève 23 | J12: =INDEX($B$4:$E$1000,(J$11-1)*22+$G12,1) -> Elève 45 | K12: =INDEX($B$4:$E$1000,(K$11-1)*22+$G12,1) -> Elève 67
B13: =IF('Feuille 1 copiée'!H12=1,VLOOKUP('Feuille 1 copiée'!$A12,'Feuille 1 copiée'!$A$3:$H$300,1,FALSE),0) -> Elève 10 | C13: =IF('Feuille 1 copiée'!I150=1,VLOOKUP('Feuille 1 copiée'!$A150,'Feuille 1 copiée'!$A$3:$H$300,1,FALSE),0) -> Elève 148 | D13: =IF('Feuille 1 copiée'!J193=1,VLOOKUP('Feuille 1 copiée'!$A193,'Feuille 1 copiée'!$A$3:$H$300,1,FALSE),0) -> Elève 191 | E13: =IF('Feuille 1 copiée'!K291=1,VLOOKUP('Feuille 1 copiée'!$A291,'Feuille 1 copiée'!$A$3:$H$300,1,FALSE),0) -> Elève 289 | G13: 2 | H13: =INDEX($B$4:$E$1000,(H$11-1)*22+$G13,1) -> Elève 2 | I13: =INDEX($B$4:$E$1000,(I$11-1)*22+$G13,1) -> Elève 24 | J13: =INDEX($B$4:$E$1000,(J$11-1)*22+$G13,1) -> Elève 46 | K13: =INDEX($B$4:$E$1000,(K$11-1)*22+$G13,1) -> Elève 68
B14: =IF('Feuille 1 copiée'!H13=1,VLOOKUP('Feuille 1 copiée'!$A13,'Feuille 1 copiée'!$A$3:$H$300,1,FALSE),0) -> Elève 11 | C14: =IF('Feuille 1 copiée'!I149=1,VLOOKUP('Feuille 1 copiée'!$A149,'Feuille 1 copiée'!$A$3:$H$300,1,FALSE),0) -> Elève 147 | D14: =IF('Feuille 1 copiée'!J192=1,VLOOKUP('Feuille 1 copiée'!$A192,'Feuille 1 copiée'!$A$3:$H$300,1,FALSE),0) -> Elève 190 | E14: =IF('Feuille 1 copiée'!K290=1,VLOOKUP('Feuille 1 copiée'!$A290,'Feuille 1 copiée'!$A$3:$H$300,1,FALSE),0) -> Elève 288 | G14: 3 | H14: =INDEX($B$4:$E$1000,(H$11-1)*22+$G14,1) -> Elève 3 | I14: =INDEX($B$4:$E$1000,(I$11-1)*22+$G14,1) -> Elève 25 | J14: =INDEX($B$4:$E$1000,(J$11-1)*22+$G14,1) -> Elève 47 | K14: =INDEX($B$4:$E$1000,(K$11-1)*22+$G14,1) -> Elève 69
B15: =IF('Feuille 1 copiée'!H14=1,VLOOKUP('Feuille 1 copiée'!$A14,'Feuille 1 copiée'!$A$3:$H$300,1,FALSE),0) -> Elève 12 | C15: =IF('Feuille 1 copiée'!I148=1,VLOOKUP('Feuille 1 copiée'!$A148,'Feuille 1 copiée'!$A$3:$H$300,1,FALSE),0) -> Elève 146 | D15: =IF('Feuille 1 copiée'!J191=1,VLOOKUP('Feuille 1 copiée'!$A191,'Feuille 1 copiée'!$A$3:$H$300,1,FALSE),0) -> Elève 189 | E15: =IF('Feuille 1 copiée'!K289=1,VLOOKUP('Feuille 1 copiée'!$A289,'Feuille 1 copiée'!$A$3:$H$300,1,FALSE),0) -> Elève 287 | G15: 4 | H15: =INDEX($B$4:$E$1000,(H$11-1)*22+$G15,1) -> Elève 4 | I15: =INDEX($B$4:$E$1000,(I$11-1)*22+$G15,1) -> Elève 26 | J15: =INDEX($B$4:$E$1000,(J$11-1)*22+$G15,1) -> Elève 48 | K15: =INDEX($B$4:$E$1000,(K$11-1)*22+$G15,1) -> Elève 70
B16: =IF('Feuille 1 copiée'!H15=1,VLOOKUP('Feuille 1 copiée'!$A15,'Feuille 1 copiée'!$A$3:$H$300,1,FALSE),0) -> Elève 13 | C16: =IF('Feuille 1 copiée'!I147=1,VLOOKUP('Feuille 1 copiée'!$A147,'Feuille 1 copiée'!$A$3:$H$300,1,FALSE),0) -> Elève 145 | D16: =IF('Feuille 1 copiée'!J190=1,VLOOKUP('Feuille 1 copiée'!$A190,'Feuille 1 copiée'!$A$3:$H$300,1,FALSE),0) -> Elève 188 | E16: =IF('Feuille 1 copiée'!K288=1,VLOOKUP('Feuille 1 copiée'!$A288,'Feuille 1 copiée'!$A$3:$H$300,1,FALSE),0) -> Elève 286 | G16: 5 | H16: =INDEX($B$4:$E$1000,(H$11-1)*22+$G16,1) -> Elève 5 | I16: =INDEX($B$4:$E$1000,(I$11-1)*22+$G16,1) -> Elève 27 | J16: =INDEX($B$4:$E$1000,(J$11-1)*22+$G16,1) -> Elève 49 | K16: =INDEX($B$4:$E$1000,(K$11-1)*22+$G16,1) -> Elève 71
B17: =IF('Feuille 1 copiée'!H16=1,VLOOKUP('Feuille 1 copiée'!$A16,'Feuille 1 copiée'!$A$3:$H$300,1,FALSE),0) -> Elève 14 | C17: =IF('Feuille 1 copiée'!I146=1,VLOOKUP('Feuille 1 copiée'!$A146,'Feuille 1 copiée'!$A$3:$H$300,1,FALSE),0) -> Elève 144 | D17: =IF('Feuille 1 copiée'!J189=1,VLOOKUP('Feuille 1 copiée'!$A189,'Feuille 1 copiée'!$A$3:$H$300,1,FALSE),0) -> Elève 187 | E17: =IF('Feuille 1 copiée'!K287=1,VLOOKUP('Feuille 1 copiée'!$A287,'Feuille 1 copiée'!$A$3:$H$300,1,FALSE),0) -> Elève 285 | G17: 6 | H17: =INDEX($B$4:$E$1000,(H$11-1)*22+$G17,1) -> Elève 6 | I17: =INDEX($B$4:$E$1000,(I$11-1)*22+$G17,1) -> Elève 28 | J17: =INDEX($B$4:$E$1000,(J$11-1)*22+$G17,1) -> Elève 50 | K17: =INDEX($B$4:$E$1000,(K$11-1)*22+$G17,1) -> Elève 72
B18: =IF('Feuille 1 copiée'!H17=1,VLOOKUP('Feuille 1 copiée'!$A17,'Feuille 1 copiée'!$A$3:$H$300,1,FALSE),0) -> Elève 15 | C18: =IF('Feuille 1 copiée'!I145=1,VLOOKUP('Feuille 1 copiée'!$A145,'Feuille 1 copiée'!$A$3:$H$300,1,FALSE),0) -> Elève 143 | D18: =IF('Feuille 1 copiée'!J188=1,VLOOKUP('Feuille 1 copiée'!$A188,'Feuille 1 copiée'!$A$3:$H$300,1,FALSE),0) -> Elève 186 | E18: =IF('Feuille 1 copiée'!K286=1,VLOOKUP('Feuille 1 copiée'!$A286,'Feuille 1 copiée'!$A$3:$H$300,1,FALSE),0) -> Elève 284 | G18: 7 | H18: =INDEX($B$4:$E$1000,(H$11-1)*22+$G18,1) -> Elève 7 | I18: =INDEX($B$4:$E$1000,(I$11-1)*22+$G18,1) -> Elève 29 | J18: =INDEX($B$4:$E$1000,(J$11-1)*22+$G18,1) -> Elève 51 | K18: =INDEX($B$4:$E$1000,(K$11-1)*22+$G18,1) -> Elève 73
B19: =IF('Feuille 1 copiée'!H18=1,VLOOKUP('Feuille 1 copiée'!$A18,'Feuille 1 copiée'!$A$3:$H$300,1,FALSE),0) -> Elève 16 | C19: =IF('Feuille 1 copiée'!I144=1,VLOOKUP('Feuille 1 copiée'!$A144,'Feuille 1 copiée'!$A$3:$H$300,1,FALSE),0) -> Elève 142 | D19: =IF('Feuille 1 copiée'!J187=1,VLOOKUP('Feuille 1 copiée'!$A187,'Feuille 1 copiée'!$A$3:$H$300,1,FALSE),0) -> Elève 185 | E19: =IF('Feuille 1 copiée'!K285=1,VLOOKUP('Feuille 1 copiée'!$A285,'Feuille 1 copiée'!$A$3:$H$300,1,FALSE),0) -> Elève 283 | G19: 8 | H19: =INDEX($B$4:$E$1000,(H$11-1)*22+$G19,1) -> Elève 8 | I19: =INDEX($B$4:$E$1000,(I$11-1)*22+$G19,1) -> Elève 30 | J19: =INDEX($B$4:$E$1000,(J$11-1)*22+$G19,1) -> Elève 52 | K19: =INDEX($B$4:$E$1000,(K$11-1)*22+$G19,1) -> Elève 74
B20: =IF('Feuille 1 copiée'!H19=1,VLOOKUP('Feuille 1 copiée'!$A19,'Feuille 1 copiée'!$A$3:$H$300,1,FALSE),0) -> Elève 17 | C20: =IF('Feuille 1 copiée'!I143=1,VLOOKUP('Feuille 1 copiée'!$A143,'Feuille 1 copiée'!$A$3:$H$300,1,FALSE),0) -> Elève 141 | D20: =IF('Feuille 1 copiée'!J186=1,VLOOKUP('Feuille 1 copiée'!$A186,'Feuille 1 copiée'!$A$3:$H$300,1,FALSE),0) -> Elève 184 | E20: =IF('Feuille 1 copiée'!K284=1,VLOOKUP('Feuille 1 copiée'!$A284,'Feuille 1 copiée'!$A$3:$H$300,1,FALSE),0) -> Elève 282 | G20: 9 | H20: =INDEX($B$4:$E$1000,(H$11-1)*22+$G20,1) -> Elève 9 | I20: =INDEX($B$4:$E$1000,(I$11-1)*22+$G20,1) -> Elève 31 | J20: =INDEX($B$4:$E$1000,(J$11-1)*22+$G20,1) -> Elève 53 | K20: =INDEX($B$4:$E$1000,(K$11-1)*22+$G20,1) -> Elève 75
B21: =IF('Feuille 1 copiée'!H20=1,VLOOKUP('Feuille 1 copiée'!$A20,'Feuille 1 copiée'!$A$3:$H$300,1,FALSE),0) -> Elève 18 | C21: =IF('Feuille 1 copiée'!I142=1,VLOOKUP('Feuille 1 copiée'!$A142,'Feuille 1 copiée'!$A$3:$H$300,1,FALSE),0) -> Elève 140 | D21: =IF('Feuille 1 copiée'!J185=1,VLOOKUP('Feuille 1 copiée'!$A185,'Feuille 1 copiée'!$A$3:$H$300,1,FALSE),0) -> Elève 183 | E21: =IF('Feuille 1 copiée'!K283=1,VLOOKUP('Feuille 1 copiée'!$A283,'Feuille 1 copiée'!$A$3:$H$300,1,FALSE),0) -> Elève 281 | G21: 10 | H21: =INDEX($B$4:$E$1000,(H$11-1)*22+$G21,1) -> Elève 10 | I21: =INDEX($B$4:$E$1000,(I$11-1)*22+$G21,1) -> Elève 32 | J21: =INDEX($B$4:$E$1000,(J$11-1)*22+$G21,1) -> Elève 54 | K21: =INDEX($B$4:$E$1000,(K$11-1)*22+$G21,1) -> Elève 76
B22: =IF('Feuille 1 copiée'!H21=1,VLOOKUP('Feuille 1 copiée'!$A21,'Feuille 1 copiée'!$A$3:$H$300,1,FALSE),0) -> Elève 19 | C22: =IF('Feuille 1 copiée'!I141=1,VLOOKUP('Feuille 1 copiée'!$A141,'Feuille 1 copiée'!$A$3:$H$300,1,FALSE),0) -> Elève 139 | D22: =IF('Feuille 1 copiée'!J184=1,VLOOKUP('Feuille 1 copiée'!$A184,'Feuille 1 copiée'!$A$3:$H$300,1,FALSE),0) -> Elève 182 | E22: =IF('Feuille 1 copiée'!K282=1,VLOOKUP('Feuille 1 copiée'!$A282,'Feuille 1 copiée'!$A$3:$H$300,1,FALSE),0) -> Elève 280 | G22: 11 | H22: =INDEX($B$4:$E$1000,(H$11-1)*22+$G22,1) -> Elève 11 | I22: =INDEX($B$4:$E$1000,(I$11-1)*22+$G22,1) -> Elève 33 | J22: =INDEX($B$4:$E$1000,(J$11-1)*22+$G22,1) -> Elève 55 | K22: =INDEX($B$4:$E$1000,(K$11-1)*22+$G22,1) -> Elève 77
B23: =IF('Feuille 1 copiée'!H22=1,VLOOKUP('Feuille 1 copiée'!$A22,'Feuille 1 copiée'!$A$3:$H$300,1,FALSE),0) -> Elève 20 | C23: =IF('Feuille 1 copiée'!I140=1,VLOOKUP('Feuille 1 copiée'!$A140,'Feuille 1 copiée'!$A$3:$H$300,1,FALSE),0) -> Elève 138 | D23: =IF('Feuille 1 copiée'!J183=1,VLOOKUP('Feuille 1 copiée'!$A183,'Feuille 1 copiée'!$A$3:$H$300,1,FALSE),0) -> Elève 181 | E23: =IF('Feuille 1 copiée'!K281=1,VLOOKUP('Feuille 1 copiée'!$A281,'Feuille 1 copiée'!$A$3:$H$300,1,FALSE),0) -> Elève 279 | G23: 12 | H23: =INDEX($B$4:$E$1000,(H$11-1)*22+$G23,1) -> Elève 12 | I23: =INDEX($B$4:$E$1000,(I$11-1)*22+$G23,1) -> Elève 34 | J23: =INDEX($B$4:$E$1000,(J$11-1)*22+$G23,1) -> Elève 56 | K23: =INDEX($B$4:$E$1000,(K$11-1)*22+$G23,1) -> Elève 78
B24: =IF('Feuille 1 copiée'!H23=1,VLOOKUP('Feuille 1 copiée'!$A23,'Feuille 1 copiée'!$A$3:$H$300,1,FALSE),0) -> Elève 21 | C24: =IF('Feuille 1 copiée'!I139=1,VLOOKUP('Feuille 1 copiée'!$A139,'Feuille 1 copiée'!$A$3:$H$300,1,FALSE),0) -> Elève 137 | D24: =IF('Feuille 1 copiée'!J182=1,VLOOKUP('Feuille 1 copiée'!$A182,'Feuille 1 copiée'!$A$3:$H$300,1,FALSE),0) -> Elève 180 | E24: =IF('Feuille 1 copiée'!K280=1,VLOOKUP('Feuille 1 copiée'!$A280,'Feuille 1 copiée'!$A$3:$H$300,1,FALSE),0) -> Elève 278 | G24: 13 | H24: =INDEX($B$4:$E$1000,(H$11-1)*22+$G24,1) -> Elève 13 | I24: =INDEX($B$4:$E$1000,(I$11-1)*22+$G24,1) -> Elève 35 | J24: =INDEX($B$4:$E$1000,(J$11-1)*22+$G24,1) -> Elève 57 | K24: =INDEX($B$4:$E$1000,(K$11-1)*22+$G24,1) -> Elève 79
B25: =IF('Feuille 1 copiée'!H24=1,VLOOKUP('Feuille 1 copiée'!$A24,'Feuille 1 copiée'!$A$3:$H$300,1,FALSE),0) -> Elève 22 | C25: =IF('Feuille 1 copiée'!I138=1,VLOOKUP('Feuille 1 copiée'!$A138,'Feuille 1 copiée'!$A$3:$H$300,1,FALSE),0) -> Elève 136 | D25: =IF('Feuille 1 copiée'!J181=1,VLOOKUP('Feuille 1 copiée'!$A181,'Feuille 1 copiée'!$A$3:$H$300,1,FALSE),0) -> Elève 179 | E25: =IF('Feuille 1 copiée'!K279=1,VLOOKUP('Feuille 1 copiée'!$A279,'Feuille 1 copiée'!$A$3:$H$300,1,FALSE),0) -> Elève 277 | G25: 14 | H25: =INDEX($B$4:$E$1000,(H$11-1)*22+$G25,1) -> Elève 14 | I25: =INDEX($B$4:$E$1000,(I$11-1)*22+$G25,1) -> Elève 36 | J25: =INDEX($B$4:$E$1000,(J$11-1)*22+$G25,1) -> Elève 58 | K25: =INDEX($B$4:$E$1000,(K$11-1)*22+$G25,1) -> Elève 80
B26: =IF('Feuille 1 copiée'!H25=1,VLOOKUP('Feuille 1 copiée'!$A25,'Feuille 1 copiée'!$A$3:$H$300,1,FALSE),0) -> Elève 23 | C26: =IF('Feuille 1 copiée'!I137=1,VLOOKUP('Feuille 1 copiée'!$A137,'Feuille 1 copiée'!$A$3:$H$300,1,FALSE),0) -> Elève 135 | D26: =IF('Feuille 1 copiée'!J180=1,VLOOKUP('Feuille 1 copiée'!$A180,'Feuille 1 copiée'!$A$3:$H$300,1,FALSE),0) -> Elève 178 | E26: =IF('Feuille 1 copiée'!K278=1,VLOOKUP('Feuille 1 copiée'!$A278,'Feuille 1 copiée'!$A$3:$H$300,1,FALSE),0) -> Elève 276 | G26: 15 | H26: =INDEX($B$4:$E$1000,(H$11-1)*22+$G26,1) -> Elève 15 | I26: =INDEX($B$4:$E$1000,(I$11-1)*22+$G26,1) -> Elève 37 | J26: =INDEX($B$4:$E$1000,(J$11-1)*22+$G26,1) -> Elève 59 | K26: =INDEX($B$4:$E$1000,(K$11-1)*22+$G26,1) -> Elève 81
B27: =IF('Feuille 1 copiée'!H26=1,VLOOKUP('Feuille 1 copiée'!$A26,'Feuille 1 copiée'!$A$3:$H$300,1,FALSE),0) -> Elève 24 | C27: =IF('Feuille 1 copiée'!I136=1,VLOOKUP('Feuille 1 copiée'!$A136,'Feuille 1 copiée'!$A$3:$H$300,1,FALSE),0) -> Elève 134 | D27: =IF('Feuille 1 copiée'!J179=1,VLOOKUP('Feuille 1 copiée'!$A179,'Feuille 1 copiée'!$A$3:$H$300,1,FALSE),0) -> Elève 177 | E27: =IF('Feuille 1 copiée'!K277=1,VLOOKUP('Feuille 1 copiée'!$A277,'Feuille 1 copiée'!$A$3:$H$300,1,FALSE),0) -> Elève 275 | G27: 16 | H27: =INDEX($B$4:$E$1000,(H$11-1)*22+$G27,1) -> Elève 16 | I27: =INDEX($B$4:$E$1000,(I$11-1)*22+$G27,1) -> Elève 38 | J27: =INDEX($B$4:$E$1000,(J$11-1)*22+$G27,1) -> Elève 60 | K27: =INDEX($B$4:$E$1000,(K$11-1)*22+$G27,1) -> Elève 82
B28: =IF('Feuille 1 copiée'!H27=1,VLOOKUP('Feuille 1 copiée'!$A27,'Feuille 1 copiée'!$A$3:$H$300,1,FALSE),0) -> Elève 25 | C28: =IF('Feuille 1 copiée'!I135=1,VLOOKUP('Feuille 1 copiée'!$A135,'Feuille 1 copiée'!$A$3:$H$300,1,FALSE),0) -> Elève 133 | D28: =IF('Feuille 1 copiée'!J178=1,VLOOKUP('Feuille 1 copiée'!$A178,'Feuille 1 copiée'!$A$3:$H$300,1,FALSE),0) -> Elève 176 | E28: =IF('Feuille 1 copiée'!K276=1,VLOOKUP('Feuille 1 copiée'!$A276,'Feuille 1 copiée'!$A$3:$H$300,1,FALSE),0) -> Elève 274 | G28: 17 | H28: =INDEX($B$4:$E$1000,(H$11-1)*22+$G28,1) -> Elève 17 | I28: =INDEX($B$4:$E$1000,(I$11-1)*22+$G28,1) -> Elève 39 | J28: =INDEX($B$4:$E$1000,(J$11-1)*22+$G28,1) -> Elève 61 | K28: =INDEX($B$4:$E$1000,(K$11-1)*22+$G28,1) -> Elève 83
B29: =IF('Feuille 1 copiée'!H28=1,VLOOKUP('Feuille 1 copiée'!$A28,'Feuille 1 copiée'!$A$3:$H$300,1,FALSE),0) -> Elève 26 | C29: =IF('Feuille 1 copiée'!I134=1,VLOOKUP('Feuille 1 copiée'!$A134,'Feuille 1 copiée'!$A$3:$H$300,1,FALSE),0) -> Elève 132 | D29: =IF('Feuille 1 copiée'!J177=1,VLOOKUP('Feuille 1 copiée'!$A177,'Feuille 1 copiée'!$A$3:$H$300,1,FALSE),0) -> Elève 175 | E29: =IF('Feuille 1 copiée'!K275=1,VLOOKUP('Feuille 1 copiée'!$A275,'Feuille 1 copiée'!$A$3:$H$300,1,FALSE),0) -> Elève 273 | G29: 18 | H29: =INDEX($B$4:$E$1000,(H$11-1)*22+$G29,1) -> Elève 18 | I29: =INDEX($B$4:$E$1000,(I$11-1)*22+$G29,1) -> Elève 40 | J29: =INDEX($B$4:$E$1000,(J$11-1)*22+$G29,1) -> Elève 62 | K29: =INDEX($B$4:$E$1000,(K$11-1)*22+$G29,1) -> Elève 84
B30: =IF('Feuille 1 copiée'!H29=1,VLOOKUP('Feuille 1 copiée'!$A29,'Feuille 1 copiée'!$A$3:$H$300,1,FALSE),0) -> Elève 27 | C30: =IF('Feuille 1 copiée'!I133=1,VLOOKUP('Feuille 1 copiée'!$A133,'Feuille 1 copiée'!$A$3:$H$300,1,FALSE),0) -> Elève 131 | D30: =IF('Feuille 1 copiée'!J176=1,VLOOKUP('Feuille 1 copiée'!$A176,'Feuille 1 copiée'!$A$3:$H$300,1,FALSE),0) -> Elève 174 | E30: =IF('Feuille 1 copiée'!K274=1,VLOOKUP('Feuille 1 copiée'!$A274,'Feuille 1 copiée'!$A$3:$H$300,1,FALSE),0) -> Elève 272 | G30: 19 | H30: =INDEX($B$4:$E$1000,(H$11-1)*22+$G30,1) -> Elève 19 | I30: =INDEX($B$4:$E$1000,(I$11-1)*22+$G30,1) -> Elève 41 | J30: =INDEX($B$4:$E$1000,(J$11-1)*22+$G30,1) -> Elève 63 | K30: =INDEX($B$4:$E$1000,(K$11-1)*22+$G30,1) -> Elève 85
B31: =IF('Feuille 1 copiée'!H30=1,VLOOKUP('Feuille 1 copiée'!$A30,'Feuille 1 copiée'!$A$3:$H$300,1,FALSE),0) -> Elève 28 | C31: =IF('Feuille 1 copiée'!I132=1,VLOOKUP('Feuille 1 copiée'!$A132,'Feuille 1 copiée'!$A$3:$H$300,1,FALSE),0) -> Elève 130 | D31: =IF('Feuille 1 copiée'!J175=1,VLOOKUP('Feuille 1 copiée'!$A175,'Feuille 1 copiée'!$A$3:$H$300,1,FALSE),0) -> Elève 173 | E31: =IF('Feuille 1 copiée'!K273=1,VLOOKUP('Feuille 1 copiée'!$A273,'Feuille 1 copiée'!$A$3:$H$300,1,FALSE),0) -> Elève 271 | G31: 20 | H31: =INDEX($B$4:$E$1000,(H$11-1)*22+$G31,1) -> Elève 20 | I31: =INDEX($B$4:$E$1000,(I$11-1)*22+$G31,1) -> Elève 42 | J31: =INDEX($B$4:$E$1000,(J$11-1)*22+$G31,1) -> Elève 64 | K31: =INDEX($B$4:$E$1000,(K$11-1)*22+$G31,1) -> Elève 86
B32: =IF('Feuille 1 copiée'!H31=1,VLOOKUP('Feuille 1 copiée'!$A31,'Feuille 1 copiée'!$A$3:$H$300,1,FALSE),0) -> Elève 29 | C32: =IF('Feuille 1 copiée'!I131=1,VLOOKUP('Feuille 1 copiée'!$A131,'Feuille 1 copiée'!$A$3:$H$300,1,FALSE),0) -> Elève 129 | D32: =IF('Feuille 1 copiée'!J174=1,VLOOKUP('Feuille 1 copiée'!$A174,'Feuille 1 copiée'!$A$3:$H$300,1,FALSE),0) -> Elève 172 | E32: =IF('Feuille 1 copiée'!K272=1,VLOOKUP('Feuille 1 copiée'!$A272,'Feuille 1 copiée'!$A$3:$H$300,1,FALSE),0) -> Elève 270 | G32: 21 | H32: =INDEX($B$4:$E$1000,(H$11-1)*22+$G32,1) -> Elève 21 | I32: =INDEX($B$4:$E$1000,(I$11-1)*22+$G32,1) -> Elève 43 | J32: =INDEX($B$4:$E$1000,(J$11-1)*22+$G32,1) -> Elève 65 | K32: =INDEX($B$4:$E$1000,(K$11-1)*22+$G32,1) -> Elève 87
B33: =IF('Feuille 1 copiée'!H32=1,VLOOKUP('Feuille 1 copiée'!$A32,'Feuille 1 copiée'!$A$3:$H$300,1,FALSE),0) -> Elève 30 | C33: =IF('Feuille 1 copiée'!I130=1,VLOOKUP('Feuille 1 copiée'!$A130,'Feuille 1 copiée'!$A$3:$H$300,1,FALSE),0) -> Elève 128 | D33: =IF('Feuille 1 copiée'!J173=1,VLOOKUP('Feuille 1 copiée'!$A173,'Feuille 1 copiée'!$A$3:$H$300,1,FALSE),0) -> Elève 171 | E33: =IF('Feuille 1 copiée'!K271=1,VLOOKUP('Feuille 1 copiée'!$A271,'Feuille 1 copiée'!$A$3:$H$300,1,FALSE),0) -> Elève 269 | G33: 22 | H33: =INDEX($B$4:$E$1000,(H$11-1)*22+$G33,1) -> Elève 22 | I33: =INDEX($B$4:$E$1000,(I$11-1)*22+$G33,1) -> Elève 44 | J33: =INDEX($B$4:$E$1000,(J$11-1)*22+$G33,1) -> Elève 66 | K33: =INDEX($B$4:$E$1000,(K$11-1)*22+$G33,1) -> Elève 88
B34: =IF('Feuille 1 copiée'!H33=1,VLOOKUP('Feuille 1 copiée'!$A33,'Feuille 1 copiée'!$A$3:$H$300,1,FALSE),0) -> Elève 31 | C34: =IF('Feuille 1 copiée'!I129=1,VLOOKUP('Feuille 1 copiée'!$A129,'Feuille 1 copiée'!$A$3:$H$300,1,FALSE),0) -> Elève 127 | D34: =IF('Feuille 1 copiée'!J172=1,VLOOKUP('Feuille 1 copiée'!$A172,'Feuille 1 copiée'!$A$3:$H$300,1,FALSE),0) -> Elève 170 | E34: =IF('Feuille 1 copiée'!K270=1,VLOOKUP('Feuille 1 copiée'!$A270,'Feuille 1 copiée'!$A$3:$H$300,1,FALSE),0) -> Elève 268 | G34: 23 | H34: =INDEX($B$4:$E$1000,(H$11-1)*22+$G34,1) -> Elève 23 | I34: =INDEX($B$4:$E$1000,(I$11-1)*22+$G34,1) -> Elève 45 | J34: =INDEX($B$4:$E$1000,(J$11-1)*22+$G34,1) -> Elève 67 | K34: =INDEX($B$4:$E$1000,(K$11-1)*22+$G34,1) -> Elève 89
B35: =IF('Feuille 1 copiée'!H34=1,VLOOKUP('Feuille 1 copiée'!$A34,'Feuille 1 copiée'!$A$3:$H$300,1,FALSE),0) -> Elève 32 | C35: =IF('Feuille 1 copiée'!I128=1,VLOOKUP('Feuille 1 copiée'!$A128,'Feuille 1 copiée'!$A$3:$H$300,1,FALSE),0) -> Elève 126 | D35: =IF('Feuille 1 copiée'!J171=1,VLOOKUP('Feuille 1 copiée'!$A171,'Feuille 1 copiée'!$A$3:$H$300,1,FALSE),0) -> Elève 169 | E35: =IF('Feuille 1 copiée'!K269=1,VLOOKUP('Feuille 1 copiée'!$A269,'Feuille 1 copiée'!$A$3:$H$300,1,FALSE),0) -> Elève 267 | G35: 24
B36: =IF('Feuille 1 copiée'!H35=1,VLOOKUP('Feuille 1 copiée'!$A35,'Feuille 1 copiée'!$A$3:$H$300,1,FALSE),0) -> Elève 33 | C36: =IF('Feuille 1 copiée'!I127=1,VLOOKUP('Feuille 1 copiée'!$A127,'Feuille 1 copiée'!$A$3:$H$300,1,FALSE),0) -> Elève 125 | D36: =IF('Feuille 1 copiée'!J170=1,VLOOKUP('Feuille 1 copiée'!$A170,'Feuille 1 copiée'!$A$3:$H$300,1,FALSE),0) -> Elève 168 | E36: =IF('Feuille 1 copiée'!K268=1,VLOOKUP('Feuille 1 copiée'!$A268,'Feuille 1 copiée'!$A$3:$H$300,1,FALSE),0) -> Elève 266 | G36: 25
B37: =IF('Feuille 1 copiée'!H36=1,VLOOKUP('Feuille 1 copiée'!$A36,'Feuille 1 copiée'!$A$3:$H$300,1,FALSE),0) -> Elève 34 | C37: =IF('Feuille 1 copiée'!I126=1,VLOOKUP('Feuille 1 copiée'!$A126,'Feuille 1 copiée'!$A$3:$H$300,1,FALSE),0) -> Elève 124 | D37: =IF('Feuille 1 copiée'!J169=1,VLOOKUP('Feuille 1 copiée'!$A169,'Feuille 1 copiée'!$A$3:$H$300,1,FALSE),0) -> Elève 167 | E37: =IF('Feuille 1 copiée'!K267=1,VLOOKUP('Feuille 1 copiée'!$A267,'Feuille 1 copiée'!$A$3:$H$300,1,FALSE),0) -> Elève 265 | G37: 26
B38: =IF('Feuille 1 copiée'!H37=1,VLOOKUP('Feuille 1 copiée'!$A37,'Feuille 1 copiée'!$A$3:$H$300,1,FALSE),0) -> Elève 35 | C38: =IF('Feuille 1 copiée'!I125=1,VLOOKUP('Feuille 1 copiée'!$A125,'Feuille 1 copiée'!$A$3:$H$300,1,FALSE),0) -> Elève 123 | D38: =IF('Feuille 1 copiée'!J168=1,VLOOKUP('Feuille 1 copiée'!$A168,'Feuille 1 copiée'!$A$3:$H$300,1,FALSE),0) -> Elève 166 | E38: =IF('Feuille 1 copiée'!K266=1,VLOOKUP('Feuille 1 copiée'!$A266,'Feuille 1 copiée'!$A$3:$H$300,1,FALSE),0) -> Elève 264 | G38: 27
B39: =IF('Feuille 1 copiée'!H38=1,VLOOKUP('Feuille 1 copiée'!$A38,'Feuille 1 copiée'!$A$3:$H$300,1,FALSE),0) -> Elève 36 | C39: =IF('Feuille 1 copiée'!I124=1,VLOOKUP('Feuille 1 copiée'!$A124,'Feuille 1 copiée'!$A$3:$H$300,1,FALSE),0) -> Elève 122 | D39: =IF('Feuille 1 copiée'!J167=1,VLOOKUP('Feuille 1 copiée'!$A167,'Feuille 1 copiée'!$A$3:$H$300,1,FALSE),0) -> Elève 165 | E39: =IF('Feuille 1 copiée'!K265=1,VLOOKUP('Feuille 1 copiée'!$A265,'Feuille 1 copiée'!$A$3:$H$300,1,FALSE),0) -> Elève 263 | G39: 28
B40: =IF('Feuille 1 copiée'!H39=1,VLOOKUP('Feuille 1 copiée'!$A39,'Feuille 1 copiée'!$A$3:$H$300,1,FALSE),0) -> Elève 37 | C40: =IF('Feuille 1 copiée'!I123=1,VLOOKUP('Feuille 1 copiée'!$A123,'Feuille 1 copiée'!$A$3:$H$300,1,FALSE),0) -> Elève 121 | D40: =IF('Feuille 1 copiée'!J166=1,VLOOKUP('Feuille 1 copiée'!$A166,'Feuille 1 copiée'!$A$3:$H$300,1,FALSE),0) -> Elève 164 | E40: =IF('Feuille 1 copiée'!K264=1,VLOOKUP('Feuille 1 copiée'!$A264,'Feuille 1 copiée'!$A$3:$H$300,1,FALSE),0) -> Elève 262 | G40: 29
B41: =IF('Feuille 1 copiée'!H40=1,VLOOKUP('Feuille 1 copiée'!$A40,'Feuille 1 copiée'!$A$3:$H$300,1,FALSE),0) -> Elève 38 | C41: =IF('Feuille 1 copiée'!I122=1,VLOOKUP('Feuille 1 copiée'!$A122,'Feuille 1 copiée'!$A$3:$H$300,1,FALSE),0) -> Elève 120 | D41: =IF('Feuille 1 copiée'!J165=1,VLOOKUP('Feuille 1 copiée'!$A165,'Feuille 1 copiée'!$A$3:$H$300,1,FALSE),0) -> Elève 163 | E41: =IF('Feuille 1 copiée'!K263=1,VLOOKUP('Feuille 1 copiée'!$A263,'Feuille 1 copiée'!$A$3:$H$300,1,FALSE),0) -> Elève 261 | G41: 30
B42: =IF('Feuille 1 copiée'!H41=1,VLOOKUP('Feuille 1 copiée'!$A41,'Feuille 1 copiée'!$A$3:$H$300,1,FALSE),0) -> Elève 39 | C42: =IF('Feuille 1 copiée'!I121=1,VLOOKUP('Feuille 1 copiée'!$A121,'Feuille 1 copiée'!$A$3:$H$300,1,FALSE),0) -> Elève 119 | D42: =IF('Feuille 1 copiée'!J164=1,VLOOKUP('Feuille 1 copiée'!$A164,'Feuille 1 copiée'!$A$3:$H$300,1,FALSE),0) -> Elève 162 | E42: =IF('Feuille 1 copiée'!K262=1,VLOOKUP('Feuille 1 copiée'!$A262,'Feuille 1 copiée'!$A$3:$H$300,1,FALSE),0) -> Elève 260
B43: =IF('Feuille 1 copiée'!H42=1,VLOOKUP('Feuille 1 copiée'!$A42,'Feuille 1 copiée'!$A$3:$H$300,1,FALSE),0) -> Elève 40 | C43: =IF('Feuille 1 copiée'!I120=1,VLOOKUP('Feuille 1 copiée'!$A120,'Feuille 1 copiée'!$A$3:$H$300,1,FALSE),0) -> Elève 118 | D43: =IF('Feuille 1 copiée'!J163=1,VLOOKUP('Feuille 1 copiée'!$A163,'Feuille 1 copiée'!$A$3:$H$300,1,FALSE),0) -> Elève 161 | E43: =IF('Feuille 1 copiée'!K261=1,VLOOKUP('Feuille 1 copiée'!$A261,'Feuille 1 copiée'!$A$3:$H$300,1,FALSE),0) -> Elève 259
B44: =IF('Feuille 1 copiée'!H43=1,VLOOKUP('Feuille 1 copiée'!$A43,'Feuille 1 copiée'!$A$3:$H$300,1,FALSE),0) -> Elève 41 | C44: =IF('Feuille 1 copiée'!I119=1,VLOOKUP('Feuille 1 copiée'!$A119,'Feuille 1 copiée'!$A$3:$H$300,1,FALSE),0) -> Elève 117 | D44: =IF('Feuille 1 copiée'!J162=1,VLOOKUP('Feuille 1 copiée'!$A162,'Feuille 1 copiée'!$A$3:$H$300,1,FALSE),0) -> Elève 160 | E44: =IF('Feuille 1 copiée'!K260=1,VLOOKUP('Feuille 1 copiée'!$A260,'Feuille 1 copiée'!$A$3:$H$300,1,FALSE),0) -> Elève 258
B45: =IF('Feuille 1 copiée'!H44=1,VLOOKUP('Feuille 1 copiée'!$A44,'Feuille 1 copiée'!$A$3:$H$300,1,FALSE),0) -> Elève 42 | C45: =IF('Feuille 1 copiée'!I118=1,VLOOKUP('Feuille 1 copiée'!$A118,'Feuille 1 copiée'!$A$3:$H$300,1,FALSE),0) -> Elève 116 | D45: =IF('Feuille 1 copiée'!J161=1,VLOOKUP('Feuille 1 copiée'!$A161,'Feuille 1 copiée'!$A$3:$H$300,1,FALSE),0) -> Elève 159 | E45: =IF('Feuille 1 copiée'!K259=1,VLOOKUP('Feuille 1 copiée'!$A259,'Feuille 1 copiée'!$A$3:$H$300,1,FALSE),0) -> Elève 257
B46: =IF('Feuille 1 copiée'!H45=1,VLOOKUP('Feuille 1 copiée'!$A45,'Feuille 1 copiée'!$A$3:$H$300,1,FALSE),0) -> Elève 43 | C46: =IF('Feuille 1 copiée'!I117=1,VLOOKUP('Feuille 1 copiée'!$A117,'Feuille 1 copiée'!$A$3:$H$300,1,FALSE),0) -> Elève 115 | D46: =IF('Feuille 1 copiée'!J160=1,VLOOKUP('Feuille 1 copiée'!$A160,'Feuille 1 copiée'!$A$3:$H$300,1,FALSE),0) -> Elève 158 | E46: =IF('Feuille 1 copiée'!K258=1,VLOOKUP('Feuille 1 copiée'!$A258,'Feuille 1 copiée'!$A$3:$H$300,1,FALSE),0) -> Elève 256
B47: =IF('Feuille 1 copiée'!H46=1,VLOOKUP('Feuille 1 copiée'!$A46,'Feuille 1 copiée'!$A$3:$H$300,1,FALSE),0) -> Elève 44 | C47: =IF('Feuille 1 copiée'!I116=1,VLOOKUP('Feuille 1 copiée'!$A116,'Feuille 1 copiée'!$A$3:$H$300,1,FALSE),0) -> Elève 114 | D47: =IF('Feuille 1 copiée'!J159=1,VLOOKUP('Feuille 1 copiée'!$A159,'Feuille 1 copiée'!$A$3:$H$300,1,FALSE),0) -> Elève 157 | E47: =IF('Feuille 1 copiée'!K257=1,VLOOKUP('Feuille 1 copiée'!$A257,'Feuille 1 copiée'!$A$3:$H$300,1,FALSE),0) -> Elève 255
B48: =IF('Feuille 1 copiée'!H47=1,VLOOKUP('Feuille 1 copiée'!$A47,'Feuille 1 copiée'!$A$3:$H$300,1,FALSE),0) -> Elève 45 | C48: =IF('Feuille 1 copiée'!I115=1,VLOOKUP('Feuille 1 copiée'!$A115,'Feuille 1 copiée'!$A$3:$H$300,1,FALSE),0) -> Elève 113 | D48: =IF('Feuille 1 copiée'!J158=1,VLOOKUP('Feuille 1 copiée'!$A158,'Feuille 1 copiée'!$A$3:$H$300,1,FALSE),0) -> Elève 156 | E48: =IF('Feuille 1 copiée'!K256=1,VLOOKUP('Feuille 1 copiée'!$A256,'Feuille 1 copiée'!$A$3:$H$300,1,FALSE),0) -> Elève 254
B49: =IF('Feuille 1 copiée'!H48=1,VLOOKUP('Feuille 1 copiée'!$A48,'Feuille 1 copiée'!$A$3:$H$300,1,FALSE),0) -> Elève 46 | C49: =IF('Feuille 1 copiée'!I114=1,VLOOKUP('Feuille 1 copiée'!$A114,'Feuille 1 copiée'!$A$3:$H$300,1,FALSE),0) -> Elève 112 | D49: =IF('Feuille 1 copiée'!J157=1,VLOOKUP('Feuille 1 copiée'!$A157,'Feuille 1 copiée'!$A$3:$H$300,1,FALSE),0) -> Elève 155 | E49: =IF('Feuille 1 copiée'!K255=1,VLOOKUP('Feuille 1 copiée'!$A255,'Feuille 1 copiée'!$A$3:$H$300,1,FALSE),0) -> Elève 253
B50: =IF('Feuille 1 copiée'!H49=1,VLOOKUP('Feuille 1 copiée'!$A49,'Feuille 1 copiée'!$A$3:$H$300,1,FALSE),0) -> Elève 47 | C50: =IF('Feuille 1 copiée'!I113=1,VLOOKUP('Feuille 1 copiée'!$A113,'Feuille 1 copiée'!$A$3:$H$300,1,FALSE),0) -> Elève 111 | D50: =IF('Feuille 1 copiée'!J156=1,VLOOKUP('Feuille 1 copiée'!$A156,'Feuille 1 copiée'!$A$3:$H$300,1,FALSE),0) -> Elève 154 | E50: =IF('Feuille 1 copiée'!K254=1,VLOOKUP('Feuille 1 copiée'!$A254,'Feuille 1 copiée'!$A$3:$H$300,1,FALSE),0) -> Elève 252
B51: =IF('Feuille 1 copiée'!H50=1,VLOOKUP('Feuille 1 copiée'!$A50,'Feuille 1 copiée'!$A$3:$H$300,1,FALSE),0) -> Elève 48 | C51: =IF('Feuille 1 copiée'!I112=1,VLOOKUP('Feuille 1 copiée'!$A112,'Feuille 1 copiée'!$A$3:$H$300,1,FALSE),0) -> Elève 110 | D51: =IF('Feuille 1 copiée'!J155=1,VLOOKUP('Feuille 1 copiée'!$A155,'Feuille 1 copiée'!$A$3:$H$300,1,FALSE),0) -> Elève 153 | E51: =IF('Feuille 1 copiée'!K253=1,VLOOKUP('Feuille 1 copiée'!$A253,'Feuille 1 copiée'!$A$3:$H$300,1,FALSE),0) -> Elève 251
B52: =IF('Feuille 1 copiée'!H51=1,VLOOKUP('Feuille 1 copiée'!$A51,'Feuille 1 copiée'!$A$3:$H$300,1,FALSE),0) -> Elève 49 | C52: =IF('Feuille 1 copiée'!I111=1,VLOOKUP('Feuille 1 copiée'!$A111,'Feuille 1 copiée'!$A$3:$H$300,1,FALSE),0) -> Elève 109 | D52: =IF('Feuille 1 copiée'!J154=1,VLOOKUP('Feuille 1 copiée'!$A154,'Feuille 1 copiée'!$A$3:$H$300,1,FALSE),0) -> Elève 152 | E52: =IF('Feuille 1 copiée'!K252=1,VLOOKUP('Feuille 1 copiée'!$A252,'Feuille 1 copiée'!$A$3:$H$300,1,FALSE),0) -> Elève 250
B53: =IF('Feuille 1 copiée'!H52=1,VLOOKUP('Feuille 1 copiée'!$A52,'Feuille 1 copiée'!$A$3:$H$300,1,FALSE),0) -> Elève 50 | C53: =IF('Feuille 1 copiée'!I110=1,VLOOKUP('Feuille 1 copiée'!$A110,'Feuille 1 copiée'!$A$3:$H$300,1,FALSE),0) -> Elève 108 | D53: =IF('Feuille 1 copiée'!J153=1,VLOOKUP('Feuille 1 copiée'!$A153,'Feuille 1 copiée'!$A$3:$H$300,1,FALSE),0) -> Elève 151 | E53: =IF('Feuille 1 copiée'!K251=1,VLOOKUP('Feuille 1 copiée'!$A251,'Feuille 1 copiée'!$A$3:$H$300,1,FALSE),0) -> Elève 249
B54: =IF('Feuille 1 copiée'!H53=1,VLOOKUP('Feuille 1 copiée'!$A53,'Feuille 1 copiée'!$A$3:$H$300,1,FALSE),0) -> Elève 51 | C54: =IF('Feuille 1 copiée'!I109=1,VLOOKUP('Feuille 1 copiée'!$A109,'Feuille 1 copiée'!$A$3:$H$300,1,FALSE),0) -> Elève 107 | D54: =IF('Feuille 1 copiée'!J152=1,VLOOKUP('Feuille 1 copiée'!$A152,'Feuille 1 copiée'!$A$3:$H$300,1,FALSE),0) -> Elève 150 | E54: =IF('Feuille 1 copiée'!K250=1,VLOOKUP('Feuille 1 copiée'!$A250,'Feuille 1 copiée'!$A$3:$H$300,1,FALSE),0) -> Elève 248
B55: =IF('Feuille 1 copiée'!H54=1,VLOOKUP('Feuille 1 copiée'!$A54,'Feuille 1 copiée'!$A$3:$H$300,1,FALSE),0) -> Elève 52 | C55: =IF('Feuille 1 copiée'!I108=1,VLOOKUP('Feuille 1 copiée'!$A108,'Feuille 1 copiée'!$A$3:$H$300,1,FALSE),0) -> Elève 106 | D55: =IF('Feuille 1 copiée'!J3=1,VLOOKUP('Feuille 1 copiée'!$A3,'Feuille 1 copiée'!$A$3:$H$300,1,FALSE),0) -> 0 | E55: =IF('Feuille 1 copiée'!K249=1,VLOOKUP('Feuille 1 copiée'!$A249,'Feuille 1 copiée'!$A$3:$H$300,1,FALSE),0) -> Elève 247
B56: =IF('Feuille 1 copiée'!H55=1,VLOOKUP('Feuille 1 copiée'!$A55,'Feuille 1 copiée'!$A$3:$H$300,1,FALSE),0) -> Elève 53 | C56: =IF('Feuille 1 copiée'!I107=1,VLOOKUP('Feuille 1 copiée'!$A107,'Feuille 1 copiée'!$A$3:$H$300,1,FALSE),0) -> Elève 105 | D56: =IF('Feuille 1 copiée'!J4=1,VLOOKUP('Feuille 1 copiée'!$A4,'Feuille 1 copiée'!$A$3:$H$300,1,FALSE),0) -> 0 | E56: =IF('Feuille 1 copiée'!K248=1,VLOOKUP('Feuille 1 copiée'!$A248,'Feuille 1 copiée'!$A$3:$H$300,1,FALSE),0) -> Elève 246
B57: =IF('Feuille 1 copiée'!H56=1,VLOOKUP('Feuille 1 copiée'!$A56,'Feuille 1 copiée'!$A$3:$H$300,1,FALSE),0) -> Elève 54 | C57: =IF('Feuille 1 copiée'!I106=1,VLOOKUP('Feuille 1 copiée'!$A106,'Feuille 1 copiée'!$A$3:$H$300,1,FALSE),0) -> Elève 104 | D57: =IF('Feuille 1 copiée'!J5=1,VLOOKUP('Feuille 1 copiée'!$A5,'Feuille 1 copiée'!$A$3:$H$300,1,FALSE),0) -> 0 | E57: =IF('Feuille 1 copiée'!K247=1,VLOOKUP('Feuille 1 copiée'!$A247,'Feuille 1 copiée'!$A$3:$H$300,1,FALSE),0) -> Elève 245
B58: =IF('Feuille 1 copiée'!H57=1,VLOOKUP('Feuille 1 copiée'!$A57,'Feuille 1 copiée'!$A$3:$H$300,1,FALSE),0) -> Elève 55 | C58: =IF('Feuille 1 copiée'!I105=1,VLOOKUP('Feuille 1 copiée'!$A105,'Feuille 1 copiée'!$A$3:$H$300,1,FALSE),0) -> Elève 103 | D58: =IF('Feuille 1 copiée'!J6=1,VLOOKUP('Feuille 1 copiée'!$A6,'Feuille 1 copiée'!$A$3:$H$300,1,FALSE),0) -> 0 | E58: =IF('Feuille 1 copiée'!K246=1,VLOOKUP('Feuille 1 copiée'!$A246,'Feuille 1 copiée'!$A$3:$H$300,1,FALSE),0) -> Elève 244
B59: =IF('Feuille 1 copiée'!H58=1,VLOOKUP('Feuille 1 copiée'!$A58,'Feuille 1 copiée'!$A$3:$H$300,1,FALSE),0) -> Elève 56 | C59: =IF('Feuille 1 copiée'!I104=1,VLOOKUP('Feuille 1 copiée'!$A104,'Feuille 1 copiée'!$A$3:$H$300,1,FALSE),0) -> Elève 102 | D59: =IF('Feuille 1 copiée'!J7=1,VLOOKUP('Feuille 1 copiée'!$A7,'Feuille 1 copiée'!$A$3:$H$300,1,FALSE),0) -> 0 | E59: =IF('Feuille 1 copiée'!K245=1,VLOOKUP('Feuille 1 copiée'!$A245,'Feuille 1 copiée'!$A$3:$H$300,1,FALSE),0) -> Elève 243
B60: =IF('Feuille 1 copiée'!H59=1,VLOOKUP('Feuille 1 copiée'!$A59,'Feuille 1 copiée'!$A$3:$H$300,1,FALSE),0) -> Elève 57 | C60: =IF('Feuille 1 copiée'!I103=1,VLOOKUP('Feuille 1 copiée'!$A103,'Feuille 1 copiée'!$A$3:$H$300,1,FALSE),0) -> Elève 101 | D60: =IF('Feuille 1 copiée'!J8=1,VLOOKUP('Feuille 1 copiée'!$A8,'Feuille 1 copiée'!$A$3:$H$300,1,FALSE),0) -> 0 | E60: =IF('Feuille 1 copiée'!K244=1,VLOOKUP('Feuille 1 copiée'!$A244,'Feuille 1 copiée'!$A$3:$H$300,1,FALSE),0) -> Elève 242
B61: =IF('Feuille 1 copiée'!H60=1,VLOOKUP('Feuille 1 copiée'!$A60,'Feuille 1 copiée'!$A$3:$H$300,1,FALSE),0) -> Elève 58 | C61: =IF('Feuille 1 copiée'!I102=1,VLOOKUP('Feuille 1 copiée'!$A102,'Feuille 1 copiée'!$A$3:$H$300,1,FALSE),0) -> Elève 100 | D61: =IF('Feuille 1 copiée'!J9=1,VLOOKUP('Feuille 1 copiée'!$A9,'Feuille 1 copiée'!$A$3:$H$300,1,FALSE),0) -> 0 | E61: =IF('Feuille 1 copiée'!K243=1,VLOOKUP('Feuille 1 copiée'!$A243,'Feuille 1 copiée'!$A$3:$H$300,1,FALSE),0) -> Elève 241
B62: =IF('Feuille 1 copiée'!H61=1,VLOOKUP('Feuille 1 copiée'!$A61,'Feuille 1 copiée'!$A$3:$H$300,1,FALSE),0) -> Elève 59 | C62: =IF('Feuille 1 copiée'!I3=1,VLOOKUP('Feuille 1 copiée'!$A3,'Feuille 1 copiée'!$A$3:$H$300,1,FALSE),0) -> 0 | D62: =IF('Feuille 1 copiée'!J10=1,VLOOKUP('Feuille 1 copiée'!$A10,'Feuille 1 copiée'!$A$3:$H$300,1,FALSE),0) -> 0 | E62: =IF('Feuille 1 copiée'!K242=1,VLOOKUP('Feuille 1 copiée'!$A242,'Feuille 1 copiée'!$A$3:$H$300,1,FALSE),0) -> Elève 240
B63: =IF('Feuille 1 copiée'!H62=1,VLOOKUP('Feuille 1 copiée'!$A62,'Feuille 1 copiée'!$A$3:$H$300,1,FALSE),0) -> Elève 60 | C63: =IF('Feuille 1 copiée'!I4=1,VLOOKUP('Feuille 1 copiée'!$A4,'Feuille 1 copiée'!$A$3:$H$300,1,FALSE),0) -> 0 | D63: =IF('Feuille 1 copiée'!J11=1,VLOOKUP('Feuille 1 copiée'!$A11,'Feuille 1 copiée'!$A$3:$H$300,1,FALSE),0) -> 0 | E63: =IF('Feuille 1 copiée'!K241=1,VLOOKUP('Feuille 1 copiée'!$A241,'Feuille 1 copiée'!$A$3:$H$300,1,FALSE),0) -> Elève 239
B64: =IF('Feuille 1 copiée'!H63=1,VLOOKUP('Feuille 1 copiée'!$A63,'Feuille 1 copiée'!$A$3:$H$300,1,FALSE),0) -> Elève 61 | C64: =IF('Feuille 1 copiée'!I5=1,VLOOKUP('Feuille 1 copiée'!$A5,'Feuille 1 copiée'!$A$3:$H$300,1,FALSE),0) -> 0 | D64: =IF('Feuille 1 copiée'!J12=1,VLOOKUP('Feuille 1 copiée'!$A12,'Feuille 1 copiée'!$A$3:$H$300,1,FALSE),0) -> 0 | E64: =IF('Feuille 1 copiée'!K240=1,VLOOKUP('Feuille 1 copiée'!$A240,'Feuille 1 copiée'!$A$3:$H$300,1,FALSE),0) -> Elève 238
B65: =IF('Feuille 1 copiée'!H64=1,VLOOKUP('Feuille 1 copiée'!$A64,'Feuille 1 copiée'!$A$3:$H$300,1,FALSE),0) -> Elève 62 | C65: =IF('Feuille 1 copiée'!I6=1,VLOOKUP('Feuille 1 copiée'!$A6,'Feuille 1 copiée'!$A$3:$H$300,1,FALSE),0) -> 0 | D65: =IF('Feuille 1 copiée'!J13=1,VLOOKUP('Feuille 1 copiée'!$A13,'Feuille 1 copiée'!$A$3:$H$300,1,FALSE),0) -> 0 | E65: =IF('Feuille 1 copiée'!K239=1,VLOOKUP('Feuille 1 copiée'!$A239,'Feuille 1 copiée'!$A$3:$H$300,1,FALSE),0) -> Elève 237
B66: =IF('Feuille 1 copiée'!H65=1,VLOOKUP('Feuille 1 copiée'!$A65,'Feuille 1 copiée'!$A$3:$H$300,1,FALSE),0) -> Elève 63 | C66: =IF('Feuille 1 copiée'!I7=1,VLOOKUP('Feuille 1 copiée'!$A7,'Feuille 1 copiée'!$A$3:$H$300,1,FALSE),0) -> 0 | D66: =IF('Feuille 1 copiée'!J14=1,VLOOKUP('Feuille 1 copiée'!$A14,'Feuille 1 copiée'!$A$3:$H$300,1,FALSE),0) -> 0 | E66: =IF('Feuille 1 copiée'!K238=1,VLOOKUP('Feuille 1 copiée'!$A238,'Feuille 1 copiée'!$A$3:$H$300,1,FALSE),0) -> Elève 236
B67: =IF('Feuille 1 copiée'!H66=1,VLOOKUP('Feuille 1 copiée'!$A66,'Feuille 1 copiée'!$A$3:$H$300,1,FALSE),0) -> Elève 64 | C67: =IF('Feuille 1 copiée'!I8=1,VLOOKUP('Feuille 1 copiée'!$A8,'Feuille 1 copiée'!$A$3:$H$300,1,FALSE),0) -> 0 | D67: =IF('Feuille 1 copiée'!J15=1,VLOOKUP('Feuille 1 copiée'!$A15,'Feuille 1 copiée'!$A$3:$H$300,1,FALSE),0) -> 0 | E67: =IF('Feuille 1 copiée'!K237=1,VLOOKUP('Feuille 1 copiée'!$A237,'Feuille 1 copiée'!$A$3:$H$300,1,FALSE),0) -> Elève 235
B68: =IF('Feuille 1 copiée'!H67=1,VLOOKUP('Feuille 1 copiée'!$A67,'Feuille 1 copiée'!$A$3:$H$300,1,FALSE),0) -> Elève 65 | C68: =IF('Feuille 1 copiée'!I9=1,VLOOKUP('Feuille 1 copiée'!$A9,'Feuille 1 copiée'!$A$3:$H$300,1,FALSE),0) -> 0 | D68: =IF('Feuille 1 copiée'!J16=1,VLOOKUP('Feuille 1 copiée'!$A16,'Feuille 1 copiée'!$A$3:$H$300,1,FALSE),0) -> 0 | E68: =IF('Feuille 1 copiée'!K236=1,VLOOKUP('Feuille 1 copiée'!$A236,'Feuille 1 copiée'!$A$3:$H$300,1,FALSE),0) -> Elève 234
B69: =IF('Feuille 1 copiée'!H68=1,VLOOKUP('Feuille 1 copiée'!$A68,'Feuille 1 copiée'!$A$3:$H$300,1,FALSE),0) -> Elève 66 | C69: =IF('Feuille 1 copiée'!I10=1,VLOOKUP('Feuille 1 copiée'!$A10,'Feuille 1 copiée'!$A$3:$H$300,1,FALSE),0) -> 0 | D69: =IF('Feuille 1 copiée'!J17=1,VLOOKUP('Feuille 1 copiée'!$A17,'Feuille 1 copiée'!$A$3:$H$300,1,FALSE),0) -> 0 | E69: =IF('Feuille 1 copiée'!K235=1,VLOOKUP('Feuille 1 copiée'!$A235,'Feuille 1 copiée'!$A$3:$H$300,1,FALSE),0) -> Elève 233
B70: =IF('Feuille 1 copiée'!H69=1,VLOOKUP('Feuille 1 copiée'!$A69,'Feuille 1 copiée'!$A$3:$H$300,1,FALSE),0) -> Elève 67 | C70: =IF('Feuille 1 copiée'!I11=1,VLOOKUP('Feuille 1 copiée'!$A11,'Feuille 1 copiée'!$A$3:$H$300,1,FALSE),0) -> 0 | D70: =IF('Feuille 1 copiée'!J18=1,VLOOKUP('Feuille 1 copiée'!$A18,'Feuille 1 copiée'!$A$3:$H$300,1,FALSE),0) -> 0 | E70: =IF('Feuille 1 copiée'!K234=1,VLOOKUP('Feuille 1 copiée'!$A234,'Feuille 1 copiée'!$A$3:$H$300,1,FALSE),0) -> Elève 232
B71: =IF('Feuille 1 copiée'!H70=1,VLOOKUP('Feuille 1 copiée'!$A70,'Feuille 1 copiée'!$A$3:$H$300,1,FALSE),0) -> Elève 68 | C71: =IF('Feuille 1 copiée'!I12=1,VLOOKUP('Feuille 1 copiée'!$A12,'Feuille 1 copiée'!$A$3:$H$300,1,FALSE),0) -> 0 | D71: =IF('Feuille 1 copiée'!J19=1,VLOOKUP('Feuille 1 copiée'!$A19,'Feuille 1 copiée'!$A$3:$H$300,1,FALSE),0) -> 0 | E71: =IF('Feuille 1 copiée'!K233=1,VLOOKUP('Feuille 1 copiée'!$A233,'Feuille 1 copiée'!$A$3:$H$300,1,FALSE),0) -> Elève 231
B72: =IF('Feuille 1 copiée'!H71=1,VLOOKUP('Feuille 1 copiée'!$A71,'Feuille 1 copiée'!$A$3:$H$300,1,FALSE),0) -> Elève 69 | C72: =IF('Feuille 1 copiée'!I13=1,VLOOKUP('Feuille 1 copiée'!$A13,'Feuille 1 copiée'!$A$3:$H$300,1,FALSE),0) -> 0 | D72: =IF('Feuille 1 copiée'!J20=1,VLOOKUP('Feuille 1 copiée'!$A20,'Feuille 1 copiée'!$A$3:$H$300,1,FALSE),0) -> 0 | E72: =IF('Feuille 1 copiée'!K232=1,VLOOKUP('Feuille 1 copiée'!$A232,'Feuille 1 copiée'!$A$3:$H$300,1,FALSE),0) -> Elève 230
B73: =IF('Feuille 1 copiée'!H72=1,VLOOKUP('Feuille 1 copiée'!$A72,'Feuille 1 copiée'!$A$3:$H$300,1,FALSE),0) -> Elève 70 | C73: =IF('Feuille 1 copiée'!I14=1,VLOOKUP('Feuille 1 copiée'!$A14,'Feuille 1 copiée'!$A$3:$H$300,1,FALSE),0) -> 0 | D73: =IF('Feuille 1 copiée'!J21=1,VLOOKUP('Feuille 1 copiée'!$A21,'Feuille 1 copiée'!$A$3:$H$300,1,FALSE),0) -> 0 | E73: =IF('Feuille 1 copiée'!K231=1,VLOOKUP('Feuille 1 copiée'!$A231,'Feuille 1 copiée'!$A$3:$H$300,1,FALSE),0) -> Elève 229
B74: =IF('Feuille 1 copiée'!H73=1,VLOOKUP('Feuille 1 copiée'!$A73,'Feuille 1 copiée'!$A$3:$H$300,1,FALSE),0) -> Elève 71 | C74: =IF('Feuille 1 copiée'!I15=1,VLOOKUP('Feuille 1 copiée'!$A15,'Feuille 1 copiée'!$A$3:$H$300,1,FALSE),0) -> 0 | D74: =IF('Feuille 1 copiée'!J22=1,VLOOKUP('Feuille 1 copiée'!$A22,'Feuille 1 copiée'!$A$3:$H$300,1,FALSE),0) -> 0 | E74: =IF('Feuille 1 copiée'!K230=1,VLOOKUP('Feuille 1 copiée'!$A230,'Feuille 1 copiée'!$A$3:$H$300,1,FALSE),0) -> Elève 228
B75: =IF('Feuille 1 copiée'!H74=1,VLOOKUP('Feuille 1 copiée'!$A74,'Feuille 1 copiée'!$A$3:$H$300,1,FALSE),0) -> Elève 72 | C75: =IF('Feuille 1 copiée'!I16=1,VLOOKUP('Feuille 1 copiée'!$A16,'Feuille 1 copiée'!$A$3:$H$300,1,FALSE),0) -> 0 | D75: =IF('Feuille 1 copiée'!J23=1,VLOOKUP('Feuille 1 copiée'!$A23,'Feuille 1 copiée'!$A$3:$H$300,1,FALSE),0) -> 0 | E75: =IF('Feuille 1 copiée'!K229=1,VLOOKUP('Feuille 1 copiée'!$A229,'Feuille 1 copiée'!$A$3:$H$300,1,FALSE),0) -> Elève 227
B76: =IF('Feuille 1 copiée'!H75=1,VLOOKUP('Feuille 1 copiée'!$A75,'Feuille 1 copiée'!$A$3:$H$300,1,FALSE),0) -> Elève 73 | C76: =IF('Feuille 1 copiée'!I17=1,VLOOKUP('Feuille 1 copiée'!$A17,'Feuille 1 copiée'!$A$3:$H$300,1,FALSE),0) -> 0 | D76: =IF('Feuille 1 copiée'!J24=1,VLOOKUP('Feuille 1 copiée'!$A24,'Feuille 1 copiée'!$A$3:$H$300,1,FALSE),0) -> 0 | E76: =IF('Feuille 1 copiée'!K228=1,VLOOKUP('Feuille 1 copiée'!$A228,'Feuille 1 copiée'!$A$3:$H$300,1,FALSE),0) -> Elève 226
B77: =IF('Feuille 1 copiée'!H76=1,VLOOKUP('Feuille 1 copiée'!$A76,'Feuille 1 copiée'!$A$3:$H$300,1,FALSE),0) -> Elève 74 | C77: =IF('Feuille 1 copiée'!I18=1,VLOOKUP('Feuille 1 copiée'!$A18,'Feuille 1 copiée'!$A$3:$H$300,1,FALSE),0) -> 0 | D77: =IF('Feuille 1 copiée'!J25=1,VLOOKUP('Feuille 1 copiée'!$A25,'Feuille 1 copiée'!$A$3:$H$300,1,FALSE),0) -> 0 | E77: =IF('Feuille 1 copiée'!K227=1,VLOOKUP('Feuille 1 copiée'!$A227,'Feuille 1 copiée'!$A$3:$H$300,1,FALSE),0) -> Elève 225
B78: =IF('Feuille 1 copiée'!H77=1,VLOOKUP('Feuille 1 copiée'!$A77,'Feuille 1 copiée'!$A$3:$H$300,1,FALSE),0) -> Elève 75 | C78: =IF('Feuille 1 copiée'!I19=1,VLOOKUP('Feuille 1 copiée'!$A19,'Feuille 1 copiée'!$A$3:$H$300,1,FALSE),0) -> 0 | D78: =IF('Feuille 1 copiée'!J26=1,VLOOKUP('Feuille 1 copiée'!$A26,'Feuille 1 copiée'!$A$3:$H$300,1,FALSE),0) -> 0 | E78: =IF('Feuille 1 copiée'!K226=1,VLOOKUP('Feuille 1 copiée'!$A226,'Feuille 1 copiée'!$A$3:$H$300,1,FALSE),0) -> Elève 224
B79: =IF('Feuille 1 copiée'!H78=1,VLOOKUP('Feuille 1 copiée'!$A78,'Feuille 1 copiée'!$A$3:$H$300,1,FALSE),0) -> Elève 76 | C79: =IF('Feuille 1 copiée'!I20=1,VLOOKUP('Feuille 1 copiée'!$A20,'Feuille 1 copiée'!$A$3:$H$300,1,FALSE),0) -> 0 | D79: =IF('Feuille 1 copiée'!J27=1,VLOOKUP('Feuille 1 copiée'!$A27,'Feuille 1 copiée'!$A$3:$H$300,1,FALSE),0) -> 0 | E79: =IF('Feuille 1 copiée'!K225=1,VLOOKUP('Feuille 1 copiée'!$A225,'Feuille 1 copiée'!$A$3:$H$300,1,FALSE),0) -> Elève 223
B80: =IF('Feuille 1 copiée'!H79=1,VLOOKUP('Feuille 1 copiée'!$A79,'Feuille 1 copiée'!$A$3:$H$300,1,FALSE),0) -> Elève 77 | C80: =IF('Feuille 1 copiée'!I21=1,VLOOKUP('Feuille 1 copiée'!$A21,'Feuille 1 copiée'!$A$3:$H$300,1,FALSE),0) -> 0 | D80: =IF('Feuille 1 copiée'!J28=1,VLOOKUP('Feuille 1 copiée'!$A28,'Feuille 1 copiée'!$A$3:$H$300,1,FALSE),0) -> 0 | E80: =IF('Feuille 1 copiée'!K224=1,VLOOKUP('Feuille 1 copiée'!$A224,'Feuille 1 copiée'!$A$3:$H$300,1,FALSE),0) -> Elève 222
B81: =IF('Feuille 1 copiée'!H80=1,VLOOKUP('Feuille 1 copiée'!$A80,'Feuille 1 copiée'!$A$3:$H$300,1,FALSE),0) -> Elève 78 | C81: =IF('Feuille 1 copiée'!I22=1,VLOOKUP('Feuille 1 copiée'!$A22,'Feuille 1 copiée'!$A$3:$H$300,1,FALSE),0) -> 0 | D81: =IF('Feuille 1 copiée'!J29=1,VLOOKUP('Feuille 1 copiée'!$A29,'Feuille 1 copiée'!$A$3:$H$300,1,FALSE),0) -> 0 | E81: =IF('Feuille 1 copiée'!K223=1,VLOOKUP('Feuille 1 copiée'!$A223,'Feuille 1 copiée'!$A$3:$H$300,1,FALSE),0) -> Elève 221
B82: =IF('Feuille 1 copiée'!H81=1,VLOOKUP('Feuille 1 copiée'!$A81,'Feuille 1 copiée'!$A$3:$H$300,1,FALSE),0) -> Elève 79 | C82: =IF('Feuille 1 copiée'!I23=1,VLOOKUP('Feuille 1 copiée'!$A23,'Feuille 1 copiée'!$A$3:$H$300,1,FALSE),0) -> 0 | D82: =IF('Feuille 1 copiée'!J30=1,VLOOKUP('Feuille 1 copiée'!$A30,'Feuille 1 copiée'!$A$3:$H$300,1,FALSE),0) -> 0 | E82: =IF('Feuille 1 copiée'!K222=1,VLOOKUP('Feuille 1 copiée'!$A222,'Feuille 1 copiée'!$A$3:$H$300,1,FALSE),0) -> Elève 220
B83: =IF('Feuille 1 copiée'!H82=1,VLOOKUP('Feuille 1 copiée'!$A82,'Feuille 1 copiée'!$A$3:$H$300,1,FALSE),0) -> Elève 80 | C83: =IF('Feuille 1 copiée'!I24=1,VLOOKUP('Feuille 1 copiée'!$A24,'Feuille 1 copiée'!$A$3:$H$300,1,FALSE),0) -> 0 | D83: =IF('Feuille 1 copiée'!J31=1,VLOOKUP('Feuille 1 copiée'!$A31,'Feuille 1 copiée'!$A$3:$H$300,1,FALSE),0) -> 0 | E83: =IF('Feuille 1 copiée'!K221=1,VLOOKUP('Feuille 1 copiée'!$A221,'Feuille 1 copiée'!$A$3:$H$300,1,FALSE),0) -> Elève 219
B84: =IF('Feuille 1 copiée'!H83=1,VLOOKUP('Feuille 1 copiée'!$A83,'Feuille 1 copiée'!$A$3:$H$300,1,FALSE),0) -> Elève 81 | C84: =IF('Feuille 1 copiée'!I25=1,VLOOKUP('Feuille 1 copiée'!$A25,'Feuille 1 copiée'!$A$3:$H$300,1,FALSE),0) -> 0 | D84: =IF('Feuille 1 copiée'!J32=1,VLOOKUP('Feuille 1 copiée'!$A32,'Feuille 1 copiée'!$A$3:$H$300,1,FALSE),0) -> 0 | E84: =IF('Feuille 1 copiée'!K220=1,VLOOKUP('Feuille 1 copiée'!$A220,'Feuille 1 copiée'!$A$3:$H$300,1,FALSE),0) -> Elève 218
B85: =IF('Feuille 1 copiée'!H84=1,VLOOKUP('Feuille 1 copiée'!$A84,'Feuille 1 copiée'!$A$3:$H$300,1,FALSE),0) -> Elève 82 | C85: =IF('Feuille 1 copiée'!I26=1,VLOOKUP('Feuille 1 copiée'!$A26,'Feuille 1 copiée'!$A$3:$H$300,1,FALSE),0) -> 0 | D85: =IF('Feuille 1 copiée'!J33=1,VLOOKUP('Feuille 1 copiée'!$A33,'Feuille 1 copiée'!$A$3:$H$300,1,FALSE),0) -> 0 | E85: =IF('Feuille 1 copiée'!K219=1,VLOOKUP('Feuille 1 copiée'!$A219,'Feuille 1 copiée'!$A$3:$H$300,1,FALSE),0) -> Elève 217
B86: =IF('Feuille 1 copiée'!H85=1,VLOOKUP('Feuille 1 copiée'!$A85,'Feuille 1 copiée'!$A$3:$H$300,1,FALSE),0) -> Elève 83 | C86: =IF('Feuille 1 copiée'!I27=1,VLOOKUP('Feuille 1 copiée'!$A27,'Feuille 1 copiée'!$A$3:$H$300,1,FALSE),0) -> 0 | D86: =IF('Feuille 1 copiée'!J34=1,VLOOKUP('Feuille 1 copiée'!$A34,'Feuille 1 copiée'!$A$3:$H$300,1,FALSE),0) -> 0 | E86: =IF('Feuille 1 copiée'!K218=1,VLOOKUP('Feuille 1 copiée'!$A218,'Feuille 1 copiée'!$A$3:$H$300,1,FALSE),0) -> Elève 216
B87: =IF('Feuille 1 copiée'!H86=1,VLOOKUP('Feuille 1 copiée'!$A86,'Feuille 1 copiée'!$A$3:$H$300,1,FALSE),0) -> Elève 84 | C87: =IF('Feuille 1 copiée'!I28=1,VLOOKUP('Feuille 1 copiée'!$A28,'Feuille 1 copiée'!$A$3:$H$300,1,FALSE),0) -> 0 | D87: =IF('Feuille 1 copiée'!J35=1,VLOOKUP('Feuille 1 copiée'!$A35,'Feuille 1 copiée'!$A$3:$H$300,1,FALSE),0) -> 0 | E87: =IF('Feuille 1 copiée'!K217=1,VLOOKUP('Feuille 1 copiée'!$A217,'Feuille 1 copiée'!$A$3:$H$300,1,FALSE),0) -> Elève 215
B88: =IF('Feuille 1 copiée'!H87=1,VLOOKUP('Feuille 1 copiée'!$A87,'Feuille 1 copiée'!$A$3:$H$300,1,FALSE),0) -> Elève 85 | C88: =IF('Feuille 1 copiée'!I29=1,VLOOKUP('Feuille 1 copiée'!$A29,'Feuille 1 copiée'!$A$3:$H$300,1,FALSE),0) -> 0 | D88: =IF('Feuille 1 copiée'!J36=1,VLOOKUP('Feuille 1 copiée'!$A36,'Feuille 1 copiée'!$A$3:$H$300,1,FALSE),0) -> 0 | E88: =IF('Feuille 1 copiée'!K216=1,VLOOKUP('Feuille 1 copiée'!$A216,'Feuille 1 copiée'!$A$3:$H$300,1,FALSE),0) -> Elève 214
B89: =IF('Feuille 1 copiée'!H88=1,VLOOKUP('Feuille 1 copiée'!$A88,'Feuille 1 copiée'!$A$3:$H$300,1,FALSE),0) -> Elève 86 | C89: =IF('Feuille 1 copiée'!I30=1,VLOOKUP('Feuille 1 copiée'!$A30,'Feuille 1 copiée'!$A$3:$H$300,1,FALSE),0) -> 0 | D89: =IF('Feuille 1 copiée'!J37=1,VLOOKUP('Feuille 1 copiée'!$A37,'Feuille 1 copiée'!$A$3:$H$300,1,FALSE),0) -> 0 | E89: =IF('Feuille 1 copiée'!K215=1,VLOOKUP('Feuille 1 copiée'!$A215,'Feuille 1 copiée'!$A$3:$H$300,1,FALSE),0) -> Elève 213
B90: =IF('Feuille 1 copiée'!H89=1,VLOOKUP('Feuille 1 copiée'!$A89,'Feuille 1 copiée'!$A$3:$H$300,1,FALSE),0) -> Elève 87 | C90: =IF('Feuille 1 copiée'!I31=1,VLOOKUP('Feuille 1 copiée'!$A31,'Feuille 1 copiée'!$A$3:$H$300,1,FALSE),0) -> 0 | D90: =IF('Feuille 1 copiée'!J38=1,VLOOKUP('Feuille 1 copiée'!$A38,'Feuille 1 copiée'!$A$3:$H$300,1,FALSE),0) -> 0 | E90: =IF('Feuille 1 copiée'!K214=1,VLOOKUP('Feuille 1 copiée'!$A214,'Feuille 1 copiée'!$A$3:$H$300,1,FALSE),0) -> Elève 212
B91: =IF('Feuille 1 copiée'!H90=1,VLOOKUP('Feuille 1 copiée'!$A90,'Feuille 1 copiée'!$A$3:$H$300,1,FALSE),0) -> Elève 88 | C91: =IF('Feuille 1 copiée'!I32=1,VLOOKUP('Feuille 1 copiée'!$A32,'Feuille 1 copiée'!$A$3:$H$300,1,FALSE),0) -> 0 | D91: =IF('Feuille 1 copiée'!J39=1,VLOOKUP('Feuille 1 copiée'!$A39,'Feuille 1 copiée'!$A$3:$H$300,1,FALSE),0) -> 0 | E91: =IF('Feuille 1 copiée'!K213=1,VLOOKUP('Feuille 1 copiée'!$A213,'Feuille 1 copiée'!$A$3:$H$300,1,FALSE),0) -> Elève 211
B92: =IF('Feuille 1 copiée'!H91=1,VLOOKUP('Feuille 1 copiée'!$A91,'Feuille 1 copiée'!$A$3:$H$300,1,FALSE),0) -> Elève 89 | C92: =IF('Feuille 1 copiée'!I33=1,VLOOKUP('Feuille 1 copiée'!$A33,'Feuille 1 copiée'!$A$3:$H$300,1,FALSE),0) -> 0 | D92: =IF('Feuille 1 copiée'!J40=1,VLOOKUP('Feuille 1 copiée'!$A40,'Feuille 1 copiée'!$A$3:$H$300,1,FALSE),0) -> 0 | E92: =IF('Feuille 1 copiée'!K212=1,VLOOKUP('Feuille 1 copiée'!$A212,'Feuille 1 copiée'!$A$3:$H$300,1,FALSE),0) -> Elève 210
B93: =IF('Feuille 1 copiée'!H92=1,VLOOKUP('Feuille 1 copiée'!$A92,'Feuille 1 copiée'!$A$3:$H$300,1,FALSE),0) -> Elève 90 | C93: =IF('Feuille 1 copiée'!I34=1,VLOOKUP('Feuille 1 copiée'!$A34,'Feuille 1 copiée'!$A$3:$H$300,1,FALSE),0) -> 0 | D93: =IF('Feuille 1 copiée'!J41=1,VLOOKUP('Feuille 1 copiée'!$A41,'Feuille 1 copiée'!$A$3:$H$300,1,FALSE),0) -> 0 | E93: =IF('Feuille 1 copiée'!K211=1,VLOOKUP('Feuille 1 copiée'!$A211,'Feuille 1 copiée'!$A$3:$H$300,1,FALSE),0) -> Elève 209
B94: =IF('Feuille 1 copiée'!H93=1,VLOOKUP('Feuille 1 copiée'!$A93,'Feuille 1 copiée'!$A$3:$H$300,1,FALSE),0) -> Elève 91 | C94: =IF('Feuille 1 copiée'!I35=1,VLOOKUP('Feuille 1 copiée'!$A35,'Feuille 1 copiée'!$A$3:$H$300,1,FALSE),0) -> 0 | D94: =IF('Feuille 1 copiée'!J42=1,VLOOKUP('Feuille 1 copiée'!$A42,'Feuille 1 copiée'!$A$3:$H$300,1,FALSE),0) -> 0 | E94: =IF('Feuille 1 copiée'!K210=1,VLOOKUP('Feuille 1 copiée'!$A210,'Feuille 1 copiée'!$A$3:$H$300,1,FALSE),0) -> Elève 208
B95: =IF('Feuille 1 copiée'!H94=1,VLOOKUP('Feuille 1 copiée'!$A94,'Feuille 1 copiée'!$A$3:$H$300,1,FALSE),0) -> 0 | C95: =IF('Feuille 1 copiée'!I36=1,VLOOKUP('Feuille 1 copiée'!$A36,'Feuille 1 copiée'!$A$3:$H$300,1,FALSE),0) -> 0 | D95: =IF('Feuille 1 copiée'!J43=1,VLOOKUP('Feuille 1 copiée'!$A43,'Feuille 1 copiée'!$A$3:$H$300,1,FALSE),0) -> 0 | E95: =IF('Feuille 1 copiée'!K209=1,VLOOKUP('Feuille 1 copiée'!$A209,'Feuille 1 copiée'!$A$3:$H$300,1,FALSE),0) -> Elève 207
B96: =IF('Feuille 1 copiée'!H95=1,VLOOKUP('Feuille 1 copiée'!$A95,'Feuille 1 copiée'!$A$3:$H$300,1,FALSE),0) -> 0 | C96: =IF('Feuille 1 copiée'!I37=1,VLOOKUP('Feuille 1 copiée'!$A37,'Feuille 1 copiée'!$A$3:$H$300,1,FALSE),0) -> 0 | D96: =IF('Feuille 1 copiée'!J44=1,VLOOKUP('Feuille 1 copiée'!$A44,'Feuille 1 copiée'!$A$3:$H$300,1,FALSE),0) -> 0 | E96: =IF('Feuille 1 copiée'!K208=1,VLOOKUP('Feuille 1 copiée'!$A208,'Feuille 1 copiée'!$A$3:$H$300,1,FALSE),0) -> Elève 206
B97: =IF('Feuille 1 copiée'!H96=1,VLOOKUP('Feuille 1 copiée'!$A96,'Feuille 1 copiée'!$A$3:$H$300,1,FALSE),0) -> 0 | C97: =IF('Feuille 1 copiée'!I38=1,VLOOKUP('Feuille 1 copiée'!$A38,'Feuille 1 copiée'!$A$3:$H$300,1,FALSE),0) -> 0 | D97: =IF('Feuille 1 copiée'!J45=1,VLOOKUP('Feuille 1 copiée'!$A45,'Feuille 1 copiée'!$A$3:$H$300,1,FALSE),0) -> 0 | E97: =IF('Feuille 1 copiée'!K207=1,VLOOKUP('Feuille 1 copiée'!$A207,'Feuille 1 copiée'!$A$3:$H$300,1,FALSE),0) -> Elève 205
B98: =IF('Feuille 1 copiée'!H97=1,VLOOKUP('Feuille 1 copiée'!$A97,'Feuille 1 copiée'!$A$3:$H$300,1,FALSE),0) -> 0 | C98: =IF('Feuille 1 copiée'!I39=1,VLOOKUP('Feuille 1 copiée'!$A39,'Feuille 1 copiée'!$A$3:$H$300,1,FALSE),0) -> 0 | D98: =IF('Feuille 1 copiée'!J46=1,VLOOKUP('Feuille 1 copiée'!$A46,'Feuille 1 copiée'!$A$3:$H$300,1,FALSE),0) -> 0 | E98: =IF('Feuille 1 copiée'!K206=1,VLOOKUP('Feuille 1 copiée'!$A206,'Feuille 1 copiée'!$A$3:$H$300,1,FALSE),0) -> Elève 204
B99: =IF('Feuille 1 copiée'!H98=1,VLOOKUP('Feuille 1 copiée'!$A98,'Feuille 1 copiée'!$A$3:$H$300,1,FALSE),0) -> 0 | C99: =IF('Feuille 1 copiée'!I40=1,VLOOKUP('Feuille 1 copiée'!$A40,'Feuille 1 copiée'!$A$3:$H$300,1,FALSE),0) -> 0 | D99: =IF('Feuille 1 copiée'!J47=1,VLOOKUP('Feuille 1 copiée'!$A47,'Feuille 1 copiée'!$A$3:$H$300,1,FALSE),0) -> 0 | E99: =IF('Feuille 1 copiée'!K205=1,VLOOKUP('Feuille 1 copiée'!$A205,'Feuille 1 copiée'!$A$3:$H$300,1,FALSE),0) -> Elève 203
B100: =IF('Feuille 1 copiée'!H99=1,VLOOKUP('Feuille 1 copiée'!$A99,'Feuille 1 copiée'!$A$3:$H$300,1,FALSE),0) -> 0 | C100: =IF('Feuille 1 copiée'!I41=1,VLOOKUP('Feuille 1 copiée'!$A41,'Feuille 1 copiée'!$A$3:$H$300,1,FALSE),0) -> 0 | D100: =IF('Feuille 1 copiée'!J48=1,VLOOKUP('Feuille 1 copiée'!$A48,'Feuille 1 copiée'!$A$3:$H$300,1,FALSE),0) -> 0 | E100: =IF('Feuille 1 copiée'!K204=1,VLOOKUP('Feuille 1 copiée'!$A204,'Feuille 1 copiée'!$A$3:$H$300,1,FALSE),0) -> Elève 202
B101: =IF('Feuille 1 copiée'!H100=1,VLOOKUP('Feuille 1 copiée'!$A100,'Feuille 1 copiée'!$A$3:$H$300,1,FALSE),0) -> 0 | C101: =IF('Feuille 1 copiée'!I42=1,VLOOKUP('Feuille 1 copiée'!$A42,'Feuille 1 copiée'!$A$3:$H$300,1,FALSE),0) -> 0 | D101: =IF('Feuille 1 copiée'!J49=1,VLOOKUP('Feuille 1 copiée'!$A49,'Feuille 1 copiée'!$A$3:$H$300,1,FALSE),0) -> 0 | E101: =IF('Feuille 1 copiée'!K203=1,VLOOKUP('Feuille 1 copiée'!$A203,'Feuille 1 copiée'!$A$3:$H$300,1,FALSE),0) -> Elève 201
...
