Workbook

Sheet Feuil1
B1: SUIVI DES COMMANDES FOURNISSEURS
B3: en tapant le numero de commande client ici je souhaite que les infos de la page commandes client apparaissent automatiquement sur le tableau ci-dessous
D5: nom client | J5: NOM DU FOURNISSUER
B6: N°cde client | C6: 6007 | D6: =VLOOKUP(C6,'COMMANDES CLIENTS'!A:AM,2,FALSE) -> CLIENT 3 | H6: N°cde fournisseur
E8: Pourquoi toutes ces lignes apparaissent alors que je n'en ai pas besoin?
B11: commande client | H11: commande fournisseur
B12: nom du cilent | C12: REFERENCE | D12: produit commandé | E12: date de commande | F12: receptionné | H12: n°client correspondant | I12: nom fournissuer | J12: produit commandé | K12: date de commande | L12: date de livraison | M12: receptionné
B13: =VLOOKUP($C$6,'COMMANDES CLIENTS'!A4:J1816,1,FALSE) -> 6007 | C13: =VLOOKUP($C$6,'COMMANDES CLIENTS'!A4:Q1404,3,FALSE) -> REF8 | D13: =VLOOKUP($C$6,'COMMANDES CLIENTS'!A4:S1171,4,FALSE) -> BLOC | E13: =VLOOKUP($C$6,'COMMANDES CLIENTS'!A4:S928,5,FALSE) -> 42717 | F13: =VLOOKUP($C$6,'COMMANDES CLIENTS'!A4:J1425,6,FALSE) -> NON | H13: =VLOOKUP($C$9,'COMMANDES FOURNISSEURS'!A5:J1473,7,FALSE) -> #N/A | I13: =VLOOKUP($C$9,'COMMANDES FOURNISSEURS'!A11:P3723,1,) -> #N/A | J13: =VLOOKUP(#REF!,'COMMANDES FOURNISSEURS'!A11:R2861,3,FALSE) -> #REF! | K13: =VLOOKUP($C$9,'COMMANDES FOURNISSEURS'!A11:S4031,4,FALSE) -> #N/A | L13: =VLOOKUP($C$9,'COMMANDES FOURNISSEURS'!A11:S3349,5,FALSE) -> #N/A | M13: =VLOOKUP(I13,'COMMANDES FOURNISSEURS'!A11:R3280,6,FALSE) -> #N/A
B14: =VLOOKUP($C$6,'COMMANDES CLIENTS'!A5:J1817,1,FALSE) -> 6007 | C14: =VLOOKUP($C$6,'COMMANDES CLIENTS'!A5:Q1405,3,FALSE) -> REF8 | D14: =VLOOKUP($C$6,'COMMANDES CLIENTS'!A5:S1172,4,FALSE) -> BLOC | E14: =VLOOKUP($C$6,'COMMANDES CLIENTS'!A5:S929,5,FALSE) -> 42717 | F14: =VLOOKUP($C$6,'COMMANDES CLIENTS'!A5:J1426,6,FALSE) -> NON | H14: =VLOOKUP($C$9,'COMMANDES FOURNISSEURS'!A6:J1474,7,FALSE) -> #N/A | I14: =VLOOKUP($C$9,'COMMANDES FOURNISSEURS'!A12:P3724,1,) -> #N/A | J14: =VLOOKUP(#REF!,'COMMANDES FOURNISSEURS'!A12:R2862,3,FALSE) -> #REF! | K14: =VLOOKUP($C$9,'COMMANDES FOURNISSEURS'!A12:S4032,4,FALSE) -> #N/A | L14: =VLOOKUP($C$9,'COMMANDES FOURNISSEURS'!A12:S3350,5,FALSE) -> #N/A | M14: =VLOOKUP(I14,'COMMANDES FOURNISSEURS'!A12:R3281,6,FALSE) -> #N/A
B15: =VLOOKUP($C$6,'COMMANDES CLIENTS'!A6:J1818,1,FALSE) -> 6007 | C15: =VLOOKUP($C$6,'COMMANDES CLIENTS'!A6:Q1406,3,FALSE) -> REF8 | D15: =VLOOKUP($C$6,'COMMANDES CLIENTS'!A6:S1173,4,FALSE) -> BLOC | E15: =VLOOKUP($C$6,'COMMANDES CLIENTS'!A6:S930,5,FALSE) -> 42717 | F15: =VLOOKUP($C$6,'COMMANDES CLIENTS'!A6:J1427,6,FALSE) -> NON | H15: =VLOOKUP($C$9,'COMMANDES FOURNISSEURS'!A7:J1475,7,FALSE) -> #N/A | I15: =VLOOKUP($C$9,'COMMANDES FOURNISSEURS'!A13:P3725,1,) -> #N/A | J15: =VLOOKUP(#REF!,'COMMANDES FOURNISSEURS'!A13:R2863,3,FALSE) -> #REF! | K15: =VLOOKUP($C$9,'COMMANDES FOURNISSEURS'!A13:S4033,4,FALSE) -> #N/A | L15: =VLOOKUP($C$9,'COMMANDES FOURNISSEURS'!A13:S3351,5,FALSE) -> #N/A | M15: =VLOOKUP(I15,'COMMANDES FOURNISSEURS'!A13:R3282,6,FALSE) -> #N/A
B16: =VLOOKUP($C$6,'COMMANDES CLIENTS'!A7:J1819,1,FALSE) -> 6007 | C16: =VLOOKUP($C$6,'COMMANDES CLIENTS'!A7:Q1407,3,FALSE) -> REF8 | D16: =VLOOKUP($C$6,'COMMANDES CLIENTS'!A7:S1174,4,FALSE) -> BLOC | E16: =VLOOKUP($C$6,'COMMANDES CLIENTS'!A7:S931,5,FALSE) -> 42717 | F16: =VLOOKUP($C$6,'COMMANDES CLIENTS'!A7:J1428,6,FALSE) -> NON | H16: =VLOOKUP($C$9,'COMMANDES FOURNISSEURS'!A8:J1476,7,FALSE) -> #N/A | I16: =VLOOKUP($C$9,'COMMANDES FOURNISSEURS'!A14:P3726,1,) -> #N/A | J16: =VLOOKUP(#REF!,'COMMANDES FOURNISSEURS'!A14:R2864,3,FALSE) -> #REF! | K16: =VLOOKUP($C$9,'COMMANDES FOURNISSEURS'!A14:S4034,4,FALSE) -> #N/A | L16: =VLOOKUP($C$9,'COMMANDES FOURNISSEURS'!A14:S3352,5,FALSE) -> #N/A | M16: =VLOOKUP(I16,'COMMANDES FOURNISSEURS'!A14:R3283,6,FALSE) -> #N/A
B17: =VLOOKUP($C$6,'COMMANDES CLIENTS'!A8:J1820,1,FALSE) -> 6007 | C17: =VLOOKUP($C$6,'COMMANDES CLIENTS'!A8:Q1408,3,FALSE) -> REF8 | D17: =VLOOKUP($C$6,'COMMANDES CLIENTS'!A8:S1175,4,FALSE) -> BLOC | E17: =VLOOKUP($C$6,'COMMANDES CLIENTS'!A8:S932,5,FALSE) -> 42717 | F17: =VLOOKUP($C$6,'COMMANDES CLIENTS'!A8:J1429,6,FALSE) -> NON | H17: =VLOOKUP($C$9,'COMMANDES FOURNISSEURS'!A9:J1477,7,FALSE) -> #N/A | I17: =VLOOKUP($C$9,'COMMANDES FOURNISSEURS'!A15:P3727,1,) -> #N/A | J17: =VLOOKUP(#REF!,'COMMANDES FOURNISSEURS'!A15:R2865,3,FALSE) -> #REF! | K17: =VLOOKUP($C$9,'COMMANDES FOURNISSEURS'!A15:S4035,4,FALSE) -> #N/A | L17: =VLOOKUP($C$9,'COMMANDES FOURNISSEURS'!A15:S3353,5,FALSE) -> #N/A | M17: =VLOOKUP(I17,'COMMANDES FOURNISSEURS'!A15:R3284,6,FALSE) -> #N/A
B18: =VLOOKUP($C$6,'COMMANDES CLIENTS'!A9:J1821,1,FALSE) -> 6007 | C18: =VLOOKUP($C$6,'COMMANDES CLIENTS'!A9:Q1409,3,FALSE) -> REF8 | D18: =VLOOKUP($C$6,'COMMANDES CLIENTS'!A9:S1176,4,FALSE) -> BLOC | E18: =VLOOKUP($C$6,'COMMANDES CLIENTS'!A9:S933,5,FALSE) -> 42717 | F18: =VLOOKUP($C$6,'COMMANDES CLIENTS'!A9:J1430,6,FALSE) -> NON | H18: =VLOOKUP($C$9,'COMMANDES FOURNISSEURS'!A10:J1478,7,FALSE) -> #N/A | I18: =VLOOKUP($C$9,'COMMANDES FOURNISSEURS'!A16:P3728,1,) -> #N/A | J18: =VLOOKUP(#REF!,'COMMANDES FOURNISSEURS'!A16:R2866,3,FALSE) -> #REF! | K18: =VLOOKUP($C$9,'COMMANDES FOURNISSEURS'!A16:S4036,4,FALSE) -> #N/A | L18: =VLOOKUP($C$9,'COMMANDES FOURNISSEURS'!A16:S3354,5,FALSE) -> #N/A | M18: =VLOOKUP(I18,'COMMANDES FOURNISSEURS'!A16:R3285,6,FALSE) -> #N/A
B19: =VLOOKUP($C$6,'COMMANDES CLIENTS'!A10:J1822,1,FALSE) -> 6007 | C19: =VLOOKUP($C$6,'COMMANDES CLIENTS'!A10:Q1410,3,FALSE) -> REF8 | D19: =VLOOKUP($C$6,'COMMANDES CLIENTS'!A10:S1177,4,FALSE) -> BLOC | E19: =VLOOKUP($C$6,'COMMANDES CLIENTS'!A10:S934,5,FALSE) -> 42717 | F19: =VLOOKUP($C$6,'COMMANDES CLIENTS'!A10:J1431,6,FALSE) -> NON | H19: =VLOOKUP($C$9,'COMMANDES FOURNISSEURS'!A11:J1479,7,FALSE) -> #N/A | I19: =VLOOKUP($C$9,'COMMANDES FOURNISSEURS'!A17:P3729,1,) -> #N/A | J19: =VLOOKUP(#REF!,'COMMANDES FOURNISSEURS'!A17:R2867,3,FALSE) -> #REF! | K19: =VLOOKUP($C$9,'COMMANDES FOURNISSEURS'!A17:S4037,4,FALSE) -> #N/A | L19: =VLOOKUP($C$9,'COMMANDES FOURNISSEURS'!A17:S3355,5,FALSE) -> #N/A | M19: =VLOOKUP(I19,'COMMANDES FOURNISSEURS'!A17:R3286,6,FALSE) -> #N/A
B20: =VLOOKUP($C$6,'COMMANDES CLIENTS'!A11:J1823,1,FALSE) -> 6007 | C20: =VLOOKUP($C$6,'COMMANDES CLIENTS'!A11:Q1411,3,FALSE) -> REF8 | D20: =VLOOKUP($C$6,'COMMANDES CLIENTS'!A11:S1178,4,FALSE) -> BLOC | E20: =VLOOKUP($C$6,'COMMANDES CLIENTS'!A11:S935,5,FALSE) -> 42717 | F20: =VLOOKUP($C$6,'COMMANDES CLIENTS'!A11:J1432,6,FALSE) -> NON | H20: =VLOOKUP($C$9,'COMMANDES FOURNISSEURS'!A12:J1480,7,FALSE) -> #N/A | I20: =VLOOKUP($C$9,'COMMANDES FOURNISSEURS'!A18:P3730,1,) -> #N/A | J20: =VLOOKUP(#REF!,'COMMANDES FOURNISSEURS'!A18:R2868,3,FALSE) -> #REF! | K20: =VLOOKUP($C$9,'COMMANDES FOURNISSEURS'!A18:S4038,4,FALSE) -> #N/A | L20: =VLOOKUP($C$9,'COMMANDES FOURNISSEURS'!A18:S3356,5,FALSE) -> #N/A | M20: =VLOOKUP(I20,'COMMANDES FOURNISSEURS'!A18:R3287,6,FALSE) -> #N/A
B21: =VLOOKUP($C$6,'COMMANDES CLIENTS'!A12:J1824,1,FALSE) -> 6007 | C21: =VLOOKUP($C$6,'COMMANDES CLIENTS'!A12:Q1412,3,FALSE) -> REF9 | D21: =VLOOKUP($C$6,'COMMANDES CLIENTS'!A12:S1179,4,FALSE) -> RACCORD RAPIDE | E21: =VLOOKUP($C$6,'COMMANDES CLIENTS'!A12:S936,5,FALSE) -> 42657 | F21: =VLOOKUP($C$6,'COMMANDES CLIENTS'!A12:J1433,6,FALSE) -> NON | H21: =VLOOKUP($C$9,'COMMANDES FOURNISSEURS'!A13:J1481,7,FALSE) -> #N/A | I21: =VLOOKUP($C$9,'COMMANDES FOURNISSEURS'!A19:P3731,1,) -> #N/A | J21: =VLOOKUP(#REF!,'COMMANDES FOURNISSEURS'!A19:R2869,3,FALSE) -> #REF! | K21: =VLOOKUP($C$9,'COMMANDES FOURNISSEURS'!A19:S4039,4,FALSE) -> #N/A | L21: =VLOOKUP($C$9,'COMMANDES FOURNISSEURS'!A19:S3357,5,FALSE) -> #N/A | M21: =VLOOKUP(I21,'COMMANDES FOURNISSEURS'!A19:R3288,6,FALSE) -> #N/A
B22: =VLOOKUP($C$6,'COMMANDES CLIENTS'!A13:J1825,1,FALSE) -> 6007 | C22: =VLOOKUP($C$6,'COMMANDES CLIENTS'!A13:Q1413,3,FALSE) -> REF10 | D22: =VLOOKUP($C$6,'COMMANDES CLIENTS'!A13:S1180,4,FALSE) -> PISTOLET GTI PROLITE | E22: =VLOOKUP($C$6,'COMMANDES CLIENTS'!A13:S937,5,FALSE) -> 42657 | F22: =VLOOKUP($C$6,'COMMANDES CLIENTS'!A13:J1434,6,FALSE) -> OUI | H22: =VLOOKUP($C$9,'COMMANDES FOURNISSEURS'!A14:J1482,7,FALSE) -> #N/A | I22: =VLOOKUP($C$9,'COMMANDES FOURNISSEURS'!A20:P3732,1,) -> #N/A | J22: =VLOOKUP(#REF!,'COMMANDES FOURNISSEURS'!A20:R2870,3,FALSE) -> #REF! | K22: =VLOOKUP($C$9,'COMMANDES FOURNISSEURS'!A20:S4040,4,FALSE) -> #N/A | L22: =VLOOKUP($C$9,'COMMANDES FOURNISSEURS'!A20:S3358,5,FALSE) -> #N/A | M22: =VLOOKUP(I22,'COMMANDES FOURNISSEURS'!A20:R3289,6,FALSE) -> #N/A
B23: =VLOOKUP($C$6,'COMMANDES CLIENTS'!A14:J1826,1,FALSE) -> 6007 | C23: =VLOOKUP($C$6,'COMMANDES CLIENTS'!A14:Q1414,3,FALSE) -> REF11 | D23: =VLOOKUP($C$6,'COMMANDES CLIENTS'!A14:S1181,4,FALSE) -> FILTRE REGULATEUR | E23: =VLOOKUP($C$6,'COMMANDES CLIENTS'!A14:S938,5,FALSE) -> 42657 | F23: =VLOOKUP($C$6,'COMMANDES CLIENTS'!A14:J1435,6,FALSE) -> NON | H23: =VLOOKUP($C$9,'COMMANDES FOURNISSEURS'!A15:J1483,7,FALSE) -> #N/A | I23: =VLOOKUP($C$9,'COMMANDES FOURNISSEURS'!A21:P3733,1,) -> #N/A | J23: =VLOOKUP(#REF!,'COMMANDES FOURNISSEURS'!A21:R2871,3,FALSE) -> #REF! | K23: =VLOOKUP($C$9,'COMMANDES FOURNISSEURS'!A21:S4041,4,FALSE) -> #N/A | L23: =VLOOKUP($C$9,'COMMANDES FOURNISSEURS'!A21:S3359,5,FALSE) -> #N/A | M23: =VLOOKUP(I23,'COMMANDES FOURNISSEURS'!A21:R3290,6,FALSE) -> #N/A
B24: =VLOOKUP($C$6,'COMMANDES CLIENTS'!A15:J1827,1,FALSE) -> 6007 | C24: =VLOOKUP($C$6,'COMMANDES CLIENTS'!A15:Q1415,3,FALSE) -> REF12 | D24: =VLOOKUP($C$6,'COMMANDES CLIENTS'!A15:S1182,4,FALSE) -> FLEXIBLE AIR SNA | E24: =VLOOKUP($C$6,'COMMANDES CLIENTS'!A15:S939,5,FALSE) -> 42657 | F24: =VLOOKUP($C$6,'COMMANDES CLIENTS'!A15:J1436,6,FALSE) -> OUI | H24: =VLOOKUP($C$9,'COMMANDES FOURNISSEURS'!A16:J1484,7,FALSE) -> #N/A | I24: =VLOOKUP($C$9,'COMMANDES FOURNISSEURS'!A22:P3734,1,) -> #N/A | J24: =VLOOKUP(#REF!,'COMMANDES FOURNISSEURS'!A22:R2872,3,FALSE) -> #REF! | K24: =VLOOKUP($C$9,'COMMANDES FOURNISSEURS'!A22:S4042,4,FALSE) -> #N/A | L24: =VLOOKUP($C$9,'COMMANDES FOURNISSEURS'!A22:S3360,5,FALSE) -> #N/A | M24: =VLOOKUP(I24,'COMMANDES FOURNISSEURS'!A22:R3291,6,FALSE) -> #N/A
... B26: =VLOOKUP($C$6,'COMMANDES CLIENTS'!A17:J1829,1,FALSE) -> #N/A | C26: =VLOOKUP($C$6,'COMMANDES CLIENTS'!A17:Q1417,3,FALSE) -> #N/A | D26: =VLOOKUP($C$6,'COMMANDES CLIENTS'!A17:S1184,4,FALSE) -> #N/A | E26: =VLOOKUP($C$6,'COMMANDES CLIENTS'!A17:S941,5,FALSE) -> #N/A | F26: =VLOOKUP($C$6,'COMMANDES CLIENTS'!A17:J1438,6,FALSE) -> #N/A | H26: =VLOOKUP($C$9,'COMMANDES FOURNISSEURS'!A18:J1486,7,FALSE) -> #N/A | I26: =VLOOKUP($C$9,'COMMANDES FOURNISSEURS'!A24:P3736,1,) -> #N/A | J26: =VLOOKUP(#REF!,'COMMANDES FOURNISSEURS'!A24:R2874,3,FALSE) -> #REF! | K26: =VLOOKUP($C$9,'COMMANDES FOURNISSEURS'!A24:S4044,4,FALSE) -> #N/A | L26: =VLOOKUP($C$9,'COMMANDES FOURNISSEURS'!A24:S3362,5,FALSE) -> #N/A | M26: =VLOOKUP(I26,'COMMANDES FOURNISSEURS'!A24:R3293,6,FALSE) -> #N/A
H27: =VLOOKUP($C$9,'COMMANDES FOURNISSEURS'!A19:J1487,7,FALSE) -> #N/A | I27: =VLOOKUP($C$9,'COMMANDES FOURNISSEURS'!A25:P3737,1,) -> #N/A | J27: =VLOOKUP(#REF!,'COMMANDES FOURNISSEURS'!A25:R2875,3,FALSE) -> #REF! | K27: =VLOOKUP($C$9,'COMMANDES FOURNISSEURS'!A25:S4045,4,FALSE) -> #N/A | L27: =VLOOKUP($C$9,'COMMANDES FOURNISSEURS'!A25:S3363,5,FALSE) -> #N/A | M27: =VLOOKUP(I27,'COMMANDES FOURNISSEURS'!A25:R3294,6,FALSE) -> #N/A
H28: =VLOOKUP($C$9,'COMMANDES FOURNISSEURS'!A20:J1488,7,FALSE) -> #N/A | I28: =VLOOKUP($C$9,'COMMANDES FOURNISSEURS'!A26:P3738,1,) -> #N/A | J28: =VLOOKUP(#REF!,'COMMANDES FOURNISSEURS'!A26:R2876,3,FALSE) -> #REF! | K28: =VLOOKUP($C$9,'COMMANDES FOURNISSEURS'!A26:S4046,4,FALSE) -> #N/A | L28: =VLOOKUP($C$9,'COMMANDES FOURNISSEURS'!A26:S3364,5,FALSE) -> #N/A | M28: =VLOOKUP(I28,'COMMANDES FOURNISSEURS'!A26:R3295,6,FALSE) -> #N/A
C29: Voici les infos que je souhaite avoir. Pourquoi elles se trouvent ici est non pas en haut du tableau? | H29: =VLOOKUP($C$9,'COMMANDES FOURNISSEURS'!A21:J1489,7,FALSE) -> #N/A | I29: =VLOOKUP($C$9,'COMMANDES FOURNISSEURS'!A27:P3739,1,) -> #N/A | J29: =VLOOKUP(#REF!,'COMMANDES FOURNISSEURS'!A27:R2877,3,FALSE) -> #REF! | K29: =VLOOKUP($C$9,'COMMANDES FOURNISSEURS'!A27:S4047,4,FALSE) -> #N/A | L29: =VLOOKUP($C$9,'COMMANDES FOURNISSEURS'!A27:S3365,5,FALSE) -> #N/A | M29: =VLOOKUP(I29,'COMMANDES FOURNISSEURS'!A27:R3296,6,FALSE) -> #N/A
H30: =VLOOKUP($C$9,'COMMANDES FOURNISSEURS'!A22:J1490,7,FALSE) -> #N/A | I30: =VLOOKUP($C$9,'COMMANDES FOURNISSEURS'!A28:P3740,1,) -> #N/A | J30: =VLOOKUP(#REF!,'COMMANDES FOURNISSEURS'!A28:R2878,3,FALSE) -> #REF! | K30: =VLOOKUP($C$9,'COMMANDES FOURNISSEURS'!A28:S4048,4,FALSE) -> #N/A | L30: =VLOOKUP($C$9,'COMMANDES FOURNISSEURS'!A28:S3366,5,FALSE) -> #N/A | M30: =VLOOKUP(I30,'COMMANDES FOURNISSEURS'!A28:R3297,6,FALSE) -> #N/A
H31: =VLOOKUP($C$9,'COMMANDES FOURNISSEURS'!A23:J1491,7,FALSE) -> #N/A | I31: =VLOOKUP($C$9,'COMMANDES FOURNISSEURS'!A29:P3741,1,) -> #N/A | J31: =VLOOKUP(#REF!,'COMMANDES FOURNISSEURS'!A29:R2879,3,FALSE) -> #REF! | K31: =VLOOKUP($C$9,'COMMANDES FOURNISSEURS'!A29:S4049,4,FALSE) -> #N/A | L31: =VLOOKUP($C$9,'COMMANDES FOURNISSEURS'!A29:S3367,5,FALSE) -> #N/A | M31: =VLOOKUP(I31,'COMMANDES FOURNISSEURS'!A29:R3298,6,FALSE) -> #N/A
H32: =VLOOKUP($C$9,'COMMANDES FOURNISSEURS'!A24:J1492,7,FALSE) -> #N/A | I32: =VLOOKUP($C$9,'COMMANDES FOURNISSEURS'!A30:P3742,1,) -> #N/A | J32: =VLOOKUP(#REF!,'COMMANDES FOURNISSEURS'!A30:R2880,3,FALSE) -> #REF! | K32: =VLOOKUP($C$9,'COMMANDES FOURNISSEURS'!A30:S4050,4,FALSE) -> #N/A | L32: =VLOOKUP($C$9,'COMMANDES FOURNISSEURS'!A30:S3368,5,FALSE) -> #N/A | M32: =VLOOKUP(I32,'COMMANDES FOURNISSEURS'!A30:R3299,6,FALSE) -> #N/A
H33: =VLOOKUP($C$9,'COMMANDES FOURNISSEURS'!A25:J1493,7,FALSE) -> #N/A | I33: =VLOOKUP($C$9,'COMMANDES FOURNISSEURS'!A31:P3743,1,) -> #N/A | J33: =VLOOKUP(#REF!,'COMMANDES FOURNISSEURS'!A31:R2881,3,FALSE) -> #REF! | K33: =VLOOKUP($C$9,'COMMANDES FOURNISSEURS'!A31:S4051,4,FALSE) -> #N/A | L33: =VLOOKUP($C$9,'COMMANDES FOURNISSEURS'!A31:S3369,5,FALSE) -> #N/A | M33: =VLOOKUP(I33,'COMMANDES FOURNISSEURS'!A31:R3300,6,FALSE) -> #N/A
H34: =VLOOKUP($C$9,'COMMANDES FOURNISSEURS'!A26:J1494,7,FALSE) -> #N/A | I34: =VLOOKUP($C$9,'COMMANDES FOURNISSEURS'!A32:P3744,1,) -> #N/A | J34: =VLOOKUP(#REF!,'COMMANDES FOURNISSEURS'!A32:R2882,3,FALSE) -> #REF! | K34: =VLOOKUP($C$9,'COMMANDES FOURNISSEURS'!A32:S4052,4,FALSE) -> #N/A | L34: =VLOOKUP($C$9,'COMMANDES FOURNISSEURS'!A32:S3370,5,FALSE) -> #N/A | M34: =VLOOKUP(I34,'COMMANDES FOURNISSEURS'!A32:R3301,6,FALSE) -> #N/A
H35: =VLOOKUP($C$9,'COMMANDES FOURNISSEURS'!A27:J1495,7,FALSE) -> #N/A | I35: =VLOOKUP($C$9,'COMMANDES FOURNISSEURS'!A33:P3745,1,) -> #N/A | J35: =VLOOKUP(#REF!,'COMMANDES FOURNISSEURS'!A33:R2883,3,FALSE) -> #REF! | K35: =VLOOKUP($C$9,'COMMANDES FOURNISSEURS'!A33:S4053,4,FALSE) -> #N/A | L35: =VLOOKUP($C$9,'COMMANDES FOURNISSEURS'!A33:S3371,5,FALSE) -> #N/A | M35: =VLOOKUP(I35,'COMMANDES FOURNISSEURS'!A33:R3302,6,FALSE) -> #N/A
H36: =VLOOKUP($C$9,'COMMANDES FOURNISSEURS'!A28:J1496,7,FALSE) -> #N/A | I36: =VLOOKUP($C$9,'COMMANDES FOURNISSEURS'!A34:P3746,1,) -> #N/A | J36: =VLOOKUP(#REF!,'COMMANDES FOURNISSEURS'!A34:R2884,3,FALSE) -> #REF! | K36: =VLOOKUP($C$9,'COMMANDES FOURNISSEURS'!A34:S4054,4,FALSE) -> #N/A | L36: =VLOOKUP($C$9,'COMMANDES FOURNISSEURS'!A34:S3372,5,FALSE) -> #N/A | M36: =VLOOKUP(I36,'COMMANDES FOURNISSEURS'!A34:R3303,6,FALSE) -> #N/A
H37: =VLOOKUP($C$9,'COMMANDES FOURNISSEURS'!A29:J1497,7,FALSE) -> #N/A | I37: =VLOOKUP($C$9,'COMMANDES FOURNISSEURS'!A35:P3747,1,) -> #N/A | J37: =VLOOKUP(#REF!,'COMMANDES FOURNISSEURS'!A35:R2885,3,FALSE) -> #REF! | K37: =VLOOKUP($C$9,'COMMANDES FOURNISSEURS'!A35:S4055,4,FALSE) -> #N/A | L37: =VLOOKUP($C$9,'COMMANDES FOURNISSEURS'!A35:S3373,5,FALSE) -> #N/A | M37: =VLOOKUP(I37,'COMMANDES FOURNISSEURS'!A35:R3304,6,FALSE) -> #N/A
H38: =VLOOKUP($C$9,'COMMANDES FOURNISSEURS'!A30:J1498,7,FALSE) -> #N/A | I38: =VLOOKUP($C$9,'COMMANDES FOURNISSEURS'!A36:P3748,1,) -> #N/A | J38: =VLOOKUP(#REF!,'COMMANDES FOURNISSEURS'!A36:R2886,3,FALSE) -> #REF! | K38: =VLOOKUP($C$9,'COMMANDES FOURNISSEURS'!A36:S4056,4,FALSE) -> #N/A | L38: =VLOOKUP($C$9,'COMMANDES FOURNISSEURS'!A36:S3374,5,FALSE) -> #N/A | M38: =VLOOKUP(I38,'COMMANDES FOURNISSEURS'!A36:R3305,6,FALSE) -> #N/A
H39: =VLOOKUP($C$9,'COMMANDES FOURNISSEURS'!A31:J1499,7,FALSE) -> #N/A | I39: =VLOOKUP($C$9,'COMMANDES FOURNISSEURS'!A37:P3749,1,) -> #N/A | J39: =VLOOKUP(#REF!,'COMMANDES FOURNISSEURS'!A37:R2887,3,FALSE) -> #REF! | K39: =VLOOKUP($C$9,'COMMANDES FOURNISSEURS'!A37:S4057,4,FALSE) -> #N/A | L39: =VLOOKUP($C$9,'COMMANDES FOURNISSEURS'!A37:S3375,5,FALSE) -> #N/A | M39: =VLOOKUP(I39,'COMMANDES FOURNISSEURS'!A37:R3306,6,FALSE) -> #N/A
H40: =VLOOKUP($C$9,'COMMANDES FOURNISSEURS'!A32:J1500,7,FALSE) -> #N/A | I40: =VLOOKUP($C$9,'COMMANDES FOURNISSEURS'!A38:P3750,1,) -> #N/A | J40: =VLOOKUP(#REF!,'COMMANDES FOURNISSEURS'!A38:R2888,3,FALSE) -> #REF! | K40: =VLOOKUP($C$9,'COMMANDES FOURNISSEURS'!A38:S4058,4,FALSE) -> #N/A | L40: =VLOOKUP($C$9,'COMMANDES FOURNISSEURS'!A38:S3376,5,FALSE) -> #N/A | M40: =VLOOKUP(I40,'COMMANDES FOURNISSEURS'!A38:R3307,6,FALSE) -> #N/A
H41: =VLOOKUP($C$9,'COMMANDES FOURNISSEURS'!A33:J1501,7,FALSE) -> #N/A | I41: =VLOOKUP($C$9,'COMMANDES FOURNISSEURS'!A39:P3751,1,) -> #N/A | J41: =VLOOKUP(#REF!,'COMMANDES FOURNISSEURS'!A39:R2889,3,FALSE) -> #REF! | K41: =VLOOKUP($C$9,'COMMANDES FOURNISSEURS'!A39:S4059,4,FALSE) -> #N/A | L41: =VLOOKUP($C$9,'COMMANDES FOURNISSEURS'!A39:S3377,5,FALSE) -> #N/A | M41: =VLOOKUP(I41,'COMMANDES FOURNISSEURS'!A39:R3308,6,FALSE) -> #N/A
... H387: =VLOOKUP($C$9,'COMMANDES FOURNISSEURS'!A379:J1847,7,FALSE) -> #N/A | I387: =VLOOKUP($C$9,'COMMANDES FOURNISSEURS'!A385:P4097,1,) -> #N/A | J387: =VLOOKUP(#REF!,'COMMANDES FOURNISSEURS'!A385:R3235,3,FALSE) -> #REF! | K387: =VLOOKUP($C$9,'COMMANDES FOURNISSEURS'!A385:S4405,4,FALSE) -> #N/A | L387: =VLOOKUP($C$9,'COMMANDES FOURNISSEURS'!A385:S3723,5,FALSE) -> #N/A | M387: =VLOOKUP(I387,'COMMANDES FOURNISSEURS'!A385:R3654,6,FALSE) -> #N/A

Sheet COMMANDES CLIENTS
A1: COMMANDES CLIENTS
A3: N° COMMANDE CLIENT | B3: NOM CLIENT | C3: REFERENCE | D3: PRODUIT EN COMMANDE | E3: DATE DE COMMANDE | F3: RECEPTION
A4: 6005 | B4: client 1 | C4: REF1 | D4: PISTOLET GTI PROLITE | E4: 42657 | F4: OUI
A5: 6005 | B5: client 1 | C5: REF2 | D5: FILTRE REGULATEUR | E5: 42657 | F5: NON
A6: 6005 | B6: client 1 | C6: REF3 | D6: FLEXIBLE AIR SNA | E6: 42657 | F6: OUI
A7: 6005 | B7: client 1 | C7: REF4 | D7: TUYAU AIR | E7: 42657 | F7: NON
A8: 6005 | B8: client 1 | C8: REF5 | D8: RACCORD TOURNANT | E8: 42657 | F8: NON
A9: 6006 | B9: CLIENT 2 | C9: REF6 | D9: RACCORD RAPIDE | E9: 42657 | F9: NON
A10: 6006 | B10: CLIENT 2 | C10: REF7 | D10: TETINE FLEX | E10: 42657 | F10: OUI
A11: 6007 | B11: CLIENT 3 | C11: REF8 | D11: BLOC | E11: 42717 | F11: NON
A12: 6007 | B12: CLIENT 3 | C12: REF9 | D12: RACCORD RAPIDE | E12: 42657 | F12: NON
A13: 6007 | B13: CLIENT 3 | C13: REF10 | D13: PISTOLET GTI PROLITE | E13: 42657 | F13: OUI
A14: 6007 | B14: CLIENT 3 | C14: REF11 | D14: FILTRE REGULATEUR | E14: 42657 | F14: NON
A15: 6007 | B15: CLIENT 3 | C15: REF12 | D15: FLEXIBLE AIR SNA | E15: 42657 | F15: OUI
A18: il n'y a que 5 lignes pour cette commande

Sheet COMMANDES FOURNISSEURS
A4: N° COMMANDE FOURNISSUER | B4: NOM FOURNISSEUR | C4: PRODUIT EN COMMANDE | D4: DATE DE COMMANDE | E4: DATE DE LIVRAISON | F4: RECEPTION | G4: commande client correspondante
