Workbook
Name CLIENT: #REF!
Name légumes: Feuil2!$A$1:$B$1000

Sheet Feuil1
A1: =IF('1'!#REF!=1,'1'!K17,0) -> #REF! | B1: =IF('1'!#REF!=1,'1'!K17*0.055,0) -> #REF! | C1: =IF('1'!#REF!=2,'1'!K17,0) -> #REF! | D1: =IF('1'!#REF!=2,'1'!K17*0.196,0) -> #REF!
A2: =IF('1'!#REF!=1,'1'!K18,0) -> #REF! | B2: =IF('1'!#REF!=1,'1'!K18*0.055,0) -> #REF! | C2: =IF('1'!#REF!=2,'1'!K18,0) -> #REF! | D2: =IF('1'!#REF!=2,'1'!K18*0.2,0) -> #REF!
A3: =IF('1'!#REF!=1,'1'!K19,0) -> #REF! | B3: =IF('1'!#REF!=1,'1'!K19*0.055,0) -> #REF! | C3: =IF('1'!#REF!=2,'1'!K19,0) -> #REF! | D3: =IF('1'!#REF!=2,'1'!K19*0.2,0) -> #REF!
A4: =IF('1'!#REF!=1,'1'!K20,0) -> #REF! | B4: =IF('1'!#REF!=1,'1'!K20*0.055,0) -> #REF! | C4: =IF('1'!#REF!=2,'1'!K20,0) -> #REF! | D4: =IF('1'!#REF!=2,'1'!K20*0.2,0) -> #REF!
A5: =IF('1'!#REF!=1,'1'!K21,0) -> #REF! | B5: =IF('1'!#REF!=1,'1'!K21*0.055,0) -> #REF! | C5: =IF('1'!#REF!=2,'1'!K21,0) -> #REF! | D5: =IF('1'!#REF!=2,'1'!K21*0.2,0) -> #REF!
A6: =IF('1'!#REF!=1,'1'!K22,0) -> #REF! | B6: =IF('1'!#REF!=1,'1'!K22*0.055,0) -> #REF! | C6: =IF('1'!#REF!=2,'1'!K22,0) -> #REF! | D6: =IF('1'!#REF!=2,'1'!K22*0.2,0) -> #REF!
A7: =IF('1'!#REF!=1,'1'!K23,0) -> #REF! | B7: =IF('1'!#REF!=1,'1'!K23*0.055,0) -> #REF! | C7: =IF('1'!#REF!=2,'1'!K23,0) -> #REF! | D7: =IF('1'!#REF!=2,'1'!K23*0.2,0) -> #REF!
A8: =IF('1'!#REF!=1,'1'!K24,0) -> #REF! | B8: =IF('1'!#REF!=1,'1'!K24*0.055,0) -> #REF! | C8: =IF('1'!#REF!=2,'1'!K24,0) -> #REF! | D8: =IF('1'!#REF!=2,'1'!K24*0.2,0) -> #REF!
A9: =IF('1'!#REF!=1,'1'!K25,0) -> #REF! | B9: =IF('1'!#REF!=1,'1'!K25*0.055,0) -> #REF! | C9: =IF('1'!#REF!=2,'1'!K25,0) -> #REF! | D9: =IF('1'!#REF!=2,'1'!K25*0.2,0) -> #REF!
A10: =IF('1'!#REF!=1,'1'!K26,0) -> #REF! | B10: =IF('1'!#REF!=1,'1'!K26*0.055,0) -> #REF! | C10: =IF('1'!#REF!=2,'1'!K26,0) -> #REF! | D10: =IF('1'!#REF!=2,'1'!K26*0.2,0) -> #REF!
A11: =IF('1'!#REF!=1,'1'!K27,0) -> #REF! | B11: =IF('1'!#REF!=1,'1'!K27*0.055,0) -> #REF! | C11: =IF('1'!#REF!=2,'1'!K27,0) -> #REF! | D11: =IF('1'!#REF!=2,'1'!K27*0.2,0) -> #REF!
A12: =IF('1'!#REF!=1,'1'!K28,0) -> #REF! | B12: =IF('1'!#REF!=1,'1'!K28*0.055,0) -> #REF! | C12: =IF('1'!#REF!=2,'1'!K28,0) -> #REF! | D12: =IF('1'!#REF!=2,'1'!K28*0.2,0) -> #REF!
A13: =IF('1'!#REF!=1,'1'!K29,0) -> #REF! | B13: =IF('1'!#REF!=1,'1'!K29*0.055,0) -> #REF! | C13: =IF('1'!#REF!=2,'1'!K29,0) -> #REF! | D13: =IF('1'!#REF!=2,'1'!K29*0.2,0) -> #REF!
... A29: =IF('1'!#REF!=1,'1'!K45,0) -> #REF! | B29: =IF('1'!#REF!=1,'1'!K45*0.055,0) -> #REF! | C29: =IF('1'!#REF!=2,'1'!K45,0) -> #REF! | D29: =IF('1'!#REF!=2,'1'!K45*0.2,0) -> #REF!
A30: =IF('1'!F46=1,'1'!K46,0) -> 0 | B30: =IF('1'!F46=1,'1'!K46*0.055,0) -> 0 | C30: =IF('1'!F46=2,'1'!K46,0) -> 0 | D30: =IF('1'!F46=2,'1'!K46*0.2,0) -> 0
A31: =IF('1'!F47=1,'1'!K47,0) -> 0 | B31: =IF('1'!F47=1,'1'!K47*0.055,0) -> 0 | C31: =IF('1'!F47=2,'1'!K47,0) -> 0 | D31: =IF('1'!F47=2,'1'!K47*0.2,0) -> 0
A32: =IF('1'!F48=1,'1'!K48,0) -> 0 | B32: =IF('1'!F48=1,'1'!K48*0.055,0) -> 0 | C32: =IF('1'!F48=2,'1'!K48,0) -> 0 | D32: =IF('1'!F48=2,'1'!K48*0.2,0) -> 0
A33: =IF('1'!F49=1,'1'!K49,0) -> 0 | B33: =IF('1'!F49=1,'1'!K49*0.055,0) -> 0 | C33: =IF('1'!F49=2,'1'!K49,0) -> 0 | D33: =IF('1'!F49=2,'1'!K49*0.2,0) -> 0
A34: =IF('1'!F50=1,'1'!K50,0) -> 0 | B34: =IF('1'!F50=1,'1'!K50*0.055,0) -> 0 | C34: =IF('1'!F50=2,'1'!K50,0) -> 0 | D34: =IF('1'!F50=2,'1'!K50*0.2,0) -> 0
A35: =IF('1'!F51=1,'1'!K51,0) -> 0 | B35: =IF('1'!F51=1,'1'!K51*0.055,0) -> 0 | C35: =IF('1'!F51=2,'1'!K51,0) -> 0 | D35: =IF('1'!F51=2,'1'!K51*0.2,0) -> 0
A36: =IF('1'!F52=1,'1'!K52,0) -> 0 | B36: =IF('1'!F52=1,'1'!K52*0.055,0) -> 0 | C36: =IF('1'!F52=2,'1'!K52,0) -> 0 | D36: =IF('1'!F52=2,'1'!K52*0.2,0) -> 0
A37: =IF('1'!F53=1,'1'!K53,0) -> 0 | B37: =IF('1'!F53=1,'1'!K53*0.055,0) -> 0 | C37: =IF('1'!F53=2,'1'!K53,0) -> 0 | D37: =IF('1'!F53=2,'1'!K53*0.2,0) -> 0
A38: =IF('1'!F54=1,'1'!K54,0) -> 0 | B38: =IF('1'!F54=1,'1'!K54*0.055,0) -> 0 | C38: =IF('1'!F54=2,'1'!K54,0) -> 0 | D38: =IF('1'!F54=2,'1'!K54*0.2,0) -> 0
A39: =IF('1'!F55=1,'1'!K55,0) -> 0 | B39: =IF('1'!F55=1,'1'!K55*0.055,0) -> 0 | C39: =IF('1'!F55=2,'1'!K55,0) -> 0 | D39: =IF('1'!F55=2,'1'!K55*0.2,0) -> 0
A40: =IF('1'!F56=1,'1'!K56,0) -> 0 | B40: =IF('1'!F56=1,'1'!K56*0.055,0) -> 0 | C40: =IF('1'!F56=2,'1'!K56,0) -> 0 | D40: =IF('1'!F56=2,'1'!K56*0.2,0) -> 0
A41: =IF('1'!F57=1,'1'!K57,0) -> 0 | B41: =IF('1'!F57=1,'1'!K57*0.055,0) -> 0 | C41: =IF('1'!F57=2,'1'!K57,0) -> 0 | D41: =IF('1'!F57=2,'1'!K57*0.2,0) -> 0
... A45: =IF('1'!F61=1,'1'!K61,0) -> 0 | B45: =IF('1'!F61=1,'1'!K61*0.055,0) -> 0 | C45: =IF('1'!F61=2,'1'!K61,0) -> 0 | D45: =IF('1'!F61=2,'1'!K61*0.2,0) -> 0
A47: =SUM(A1:A45) -> #REF! | B47: =SUM(B1:B45) -> #REF! | C47: =SUM(C1:C45) -> #REF! | D47: =SUM(D1:D45) -> #REF!
C50: =C47+A47 -> #REF!

Sheet 1
A2: S.A.R.L | H2: BON DE LIVRAISON
A4: 82000 MONTAUBAN
A5: TEL. 05. PORT. FAX. 05.63.
A6: RCS
A7: N° SIRET :
A8: N° TVA intracommunautaire : FR | H8: BIO PURPAN
H9: 301 avenue de Grande Bretagne
A10: n° | D10: DG-16-09-23/02
H11: 31300 TOULOUSE
A12: Date : | D12: 42636
H13: CLIENT :
A15: Nb | B15: Nb | C15: Code | D15: Désignation Produit | E15: Org | F15: Unité | G15: Conv* | H15: Pds | I15: PN | J15: Prix Unit. | K15: TOTAL H.T.
A16: Colis | B16: modif | C16: artic. | G16: Bio** | H16: U. | I16: Total
A17: 1 | C17: 98 | D17: FENOUIL | E17: S.O | F17: Kg | G17: Bio** | H17: 8 | I17: 8 | J17: 2.9 | K17: =IF(I17=0," ",I17*J17) -> 23.2
A18: 1 | C18: 712 | D18: TOMATES ANANAS | E18: S.O | F18: Kg | G18: Bio** | H18: 5 | I18: 5 | J18: 3.6 | K18: =IF(I18=0," ",I18*J18) -> 18
A19: 1 | C19: 712 | D19: TOMATES NOIRES DE CRIMEES | E19: S.O | F19: Kg | G19: Bio** | H19: 5 | I19: 5 | J19: 3.6 | K19: =IF(I19=0," ",I19*J19) -> 18
A20: 1 | C20: 712 | D20: TOMATES RONDE JAUNE | E20: S.O | F20: Kg | G20: Bio** | H20: 5 | I20: 5 | J20: 3.6 | K20: =IF(I20=0," ",I20*J20) -> 18
A21: 6 | C21: 627 | D21: RAISIN CHASSELAS QUERCY | E21: S.O | F21: Kg | G21: Bio** | H21: 6 | I21: =A21*H21 -> 36 | J21: 3.5 | K21: =IF(I21=0," ",I21*J21) -> 126
A22: 5 | C22: 637 | D22: RAISIN MUSCAT | E22: S.O | F22: Kg | G22: Bio** | H22: 6 | I22: =A22*H22 -> 30 | J22: 3.5 | K22: =IF(I22=0," ",I22*J22) -> 105
D23: =IF(C23=0," ",VLOOKUP(C23,[0]!légumes,2,FALSE)) | K23: =IF(I23=0," ",I23*J23)
D24: =IF(C24=0," ",VLOOKUP(C24,[0]!légumes,2,FALSE)) | K24: =IF(I24=0," ",I24*J24)
D25: =IF(C25=0," ",VLOOKUP(C25,[0]!légumes,2,FALSE)) | K25: =IF(I25=0," ",I25*J25)
D26: =IF(C26=0," ",VLOOKUP(C26,[0]!légumes,2,FALSE)) | K26: =IF(I26=0," ",I26*J26)
D27: =IF(C27=0," ",VLOOKUP(C27,[0]!légumes,2,FALSE)) | K27: =IF(I27=0," ",I27*J27)
D28: =IF(C28=0," ",VLOOKUP(C28,[0]!légumes,2,FALSE)) | K28: =IF(I28=0," ",I28*J28)
D29: =IF(C29=0," ",VLOOKUP(C29,[0]!légumes,2,FALSE)) | K29: =IF(I29=0," ",I29*J29)
D30: =IF(C30=0," ",VLOOKUP(C30,[0]!légumes,2,FALSE)) | K30: =IF(I30=0," ",I30*J30)
D31: =IF(C31=0," ",VLOOKUP(C31,[0]!légumes,2,FALSE)) | K31: =IF(I31=0," ",I31*J31)
D32: =IF(C32=0," ",VLOOKUP(C32,[0]!légumes,2,FALSE)) | K32: =IF(I32=0," ",I32*J32)
D33: =IF(C33=0," ",VLOOKUP(C33,[0]!légumes,2,FALSE)) | K33: =IF(I33=0," ",I33*J33)
D34: =IF(C34=0," ",VLOOKUP(C34,[0]!légumes,2,FALSE)) | K34: =IF(I34=0," ",I34*J34)
... D43: =IF(C43=0," ",VLOOKUP(C43,[0]!légumes,2,FALSE)) | K43: =IF(I43=0," ",I43*J43)
K44: =IF(I44=0," ",I44*J44)
A45: =SUM(A17:A44) -> 15 | B45: total colis
A46: * Conv = en convertion **Bio: produits issus de l'agriculture biologique | I46: T O T A L H. T. | K46: =IF(K17=0," ",SUM(K17:K45)) -> 308.2
A47: Produit issus de l'agriculture biologique
A49: FR-BIO-01
A51: FRA : France / S.O : Sud Ouest / ESP : Espagne / ITA : Italie
A52: Kg : Kilogramme / PI : Pièce / CO : Colis

Sheet Feuil2
A1: =[1]Feuil1!A1 -> #REF! | B1: =[1]Feuil1!B1 -> #REF!
A2: =[1]Feuil1!A2 -> #REF! | B2: =[1]Feuil1!B2 -> #REF!
A3: =[1]Feuil1!A3 -> #REF! | B3: =[1]Feuil1!B3 -> #REF!
A4: =[1]Feuil1!A4 -> #REF! | B4: =[1]Feuil1!B4 -> #REF!
A5: =[1]Feuil1!A5 -> #REF! | B5: =[1]Feuil1!B5 -> #REF!
A6: =[1]Feuil1!A6 -> #REF! | B6: =[1]Feuil1!B6 -> #REF!
A7: =[1]Feuil1!A7 -> #REF! | B7: =[1]Feuil1!B7 -> #REF!
A8: =[1]Feuil1!A8 -> #REF! | B8: =[1]Feuil1!B8 -> #REF!
A9: =[1]Feuil1!A9 -> #REF! | B9: =[1]Feuil1!B9 -> #REF!
A10: =[1]Feuil1!A10 -> #REF! | B10: =[1]Feuil1!B10 -> #REF!
A11: =[1]Feuil1!A11 -> #REF! | B11: =[1]Feuil1!B11 -> #REF!
A12: =[1]Feuil1!A12 -> #REF! | B12: =[1]Feuil1!B12 -> #REF!
... A1002: =[1]Feuil1!A1002 -> #REF! | B1002: =[1]Feuil1!B1002 -> #REF!

Sheet Feuil3
