Workbook
Name date: Planning!$F$5:$GG$5
Name Début: Planning!$B$6:$B$23
Name F: Planning!$F$3:$GG$3
Name Fériés: Calendrier!$G$2:$G$14
Name Fin: Planning!$C$6:$C$23
Name Nom: Planning!$A$6:$A$23
Name Paques: Calendrier!$G$8
Name Saisir_Année: Calendrier!$G$1

Sheet Calendrier
F1: Jours Fériés | G1: =B3 -> 2017
B2: Début | C2: Fin | D2: Date début | F2: Jour de l'an | G2: =DATE(Saisir_Année,1,1) -> 42736
A3: Année | B3: =Planning!B1 -> 2017 | C3: =B3 -> 2017 | D3: =DATE(B3,1,1) -> 42736 | F3: Fête du Travail | G3: =DATE(Saisir_Année,5,1) -> 42856
A4: 2017 | D4: =DATE(B3,2,1) -> 42767 | F4: Victoire 39/45 | G4: =DATE(Saisir_Année,5,8) -> 42863
A5: 2018 | D5: =DATE(B3,3,1) -> 42795 | F5: Fête Nationale | G5: =DATE(Saisir_Année,7,14) -> 42930
A6: 2019 | D6: =DATE(B3,4,1) -> 42826 | F6: Assomption | G6: =DATE(Saisir_Année,8,15) -> 42962
A7: 2020 | D7: =DATE(B3,5,1) -> 42856 | F7: Toussaint | G7: =DATE(Saisir_Année,11,1) -> 43040
A8: 2021 | D8: =DATE(B3,6,1) -> 42887 | F8: Pâques | G8: =ROUND(DATE(Saisir_Année,4,MOD(234-11*MOD(Saisir_Année,19),30))/7,0)*7-6 -> 42841
A9: 2022 | D9: =DATE(B3,7,1) -> 42917 | F9: Lundi de Pâques | G9: =Paques+1 -> 42842
A10: 2023 | D10: =DATE(B3,8,1) -> 42948 | F10: Armistice 14/18 | G10: =DATE(Saisir_Année,11,11) -> 43050
A11: 2024 | D11: =DATE(B3,9,1) -> 42979 | F11: Noël | G11: =DATE(Saisir_Année,12,25) -> 43094
A12: 2025 | D12: =DATE(B3,10,1) -> 43009 | F12: Ascension | G12: =Paques+39 -> 42880
A13: 2026 | D13: =DATE(B3,11,1) -> 43040 | F13: Pentecôte | G13: =Paques+49 -> 42890
A14: 2027 | D14: =DATE(B3,12,1) -> 43070 | F14: Lundi de Pentecôte | G14: =Paques+50 -> 42891
A15: 2028
A16: 2029
A17: 2030
A19: Nom & prénom | B19: P | C19: C | D19: Q
A20: A | B20: X
A21: B | B21: X | C21: X | D21: X
A22: C | C22: X
A23: D | C23: X
A24: E | B24: X
A25: F | B25: X
A26: G | B26: X | D26: X
A27: H | B27: X | C27: X | D27: X
A28: I | B28: X | D28: X
A29: J | B29: X | C29: X
A30: K | B30: X | D30: X
A31: L | B31: X | C31: X
A32: M | B32: X | C32: X | D32: X
A33: N | C33: X

Sheet Planning
A1: Année | B1: 2017 | C1: Congé d'été | F1: =F5 -> 42856 | AK1: =AK5 -> 42887 | BO1: =BO5 -> 42917 | CT1: =CT5 -> 42948 | DY1: =DY5 -> 42979 | FC1: =FC5 -> 43009
E2: N° Semaine | F2: =IF(ISNUMBER(INT(MOD(INT((F5-2)/7)+0.6,52+5/28))+1),INT(MOD(INT((F5-2)/7)+0.6,52+5/28))+1,"") -> 18 | G2: =IF(ISNUMBER(INT(MOD(INT((G5-2)/7)+0.6,52+5/28))+1),INT(MOD(INT((G5-2)/7)+0.6,52+5/28))+1,"") -> 18 | H2: =IF(ISNUMBER(INT(MOD(INT((H5-2)/7)+0.6,52+5/28))+1),INT(MOD(INT((H5-2)/7)+0.6,52+5/28))+1,"") -> 18 | I2: =IF(ISNUMBER(INT(MOD(INT((I5-2)/7)+0.6,52+5/28))+1),INT(MOD(INT((I5-2)/7)+0.6,52+5/28))+1,"") -> 18 | J2: =IF(ISNUMBER(INT(MOD(INT((J5-2)/7)+0.6,52+5/28))+1),INT(MOD(INT((J5-2)/7)+0.6,52+5/28))+1,"") -> 18 | K2: =IF(ISNUMBER(INT(MOD(INT((K5-2)/7)+0.6,52+5/28))+1),INT(MOD(INT((K5-2)/7)+0.6,52+5/28))+1,"") -> 18 | L2: =IF(ISNUMBER(INT(MOD(INT((L5-2)/7)+0.6,52+5/28))+1),INT(MOD(INT((L5-2)/7)+0.6,52+5/28))+1,"") -> 18 | M2: =IF(ISNUMBER(INT(MOD(INT((M5-2)/7)+0.6,52+5/28))+1),INT(MOD(INT((M5-2)/7)+0.6,52+5/28))+1,"") -> 19 | ... GG2: =IF(ISNUMBER(INT(MOD(INT((GG5-2)/7)+0.6,52+5/28))+1),INT(MOD(INT((GG5-2)/7)+0.6,52+5/28))+1,"") -> 44
F3: =IF(OR(WEEKDAY(F4,2)>5,COUNTIF(Fériés,F4)=1),"f",0) -> f | G3: =IF(OR(WEEKDAY(G4,2)>5,COUNTIF(Fériés,G4)=1),"f",0) -> 0 | H3: =IF(OR(WEEKDAY(H4,2)>5,COUNTIF(Fériés,H4)=1),"f",0) -> 0 | I3: =IF(OR(WEEKDAY(I4,2)>5,COUNTIF(Fériés,I4)=1),"f",0) -> 0 | J3: =IF(OR(WEEKDAY(J4,2)>5,COUNTIF(Fériés,J4)=1),"f",0) -> 0 | K3: =IF(OR(WEEKDAY(K4,2)>5,COUNTIF(Fériés,K4)=1),"f",0) -> f | L3: =IF(OR(WEEKDAY(L4,2)>5,COUNTIF(Fériés,L4)=1),"f",0) -> f | M3: =IF(OR(WEEKDAY(M4,2)>5,COUNTIF(Fériés,M4)=1),"f",0) -> f | ... GG3: =IF(OR(WEEKDAY(GG4,2)>5,COUNTIF(Fériés,GG4)=1),"f",0) -> 0
F4: =Calendrier!D7 -> 42856 | G4: =F4+1 -> 42857 | H4: =G4+1 -> 42858 | I4: =H4+1 -> 42859 | J4: =I4+1 -> 42860 | K4: =J4+1 -> 42861 | L4: =K4+1 -> 42862 | M4: =L4+1 -> 42863 | N4: =M4+1 -> 42864 | ... GG4: =GF4+1 -> 43039
A5: Nom & prénom | B5: Début | C5: Fin | D5: CP pris | E5: Commentaires | F5: =Calendrier!D7 -> 42856 | G5: =F5+1 -> 42857 | H5: =G5+1 -> 42858 | I5: =H5+1 -> 42859 | J5: =I5+1 -> 42860 | K5: =J5+1 -> 42861 | L5: =K5+1 -> 42862 | M5: =L5+1 -> 42863 | N5: =M5+1 -> 42864 | ... GG5: =GF5+1 -> 43039
A6: A | B6: 42856 | C6: 42867 | D6: =NETWORKDAYS(B6,C6,Fériés) -> 8 | E6: =IF(D6=0,"",IF(D6<10,"ATTENTION ! 10 jours consécutive",IF(D6<18,"Faire lettre de renonciation",""))) -> ATTENTION ! 10 jours consécutive | F6: =IF(AND(date>=Début, date<=Fin,NOT(F="F")),"CP","") | G6: =IF(AND(date>=Début, date<=Fin,NOT(F="F")),"CP","") -> CP | H6: =IF(AND(date>=Début, date<=Fin,NOT(F="F")),"CP","") -> CP | I6: =IF(AND(date>=Début, date<=Fin,NOT(F="F")),"CP","") -> CP | J6: =IF(AND(date>=Début, date<=Fin,NOT(F="F")),"CP","") -> CP | K6: =IF(AND(date>=Début, date<=Fin,NOT(F="F")),"CP","") | L6: =IF(AND(date>=Début, date<=Fin,NOT(F="F")),"CP","") | M6: =IF(AND(date>=Début, date<=Fin,NOT(F="F")),"CP","") | ... GG6: =IF(AND(date>=Début, date<=Fin,NOT(F="F")),"CP","")
A7: B | B7: 42856 | C7: 42860 | D7: =NETWORKDAYS(B7,C7,Fériés) -> 4 | E7: =IF(D7=0,"",IF(D7<10,"ATTENTION ! 10 jours consécutive",IF(D7<18,"Faire lettre de renonciation",""))) -> ATTENTION ! 10 jours consécutive | F7: =IF(AND(date>=Début, date<=Fin,NOT(F="F")),"CP","") | G7: =IF(AND(date>=Début, date<=Fin,NOT(F="F")),"CP","") -> CP | H7: =IF(AND(date>=Début, date<=Fin,NOT(F="F")),"CP","") -> CP | I7: =IF(AND(date>=Début, date<=Fin,NOT(F="F")),"CP","") -> CP | J7: =IF(AND(date>=Début, date<=Fin,NOT(F="F")),"CP","") -> CP | K7: =IF(AND(date>=Début, date<=Fin,NOT(F="F")),"CP","") | L7: =IF(AND(date>=Début, date<=Fin,NOT(F="F")),"CP","") | M7: =IF(AND(date>=Début, date<=Fin,NOT(F="F")),"CP","") | ... GG7: =IF(AND(date>=Début, date<=Fin,NOT(F="F")),"CP","")
A8: C | B8: 42864 | C8: 42867 | D8: =NETWORKDAYS(B8,C8,Fériés) -> 4 | E8: =IF(D8=0,"",IF(D8<10,"ATTENTION ! 10 jours consécutive",IF(D8<18,"Faire lettre de renonciation",""))) -> ATTENTION ! 10 jours consécutive | F8: =IF(AND(date>=Début, date<=Fin,NOT(F="F")),"CP","") | G8: =IF(AND(date>=Début, date<=Fin,NOT(F="F")),"CP","") | H8: =IF(AND(date>=Début, date<=Fin,NOT(F="F")),"CP","") | I8: =IF(AND(date>=Début, date<=Fin,NOT(F="F")),"CP","") | J8: =IF(AND(date>=Début, date<=Fin,NOT(F="F")),"CP","") | K8: =IF(AND(date>=Début, date<=Fin,NOT(F="F")),"CP","") | L8: =IF(AND(date>=Début, date<=Fin,NOT(F="F")),"CP","") | M8: =IF(AND(date>=Début, date<=Fin,NOT(F="F")),"CP","") | ... GG8: =IF(AND(date>=Début, date<=Fin,NOT(F="F")),"CP","")
A9: D | D9: =NETWORKDAYS(B9,C9,Fériés) -> 0 | E9: =IF(D9=0,"",IF(D9<10,"ATTENTION ! 10 jours consécutive",IF(D9<18,"Faire lettre de renonciation",""))) | F9: =IF(AND(date>=Début, date<=Fin,NOT(F="F")),"CP","") | G9: =IF(AND(date>=Début, date<=Fin,NOT(F="F")),"CP","") | H9: =IF(AND(date>=Début, date<=Fin,NOT(F="F")),"CP","") | I9: =IF(AND(date>=Début, date<=Fin,NOT(F="F")),"CP","") | J9: =IF(AND(date>=Début, date<=Fin,NOT(F="F")),"CP","") | K9: =IF(AND(date>=Début, date<=Fin,NOT(F="F")),"CP","") | L9: =IF(AND(date>=Début, date<=Fin,NOT(F="F")),"CP","") | M9: =IF(AND(date>=Début, date<=Fin,NOT(F="F")),"CP","") | ... GG9: =IF(AND(date>=Début, date<=Fin,NOT(F="F")),"CP","")
A10: E | D10: =NETWORKDAYS(B10,C10,Fériés) -> 0 | E10: =IF(D10=0,"",IF(D10<10,"ATTENTION ! 10 jours consécutive",IF(D10<18,"Faire lettre de renonciation",""))) | F10: =IF(AND(date>=Début, date<=Fin,NOT(F="F")),"CP","") | G10: =IF(AND(date>=Début, date<=Fin,NOT(F="F")),"CP","") | H10: =IF(AND(date>=Début, date<=Fin,NOT(F="F")),"CP","") | I10: =IF(AND(date>=Début, date<=Fin,NOT(F="F")),"CP","") | J10: =IF(AND(date>=Début, date<=Fin,NOT(F="F")),"CP","") | K10: =IF(AND(date>=Début, date<=Fin,NOT(F="F")),"CP","") | L10: =IF(AND(date>=Début, date<=Fin,NOT(F="F")),"CP","") | M10: =IF(AND(date>=Début, date<=Fin,NOT(F="F")),"CP","") | ... GG10: =IF(AND(date>=Début, date<=Fin,NOT(F="F")),"CP","")
A11: F | D11: =NETWORKDAYS(B11,C11,Fériés) -> 0 | E11: =IF(D11=0,"",IF(D11<10,"ATTENTION ! 10 jours consécutive",IF(D11<18,"Faire lettre de renonciation",""))) | F11: =IF(AND(date>=Début, date<=Fin,NOT(F="F")),"CP","") | G11: =IF(AND(date>=Début, date<=Fin,NOT(F="F")),"CP","") | H11: =IF(AND(date>=Début, date<=Fin,NOT(F="F")),"CP","") | I11: =IF(AND(date>=Début, date<=Fin,NOT(F="F")),"CP","") | J11: =IF(AND(date>=Début, date<=Fin,NOT(F="F")),"CP","") | K11: =IF(AND(date>=Début, date<=Fin,NOT(F="F")),"CP","") | L11: =IF(AND(date>=Début, date<=Fin,NOT(F="F")),"CP","") | M11: =IF(AND(date>=Début, date<=Fin,NOT(F="F")),"CP","") | ... GG11: =IF(AND(date>=Début, date<=Fin,NOT(F="F")),"CP","")
A12: G | D12: =NETWORKDAYS(B12,C12,Fériés) -> 0 | E12: =IF(D12=0,"",IF(D12<10,"ATTENTION ! 10 jours consécutive",IF(D12<18,"Faire lettre de renonciation",""))) | F12: =IF(AND(date>=Début, date<=Fin,NOT(F="F")),"CP","") | G12: =IF(AND(date>=Début, date<=Fin,NOT(F="F")),"CP","") | H12: =IF(AND(date>=Début, date<=Fin,NOT(F="F")),"CP","") | I12: =IF(AND(date>=Début, date<=Fin,NOT(F="F")),"CP","") | J12: =IF(AND(date>=Début, date<=Fin,NOT(F="F")),"CP","") | K12: =IF(AND(date>=Début, date<=Fin,NOT(F="F")),"CP","") | L12: =IF(AND(date>=Début, date<=Fin,NOT(F="F")),"CP","") | M12: =IF(AND(date>=Début, date<=Fin,NOT(F="F")),"CP","") | ... GG12: =IF(AND(date>=Début, date<=Fin,NOT(F="F")),"CP","")
A13: H | D13: =NETWORKDAYS(B13,C13,Fériés) -> 0 | E13: =IF(D13=0,"",IF(D13<10,"ATTENTION ! 10 jours consécutive",IF(D13<18,"Faire lettre de renonciation",""))) | F13: =IF(AND(date>=Début, date<=Fin,NOT(F="F")),"CP","") | G13: =IF(AND(date>=Début, date<=Fin,NOT(F="F")),"CP","") | H13: =IF(AND(date>=Début, date<=Fin,NOT(F="F")),"CP","") | I13: =IF(AND(date>=Début, date<=Fin,NOT(F="F")),"CP","") | J13: =IF(AND(date>=Début, date<=Fin,NOT(F="F")),"CP","") | K13: =IF(AND(date>=Début, date<=Fin,NOT(F="F")),"CP","") | L13: =IF(AND(date>=Début, date<=Fin,NOT(F="F")),"CP","") | M13: =IF(AND(date>=Début, date<=Fin,NOT(F="F")),"CP","") | ... GG13: =IF(AND(date>=Début, date<=Fin,NOT(F="F")),"CP","")
A14: I | D14: =NETWORKDAYS(B14,C14,Fériés) -> 0 | E14: =IF(D14=0,"",IF(D14<10,"ATTENTION ! 10 jours consécutive",IF(D14<18,"Faire lettre de renonciation",""))) | F14: =IF(AND(date>=Début, date<=Fin,NOT(F="F")),"CP","") | G14: =IF(AND(date>=Début, date<=Fin,NOT(F="F")),"CP","") | H14: =IF(AND(date>=Début, date<=Fin,NOT(F="F")),"CP","") | I14: =IF(AND(date>=Début, date<=Fin,NOT(F="F")),"CP","") | J14: =IF(AND(date>=Début, date<=Fin,NOT(F="F")),"CP","") | K14: =IF(AND(date>=Début, date<=Fin,NOT(F="F")),"CP","") | L14: =IF(AND(date>=Début, date<=Fin,NOT(F="F")),"CP","") | M14: =IF(AND(date>=Début, date<=Fin,NOT(F="F")),"CP","") | ... GG14: =IF(AND(date>=Début, date<=Fin,NOT(F="F")),"CP","")
A15: J | D15: =NETWORKDAYS(B15,C15,Fériés) -> 0 | E15: =IF(D15=0,"",IF(D15<10,"ATTENTION ! 10 jours consécutive",IF(D15<18,"Faire lettre de renonciation",""))) | F15: =IF(AND(date>=Début, date<=Fin,NOT(F="F")),"CP","") | G15: =IF(AND(date>=Début, date<=Fin,NOT(F="F")),"CP","") | H15: =IF(AND(date>=Début, date<=Fin,NOT(F="F")),"CP","") | I15: =IF(AND(date>=Début, date<=Fin,NOT(F="F")),"CP","") | J15: =IF(AND(date>=Début, date<=Fin,NOT(F="F")),"CP","") | K15: =IF(AND(date>=Début, date<=Fin,NOT(F="F")),"CP","") | L15: =IF(AND(date>=Début, date<=Fin,NOT(F="F")),"CP","") | M15: =IF(AND(date>=Début, date<=Fin,NOT(F="F")),"CP","") | ... GG15: =IF(AND(date>=Début, date<=Fin,NOT(F="F")),"CP","")
A16: K | D16: =NETWORKDAYS(B16,C16,Fériés) -> 0 | E16: =IF(D16=0,"",IF(D16<10,"ATTENTION ! 10 jours consécutive",IF(D16<18,"Faire lettre de renonciation",""))) | F16: =IF(AND(date>=Début, date<=Fin,NOT(F="F")),"CP","") | G16: =IF(AND(date>=Début, date<=Fin,NOT(F="F")),"CP","") | H16: =IF(AND(date>=Début, date<=Fin,NOT(F="F")),"CP","") | I16: =IF(AND(date>=Début, date<=Fin,NOT(F="F")),"CP","") | J16: =IF(AND(date>=Début, date<=Fin,NOT(F="F")),"CP","") | K16: =IF(AND(date>=Début, date<=Fin,NOT(F="F")),"CP","") | L16: =IF(AND(date>=Début, date<=Fin,NOT(F="F")),"CP","") | M16: =IF(AND(date>=Début, date<=Fin,NOT(F="F")),"CP","") | ... GG16: =IF(AND(date>=Début, date<=Fin,NOT(F="F")),"CP","")
A17: L | D17: =NETWORKDAYS(B17,C17,Fériés) -> 0 | E17: =IF(D17=0,"",IF(D17<10,"ATTENTION ! 10 jours consécutive",IF(D17<18,"Faire lettre de renonciation",""))) | F17: =IF(AND(date>=Début, date<=Fin,NOT(F="F")),"CP","") | G17: =IF(AND(date>=Début, date<=Fin,NOT(F="F")),"CP","") | H17: =IF(AND(date>=Début, date<=Fin,NOT(F="F")),"CP","") | I17: =IF(AND(date>=Début, date<=Fin,NOT(F="F")),"CP","") | J17: =IF(AND(date>=Début, date<=Fin,NOT(F="F")),"CP","") | K17: =IF(AND(date>=Début, date<=Fin,NOT(F="F")),"CP","") | L17: =IF(AND(date>=Début, date<=Fin,NOT(F="F")),"CP","") | M17: =IF(AND(date>=Début, date<=Fin,NOT(F="F")),"CP","") | ... GG17: =IF(AND(date>=Début, date<=Fin,NOT(F="F")),"CP","")
A18: M
A19: N
D22: =NETWORKDAYS(B22,C22,Fériés) -> 0 | E22: =IF(D22=0,"",IF(D22<10,"ATTENTION ! 10 jours consécutive",IF(D22<18,"Faire lettre de renonciation",""))) | F22: =IF(AND(date>=Début, date<=Fin,NOT(F="F")),"CP","") | G22: =IF(AND(date>=Début, date<=Fin,NOT(F="F")),"CP","") | H22: =IF(AND(date>=Début, date<=Fin,NOT(F="F")),"CP","") | I22: =IF(AND(date>=Début, date<=Fin,NOT(F="F")),"CP","") | J22: =IF(AND(date>=Début, date<=Fin,NOT(F="F")),"CP","") | K22: =IF(AND(date>=Début, date<=Fin,NOT(F="F")),"CP","") | L22: =IF(AND(date>=Début, date<=Fin,NOT(F="F")),"CP","") | M22: =IF(AND(date>=Début, date<=Fin,NOT(F="F")),"CP","") | ... GG22: =IF(AND(date>=Début, date<=Fin,NOT(F="F")),"CP","")
D23: =NETWORKDAYS(B23,C23,Fériés) -> 0 | E23: =IF(D23=0,"",IF(D23<10,"ATTENTION ! 10 jours consécutive",IF(D23<18,"Faire lettre de renonciation",""))) | F23: =IF(AND(date>=Début, date<=Fin,NOT(F="F")),"CP","") | G23: =IF(AND(date>=Début, date<=Fin,NOT(F="F")),"CP","") | H23: =IF(AND(date>=Début, date<=Fin,NOT(F="F")),"CP","") | I23: =IF(AND(date>=Début, date<=Fin,NOT(F="F")),"CP","") | J23: =IF(AND(date>=Début, date<=Fin,NOT(F="F")),"CP","") | K23: =IF(AND(date>=Début, date<=Fin,NOT(F="F")),"CP","") | L23: =IF(AND(date>=Début, date<=Fin,NOT(F="F")),"CP","") | M23: =IF(AND(date>=Début, date<=Fin,NOT(F="F")),"CP","") | ... GG23: =IF(AND(date>=Début, date<=Fin,NOT(F="F")),"CP","")
F24: =COUNTIF(F6:F23,"CP") -> 0 | G24: =COUNTIF(G6:G23,"CP") -> 2 | H24: =COUNTIF(H6:H23,"CP") -> 2 | I24: =COUNTIF(I6:I23,"CP") -> 2 | J24: =COUNTIF(J6:J23,"CP") -> 2 | K24: =COUNTIF(K6:K23,"CP") -> 0 | L24: =COUNTIF(L6:L23,"CP") -> 0 | M24: =COUNTIF(M6:M23,"CP") -> 0 | ... GG24: =COUNTIF(GG6:GG23,"CP") -> 0
E25: P | F25: =SUMPRODUCT((OFFSET(Calendrier!$A$20:$A$37,0,RIGHT($E$25,1)*1)="X")*(Planning!F$6:F$23="")) -> #VALUE!
E26: C | F26: =SUMPRODUCT((OFFSET(Calendrier!A21:A38,0,RIGHT(E26,1)*1)="X")*(F7:F24="")) -> #VALUE!
E27: Q | F27: =SUMPRODUCT((OFFSET(Calendrier!A22:A39,0,RIGHT(E27,1)*1)="X")*(F8:F25="")) -> #VALUE!
