Workbook

Sheet 2015
A1: début promo | B1: fin promo | C1: gencod | D1: quantité vendue
A2: 42268 | B2: 42295 | C2: 3662321002025
A3: 42268 | B3: 42295 | C3: 3760117860498
A4: 42268 | B4: 42295 | C4: 3760165608097
A5: 42268 | B5: 42295 | C5: 3700438913169
A6: 42268 | B6: 42295 | C6: 3331451175564
A7: 42268 | B7: 42295 | C7: 3303292404790
A8: 42268 | B8: 42295 | C8: 3488330224704
A9: 42268 | B9: 42295 | C9: 3284399017161
A10: 42268 | B10: 42295 | C10: 3453521224207
A11: 42268 | B11: 42295 | C11: 3149070030726
A12: 42268 | B12: 42295 | C12: 3376820174830
A13: 42268 | B13: 42295 | C13: 3270250371831
... A281: 42268 | B281: 42295 | C281: 3760077986153
A282: 42268 | B282: 42295 | C282: 3760142051137 | D282: 1
A283: 42268 | B283: 42295 | C283: 3330541400104 | D283: 1
A284: 42268 | B284: 42295 | C284: 3272860016942 | D284: 1
A285: 42268 | B285: 42295 | C285: 8005829836009 | D285: 1
A286: 42268 | B286: 42295 | C286: 7804320087016 | D286: 1
A287: 42268 | B287: 42295 | C287: 3286171303127 | D287: 1
A288: 42268 | B288: 42295 | C288: 8410113003027 | D288: 1
A289: 42268 | B289: 42295 | C289: 3760177960923 | D289: 1
A290: 42268 | B290: 42295 | C290: 3760063163735 | D290: 1
A291: 42268 | B291: 42295 | C291: 3760172575016 | D291: 1
A292: 42268 | B292: 42295 | C292: 3760165608080 | D292: 1
A293: 42268 | B293: 42295 | C293: 3221244100449 | D293: 1
... A501: 42268 | B501: 42295 | C501: 3305490003065 | D501: 51
A502: 42268 | B502: 42295 | C502: 3282946010863
A503: 42268 | B503: 42295 | C503: 3554122000037
A504: 42268 | B504: 42295 | C504: 3469380630219
A505: 42268 | B505: 42295 | C505: 3338580026798
A506: 42268 | B506: 42295 | C506: 3760002336596
A507: 42268 | B507: 42295 | C507: 3570591013033
A508: 42268 | B508: 42295 | C508: 3282946014311
A509: 42268 | B509: 42295 | C509: 3530050000233
A510: 42268 | B510: 42295 | C510: 3770001040196
A511: 42268 | B511: 42295 | C511: 3570591013088
A512: 42268 | B512: 42295 | C512: 3282946101288
A513: 42268 | B513: 42295 | C513: 3282946014182
... A528: 42268 | B528: 42295 | C528: 3267986001262
...

Sheet 2016
A1: début | B1: fin | C1: gencod | E1: quantité vendue
A2: 42632 | B2: 42652 | C2: 3258691522197 | D2: =VLOOKUP(C2,'2015'!$C$2:$C$551,1,FALSE) -> #N/A
A3: 42632 | B3: 42652 | C3: 3760088660028 | D3: =VLOOKUP(C3,'2015'!$C$2:$C$551,1,FALSE) -> #N/A
A4: 42632 | B4: 42652 | C4: 3480597340319 | D4: =VLOOKUP(C4,'2015'!$C$2:$C$551,1,FALSE) -> #N/A
A5: 42632 | B5: 42652 | C5: 3760039909732 | D5: =VLOOKUP(C5,'2015'!$C$2:$C$551,1,FALSE) -> #N/A
A6: 42632 | B6: 42652 | C6: 3571961005832 | D6: =VLOOKUP(C6,'2015'!$C$2:$C$551,1,FALSE) -> #N/A
A7: 42632 | B7: 42652 | C7: 3760062479783 | D7: =VLOOKUP(C7,'2015'!$C$2:$C$551,1,FALSE) -> #N/A
A8: 42632 | B8: 42652 | C8: 3512675637759 | D8: =VLOOKUP(C8,'2015'!$C$2:$C$551,1,FALSE) -> #N/A
A9: 42632 | B9: 42652 | C9: 3441941114109 | D9: =VLOOKUP(C9,'2015'!$C$2:$C$551,1,FALSE) -> #N/A
A10: 42632 | B10: 42652 | C10: 3279871015834 | D10: =VLOOKUP(C10,'2015'!$C$2:$C$551,1,FALSE) -> #N/A
A11: 42632 | B11: 42652 | C11: 3760171590355 | D11: =VLOOKUP(C11,'2015'!$C$2:$C$551,1,FALSE) -> #N/A
A12: 42632 | B12: 42652 | C12: 3760172575412 | D12: =VLOOKUP(C12,'2015'!$C$2:$C$551,1,FALSE) -> 3760172575412
A13: 42632 | B13: 42652 | C13: 3322728960051 | D13: =VLOOKUP(C13,'2015'!$C$2:$C$551,1,FALSE) -> #N/A
... A43: 42632 | B43: 42652 | C43: 3760031479776 | D43: =VLOOKUP(C43,'2015'!$C$2:$C$551,1,FALSE) -> #N/A
C44: 3760172576686 | D44: =VLOOKUP(C44,'2015'!$C$2:$C$551,1,FALSE) -> #N/A
A45: 42632 | B45: 42652 | C45: 3322728900040 | D45: =VLOOKUP(C45,'2015'!$C$2:$C$551,1,FALSE) -> #N/A
A46: 42632 | B46: 42652 | C46: 3267980630437 | D46: =VLOOKUP(C46,'2015'!$C$2:$C$551,1,FALSE) -> #N/A
A47: 42632 | B47: 42652 | C47: 3570591011480 | D47: =VLOOKUP(C47,'2015'!$C$2:$C$551,1,FALSE) -> #N/A
A48: 42632 | B48: 42652 | C48: 3760039902337 | D48: =VLOOKUP(C48,'2015'!$C$2:$C$551,1,FALSE) -> #N/A
A49: 42632 | B49: 42652 | C49: 3379819002053 | D49: =VLOOKUP(C49,'2015'!$C$2:$C$551,1,FALSE) -> #N/A
A50: 42632 | B50: 42652 | C50: 3252987118279 | D50: =VLOOKUP(C50,'2015'!$C$2:$C$551,1,FALSE) -> #N/A
A51: 42632 | B51: 42652 | C51: 3340487519952 | D51: =VLOOKUP(C51,'2015'!$C$2:$C$551,1,FALSE) -> #N/A
A52: 42632 | B52: 42652 | C52: 3300943616649 | D52: =VLOOKUP(C52,'2015'!$C$2:$C$551,1,FALSE) -> #N/A
A53: 42632 | B53: 42652 | C53: 3296180001532 | D53: =VLOOKUP(C53,'2015'!$C$2:$C$551,1,FALSE) -> #N/A
A54: 42632 | B54: 42652 | C54: 3760115292543 | D54: =VLOOKUP(C54,'2015'!$C$2:$C$551,1,FALSE) -> #N/A
A55: 42632 | B55: 42652 | C55: 3507110015261 | D55: =VLOOKUP(C55,'2015'!$C$2:$C$551,1,FALSE) -> 3507110015261
A56: 42632 | B56: 42652 | C56: 3760150613150 | D56: =VLOOKUP(C56,'2015'!$C$2:$C$551,1,FALSE) -> #N/A
... A59: 42632 | B59: 42652 | C59: 3760205332982 | D59: =VLOOKUP(C59,'2015'!$C$2:$C$551,1,FALSE) -> #N/A
C60: 3760165605836 | D60: =VLOOKUP(C60,'2015'!$C$2:$C$551,1,FALSE) -> #N/A
A61: 42632 | B61: 42652 | C61: 3395940531606 | D61: =VLOOKUP(C61,'2015'!$C$2:$C$551,1,FALSE) -> #N/A
A62: 42632 | B62: 42652 | C62: 3760062479776 | D62: =VLOOKUP(C62,'2015'!$C$2:$C$551,1,FALSE) -> #N/A
A63: 42632 | B63: 42652 | C63: 3760062479790 | D63: =VLOOKUP(C63,'2015'!$C$2:$C$551,1,FALSE) -> #N/A
A64: 42632 | B64: 42652 | C64: 3760008171818 | D64: =VLOOKUP(C64,'2015'!$C$2:$C$551,1,FALSE) -> #N/A
C65: 3760172576679 | D65: =VLOOKUP(C65,'2015'!$C$2:$C$551,1,FALSE) -> #N/A
A66: 42632 | B66: 42652 | C66: 3373160143502 | D66: =VLOOKUP(C66,'2015'!$C$2:$C$551,1,FALSE) -> #N/A
A67: 42632 | B67: 42652 | C67: 3570591010650 | D67: =VLOOKUP(C67,'2015'!$C$2:$C$551,1,FALSE) -> #N/A
A68: 42632 | B68: 42652 | C68: 3375030000236 | D68: =VLOOKUP(C68,'2015'!$C$2:$C$551,1,FALSE) -> #N/A
C69: 5605072703139 | D69: =VLOOKUP(C69,'2015'!$C$2:$C$551,1,FALSE) -> #N/A
A70: 42632 | B70: 42652 | C70: 3760036860128 | D70: =VLOOKUP(C70,'2015'!$C$2:$C$551,1,FALSE) -> #N/A
A71: 42632 | B71: 42652 | C71: 3468882112124 | D71: =VLOOKUP(C71,'2015'!$C$2:$C$551,1,FALSE) -> #N/A
...
