Workbook

Sheet 2015
A1: début promo | B1: fin promo | C1: gencod | D1: quantité vendue
A2: 42268 | B2: 42295 | C2: 3662321002025
A3: 42268 | B3: 42295 | C3: 3760117860498
A4: 42268 | B4: 42295 | C4: 3760165608097
A5: 42268 | B5: 42295 | C5: 3700438913169
A6: 42268 | B6: 42295 | C6: 3331451175564
A7: 42268 | B7: 42295 | C7: 3303292404790
A8: 42268 | B8: 42295 | C8: 3488330224704
A9: 42268 | B9: 42295 | C9: 3284399017161
A10: 42268 | B10: 42295 | C10: 3453521224207
A11: 42268 | B11: 42295 | C11: 3149070030726
A12: 42268 | B12: 42295 | C12: 3376820174830
A13: 42268 | B13: 42295 | C13: 3270250371831
... A281: 42268 | B281: 42295 | C281: 3760077986153
A282: 42268 | B282: 42295 | C282: 3760142051137 | D282: 1
A283: 42268 | B283: 42295 | C283: 3330541400104 | D283: 1
A284: 42268 | B284: 42295 | C284: 3272860016942 | D284: 1
A285: 42268 | B285: 42295 | C285: 8005829836009 | D285: 1
A286: 42268 | B286: 42295 | C286: 7804320087016 | D286: 1
A287: 42268 | B287: 42295 | C287: 3286171303127 | D287: 1
A288: 42268 | B288: 42295 | C288: 8410113003027 | D288: 1
A289: 42268 | B289: 42295 | C289: 3760177960923 | D289: 1
A290: 42268 | B290: 42295 | C290: 3760063163735 | D290: 1
A291: 42268 | B291: 42295 | C291: 3760172575016 | D291: 1
A292: 42268 | B292: 42295 | C292: 3760165608080 | D292: 1
A293: 42268 | B293: 42295 | C293: 3221244100449 | D293: 1
... A501: 42268 | B501: 42295 | C501: 3305490003065 | D501: 51
A502: 42268 | B502: 42295 | C502: 3282946010863
A503: 42268 | B503: 42295 | C503: 3554122000037
A504: 42268 | B504: 42295 | C504: 3469380630219
A505: 42268 | B505: 42295 | C505: 3338580026798
A506: 42268 | B506: 42295 | C506: 3760002336596
A507: 42268 | B507: 42295 | C507: 3570591013033
A508: 42268 | B508: 42295 | C508: 3282946014311
A509: 42268 | B509: 42295 | C509: 3530050000233
A510: 42268 | B510: 42295 | C510: 3770001040196
A511: 42268 | B511: 42295 | C511: 3570591013088
A512: 42268 | B512: 42295 | C512: 3282946101288
A513: 42268 | B513: 42295 | C513: 3282946014182
... A528: 42268 | B528: 42295 | C528: 3267986001262
A529: 42268 | B529: 42295 | C529: 3760002331591 | D529: 1
A530: 42268 | B530: 42295 | C530: 3282946010856 | D530: 1
A531: 42268 | B531: 42295 | C531: 3253950060083 | D531: 1
A532: 42268 | B532: 42295 | C532: 3433347036123 | D532: 2
A533: 42268 | B533: 42295 | C533: 3760064080024 | D533: 2
A534: 42268 | B534: 42295 | C534: 3253958000012 | D534: 2
A535: 42268 | B535: 42295 | C535: 3253951216175 | D535: 2
A536: 42268 | B536: 42295 | C536: 3554121234112 | D536: 3
A537: 42268 | B537: 42295 | C537: 3760166510146 | D537: 4
A538: 42268 | B538: 42295 | C538: 3434180000135 | D538: 4
A539: 42268 | B539: 42295 | C539: 3530050000226 | D539: 5
A540: 42268 | B540: 42295 | C540: 3338580025999 | D540: 5
... A546: 42268 | B546: 42295 | C546: 3570590107511 | D546: 98
A547: 42268 | B547: 42295 | C547: 3248842410053
A548: 42268 | B548: 42295 | C548: 3248842400054
A549: 42268 | B549: 42295 | C549: 3280790000054 | D549: 4
A550: 42268 | B550: 42295 | C550: 3193460000011 | D550: 7
A551: 42268 | B551: 42295 | C551: 3193460003517 | D551: 9

Sheet 2016
A1: début | B1: fin | C1: gencod | E1: quantité vendue
A2: 42632 | B2: 42652 | C2: 3258691522197 | D2: =VLOOKUP(C2,'2015'!$C$2:$C$551,1,FALSE) -> #N/A
A3: 42632 | B3: 42652 | C3: 3760088660028 | D3: =VLOOKUP(C3,'2015'!$C$2:$C$551,1,FALSE) -> #N/A
A4: 42632 | B4: 42652 | C4: 3480597340319 | D4: =VLOOKUP(C4,'2015'!$C$2:$C$551,1,FALSE) -> #N/A
A5: 42632 | B5: 42652 | C5: 3760039909732 | D5: =VLOOKUP(C5,'2015'!$C$2:$C$551,1,FALSE) -> #N/A
A6: 42632 | B6: 42652 | C6: 3571961005832 | D6: =VLOOKUP(C6,'2015'!$C$2:$C$551,1,FALSE) -> #N/A
A7: 42632 | B7: 42652 | C7: 3760062479783 | D7: =VLOOKUP(C7,'2015'!$C$2:$C$551,1,FALSE) -> #N/A
A8: 42632 | B8: 42652 | C8: 3512675637759 | D8: =VLOOKUP(C8,'2015'!$C$2:$C$551,1,FALSE) -> #N/A
A9: 42632 | B9: 42652 | C9: 3441941114109 | D9: =VLOOKUP(C9,'2015'!$C$2:$C$551,1,FALSE) -> #N/A
A10: 42632 | B10: 42652 | C10: 3279871015834 | D10: =VLOOKUP(C10,'2015'!$C$2:$C$551,1,FALSE) -> #N/A
A11: 42632 | B11: 42652 | C11: 3760171590355 | D11: =VLOOKUP(C11,'2015'!$C$2:$C$551,1,FALSE) -> #N/A
A12: 42632 | B12: 42652 | C12: 3760172575412 | D12: =VLOOKUP(C12,'2015'!$C$2:$C$551,1,FALSE) -> 3760172575412
A13: 42632 | B13: 42652 | C13: 3322728960051 | D13: =VLOOKUP(C13,'2015'!$C$2:$C$551,1,FALSE) -> #N/A
... A43: 42632 | B43: 42652 | C43: 3760031479776 | D43: =VLOOKUP(C43,'2015'!$C$2:$C$551,1,FALSE) -> #N/A
C44: 3760172576686 | D44: =VLOOKUP(C44,'2015'!$C$2:$C$551,1,FALSE) -> #N/A
A45: 42632 | B45: 42652 | C45: 3322728900040 | D45: =VLOOKUP(C45,'2015'!$C$2:$C$551,1,FALSE) -> #N/A
A46: 42632 | B46: 42652 | C46: 3267980630437 | D46: =VLOOKUP(C46,'2015'!$C$2:$C$551,1,FALSE) -> #N/A
A47: 42632 | B47: 42652 | C47: 3570591011480 | D47: =VLOOKUP(C47,'2015'!$C$2:$C$551,1,FALSE) -> #N/A
A48: 42632 | B48: 42652 | C48: 3760039902337 | D48: =VLOOKUP(C48,'2015'!$C$2:$C$551,1,FALSE) -> #N/A
A49: 42632 | B49: 42652 | C49: 3379819002053 | D49: =VLOOKUP(C49,'2015'!$C$2:$C$551,1,FALSE) -> #N/A
A50: 42632 | B50: 42652 | C50: 3252987118279 | D50: =VLOOKUP(C50,'2015'!$C$2:$C$551,1,FALSE) -> #N/A
A51: 42632 | B51: 42652 | C51: 3340487519952 | D51: =VLOOKUP(C51,'2015'!$C$2:$C$551,1,FALSE) -> #N/A
A52: 42632 | B52: 42652 | C52: 3300943616649 | D52: =VLOOKUP(C52,'2015'!$C$2:$C$551,1,FALSE) -> #N/A
A53: 42632 | B53: 42652 | C53: 3296180001532 | D53: =VLOOKUP(C53,'2015'!$C$2:$C$551,1,FALSE) -> #N/A
A54: 42632 | B54: 42652 | C54: 3760115292543 | D54: =VLOOKUP(C54,'2015'!$C$2:$C$551,1,FALSE) -> #N/A
A55: 42632 | B55: 42652 | C55: 3507110015261 | D55: =VLOOKUP(C55,'2015'!$C$2:$C$551,1,FALSE) -> 3507110015261
A56: 42632 | B56: 42652 | C56: 3760150613150 | D56: =VLOOKUP(C56,'2015'!$C$2:$C$551,1,FALSE) -> #N/A
... A59: 42632 | B59: 42652 | C59: 3760205332982 | D59: =VLOOKUP(C59,'2015'!$C$2:$C$551,1,FALSE) -> #N/A
C60: 3760165605836 | D60: =VLOOKUP(C60,'2015'!$C$2:$C$551,1,FALSE) -> #N/A
A61: 42632 | B61: 42652 | C61: 3395940531606 | D61: =VLOOKUP(C61,'2015'!$C$2:$C$551,1,FALSE) -> #N/A
A62: 42632 | B62: 42652 | C62: 3760062479776 | D62: =VLOOKUP(C62,'2015'!$C$2:$C$551,1,FALSE) -> #N/A
A63: 42632 | B63: 42652 | C63: 3760062479790 | D63: =VLOOKUP(C63,'2015'!$C$2:$C$551,1,FALSE) -> #N/A
A64: 42632 | B64: 42652 | C64: 3760008171818 | D64: =VLOOKUP(C64,'2015'!$C$2:$C$551,1,FALSE) -> #N/A
C65: 3760172576679 | D65: =VLOOKUP(C65,'2015'!$C$2:$C$551,1,FALSE) -> #N/A
A66: 42632 | B66: 42652 | C66: 3373160143502 | D66: =VLOOKUP(C66,'2015'!$C$2:$C$551,1,FALSE) -> #N/A
A67: 42632 | B67: 42652 | C67: 3570591010650 | D67: =VLOOKUP(C67,'2015'!$C$2:$C$551,1,FALSE) -> #N/A
A68: 42632 | B68: 42652 | C68: 3375030000236 | D68: =VLOOKUP(C68,'2015'!$C$2:$C$551,1,FALSE) -> #N/A
C69: 5605072703139 | D69: =VLOOKUP(C69,'2015'!$C$2:$C$551,1,FALSE) -> #N/A
A70: 42632 | B70: 42652 | C70: 3760036860128 | D70: =VLOOKUP(C70,'2015'!$C$2:$C$551,1,FALSE) -> #N/A
A71: 42632 | B71: 42652 | C71: 3468882112124 | D71: =VLOOKUP(C71,'2015'!$C$2:$C$551,1,FALSE) -> #N/A
A72: 42632 | B72: 42652 | C72: 3760043999934 | D72: =VLOOKUP(C72,'2015'!$C$2:$C$551,1,FALSE) -> #N/A
A73: 42632 | B73: 42652 | C73: 3338480013393 | D73: =VLOOKUP(C73,'2015'!$C$2:$C$551,1,FALSE) -> 3338480013393
A74: 42632 | B74: 42652 | C74: 3279980049966 | D74: =VLOOKUP(C74,'2015'!$C$2:$C$551,1,FALSE) -> #N/A
A75: 42632 | B75: 42652 | C75: 3356208131518 | D75: =VLOOKUP(C75,'2015'!$C$2:$C$551,1,FALSE) -> #N/A
A76: 42632 | B76: 42652 | C76: 3760062479806 | D76: =VLOOKUP(C76,'2015'!$C$2:$C$551,1,FALSE) -> #N/A
A77: 42632 | B77: 42652 | C77: 3497540000626 | D77: =VLOOKUP(C77,'2015'!$C$2:$C$551,1,FALSE) -> #N/A
A78: 42632 | B78: 42652 | C78: 3288570073625 | D78: =VLOOKUP(C78,'2015'!$C$2:$C$551,1,FALSE) -> #N/A
A79: 42632 | B79: 42652 | C79: 3463640013897 | D79: =VLOOKUP(C79,'2015'!$C$2:$C$551,1,FALSE) -> #N/A
A80: 42632 | B80: 42652 | C80: 3760062479769 | D80: =VLOOKUP(C80,'2015'!$C$2:$C$551,1,FALSE) -> #N/A
A81: 42632 | B81: 42652 | C81: 3463640613493 | D81: =VLOOKUP(C81,'2015'!$C$2:$C$551,1,FALSE) -> #N/A
... A171: 42632 | B171: 42652 | C171: 3305490003034 | D171: =VLOOKUP(C171,'2015'!$C$2:$C$551,1,FALSE) -> 3305490003034
C172: 3760138690692 | D172: =VLOOKUP(C172,'2015'!$C$2:$C$551,1,FALSE) -> #N/A
A173: 42632 | B173: 42652 | C173: 3760008885395 | D173: =VLOOKUP(C173,'2015'!$C$2:$C$551,1,FALSE) -> #N/A
A174: 42632 | B174: 42652 | C174: 3760062479431 | D174: =VLOOKUP(C174,'2015'!$C$2:$C$551,1,FALSE) -> #N/A
A175: 42632 | B175: 42652 | C175: 3760006320317 | D175: =VLOOKUP(C175,'2015'!$C$2:$C$551,1,FALSE) -> #N/A
A176: 42632 | B176: 42652 | C176: 3221249550348 | D176: =VLOOKUP(C176,'2015'!$C$2:$C$551,1,FALSE) -> #N/A
A177: 42632 | B177: 42652 | C177: 3379431691598 | D177: =VLOOKUP(C177,'2015'!$C$2:$C$551,1,FALSE) -> #N/A
A178: 42632 | B178: 42652 | C178: 3379431231404 | D178: =VLOOKUP(C178,'2015'!$C$2:$C$551,1,FALSE) -> #N/A
A179: 42632 | B179: 42652 | C179: 3289850079207 | D179: =VLOOKUP(C179,'2015'!$C$2:$C$551,1,FALSE) -> #N/A
A180: 42632 | B180: 42652 | C180: 3508691114404 | D180: =VLOOKUP(C180,'2015'!$C$2:$C$551,1,FALSE) -> #N/A
A181: 42632 | B181: 42652 | C181: 3760234190287 | D181: =VLOOKUP(C181,'2015'!$C$2:$C$551,1,FALSE) -> #N/A
A182: 42632 | B182: 42652 | C182: 3445520001248 | D182: =VLOOKUP(C182,'2015'!$C$2:$C$551,1,FALSE) -> #N/A
A183: 42632 | B183: 42652 | C183: 3330620018367 | D183: =VLOOKUP(C183,'2015'!$C$2:$C$551,1,FALSE) -> #N/A
A184: 42632 | B184: 42652 | C184: 3760121554567 | D184: =VLOOKUP(C184,'2015'!$C$2:$C$551,1,FALSE) -> #N/A
... A201: 42632 | B201: 42652 | C201: 3760165606048 | D201: =VLOOKUP(C201,'2015'!$C$2:$C$551,1,FALSE) -> #N/A
C202: 3365300015206 | D202: =VLOOKUP(C202,'2015'!$C$2:$C$551,1,FALSE) -> #N/A
A203: 42632 | B203: 42652 | C203: 3219850650809 | D203: =VLOOKUP(C203,'2015'!$C$2:$C$551,1,FALSE) -> #N/A
A204: 42632 | B204: 42652 | C204: 3760077980441 | D204: =VLOOKUP(C204,'2015'!$C$2:$C$551,1,FALSE) -> #N/A
A205: 42632 | B205: 42652 | C205: 3221249500343 | D205: =VLOOKUP(C205,'2015'!$C$2:$C$551,1,FALSE) -> #N/A
A206: 42632 | B206: 42652 | C206: 3298480868242 | D206: =VLOOKUP(C206,'2015'!$C$2:$C$551,1,FALSE) -> #N/A
A207: 42632 | B207: 42652 | C207: 3463640013873 | D207: =VLOOKUP(C207,'2015'!$C$2:$C$551,1,FALSE) -> #N/A
C208: 3760165605843 | D208: =VLOOKUP(C208,'2015'!$C$2:$C$551,1,FALSE) -> #N/A
A209: 42632 | B209: 42652 | C209: 3760068640088 | D209: =VLOOKUP(C209,'2015'!$C$2:$C$551,1,FALSE) -> #N/A
A210: 42632 | B210: 42652 | C210: 3508691114428 | D210: =VLOOKUP(C210,'2015'!$C$2:$C$551,1,FALSE) -> #N/A
A211: 42632 | B211: 42652 | C211: 3290210750940 | D211: =VLOOKUP(C211,'2015'!$C$2:$C$551,1,FALSE) -> #N/A
A212: 42632 | B212: 42652 | C212: 3760121554277 | D212: =VLOOKUP(C212,'2015'!$C$2:$C$551,1,FALSE) -> #N/A
A213: 42632 | B213: 42652 | C213: 3760234471324 | D213: =VLOOKUP(C213,'2015'!$C$2:$C$551,1,FALSE) -> #N/A
C214: 3305490050311 | D214: =VLOOKUP(C214,'2015'!$C$2:$C$551,1,FALSE) -> #N/A
A215: 42632 | B215: 42652 | C215: 3760121553454 | D215: =VLOOKUP(C215,'2015'!$C$2:$C$551,1,FALSE) -> #N/A
A216: 42632 | B216: 42652 | C216: 3330620017896 | D216: =VLOOKUP(C216,'2015'!$C$2:$C$551,1,FALSE) -> #N/A
C217: 3497540002712 | D217: =VLOOKUP(C217,'2015'!$C$2:$C$551,1,FALSE) -> #N/A
A218: 42632 | B218: 42652 | C218: 3219850048248 | D218: =VLOOKUP(C218,'2015'!$C$2:$C$551,1,FALSE) -> #N/A
A219: 42632 | B219: 42652 | C219: 3142640616580 | D219: =VLOOKUP(C219,'2015'!$C$2:$C$551,1,FALSE) -> #N/A
A220: 42632 | B220: 42652 | C220: 3303292510071 | D220: =VLOOKUP(C220,'2015'!$C$2:$C$551,1,FALSE) -> #N/A
A221: 42632 | B221: 42652 | C221: 3399733216756 | D221: =VLOOKUP(C221,'2015'!$C$2:$C$551,1,FALSE) -> #N/A
A222: 42632 | B222: 42652 | C222: 3450301134640 | D222: =VLOOKUP(C222,'2015'!$C$2:$C$551,1,FALSE) -> #N/A
A223: 42632 | B223: 42652 | C223: 3760192150033 | D223: =VLOOKUP(C223,'2015'!$C$2:$C$551,1,FALSE) -> #N/A
A224: 42632 | B224: 42652 | C224: 3493399011547 | D224: =VLOOKUP(C224,'2015'!$C$2:$C$551,1,FALSE) -> #N/A
A225: 42632 | B225: 42652 | C225: 3475290013141 | D225: =VLOOKUP(C225,'2015'!$C$2:$C$551,1,FALSE) -> #N/A
A226: 42632 | B226: 42652 | C226: 3221249400445 | D226: =VLOOKUP(C226,'2015'!$C$2:$C$551,1,FALSE) -> #N/A
A227: 42632 | B227: 42652 | C227: 3286171432049 | D227: =VLOOKUP(C227,'2015'!$C$2:$C$551,1,FALSE) -> #N/A
A228: 42632 | B228: 42652 | C228: 3375030000175 | D228: =VLOOKUP(C228,'2015'!$C$2:$C$551,1,FALSE) -> #N/A
A229: 42632 | B229: 42652 | C229: 3303292600079 | D229: =VLOOKUP(C229,'2015'!$C$2:$C$551,1,FALSE) -> #N/A
... A255: 42632 | B255: 42652 | C255: 3760040161235 | D255: =VLOOKUP(C255,'2015'!$C$2:$C$551,1,FALSE) -> #N/A
C256: 3760165606031 | D256: =VLOOKUP(C256,'2015'!$C$2:$C$551,1,FALSE) -> #N/A
A257: 42632 | B257: 42652 | C257: 3148591404238 | D257: =VLOOKUP(C257,'2015'!$C$2:$C$551,1,FALSE) -> #N/A
A258: 42632 | B258: 42652 | C258: 3604894728759 | D258: =VLOOKUP(C258,'2015'!$C$2:$C$551,1,FALSE) -> #N/A
A259: 42632 | B259: 42652 | C259: 5601012020557 | D259: =VLOOKUP(C259,'2015'!$C$2:$C$551,1,FALSE) -> #N/A
A260: 42632 | B260: 42652 | C260: 3547411501575 | D260: =VLOOKUP(C260,'2015'!$C$2:$C$551,1,FALSE) -> #N/A
A261: 42632 | B261: 42652 | C261: 3760031479769 | D261: =VLOOKUP(C261,'2015'!$C$2:$C$551,1,FALSE) -> #N/A
...
