Workbook

Sheet Salariés
A1: Id | B1: Nom | C1: Prénoms | D1: Genres | E1: Âge
A2: JA | B2: Andrea | C2: Jacques | D2: H | E2: 21 ans
A3: JAU | B3: Aubry | C3: Jeanne | D3: F | E3: 24 ans
A4: BB | B4: Bouffon | C4: Rémis | D4: H | E4: 30 ans
A5: AC | B5: Cesaire | C5: Aimé | D5: H | E5: 25 ans
A6: MC | B6: Curie | C6: Marie | D6: F | E6: 30 ans
A7: JF | B7: François | C7: Jean | D7: H | E7: 32 ans
A8: MG | B8: Grigoux | C8: Matthieu | D8: H | E8: 27 ans
A9: FJ | B9: Jacquot | C9: François | D9: H | E9: 28 ans
A10: MP | B10: Poisson | C10: Martine | D10: F | E10: 30 ans
A11: MPR | B11: Proust | C11: Marcelle | D11: F | E11: 29 ans
A12: HS | B12: Sarkazymito | C12: Holanie | D12: F | E12: 28 ans
A13: GW | B13: Washington | C13: George | D13: H | E13: 23 ans

Sheet Contrats
A1: Id | B1: Nom | C1: Prenom | D1: Poste | E1: Type poste | F1: Statut | G1: Début contrat | H1: Fin contrat | I1: Type contrat | J1: Année Début | K1: Année Fin
A2: JA | B2: {=INDEX(Salariés!B:B,MATCH(A2,Salariés!A:A,0))} -> Andrea | C2: {=INDEX(Salariés!C:C,MATCH(A2,Salariés!A:A,0))} -> Jacques | D2: Manager SI | E2: CDI | F2: Cadre | H2: -' | I2: Contrat de base | J2: 2014 | K2: 2015
A3: JA | B3: {=INDEX(Salariés!B:B,MATCH(A3,Salariés!A:A,0))} -> Andrea | C3: {=INDEX(Salariés!C:C,MATCH(A3,Salariés!A:A,0))} -> Jacques | D3: Manager SI | E3: CDI | F3: Cadre | G3: -' | H3: -' | I3: Avenant | J3: 2015 | K3: 2015
A4: JA | B4: {=INDEX(Salariés!B:B,MATCH(A4,Salariés!A:A,0))} -> Andrea | C4: {=INDEX(Salariés!C:C,MATCH(A4,Salariés!A:A,0))} -> Jacques | D4: Manager SI | E4: CDI | F4: Cadre | G4: -' | H4: -' | I4: Avenant | J4: 2016 | K4: 2016
A5: JA | B5: {=INDEX(Salariés!B:B,MATCH(A5,Salariés!A:A,0))} -> Andrea | C5: {=INDEX(Salariés!C:C,MATCH(A5,Salariés!A:A,0))} -> Jacques | D5: Manager SI | E5: CDI | F5: Cadre | G5: -' | H5: -' | I5: Avenant | J5: 2016 | K5: 2017
A6: JAU | B6: {=INDEX(Salariés!B:B,MATCH(A6,Salariés!A:A,0))} -> Aubry | C6: {=INDEX(Salariés!C:C,MATCH(A6,Salariés!A:A,0))} -> Jeanne | D6: Comptable | E6: CDI | F6: Cadre | G6: -' | H6: -' | I6: Contrat de base | J6: 2014 | K6: 2017
A7: BB | B7: {=INDEX(Salariés!B:B,MATCH(A7,Salariés!A:A,0))} -> Bouffon | C7: {=INDEX(Salariés!C:C,MATCH(A7,Salariés!A:A,0))} -> Rémis | D7: PDG | E7: CDI | F7: Cadre | G7: -' | H7: -' | I7: Contrat de base | J7: 2014 | K7: 2015
A8: BB | B8: {=INDEX(Salariés!B:B,MATCH(A8,Salariés!A:A,0))} -> Bouffon | C8: {=INDEX(Salariés!C:C,MATCH(A8,Salariés!A:A,0))} -> Rémis | D8: PDG | E8: CDI | F8: Cadre | G8: -' | H8: -' | I8: Avenant | J8: 2015 | K8: 2015
A9: BB | B9: {=INDEX(Salariés!B:B,MATCH(A9,Salariés!A:A,0))} -> Bouffon | C9: {=INDEX(Salariés!C:C,MATCH(A9,Salariés!A:A,0))} -> Rémis | D9: PDG | E9: CDI | F9: Cadre | G9: -' | H9: -' | I9: Avenant | J9: 2016 | K9: 2017
A10: AC | B10: {=INDEX(Salariés!B:B,MATCH(A10,Salariés!A:A,0))} -> Cesaire | C10: {=INDEX(Salariés!C:C,MATCH(A10,Salariés!A:A,0))} -> Aimé | D10: Manager SI | E10: CDD | F10: Cadre | G10: -' | H10: -' | I10: Contrat de base | J10: 2014 | K10: 2017
A11: MC | B11: {=INDEX(Salariés!B:B,MATCH(A11,Salariés!A:A,0))} -> Curie | C11: {=INDEX(Salariés!C:C,MATCH(A11,Salariés!A:A,0))} -> Marie | D11: DRH | E11: CDI | F11: Cadre | G11: -' | H11: -' | I11: Avenant | J11: 2014 | K11: 2014
A12: MC | B12: {=INDEX(Salariés!B:B,MATCH(A12,Salariés!A:A,0))} -> Curie | C12: {=INDEX(Salariés!C:C,MATCH(A12,Salariés!A:A,0))} -> Marie | D12: DRH | E12: CDI | F12: Cadre | G12: -' | H12: -' | I12: Avenant | J12: 2014 | K12: 2015
A13: MC | B13: {=INDEX(Salariés!B:B,MATCH(A13,Salariés!A:A,0))} -> Curie | C13: {=INDEX(Salariés!C:C,MATCH(A13,Salariés!A:A,0))} -> Marie | D13: DRH | E13: CDI | F13: Cadre | G13: -' | H13: -' | I13: Avenant | J13: 2015 | K13: 2016
A14: MC | B14: {=INDEX(Salariés!B:B,MATCH(A14,Salariés!A:A,0))} -> Curie | C14: {=INDEX(Salariés!C:C,MATCH(A14,Salariés!A:A,0))} -> Marie | D14: DRH | E14: CDI | F14: Cadre | G14: -' | H14: -' | I14: Avenant | J14: 2016 | K14: 2017
... A26: GW | B26: {=INDEX(Salariés!B:B,MATCH(A26,Salariés!A:A,0))} -> Washington | C26: {=INDEX(Salariés!C:C,MATCH(A26,Salariés!A:A,0))} -> George | D26: Manager SI | E26: CDI | F26: Cadre | G26: -' | H26: -' | I26: Contrat de base | J26: 2015 | K26: 2017

Sheet Formation
A1: Id | B1: Nom | C1: Prénom | D1: Centre de formation | E1: Type de formation | F1: Année de formation
A2: JA | B2: =INDEX(Salariés!B:B,MATCH(A2,Salariés!A:A,0)) -> Andrea | C2: =INDEX(Salariés!C:C,MATCH(A2,Salariés!A:A,0)) -> Jacques | D2: IT Center de Rouen | E2: Adaptation | F2: 2015
A3: JA | B3: =INDEX(Salariés!B:B,MATCH(A3,Salariés!A:A,0)) -> Andrea | C3: =INDEX(Salariés!C:C,MATCH(A3,Salariés!A:A,0)) -> Jacques | D3: IT Center de Rouen | E3: Adaptation | F3: 2015
A4: JA | B4: =INDEX(Salariés!B:B,MATCH(A4,Salariés!A:A,0)) -> Andrea | C4: =INDEX(Salariés!C:C,MATCH(A4,Salariés!A:A,0)) -> Jacques | D4: IT Center de Rouen | E4: Adaptation | F4: 2016
A5: JAU | B5: =INDEX(Salariés!B:B,MATCH(A5,Salariés!A:A,0)) -> Aubry | C5: =INDEX(Salariés!C:C,MATCH(A5,Salariés!A:A,0)) -> Jeanne | D5: CCI | E5: Développement | F5: 2015 | I5: * un salarié ne sera compter qu'une seule fois pour une année.
A6: JAU | B6: =INDEX(Salariés!B:B,MATCH(A6,Salariés!A:A,0)) -> Aubry | C6: =INDEX(Salariés!C:C,MATCH(A6,Salariés!A:A,0)) -> Jeanne | D6: CCI | E6: Développement | F6: 2015 | I6: 2015 | J6: Effectfif Hommes formés | K6: Effectifs femmes formées
A7: JAU | B7: =INDEX(Salariés!B:B,MATCH(A7,Salariés!A:A,0)) -> Aubry | C7: =INDEX(Salariés!C:C,MATCH(A7,Salariés!A:A,0)) -> Jeanne | D7: CCI | E7: Développement | F7: 2016 | I7: Catégories Professionnelles
A8: MC | B8: =INDEX(Salariés!B:B,MATCH(A8,Salariés!A:A,0)) -> Curie | C8: =INDEX(Salariés!C:C,MATCH(A8,Salariés!A:A,0)) -> Marie | D8: CCI | E8: Développement | F8: 2016 | I8: Cadres
A9: MC | B9: =INDEX(Salariés!B:B,MATCH(A9,Salariés!A:A,0)) -> Curie | C9: =INDEX(Salariés!C:C,MATCH(A9,Salariés!A:A,0)) -> Marie | D9: CCI | E9: Développement | F9: 2016 | I9: Non cadres
A10: JF | B10: =INDEX(Salariés!B:B,MATCH(A10,Salariés!A:A,0)) -> François | C10: =INDEX(Salariés!C:C,MATCH(A10,Salariés!A:A,0)) -> Jean | D10: IT Center de Rouen | E10: Adaptation | F10: 2015 | I10: Total
A11: JF | B11: =INDEX(Salariés!B:B,MATCH(A11,Salariés!A:A,0)) -> François | C11: =INDEX(Salariés!C:C,MATCH(A11,Salariés!A:A,0)) -> Jean | D11: IT Center de Rouen | E11: Adaptation | F11: 2015
A12: JF | B12: =INDEX(Salariés!B:B,MATCH(A12,Salariés!A:A,0)) -> François | C12: =INDEX(Salariés!C:C,MATCH(A12,Salariés!A:A,0)) -> Jean | D12: IT Center de Rouen | E12: Adaptation | F12: 2016
A13: JF | B13: =INDEX(Salariés!B:B,MATCH(A13,Salariés!A:A,0)) -> François | C13: =INDEX(Salariés!C:C,MATCH(A13,Salariés!A:A,0)) -> Jean | D13: IT Center de Rouen | E13: Adaptation | F13: 2016
A14: MP | B14: =INDEX(Salariés!B:B,MATCH(A14,Salariés!A:A,0)) -> Poisson | C14: =INDEX(Salariés!C:C,MATCH(A14,Salariés!A:A,0)) -> Martine | D14: CCI | E14: Développement | F14: 2015
A15: MP | B15: =INDEX(Salariés!B:B,MATCH(A15,Salariés!A:A,0)) -> Poisson | C15: =INDEX(Salariés!C:C,MATCH(A15,Salariés!A:A,0)) -> Martine | D15: CCI | E15: Développement | F15: 2015
A16: MP | B16: =INDEX(Salariés!B:B,MATCH(A16,Salariés!A:A,0)) -> Poisson | C16: =INDEX(Salariés!C:C,MATCH(A16,Salariés!A:A,0)) -> Martine | D16: CCI | E16: Développement | F16: 2016
A17: GW | B17: =INDEX(Salariés!B:B,MATCH(A17,Salariés!A:A,0)) -> Washington | C17: =INDEX(Salariés!C:C,MATCH(A17,Salariés!A:A,0)) -> George | D17: IT Center de Rouen | E17: Adaptation | F17: 2015
A18: GW | B18: =INDEX(Salariés!B:B,MATCH(A18,Salariés!A:A,0)) -> Washington | C18: =INDEX(Salariés!C:C,MATCH(A18,Salariés!A:A,0)) -> George | D18: IT Center de Rouen | E18: Adaptation | F18: 2016
A19: GW | B19: =INDEX(Salariés!B:B,MATCH(A19,Salariés!A:A,0)) -> Washington | C19: =INDEX(Salariés!C:C,MATCH(A19,Salariés!A:A,0)) -> George | D19: IT Center de Rouen | E19: Adaptation | F19: 2016
