Workbook

Sheet Feuil1
A6: référence | B6: quantité
A8: 459872 | B8: 100
A9: 3698752 | B9: 300
A11: 358952 | B11: 800
A13: 155998 | B13: 20
A16: 15596898 | B16: 78

Sheet synthèse
A8: référence | B8: quantité | E8: référence | F8: quantité
A9: =IF(Feuil1!A7="","",Feuil1!A7) | B9: =IF(Feuil1!B7="","",Feuil1!B7) | E9: =IF(ROW()-8>MAX($I$9:$I$18),"",INDEX($A$9:$A$18,MATCH(ROW()-8,$I$9:$I$18,0))) -> 459872 | F9: =IF(ROW()-8>MAX($I$9:$I$18),"",INDEX($B$9:$B$18,MATCH(ROW()-8,$I$9:$I$18,0))) -> 100 | H9: =IF((A9<>""),1,0) -> 0 | I9: =IF($H9=1,MAX($I$8:$I8)+1,"")
A10: =IF(Feuil1!A8="","",Feuil1!A8) -> 459872 | B10: =IF(Feuil1!B8="","",Feuil1!B8) -> 100 | E10: =IF(ROW()-8>MAX($I$9:$I$18),"",INDEX($A$9:$A$18,MATCH(ROW()-8,$I$9:$I$18,0))) -> 3698752 | F10: =IF(ROW()-8>MAX($I$9:$I$18),"",INDEX($B$9:$B$18,MATCH(ROW()-8,$I$9:$I$18,0))) -> 300 | H10: =IF((A10<>""),1,0) -> 1 | I10: =IF($H10=1,MAX($I$8:$I9)+1,"") -> 1
A11: =IF(Feuil1!A9="","",Feuil1!A9) -> 3698752 | B11: =IF(Feuil1!B9="","",Feuil1!B9) -> 300 | E11: =IF(ROW()-8>MAX($I$9:$I$18),"",INDEX($A$9:$A$18,MATCH(ROW()-8,$I$9:$I$18,0))) -> 358952 | F11: =IF(ROW()-8>MAX($I$9:$I$18),"",INDEX($B$9:$B$18,MATCH(ROW()-8,$I$9:$I$18,0))) -> 800 | H11: =IF((A11<>""),1,0) -> 1 | I11: =IF($H11=1,MAX($I$8:$I10)+1,"") -> 2
A12: =IF(Feuil1!A10="","",Feuil1!A10) | B12: =IF(Feuil1!B10="","",Feuil1!B10) | E12: =IF(ROW()-8>MAX($I$9:$I$18),"",INDEX($A$9:$A$18,MATCH(ROW()-8,$I$9:$I$18,0))) -> 155998 | F12: =IF(ROW()-8>MAX($I$9:$I$18),"",INDEX($B$9:$B$18,MATCH(ROW()-8,$I$9:$I$18,0))) -> 20 | H12: =IF((A12<>""),1,0) -> 0 | I12: =IF($H12=1,MAX($I$8:$I11)+1,"")
A13: =IF(Feuil1!A11="","",Feuil1!A11) -> 358952 | B13: =IF(Feuil1!B11="","",Feuil1!B11) -> 800 | E13: =IF(ROW()-8>MAX($I$9:$I$18),"",INDEX($A$9:$A$18,MATCH(ROW()-8,$I$9:$I$18,0))) -> 15596898 | F13: =IF(ROW()-8>MAX($I$9:$I$18),"",INDEX($B$9:$B$18,MATCH(ROW()-8,$I$9:$I$18,0))) -> 78 | H13: =IF((A13<>""),1,0) -> 1 | I13: =IF($H13=1,MAX($I$8:$I12)+1,"") -> 3
A14: =IF(Feuil1!A12="","",Feuil1!A12) | B14: =IF(Feuil1!B12="","",Feuil1!B12) | E14: =IF(ROW()-8>MAX($I$9:$I$18),"",INDEX($A$9:$A$18,MATCH(ROW()-8,$I$9:$I$18,0))) | F14: =IF(ROW()-8>MAX($I$9:$I$18),"",INDEX($B$9:$B$18,MATCH(ROW()-8,$I$9:$I$18,0))) | H14: =IF((A14<>""),1,0) -> 0 | I14: =IF($H14=1,MAX($I$8:$I13)+1,"")
A15: =IF(Feuil1!A13="","",Feuil1!A13) -> 155998 | B15: =IF(Feuil1!B13="","",Feuil1!B13) -> 20 | E15: =IF(ROW()-8>MAX($I$9:$I$18),"",INDEX($A$9:$A$18,MATCH(ROW()-8,$I$9:$I$18,0))) | F15: =IF(ROW()-8>MAX($I$9:$I$18),"",INDEX($B$9:$B$18,MATCH(ROW()-8,$I$9:$I$18,0))) | H15: =IF((A15<>""),1,0) -> 1 | I15: =IF($H15=1,MAX($I$8:$I14)+1,"") -> 4
A16: =IF(Feuil1!A14="","",Feuil1!A14) | B16: =IF(Feuil1!B14="","",Feuil1!B14) | E16: =IF(ROW()-8>MAX($I$9:$I$18),"",INDEX($A$9:$A$18,MATCH(ROW()-8,$I$9:$I$18,0))) | F16: =IF(ROW()-8>MAX($I$9:$I$18),"",INDEX($B$9:$B$18,MATCH(ROW()-8,$I$9:$I$18,0))) | H16: =IF((A16<>""),1,0) -> 0 | I16: =IF($H16=1,MAX($I$8:$I15)+1,"")
A17: =IF(Feuil1!A15="","",Feuil1!A15) | B17: =IF(Feuil1!B15="","",Feuil1!B15) | E17: =IF(ROW()-8>MAX($I$9:$I$18),"",INDEX($A$9:$A$18,MATCH(ROW()-8,$I$9:$I$18,0))) | F17: =IF(ROW()-8>MAX($I$9:$I$18),"",INDEX($B$9:$B$18,MATCH(ROW()-8,$I$9:$I$18,0))) | H17: =IF((A17<>""),1,0) -> 0 | I17: =IF($H17=1,MAX($I$8:$I16)+1,"")
A18: =IF(Feuil1!A16="","",Feuil1!A16) -> 15596898 | B18: =IF(Feuil1!B16="","",Feuil1!B16) -> 78 | E18: =IF(ROW()-8>MAX($I$9:$I$18),"",INDEX($A$9:$A$18,MATCH(ROW()-8,$I$9:$I$18,0))) | F18: =IF(ROW()-8>MAX($I$9:$I$18),"",INDEX($B$9:$B$18,MATCH(ROW()-8,$I$9:$I$18,0))) | H18: =IF((A18<>""),1,0) -> 1 | I18: =IF($H18=1,MAX($I$8:$I17)+1,"") -> 5
A23: pas comme ça | E23: comme ça
