Workbook

Sheet Feuil1
A1: AZERTY
A2: Yukon
A3: Qsdfg
A4: Qsdfg
A5: AZERTY
A6: AZERTY
A7: AZERTY
A8: Yukon
A9: Yukon

Sheet Feuil2
A2: =IF(Feuil1!A1<>"",Feuil1!A1,"") -> AZERTY | C2: NOMBRE
A3: =IF(Feuil1!A2<>"",Feuil1!A2,"") -> Yukon | B3: {=INDEX($A:$A,MIN(IF(COUNTIF(B$2:B2,$A$2:$A$20)=0,ROW($A$2:$A$20))))&""} -> AZERTY | C3: =IF($B3<>"",COUNTIF($A$2:$A$20,$B3),"") -> 4
A4: =IF(Feuil1!A3<>"",Feuil1!A3,"") -> Qsdfg | B4: {=INDEX($A:$A,MIN(IF(COUNTIF(B$2:B3,$A$2:$A$20)=0,ROW($A$2:$A$20))))&""} -> Yukon | C4: =IF($B4<>"",COUNTIF($A$2:$A$20,$B4),"") -> 3
A5: =IF(Feuil1!A4<>"",Feuil1!A4,"") -> Qsdfg | B5: {=INDEX($A:$A,MIN(IF(COUNTIF(B$2:B4,$A$2:$A$20)=0,ROW($A$2:$A$20))))&""} -> Qsdfg | C5: =IF($B5<>"",COUNTIF($A$2:$A$20,$B5),"") -> 2
A6: =IF(Feuil1!A5<>"",Feuil1!A5,"") -> AZERTY | B6: {=INDEX($A:$A,MIN(IF(COUNTIF(B$2:B5,$A$2:$A$20)=0,ROW($A$2:$A$20))))&""} | C6: =IF($B6<>"",COUNTIF($A$2:$A$20,$B6),"")
A7: =IF(Feuil1!A6<>"",Feuil1!A6,"") -> AZERTY | B7: {=INDEX($A:$A,MIN(IF(COUNTIF(B$2:B6,$A$2:$A$20)=0,ROW($A$2:$A$20))))&""} | C7: =IF($B7<>"",COUNTIF($A$2:$A$20,$B7),"")
A8: =IF(Feuil1!A7<>"",Feuil1!A7,"") -> AZERTY | B8: {=INDEX($A:$A,MIN(IF(COUNTIF(B$2:B7,$A$2:$A$20)=0,ROW($A$2:$A$20))))&""} | C8: =IF($B8<>"",COUNTIF($A$2:$A$20,$B8),"")
A9: =IF(Feuil1!A8<>"",Feuil1!A8,"") -> Yukon | B9: {=INDEX($A:$A,MIN(IF(COUNTIF(B$2:B8,$A$2:$A$20)=0,ROW($A$2:$A$20))))&""} | C9: =IF($B9<>"",COUNTIF($A$2:$A$20,$B9),"")
A10: =IF(Feuil1!A9<>"",Feuil1!A9,"") -> Yukon | B10: {=INDEX($A:$A,MIN(IF(COUNTIF(B$2:B9,$A$2:$A$20)=0,ROW($A$2:$A$20))))&""} | C10: =IF($B10<>"",COUNTIF($A$2:$A$20,$B10),"")
A11: =IF(Feuil1!A10<>"",Feuil1!A10,"") | B11: {=INDEX($A:$A,MIN(IF(COUNTIF(B$2:B10,$A$2:$A$20)=0,ROW($A$2:$A$20))))&""} | C11: =IF($B11<>"",COUNTIF($A$2:$A$20,$B11),"")
A12: =IF(Feuil1!A11<>"",Feuil1!A11,"") | B12: {=INDEX($A:$A,MIN(IF(COUNTIF(B$2:B11,$A$2:$A$20)=0,ROW($A$2:$A$20))))&""} | C12: =IF($B12<>"",COUNTIF($A$2:$A$20,$B12),"")
A13: =IF(Feuil1!A12<>"",Feuil1!A12,"") | B13: {=INDEX($A:$A,MIN(IF(COUNTIF(B$2:B12,$A$2:$A$20)=0,ROW($A$2:$A$20))))&""} | C13: =IF($B13<>"",COUNTIF($A$2:$A$20,$B13),"")
A14: =IF(Feuil1!A13<>"",Feuil1!A13,"") | B14: {=INDEX($A:$A,MIN(IF(COUNTIF(B$2:B13,$A$2:$A$20)=0,ROW($A$2:$A$20))))&""} | C14: =IF($B14<>"",COUNTIF($A$2:$A$20,$B14),"")
... A20: =IF(Feuil1!A19<>"",Feuil1!A19,"") | B20: {=INDEX($A:$A,MIN(IF(COUNTIF(B$2:B19,$A$2:$A$20)=0,ROW($A$2:$A$20))))&""} | C20: =IF($B20<>"",COUNTIF($A$2:$A$20,$B20),"")
