Workbook
Name code: 'Brick Start...'!$B$8:$B$27
Name code: PowerRack!$B$7:$B$27
Name coderack: PowerRack!$B$4:$F$30
Name delay: 'NE PAS SUPP'!$F$20:$F$30
Name DEPT: translo!$A$2:$A$97
Name depts: translo!$O$4:$O$102
Name deptss: translo!$O$5:$O$102
Name discount: 'NE PAS SUPP'!$F$15:$F$16
Name discount2: 'NE PAS SUPP'!$J$3:$J$16
Name discount3: 'NE PAS SUPP'!$J$2:$J$16
Name disocunt2: 'NE PAS SUPP'!$J$3:$J$16
Name facturenum: 'NE PAS SUPP'!$A$19:$A$27
Name fx: translo!$Q$2
Name gar: 'Brick Start...'!$H$5
Name garantie: 'Brick Start...'!$H$4
Name garanties: 'Brick Start...'!$H$4:$I$5
Name kiki: 'Brick Start...'!$B$8:$B$14
Name kiki: PowerRack!$B$7:$B$13
Name kiki2: PowerRack!$B$5:$B$13
Name kiki3: PowerRack!$B$14:$B$18
Name kiki4: PowerRack!$B$19:$B$27
Name kiki5: PowerRack!$B$28:$B$30
Name klkl2: PowerRack!$F$5:$F$13
Name klkl3: PowerRack!$F$14:$F$18
Name klkl4: PowerRack!$F$19:$F$27
Name klkl5: PowerRack!$F$28:$F$30
Name koko2: PowerRack!$D$5:$D$13
Name koko3: PowerRack!$D$14:$D$18
Name koko4: PowerRack!$D$19:$D$27
Name koko5: PowerRack!$D$28:$D$30
Name kpkp2: PowerRack!$E$5:$E$13
Name kpkp3: PowerRack!$E$14:$E$18
Name kpkp4: PowerRack!$E$19:$E$27
Name kpkp5: PowerRack!$E$28:$E$30
Name kuku2: PowerRack!$C$5:$C$13
Name kuku3: PowerRack!$C$14:$C$18
Name kuku4: PowerRack!$C$19:$C$27
Name kuku5: PowerRack!$C$28:$C$30
Name LFP: 'Brick Start...'!$C$8:$C$10
Name LFP: PowerRack!$C$7:$C$9
Name paiements: 'NE PAS SUPP'!$B$3:$B$8
Name PIANET: 'NE PAS SUPP'!$A$3:$A$4
Name pourcentage: 'NE PAS SUPP'!$H$3:$H$13
Name POWER: 'Brick Start...'!$C$8:$C$29
Name POWER: PowerRack!$C$7:$C$30
Name powercode: 'Brick Start...'!$B$6:$B$51
Name Powergamme: 'Brick Start...'!$B$6:$B$42
Name PowerLFP: #REF!
Name PowerLFP: #REF!
Name PowerLFP: #REF!
Name PowerLFP: #REF!
Name PowerLFP: #REF!
Name POWERRACK: 'Brick Start...'!$C$8:$C$14
Name POWERRACK: PowerRack!$C$7:$C$13
Name PQ: 'NE PAS SUPP'!$A$16:$A$17
Name pricing: 'NE PAS SUPP'!$J$19:$K$20
Name PRSMQTY: 'Brick Start...'!$F$4
Name PRSMQTY: PowerRack!$F$4
Name PRSMUP: 'Brick Start...'!$E$4
Name PRSMUP: PowerRack!$E$4

Sheet Rack
J3: Advanced Lithium-Ion Storage systems
C5: POWERTECH SYSTEMS | G5: PURCHASE ORDER
C6: Espace Cristal
C7: 22 rue Gustave Eiffel | G7: N° | H7: =TODAY() -> 42661
C8: 78300 POISSY
C10: =IF(G5="PURCHASE ORDER","Invoice date","Quotation date") -> Invoice date | G10: =TODAY() -> 42661 | K10: Acheteur SA
C11: Client number | G11: =IF(C11="Client number","-") -> - | K11: Michel Acheteur
C12: =IF(G5="PURCHASE ORDER","Order form num","Pricing valid during") -> Order form num | G12: =IF(C12="Order form num","-",IF(C12="Pricing valid during","60 days","-")) -> - | K12: 31 rue de la Forêt
C13: =IF(G5="PURCHASE ORDER","Delivery note","") -> Delivery note | K13: 13 100 Aix-en-Provence
K14: France
C15: =IF(G5="PURCHASE ORDER","Balance due date","") -> Balance due date | G15: =IF(C15="Balance due date",L57,"") -> 44.6904
C16: Your contact for this invoice | G16: Julien Le Guennec
C19: Thanks for choosing PowerTech Systems
C21: Modular Lithium Iron-Phosphate (LFP or LiFePO4) Energy Storage System
C22: Stored energy : 2.56kWh x 5 = 12,8 kWh | G22: Maximum discharge current : 150 Amp
C23: Continuous discharge current : 100A | G23: Nominal voltage : 51.2V (Min : 44V, Max : 58.4V)
C24: 2 years basic warranty. It is possible to extend the warranty to 3 or 5 years from dispatch by Powertech systems.
C26: Code article | D26: Description | G26: Unit price | H26: Quantity | I26: Dimensions unitaire (mm) | J26: Unit weight (kg) | K26: Total weight (kg) | L26: TOTAL HT
C27: 1-LFP/SM | D27: =LOOKUP(C27,PowerRack!B7:F13,PowerRack!C7:C13) -> LFP PowerRack Super Master | G27: =LOOKUP(C27,PowerRack!B7:F30,PowerRack!D7:D30) -> 1 | H27: 1 | I27: =LOOKUP(C27,PowerRack!B7:F30,PowerRack!E7:E31) -> 390x440x85mm | J27: =LOOKUP(C27,PowerRack!B7:F30,PowerRack!F7:F30) -> 5 | K27: =IF(J27="/","/",J27*H27) -> 5 | L27: =G27*H27 -> 1
D41: 2 years basic warranty. It is possible to extend the warranty from 3 to 10 years ! | H41: Unlimited cycle number ? | J41: Warranty extension ?
H42: No | I42: Yes | J42: No | K42: Yes
C43: 101-EXT/3 | D43: =LOOKUP(C43,PowerRack!B33:C40,PowerRack!C33:C40) -> Three-years extended guarantee | H43: x | I43: ü | L43: =0.045*L48 -> 0.04455
C44: 104-EXT/7 | D44: =LOOKUP(C44,PowerRack!B34:C41,PowerRack!C34:C41) -> Six-years extended guarantee | H44: x | I44: ü | L44: =0.105*L48 -> 0.10395
C45: 107-EXT/10 | D45: =LOOKUP(C45,PowerRack!B35:C42,PowerRack!C35:C42) -> Eight-years extended guarantee | H45: x | I45: ü | L45: =0.15*L48 -> 0.1485
D47: Total items: | G47: =SUM(H27:H46) -> 1 | I47: Discount | K47: 0.01 | L47: =IF(I47="Discount",((SUM(L27:L40))*K47),0) -> 0.01
D48: SHIPPING AND HANDLING TIME | G48: 1 week | I48: SUBTOTAL | L48: =SUM(L27:L40)-L47 -> 0.99
I49: SHIPPING AND HANDLING | J49: ZIP: | K49: 5 | L49: =translo!AA1 -> 61.08
D50: Signature: | I50: ADR-Class 9 (Dangerous Goods) | J50: Weight: | K50: =1.1*(SUM(K27:K40)) -> 5.5
I51: Tax | L51: =0.2*(L48+L49) -> 12.414
I53: Total | L53: =SUM(L48+L49+L51) -> 74.484
I55: Paiement Terms
I56: 0.4 | J56: Net | K56: 7 | L56: =I56*L53 -> 29.7936
I57: 0.6 | J57: Net | K57: 30 | L57: =I57*L53 -> 44.6904
I58: Balance due date | L58: =TODAY()+K57 -> 42691
D65: =C5 -> POWERTECH SYSTEMS | G65: Contact | J65: Bank details
D66: 22 Rue Gustave Eiffel | G66: Le Guennec Julien | J66: Bank name | L66: Banque Populaire VdF
D67: 78300 Poissy | G67: Phone +33 (0) 652 701 128 | J67: Bank code | L67: 18707
D68: SAS au capital de 161 439 Euros | G68: Email: julien.leguennec@powertechsystems.eu | J68: Account number | L68: 30821165427
D69: SIREN : 793926577 | G69: www.powertechsystems.eu | J69: IBAN | L69: FR7618707000243082116542769
D70: TVA : FR33793926577 | J70: SWIFT/BIC | L70: CCBPFRPPVER

Sheet Brick Start Module Move
J3: Advanced Lithium-Ion Storage systems
C5: POWERTECH SYSTEMS | G5: PURCHASE ORDER
C6: Espace Cristal
C7: 22 rue Gustave Eiffel | G7: N° | H7: =TODAY() -> 42661
C8: 78300 POISSY
C10: =IF(G5="PURCHASE ORDER","Invoice date","Quotation date") -> Invoice date | G10: =TODAY() -> 42661 | K10: Acheteur SA
C11: Client number | G11: =IF(C11="Client number","-") -> - | K11: Michel Acheteur
C12: =IF(G5="PURCHASE ORDER","Order form num","Pricing valid during") -> Order form num | G12: =IF(C12="Order form num","-",IF(C12="Pricing valid during","60 days","-")) -> - | K12: 31 rue de la Forêt
C13: =IF(G5="PURCHASE ORDER","Delivery note","") -> Delivery note | K13: 13 100 Aix-en-Provence
K14: France
C15: =IF(G5="PURCHASE ORDER","Balance due date","") -> Balance due date | G15: =IF(C15="Balance due date",L58,"") -> 42691
C16: Your contact for this invoice | G16: Julien Le Guennec
C19: Thanks for choosing PowerTech Systems
C21: Modular Lithium Iron-Phosphate (LFP or LiFePO4) Energy Storage System
C22: ü Excellent lifespan | F22: ü Specific power
C23: ü High level of safety | F23: ü Slightly lower specific energy
C24: 2 years basic warranty. It is possible to extend the warranty to 3 or 5 years from dispatch by Powertech systems.
C26: Code article | D26: Description | G26: Unit price | H26: Quantity | I26: Dimensions unitaire (mm) | J26: Unit weight (kg) | K26: Total weight (kg) | L26: TOTAL HT
C27: 17-LFP/PB+12Ah | D27: =IFERROR(LOOKUP(C27,'Brick Start...'!B8:F51,'Brick Start...'!C8:C51),"") -> LFP PowerBrick+ 12V-12Ah (professional range) | G27: =LOOKUP('Brick Start Module Move'!C27,'Brick Start...'!B5:F51,'Brick Start...'!D8:D51) -> 20 | H27: 1 | I27: =IFERROR(LOOKUP(C27,'Brick Start...'!B8:F51,'Brick Start...'!E8:E51),"") -> L : 151mm x P : 98mm x H : 95mm | J27: =LOOKUP(C27,'Brick Start...'!B6:F51,'Brick Start...'!F8:F51) -> 5.25 | K27: =H27*J27 -> 5.25 | L27: =G27*H27 -> 20
D28: =IFERROR(LOOKUP(C28,'Brick Start...'!B9:F52,'Brick Start...'!C9:C52),"") | G28: =IFERROR(LOOKUP(C28,'Brick Start...'!B8:F51,'Brick Start...'!D8:D51),"") | H28: 0 | I28: =IFERROR(LOOKUP(C28,'Brick Start...'!B8:F51,'Brick Start...'!E8:E51),"") | J28: =IFERROR(LOOKUP(C28,PowerRack!B8:F31,PowerRack!F8:F31),"") | K28: =IFERROR((H28*J28),"") | L28: =IFERROR((G28*H28),"")
D29: =IFERROR(LOOKUP(C29,'Brick Start...'!B8:F51,'Brick Start...'!B8:B51),"") | G29: =IFERROR(LOOKUP(C29,'Brick Start...'!B9:F52,'Brick Start...'!D9:D52),"") | H29: 0 | I29: =IFERROR(LOOKUP(C29,'Brick Start...'!B9:F52,'Brick Start...'!E9:E52),"") | J29: =IFERROR(LOOKUP(C29,PowerRack!B9:F33,PowerRack!F9:F33),"") | K29: =IFERROR((H29*J29),"") | L29: =IFERROR((G29*H29),"")
D30: =IFERROR(LOOKUP(C30,'Brick Start...'!B9:F52,'Brick Start...'!B9:B52),"") | G30: =IFERROR(LOOKUP(C30,'Brick Start...'!B10:F53,'Brick Start...'!D10:D53),"") | H30: 0 | I30: =IFERROR(LOOKUP(C30,'Brick Start...'!B10:F53,'Brick Start...'!E10:E53),"") | J30: =IFERROR(LOOKUP(C30,PowerRack!B10:F34,PowerRack!F10:F34),"") | K30: =IFERROR((H30*J30),"") | L30: =IFERROR((G30*H30),"")
D31: =IFERROR(LOOKUP(C31,'Brick Start...'!B10:F53,'Brick Start...'!B10:B53),"") | G31: =IFERROR(LOOKUP(C31,'Brick Start...'!B11:F54,'Brick Start...'!D11:D54),"") | H31: 0 | I31: =IFERROR(LOOKUP(C31,'Brick Start...'!B11:F54,'Brick Start...'!E11:E54),"") | J31: =IFERROR(LOOKUP(C31,PowerRack!B11:F35,PowerRack!F11:F35),"") | K31: =IFERROR((H31*J31),"") | L31: =IFERROR((G31*H31),"")
D32: =IFERROR(LOOKUP(C32,'Brick Start...'!B11:F54,'Brick Start...'!B11:B54),"") | G32: =IFERROR(LOOKUP(C32,'Brick Start...'!B12:F55,'Brick Start...'!D12:D55),"") | H32: 0 | I32: =IFERROR(LOOKUP(C32,'Brick Start...'!B12:F55,'Brick Start...'!E12:E55),"") | J32: =IFERROR(LOOKUP(C32,PowerRack!B12:F36,PowerRack!F12:F36),"") | K32: =IFERROR((H32*J32),"") | L32: =IFERROR((G32*H32),"")
D33: =IFERROR(LOOKUP(C33,'Brick Start...'!B12:F55,'Brick Start...'!B12:B55),"") | G33: =IFERROR(LOOKUP(C33,'Brick Start...'!B13:F56,'Brick Start...'!D13:D56),"") | H33: 0 | I33: =IFERROR(LOOKUP(C33,'Brick Start...'!B13:F56,'Brick Start...'!E13:E56),"") | J33: =IFERROR(LOOKUP(C33,PowerRack!B13:F37,PowerRack!F13:F37),"") | K33: =IFERROR((H33*J33),"") | L33: =IFERROR((G33*H33),"")
D34: =IFERROR(LOOKUP(C34,'Brick Start...'!B13:F56,'Brick Start...'!B13:B56),"") | G34: =IFERROR(LOOKUP(C34,'Brick Start...'!B14:F57,'Brick Start...'!D14:D57),"") | H34: 0 | I34: =IFERROR(LOOKUP(C34,'Brick Start...'!B14:F57,'Brick Start...'!E14:E57),"") | J34: =IFERROR(LOOKUP(C34,PowerRack!B14:F38,PowerRack!F14:F38),"") | K34: =IFERROR((H34*J34),"") | L34: =IFERROR((G34*H34),"")
D35: =IFERROR(LOOKUP(C35,'Brick Start...'!B14:F57,'Brick Start...'!B14:B57),"") | G35: =IFERROR(LOOKUP(C35,'Brick Start...'!B15:F58,'Brick Start...'!D15:D58),"") | H35: 0 | I35: =IFERROR(LOOKUP(C35,'Brick Start...'!B15:F58,'Brick Start...'!E15:E58),"") | J35: =IFERROR(LOOKUP(C35,PowerRack!B15:F39,PowerRack!F15:F39),"") | K35: =IFERROR((H35*J35),"") | L35: =IFERROR((G35*H35),"")
D36: =IFERROR(LOOKUP(C36,'Brick Start...'!B15:F58,'Brick Start...'!B15:B58),"") | G36: =IFERROR(LOOKUP(C36,'Brick Start...'!B16:F59,'Brick Start...'!D16:D59),"") | H36: 0 | I36: =IFERROR(LOOKUP(C36,'Brick Start...'!B16:F59,'Brick Start...'!E16:E59),"") | J36: =IFERROR(LOOKUP(C36,PowerRack!B16:F40,PowerRack!F16:F40),"") | K36: =IFERROR((H36*J36),"") | L36: =IFERROR((G36*H36),"")
D37: =IFERROR(LOOKUP(C37,'Brick Start...'!B16:F59,'Brick Start...'!B16:B59),"") | G37: =IFERROR(LOOKUP(C37,'Brick Start...'!B17:F60,'Brick Start...'!D17:D60),"") | H37: 0 | I37: =IFERROR(LOOKUP(C37,'Brick Start...'!B17:F60,'Brick Start...'!E17:E60),"") | J37: =IFERROR(LOOKUP(C37,PowerRack!B17:F41,PowerRack!F17:F41),"") | K37: =IFERROR((H37*J37),"") | L37: =IFERROR((G37*H37),"")
D38: =IFERROR(LOOKUP(C38,'Brick Start...'!B17:F60,'Brick Start...'!B17:B60),"") | G38: =IFERROR(LOOKUP(C38,'Brick Start...'!B18:F61,'Brick Start...'!D18:D61),"") | H38: 0 | I38: =IFERROR(LOOKUP(C38,'Brick Start...'!B18:F61,'Brick Start...'!E18:E61),"") | J38: =IFERROR(LOOKUP(C38,PowerRack!B18:F42,PowerRack!F18:F42),"") | K38: =IFERROR((H38*J38),"") | L38: =IFERROR((G38*H38),"")
D39: =IFERROR(LOOKUP(C39,'Brick Start...'!B18:F61,'Brick Start...'!B18:B61),"") | G39: =IFERROR(LOOKUP(C39,'Brick Start...'!B19:F62,'Brick Start...'!D19:D62),"") | H39: 0 | I39: =IFERROR(LOOKUP(C39,'Brick Start...'!B19:F62,'Brick Start...'!E19:E62),"") | J39: =IFERROR(LOOKUP(C39,PowerRack!B19:F43,PowerRack!F19:F43),"") | K39: =IFERROR((H39*J39),"") | L39: =IFERROR((G39*H39),"")
D40: =IFERROR(LOOKUP(C40,'Brick Start...'!B19:F62,'Brick Start...'!B19:B62),"") | G40: =IFERROR(LOOKUP(C40,'Brick Start...'!B20:F63,'Brick Start...'!D20:D63),"") | H40: 0 | I40: =IFERROR(LOOKUP(C40,'Brick Start...'!B20:F63,'Brick Start...'!E20:E63),"") | J40: =IFERROR(LOOKUP(C40,PowerRack!B21:F44,PowerRack!F21:F44),"") | K40: =IFERROR((H40*J40),"") | L40: =IFERROR((G40*H40),"")
D41: 2 years basic warranty. It is possible to extend the warranty to 5 years ! | H41: PowerTech Protection Plan | J41: Warranty extension ?
H42: No | I42: Yes | J42: No | K42: Yes
C43: 100-EXT/3 | D43: Three-years extended guarantee | H43: x | I43: ü | L43: =0.045*L48 -> 0.855
D47: Total items: | G47: =SUM(H27:H40) -> 1 | I47: Discount | K47: 0.05 | L47: =IF(I47="Discount",((SUM(L27:L40))*K47),0) -> 1
D48: SHIPPING AND HANDLING TIME | G48: 10 days | I48: SUBTOTAL | L48: =SUM(L27:L40)-L47 -> 19
I49: SHIPPING AND HANDLING | J49: ZIP: | K49: 3 | L49: =translo!AA2 -> 52.32
I50: ADR-Class 9 (Dangerous Goods) | J50: Weight: | K50: =1.1*(SUM(K27:K40)) -> 5.775
D51: Signature: | I51: Tax | L51: =0.2*(L48+L49) -> 14.264
...

Sheet XXXX

Sheet XXXXXX

Sheet PowerRack
B2: POWERRACK
B4: Code article | C4: Description | D4: Unit price | E4: Dimensions unitaire | F4: Poids unitaire
B5: TECHNOLOGIE | C5: LFP OU NMC ? | D5: PRIX ? | E5: Dim ? | F5: Poids ?
B7: 1-LFP/SM | C7: LFP PowerRack Super Master | D7: 1 | E7: 390x440x85mm | F7: 5
B8: 2-LFP/M | C8: LFP PowerRack Master 2.56 kWh | D8: 2 | E8: 480x440x130mm | F8: 30
B9: 3-LFP/S | C9: LFP PowerRack Slave 2.56 kWh | D9: 3 | E9: 480x440x130mm | F9: 30
B11: 4-NMC/SM | C11: NMC PowerRack Super Master | D11: 4 | E11: 390x440x85mm | F11: 5
B12: 5-NMC/M | C12: NMC PowerRack Master 2.56 kWh | D12: 5 | E12: 480x440x130mm | F12: 25
B13: 6-NMC/S | C13: NMC PowerRack Slave 2.56 kWh | D13: 6 | E13: 480x440x130mm | F13: 25
B14: CABLAGES ? | C14: On met du câble ? | D14: PRIX ? | E14: Dim ? | F14: Poids ?
B16: 7-KIT/16 | C16: Wiring kit 16mm2 + communications bundle for series modules 16mm2 | D16: 7 | E16: / | F16: 0.5
B17: 8-KIT/25 | C17: Wiring kit 25mm2 + communications bundle for series modules 25 mm2 | D17: 8 | E17: / | F17: 0.5
B18: 9-KIT/35 | C18: Wiring kit 35mm2 + communications bundle for series modules 35mm2 | D18: 9 | E18: / | F18: 0.5
B19: BAIE | C19: Quelle taille de BAIE ? | D19: PRIX ? | E19: Dim ? | F19: Poids ?
B21: 10-BAIE/13U | C21: Cabinet 19 inch 13U (minimal size; 1 Master / 3 Slaves) | D21: 10 | E21: 600x635x920 | F21: 80
B22: 11-BAIE/18U | C22: Cabinet 19 inch 18U (1 Master / 5 Slaves) | D22: 11 | E22: 600x635x980 | F22: 100
B23: 12-BAIE/27U | C23: Cabinet 19 inch 27U (1 Master / 8 Slaves) | D23: 12 | E23: 600x635x1380 | F23: 120
B24: 13-BAIE/36U | C24: Cabinet 19 inch 36U (1 Master / 11 Slaves) | D24: 13 | E24: 600x635x1780 | F24: 130
B25: 14-BAIE/42U | C25: Cabinet 19 inch 42U (1 Master / 13 Slaves) | D25: 14 | E25: 600x635x2050 | F25: 140
B26: 15-BAIE/47U | C26: Cabinet 19 inch 47U (1 Master / 15 Slaves) | D26: 15 | E26: 600x635x2270 | F26: 150
B27: 16-BAIE/50U | C27: Cabinet 19 inch 50U (maximal size; 1 Master / 16 Slaves) | D27: 16 | E27: 600x635x2400 | F27: 180
B28: TECHNOLOGIE | C28: LFP OU NMC ? | D28: PRIX ? | E28: Dim ? | F28: Poids ?
B30: 17-CABL/RS2m | C30: RS cable 2m gold (to connect inverter) | D30: 17 | E30: 2m | F30: 0.5
B33: 101-EXT/3 | C33: Three-years extended guarantee
B34: 102-EXT/4 | C34: Four-years extended guarantee
B35: 103-EXT/5 | C35: Five-years extended guarantee
B36: 104-EXT/6 | C36: Six-years extended guarantee
B37: 105-EXT/7 | C37: Seven-years extended guarantee
B38: 106-EXT/8 | C38: Eight-years extended guarantee
B39: 107-EXT/9 | C39: Nine-years extended guarantee
B40: 108-EXT/10 | C40: Ten-years extended guarantee

Sheet Brick Start...
B4: Code article | C4: Description | D4: Unit price | E4: Dimensions unitaire | F4: Poids unitaire
B6: POWERBRICK | C6: POWERBRICK
B8: 17-LFP/PB+12Ah | C8: LFP PowerBrick+ 12V-12Ah (professional range) | D8: 17 | E8: L : 151mm x P : 98mm x H : 95mm | F8: 1.55
B9: 18-LFP/PB+20Ah | C9: LFP PowerBrick+ 12V-20Ah (professional range) | D9: 18 | E9: L : 180mm x P : 76mm x H : 168 mm | F9: 13.6
B10: 19-LFP/PB+40Ah | C10: LFP PowerBrick+ 12V-40Ah (professional range) | D10: 19 | E10: L : 196mm x P : 135mm x H : 172 mm | F10: 5.25
B11: 20-LFP/PB+55Ah | C11: LFP PowerBrick+ 12V-55Ah (professional range) | D11: 20 | E11: L : 228 mm x P : 138 mm x H : 210 mm | F11: 7.8
B12: 21-LFP/PB+100Ah | C12: LFP PowerBrick+ 12V-100Ah (professional range) | D12: 21 | E12: L : 260mm x P : 168mm x H : 212 mm | F12: 13.6
B14: 22-LFP/PB-12Ah | C14: LFP PowerBrick 12V-12Ah | D14: 22 | E14: L : 151mm x P : 98mm x H : 95mm | F14: 1.55
B15: 23-LFP/PB-20Ah | C15: LFP PowerBrick 12V-20Ah | D15: 23 | E15: L : 180mm x P : 76mm x H : 168 mm | F15: 13.6
B16: 24-LFP/PB-40Ah | C16: LFP PowerBrick 12V-40Ah | D16: 24 | E16: L : 196mm x P : 135mm x H : 172 mm | F16: 5.25
B17: 25-LFP/PB-55Ah | C17: LFP PowerBrick 12V-55Ah | D17: 25 | E17: L : 228 mm x P : 138 mm x H : 210 mm | F17: 7.8
B18: 26-LFP/PB-100Ah | C18: LFP PowerBrick 12V-100Ah | D18: 26 | E18: L : 260mm x P : 168mm x H : 212 mm | F18: 13.6
B20: POWERSTART | C20: POWERSTART
B22: 27-LFP/PS-130 | C22: LFP PowerStart 12V-130CCA | D22: 27 | E22: L : 113mm x W : 70mm x H : 85mm | F22: 490g
B23: 28-LFP/PS-280 | C23: LFP PowerStart 12V-280CCA | D23: 28 | E23: L : 150mm x W : 87mm x H : 93mm | F23: 950g
B24: 29-LFP/PS-300 | C24: LFP PowerStart 12V-300CCA | D24: 29 | E24: L : 135mm x W : 75mm x H : 139mm | F24: 990g
B25: 30-LFP/PS-350 | C25: LFP PowerStart 12V-350CCA | D25: 30 | E25: L : 175mm x W : 87mm x H : 130mm | F25: 1100g
B26: 31-LFP/PS-450 | C26: LFP PowerStart 12V-450CCA | D26: 31 | E26: L : 166mm x W : 125mm x H : 173mm | F26: 1750g
B27: 32-LFP/PS-600 | C27: LFP PowerStart 12V-600CCA | D27: 32 | E27: L : 181mm x W : 77mm x H : 167mm | F27: 2840g
B29: POWERMODULE | C29: POWERMODULE
B31: 33-LFP/PMOD | C31: LFP PowerModule 12,8V-110Ah | D31: 33 | E31: 260 x 172 x 225 mm | F31: 15.7
B32: 34-PMOD-BMS | C32: BMS pour PowerModule | D32: 34 | E32: 145x154x42mm | F32: 0.25
B33: 35-PMOD-RELAY | C33: Relay EV200 pour PowerModule | D33: 35 | E33: 80,48x72,3mm | F33: 0.3
B35: POWERMOVE | C35: POWERMOVE
B37: 36-LFP/PMOV-500 | C37: LFP PowerMove 500W | D37: 36 | E37: L375 x W150 x H320 | F37: 11.7
B38: 37-LFP/PMOV-1000 | C38: LFP PowerMove 1000W | D38: 37 | E38: L450 x W230 x H430 | F38: 28.6
B39: 38-PMOV-USB extension | C39: PowerMove USB extension wire | D39: 38 | E39: 500mm | F39: 0.1
B40: 39-PMOV-Light bulb | C40: PowerMove Light cable and bulb | D40: 39 | E40: 3000mm | F40: 0.2
B41: 41-PMOV- Solar 18V | C41: PowerMove Solar panel 18V 100W Mono-crystalline | D41: 40 | E41: L640 x W540 x H30 *2 | F41: 4,5kg*2
B42: 41-PMOV- Solar 36V | C42: PowerMove Solar panel 36V 200W Poly-crystalline | D42: 41 | E42: L640 x W540 x H30 *3 | F42: 4,5kg*3
B44: CHARGEURS | C44: Chargeurs
B46: 42-LFP/CHARG-2400W | C46: Chargeur J 240W 12V/10A 24V/7A 36V/5A 48V/4A | D46: 42 | E46: 180*100*55mm | F46: 0.82
B47: 42-LFP/CHARG-2400W | C47: Chargeur E 600W 12V/25A 24V/18A 36V/12A 48V/10A | D47: 43 | E47: 210*130*70mm | F47: 2
B48: 42-LFP/CHARG-2400W | C48: Chargeur B 900W 12V/40A 24V/25A 36V/18A 48V/15A | D48: 44 | E48: 270*150*95mm | F48: 3.2
B49: 42-LFP/CHARG-2400W | C49: Chargeur ESF-1.8 1800 W 24V/50A 36V/40A 48V/30A | D49: 45 | E49: 310x160x130mm | F49: 5.8
B50: 42-LFP/CHARG-2400W | C50: Chargeur ESF-2.4 2400 W 48V/40A 72V/25A | D50: 46 | E50: 310x180x130mm | F50: 6.2
B51: 42-LFP/CHARG-2400W | C51: Chargeur 4000 W 50A en 24V IP 65 | D51: 47

Sheet XXXXX

Sheet translo
J1: Powertechsystems | S1: Rack | T1: POIDS | U1: =Rack!K50 -> 5.5 | W1: DEPT | X1: =Rack!K49 -> 5 | Z1: PRIX | AA1: =INDEX($P$8:$AB$102,MATCH(X1,$A$8:$A$102,0),MATCH(U1,$P$4:$AB$4,1)) -> 61.08
P2: Coeff : | Q2: 3 | S2: Bric/Start… | T2: POIDS | U2: ='Brick Start Module Move'!K50 -> 5.775 | W2: DEPT | X2: ='Brick Start Module Move'!K49 -> 3 | Z2: PRIX | AA2: =INDEX($P$8:$AB$102,MATCH(X2,$A$8:$A$102,0),MATCH(U2,$P$4:$AB$4,1)) -> 52.32
E3: F=forfait | M3: C= prix aux 100kg
A4: DPTS | C4: 0 | D4: 11 | E4: 21 | F4: 31 | G4: 41 | H4: 51 | I4: 61 | J4: 71 | K4: 81 | L4: 91 | M4: 100 | N4: 501 | P4: 0 | Q4: 11 | R4: 21 | S4: 31 | T4: 41 | U4: 51 | V4: 61 | W4: 71 | X4: 81 | Y4: 91 | Z4: 100 | AA4: 501 | AB4: 1001
C5: 10 | D5: 20 | E5: 30 | F5: 40 | G5: 50 | H5: 60 | I5: 70 | J5: 80 | K5: 90 | L5: 100 | M5: 500 | N5: 1000 | O5: DEPT N° ? | P5: 10 | Q5: 20 | R5: 30 | S5: 40 | T5: 50 | U5: 60 | V5: 70 | W5: 80 | X5: 90 | Y5: 100 | Z5: 500 | AA5: 1000
C6: F | D6: F | E6: F | F6: F | G6: F | H6: F | I6: F | J6: F | K6: F | L6: F | M6: C | N6: C | P6: F | Q6: F | R6: F | S6: F | T6: F | U6: F | V6: F | W6: F | X6: F | Y6: F | Z6: C | AA6: C
O7: OVERSEA
A8: 1 | B8: AIN | C8: 14.41 | D8: 17.17 | E8: 19.93 | F8: 22.91 | G8: 27.21 | H8: 29.97 | I8: 34.07 | J8: 36.83 | K8: 40.56 | L8: 43.33 | M8: 41.61 | N8: 29.36 | O8: 1 | P8: =C8*fx -> 43.23 | Q8: =D8*fx -> 51.51 | R8: =E8*fx -> 59.79 | S8: =F8*fx -> 68.73 | T8: =G8*fx -> 81.63 | U8: =H8*fx -> 89.91 | V8: =I8*fx -> 102.21 | W8: =J8*fx -> 110.49 | ... AA8: =N8*fx -> 88.08 | AB8: To be defined
A9: 2 | B9: AISNE | C9: 14.05 | D9: 16.43 | E9: 18.83 | F9: 21.43 | G9: 25.38 | H9: 27.76 | I9: 31.49 | J9: 33.88 | K9: 37.26 | L9: 39.65 | M9: 37.93 | N9: 27.66 | O9: 2 | P9: =C9*fx -> 42.15 | Q9: =D9*fx -> 49.29 | R9: =E9*fx -> 56.49 | S9: =F9*fx -> 64.29 | T9: =G9*fx -> 76.14 | U9: =H9*fx -> 83.28 | V9: =I9*fx -> 94.47 | W9: =J9*fx -> 101.64 | ... AA9: =N9*fx -> 82.98 | AB9: To be defined
A10: 3 | B10: ALLIER | C10: 17.44 | D10: 20.33 | E10: 23.2 | F10: 26.34 | G10: 31.15 | H10: 34.03 | I10: 38.57 | J10: 41.45 | K10: 45.53 | L10: 48.41 | M10: 46.15 | N10: 32.63 | O10: 3 | P10: =C10*fx -> 52.32 | Q10: =D10*fx -> 60.99 | R10: =E10*fx -> 69.6 | S10: =F10*fx -> 79.02 | T10: =G10*fx -> 93.45 | U10: =H10*fx -> 102.09 | V10: =I10*fx -> 115.71 | W10: =J10*fx -> 124.35 | ... AA10: =N10*fx -> 97.89 | AB10: To be defined
A11: 4 | B11: ALPES de HAUTES PROV | C11: 21.25 | D11: 25.69 | E11: 30.13 | F11: 36.35 | G11: 41.7 | H11: 43.92 | I11: 46.17 | J11: 51.5 | K11: 56.07 | L11: 61.32 | M11: 61.08 | N11: 45.02 | O11: 4 | P11: =C11*fx -> 63.75 | Q11: =D11*fx -> 77.07 | R11: =E11*fx -> 90.39 | S11: =F11*fx -> 109.05 | T11: =G11*fx -> 125.1 | U11: =H11*fx -> 131.76 | V11: =I11*fx -> 138.51 | W11: =J11*fx -> 154.5 | ... AA11: =N11*fx -> 135.06 | AB11: To be defined
A12: 5 | B12: HAUTE ALPES | C12: 20.36 | D12: 24.81 | E12: 31.01 | F12: 35.47 | G12: 40.83 | H12: 43.49 | I12: 45.72 | J12: 51.5 | K12: 55.21 | L12: 61.32 | M12: 61.08 | N12: 45.02 | O12: 5 | P12: =C12*fx -> 61.08 | Q12: =D12*fx -> 74.43 | R12: =E12*fx -> 93.03 | S12: =F12*fx -> 106.41 | T12: =G12*fx -> 122.49 | U12: =H12*fx -> 130.47 | V12: =I12*fx -> 137.16 | W12: =J12*fx -> 154.5 | ... AA12: =N12*fx -> 135.06 | AB12: To be defined
A13: 6 | B13: ALPES MARITIMES | C13: 21.79 | D13: 27.39 | E13: 32.15 | F13: 35.69 | G13: 39.17 | H13: 42.67 | I13: 46.15 | J13: 51.37 | K13: 54.15 | L13: 56.73 | M13: 56.89 | N13: 48.06 | O13: 6 | P13: =C13*fx -> 65.37 | Q13: =D13*fx -> 82.17 | R13: =E13*fx -> 96.45 | S13: =F13*fx -> 107.07 | T13: =G13*fx -> 117.51 | U13: =H13*fx -> 128.01 | V13: =I13*fx -> 138.45 | W13: =J13*fx -> 154.11 | ... AA13: =N13*fx -> 144.18 | AB13: To be defined
A14: 7 | B14: ARDECHE | C14: 17.53 | D14: 20.22 | E14: 22.5 | F14: 24.75 | G14: 27.38 | H14: 30.94 | I14: 34.45 | J14: 37.2 | K14: 38.94 | L14: 41.26 | M14: 41.15 | N14: 33.71 | O14: 7 | P14: =C14*fx -> 52.59 | Q14: =D14*fx -> 60.66 | R14: =E14*fx -> 67.5 | S14: =F14*fx -> 74.25 | T14: =G14*fx -> 82.14 | U14: =H14*fx -> 92.82 | V14: =I14*fx -> 103.35 | W14: =J14*fx -> 111.6 | ... AA14: =N14*fx -> 101.13 | AB14: To be defined
A15: 8 | B15: ARDENNES | C15: 15.21 | D15: 17.61 | E15: 20 | F15: 22.62 | G15: 26.72 | H15: 29.11 | I15: 32.96 | J15: 35.36 | K15: 38.82 | L15: 41.22 | M15: 39.23 | N15: 31.68 | O15: 8 | P15: =C15*fx -> 45.63 | Q15: =D15*fx -> 52.83 | R15: =E15*fx -> 60 | S15: =F15*fx -> 67.86 | T15: =G15*fx -> 80.16 | U15: =H15*fx -> 87.33 | V15: =I15*fx -> 98.88 | W15: =J15*fx -> 106.08 | ... AA15: =N15*fx -> 95.04 | AB15: To be defined
A16: 9 | B16: ARIEGE | C16: 15.48 | D16: 18.62 | E16: 21.76 | F16: 25.14 | G16: 29.92 | H16: 33.07 | I16: 37.62 | J16: 40.78 | K16: 44.96 | L16: 48.11 | M16: 46.7 | N16: 32.37 | O16: 9 | P16: =C16*fx -> 46.44 | Q16: =D16*fx -> 55.86 | R16: =E16*fx -> 65.28 | S16: =F16*fx -> 75.42 | T16: =G16*fx -> 89.76 | U16: =H16*fx -> 99.21 | V16: =I16*fx -> 112.86 | W16: =J16*fx -> 122.34 | ... AA16: =N16*fx -> 97.11 | AB16: To be defined
A17: 10 | B17: AUBE | C17: 14.08 | D17: 16.51 | E17: 18.93 | F17: 21.58 | G17: 25.55 | H17: 27.97 | I17: 31.73 | J17: 34.16 | K17: 37.57 | L17: 40 | M17: 38.28 | N17: 27.83 | O17: 10 | P17: =C17*fx -> 42.24 | Q17: =D17*fx -> 49.53 | R17: =E17*fx -> 56.79 | S17: =F17*fx -> 64.74 | T17: =G17*fx -> 76.65 | U17: =H17*fx -> 83.91 | V17: =I17*fx -> 95.19 | W17: =J17*fx -> 102.48 | ... AA17: =N17*fx -> 83.49 | AB17: To be defined
A18: 11 | B18: AUDE | C18: 14.72 | D18: 17.8 | E18: 20.89 | F18: 24.18 | G18: 28.79 | H18: 31.88 | I18: 36.29 | J18: 39.37 | K18: 43.42 | L18: 46.51 | M18: 44.79 | N18: 36.03 | O18: 11 | P18: =C18*fx -> 44.16 | Q18: =D18*fx -> 53.4 | R18: =E18*fx -> 62.67 | S18: =F18*fx -> 72.54 | T18: =G18*fx -> 86.37 | U18: =H18*fx -> 95.64 | V18: =I18*fx -> 108.87 | W18: =J18*fx -> 118.11 | ... AA18: =N18*fx -> 108.09 | AB18: To be defined
A19: 12 | B19: AVEYRON | C19: 14.52 | D19: 17.41 | E19: 20.28 | F19: 23.38 | G19: 27.8 | H19: 30.68 | I19: 34.89 | J19: 37.77 | K19: 41.63 | L19: 44.5 | M19: 42.79 | N19: 30.07 | O19: 12 | P19: =C19*fx -> 43.56 | Q19: =D19*fx -> 52.23 | R19: =E19*fx -> 60.84 | S19: =F19*fx -> 70.14 | T19: =G19*fx -> 83.4 | U19: =H19*fx -> 92.04 | V19: =I19*fx -> 104.67 | W19: =J19*fx -> 113.31 | ... AA19: =N19*fx -> 90.21 | AB19: To be defined
... A26: 19 | B26: CORREZE | C26: 13.73 | D26: 15.83 | E26: 17.9 | F26: 20.21 | G26: 23.83 | H26: 25.91 | I26: 29.33 | J26: 31.43 | K26: 34.48 | L26: 36.56 | M26: 34.84 | N26: 26.1 | O26: 19 | P26: =C26*fx -> 41.19 | Q26: =D26*fx -> 47.49 | R26: =E26*fx -> 53.7 | S26: =F26*fx -> 60.63 | T26: =G26*fx -> 71.49 | U26: =H26*fx -> 77.73 | V26: =I26*fx -> 87.99 | W26: =J26*fx -> 94.29 | ... AA26: =N26*fx -> 78.3 | AB26: To be defined
A27: 20 | B27: CORSE | C27: 0 | D27: 0 | E27: 0 | F27: 0 | G27: 0 | H27: 0 | I27: 0 | J27: 0 | K27: 0 | L27: 0 | M27: 0 | N27: 0 | O27: 20 | AB27: To be defined
A28: 21 | B28: COTE D'OR | C28: 13.76 | D28: 15.87 | E28: 17.98 | F28: 20.29 | G28: 23.96 | H28: 26.05 | I28: 29.51 | J28: 31.61 | K28: 34.71 | L28: 36.81 | M28: 35.09 | N28: 26.11 | O28: 21 | P28: =C28*fx -> 41.28 | Q28: =D28*fx -> 47.61 | R28: =E28*fx -> 53.94 | S28: =F28*fx -> 60.87 | T28: =G28*fx -> 71.88 | U28: =H28*fx -> 78.15 | V28: =I28*fx -> 88.53 | W28: =J28*fx -> 94.83 | ... AA28: =N28*fx -> 78.33 | AB28: To be defined
A29: 22 | B29: COTES D ARMOR | C29: 14.33 | D29: 17.01 | E29: 19.7 | F29: 22.59 | G29: 26.82 | H29: 29.5 | I29: 33.5 | J29: 36.19 | K29: 39.84 | L29: 42.53 | M29: 40.81 | N29: 28.96 | O29: 22 | P29: =C29*fx -> 42.99 | Q29: =D29*fx -> 51.03 | R29: =E29*fx -> 59.1 | S29: =F29*fx -> 67.77 | T29: =G29*fx -> 80.46 | U29: =H29*fx -> 88.5 | V29: =I29*fx -> 100.5 | W29: =J29*fx -> 108.57 | ... AA29: =N29*fx -> 86.88 | AB29: To be defined
A30: 23 | B30: CREUSE | C30: 17.04 | D30: 19.35 | E30: 21.65 | F30: 25.35 | G30: 30.13 | H30: 32.44 | I30: 37.7 | J30: 40.02 | K30: 44.7 | L30: 47 | M30: 46.63 | N30: 34.58 | O30: 23 | P30: =C30*fx -> 51.12 | Q30: =D30*fx -> 58.05 | R30: =E30*fx -> 64.95 | S30: =F30*fx -> 76.05 | T30: =G30*fx -> 90.39 | U30: =H30*fx -> 97.32 | V30: =I30*fx -> 113.1 | W30: =J30*fx -> 120.06 | ... AA30: =N30*fx -> 103.74 | AB30: To be defined
A31: 24 | B31: DORDOGNE | C31: 14.22 | D31: 16.77 | E31: 19.35 | F31: 22.11 | G31: 26.23 | H31: 28.78 | I31: 32.69 | J31: 35.24 | K31: 38.79 | L31: 41.35 | M31: 39.64 | N31: 28.48 | O31: 24 | P31: =C31*fx -> 42.66 | Q31: =D31*fx -> 50.31 | R31: =E31*fx -> 58.05 | S31: =F31*fx -> 66.33 | T31: =G31*fx -> 78.69 | U31: =H31*fx -> 86.34 | V31: =I31*fx -> 98.07 | W31: =J31*fx -> 105.72 | ... AA31: =N31*fx -> 85.44 | AB31: To be defined
A32: 25 | B32: DOUBS | C32: 14.38 | D32: 17.1 | E32: 19.82 | F32: 22.76 | G32: 27.03 | H32: 29.75 | I32: 33.81 | J32: 36.54 | K32: 40.22 | L32: 42.96 | M32: 41.23 | N32: 29.17 | O32: 25 | P32: =C32*fx -> 43.14 | Q32: =D32*fx -> 51.3 | R32: =E32*fx -> 59.46 | S32: =F32*fx -> 68.28 | T32: =G32*fx -> 81.09 | U32: =H32*fx -> 89.25 | V32: =I32*fx -> 101.43 | W32: =J32*fx -> 109.62 | ... AA32: =N32*fx -> 87.51 | AB32: To be defined
A33: 26 | B33: DROME | C33: 17.45 | D33: 20.04 | E33: 22.33 | F33: 24.74 | G33: 27.38 | H33: 30.94 | I33: 34.45 | J33: 37.14 | K33: 38.94 | L33: 41.16 | M33: 41.04 | N33: 32.75 | O33: 26 | P33: =C33*fx -> 52.35 | Q33: =D33*fx -> 60.12 | R33: =E33*fx -> 66.99 | S33: =F33*fx -> 74.22 | T33: =G33*fx -> 82.14 | U33: =H33*fx -> 92.82 | V33: =I33*fx -> 103.35 | W33: =J33*fx -> 111.42 | ... AA33: =N33*fx -> 98.25 | AB33: To be defined
A34: 27 | B34: EURE | C34: 9.87 | D34: 12.59 | E34: 15.18 | F34: 16.4 | G34: 18.99 | H34: 20.21 | I34: 22.45 | J34: 23.68 | K34: 24.8 | L34: 26.02 | M34: 24.76 | N34: 18.19 | O34: 27 | P34: =C34*fx -> 29.61 | Q34: =D34*fx -> 37.77 | R34: =E34*fx -> 45.54 | S34: =F34*fx -> 49.2 | T34: =G34*fx -> 56.97 | U34: =H34*fx -> 60.63 | V34: =I34*fx -> 67.35 | W34: =J34*fx -> 71.04 | ... AA34: =N34*fx -> 54.57 | AB34: To be defined
A35: 28 | B35: EURE ET LOIRE | C35: 12.3 | D35: 12.94 | E35: 13.59 | F35: 14.46 | G35: 16.64 | H35: 17.3 | I35: 19.27 | J35: 19.92 | K35: 21.55 | L35: 22.2 | M35: 20.48 | N35: 17.66 | O35: 28 | P35: =C35*fx -> 36.9 | Q35: =D35*fx -> 38.82 | R35: =E35*fx -> 40.77 | S35: =F35*fx -> 43.38 | T35: =G35*fx -> 49.92 | U35: =H35*fx -> 51.9 | V35: =I35*fx -> 57.81 | W35: =J35*fx -> 59.76 | ... AA35: =N35*fx -> 52.98 | AB35: To be defined
A36: 29 | B36: FINISTERE | C36: 14.71 | D36: 17.78 | E36: 20.85 | F36: 24.12 | G36: 28.73 | H36: 31.8 | I36: 36.19 | J36: 39.26 | K36: 43.3 | L36: 46.37 | M36: 44.64 | N36: 30.88 | O36: 29 | P36: =C36*fx -> 44.13 | Q36: =D36*fx -> 53.34 | R36: =E36*fx -> 62.55 | S36: =F36*fx -> 72.36 | T36: =G36*fx -> 86.19 | U36: =H36*fx -> 95.4 | V36: =I36*fx -> 108.57 | W36: =J36*fx -> 117.78 | ... AA36: =N36*fx -> 92.64 | AB36: To be defined
A37: 30 | B37: GARD | C37: 19.05 | D37: 24.74 | E37: 29.55 | F37: 34.07 | G37: 36.71 | H37: 40.26 | I37: 42.92 | J37: 46.47 | K37: 49.34 | L37: 51.97 | M37: 52.14 | N37: 41.26 | O37: 30 | P37: =C37*fx -> 57.15 | Q37: =D37*fx -> 74.22 | R37: =E37*fx -> 88.65 | S37: =F37*fx -> 102.21 | T37: =G37*fx -> 110.13 | U37: =H37*fx -> 120.78 | V37: =I37*fx -> 128.76 | W37: =J37*fx -> 139.41 | ... AA37: =N37*fx -> 123.78 | AB37: To be defined
A38: 31 | B38: HAUTE GARONNE | C38: 14.46 | D38: 17.28 | E38: 20.08 | F38: 23.1 | G38: 27.46 | H38: 30.28 | I38: 34.42 | J38: 37.23 | K38: 41.02 | L38: 43.83 | M38: 42.12 | N38: 29.73 | O38: 31 | P38: =C38*fx -> 43.38 | Q38: =D38*fx -> 51.84 | R38: =E38*fx -> 60.24 | S38: =F38*fx -> 69.3 | T38: =G38*fx -> 82.38 | U38: =H38*fx -> 90.84 | V38: =I38*fx -> 103.26 | W38: =J38*fx -> 111.69 | ... AA38: =N38*fx -> 89.19 | AB38: To be defined
A39: 32 | B39: GERS | C39: 17.39 | D39: 20.26 | E39: 23.15 | F39: 26.26 | G39: 31.06 | H39: 33.94 | I39: 38.46 | J39: 41.35 | K39: 45.47 | L39: 48.34 | M39: 46.67 | N39: 33.15 | O39: 32 | P39: =C39*fx -> 52.17 | Q39: =D39*fx -> 60.78 | R39: =E39*fx -> 69.45 | S39: =F39*fx -> 78.78 | T39: =G39*fx -> 93.18 | U39: =H39*fx -> 101.82 | V39: =I39*fx -> 115.38 | W39: =J39*fx -> 124.05 | ... AA39: =N39*fx -> 99.45 | AB39: To be defined
... A102: 95 | B102: VAL D'OISE | C102: 19.28 | D102: 19.93 | E102: 20.58 | F102: 21.57 | G102: 24.69 | H102: 25.33 | I102: 28.11 | J102: 28.76 | K102: 30.97 | L102: 31.61 | M102: 28.71 | N102: 24.22 | O102: 95 | P102: =C102*fx -> 57.84 | Q102: =D102*fx -> 59.79 | R102: =E102*fx -> 61.74 | S102: =F102*fx -> 64.71 | T102: =G102*fx -> 74.07 | U102: =H102*fx -> 75.99 | V102: =I102*fx -> 84.33 | W102: =J102*fx -> 86.28 | ... AA102: =N102*fx -> 72.66 | AB102: To be defined
M103: Durée de validité 3 Mois
B104: Tous nos prix s'entendent HT
B105: Conditions générales, droits et frais fixes joints
B106: Hors indexation GAZOLE et Ecotaxe
C107: Colis et objets de faible densité : | M107: 100 Kg | N107: 184 kg
C109: * Taxation sur base 250 kg/m3 | M109: =M99 -> 30.1 | N109: =M99*190/100 -> 57.19 | R109: 237.75
...

Sheet NE PAS SUPP
B2: Modalité paiements
A3: PIA | C3: Payment in advance | H3: 0.1 | J3: 0.01
A4: Net | B4: 7 | C4: Payment seven days after invoice date | H4: 0.2 | J4: 0.03
B5: 10 | C5: Payment ten days after invoice date | H5: 0.3 | J5: 0.04
B6: 30 | C6: Payment 30 days after invoice date | H6: 0.4 | J6: 0.05
B7: 60 | C7: Payment 60 days after invoice date | H7: 0.5 | J7: 0.06
B8: 90 | C8: Payment 90 days after invoice date | H8: 0.6 | J8: 0.07
H9: 0.7 | J9: 0.08
H10: 0.75 | J10: 0.09
H11: 0.8 | J11: 0.1
H12: 0.9 | J12: 0.15
H13: 1 | J13: 0.2
A14: SHIPPING AND HANDLING TIME | D14: 1 week | J14: 0.3
D15: 2 weeks | F15: Discount | J15: 0.4
A16: PURCHASE ORDER | D16: 3 weeks | J16: 0.5
A17: QUOTATION | D17: 4 weeks
D18: 5 weeks
D19: 6 weeks
A20: -1 | D20: 7 weeks | F20: 1 day | G20: 15 | J20: Pricing valid until: | K20: =TODAY()+60 -> 42721
A21: -2 | D21: 8 weeks | F21: 2 days | G21: 30
A22: -3 | D22: 9 weeks | F22: 3 days | G22: 45
A23: -4 | D23: 10 weeks | F23: 5 days | G23: 90
A24: -5 | F24: 6 days | G24: 180
A25: -6 | F25: 7 days | G25: 360
A26: -7 | F26: 8 days
A27: -8 | F27: 10 days
F28: 2 weeks
F29: 3 weeks
F30: 1 month
