Workbook

Sheet A lire
A1: Codage des couleurs de ceinture: tu tappes les lettres correspondant à sa couleur.
A3: ceinture verte claire | B3: vc | E3: ceinture violette claire | F3: vioc
A4: ceinture verte foncée | B4: vf | E4: ceinture violette foncée | F4: viof
A5: ceinture bleue claire | B5: bc | E5: ceinture noire | F5: n
A6: ceinture bleue foncée | B6: bf
A8: Codage des couleurs de ceinture: tu tappes les lettres correspondant à sa couleur.
A10: ceinture verte claire | B10: Vc | E10: ceinture violette claire | F10: Vioc
A11: ceinture verte foncée | B11: Vf | E11: ceinture violette foncée | F11: Viof
A12: ceinture bleue claire | B12: Bc | E12: ceinture noire | F12: N
A13: ceinture bleue foncée | B13: Bf
A16: eleve1

Sheet MaClasse
C1: nom | D1: prénom
A2: élève1 | B2: 1 | C2: BESSIERE | D2: Daphné
A3: élève2 | B3: =B2+1 -> 2 | C3: BRUN | D3: Baptiste
A4: élève3 | B4: =B3+1 -> 3 | C4: CHAPPAZ | D4: Nicolas
A5: élève4 | B5: =B4+1 -> 4 | C5: CHAUVIN | D5: Cyprien
A6: élève5 | B6: =B5+1 -> 5 | C6: CLEYET-MAREL | D6: Isis
A7: élève6 | B7: =B6+1 -> 6 | C7: CONEDERA | D7: Agathe
A8: élève7 | B8: =B7+1 -> 7 | C8: COURTOIS | D8: Zian
A9: élève8 | B9: =B8+1 -> 8 | C9: DARBLADE | D9: Cécile
A10: élève9 | B10: =B9+1 -> 9 | C10: DE FERIE DE MONTAL | D10: Cassandre
A11: élève10 | B11: =B10+1 -> 10 | C11: DE FERIE DE MONTAL | D11: Enzo
A12: élève11 | B12: =B11+1 -> 11 | C12: DE LA ROSA | D12: Mathéo
A13: élève12 | B13: =B12+1 -> 12 | C13: DENOT | D13: Lilouan
A14: élève13 | B14: =B13+1 -> 13 | C14: DREVET | D14: Valentine
... A30: élève29 | B30: =B29+1 -> 29 | C30: VILLAUME | D30: Manon

Sheet MOTS
D1: 10 | E1: =D1+1 -> 11 | F1: =E1+1 -> 12 | G1: =F1+1 -> 13 | H1: =G1+1 -> 14 | I1: =H1+1 -> 15 | J1: =I1+1 -> 16 | K1: =J1+1 -> 17 | L1: =K1+1 -> 18 | ... AI1: =AH1+1 -> 41
B2: M | D2: =CONCATENATE($B$2,D1) -> M10 | E2: =CONCATENATE($B$2,E1) -> M11 | F2: =CONCATENATE($B$2,F1) -> M12 | G2: =CONCATENATE($B$2,G1) -> M13 | H2: =CONCATENATE($B$2,H1) -> M14 | I2: =CONCATENATE($B$2,I1) -> M15 | J2: =CONCATENATE($B$2,J1) -> M16 | K2: =CONCATENATE($B$2,K1) -> M17 | ... AI2: =CONCATENATE($B$2,AI1) -> M41
B3: Mots | D3: M10 Je range des mots dans l’ordre alphabétique | E3: M11 J’écris des noms féminins  | F3: M12 J’utilise des déterminants  | G3: M13 J’utilise des adjectifs | H3: M14 J’écris des mots invariables  | I3: M15 J’écris des noms féminins  | J3: M16 Je reconnais les mots du groupe nominal | K3: M17 Je nomme le verbe : l’infinitif | L3: M18 J’utilise des pronoms | M3: M19 J’écris des mots invariables  | N3: M20 Je trouve un mot dans le dictionnaire | O3: M21 Je différencie les noms communs et les noms propres | P3: M22 J’utilise des déterminants  | Q3: M23 Je mets un « m » devant les m, b et p | R3: M24 J’utilise le participe passé en tant qu’adjectif | S3: M25 Je reconnais une famille de mots à partir du radical | T3: M26 Je trouve des mots relevant d’un même champ lexical | U3: M27 J’écris des mots invariables | V3: M28 J’utilise un mot ayant plusieurs sens | W3: M29 J’utilise des synonymes | X3: M30 Je reconnais les principales classes grammaticales (nom, déterminant, verbe, adjectif, pronom) | Y3: M31 J’écris des mots invariables | Z3: M32 Je repère le sens des préfixes et des suffixes | AA3: M33 Je construis des familles de mots | AB3: M34 J’écris des mots invariables | AC3: M35 J’utilise le dictionnaire pour trouver des informations sur un mot | AD3: M36 J’écris des mots invariables | AE3: M37 J’utilise les termes génériques et les termes spécifiques | AF3: M38 Je sais conjuguer les verbes particuliers au passé simple | AG3: M39 J’utilise « ces, ce, cet, cette » | AH3: M40 Je connais le sens des principaux préfixes d’origine latine et grecque (télé, péri, ortho…) | AI3: M41 Je repère des mots relevant du vocabulaire savant grâce aux racines grecques et latines
C4: date | D4: =IF(AND(ISBLANK(D5),ISBLANK(D6),ISBLANK(D7)),"",TODAY()) -> 42637
B5: =MaClasse!D2 -> Daphné | C5: PréC | D5: =[1]Francais!D7 -> 1 | E5: =[1]Francais!E7 -> 0 | F5: =[1]Francais!F7 -> 0 | G5: =[1]Francais!G7 -> 0 | H5: =[1]Francais!H7 -> 0 | I5: =[1]Francais!I7 -> 0 | J5: =[1]Francais!J7 -> 0 | K5: =[1]Francais!K7 -> 0 | ... AI5: =[1]Francais!AI7 -> 0
C6: Clé | D6: =[1]Francais!D8 -> 0 | E6: =[1]Francais!E8 -> 0 | F6: =[1]Francais!F8 -> 0 | G6: =[1]Francais!G8 -> 0 | H6: =[1]Francais!H8 -> 0 | I6: =[1]Francais!I8 -> 0 | J6: =[1]Francais!J8 -> 0 | K6: =[1]Francais!K8 -> 0 | ... AI6: =[1]Francais!AI8 -> 0
C7: Ens | D7: =[1]Francais!D9 -> 0 | E7: =[1]Francais!E9 -> 0 | F7: =[1]Francais!F9 -> 0 | G7: =[1]Francais!G9 -> 0 | H7: =[1]Francais!H9 -> 0 | I7: =[1]Francais!I9 -> 0 | J7: =[1]Francais!J9 -> 0 | K7: =[1]Francais!K9 -> 0 | ... AI7: =[1]Francais!AI9 -> 0
B8: =MaClasse!D3 -> Baptiste | C8: PréC
C9: Clé
C10: Ens
B11: =MaClasse!D4 -> Nicolas | C11: PréC
C12: Clé
C13: Ens
B14: =MaClasse!D5 -> Cyprien | C14: PréC
C15: Clé
C16: Ens
B17: =MaClasse!D6 -> Isis | C17: PréC
C18: Clé
C19: Ens
B20: =MaClasse!D7 -> Agathe | C20: PréC
C21: Clé
C22: Ens
B23: =MaClasse!D8 -> Zian | C23: PréC
C24: Clé
C25: Ens
B26: =MaClasse!D9 -> Cécile | C26: PréC
C27: Clé
C28: Ens
B29: =MaClasse!D10 -> Cassandre | C29: PréC
C30: Clé
C31: Ens
B32: =MaClasse!D11 -> Enzo | C32: PréC
C33: Clé
C34: Ens
B35: =MaClasse!D12 -> Mathéo | C35: PréC
C36: Clé
C37: Ens
B38: =MaClasse!D13 -> Lilouan | C38: PréC
C39: Clé
C40: Ens
B41: =MaClasse!D14 -> Valentine | C41: PréC
C42: Clé
C43: Ens
B44: =MaClasse!D15 -> Rafaël | C44: PréC
C45: Clé
C46: Ens
B47: =MaClasse!D16 -> Elise | C47: PréC
C48: Clé
C49: Ens
B50: =MaClasse!D17 -> Hugo | C50: PréC
C51: Clé
C52: Ens
B53: =MaClasse!D18 -> Mahé | C53: PréC
C54: Clé
C55: Ens
B56: =MaClasse!D19 -> Shanie | C56: PréC
C57: Clé
C58: Ens
B59: =MaClasse!D20 -> Salomé | C59: PréC
C60: Clé
C61: Ens
B62: =MaClasse!D21 -> Célia | C62: PréC
C63: Clé
C64: Ens
B65: =MaClasse!D22 -> Amel | C65: PréC
C66: Clé
C67: Ens
B68: =MaClasse!D23 -> Charline | C68: PréC
C69: Clé
C70: Ens
B71: =MaClasse!D24 -> Violette | C71: PréC
C72: Clé
C73: Ens
B74: =MaClasse!D25 -> Maëlys | C74: PréC
C75: Clé
C76: Ens
B77: =MaClasse!D26 -> Inès | C77: PréC
C78: Clé
C79: Ens
B80: =MaClasse!D27 -> Maxence | C80: PréC
C81: Clé
C82: Ens
B83: =MaClasse!D28 -> Tessa | C83: PréC
C84: Clé
C85: Ens
B86: =MaClasse!D29 -> Evan | C86: PréC
C87: Clé
C88: Ens
B89: =MaClasse!D30 -> Manon | C89: PréC
C90: Clé
C91: Ens

Sheet PHRASES
D1: 10 | E1: =D1+1 -> 11 | F1: =E1+1 -> 12 | G1: =F1+1 -> 13 | H1: =G1+1 -> 14 | I1: =H1+1 -> 15 | J1: =I1+1 -> 16 | K1: =J1+1 -> 17 | L1: =K1+1 -> 18 | ... AL1: =AK1+1 -> 44
B2: P | D2: =CONCATENATE($B$2,D1) -> P10 | E2: =CONCATENATE($B$2,E1) -> P11 | F2: =CONCATENATE($B$2,F1) -> P12 | G2: =CONCATENATE($B$2,G1) -> P13 | H2: =CONCATENATE($B$2,H1) -> P14 | I2: =CONCATENATE($B$2,I1) -> P15 | J2: =CONCATENATE($B$2,J1) -> P16 | K2: =CONCATENATE($B$2,K1) -> P17 | ... AL2: =CONCATENATE($B$2,AL1) -> P44
B3: Phrases | D3: J'identifie le temps: passé, présent, futur | E3: J'utilise correctement les majuscules, le point et la virgule. | F3: Je mets un "s" au pluriel. | G3: J'écris une question. | H3: J'utilise des déterrminants. | I3: J'utilise des mots outils (à, sans, avec, pour, de, sur…) | J3: J'identifie le verbe: un mot qui se conjugue. | K3: J'accorde le verbe à son sujet. (1) | L3: J'utilise la négation. | M3: J'accorde le GN en genre et en nombre. (1) | N3: Je me familairise et je mémorise le verbe ETRE. | O3: Je me familiarise et je mémorise le verbe AVOIR. | P3: Je me familiariseavec les verbes en -ER à l'infinitif. | Q3: Je mémorise les formes des verbes fréquents. (1) | R3: Je comprends la formation du passé composé. | S3: Je repère les sujets. | T3: Je mémorise les fromes de verbes fréquents. (2) | U3: Je repère les compléments du verbe. | V3: Je repère les compléments de phrase. | W3: J'accorde le verbe à son sujet. | X3: J'utilise tous les points. | Y3: J'utilise le verbe AVOIR. | Z3: J'identifie et j'accorde l'attribut du sujet. | AA3: J'utilise le verbe AVOIR. | AB3: J'identifie les expensions du GN. | AC3: Je mémorise et je distingue les pronoms de reprise et les pronoms personnels. | AD3: J'accorde le verbe à son sujet. | AE3: Je mémorise les formes des verbes fréquents. | AF3: Je mémorise les formes de verbes fréquents.(4) | AG3: Je comprends la formation du plus-que-parfait. | AH3: Je distingue les déterminants. | AI3: Je distingue les pronoms personnels, possessifs, démonstratifs. | AJ3: J'accorde en genre et en nombre dans le GN. | AK3: J'isole le sujet et les prédicats dans des situations complexes. | AL3: je distingue la phrase simple et la phrase complexe.
B4: =MaClasse!D2 -> Daphné | C4: PréC | D4: =[1]Francais!D12 -> 0 | E4: =[1]Francais!E12 -> 0 | F4: =[1]Francais!F12 -> 0 | G4: =[1]Francais!G12 -> 0 | H4: =[1]Francais!H12 -> 0 | I4: =[1]Francais!I12 -> 0 | J4: =[1]Francais!J12 -> 0 | K4: =[1]Francais!K12 -> 0 | ... AL4: =[1]Francais!AL12 -> 0
C5: Clé | D5: =[1]Francais!D13 -> 0 | E5: =[1]Francais!E13 -> 0 | F5: =[1]Francais!F13 -> 0 | G5: =[1]Francais!G13 -> 0 | H5: =[1]Francais!H13 -> 0 | I5: =[1]Francais!I13 -> 0 | J5: =[1]Francais!J13 -> 0 | K5: =[1]Francais!K13 -> 0 | ... AL5: =[1]Francais!AL13 -> 0
C6: Ens | D6: =[1]Francais!D14 -> 0 | E6: =[1]Francais!E14 -> 0 | F6: =[1]Francais!F14 -> 0 | G6: =[1]Francais!G14 -> 0 | H6: =[1]Francais!H14 -> 0 | I6: =[1]Francais!I14 -> 0 | J6: =[1]Francais!J14 -> 0 | K6: =[1]Francais!K14 -> 0 | ... AL6: =[1]Francais!AL14 -> 0
B7: =MaClasse!D3 -> Baptiste | C7: PréC
C8: Clé
C9: Ens
B10: =MaClasse!D4 -> Nicolas | C10: PréC
C11: Clé
C12: Ens
B13: =MaClasse!D5 -> Cyprien | C13: PréC
C14: Clé
C15: Ens
B16: =MaClasse!D6 -> Isis | C16: PréC
C17: Clé
C18: Ens
B19: =MaClasse!D7 -> Agathe | C19: PréC
C20: Clé
C21: Ens
B22: =MaClasse!D8 -> Zian | C22: PréC
C23: Clé
C24: Ens
B25: =MaClasse!D9 -> Cécile | C25: PréC
C26: Clé
C27: Ens
B28: =MaClasse!D10 -> Cassandre | C28: PréC
C29: Clé
C30: Ens
B31: =MaClasse!D11 -> Enzo | C31: PréC
C32: Clé
C33: Ens
B34: =MaClasse!D12 -> Mathéo | C34: PréC
C35: Clé
C36: Ens
B37: =MaClasse!D13 -> Lilouan | C37: PréC
C38: Clé
C39: Ens
B40: =MaClasse!D14 -> Valentine | C40: PréC
C41: Clé
C42: Ens
B43: =MaClasse!D15 -> Rafaël | C43: PréC
C44: Clé
C45: Ens
B46: =MaClasse!D16 -> Elise | C46: PréC
C47: Clé
C48: Ens
B49: =MaClasse!D17 -> Hugo | C49: PréC
C50: Clé
C51: Ens
B52: =MaClasse!D18 -> Mahé | C52: PréC
C53: Clé
C54: Ens
B55: =MaClasse!D19 -> Shanie | C55: PréC
C56: Clé
C57: Ens
B58: =MaClasse!D20 -> Salomé | C58: PréC
C59: Clé
C60: Ens
B61: =MaClasse!D21 -> Célia | C61: PréC
C62: Clé
C63: Ens
B64: =MaClasse!D22 -> Amel | C64: PréC
C65: Clé
C66: Ens
B67: =MaClasse!D23 -> Charline | C67: PréC
C68: Clé
C69: Ens
B70: =MaClasse!D24 -> Violette | C70: PréC
C71: Clé
C72: Ens
B73: =MaClasse!D25 -> Maëlys | C73: PréC
C74: Clé
C75: Ens
B76: =MaClasse!D26 -> Inès | C76: PréC
C77: Clé
C78: Ens
B79: =MaClasse!D27 -> Maxence | C79: PréC
C80: Clé
C81: Ens
B82: =MaClasse!D28 -> Tessa | C82: PréC
C83: Clé
C84: Ens
B85: =MaClasse!D29 -> Evan | C85: PréC
C86: Clé
C87: Ens
B88: =MaClasse!D30 -> Manon | C88: PréC
C89: Clé
C90: Ens

Sheet TEXTES
D1: 10 | E1: =D1+1 -> 11 | F1: =E1+1 -> 12 | G1: =F1+1 -> 13 | H1: =G1+1 -> 14 | I1: =H1+1 -> 15 | J1: =I1+1 -> 16 | K1: =J1+1 -> 17 | L1: =K1+1 -> 18 | ... AK1: =AJ1+1 -> 43
B2: T | D2: =CONCATENATE($B$2,D1) -> T10 | E2: =CONCATENATE($B$2,E1) -> T11 | F2: =CONCATENATE($B$2,F1) -> T12 | G2: =CONCATENATE($B$2,G1) -> T13 | H2: =CONCATENATE($B$2,H1) -> T14 | I2: =CONCATENATE($B$2,I1) -> T15 | J2: =CONCATENATE($B$2,J1) -> T16 | K2: =CONCATENATE($B$2,K1) -> T17 | ... AK2: =CONCATENATE($B$2,AK1) -> T43
B3: Textes | D3: j'emploie le passe, le présent, le futur. | E3: Je reconnais une phrase. | F3: J'utilise "et", "et puis" | G3: Je recopie un texte de 3 lignes sans erreurs. | H3: Je comprends ce qu'est un texte. | I3: J'identifie un texte correctement segmenté. | J3: J'utilise "ou", "ou bien". | K3: J'identifie les liaisons dangeureuse dans ce texte. | L3: J'utilise des verbes précis. | M3: Je sais écrire des phrases courtes. | N3: J'aide le lecteur à repérer les étapes du texte. | O3: J'utilise la grille de releccture niveau 1 | P3: J'utilise les substituts du personnage principal. | Q3: Je sais écrire un dialogue simple. | R3: Je sais écrire une opposition. | S3: J'utilise la grille de relecture niveau 2. | T3: Je respecte la cohérence temporelle du texte. (Présent, passé composé) | U3: Je sais utiliser des phrases avec "qui" et "que" pour alléger mon texte. | V3: J'enrichis mon texte avec des connecteurs de temps et de lieu. | W3: J'utilise la grille de relecture niveau 3. | X3: Je respecte la cohérence temporelle de mon texte (P.C, imparfait.) | Y3: Je sais segmenter mon texte en paragraphes. | Z3: Je sais exprimer des relations entre la cause et la conséquence. | AA3: J'utilise du vocabulaire adapté au contexte. | AB3: Je sais utiliser des comparaisons. | AC3: J'utilise des substituts du personnage principal. | AD3: Je sais utiliser la grille de relecture niveau 4. | AE3: Je reconnaît le sens propre et le sens figuré. | AF3: Je sais recopier un texet d'au moins 15 lignes sans erreur. | AG3: Je respecte la cohérence temporelle de mon texte (imp., passé simple) | AH3: Je sais utiliser l'implicite dans mon texte. | AI3: Je sais écrire un début. | AJ3: Je sais écrire une fin. | AK3: Je sais articuler les paragraphes de mon texte.
B4: =MaClasse!D2 -> Daphné | C4: PréC | D4: =[1]Francais!D17 -> 0 | E4: =[1]Francais!E17 -> 0 | F4: =[1]Francais!F17 -> 0 | G4: =[1]Francais!G17 -> 0 | H4: =[1]Francais!H17 -> 0 | I4: =[1]Francais!I17 -> 0 | J4: =[1]Francais!J17 -> 0 | K4: =[1]Francais!K17 -> 0 | ... AK4: =[1]Francais!AK17 -> 0
C5: Clé | D5: =[1]Francais!D18 -> 0 | E5: =[1]Francais!E18 -> 0 | F5: =[1]Francais!F18 -> 0 | G5: =[1]Francais!G18 -> 0 | H5: =[1]Francais!H18 -> 0 | I5: =[1]Francais!I18 -> 0 | J5: =[1]Francais!J18 -> 0 | K5: =[1]Francais!K18 -> 0 | ... AK5: =[1]Francais!AK18 -> 0
C6: Ens | D6: =[1]Francais!D19 -> 0 | E6: =[1]Francais!E19 -> 0 | F6: =[1]Francais!F19 -> 0 | G6: =[1]Francais!G19 -> 0 | H6: =[1]Francais!H19 -> 0 | I6: =[1]Francais!I19 -> 0 | J6: =[1]Francais!J19 -> 0 | K6: =[1]Francais!K19 -> 0 | ... AK6: =[1]Francais!AK19 -> 0
B7: =MaClasse!D3 -> Baptiste | C7: PréC
C8: Clé
C9: Ens
B10: =MaClasse!D4 -> Nicolas | C10: PréC
C11: Clé
C12: Ens
B13: =MaClasse!D5 -> Cyprien | C13: PréC
C14: Clé
C15: Ens
B16: =MaClasse!D6 -> Isis | C16: PréC
C17: Clé
C18: Ens
B19: =MaClasse!D7 -> Agathe | C19: PréC
C20: Clé
C21: Ens
B22: =MaClasse!D8 -> Zian | C22: PréC
C23: Clé
C24: Ens
B25: =MaClasse!D9 -> Cécile | C25: PréC
C26: Clé
C27: Ens
B28: =MaClasse!D10 -> Cassandre | C28: PréC
C29: Clé
C30: Ens
B31: =MaClasse!D11 -> Enzo | C31: PréC
C32: Clé
C33: Ens
B34: =MaClasse!D12 -> Mathéo | C34: PréC
C35: Clé
C36: Ens
B37: =MaClasse!D13 -> Lilouan | C37: PréC
C38: Clé
C39: Ens
B40: =MaClasse!D14 -> Valentine | C40: PréC
C41: Clé
C42: Ens
B43: =MaClasse!D15 -> Rafaël | C43: PréC
C44: Clé
C45: Ens
B46: =MaClasse!D16 -> Elise | C46: PréC
C47: Clé
C48: Ens
B49: =MaClasse!D17 -> Hugo | C49: PréC
C50: Clé
C51: Ens
B52: =MaClasse!D18 -> Mahé | C52: PréC
C53: Clé
C54: Ens
B55: =MaClasse!D19 -> Shanie | C55: PréC
C56: Clé
C57: Ens
B58: =MaClasse!D20 -> Salomé | C58: PréC
C59: Clé
C60: Ens
B61: =MaClasse!D21 -> Célia | C61: PréC
C62: Clé
C63: Ens
B64: =MaClasse!D22 -> Amel | C64: PréC
C65: Clé
C66: Ens
B67: =MaClasse!D23 -> Charline | C67: PréC
C68: Clé
C69: Ens
B70: =MaClasse!D24 -> Violette | C70: PréC
C71: Clé
C72: Ens
B73: =MaClasse!D25 -> Maëlys | C73: PréC
C74: Clé
C75: Ens
B76: =MaClasse!D26 -> Inès | C76: PréC
C77: Clé
C78: Ens
B79: =MaClasse!D27 -> Maxence | C79: PréC
C80: Clé
C81: Ens
B82: =MaClasse!D28 -> Tessa | C82: PréC
C83: Clé
C84: Ens
B85: =MaClasse!D29 -> Evan | C85: PréC
C86: Clé
C87: Ens
B88: =MaClasse!D30 -> Manon | C88: PréC
C89: Clé
C90: Ens

Sheet JECRIS
A1: J'écris | C1: =MOTS!D2 -> M10 | D1: =MOTS!E2 -> M11 | E1: =MOTS!F2 -> M12 | F1: =MOTS!G2 -> M13 | G1: M14 | H1: M15 | I1: M16 | J1: M17 | K1: M18 | L1: M19 | M1: M20 | N1: M21 | O1: M22 | P1: M23 | Q1: M24 | R1: M25 | S1: M26 | T1: M27 | U1: M28 | V1: M29 | W1: M30 | X1: M31 | Y1: M32 | Z1: M33 | AB1: M34 | AC1: M35 | AE1: M36 | AF1: M37 | AG1: M38 | AH1: M39 | AI1: M40 | AJ1: M41
C2: P10 | D2: P11 | E2: P12 | G2: P13 | H2: P14 | I2: P15 | J2: P16 | L2: P17 | M2: P18 | N2: P19 | O2: P20 | P2: P21 | Q2: P22 | R2: P23 | S2: P24 | T2: P25 | U2: P26 | V2: P27 | W2: P28 | X2: P29 | Y2: P30 | Z2: P31 | AB2: P32 | AC2: P33 | AD2: P34 | AE2: P35 | AF2: P36 | AG2: P37 | AH2: P38 | AI2: P39 | AJ2: P40 | AK2: P41 | AL2: P42 | AM2: P43 | AN2: P44
C3: T10 | D3: T11 | E3: T12 | F3: T13 | G3: T14 | H3: T15 | I3: T16 | J3: T17 | L3: T18 | M3: T19 | N3: T20 | O3: T21 | P3: T22 | Q3: T23 | R3: T24 | S3: T25 | T3: T26 | U3: T27 | V3: T28 | W3: T29 | X3: T30 | Y3: T31 | Z3: T32 | AA3: T33 | AB3: T34 | AC3: T35 | AD3: T36 | AE3: T37 | AF3: T38 | AG3: T39 | AH3: T40 | AI3: T41 | AJ3: T42 | AK3: T43
A4: Daphné | B4: date | C4: =IF(C5=0,"",TODAY()) | D4: =IF(D5=0,"",TODAY()) | E4: =IF(E5=0,"",TODAY()) | F4: =IF(F5=0,"",TODAY()) | G4: =IF(G5=0,"",TODAY()) | H4: =IF(H5=0,"",TODAY()) | I4: =IF(I5=0,"",TODAY()) | J4: =IF(J5=0,"",TODAY()) | ... AN4: =IF(AN5=0,"",TODAY())
B5: folio1 | C5: =[1]Francais!D21 -> 0 | D5: =[1]Francais!E21 -> 0 | E5: =[1]Francais!F21 -> 0 | F5: =[1]Francais!G21 -> 0 | G5: =[1]Francais!H21 -> 0 | H5: =[1]Francais!I21 -> 0 | I5: =[1]Francais!J21 -> 0 | J5: =[1]Francais!K21 -> 0 | ... AN5: =[1]Francais!AO21 -> 0
B6: date | C6: =[1]Francais!D22 | D6: =[1]Francais!E22 -> 0 | E6: =[1]Francais!F22 -> 0 | F6: =[1]Francais!G22 -> 0 | G6: =[1]Francais!H22 | H6: =[1]Francais!I22 -> 0 | I6: =[1]Francais!J22 -> 0 | J6: =[1]Francais!K22 -> 0 | ... AN6: =[1]Francais!AO22 -> 0
B7: folio2 | C7: =[1]Francais!D23 -> 0 | D7: =[1]Francais!E23 -> 0 | E7: =[1]Francais!F23 -> 0 | F7: =[1]Francais!G23 -> 0 | G7: =[1]Francais!H23 -> 0 | H7: =[1]Francais!I23 -> 0 | I7: =[1]Francais!J23 -> 0 | J7: =[1]Francais!K23 -> 0 | ... AN7: =[1]Francais!AO23 -> 0
A8: Baptiste | B8: date | C8: =IF(C9=0,"",TODAY()) | D8: =IF(D9=0,"",TODAY()) | E8: =IF(E9=0,"",TODAY()) | F8: =IF(F9=0,"",TODAY()) | G8: =IF(G9=0,"",TODAY()) | H8: =IF(H9=0,"",TODAY()) | I8: =IF(I9=0,"",TODAY()) | J8: =IF(J9=0,"",TODAY()) | ... AN8: =IF(AN9=0,"",TODAY())
B9: folio1
B10: date | C10: =IF(C11=0,"",TODAY()) | D10: =IF(D11=0,"",TODAY()) | E10: =IF(E11=0,"",TODAY()) | F10: =IF(F11=0,"",TODAY()) | G10: =IF(G11=0,"",TODAY()) | H10: =IF(H11=0,"",TODAY()) | I10: =IF(I11=0,"",TODAY()) | J10: =IF(J11=0,"",TODAY()) | ... AN10: =IF(AN11=0,"",TODAY())
B11: folio2
A12: Nicolas | B12: date | C12: =IF(C13=0,"",TODAY()) | D12: =IF(D13=0,"",TODAY()) | E12: =IF(E13=0,"",TODAY()) | F12: =IF(F13=0,"",TODAY()) | G12: =IF(G13=0,"",TODAY()) | H12: =IF(H13=0,"",TODAY()) | I12: =IF(I13=0,"",TODAY()) | J12: =IF(J13=0,"",TODAY()) | ... AN12: =IF(AN13=0,"",TODAY())
B13: folio1
B14: date | C14: =IF(C15=0,"",TODAY()) | D14: =IF(D15=0,"",TODAY()) | E14: =IF(E15=0,"",TODAY()) | F14: =IF(F15=0,"",TODAY()) | G14: =IF(G15=0,"",TODAY()) | H14: =IF(H15=0,"",TODAY()) | I14: =IF(I15=0,"",TODAY()) | J14: =IF(J15=0,"",TODAY()) | ... AN14: =IF(AN15=0,"",TODAY())
B15: folio2
A16: Cyprien | B16: date | C16: =IF(C17=0,"",TODAY()) | D16: =IF(D17=0,"",TODAY()) | E16: =IF(E17=0,"",TODAY()) | F16: =IF(F17=0,"",TODAY()) | G16: =IF(G17=0,"",TODAY()) | H16: =IF(H17=0,"",TODAY()) | I16: =IF(I17=0,"",TODAY()) | J16: =IF(J17=0,"",TODAY()) | ... AN16: =IF(AN17=0,"",TODAY())
B17: folio1
B18: date | C18: =IF(C19=0,"",TODAY()) | D18: =IF(D19=0,"",TODAY()) | E18: =IF(E19=0,"",TODAY()) | F18: =IF(F19=0,"",TODAY()) | G18: =IF(G19=0,"",TODAY()) | H18: =IF(H19=0,"",TODAY()) | I18: =IF(I19=0,"",TODAY()) | J18: =IF(J19=0,"",TODAY()) | ... AN18: =IF(AN19=0,"",TODAY())
B19: folio2
A20: Isis | B20: date | C20: =IF(C21=0,"",TODAY()) | D20: =IF(D21=0,"",TODAY()) | E20: =IF(E21=0,"",TODAY()) | F20: =IF(F21=0,"",TODAY()) | G20: =IF(G21=0,"",TODAY()) | H20: =IF(H21=0,"",TODAY()) | I20: =IF(I21=0,"",TODAY()) | J20: =IF(J21=0,"",TODAY()) | ... AN20: =IF(AN21=0,"",TODAY())
B21: folio1
B22: date | C22: =IF(C23=0,"",TODAY()) | D22: =IF(D23=0,"",TODAY()) | E22: =IF(E23=0,"",TODAY()) | F22: =IF(F23=0,"",TODAY()) | G22: =IF(G23=0,"",TODAY()) | H22: =IF(H23=0,"",TODAY()) | I22: =IF(I23=0,"",TODAY()) | J22: =IF(J23=0,"",TODAY()) | ... AN22: =IF(AN23=0,"",TODAY())
B23: folio2
A24: Agathe | B24: date
B25: folio1
B26: date
B27: folio2
A28: Zian | B28: date | C28: =IF(C29=0,"",TODAY()) | D28: =IF(D29=0,"",TODAY()) | E28: =IF(E29=0,"",TODAY()) | F28: =IF(F29=0,"",TODAY()) | G28: =IF(G29=0,"",TODAY()) | H28: =IF(H29=0,"",TODAY()) | I28: =IF(I29=0,"",TODAY()) | J28: =IF(J29=0,"",TODAY()) | ... AN28: =IF(AN29=0,"",TODAY())
B29: folio1
B30: date | C30: =IF(C31=0,"",TODAY()) | D30: =IF(D31=0,"",TODAY()) | E30: =IF(E31=0,"",TODAY()) | F30: =IF(F31=0,"",TODAY()) | G30: =IF(G31=0,"",TODAY()) | H30: =IF(H31=0,"",TODAY()) | I30: =IF(I31=0,"",TODAY()) | J30: =IF(J31=0,"",TODAY()) | ... AN30: =IF(AN31=0,"",TODAY())
B31: folio2
A32: Cécile | B32: date | C32: =IF(C33=0,"",TODAY()) | D32: =IF(D33=0,"",TODAY()) | E32: =IF(E33=0,"",TODAY()) | F32: =IF(F33=0,"",TODAY()) | G32: =IF(G33=0,"",TODAY()) | H32: =IF(H33=0,"",TODAY()) | I32: =IF(I33=0,"",TODAY()) | J32: =IF(J33=0,"",TODAY()) | ... AN32: =IF(AN33=0,"",TODAY())
B33: folio1
B34: date | C34: =IF(C35=0,"",TODAY()) | D34: =IF(D35=0,"",TODAY()) | E34: =IF(E35=0,"",TODAY()) | F34: =IF(F35=0,"",TODAY()) | G34: =IF(G35=0,"",TODAY()) | H34: =IF(H35=0,"",TODAY()) | I34: =IF(I35=0,"",TODAY()) | J34: =IF(J35=0,"",TODAY()) | ... AN34: =IF(AN35=0,"",TODAY())
B35: folio2
A36: Cassandre | B36: date | C36: =IF(C37=0,"",TODAY()) | D36: =IF(D37=0,"",TODAY()) | E36: =IF(E37=0,"",TODAY()) | F36: =IF(F37=0,"",TODAY()) | G36: =IF(G37=0,"",TODAY()) | H36: =IF(H37=0,"",TODAY()) | I36: =IF(I37=0,"",TODAY()) | J36: =IF(J37=0,"",TODAY()) | ... AN36: =IF(AN37=0,"",TODAY())
B37: folio1
B38: date | C38: =IF(C39=0,"",TODAY()) | D38: =IF(D39=0,"",TODAY()) | E38: =IF(E39=0,"",TODAY()) | F38: =IF(F39=0,"",TODAY()) | G38: =IF(G39=0,"",TODAY()) | H38: =IF(H39=0,"",TODAY()) | I38: =IF(I39=0,"",TODAY()) | J38: =IF(J39=0,"",TODAY()) | ... AN38: =IF(AN39=0,"",TODAY())
B39: folio2
A40: Enzo | B40: date | C40: =IF(C41=0,"",TODAY()) | D40: =IF(D41=0,"",TODAY()) | E40: =IF(E41=0,"",TODAY()) | F40: =IF(F41=0,"",TODAY()) | G40: =IF(G41=0,"",TODAY()) | H40: =IF(H41=0,"",TODAY()) | I40: =IF(I41=0,"",TODAY()) | J40: =IF(J41=0,"",TODAY()) | ... AN40: =IF(AN41=0,"",TODAY())
B41: folio1
B42: date | C42: =IF(C43=0,"",TODAY()) | D42: =IF(D43=0,"",TODAY()) | E42: =IF(E43=0,"",TODAY()) | F42: =IF(F43=0,"",TODAY()) | G42: =IF(G43=0,"",TODAY()) | H42: =IF(H43=0,"",TODAY()) | I42: =IF(I43=0,"",TODAY()) | J42: =IF(J43=0,"",TODAY()) | ... AN42: =IF(AN43=0,"",TODAY())
B43: folio2
A44: Mathéo | B44: date | C44: =IF(C45=0,"",TODAY()) | D44: =IF(D45=0,"",TODAY()) | E44: =IF(E45=0,"",TODAY()) | F44: =IF(F45=0,"",TODAY()) | G44: =IF(G45=0,"",TODAY()) | H44: =IF(H45=0,"",TODAY()) | I44: =IF(I45=0,"",TODAY()) | J44: =IF(J45=0,"",TODAY()) | ... AN44: =IF(AN45=0,"",TODAY())
B45: folio1
B46: date | C46: =IF(C47=0,"",TODAY()) | D46: =IF(D47=0,"",TODAY()) | E46: =IF(E47=0,"",TODAY()) | F46: =IF(F47=0,"",TODAY()) | G46: =IF(G47=0,"",TODAY()) | H46: =IF(H47=0,"",TODAY()) | I46: =IF(I47=0,"",TODAY()) | J46: =IF(J47=0,"",TODAY()) | ... AN46: =IF(AN47=0,"",TODAY())
B47: folio2
A48: Lilouan | B48: date | C48: =IF(C49=0,"",TODAY()) | D48: =IF(D49=0,"",TODAY()) | E48: =IF(E49=0,"",TODAY()) | F48: =IF(F49=0,"",TODAY()) | G48: =IF(G49=0,"",TODAY()) | H48: =IF(H49=0,"",TODAY()) | I48: =IF(I49=0,"",TODAY()) | J48: =IF(J49=0,"",TODAY()) | ... AN48: =IF(AN49=0,"",TODAY())
B49: folio1
B50: date | C50: =IF(C51=0,"",TODAY()) | D50: =IF(D51=0,"",TODAY()) | E50: =IF(E51=0,"",TODAY()) | F50: =IF(F51=0,"",TODAY()) | G50: =IF(G51=0,"",TODAY()) | H50: =IF(H51=0,"",TODAY()) | I50: =IF(I51=0,"",TODAY()) | J50: =IF(J51=0,"",TODAY()) | ... AN50: =IF(AN51=0,"",TODAY())
B51: folio2
A52: Valentine | B52: date | C52: =IF(C53=0,"",TODAY()) | D52: =IF(D53=0,"",TODAY()) | E52: =IF(E53=0,"",TODAY()) | F52: =IF(F53=0,"",TODAY()) | G52: =IF(G53=0,"",TODAY()) | H52: =IF(H53=0,"",TODAY()) | I52: =IF(I53=0,"",TODAY()) | J52: =IF(J53=0,"",TODAY()) | ... AN52: =IF(AN53=0,"",TODAY())
B53: folio1
B54: date | C54: =IF(C55=0,"",TODAY()) | D54: =IF(D55=0,"",TODAY()) | E54: =IF(E55=0,"",TODAY()) | F54: =IF(F55=0,"",TODAY()) | G54: =IF(G55=0,"",TODAY()) | H54: =IF(H55=0,"",TODAY()) | I54: =IF(I55=0,"",TODAY()) | J54: =IF(J55=0,"",TODAY()) | ... AN54: =IF(AN55=0,"",TODAY())
B55: folio2
A56: Rafaël | B56: date | C56: =IF(C57=0,"",TODAY()) | D56: =IF(D57=0,"",TODAY()) | E56: =IF(E57=0,"",TODAY()) | F56: =IF(F57=0,"",TODAY()) | G56: =IF(G57=0,"",TODAY()) | H56: =IF(H57=0,"",TODAY()) | I56: =IF(I57=0,"",TODAY()) | J56: =IF(J57=0,"",TODAY()) | ... AN56: =IF(AN57=0,"",TODAY())
B57: folio1
B58: date | C58: =IF(C59=0,"",TODAY()) | D58: =IF(D59=0,"",TODAY()) | E58: =IF(E59=0,"",TODAY()) | F58: =IF(F59=0,"",TODAY()) | G58: =IF(G59=0,"",TODAY()) | H58: =IF(H59=0,"",TODAY()) | I58: =IF(I59=0,"",TODAY()) | J58: =IF(J59=0,"",TODAY()) | ... AN58: =IF(AN59=0,"",TODAY())
B59: folio2
A60: Elise | B60: date | C60: =IF(C61=0,"",TODAY()) | D60: =IF(D61=0,"",TODAY()) | E60: =IF(E61=0,"",TODAY()) | F60: =IF(F61=0,"",TODAY()) | G60: =IF(G61=0,"",TODAY()) | H60: =IF(H61=0,"",TODAY()) | I60: =IF(I61=0,"",TODAY()) | J60: =IF(J61=0,"",TODAY()) | ... AN60: =IF(AN61=0,"",TODAY())
B61: folio1
B62: date | C62: =IF(C63=0,"",TODAY()) | D62: =IF(D63=0,"",TODAY()) | E62: =IF(E63=0,"",TODAY()) | F62: =IF(F63=0,"",TODAY()) | G62: =IF(G63=0,"",TODAY()) | H62: =IF(H63=0,"",TODAY()) | I62: =IF(I63=0,"",TODAY()) | J62: =IF(J63=0,"",TODAY()) | ... AN62: =IF(AN63=0,"",TODAY())
B63: folio2
A64: Hugo | B64: date | C64: =IF(C65=0,"",TODAY()) | D64: =IF(D65=0,"",TODAY()) | E64: =IF(E65=0,"",TODAY()) | F64: =IF(F65=0,"",TODAY()) | G64: =IF(G65=0,"",TODAY()) | H64: =IF(H65=0,"",TODAY()) | I64: =IF(I65=0,"",TODAY()) | J64: =IF(J65=0,"",TODAY()) | ... AN64: =IF(AN65=0,"",TODAY())
B65: folio1
B66: date | C66: =IF(C67=0,"",TODAY()) | D66: =IF(D67=0,"",TODAY()) | E66: =IF(E67=0,"",TODAY()) | F66: =IF(F67=0,"",TODAY()) | G66: =IF(G67=0,"",TODAY()) | H66: =IF(H67=0,"",TODAY()) | I66: =IF(I67=0,"",TODAY()) | J66: =IF(J67=0,"",TODAY()) | ... AN66: =IF(AN67=0,"",TODAY())
B67: folio2
A68: Mahé | B68: date | C68: =IF(C69=0,"",TODAY()) | D68: =IF(D69=0,"",TODAY()) | E68: =IF(E69=0,"",TODAY()) | F68: =IF(F69=0,"",TODAY()) | G68: =IF(G69=0,"",TODAY()) | H68: =IF(H69=0,"",TODAY()) | I68: =IF(I69=0,"",TODAY()) | J68: =IF(J69=0,"",TODAY()) | ... AN68: =IF(AN69=0,"",TODAY())
B69: folio1
B70: date | C70: =IF(C71=0,"",TODAY()) | D70: =IF(D71=0,"",TODAY()) | E70: =IF(E71=0,"",TODAY()) | F70: =IF(F71=0,"",TODAY()) | G70: =IF(G71=0,"",TODAY()) | H70: =IF(H71=0,"",TODAY()) | I70: =IF(I71=0,"",TODAY()) | J70: =IF(J71=0,"",TODAY()) | ... AN70: =IF(AN71=0,"",TODAY())
B71: folio2
A72: Shanie | B72: date | C72: =IF(C73=0,"",TODAY()) | D72: =IF(D73=0,"",TODAY()) | E72: =IF(E73=0,"",TODAY()) | F72: =IF(F73=0,"",TODAY()) | G72: =IF(G73=0,"",TODAY()) | H72: =IF(H73=0,"",TODAY()) | I72: =IF(I73=0,"",TODAY()) | J72: =IF(J73=0,"",TODAY()) | ... AN72: =IF(AN73=0,"",TODAY())
B73: folio1
B74: date | C74: =IF(C75=0,"",TODAY()) | D74: =IF(D75=0,"",TODAY()) | E74: =IF(E75=0,"",TODAY()) | F74: =IF(F75=0,"",TODAY()) | G74: =IF(G75=0,"",TODAY()) | H74: =IF(H75=0,"",TODAY()) | I74: =IF(I75=0,"",TODAY()) | J74: =IF(J75=0,"",TODAY()) | ... AN74: =IF(AN75=0,"",TODAY())
B75: folio2
A76: Salomé | B76: date | C76: =IF(C77=0,"",TODAY()) | D76: =IF(D77=0,"",TODAY()) | E76: =IF(E77=0,"",TODAY()) | F76: =IF(F77=0,"",TODAY()) | G76: =IF(G77=0,"",TODAY()) | H76: =IF(H77=0,"",TODAY()) | I76: =IF(I77=0,"",TODAY()) | J76: =IF(J77=0,"",TODAY()) | ... AN76: =IF(AN77=0,"",TODAY())
B77: folio1
B78: date | C78: =IF(C79=0,"",TODAY()) | D78: =IF(D79=0,"",TODAY()) | E78: =IF(E79=0,"",TODAY()) | F78: =IF(F79=0,"",TODAY()) | G78: =IF(G79=0,"",TODAY()) | H78: =IF(H79=0,"",TODAY()) | I78: =IF(I79=0,"",TODAY()) | J78: =IF(J79=0,"",TODAY()) | ... AN78: =IF(AN79=0,"",TODAY())
B79: folio2
A80: Célia | B80: date | C80: =IF(C81=0,"",TODAY()) | D80: =IF(D81=0,"",TODAY()) | E80: =IF(E81=0,"",TODAY()) | F80: =IF(F81=0,"",TODAY()) | G80: =IF(G81=0,"",TODAY()) | H80: =IF(H81=0,"",TODAY()) | I80: =IF(I81=0,"",TODAY()) | J80: =IF(J81=0,"",TODAY()) | ... AN80: =IF(AN81=0,"",TODAY())
B81: folio1
B82: date | C82: =IF(C83=0,"",TODAY()) | D82: =IF(D83=0,"",TODAY()) | E82: =IF(E83=0,"",TODAY()) | F82: =IF(F83=0,"",TODAY()) | G82: =IF(G83=0,"",TODAY()) | H82: =IF(H83=0,"",TODAY()) | I82: =IF(I83=0,"",TODAY()) | J82: =IF(J83=0,"",TODAY()) | ... AN82: =IF(AN83=0,"",TODAY())
B83: folio2
A84: Amel | B84: date | C84: =IF(C85=0,"",TODAY()) | D84: =IF(D85=0,"",TODAY()) | E84: =IF(E85=0,"",TODAY()) | F84: =IF(F85=0,"",TODAY()) | G84: =IF(G85=0,"",TODAY()) | H84: =IF(H85=0,"",TODAY()) | I84: =IF(I85=0,"",TODAY()) | J84: =IF(J85=0,"",TODAY()) | ... AN84: =IF(AN85=0,"",TODAY())
B85: folio1
B86: date | C86: =IF(C87=0,"",TODAY()) | D86: =IF(D87=0,"",TODAY()) | E86: =IF(E87=0,"",TODAY()) | F86: =IF(F87=0,"",TODAY()) | G86: =IF(G87=0,"",TODAY()) | H86: =IF(H87=0,"",TODAY()) | I86: =IF(I87=0,"",TODAY()) | J86: =IF(J87=0,"",TODAY()) | ... AN86: =IF(AN87=0,"",TODAY())
B87: folio2
A88: Charline | B88: date | C88: =IF(C89=0,"",TODAY()) | D88: =IF(D89=0,"",TODAY()) | E88: =IF(E89=0,"",TODAY()) | F88: =IF(F89=0,"",TODAY()) | G88: =IF(G89=0,"",TODAY()) | H88: =IF(H89=0,"",TODAY()) | I88: =IF(I89=0,"",TODAY()) | J88: =IF(J89=0,"",TODAY()) | ... AN88: =IF(AN89=0,"",TODAY())
B89: folio1
B90: date | C90: =IF(C91=0,"",TODAY()) | D90: =IF(D91=0,"",TODAY()) | E90: =IF(E91=0,"",TODAY()) | F90: =IF(F91=0,"",TODAY()) | G90: =IF(G91=0,"",TODAY()) | H90: =IF(H91=0,"",TODAY()) | I90: =IF(I91=0,"",TODAY()) | J90: =IF(J91=0,"",TODAY()) | ... AN90: =IF(AN91=0,"",TODAY())
B91: folio2
A92: Violette | B92: date | C92: =IF(C93=0,"",TODAY()) | D92: =IF(D93=0,"",TODAY()) | E92: =IF(E93=0,"",TODAY()) | F92: =IF(F93=0,"",TODAY()) | G92: =IF(G93=0,"",TODAY()) | H92: =IF(H93=0,"",TODAY()) | I92: =IF(I93=0,"",TODAY()) | J92: =IF(J93=0,"",TODAY()) | ... AN92: =IF(AN93=0,"",TODAY())
B93: folio1
B94: date | C94: =IF(C95=0,"",TODAY()) | D94: =IF(D95=0,"",TODAY()) | E94: =IF(E95=0,"",TODAY()) | F94: =IF(F95=0,"",TODAY()) | G94: =IF(G95=0,"",TODAY()) | H94: =IF(H95=0,"",TODAY()) | I94: =IF(I95=0,"",TODAY()) | J94: =IF(J95=0,"",TODAY()) | ... AN94: =IF(AN95=0,"",TODAY())
B95: folio2
A96: Maëlys | B96: date | C96: =IF(C97=0,"",TODAY()) | D96: =IF(D97=0,"",TODAY()) | E96: =IF(E97=0,"",TODAY()) | F96: =IF(F97=0,"",TODAY()) | G96: =IF(G97=0,"",TODAY()) | H96: =IF(H97=0,"",TODAY()) | I96: =IF(I97=0,"",TODAY()) | J96: =IF(J97=0,"",TODAY()) | ... AN96: =IF(AN97=0,"",TODAY())
B97: folio1
B98: date | C98: =IF(C99=0,"",TODAY()) | D98: =IF(D99=0,"",TODAY()) | E98: =IF(E99=0,"",TODAY()) | F98: =IF(F99=0,"",TODAY()) | G98: =IF(G99=0,"",TODAY()) | H98: =IF(H99=0,"",TODAY()) | I98: =IF(I99=0,"",TODAY()) | J98: =IF(J99=0,"",TODAY()) | ... AN98: =IF(AN99=0,"",TODAY())
B99: folio2
A100: Inès | B100: date | C100: =IF(C101=0,"",TODAY()) | D100: =IF(D101=0,"",TODAY()) | E100: =IF(E101=0,"",TODAY()) | F100: =IF(F101=0,"",TODAY()) | G100: =IF(G101=0,"",TODAY()) | H100: =IF(H101=0,"",TODAY()) | I100: =IF(I101=0,"",TODAY()) | J100: =IF(J101=0,"",TODAY()) | ... AN100: =IF(AN101=0,"",TODAY())
...

Sheet Feuil1
